Workbook
Name DEGRE: Feuil2!$B$2:$B$4
Name Produit_Confort: Feuil2!$B$21:$B$30
Name Produit_TLA: Feuil2!$B$9:$B$12

Sheet Feuil1
A3: Age : | B3: <84 | C3: ans
B5: Degré | C5: Produit | D5: Descriptif | F5: Gamme | H5: Sans Engagement | J5: Location
A6: TA | C6: PROD A2 | D6: =IF(ISERROR(VLOOKUP($C6,Feuil2!$B$9:$H$12,2,0)),"",VLOOKUP($C6,Feuil2!$B$9:$H$12,2,0)) -> DESCRIP A2 | F6: =IF(ISERROR(VLOOKUP($C6,Feuil2!$B$9:$H$12,3,0)),"",VLOOKUP($C6,Feuil2!$B$9:$H$12,3,0)) -> TLA | H6: Produit : | I6: =IF(ISERROR(VLOOKUP($C6,Feuil2!$B$9:$H$12,6,0)),"",VLOOKUP($C6,Feuil2!$B$9:$H$12,6,0)) -> 350.8 | J6: =IF(ISERROR(VLOOKUP($C6,Feuil2!$B$9:$H$12,4,0)),"",VLOOKUP($C6,Feuil2!$B$9:$H$12,4,0)) -> 34.9
H7: Service mensuel : | I7: =IF(ISERROR(VLOOKUP($C6,Feuil2!$B$9:$H$12,7,0)),"",VLOOKUP($C6,Feuil2!$B$9:$H$12,7,0)) -> 25 | K7: =IF(ISERROR(VLOOKUP($C6,Feuil2!$B$9:$H$12,5,0)),"",VLOOKUP($C6,Feuil2!$B$9:$H$12,5,0)) -> 36 mois
D8: =IF(ISERROR(VLOOKUP($C8,Feuil2!$B$9:$H$12,2,0)),"",VLOOKUP($C8,Feuil2!$B$9:$H$12,2,0)) | F8: =IF(ISERROR(VLOOKUP($C8,Feuil2!$B$9:$H$12,3,0)),"",VLOOKUP($C8,Feuil2!$B$9:$H$12,3,0)) | H8: Produit : | I8: =IF(ISERROR(VLOOKUP($C8,Feuil2!$B$9:$H$12,6,0)),"",VLOOKUP($C8,Feuil2!$B$9:$H$12,6,0)) | J8: =IF(ISERROR(VLOOKUP($C8,Feuil2!$B$9:$H$12,4,0)),"",VLOOKUP($C8,Feuil2!$B$9:$H$12,4,0)) | P8: J'ai réussi à faire ces tableaux grâce à votre aide, maintenant et malgrés mes divers tentatives je n'arrive pas à trouver les bonnes formulles pour finir celui-ci
H9: Service mensuel : | I9: =IF(ISERROR(VLOOKUP($C8,Feuil2!$B$9:$H$12,7,0)),"",VLOOKUP($C8,Feuil2!$B$9:$H$12,7,0)) | K9: =IF(ISERROR(VLOOKUP($C8,Feuil2!$B$9:$H$12,5,0)),"",VLOOKUP($C8,Feuil2!$B$9:$H$12,5,0))
D10: =IF(ISERROR(VLOOKUP($C10,Feuil2!$B$9:$H$12,2,0)),"",VLOOKUP($C10,Feuil2!$B$9:$H$12,2,0)) | F10: =IF(ISERROR(VLOOKUP($C10,Feuil2!$B$9:$H$12,3,0)),"",VLOOKUP($C10,Feuil2!$B$9:$H$12,3,0)) | H10: Produit : | I10: =IF(ISERROR(VLOOKUP($C10,Feuil2!$B$9:$H$12,6,0)),"",VLOOKUP($C10,Feuil2!$B$9:$H$12,6,0)) | J10: =IF(ISERROR(VLOOKUP($C10,Feuil2!$B$9:$H$12,4,0)),"",VLOOKUP($C10,Feuil2!$B$9:$H$12,4,0))
H11: Service mensuel : | I11: =IF(ISERROR(VLOOKUP($C10,Feuil2!$B$9:$H$12,7,0)),"",VLOOKUP($C10,Feuil2!$B$9:$H$12,7,0)) | K11: =IF(ISERROR(VLOOKUP($C10,Feuil2!$B$9:$H$12,5,0)),"",VLOOKUP($C10,Feuil2!$B$9:$H$12,5,0))
P12: en fonction de l'age le tarif et le nombre de mois de loc varie. Mais je ne trouve pas comment faire pour afficher les données annexes comme le nombre de mois et pour la tranche d'age <84 comment indiquer les sommes pour les 48mois
B14: Degré | C14: Produit | D14: Descriptif | F14: Gamme | H14: Sans Engagement | J14: Location
A15: TB | C15: PROD B2 | D15: =IF(ISERROR(VLOOKUP($C15,Feuil2!$B$21:$K$30,2,0)),"",VLOOKUP($C15,Feuil2!$B$21:$K$30,2,0)) -> DESCRIP B2 | F15: =IF(ISERROR(VLOOKUP($C15,Feuil2!$B$21:$K$30,3,0)),"",VLOOKUP($C15,Feuil2!$B$21:$K$30,3,0)) -> Autonomie | H15: Comptant : | I15: =IF(ISERROR(VLOOKUP($C15,Feuil2!$B$21:$K$30,4,0)),"",VLOOKUP($C15,Feuil2!$B$21:$K$30,4,0)) -> 1175 | J15: =IF(ISERROR(VLOOKUP($C15,Feuil2!$B$21:$M$30,MATCH(B$3,Feuil2!B$17:M$17,0),0)),"",VLOOKUP($C15,Feuil2!$B$21:$M$30,MATCH(B$3,Feuil2!B$17:M$17,0),0)) -> 59.9 | L15: =IF(ISERROR(VLOOKUP($C15,Feuil2!$G$21:$M$30,MATCH(B$3,Feuil2!G$17:M$17,0),0)),"",VLOOKUP($C15,Feuil2!$G$21:$M$30,MATCH(B$3,Feuil2!G$17:M$17,0),0))
C17: PROD B4 | D17: =IF(ISERROR(VLOOKUP($C17,Feuil2!$B$21:$K$30,2,0)),"",VLOOKUP($C17,Feuil2!$B$21:$K$30,2,0)) -> DESCRIP B4 | F17: =IF(ISERROR(VLOOKUP($C17,Feuil2!$B$21:$K$30,3,0)),"",VLOOKUP($C17,Feuil2!$B$21:$K$30,3,0)) -> Autonomie | H17: Comptant : | I17: =IF(ISERROR(VLOOKUP($C17,Feuil2!$B$21:$K$30,4,0)),"",VLOOKUP($C17,Feuil2!$B$21:$K$30,4,0)) -> 160 | J17: =IF(ISERROR(VLOOKUP($C17,Feuil2!$B$21:$M$30,MATCH(B$3,Feuil2!B$17:M$17,0),0)),"",VLOOKUP($C17,Feuil2!$B$21:$M$30,MATCH(B$3,Feuil2!B$17:M$17,0),0)) -> 10 | L17: =IF(ISERROR(VLOOKUP($C17,Feuil2!$B$21:$M$30,MATCH(B$3,Feuil2!B$17:M$17,0),0)),"",VLOOKUP($C17,Feuil2!$B$21:$M$30,MATCH(B$3,Feuil2!B$17:M$17,0),0)) -> 10
C19: PROD B4 | D19: =IF(ISERROR(VLOOKUP($C19,Feuil2!$B$21:$K$30,2,0)),"",VLOOKUP($C19,Feuil2!$B$21:$K$30,2,0)) -> DESCRIP B4 | F19: =IF(ISERROR(VLOOKUP($C19,Feuil2!$B$21:$K$30,3,0)),"",VLOOKUP($C19,Feuil2!$B$21:$K$30,3,0)) -> Autonomie | H19: Comptant : | I19: =IF(ISERROR(VLOOKUP($C19,Feuil2!$B$21:$K$30,4,0)),"",VLOOKUP($C19,Feuil2!$B$21:$K$30,4,0)) -> 160 | J19: =IF(ISERROR(VLOOKUP($C19,Feuil2!$B$21:$M$30,MATCH(B$3,Feuil2!B$17:M$17,0),0)),"",VLOOKUP($C19,Feuil2!$B$21:$M$30,MATCH(B$3,Feuil2!B$17:M$17,0),0)) -> 10 | L19: =IF(ISERROR(VLOOKUP($C19,Feuil2!$B$21:$M$30,MATCH(B$3,Feuil2!B$17:M$17,0),0)),"",VLOOKUP($C19,Feuil2!$B$21:$M$30,MATCH(B$3,Feuil2!B$17:M$17,0),0)) -> 10 | P19: j'espère ne faire comprendre
P20: merci de votre aide

Sheet Feuil2
B1: DEGRE
B2: IM
B3: 4 à 8
B4: sup 12
B6: 1 | C6: 2 | D6: 3 | E6: 4 | F6: 5 | G6: 6 | H6: 7
E7: Tarif
A8: TA | B8: PRODUIT | C8: DESCRIPTIF | D8: GAMME | E8: Location | F8: Mois | G8: Comptant | H8: Service
B9: PROD A1 | C9: DESCRIP A1 | D9: TLA | E9: 39.9 | F9: 36 mois | G9: 409.9 | H9: 21.9
B10: PROD A2 | C10: DESCRIP A2 | D10: TLA | E10: 34.9 | F10: 36 mois | G10: 350.8 | H10: 25
B11: PROD A3 | C11: DESCRIP A3 | D11: TLA | E11: 59.9 | F11: 36 mois | G11: 760.7 | H11: 29
B12: PROD A4 | C12: DESCRIP A4 | D12: TLA | E12: 48.9 | F12: 36 mois | G12: 870 | H12: 24.9
B16: 1 | C16: 2 | D16: 3 | E16: 4 | F16: 5 | G16: 6 | H16: 7 | I16: 8 | J16: 9 | K16: 10
F17: <84 | G17: <84 | H17: <84 | I17: <84 | J17: 84 à 85 | K17: 84 à 85 | L17: >85 | M17: >85
E18: Tarif
E19: Comptant | F19: jusque 83 ans | J19: 84 & 85 ans | L19: + 85 ans
A20: TB | B20: PRODUIT | C20: DESCRIPTIF | D20: GAMME | F20: Location | G20: Mois | H20: Location | I20: Mois | J20: Produit | K20: Service | L20: Produit | M20: Service
B21: PROD B1 | C21: DESCRIP B4 | D21: Autonomie | E21: 1850 | F21: 93 | G21: 36 mois | H21: 76 | I21: 48 mois | J21: 90 | K21: 36 mois | L21: 0 | M21: X mois
B22: PROD B2 | C22: DESCRIP B2 | D22: Autonomie | E22: 1175 | F22: 59.9 | G22: 36 mois | H22: 49.9 | I22: 48 mois | J22: 57 | K22: 36 mois | L22: 0 | M22: X mois
B23: PROD B3 | C23: DESCRIP B3 | D23: Autonomie | E23: 210 | F23: 16 | G23: 36 mois | H23: 12.9 | I23: 48 mois | J23: 15 | K23: 36 mois | L23: 0 | M23: X mois
B24: PROD B4 | C24: DESCRIP B4 | D24: Autonomie | E24: 160 | F24: 10 | G24: 36 mois | H24: 8 | I24: 48 mois | J24: 9 | K24: 36 mois | L24: 0 | M24: X mois
B25: PROD B5 | C25: DESCRIP B5 | D25: Autonomie | E25: 130 | F25: 9.5 | G25: 36 mois | H25: 7.5 | I25: 48 mois | J25: 8.5 | K25: 36 mois | L25: 0 | M25: X mois
B26: PROD B6 | C26: DESCRIP B6 | D26: Autonomie | E26: 330 | F26: 18.9 | G26: 36 mois | H26: 16.9 | I26: 48 mois | J26: 17 | K26: 36 mois | L26: 0 | M26: X mois
B27: PROD B7 | C27: DESCRIP B7 | D27: Confort | E27: 1850 | F27: 93 | G27: 36 mois | H27: 76 | I27: 48 mois | J27: 90 | K27: 36 mois | L27: 0 | M27: X mois
B28: PROD B8 | C28: DESCRIP B8 | D28: Confort | E28: 1175 | F28: 59.9 | G28: 36 mois | H28: 49.9 | I28: 48 mois | J28: 57 | K28: 36 mois | L28: 0 | M28: X mois
B29: PROD B9 | C29: DESCRIP B9 | D29: Confort | E29: 1050 | F29: 53.9 | G29: 36 mois | H29: 44.9 | I29: 48 mois | J29: 51.9 | K29: 36 mois | L29: 0 | M29: X mois
B30: PROD B10 | C30: DESCRIP B10 | D30: Confort | E30: 310 | F30: 18.5 | G30: 36 mois | H30: 16.5 | I30: 48 mois | J30: 17.5 | K30: 36 mois | L30: 0 | M30: X mois

Sheet Feuil3
