Workbook

Sheet Planning
A1: Absents de la semaine : | J1: Tris des résas
E3: Choisissez votre | J3: Générique
A4: SEMAINE DU : | E4: nom dans la
E5: liste déroulante
A6: MARDI
B7: Poste | D7: 12h - 13h | E7: 13h - 14h30 | F7: 14h30 - 16h | G7: 16h - 17h30 | H7: 17h30 - 19h
A8: Absents : | B8: Accueil RDC
B9: Accueil Adultes
B10: Automates
B11: Disco
B12: Mezzanine
F13: 15h - 16h | G13: 16h - 17h30 | H13: 17h30 - 19h
A14: Animations : | B14: Jeunesse
B15: Jeunesse
B17: Animation / Groupe
B18: Animation / Groupe
B19: Animation / Groupe
B20: Animation / Groupe
A21: Agents présents | C21: =COUNTA('Horaires des agents'!D4:D33)-COUNTIF(C8:C20,"0") -> 21 | D21: =COUNTA('Horaires des agents'!E4:E33)-COUNTIF(D8:D20,"0") -> 21 | E21: =COUNTA('Horaires des agents'!F4:F33)-COUNTIF(E8:E20,"0") -> 22 | F21: =COUNTA('Horaires des agents'!G4:G33)-COUNTIF(F8:F20,"0") -> 22 | G21: =COUNTA('Horaires des agents'!H4:H33)-COUNTIF(G8:G20,"0") -> 18 | H21: =COUNTA('Horaires des agents'!I4:I33)-COUNTIF(H8:H20,"0") -> 14
A23: MERCREDI
B24: Poste | C24: 10h - 11h30 | D24: 11h30 - 13h | E24: 13h - 14h30 | F24: 14h30 - 16h | G24: 16h - 17h30 | H24: 17h30 - 19h
A25: Absents : | B25: Accueil RDC
B26: Accueil Adultes
B27: Automates
B28: Disco
B29: Mezzanine
A30: Animations : | B30: Jeunesse
B31: Jeunesse
B33: Animation / Groupe
B34: Animation / Groupe
B35: Animation / Groupe
B36: Animation / Groupe
A37: Agents présents | C37: =COUNTA('Horaires des agents'!L4:L33)-COUNTIF(C25:C36,"0") -> 22 | D37: =COUNTA('Horaires des agents'!M4:M33)-COUNTIF(D25:D36,"0") -> 22 | E37: =COUNTA('Horaires des agents'!N4:N33)-COUNTIF(E25:E36,"0") -> 22 | F37: =COUNTA('Horaires des agents'!O4:O33)-COUNTIF(F25:F36,"0") -> 22 | G37: =COUNTA('Horaires des agents'!P4:P33)-COUNTIF(G25:G36,"0") -> 16 | H37: =COUNTA('Horaires des agents'!Q4:Q33)-COUNTIF(H25:H36,"0") -> 11
A39: JEUDI
B40: Poste | D40: 12h - 13h | E40: 13h - 14h30 | F40: 14h30 - 16h | G40: 16h - 17h30 | H40: 17h30 - 19h
A41: Absents : | B41: Accueil RDC
B42: Accueil Adultes
B43: Automates
B44: Disco
B45: Mezzanine
F46: 15h - 16h | G46: 16h - 17h30 | H46: 17h30 - 19h
A47: Animations : | B47: Jeunesse
B48: Jeunesse
B50: Animation / Groupe
B51: Animation / Groupe
B52: Animation / Groupe
B53: Animation / Groupe
A54: Agents présents | C54: =COUNTA('Horaires des agents'!D38:D67)-COUNTIF(C41:C53,"0") -> 21 | D54: =COUNTA('Horaires des agents'!E38:E67)-COUNTIF(D41:D53,"0") -> 21 | E54: =COUNTA('Horaires des agents'!F38:F67)-COUNTIF(E41:E53,"0") -> 21 | F54: =COUNTA('Horaires des agents'!G38:G67)-COUNTIF(F41:F53,"0") -> 21 | G54: =COUNTA('Horaires des agents'!H38:H67)-COUNTIF(G41:G53,"0") -> 16 | H54: =COUNTA('Horaires des agents'!I38:I67)-COUNTIF(H41:H53,"0") -> 11
A56: VENDREDI
B57: Poste | D57: 12h - 13h | E57: 13h - 14h30 | F57: 14h30 - 16h | G57: 16h - 17h30 | H57: 17h30 - 19h
A58: Absents : | B58: Accueil RDC
B59: Accueil Adultes
B60: Automates
B61: Disco
B62: Mezzanine
F63: 15h - 16h | G63: 16h - 17h30 | H63: 17h30 - 19h
A64: Animations : | B64: Jeunesse
B65: Jeunesse
B67: Animation / Groupe
B68: Animation / Groupe
B69: Animation / Groupe
B70: Animation / Groupe
A71: Agents présents | C71: =COUNTA('Horaires des agents'!L38:L67)-COUNTIF(C58:C70,"0") -> 21 | D71: =COUNTA('Horaires des agents'!M38:M67)-COUNTIF(D58:D70,"0") -> 21 | E71: =COUNTA('Horaires des agents'!N38:N67)-COUNTIF(E58:E70,"0") -> 21 | F71: =COUNTA('Horaires des agents'!O38:O67)-COUNTIF(F58:F70,"0") -> 22 | G71: =COUNTA('Horaires des agents'!P38:P67)-COUNTIF(G58:G70,"0") -> 14 | H71: =COUNTA('Horaires des agents'!Q38:Q67)-COUNTIF(H58:H70,"0") -> 12
A73: SAMEDI
B74: Poste | C74: 10h - 11h30 | D74: 11h30 - 13h | E74: 13h - 14h30 | F74: 14h30 - 16h | G74: 16h - 17h | H74: 17h - 18h
A75: Absents : | B75: Accueil RDC
B76: Accueil Adultes
B77: Automates
B78: Disco
B79: Mezzanine
A80: Animations : | B80: Jeunesse
B81: Jeunesse
B82: Cadre Volant
B84: Animation / Groupe
B85: Animation / Groupe
B86: Animation / Groupe
B87: Animation / Groupe
A88: Agents présents | C88: =COUNTA('Horaires des agents'!T25:T54)-COUNTIF(C75:C87,"0") -> 23 | D88: =COUNTA('Horaires des agents'!U25:U54)-COUNTIF(D75:D87,"0") -> 23 | E88: =COUNTA('Horaires des agents'!V25:V54)-COUNTIF(E75:E87,"0") -> 23 | F88: =COUNTA('Horaires des agents'!W25:W54)-COUNTIF(F75:F87,"0") -> 23 | G88: =COUNTA('Horaires des agents'!X25:X54)-COUNTIF(G75:G87,"0") -> 23 | H88: =COUNTA('Horaires des agents'!Y25:Y54)-COUNTIF(H75:H87,"0") -> 23

Sheet Horaires des agents
A2: LISTE DES AGENTS | C2: MARDI | K2: MERCREDI
D3: Matin | E3: 12h - 13h | F3: 13-14h30 | G3: 14h30-16h | H3: 16-17h30 | I3: 17h30-19h | L3: 10-11h30 | M3: 11h30-13h | N3: 13-14h30 | O3: 14h30-16h | P3: 16-17h30 | Q3: 17h30-19h
A4: Isabelle | C4: =$A$4 -> Isabelle | D4: =$A$4 -> Isabelle | E4: =$A$4 -> Isabelle | F4: =$A$4 -> Isabelle | G4: =$A$4 -> Isabelle | H4: =$A$4 -> Isabelle | I4: =$A$4 -> Isabelle | K4: =$A$4 -> Isabelle | L4: =$A$4 -> Isabelle | M4: =$A$4 -> Isabelle | N4: =$A$4 -> Isabelle | O4: =$A$4 -> Isabelle | P4: =$A$4 -> Isabelle | Q4: =$A$4 -> Isabelle
A5: Antoine | C5: =$A$5 -> Antoine | D5: =$A$5 -> Antoine | E5: =$A$5 -> Antoine | F5: =$A$5 -> Antoine | G5: =$A$5 -> Antoine | H5: =$A$5 -> Antoine | K5: =$A$5 -> Antoine | L5: =$A$5 -> Antoine | M5: =$A$5 -> Antoine | N5: =$A$5 -> Antoine | O5: =$A$5 -> Antoine
A6: Amandine | C6: =$A$6 -> Amandine | D6: =$A$6 -> Amandine | E6: =$A$6 -> Amandine | F6: =$A$6 -> Amandine | G6: =$A$6 -> Amandine | H6: =$A$6 -> Amandine | I6: =$A$6 -> Amandine | K6: =$A$6 -> Amandine | L6: =$A$6 -> Amandine | M6: =$A$6 -> Amandine | N6: =$A$6 -> Amandine | O6: =$A$6 -> Amandine | P6: =$A$6 -> Amandine
A7: Blandine | C7: =$A$7 -> Blandine | D7: =$A$7 -> Blandine | E7: =$A$7 -> Blandine | F7: =$A$7 -> Blandine | G7: =$A$7 -> Blandine | H7: =$A$7 -> Blandine | I7: =$A$7 -> Blandine | K7: =$A$7 -> Blandine | L7: =$A$7 -> Blandine | M7: =$A$7 -> Blandine | N7: =$A$7 -> Blandine | O7: =$A$7 -> Blandine | P7: =$A$7 -> Blandine | Q7: =$A$7 -> Blandine
A8: Bibiana | C8: =$A$8 -> Bibiana | D8: =$A$8 -> Bibiana | E8: =$A$8 -> Bibiana | F8: =$A$8 -> Bibiana | G8: =$A$8 -> Bibiana | H8: =$A$8 -> Bibiana | I8: =$A$8 -> Bibiana | K8: =$A$8 -> Bibiana | L8: =$A$8 -> Bibiana | M8: =$A$8 -> Bibiana | N8: =$A$8 -> Bibiana | O8: =$A$8 -> Bibiana
A9: Valérian | C9: =$A$9 -> Valérian | D9: =$A$9 -> Valérian | E9: =$A$9 -> Valérian | F9: =$A$9 -> Valérian | G9: =$A$9 -> Valérian | K9: =$A$9 -> Valérian | L9: =$A$9 -> Valérian | M9: =$A$9 -> Valérian | N9: =$A$9 -> Valérian | O9: =$A$9 -> Valérian | P9: =$A$9 -> Valérian | Q9: =$A$9 -> Valérian
A10: Delphine L | C10: =$A$10 -> Delphine L | F10: =$A$10 -> Delphine L | G10: =$A$10 -> Delphine L | H10: =$A$10 -> Delphine L | I10: =$A$10 -> Delphine L | K10: =$A$10 -> Delphine L | L10: =$A$10 -> Delphine L | M10: =$A$10 -> Delphine L | N10: =$A$10 -> Delphine L | O10: =$A$10 -> Delphine L | P10: =$A$10 -> Delphine L | Q10: =$A$10 -> Delphine L
A11: Timothey | C11: =$A$11 -> Timothey | D11: =$A$11 -> Timothey | E11: =$A$11 -> Timothey | F11: =$A$11 -> Timothey | G11: =$A$11 -> Timothey | H11: =$A$11 -> Timothey | I11: =$A$11 -> Timothey | K11: =$A$11 -> Timothey | L11: =$A$11 -> Timothey | M11: =$A$11 -> Timothey | N11: =$A$11 -> Timothey | O11: =$A$11 -> Timothey
A12: Clémence B | C12: =$A$12 -> Clémence B | D12: =$A$12 -> Clémence B | E12: =$A$12 -> Clémence B | F12: =$A$12 -> Clémence B | G12: =$A$12 -> Clémence B | H12: =$A$12 -> Clémence B | I12: =$A$12 -> Clémence B | K12: =$A$12 -> Clémence B
A13: Kylian | C13: =$A$13 -> Kylian | D13: =$A$13 -> Kylian | E13: =$A$13 -> Kylian | F13: =$A$13 -> Kylian | G13: =$A$13 -> Kylian | H13: =$A$13 -> Kylian | I13: =$A$13 -> Kylian | K13: =$A$13 -> Kylian | L13: =$A$13 -> Kylian | M13: =$A$13 -> Kylian | N13: =$A$13 -> Kylian | O13: =$A$13 -> Kylian
A14: David | C14: =$A$14 -> David | D14: =$A$14 -> David | E14: =$A$14 -> David | F14: =$A$14 -> David | G14: =$A$14 -> David | K14: =$A$14 -> David | L14: =$A$14 -> David | M14: =$A$14 -> David | N14: =$A$14 -> David | O14: =$A$14 -> David | P14: =$A$14 -> David | Q14: =$A$14 -> David
A15: Jean-Baptiste | C15: =$A$15 -> Jean-Baptiste | D15: =$A$15 -> Jean-Baptiste | E15: =$A$15 -> Jean-Baptiste | F15: =$A$15 -> Jean-Baptiste | G15: =$A$15 -> Jean-Baptiste | H15: =$A$15 -> Jean-Baptiste | K15: =$A$15 -> Jean-Baptiste | L15: =$A$15 -> Jean-Baptiste | M15: =$A$15 -> Jean-Baptiste | N15: =$A$15 -> Jean-Baptiste | O15: =$A$15 -> Jean-Baptiste | P15: =$A$15 -> Jean-Baptiste
A16: Delphine E | C16: =$A$16 -> Delphine E | D16: =$A$16 -> Delphine E | E16: =$A$16 -> Delphine E | F16: =$A$16 -> Delphine E | G16: =$A$16 -> Delphine E | K16: =$A$16 -> Delphine E | L16: =$A$16 -> Delphine E | M16: =$A$16 -> Delphine E | N16: =$A$16 -> Delphine E | O16: =$A$16 -> Delphine E
A17: Marie-Amélie | C17: =$A$17 -> Marie-Amélie | D17: =$A$17 -> Marie-Amélie | E17: =$A$17 -> Marie-Amélie | F17: =$A$17 -> Marie-Amélie | G17: =$A$17 -> Marie-Amélie | K17: =$A$17 -> Marie-Amélie | L17: =$A$17 -> Marie-Amélie | M17: =$A$17 -> Marie-Amélie | N17: =$A$17 -> Marie-Amélie | O17: =$A$17 -> Marie-Amélie | P17: =$A$17 -> Marie-Amélie | Q17: =$A$17 -> Marie-Amélie
A18: Hélène L | C18: =$A$18 -> Hélène L | D18: =$A$18 -> Hélène L | E18: =$A$18 -> Hélène L | F18: =$A$18 -> Hélène L | G18: =$A$18 -> Hélène L | H18: =$A$18 -> Hélène L | I18: =$A$18 -> Hélène L | K18: =$A$18 -> Hélène L | L18: =$A$18 -> Hélène L | M18: =$A$18 -> Hélène L | N18: =$A$18 -> Hélène L | O18: =$A$18 -> Hélène L | P18: =$A$18 -> Hélène L
A19: Hélène S | C19: =$A$19 -> Hélène S | D19: =$A$19 -> Hélène S | E19: =$A$19 -> Hélène S | F19: =$A$19 -> Hélène S | G19: =$A$19 -> Hélène S | H19: =$A$19 -> Hélène S | I19: =$A$19 -> Hélène S | K19: =$A$19 -> Hélène S | L19: =$A$19 -> Hélène S | M19: =$A$19 -> Hélène S | N19: =$A$19 -> Hélène S | O19: =$A$19 -> Hélène S | P19: =$A$19 -> Hélène S | Q19: =$A$19 -> Hélène S
A20: Clémence D | C20: =$A$20 -> Clémence D | K20: =$A$20 -> Clémence D | L20: =$A$20 -> Clémence D | M20: =$A$20 -> Clémence D | N20: =$A$20 -> Clémence D | O20: =$A$20 -> Clémence D | P20: =$A$20 -> Clémence D | Q20: =$A$20 -> Clémence D
A21: Vacant | C21: =$A$21 -> Vacant | K21: =$A$21 -> Vacant
A22: Vacant | C22: =$A$22 -> Vacant | K22: =$A$22 -> Vacant
A23: Léo-Paul | C23: =$A$23 -> Léo-Paul | D23: =$A$23 -> Léo-Paul | E23: =$A$23 -> Léo-Paul | F23: =$A$23 -> Léo-Paul | G23: =$A$23 -> Léo-Paul | H23: =$A$23 -> Léo-Paul | K23: =$A$23 -> Léo-Paul | L23: =$A$23 -> Léo-Paul | M23: =$A$23 -> Léo-Paul | N23: =$A$23 -> Léo-Paul | O23: =$A$23 -> Léo-Paul | P23: =$A$23 -> Léo-Paul | Q23: =$A$23 -> Léo-Paul | S23: SAMEDI
A24: Laurent | C24: =$A$24 -> Laurent | D24: =$A$24 -> Laurent | E24: =$A$24 -> Laurent | F24: =$A$24 -> Laurent | G24: =$A$24 -> Laurent | H24: =$A$24 -> Laurent | I24: =$A$24 -> Laurent | K24: =$A$24 -> Laurent | L24: =$A$24 -> Laurent | M24: =$A$24 -> Laurent | N24: =$A$24 -> Laurent | O24: =$A$24 -> Laurent | P24: =$A$24 -> Laurent | Q24: =$A$24 -> Laurent | T24: 10-11h30 | U24: 11h30-13h | V24: 13-14h30 | W24: 14h30-16h | X24: 16-17h | Y24: 17-18h
A25: Alaric | C25: =$A$25 -> Alaric | D25: =$A$25 -> Alaric | E25: =$A$25 -> Alaric | F25: =$A$25 -> Alaric | G25: =$A$25 -> Alaric | H25: =$A$25 -> Alaric | K25: =$A$25 -> Alaric | L25: =$A$25 -> Alaric | M25: =$A$25 -> Alaric | N25: =$A$25 -> Alaric | O25: =$A$25 -> Alaric | S25: =$A$4 -> Isabelle | T25: =$A$4 -> Isabelle | U25: =$A$4 -> Isabelle | V25: =$A$4 -> Isabelle | W25: =$A$4 -> Isabelle | X25: =$A$4 -> Isabelle | Y25: =$A$4 -> Isabelle
A26: Mei-Pao | C26: =$A$26 -> Mei-Pao | D26: =$A$26 -> Mei-Pao | E26: =$A$26 -> Mei-Pao | F26: =$A$26 -> Mei-Pao | G26: =$A$26 -> Mei-Pao | H26: =$A$26 -> Mei-Pao | I26: =$A$26 -> Mei-Pao | K26: =$A$26 -> Mei-Pao | L26: =$A$26 -> Mei-Pao | M26: =$A$26 -> Mei-Pao | N26: =$A$26 -> Mei-Pao | O26: =$A$26 -> Mei-Pao | P26: =$A$26 -> Mei-Pao | Q26: =$A$26 -> Mei-Pao | S26: =$A$5 -> Antoine | T26: =$A$5 -> Antoine | U26: =$A$5 -> Antoine | V26: =$A$5 -> Antoine | W26: =$A$5 -> Antoine | X26: =$A$5 -> Antoine | Y26: =$A$5 -> Antoine
A27: Matthieu | C27: =$A$27 -> Matthieu | D27: =$A$27 -> Matthieu | E27: =$A$27 -> Matthieu | F27: =$A$27 -> Matthieu | G27: =$A$27 -> Matthieu | H27: =$A$27 -> Matthieu | I27: =$A$27 -> Matthieu | K27: =$A$27 -> Matthieu | L27: =$A$27 -> Matthieu | M27: =$A$27 -> Matthieu | N27: =$A$27 -> Matthieu | O27: =$A$27 -> Matthieu | P27: =$A$27 -> Matthieu | S27: =$A$6 -> Amandine | T27: =$A$6 -> Amandine | U27: =$A$6 -> Amandine | V27: =$A$6 -> Amandine | W27: =$A$6 -> Amandine | X27: =$A$6 -> Amandine | Y27: =$A$6 -> Amandine
A28: Geraint | C28: =$A$28 -> Geraint | D28: =$A$28 -> Geraint | E28: =$A$28 -> Geraint | F28: =$A$28 -> Geraint | G28: =$A$28 -> Geraint | H28: =$A$28 -> Geraint | I28: =$A$28 -> Geraint | K28: =$A$28 -> Geraint | L28: =$A$28 -> Geraint | M28: =$A$28 -> Geraint | N28: =$A$28 -> Geraint | O28: =$A$28 -> Geraint | P28: =$A$28 -> Geraint | S28: =$A$7 -> Blandine | T28: =$A$7 -> Blandine | U28: =$A$7 -> Blandine | V28: =$A$7 -> Blandine | W28: =$A$7 -> Blandine | X28: =$A$7 -> Blandine | Y28: =$A$7 -> Blandine
A29: Vacant | C29: =$A$29 -> Vacant | K29: =$A$29 -> Vacant | S29: =$A$8 -> Bibiana | T29: =$A$8 -> Bibiana | U29: =$A$8 -> Bibiana | V29: =$A$8 -> Bibiana | W29: =$A$8 -> Bibiana | X29: =$A$8 -> Bibiana | Y29: =$A$8 -> Bibiana
A30: Collègue 1 | C30: =$A$30 -> Collègue 1 | K30: =$A$30 -> Collègue 1 | S30: =$A$9 -> Valérian | T30: =$A$9 -> Valérian | U30: =$A$9 -> Valérian | V30: =$A$9 -> Valérian | W30: =$A$9 -> Valérian | X30: =$A$9 -> Valérian | Y30: =$A$9 -> Valérian
A31: Collègue 2 | C31: =$A$31 -> Collègue 2 | K31: =$A$31 -> Collègue 2 | S31: =$A$10 -> Delphine L | T31: =$A$10 -> Delphine L | U31: =$A$10 -> Delphine L | V31: =$A$10 -> Delphine L | W31: =$A$10 -> Delphine L | X31: =$A$10 -> Delphine L | Y31: =$A$10 -> Delphine L
A32: Collègue 3 | C32: =$A$32 -> Collègue 3 | K32: =$A$32 -> Collègue 3 | S32: =$A$11 -> Timothey | T32: =$A$11 -> Timothey | U32: =$A$11 -> Timothey | V32: =$A$11 -> Timothey | W32: =$A$11 -> Timothey | X32: =$A$11 -> Timothey | Y32: =$A$11 -> Timothey
A33: Collègue 4 | C33: =$A$33 -> Collègue 4 | K33: =$A$33 -> Collègue 4 | S33: =$A$12 -> Clémence B | T33: =$A$12 -> Clémence B | U33: =$A$12 -> Clémence B | V33: =$A$12 -> Clémence B | W33: =$A$12 -> Clémence B | X33: =$A$12 -> Clémence B | Y33: =$A$12 -> Clémence B
S34: =$A$13 -> Kylian | T34: =$A$13 -> Kylian | U34: =$A$13 -> Kylian | V34: =$A$13 -> Kylian | W34: =$A$13 -> Kylian | X34: =$A$13 -> Kylian | Y34: =$A$13 -> Kylian
S35: =$A$14 -> David | T35: =$A$14 -> David | U35: =$A$14 -> David | V35: =$A$14 -> David | W35: =$A$14 -> David | X35: =$A$14 -> David | Y35: =$A$14 -> David
C36: JEUDI | K36: VENDREDI | S36: =$A$15 -> Jean-Baptiste | T36: =$A$15 -> Jean-Baptiste | U36: =$A$15 -> Jean-Baptiste | V36: =$A$15 -> Jean-Baptiste | W36: =$A$15 -> Jean-Baptiste | X36: =$A$15 -> Jean-Baptiste | Y36: =$A$15 -> Jean-Baptiste
D37: Matin | E37: 12h - 13h | F37: 13-14h30 | G37: 14h30-16h | H37: 16-17h30 | I37: 17h30-19h | L37: Matin | M37: 12h - 13h | N37: 13-14h30 | O37: 14h30-16h | P37: 16-17h30 | Q37: 17h30-19h | S37: =$A$16 -> Delphine E | T37: =$A$16 -> Delphine E | U37: =$A$16 -> Delphine E | V37: =$A$16 -> Delphine E | W37: =$A$16 -> Delphine E | X37: =$A$16 -> Delphine E | Y37: =$A$16 -> Delphine E
C38: =$A$4 -> Isabelle | D38: =$A$4 -> Isabelle | E38: =$A$4 -> Isabelle | F38: =$A$4 -> Isabelle | G38: =$A$4 -> Isabelle | K38: =$A$4 -> Isabelle | L38: =$A$4 -> Isabelle | M38: =$A$4 -> Isabelle | N38: =$A$4 -> Isabelle | O38: =$A$4 -> Isabelle | P38: =$A$4 -> Isabelle | Q38: =$A$4 -> Isabelle | S38: =$A$17 -> Marie-Amélie | T38: =$A$17 -> Marie-Amélie | U38: =$A$17 -> Marie-Amélie | V38: =$A$17 -> Marie-Amélie | W38: =$A$17 -> Marie-Amélie | X38: =$A$17 -> Marie-Amélie | Y38: =$A$17 -> Marie-Amélie
C39: =$A$5 -> Antoine | D39: =$A$5 -> Antoine | E39: =$A$5 -> Antoine | F39: =$A$5 -> Antoine | G39: =$A$5 -> Antoine | H39: =$A$5 -> Antoine | I39: =$A$5 -> Antoine | K39: =$A$5 -> Antoine | L39: =$A$5 -> Antoine | M39: =$A$5 -> Antoine | N39: =$A$5 -> Antoine | O39: =$A$5 -> Antoine | P39: =$A$5 -> Antoine | Q39: =$A$5 -> Antoine | S39: =$A$18 -> Hélène L | T39: =$A$18 -> Hélène L | U39: =$A$18 -> Hélène L | V39: =$A$18 -> Hélène L | W39: =$A$18 -> Hélène L | X39: =$A$18 -> Hélène L | Y39: =$A$18 -> Hélène L
C40: =$A$6 -> Amandine | D40: =$A$6 -> Amandine | E40: =$A$6 -> Amandine | F40: =$A$6 -> Amandine | G40: =$A$6 -> Amandine | H40: =$A$6 -> Amandine | I40: =$A$6 -> Amandine | K40: =$A$6 -> Amandine | L40: =$A$6 -> Amandine | M40: =$A$6 -> Amandine | N40: =$A$6 -> Amandine | O40: =$A$6 -> Amandine | S40: =$A$19 -> Hélène S | T40: =$A$19 -> Hélène S | U40: =$A$19 -> Hélène S | V40: =$A$19 -> Hélène S | W40: =$A$19 -> Hélène S | X40: =$A$19 -> Hélène S | Y40: =$A$19 -> Hélène S
C41: =$A$7 -> Blandine | D41: =$A$7 -> Blandine | E41: =$A$7 -> Blandine | F41: =$A$7 -> Blandine | G41: =$A$7 -> Blandine | H41: =$A$7 -> Blandine | K41: =$A$7 -> Blandine | L41: =$A$7 -> Blandine | M41: =$A$7 -> Blandine | N41: =$A$7 -> Blandine | O41: =$A$7 -> Blandine | P41: =$A$7 -> Blandine | Q41: =$A$7 -> Blandine | S41: =$A$20 -> Clémence D | T41: =$A$20 -> Clémence D | U41: =$A$20 -> Clémence D | V41: =$A$20 -> Clémence D | W41: =$A$20 -> Clémence D | X41: =$A$20 -> Clémence D | Y41: =$A$20 -> Clémence D
C42: =$A$8 -> Bibiana | D42: =$A$8 -> Bibiana | E42: =$A$8 -> Bibiana | F42: =$A$8 -> Bibiana | G42: =$A$8 -> Bibiana | H42: =$A$8 -> Bibiana | I42: =$A$8 -> Bibiana | K42: =$A$8 -> Bibiana | L42: =$A$8 -> Bibiana | M42: =$A$8 -> Bibiana | N42: =$A$8 -> Bibiana | O42: =$A$8 -> Bibiana | S42: =$A$21 -> Vacant
C43: =$A$9 -> Valérian | D43: =$A$9 -> Valérian | E43: =$A$9 -> Valérian | F43: =$A$9 -> Valérian | G43: =$A$9 -> Valérian | H43: =$A$9 -> Valérian | I43: =$A$9 -> Valérian | K43: =$A$9 -> Valérian | L43: =$A$9 -> Valérian | M43: =$A$9 -> Valérian | N43: =$A$9 -> Valérian | O43: =$A$9 -> Valérian | S43: =$A$22 -> Vacant
C44: =$A$10 -> Delphine L | K44: =$A$10 -> Delphine L | L44: =$A$10 -> Delphine L | M44: =$A$10 -> Delphine L | N44: =$A$10 -> Delphine L | O44: =$A$10 -> Delphine L | P44: =$A$10 -> Delphine L | Q44: =$A$10 -> Delphine L | S44: =$A$23 -> Léo-Paul | T44: =$A$23 -> Léo-Paul | U44: =$A$23 -> Léo-Paul | V44: =$A$23 -> Léo-Paul | W44: =$A$23 -> Léo-Paul | X44: =$A$23 -> Léo-Paul | Y44: =$A$23 -> Léo-Paul
C45: =$A$11 -> Timothey | D45: =$A$11 -> Timothey | E45: =$A$11 -> Timothey | F45: =$A$11 -> Timothey | G45: =$A$11 -> Timothey | H45: =$A$11 -> Timothey | I45: =$A$11 -> Timothey | K45: =$A$11 -> Timothey | L45: =$A$11 -> Timothey | M45: =$A$11 -> Timothey | N45: =$A$11 -> Timothey | O45: =$A$11 -> Timothey | S45: =$A$24 -> Laurent | T45: =$A$24 -> Laurent | U45: =$A$24 -> Laurent | V45: =$A$24 -> Laurent | W45: =$A$24 -> Laurent | X45: =$A$24 -> Laurent | Y45: =$A$24 -> Laurent
C46: =$A$12 -> Clémence B | D46: =$A$12 -> Clémence B | E46: =$A$12 -> Clémence B | F46: =$A$12 -> Clémence B | G46: =$A$12 -> Clémence B | K46: =$A$12 -> Clémence B | L46: =$A$12 -> Clémence B | M46: =$A$12 -> Clémence B | N46: =$A$12 -> Clémence B | O46: =$A$12 -> Clémence B | P46: =$A$12 -> Clémence B | Q46: =$A$12 -> Clémence B | S46: =$A$25 -> Alaric | T46: =$A$25 -> Alaric | U46: =$A$25 -> Alaric | V46: =$A$25 -> Alaric | W46: =$A$25 -> Alaric | X46: =$A$25 -> Alaric | Y46: =$A$25 -> Alaric
C47: =$A$13 -> Kylian | D47: =$A$13 -> Kylian | E47: =$A$13 -> Kylian | F47: =$A$13 -> Kylian | G47: =$A$13 -> Kylian | H47: =$A$13 -> Kylian | I47: =$A$13 -> Kylian | K47: =$A$13 -> Kylian | L47: =$A$13 -> Kylian | M47: =$A$13 -> Kylian | N47: =$A$13 -> Kylian | O47: =$A$13 -> Kylian | P47: =$A$13 -> Kylian | S47: =$A$26 -> Mei-Pao | T47: =$A$26 -> Mei-Pao | U47: =$A$26 -> Mei-Pao | V47: =$A$26 -> Mei-Pao | W47: =$A$26 -> Mei-Pao | X47: =$A$26 -> Mei-Pao | Y47: =$A$26 -> Mei-Pao
C48: =$A$14 -> David | D48: =$A$14 -> David | E48: =$A$14 -> David | F48: =$A$14 -> David | G48: =$A$14 -> David | K48: =$A$14 -> David | L48: =$A$14 -> David | M48: =$A$14 -> David | N48: =$A$14 -> David | O48: =$A$14 -> David | P48: =$A$14 -> David | Q48: =$A$14 -> David | S48: =$A$27 -> Matthieu | T48: =$A$27 -> Matthieu | U48: =$A$27 -> Matthieu | V48: =$A$27 -> Matthieu | W48: =$A$27 -> Matthieu | X48: =$A$27 -> Matthieu | Y48: =$A$27 -> Matthieu
C49: =$A$15 -> Jean-Baptiste | D49: =$A$15 -> Jean-Baptiste | E49: =$A$15 -> Jean-Baptiste | F49: =$A$15 -> Jean-Baptiste | G49: =$A$15 -> Jean-Baptiste | H49: =$A$15 -> Jean-Baptiste | K49: =$A$15 -> Jean-Baptiste | L49: =$A$15 -> Jean-Baptiste | M49: =$A$15 -> Jean-Baptiste | N49: =$A$15 -> Jean-Baptiste | O49: =$A$15 -> Jean-Baptiste | P49: =$A$15 -> Jean-Baptiste | S49: =$A$28 -> Geraint | T49: =$A$28 -> Geraint | U49: =$A$28 -> Geraint | V49: =$A$28 -> Geraint | W49: =$A$28 -> Geraint | X49: =$A$28 -> Geraint | Y49: =$A$28 -> Geraint
C50: =$A$16 -> Delphine E | D50: =$A$16 -> Delphine E | E50: =$A$16 -> Delphine E | F50: =$A$16 -> Delphine E | G50: =$A$16 -> Delphine E | H50: =$A$16 -> Delphine E | I50: =$A$16 -> Delphine E | K50: =$A$16 -> Delphine E | L50: =$A$16 -> Delphine E | M50: =$A$16 -> Delphine E | N50: =$A$16 -> Delphine E | O50: =$A$16 -> Delphine E | P50: =$A$16 -> Delphine E | Q50: =$A$16 -> Delphine E | S50: =$A$29 -> Vacant
C51: =$A$17 -> Marie-Amélie | D51: =$A$17 -> Marie-Amélie | E51: =$A$17 -> Marie-Amélie | F51: =$A$17 -> Marie-Amélie | G51: =$A$17 -> Marie-Amélie | H51: =$A$17 -> Marie-Amélie | I51: =$A$17 -> Marie-Amélie | K51: =$A$17 -> Marie-Amélie | L51: =$A$17 -> Marie-Amélie | M51: =$A$17 -> Marie-Amélie | N51: =$A$17 -> Marie-Amélie | O51: =$A$17 -> Marie-Amélie | S51: =$A$30 -> Collègue 1
C52: =$A$18 -> Hélène L | D52: =$A$18 -> Hélène L | E52: =$A$18 -> Hélène L | F52: =$A$18 -> Hélène L | G52: =$A$18 -> Hélène L | H52: =$A$18 -> Hélène L | K52: =$A$18 -> Hélène L | L52: =$A$18 -> Hélène L | M52: =$A$18 -> Hélène L | N52: =$A$18 -> Hélène L | O52: =$A$18 -> Hélène L | P52: =$A$18 -> Hélène L | Q52: =$A$18 -> Hélène L | S52: =$A$31 -> Collègue 2
C53: =$A$19 -> Hélène S | D53: =$A$19 -> Hélène S | E53: =$A$19 -> Hélène S | F53: =$A$19 -> Hélène S | G53: =$A$19 -> Hélène S | K53: =$A$19 -> Hélène S | L53: =$A$19 -> Hélène S | M53: =$A$19 -> Hélène S | N53: =$A$19 -> Hélène S | O53: =$A$19 -> Hélène S | S53: =$A$32 -> Collègue 3
C54: =$A$20 -> Clémence D | K54: =$A$20 -> Clémence D | L54: =$A$20 -> Clémence D | M54: =$A$20 -> Clémence D | N54: =$A$20 -> Clémence D | O54: =$A$20 -> Clémence D | S54: =$A$33 -> Collègue 4
C55: =$A$21 -> Vacant | K55: =$A$21 -> Vacant
C56: =$A$22 -> Vacant | K56: =$A$22 -> Vacant
C57: =$A$23 -> Léo-Paul | D57: =$A$23 -> Léo-Paul | E57: =$A$23 -> Léo-Paul | F57: =$A$23 -> Léo-Paul | G57: =$A$23 -> Léo-Paul | H57: =$A$23 -> Léo-Paul | K57: =$A$23 -> Léo-Paul | L57: =$A$23 -> Léo-Paul | M57: =$A$23 -> Léo-Paul | N57: =$A$23 -> Léo-Paul | O57: =$A$23 -> Léo-Paul | P57: =$A$23 -> Léo-Paul | Q57: =$A$23 -> Léo-Paul
C58: =$A$24 -> Laurent | D58: =$A$24 -> Laurent | E58: =$A$24 -> Laurent | F58: =$A$24 -> Laurent | G58: =$A$24 -> Laurent | H58: =$A$24 -> Laurent | I58: =$A$24 -> Laurent | K58: =$A$24 -> Laurent | O58: =$A$24 -> Laurent | P58: =$A$24 -> Laurent | Q58: =$A$24 -> Laurent
C59: =$A$25 -> Alaric | D59: =$A$25 -> Alaric | E59: =$A$25 -> Alaric | F59: =$A$25 -> Alaric | G59: =$A$25 -> Alaric | H59: =$A$25 -> Alaric | I59: =$A$25 -> Alaric | K59: =$A$25 -> Alaric | L59: =$A$25 -> Alaric | M59: =$A$25 -> Alaric | N59: =$A$25 -> Alaric | O59: =$A$25 -> Alaric | P59: =$A$25 -> Alaric | Q59: =$A$25 -> Alaric
C60: =$A$26 -> Mei-Pao | D60: =$A$26 -> Mei-Pao | E60: =$A$26 -> Mei-Pao | F60: =$A$26 -> Mei-Pao | G60: =$A$26 -> Mei-Pao | H60: =$A$26 -> Mei-Pao | I60: =$A$26 -> Mei-Pao | K60: =$A$26 -> Mei-Pao | L60: =$A$26 -> Mei-Pao | M60: =$A$26 -> Mei-Pao | N60: =$A$26 -> Mei-Pao | O60: =$A$26 -> Mei-Pao
C61: =$A$27 -> Matthieu | D61: =$A$27 -> Matthieu | E61: =$A$27 -> Matthieu | F61: =$A$27 -> Matthieu | G61: =$A$27 -> Matthieu | H61: =$A$27 -> Matthieu | K61: =$A$27 -> Matthieu | L61: =$A$27 -> Matthieu | M61: =$A$27 -> Matthieu | N61: =$A$27 -> Matthieu | O61: =$A$27 -> Matthieu | P61: =$A$27 -> Matthieu | Q61: =$A$27 -> Matthieu
C62: =$A$28 -> Geraint | D62: =$A$28 -> Geraint | E62: =$A$28 -> Geraint | F62: =$A$28 -> Geraint | G62: =$A$28 -> Geraint | K62: =$A$28 -> Geraint
C63: =$A$29 -> Vacant | K63: =$A$29 -> Vacant
C64: =$A$30 -> Collègue 1 | K64: =$A$30 -> Collègue 1
C65: =$A$31 -> Collègue 2 | K65: =$A$31 -> Collègue 2
C66: =$A$32 -> Collègue 3 | K66: =$A$32 -> Collègue 3
C67: =$A$33 -> Collègue 4 | K67: =$A$33 -> Collègue 4
