Workbook

Sheet Représentation des ventes
B4: Appels à froid
B5: Ventes
B7: État | C7: Possibilités | D7: Perdus | E7: Non qualifiés
B8: Identifiés | C8: 250 | D8: 20 | E8: 9
B9: Contactés | C9: 150 | D9: 15
B10: Discussions | C10: 100 | D10: 35
B11: Gagnés | C11: 15

Sheet Backend
A1: *** This sheet to remain hidden ***
B7: Average Y: | C7: =AVERAGE(AD13:AE13) -> 183
AD9: =AA12/2+8+50 -> 183
E10: Percentages Series & Labels | J10: Stage Totals & Labels | O10: Lost Totals & Labels | T10: Unqualified Total & Label | Y10: Edges
B11: Stage | C11: x | E11: Offsets | G11: 0.45 | H11: =3.85%*C7 -> 7.0455 | J11: Offsets | L11: 0.45 | M11: =-3.85%*C7 -> -7.0455 | O11: Offsets | Q11: 0.45 | R11: =-19.2%*C7 -> -35.136 | T11: Offsets | V11: 0.45 | W11: =-25.7%*C7 -> -47.031 | Y11: 1.8 | AD11: =AD12-8 -> 50 | AE11: =AE12+8 -> 316
B12: Rim | E12: Label | F12: Value | G12: x | H12: y | J12: Label | K12: Value | L12: x | M12: y | O12: Label | P12: Value | Q12: x | R12: y | T12: Label | U12: Value | V12: x | W12: y | Y12: 2 | AA12: =K13 -> 250 | AB12: Identified | AD12: =-AA12/2+$AD$9 -> 58 | AE12: =AA12/2+$AD$9 -> 308 | AG12: =AE12 -> 308 | AH12: 0 | AI12: 0 | AJ12: 0
B13: Identified | C13: 2 | E13: =F13 -> 1 | F13: 1 | G13: =$C13+G$11 -> 2.45 | H13: =$C$7+$H$11 -> 190.0455 | J13: =UPPER(B13)&" "&K13 -> IDENTIFIED 250 | K13: ='Représentation des ventes'!C8 -> 250 | L13: =$C13+L$11 -> 2.45 | M13: =$C$7+$M$11 -> 175.9545 | O13: ="LOST " & P13 -> LOST 20 | P13: ='Représentation des ventes'!D8 -> 20 | Q13: =$C13+Q$11 -> 2.45 | R13: =$C$7+$R$11 -> 147.864 | T13: ="UNQUALIFIED "&U13 -> UNQUALIFIED 9 | U13: ='Représentation des ventes'!E8 -> 9 | V13: =$C13+V$11 -> 2.45 | W13: =$C$7+$W$11 -> 135.969 | Y13: =Y12+1 -> 3 | AB13: IDENTIFIED | AD13: =-K13/2+$AD$9 -> 58 | AE13: =K13/2+$AD$9 -> 308 | AG13: =AE13 -> 308 | AH13: =AE13 -> 308 | AI13: 0 | AJ13: 0
B14: Contacted | C14: 3 | E14: =F14 -> 0.6 | F14: ='Représentation des ventes'!C9/'Représentation des ventes'!$C$8 -> 0.6 | G14: =$C14+G$11 -> 3.45 | H14: =$C$7+$H$11 -> 190.0455 | J14: =UPPER(B14)&" "&K14 -> CONTACTED 150 | K14: ='Représentation des ventes'!C9 -> 150 | L14: =$C14+L$11 -> 3.45 | M14: =$C$7+$M$11 -> 175.9545 | O14: ="LOST " & P14 -> LOST 15 | P14: ='Représentation des ventes'!D9 -> 15 | Q14: =$C14+Q$11 -> 3.45 | R14: =$C$7+$R$11 -> 147.864 | Y14: =Y13+1 -> 4 | AB14: CONTACTED | AD14: =-K14/2+$AD$9 -> 108 | AE14: =K14/2+$AD$9 -> 258 | AH14: =AE14 -> 258 | AI14: =AE14 -> 258 | AJ14: 0
B15: Discussion | C15: 4 | E15: =F15 -> 0.4 | F15: ='Représentation des ventes'!C10/'Représentation des ventes'!$C$8 -> 0.4 | G15: =$C15+G$11 -> 4.45 | H15: =$C$7+$H$11 -> 190.0455 | J15: =UPPER(B15)&" "&K15 -> DISCUSSION 100 | K15: ='Représentation des ventes'!C10 -> 100 | L15: =$C15+L$11 -> 4.45 | M15: =$C$7+$M$11 -> 175.9545 | O15: ="LOST " & P15 -> LOST 35 | P15: ='Représentation des ventes'!D10 -> 35 | Q15: =$C15+Q$11 -> 4.45 | R15: =$C$7+$R$11 -> 147.864 | Y15: =Y14+1 -> 5 | AB15: DISCUSSION | AD15: =-K15/2+$AD$9 -> 133 | AE15: =K15/2+$AD$9 -> 233 | AI15: =AE15 -> 233 | AJ15: =AE15 -> 233
B16: Won | C16: 5 | E16: =F16 -> 0.06 | F16: ='Représentation des ventes'!C11/'Représentation des ventes'!$C$8 -> 0.06 | G16: =$C16+G$11 - 0.1 -> 5.35 | H16: =$C$7+$H$11 -> 190.0455 | J16: =UPPER(B16) -> WON | K16: ='Représentation des ventes'!C11 -> 15 | L16: =$C16+L$11 -0.1 -> 5.35 | M16: =$C$7+$M$11 -> 175.9545 | Y16: =Y15+1 -> 6 | AB16: WON | AD16: =-K16/2+$AD$9 -> 175.5 | AE16: =K16/2+$AD$9 -> 190.5 | AJ16: =AE16 -> 190.5
B17: Won Dot | C17: 6 | K17: =K16 -> 15 | L17: 6.44 | M17: =C7 -> 183
