Workbook

Sheet Données
A1: DATE | B1: NOM | C1: THEME | D1: recherche | E1: SCORE
A2: 41275 | B2: joueur 1 | C2: jeu 1 | D2: =B2&C2 -> joueur 1jeu 1 | E2: 40
A3: 41275 | B3: joueur 2 | C3: jeu 1 | D3: =B3&C3 -> joueur 2jeu 1 | E3: 50
A4: 41275 | B4: joueur 3 | C4: jeu 1 | D4: =B4&C4 -> joueur 3jeu 1 | E4: 40
A5: 41275 | B5: joueur 4 | C5: jeu 1 | D5: =B5&C5 -> joueur 4jeu 1 | E5: 50
A6: 41275 | B6: joueur 5 | C6: jeu 1 | D6: =B6&C6 -> joueur 5jeu 1 | E6: 40
A7: 41275 | B7: joueur 1 | C7: jeu 2 | D7: =B7&C7 -> joueur 1jeu 2 | E7: 20
A8: 41275 | B8: joueur 2 | C8: jeu 2 | D8: =B8&C8 -> joueur 2jeu 2 | E8: 30
A9: 41275 | B9: joueur 3 | C9: jeu 2 | D9: =B9&C9 -> joueur 3jeu 2 | E9: 20
A10: 41275 | B10: joueur 4 | C10: jeu 2 | D10: =B10&C10 -> joueur 4jeu 2 | E10: 30
A11: 41275 | B11: joueur 5 | C11: jeu 2 | D11: =B11&C11 -> joueur 5jeu 2 | E11: 20
A12: 41275 | B12: joueur 1 | C12: jeu 3 | D12: =B12&C12 -> joueur 1jeu 3 | E12: 60
A13: 41275 | B13: joueur 2 | C13: jeu 3 | D13: =B13&C13 -> joueur 2jeu 3 | E13: 70
... A31: 41306 | B31: joueur 5 | C31: jeu 3 | D31: =B31&C31 -> joueur 5jeu 3 | E31: 90

Sheet Joueur 1
A1: Nom | B1: Joueur
A2: Prénom | B2: 1
A4: Jeu 1 | B4: =VLOOKUP($B$1&$B$2&A4,Données!$D$1:$E$31,2,FALSE) -> 40
A5: Jeu 2 | B5: =VLOOKUP(CONCATENATE($B$1,$B$2,A5),Données!$D$1:$E$31,2,FALSE) -> 20
A6: Jeu 3 | B6: =VLOOKUP(CONCATENATE($B$1,$B$2,A6),Données!$D$1:$E$31,2,FALSE) -> 60

Sheet Joueur 2
A1: Nom | B1: Joueur
A2: Prénom | B2: 2
A4: Jeu 1 | B4: =VLOOKUP($B$1&$B$2&A4,Données!$D$1:$E$31,2,FALSE) -> 50
A5: Jeu 2 | B5: =VLOOKUP(CONCATENATE($B$1,$B$2,A5),Données!$D$1:$E$31,2,FALSE) -> 30
A6: Jeu 3 | B6: =VLOOKUP(CONCATENATE($B$1,$B$2,A6),Données!$D$1:$E$31,2,FALSE) -> 70

Sheet Joueur 3
A1: Nom | B1: Joueur
A2: Prénom | B2: 3
A4: Jeu 1 | B4: =VLOOKUP($B$1&$B$2&A4,Données!$D$1:$E$31,2,FALSE) -> 40
A5: Jeu 2 | B5: =VLOOKUP(CONCATENATE($B$1,$B$2,A5),Données!$D$1:$E$31,2,FALSE) -> 20
A6: Jeu 3 | B6: =VLOOKUP(CONCATENATE($B$1,$B$2,A6),Données!$D$1:$E$31,2,FALSE) -> 60

Sheet Joueur 4
A1: Nom | B1: Joueur
A2: Prénom | B2: 4
A4: Jeu 1 | B4: =VLOOKUP($B$1&$B$2&A4,Données!$D$1:$E$31,2,FALSE) -> 50
A5: Jeu 2 | B5: =VLOOKUP(CONCATENATE($B$1,$B$2,A5),Données!$D$1:$E$31,2,FALSE) -> 30
A6: Jeu 3 | B6: =VLOOKUP(CONCATENATE($B$1,$B$2,A6),Données!$D$1:$E$31,2,FALSE) -> 70

Sheet Joueur 5
A1: Nom | B1: Joueur
A2: Prénom | B2: 5
A4: Jeu 1 | B4: =VLOOKUP($B$1&$B$2&A4,Données!$D$1:$E$31,2,FALSE) -> 40
A5: Jeu 2 | B5: =VLOOKUP(CONCATENATE($B$1,$B$2,A5),Données!$D$1:$E$31,2,FALSE) -> 20
A6: Jeu 3 | B6: =VLOOKUP(CONCATENATE($B$1,$B$2,A6),Données!$D$1:$E$31,2,FALSE) -> 60
