Workbook

Sheet Géolocalisation
A1: Date | B1: Heure | C1: Long | D1: Lat
A2: 46043 | B2: 0.017395833 | C2: -1.071991 | D2: 44.690784
A3: 46043 | B3: 0.0278125 | C3: -1.072003 | D3: 44.690693
A4: 46043 | B4: 0.048310185 | C4: -1.072277 | D4: 44.690514
A5: 46043 | B5: 0.069155093 | C5: -1.070963 | D5: 44.690742
A6: 46043 | B6: 0.0903125 | C6: -1.063893 | D6: 44.689079
A7: 46043 | B7: 0.11083333 | C7: -1.060855 | D7: 44.688721
A8: 46043 | B8: 0.13165509 | C8: -1.051958 | D8: 44.696766
A9: 46043 | B9: 0.1528125 | C9: -1.048076 | D9: 44.695095
A10: 46043 | B10: 0.17331019 | C10: -1.056607 | D10: 44.691277
A11: 46043 | B11: 0.19421296 | C11: -1.056565 | D11: 44.69125
A12: 46043 | B12: 0.215 | C12: -1.05655 | D12: 44.691269
A13: 46043 | B13: 0.23614583 | C13: -1.05661 | D13: 44.691307
... A1884: 46115 | B1884: 0.64239583 | C1884: -1.160588 | D1884: 44.761925

Sheet Maree 
A1: Date | B1: Heure | C1: Hauteur | D1: Coef (PM) | E1: Maree | F1: Correspondance | G1: Long | H1: Lat
A2: 46043 | B2: 0.29166667 | C2: #N/A | D2: 84 | E2: Haute | F2: =IFERROR(MIN(IF(ABS(OFFSET(Géolocalisation!$A$1, MATCH('Maree '!$A2,Géolocalisation!$A:$A,0)-1,1, COUNTIF(Géolocalisation!$A:$A,'Maree '!$A2))-'Maree '!B2)= MIN(ABS(OFFSET(Géolocalisation!$A$1, MATCH('Maree '!$A2,Géolocalisation!$A:$A,0)-1,1, COUNTIF(Géolocalisation!$A:$A,'Maree '!$A2))-'Maree '!B2)), OFFSET(Géolocalisation!$A$1, MATCH('Maree '!$A2,Géolocalisation!$A:$A,0)-1,1, COUNTIF(Géolocalisation!$A:$A,'Maree '!$A2)))),"") -> 0.017395833 | G2: =IFERROR(VLOOKUP($F2,OFFSET(Géolocalisation!$A$1, MATCH($A2,Géolocalisation!$A:$A,0)-1,1, COUNTIF(Géolocalisation!$A:$A,$A2), MATCH(G$1,Géolocalisation!$A$1:$D$1,0)),2,0),"") -> -1.071991 | H2: =IFERROR(VLOOKUP($F2,OFFSET(Géolocalisation!$A$1, MATCH($A2,Géolocalisation!$A:$A,0)-1,1, COUNTIF(Géolocalisation!$A:$A,$A2), MATCH(H$1,Géolocalisation!$A$1:$D$1,0)),3,0),"") -> 44.690784
A3: 46043 | B3: 0.80486111 | C3: #N/A | D3: 85 | E3: Haute
A4: 46043 | B4: 0.034722222 | C4: #N/A | E4: Basse
A5: 46043 | B5: 0.55138889 | C5: #N/A | E5: Basse
A6: 46044 | B6: 0.31666667 | C6: #N/A | D6: 85 | E6: Haute | F6: =IFERROR(MIN(IF(ABS(OFFSET(Géolocalisation!$A$1, MATCH($A6,Géolocalisation!$A:$A,0)-1,1, COUNTIF(Géolocalisation!$A:$A,$A6))-B6)= MIN(ABS(OFFSET(Géolocalisation!$A$1, MATCH($A6,Géolocalisation!$A:$A,0)-1,1, COUNTIF(Géolocalisation!$A:$A,$A6))-B6)), OFFSET(Géolocalisation!$A$1, MATCH($A6,Géolocalisation!$A:$A,0)-1,1, COUNTIF(Géolocalisation!$A:$A,$A6)))),"") | G6: =IFERROR(VLOOKUP($F6,OFFSET(Géolocalisation!$A$1, MATCH($A6,Géolocalisation!$A:$A,0)-1,1, COUNTIF(Géolocalisation!$A:$A,$A6), MATCH(G$1,Géolocalisation!$A$1:$D$1,0)),2,0),"") | H6: =IFERROR(VLOOKUP($F6,OFFSET(Géolocalisation!$A$1, MATCH($A6,Géolocalisation!$A:$A,0)-1,1, COUNTIF(Géolocalisation!$A:$A,$A6), MATCH(H$1,Géolocalisation!$A$1:$D$1,0)),3,0),"")
A7: 46044 | B7: 0.82916667 | C7: #N/A | D7: 84 | E7: Haute | F7: =IFERROR(MIN(IF(ABS(OFFSET(Géolocalisation!$A$1, MATCH($A7,Géolocalisation!$A:$A,0)-1,1, COUNTIF(Géolocalisation!$A:$A,$A7))-B7)= MIN(ABS(OFFSET(Géolocalisation!$A$1, MATCH($A7,Géolocalisation!$A:$A,0)-1,1, COUNTIF(Géolocalisation!$A:$A,$A7))-B7)), OFFSET(Géolocalisation!$A$1, MATCH($A7,Géolocalisation!$A:$A,0)-1,1, COUNTIF(Géolocalisation!$A:$A,$A7)))),"") | G7: =IFERROR(VLOOKUP($F7,OFFSET(Géolocalisation!$A$1, MATCH($A7,Géolocalisation!$A:$A,0)-1,1, COUNTIF(Géolocalisation!$A:$A,$A7), MATCH(G$1,Géolocalisation!$A$1:$D$1,0)),2,0),"") | H7: =IFERROR(VLOOKUP($F7,OFFSET(Géolocalisation!$A$1, MATCH($A7,Géolocalisation!$A:$A,0)-1,1, COUNTIF(Géolocalisation!$A:$A,$A7), MATCH(H$1,Géolocalisation!$A$1:$D$1,0)),3,0),"")
A8: 46044 | B8: 0.059722222 | C8: #N/A | E8: Basse | F8: =IFERROR(MIN(IF(ABS(OFFSET(Géolocalisation!$A$1, MATCH($A8,Géolocalisation!$A:$A,0)-1,1, COUNTIF(Géolocalisation!$A:$A,$A8))-B8)= MIN(ABS(OFFSET(Géolocalisation!$A$1, MATCH($A8,Géolocalisation!$A:$A,0)-1,1, COUNTIF(Géolocalisation!$A:$A,$A8))-B8)), OFFSET(Géolocalisation!$A$1, MATCH($A8,Géolocalisation!$A:$A,0)-1,1, COUNTIF(Géolocalisation!$A:$A,$A8)))),"") | G8: =IFERROR(VLOOKUP($F8,OFFSET(Géolocalisation!$A$1, MATCH($A8,Géolocalisation!$A:$A,0)-1,1, COUNTIF(Géolocalisation!$A:$A,$A8), MATCH(G$1,Géolocalisation!$A$1:$D$1,0)),2,0),"") | H8: =IFERROR(VLOOKUP($F8,OFFSET(Géolocalisation!$A$1, MATCH($A8,Géolocalisation!$A:$A,0)-1,1, COUNTIF(Géolocalisation!$A:$A,$A8), MATCH(H$1,Géolocalisation!$A$1:$D$1,0)),3,0),"")
A9: 46044 | B9: 0.57569444 | C9: #N/A | E9: Basse | F9: =IFERROR(MIN(IF(ABS(OFFSET(Géolocalisation!$A$1, MATCH($A9,Géolocalisation!$A:$A,0)-1,1, COUNTIF(Géolocalisation!$A:$A,$A9))-B9)= MIN(ABS(OFFSET(Géolocalisation!$A$1, MATCH($A9,Géolocalisation!$A:$A,0)-1,1, COUNTIF(Géolocalisation!$A:$A,$A9))-B9)), OFFSET(Géolocalisation!$A$1, MATCH($A9,Géolocalisation!$A:$A,0)-1,1, COUNTIF(Géolocalisation!$A:$A,$A9)))),"") | G9: =IFERROR(VLOOKUP($F9,OFFSET(Géolocalisation!$A$1, MATCH($A9,Géolocalisation!$A:$A,0)-1,1, COUNTIF(Géolocalisation!$A:$A,$A9), MATCH(G$1,Géolocalisation!$A$1:$D$1,0)),2,0),"") | H9: =IFERROR(VLOOKUP($F9,OFFSET(Géolocalisation!$A$1, MATCH($A9,Géolocalisation!$A:$A,0)-1,1, COUNTIF(Géolocalisation!$A:$A,$A9), MATCH(H$1,Géolocalisation!$A$1:$D$1,0)),3,0),"")
A10: 46045 | B10: 0.34305556 | C10: #N/A | D10: 82 | E10: Haute | F10: =IFERROR(MIN(IF(ABS(OFFSET(Géolocalisation!$A$1, MATCH($A10,Géolocalisation!$A:$A,0)-1,1, COUNTIF(Géolocalisation!$A:$A,$A10))-B10)= MIN(ABS(OFFSET(Géolocalisation!$A$1, MATCH($A10,Géolocalisation!$A:$A,0)-1,1, COUNTIF(Géolocalisation!$A:$A,$A10))-B10)), OFFSET(Géolocalisation!$A$1, MATCH($A10,Géolocalisation!$A:$A,0)-1,1, COUNTIF(Géolocalisation!$A:$A,$A10)))),"") | G10: =IFERROR(VLOOKUP($F10,OFFSET(Géolocalisation!$A$1, MATCH($A10,Géolocalisation!$A:$A,0)-1,1, COUNTIF(Géolocalisation!$A:$A,$A10), MATCH(G$1,Géolocalisation!$A$1:$D$1,0)),2,0),"") | H10: =IFERROR(VLOOKUP($F10,OFFSET(Géolocalisation!$A$1, MATCH($A10,Géolocalisation!$A:$A,0)-1,1, COUNTIF(Géolocalisation!$A:$A,$A10), MATCH(H$1,Géolocalisation!$A$1:$D$1,0)),3,0),"")
A11: 46045 | B11: 0.85555556 | C11: #N/A | D11: 80 | E11: Haute | F11: =IFERROR(MIN(IF(ABS(OFFSET(Géolocalisation!$A$1, MATCH($A11,Géolocalisation!$A:$A,0)-1,1, COUNTIF(Géolocalisation!$A:$A,$A11))-B11)= MIN(ABS(OFFSET(Géolocalisation!$A$1, MATCH($A11,Géolocalisation!$A:$A,0)-1,1, COUNTIF(Géolocalisation!$A:$A,$A11))-B11)), OFFSET(Géolocalisation!$A$1, MATCH($A11,Géolocalisation!$A:$A,0)-1,1, COUNTIF(Géolocalisation!$A:$A,$A11)))),"") | G11: =IFERROR(VLOOKUP($F11,OFFSET(Géolocalisation!$A$1, MATCH($A11,Géolocalisation!$A:$A,0)-1,1, COUNTIF(Géolocalisation!$A:$A,$A11), MATCH(G$1,Géolocalisation!$A$1:$D$1,0)),2,0),"") | H11: =IFERROR(VLOOKUP($F11,OFFSET(Géolocalisation!$A$1, MATCH($A11,Géolocalisation!$A:$A,0)-1,1, COUNTIF(Géolocalisation!$A:$A,$A11), MATCH(H$1,Géolocalisation!$A$1:$D$1,0)),3,0),"")
A12: 46045 | B12: 0.084027778 | C12: #N/A | E12: Basse | F12: =IFERROR(MIN(IF(ABS(OFFSET(Géolocalisation!$A$1, MATCH($A12,Géolocalisation!$A:$A,0)-1,1, COUNTIF(Géolocalisation!$A:$A,$A12))-B12)= MIN(ABS(OFFSET(Géolocalisation!$A$1, MATCH($A12,Géolocalisation!$A:$A,0)-1,1, COUNTIF(Géolocalisation!$A:$A,$A12))-B12)), OFFSET(Géolocalisation!$A$1, MATCH($A12,Géolocalisation!$A:$A,0)-1,1, COUNTIF(Géolocalisation!$A:$A,$A12)))),"") | G12: =IFERROR(VLOOKUP($F12,OFFSET(Géolocalisation!$A$1, MATCH($A12,Géolocalisation!$A:$A,0)-1,1, COUNTIF(Géolocalisation!$A:$A,$A12), MATCH(G$1,Géolocalisation!$A$1:$D$1,0)),2,0),"") | H12: =IFERROR(VLOOKUP($F12,OFFSET(Géolocalisation!$A$1, MATCH($A12,Géolocalisation!$A:$A,0)-1,1, COUNTIF(Géolocalisation!$A:$A,$A12), MATCH(H$1,Géolocalisation!$A$1:$D$1,0)),3,0),"")
A13: 46045 | B13: 0.6 | C13: #N/A | E13: Basse | F13: =IFERROR(MIN(IF(ABS(OFFSET(Géolocalisation!$A$1, MATCH($A13,Géolocalisation!$A:$A,0)-1,1, COUNTIF(Géolocalisation!$A:$A,$A13))-B13)= MIN(ABS(OFFSET(Géolocalisation!$A$1, MATCH($A13,Géolocalisation!$A:$A,0)-1,1, COUNTIF(Géolocalisation!$A:$A,$A13))-B13)), OFFSET(Géolocalisation!$A$1, MATCH($A13,Géolocalisation!$A:$A,0)-1,1, COUNTIF(Géolocalisation!$A:$A,$A13)))),"") | G13: =IFERROR(VLOOKUP($F13,OFFSET(Géolocalisation!$A$1, MATCH($A13,Géolocalisation!$A:$A,0)-1,1, COUNTIF(Géolocalisation!$A:$A,$A13), MATCH(G$1,Géolocalisation!$A$1:$D$1,0)),2,0),"") | H13: =IFERROR(VLOOKUP($F13,OFFSET(Géolocalisation!$A$1, MATCH($A13,Géolocalisation!$A:$A,0)-1,1, COUNTIF(Géolocalisation!$A:$A,$A13), MATCH(H$1,Géolocalisation!$A$1:$D$1,0)),3,0),"")
A14: 46046 | B14: 0.37083333 | C14: #N/A | D14: 76 | E14: Haute | F14: =IFERROR(MIN(IF(ABS(OFFSET(Géolocalisation!$A$1, MATCH($A14,Géolocalisation!$A:$A,0)-1,1, COUNTIF(Géolocalisation!$A:$A,$A14))-B14)= MIN(ABS(OFFSET(Géolocalisation!$A$1, MATCH($A14,Géolocalisation!$A:$A,0)-1,1, COUNTIF(Géolocalisation!$A:$A,$A14))-B14)), OFFSET(Géolocalisation!$A$1, MATCH($A14,Géolocalisation!$A:$A,0)-1,1, COUNTIF(Géolocalisation!$A:$A,$A14)))),"") | G14: =IFERROR(VLOOKUP($F14,OFFSET(Géolocalisation!$A$1, MATCH($A14,Géolocalisation!$A:$A,0)-1,1, COUNTIF(Géolocalisation!$A:$A,$A14), MATCH(G$1,Géolocalisation!$A$1:$D$1,0)),2,0),"") | H14: =IFERROR(VLOOKUP($F14,OFFSET(Géolocalisation!$A$1, MATCH($A14,Géolocalisation!$A:$A,0)-1,1, COUNTIF(Géolocalisation!$A:$A,$A14), MATCH(H$1,Géolocalisation!$A$1:$D$1,0)),3,0),"")
A15: 46046 | B15: 0.88541667 | C15: #N/A | D15: 73 | E15: Haute | F15: =IFERROR(MIN(IF(ABS(OFFSET(Géolocalisation!$A$1, MATCH($A15,Géolocalisation!$A:$A,0)-1,1, COUNTIF(Géolocalisation!$A:$A,$A15))-B15)= MIN(ABS(OFFSET(Géolocalisation!$A$1, MATCH($A15,Géolocalisation!$A:$A,0)-1,1, COUNTIF(Géolocalisation!$A:$A,$A15))-B15)), OFFSET(Géolocalisation!$A$1, MATCH($A15,Géolocalisation!$A:$A,0)-1,1, COUNTIF(Géolocalisation!$A:$A,$A15)))),"") | G15: =IFERROR(VLOOKUP($F15,OFFSET(Géolocalisation!$A$1, MATCH($A15,Géolocalisation!$A:$A,0)-1,1, COUNTIF(Géolocalisation!$A:$A,$A15), MATCH(G$1,Géolocalisation!$A$1:$D$1,0)),2,0),"") | H15: =IFERROR(VLOOKUP($F15,OFFSET(Géolocalisation!$A$1, MATCH($A15,Géolocalisation!$A:$A,0)-1,1, COUNTIF(Géolocalisation!$A:$A,$A15), MATCH(H$1,Géolocalisation!$A$1:$D$1,0)),3,0),"")
A16: 46046 | B16: 0.10833333 | C16: #N/A | E16: Basse | F16: =IFERROR(MIN(IF(ABS(OFFSET(Géolocalisation!$A$1, MATCH($A16,Géolocalisation!$A:$A,0)-1,1, COUNTIF(Géolocalisation!$A:$A,$A16))-B16)= MIN(ABS(OFFSET(Géolocalisation!$A$1, MATCH($A16,Géolocalisation!$A:$A,0)-1,1, COUNTIF(Géolocalisation!$A:$A,$A16))-B16)), OFFSET(Géolocalisation!$A$1, MATCH($A16,Géolocalisation!$A:$A,0)-1,1, COUNTIF(Géolocalisation!$A:$A,$A16)))),"") | G16: =IFERROR(VLOOKUP($F16,OFFSET(Géolocalisation!$A$1, MATCH($A16,Géolocalisation!$A:$A,0)-1,1, COUNTIF(Géolocalisation!$A:$A,$A16), MATCH(G$1,Géolocalisation!$A$1:$D$1,0)),2,0),"") | H16: =IFERROR(VLOOKUP($F16,OFFSET(Géolocalisation!$A$1, MATCH($A16,Géolocalisation!$A:$A,0)-1,1, COUNTIF(Géolocalisation!$A:$A,$A16), MATCH(H$1,Géolocalisation!$A$1:$D$1,0)),3,0),"")
A17: 46046 | B17: 0.625 | C17: #N/A | E17: Basse | F17: =IFERROR(MIN(IF(ABS(OFFSET(Géolocalisation!$A$1, MATCH($A17,Géolocalisation!$A:$A,0)-1,1, COUNTIF(Géolocalisation!$A:$A,$A17))-B17)= MIN(ABS(OFFSET(Géolocalisation!$A$1, MATCH($A17,Géolocalisation!$A:$A,0)-1,1, COUNTIF(Géolocalisation!$A:$A,$A17))-B17)), OFFSET(Géolocalisation!$A$1, MATCH($A17,Géolocalisation!$A:$A,0)-1,1, COUNTIF(Géolocalisation!$A:$A,$A17)))),"") | G17: =IFERROR(VLOOKUP($F17,OFFSET(Géolocalisation!$A$1, MATCH($A17,Géolocalisation!$A:$A,0)-1,1, COUNTIF(Géolocalisation!$A:$A,$A17), MATCH(G$1,Géolocalisation!$A$1:$D$1,0)),2,0),"") | H17: =IFERROR(VLOOKUP($F17,OFFSET(Géolocalisation!$A$1, MATCH($A17,Géolocalisation!$A:$A,0)-1,1, COUNTIF(Géolocalisation!$A:$A,$A17), MATCH(H$1,Géolocalisation!$A$1:$D$1,0)),3,0),"")
A18: 46047 | B18: 0.40138889 | C18: #N/A | D18: 68 | E18: Haute | F18: =IFERROR(MIN(IF(ABS(OFFSET(Géolocalisation!$A$1, MATCH($A18,Géolocalisation!$A:$A,0)-1,1, COUNTIF(Géolocalisation!$A:$A,$A18))-B18)= MIN(ABS(OFFSET(Géolocalisation!$A$1, MATCH($A18,Géolocalisation!$A:$A,0)-1,1, COUNTIF(Géolocalisation!$A:$A,$A18))-B18)), OFFSET(Géolocalisation!$A$1, MATCH($A18,Géolocalisation!$A:$A,0)-1,1, COUNTIF(Géolocalisation!$A:$A,$A18)))),"") | G18: =IFERROR(VLOOKUP($F18,OFFSET(Géolocalisation!$A$1, MATCH($A18,Géolocalisation!$A:$A,0)-1,1, COUNTIF(Géolocalisation!$A:$A,$A18), MATCH(G$1,Géolocalisation!$A$1:$D$1,0)),2,0),"") | H18: =IFERROR(VLOOKUP($F18,OFFSET(Géolocalisation!$A$1, MATCH($A18,Géolocalisation!$A:$A,0)-1,1, COUNTIF(Géolocalisation!$A:$A,$A18), MATCH(H$1,Géolocalisation!$A$1:$D$1,0)),3,0),"")
A19: 46047 | B19: 0.91805556 | C19: #N/A | D19: 64 | E19: Haute | F19: =IFERROR(MIN(IF(ABS(OFFSET(Géolocalisation!$A$1, MATCH($A19,Géolocalisation!$A:$A,0)-1,1, COUNTIF(Géolocalisation!$A:$A,$A19))-B19)= MIN(ABS(OFFSET(Géolocalisation!$A$1, MATCH($A19,Géolocalisation!$A:$A,0)-1,1, COUNTIF(Géolocalisation!$A:$A,$A19))-B19)), OFFSET(Géolocalisation!$A$1, MATCH($A19,Géolocalisation!$A:$A,0)-1,1, COUNTIF(Géolocalisation!$A:$A,$A19)))),"") | G19: =IFERROR(VLOOKUP($F19,OFFSET(Géolocalisation!$A$1, MATCH($A19,Géolocalisation!$A:$A,0)-1,1, COUNTIF(Géolocalisation!$A:$A,$A19), MATCH(G$1,Géolocalisation!$A$1:$D$1,0)),2,0),"") | H19: =IFERROR(VLOOKUP($F19,OFFSET(Géolocalisation!$A$1, MATCH($A19,Géolocalisation!$A:$A,0)-1,1, COUNTIF(Géolocalisation!$A:$A,$A19), MATCH(H$1,Géolocalisation!$A$1:$D$1,0)),3,0),"")
A20: 46047 | B20: 0.13611111 | C20: #N/A | E20: Basse | F20: =IFERROR(MIN(IF(ABS(OFFSET(Géolocalisation!$A$1, MATCH($A20,Géolocalisation!$A:$A,0)-1,1, COUNTIF(Géolocalisation!$A:$A,$A20))-B20)= MIN(ABS(OFFSET(Géolocalisation!$A$1, MATCH($A20,Géolocalisation!$A:$A,0)-1,1, COUNTIF(Géolocalisation!$A:$A,$A20))-B20)), OFFSET(Géolocalisation!$A$1, MATCH($A20,Géolocalisation!$A:$A,0)-1,1, COUNTIF(Géolocalisation!$A:$A,$A20)))),"") | G20: =IFERROR(VLOOKUP($F20,OFFSET(Géolocalisation!$A$1, MATCH($A20,Géolocalisation!$A:$A,0)-1,1, COUNTIF(Géolocalisation!$A:$A,$A20), MATCH(G$1,Géolocalisation!$A$1:$D$1,0)),2,0),"") | H20: =IFERROR(VLOOKUP($F20,OFFSET(Géolocalisation!$A$1, MATCH($A20,Géolocalisation!$A:$A,0)-1,1, COUNTIF(Géolocalisation!$A:$A,$A20), MATCH(H$1,Géolocalisation!$A$1:$D$1,0)),3,0),"")
A21: 46047 | B21: 0.65416667 | C21: #N/A | E21: Basse | F21: =IFERROR(MIN(IF(ABS(OFFSET(Géolocalisation!$A$1, MATCH($A21,Géolocalisation!$A:$A,0)-1,1, COUNTIF(Géolocalisation!$A:$A,$A21))-B21)= MIN(ABS(OFFSET(Géolocalisation!$A$1, MATCH($A21,Géolocalisation!$A:$A,0)-1,1, COUNTIF(Géolocalisation!$A:$A,$A21))-B21)), OFFSET(Géolocalisation!$A$1, MATCH($A21,Géolocalisation!$A:$A,0)-1,1, COUNTIF(Géolocalisation!$A:$A,$A21)))),"") | G21: =IFERROR(VLOOKUP($F21,OFFSET(Géolocalisation!$A$1, MATCH($A21,Géolocalisation!$A:$A,0)-1,1, COUNTIF(Géolocalisation!$A:$A,$A21), MATCH(G$1,Géolocalisation!$A$1:$D$1,0)),2,0),"") | H21: =IFERROR(VLOOKUP($F21,OFFSET(Géolocalisation!$A$1, MATCH($A21,Géolocalisation!$A:$A,0)-1,1, COUNTIF(Géolocalisation!$A:$A,$A21), MATCH(H$1,Géolocalisation!$A$1:$D$1,0)),3,0),"")
A22: 46048 | B22: 0.43819444 | C22: #N/A | D22: 59 | E22: Haute | F22: =IFERROR(MIN(IF(ABS(OFFSET(Géolocalisation!$A$1, MATCH($A22,Géolocalisation!$A:$A,0)-1,1, COUNTIF(Géolocalisation!$A:$A,$A22))-B22)= MIN(ABS(OFFSET(Géolocalisation!$A$1, MATCH($A22,Géolocalisation!$A:$A,0)-1,1, COUNTIF(Géolocalisation!$A:$A,$A22))-B22)), OFFSET(Géolocalisation!$A$1, MATCH($A22,Géolocalisation!$A:$A,0)-1,1, COUNTIF(Géolocalisation!$A:$A,$A22)))),"") | G22: =IFERROR(VLOOKUP($F22,OFFSET(Géolocalisation!$A$1, MATCH($A22,Géolocalisation!$A:$A,0)-1,1, COUNTIF(Géolocalisation!$A:$A,$A22), MATCH(G$1,Géolocalisation!$A$1:$D$1,0)),2,0),"") | H22: =IFERROR(VLOOKUP($F22,OFFSET(Géolocalisation!$A$1, MATCH($A22,Géolocalisation!$A:$A,0)-1,1, COUNTIF(Géolocalisation!$A:$A,$A22), MATCH(H$1,Géolocalisation!$A$1:$D$1,0)),3,0),"")
A23: 46048 | B23: 0.95972222 | C23: #N/A | D23: 54 | E23: Haute | F23: =IFERROR(MIN(IF(ABS(OFFSET(Géolocalisation!$A$1, MATCH($A23,Géolocalisation!$A:$A,0)-1,1, COUNTIF(Géolocalisation!$A:$A,$A23))-B23)= MIN(ABS(OFFSET(Géolocalisation!$A$1, MATCH($A23,Géolocalisation!$A:$A,0)-1,1, COUNTIF(Géolocalisation!$A:$A,$A23))-B23)), OFFSET(Géolocalisation!$A$1, MATCH($A23,Géolocalisation!$A:$A,0)-1,1, COUNTIF(Géolocalisation!$A:$A,$A23)))),"") | G23: =IFERROR(VLOOKUP($F23,OFFSET(Géolocalisation!$A$1, MATCH($A23,Géolocalisation!$A:$A,0)-1,1, COUNTIF(Géolocalisation!$A:$A,$A23), MATCH(G$1,Géolocalisation!$A$1:$D$1,0)),2,0),"") | H23: =IFERROR(VLOOKUP($F23,OFFSET(Géolocalisation!$A$1, MATCH($A23,Géolocalisation!$A:$A,0)-1,1, COUNTIF(Géolocalisation!$A:$A,$A23), MATCH(H$1,Géolocalisation!$A$1:$D$1,0)),3,0),"")
A24: 46048 | B24: 0.16875 | C24: #N/A | E24: Basse | F24: =IFERROR(MIN(IF(ABS(OFFSET(Géolocalisation!$A$1, MATCH($A24,Géolocalisation!$A:$A,0)-1,1, COUNTIF(Géolocalisation!$A:$A,$A24))-B24)= MIN(ABS(OFFSET(Géolocalisation!$A$1, MATCH($A24,Géolocalisation!$A:$A,0)-1,1, COUNTIF(Géolocalisation!$A:$A,$A24))-B24)), OFFSET(Géolocalisation!$A$1, MATCH($A24,Géolocalisation!$A:$A,0)-1,1, COUNTIF(Géolocalisation!$A:$A,$A24)))),"") | G24: =IFERROR(VLOOKUP($F24,OFFSET(Géolocalisation!$A$1, MATCH($A24,Géolocalisation!$A:$A,0)-1,1, COUNTIF(Géolocalisation!$A:$A,$A24), MATCH(G$1,Géolocalisation!$A$1:$D$1,0)),2,0),"") | H24: =IFERROR(VLOOKUP($F24,OFFSET(Géolocalisation!$A$1, MATCH($A24,Géolocalisation!$A:$A,0)-1,1, COUNTIF(Géolocalisation!$A:$A,$A24), MATCH(H$1,Géolocalisation!$A$1:$D$1,0)),3,0),"")
A25: 46048 | B25: 0.68958333 | C25: #N/A | E25: Basse | F25: =IFERROR(MIN(IF(ABS(OFFSET(Géolocalisation!$A$1, MATCH($A25,Géolocalisation!$A:$A,0)-1,1, COUNTIF(Géolocalisation!$A:$A,$A25))-B25)= MIN(ABS(OFFSET(Géolocalisation!$A$1, MATCH($A25,Géolocalisation!$A:$A,0)-1,1, COUNTIF(Géolocalisation!$A:$A,$A25))-B25)), OFFSET(Géolocalisation!$A$1, MATCH($A25,Géolocalisation!$A:$A,0)-1,1, COUNTIF(Géolocalisation!$A:$A,$A25)))),"") | G25: =IFERROR(VLOOKUP($F25,OFFSET(Géolocalisation!$A$1, MATCH($A25,Géolocalisation!$A:$A,0)-1,1, COUNTIF(Géolocalisation!$A:$A,$A25), MATCH(G$1,Géolocalisation!$A$1:$D$1,0)),2,0),"") | H25: =IFERROR(VLOOKUP($F25,OFFSET(Géolocalisation!$A$1, MATCH($A25,Géolocalisation!$A:$A,0)-1,1, COUNTIF(Géolocalisation!$A:$A,$A25), MATCH(H$1,Géolocalisation!$A$1:$D$1,0)),3,0),"")
A26: 46049 | B26: 0.48472222 | C26: #N/A | D26: 50 | E26: Haute | F26: =IFERROR(MIN(IF(ABS(OFFSET(Géolocalisation!$A$1, MATCH($A26,Géolocalisation!$A:$A,0)-1,1, COUNTIF(Géolocalisation!$A:$A,$A26))-B26)= MIN(ABS(OFFSET(Géolocalisation!$A$1, MATCH($A26,Géolocalisation!$A:$A,0)-1,1, COUNTIF(Géolocalisation!$A:$A,$A26))-B26)), OFFSET(Géolocalisation!$A$1, MATCH($A26,Géolocalisation!$A:$A,0)-1,1, COUNTIF(Géolocalisation!$A:$A,$A26)))),"") | G26: =IFERROR(VLOOKUP($F26,OFFSET(Géolocalisation!$A$1, MATCH($A26,Géolocalisation!$A:$A,0)-1,1, COUNTIF(Géolocalisation!$A:$A,$A26), MATCH(G$1,Géolocalisation!$A$1:$D$1,0)),2,0),"") | H26: =IFERROR(VLOOKUP($F26,OFFSET(Géolocalisation!$A$1, MATCH($A26,Géolocalisation!$A:$A,0)-1,1, COUNTIF(Géolocalisation!$A:$A,$A26), MATCH(H$1,Géolocalisation!$A$1:$D$1,0)),3,0),"")
A27: 46049 | B27: –:– | C27: #N/A | D27: - | E27: Haute | F27: =IFERROR(MIN(IF(ABS(OFFSET(Géolocalisation!$A$1, MATCH($A27,Géolocalisation!$A:$A,0)-1,1, COUNTIF(Géolocalisation!$A:$A,$A27))-B27)= MIN(ABS(OFFSET(Géolocalisation!$A$1, MATCH($A27,Géolocalisation!$A:$A,0)-1,1, COUNTIF(Géolocalisation!$A:$A,$A27))-B27)), OFFSET(Géolocalisation!$A$1, MATCH($A27,Géolocalisation!$A:$A,0)-1,1, COUNTIF(Géolocalisation!$A:$A,$A27)))),"") | G27: =IFERROR(VLOOKUP($F27,OFFSET(Géolocalisation!$A$1, MATCH($A27,Géolocalisation!$A:$A,0)-1,1, COUNTIF(Géolocalisation!$A:$A,$A27), MATCH(G$1,Géolocalisation!$A$1:$D$1,0)),2,0),"") | H27: =IFERROR(VLOOKUP($F27,OFFSET(Géolocalisation!$A$1, MATCH($A27,Géolocalisation!$A:$A,0)-1,1, COUNTIF(Géolocalisation!$A:$A,$A27), MATCH(H$1,Géolocalisation!$A$1:$D$1,0)),3,0),"")
A28: 46049 | B28: 0.21180556 | C28: #N/A | E28: Basse | F28: =IFERROR(MIN(IF(ABS(OFFSET(Géolocalisation!$A$1, MATCH($A28,Géolocalisation!$A:$A,0)-1,1, COUNTIF(Géolocalisation!$A:$A,$A28))-B28)= MIN(ABS(OFFSET(Géolocalisation!$A$1, MATCH($A28,Géolocalisation!$A:$A,0)-1,1, COUNTIF(Géolocalisation!$A:$A,$A28))-B28)), OFFSET(Géolocalisation!$A$1, MATCH($A28,Géolocalisation!$A:$A,0)-1,1, COUNTIF(Géolocalisation!$A:$A,$A28)))),"") | G28: =IFERROR(VLOOKUP($F28,OFFSET(Géolocalisation!$A$1, MATCH($A28,Géolocalisation!$A:$A,0)-1,1, COUNTIF(Géolocalisation!$A:$A,$A28), MATCH(G$1,Géolocalisation!$A$1:$D$1,0)),2,0),"") | H28: =IFERROR(VLOOKUP($F28,OFFSET(Géolocalisation!$A$1, MATCH($A28,Géolocalisation!$A:$A,0)-1,1, COUNTIF(Géolocalisation!$A:$A,$A28), MATCH(H$1,Géolocalisation!$A$1:$D$1,0)),3,0),"")
A29: 46049 | B29: 0.73819444 | C29: #N/A | E29: Basse | F29: =IFERROR(MIN(IF(ABS(OFFSET(Géolocalisation!$A$1, MATCH($A29,Géolocalisation!$A:$A,0)-1,1, COUNTIF(Géolocalisation!$A:$A,$A29))-B29)= MIN(ABS(OFFSET(Géolocalisation!$A$1, MATCH($A29,Géolocalisation!$A:$A,0)-1,1, COUNTIF(Géolocalisation!$A:$A,$A29))-B29)), OFFSET(Géolocalisation!$A$1, MATCH($A29,Géolocalisation!$A:$A,0)-1,1, COUNTIF(Géolocalisation!$A:$A,$A29)))),"") | G29: =IFERROR(VLOOKUP($F29,OFFSET(Géolocalisation!$A$1, MATCH($A29,Géolocalisation!$A:$A,0)-1,1, COUNTIF(Géolocalisation!$A:$A,$A29), MATCH(G$1,Géolocalisation!$A$1:$D$1,0)),2,0),"") | H29: =IFERROR(VLOOKUP($F29,OFFSET(Géolocalisation!$A$1, MATCH($A29,Géolocalisation!$A:$A,0)-1,1, COUNTIF(Géolocalisation!$A:$A,$A29), MATCH(H$1,Géolocalisation!$A$1:$D$1,0)),3,0),"")
A30: 46050 | B30: 0.013194444 | C30: #N/A | D30: 47 | E30: Haute | F30: =IFERROR(MIN(IF(ABS(OFFSET(Géolocalisation!$A$1, MATCH($A30,Géolocalisation!$A:$A,0)-1,1, COUNTIF(Géolocalisation!$A:$A,$A30))-B30)= MIN(ABS(OFFSET(Géolocalisation!$A$1, MATCH($A30,Géolocalisation!$A:$A,0)-1,1, COUNTIF(Géolocalisation!$A:$A,$A30))-B30)), OFFSET(Géolocalisation!$A$1, MATCH($A30,Géolocalisation!$A:$A,0)-1,1, COUNTIF(Géolocalisation!$A:$A,$A30)))),"") | G30: =IFERROR(VLOOKUP($F30,OFFSET(Géolocalisation!$A$1, MATCH($A30,Géolocalisation!$A:$A,0)-1,1, COUNTIF(Géolocalisation!$A:$A,$A30), MATCH(G$1,Géolocalisation!$A$1:$D$1,0)),2,0),"") | H30: =IFERROR(VLOOKUP($F30,OFFSET(Géolocalisation!$A$1, MATCH($A30,Géolocalisation!$A:$A,0)-1,1, COUNTIF(Géolocalisation!$A:$A,$A30), MATCH(H$1,Géolocalisation!$A$1:$D$1,0)),3,0),"")
A31: 46050 | B31: 0.54305556 | C31: #N/A | D31: 47 | E31: Haute | F31: =IFERROR(MIN(IF(ABS(OFFSET(Géolocalisation!$A$1, MATCH($A31,Géolocalisation!$A:$A,0)-1,1, COUNTIF(Géolocalisation!$A:$A,$A31))-B31)= MIN(ABS(OFFSET(Géolocalisation!$A$1, MATCH($A31,Géolocalisation!$A:$A,0)-1,1, COUNTIF(Géolocalisation!$A:$A,$A31))-B31)), OFFSET(Géolocalisation!$A$1, MATCH($A31,Géolocalisation!$A:$A,0)-1,1, COUNTIF(Géolocalisation!$A:$A,$A31)))),"") | G31: =IFERROR(VLOOKUP($F31,OFFSET(Géolocalisation!$A$1, MATCH($A31,Géolocalisation!$A:$A,0)-1,1, COUNTIF(Géolocalisation!$A:$A,$A31), MATCH(G$1,Géolocalisation!$A$1:$D$1,0)),2,0),"") | H31: =IFERROR(VLOOKUP($F31,OFFSET(Géolocalisation!$A$1, MATCH($A31,Géolocalisation!$A:$A,0)-1,1, COUNTIF(Géolocalisation!$A:$A,$A31), MATCH(H$1,Géolocalisation!$A$1:$D$1,0)),3,0),"")
A32: 46050 | B32: 0.26805556 | C32: #N/A | E32: Basse | F32: =IFERROR(MIN(IF(ABS(OFFSET(Géolocalisation!$A$1, MATCH($A32,Géolocalisation!$A:$A,0)-1,1, COUNTIF(Géolocalisation!$A:$A,$A32))-B32)= MIN(ABS(OFFSET(Géolocalisation!$A$1, MATCH($A32,Géolocalisation!$A:$A,0)-1,1, COUNTIF(Géolocalisation!$A:$A,$A32))-B32)), OFFSET(Géolocalisation!$A$1, MATCH($A32,Géolocalisation!$A:$A,0)-1,1, COUNTIF(Géolocalisation!$A:$A,$A32)))),"") | G32: =IFERROR(VLOOKUP($F32,OFFSET(Géolocalisation!$A$1, MATCH($A32,Géolocalisation!$A:$A,0)-1,1, COUNTIF(Géolocalisation!$A:$A,$A32), MATCH(G$1,Géolocalisation!$A$1:$D$1,0)),2,0),"") | H32: =IFERROR(VLOOKUP($F32,OFFSET(Géolocalisation!$A$1, MATCH($A32,Géolocalisation!$A:$A,0)-1,1, COUNTIF(Géolocalisation!$A:$A,$A32), MATCH(H$1,Géolocalisation!$A$1:$D$1,0)),3,0),"")
A33: 46050 | B33: 0.79583333 | C33: #N/A | E33: Basse | F33: =IFERROR(MIN(IF(ABS(OFFSET(Géolocalisation!$A$1, MATCH($A33,Géolocalisation!$A:$A,0)-1,1, COUNTIF(Géolocalisation!$A:$A,$A33))-B33)= MIN(ABS(OFFSET(Géolocalisation!$A$1, MATCH($A33,Géolocalisation!$A:$A,0)-1,1, COUNTIF(Géolocalisation!$A:$A,$A33))-B33)), OFFSET(Géolocalisation!$A$1, MATCH($A33,Géolocalisation!$A:$A,0)-1,1, COUNTIF(Géolocalisation!$A:$A,$A33)))),"") | G33: =IFERROR(VLOOKUP($F33,OFFSET(Géolocalisation!$A$1, MATCH($A33,Géolocalisation!$A:$A,0)-1,1, COUNTIF(Géolocalisation!$A:$A,$A33), MATCH(G$1,Géolocalisation!$A$1:$D$1,0)),2,0),"") | H33: =IFERROR(VLOOKUP($F33,OFFSET(Géolocalisation!$A$1, MATCH($A33,Géolocalisation!$A:$A,0)-1,1, COUNTIF(Géolocalisation!$A:$A,$A33), MATCH(H$1,Géolocalisation!$A$1:$D$1,0)),3,0),"")
A34: 46051 | B34: 0.072222222 | C34: #N/A | D34: 49 | E34: Haute | F34: =IFERROR(MIN(IF(ABS(OFFSET(Géolocalisation!$A$1, MATCH($A34,Géolocalisation!$A:$A,0)-1,1, COUNTIF(Géolocalisation!$A:$A,$A34))-B34)= MIN(ABS(OFFSET(Géolocalisation!$A$1, MATCH($A34,Géolocalisation!$A:$A,0)-1,1, COUNTIF(Géolocalisation!$A:$A,$A34))-B34)), OFFSET(Géolocalisation!$A$1, MATCH($A34,Géolocalisation!$A:$A,0)-1,1, COUNTIF(Géolocalisation!$A:$A,$A34)))),"") | G34: =IFERROR(VLOOKUP($F34,OFFSET(Géolocalisation!$A$1, MATCH($A34,Géolocalisation!$A:$A,0)-1,1, COUNTIF(Géolocalisation!$A:$A,$A34), MATCH(G$1,Géolocalisation!$A$1:$D$1,0)),2,0),"") | H34: =IFERROR(VLOOKUP($F34,OFFSET(Géolocalisation!$A$1, MATCH($A34,Géolocalisation!$A:$A,0)-1,1, COUNTIF(Géolocalisation!$A:$A,$A34), MATCH(H$1,Géolocalisation!$A$1:$D$1,0)),3,0),"")
A35: 46051 | B35: 0.60138889 | C35: #N/A | D35: 52 | E35: Haute | F35: =IFERROR(MIN(IF(ABS(OFFSET(Géolocalisation!$A$1, MATCH($A35,Géolocalisation!$A:$A,0)-1,1, COUNTIF(Géolocalisation!$A:$A,$A35))-B35)= MIN(ABS(OFFSET(Géolocalisation!$A$1, MATCH($A35,Géolocalisation!$A:$A,0)-1,1, COUNTIF(Géolocalisation!$A:$A,$A35))-B35)), OFFSET(Géolocalisation!$A$1, MATCH($A35,Géolocalisation!$A:$A,0)-1,1, COUNTIF(Géolocalisation!$A:$A,$A35)))),"") | G35: =IFERROR(VLOOKUP($F35,OFFSET(Géolocalisation!$A$1, MATCH($A35,Géolocalisation!$A:$A,0)-1,1, COUNTIF(Géolocalisation!$A:$A,$A35), MATCH(G$1,Géolocalisation!$A$1:$D$1,0)),2,0),"") | H35: =IFERROR(VLOOKUP($F35,OFFSET(Géolocalisation!$A$1, MATCH($A35,Géolocalisation!$A:$A,0)-1,1, COUNTIF(Géolocalisation!$A:$A,$A35), MATCH(H$1,Géolocalisation!$A$1:$D$1,0)),3,0),"")
A36: 46051 | B36: 0.32569444 | C36: #N/A | E36: Basse | F36: =IFERROR(MIN(IF(ABS(OFFSET(Géolocalisation!$A$1, MATCH($A36,Géolocalisation!$A:$A,0)-1,1, COUNTIF(Géolocalisation!$A:$A,$A36))-B36)= MIN(ABS(OFFSET(Géolocalisation!$A$1, MATCH($A36,Géolocalisation!$A:$A,0)-1,1, COUNTIF(Géolocalisation!$A:$A,$A36))-B36)), OFFSET(Géolocalisation!$A$1, MATCH($A36,Géolocalisation!$A:$A,0)-1,1, COUNTIF(Géolocalisation!$A:$A,$A36)))),"") | G36: =IFERROR(VLOOKUP($F36,OFFSET(Géolocalisation!$A$1, MATCH($A36,Géolocalisation!$A:$A,0)-1,1, COUNTIF(Géolocalisation!$A:$A,$A36), MATCH(G$1,Géolocalisation!$A$1:$D$1,0)),2,0),"") | H36: =IFERROR(VLOOKUP($F36,OFFSET(Géolocalisation!$A$1, MATCH($A36,Géolocalisation!$A:$A,0)-1,1, COUNTIF(Géolocalisation!$A:$A,$A36), MATCH(H$1,Géolocalisation!$A$1:$D$1,0)),3,0),"")
A37: 46051 | B37: 0.85 | C37: #N/A | E37: Basse | F37: =IFERROR(MIN(IF(ABS(OFFSET(Géolocalisation!$A$1, MATCH($A37,Géolocalisation!$A:$A,0)-1,1, COUNTIF(Géolocalisation!$A:$A,$A37))-B37)= MIN(ABS(OFFSET(Géolocalisation!$A$1, MATCH($A37,Géolocalisation!$A:$A,0)-1,1, COUNTIF(Géolocalisation!$A:$A,$A37))-B37)), OFFSET(Géolocalisation!$A$1, MATCH($A37,Géolocalisation!$A:$A,0)-1,1, COUNTIF(Géolocalisation!$A:$A,$A37)))),"") | G37: =IFERROR(VLOOKUP($F37,OFFSET(Géolocalisation!$A$1, MATCH($A37,Géolocalisation!$A:$A,0)-1,1, COUNTIF(Géolocalisation!$A:$A,$A37), MATCH(G$1,Géolocalisation!$A$1:$D$1,0)),2,0),"") | H37: =IFERROR(VLOOKUP($F37,OFFSET(Géolocalisation!$A$1, MATCH($A37,Géolocalisation!$A:$A,0)-1,1, COUNTIF(Géolocalisation!$A:$A,$A37), MATCH(H$1,Géolocalisation!$A$1:$D$1,0)),3,0),"")
A38: 46052 | B38: 0.12430556 | C38: #N/A | D38: 58 | E38: Haute | F38: =IFERROR(MIN(IF(ABS(OFFSET(Géolocalisation!$A$1, MATCH($A38,Géolocalisation!$A:$A,0)-1,1, COUNTIF(Géolocalisation!$A:$A,$A38))-B38)= MIN(ABS(OFFSET(Géolocalisation!$A$1, MATCH($A38,Géolocalisation!$A:$A,0)-1,1, COUNTIF(Géolocalisation!$A:$A,$A38))-B38)), OFFSET(Géolocalisation!$A$1, MATCH($A38,Géolocalisation!$A:$A,0)-1,1, COUNTIF(Géolocalisation!$A:$A,$A38)))),"") | G38: =IFERROR(VLOOKUP($F38,OFFSET(Géolocalisation!$A$1, MATCH($A38,Géolocalisation!$A:$A,0)-1,1, COUNTIF(Géolocalisation!$A:$A,$A38), MATCH(G$1,Géolocalisation!$A$1:$D$1,0)),2,0),"") | H38: =IFERROR(VLOOKUP($F38,OFFSET(Géolocalisation!$A$1, MATCH($A38,Géolocalisation!$A:$A,0)-1,1, COUNTIF(Géolocalisation!$A:$A,$A38), MATCH(H$1,Géolocalisation!$A$1:$D$1,0)),3,0),"")
A39: 46052 | B39: 0.65 | C39: #N/A | D39: 65 | E39: Haute | F39: =IFERROR(MIN(IF(ABS(OFFSET(Géolocalisation!$A$1, MATCH($A39,Géolocalisation!$A:$A,0)-1,1, COUNTIF(Géolocalisation!$A:$A,$A39))-B39)= MIN(ABS(OFFSET(Géolocalisation!$A$1, MATCH($A39,Géolocalisation!$A:$A,0)-1,1, COUNTIF(Géolocalisation!$A:$A,$A39))-B39)), OFFSET(Géolocalisation!$A$1, MATCH($A39,Géolocalisation!$A:$A,0)-1,1, COUNTIF(Géolocalisation!$A:$A,$A39)))),"") | G39: =IFERROR(VLOOKUP($F39,OFFSET(Géolocalisation!$A$1, MATCH($A39,Géolocalisation!$A:$A,0)-1,1, COUNTIF(Géolocalisation!$A:$A,$A39), MATCH(G$1,Géolocalisation!$A$1:$D$1,0)),2,0),"") | H39: =IFERROR(VLOOKUP($F39,OFFSET(Géolocalisation!$A$1, MATCH($A39,Géolocalisation!$A:$A,0)-1,1, COUNTIF(Géolocalisation!$A:$A,$A39), MATCH(H$1,Géolocalisation!$A$1:$D$1,0)),3,0),"")
A40: 46052 | B40: 0.37847222 | C40: #N/A | E40: Basse | F40: =IFERROR(MIN(IF(ABS(OFFSET(Géolocalisation!$A$1, MATCH($A40,Géolocalisation!$A:$A,0)-1,1, COUNTIF(Géolocalisation!$A:$A,$A40))-B40)= MIN(ABS(OFFSET(Géolocalisation!$A$1, MATCH($A40,Géolocalisation!$A:$A,0)-1,1, COUNTIF(Géolocalisation!$A:$A,$A40))-B40)), OFFSET(Géolocalisation!$A$1, MATCH($A40,Géolocalisation!$A:$A,0)-1,1, COUNTIF(Géolocalisation!$A:$A,$A40)))),"") | G40: =IFERROR(VLOOKUP($F40,OFFSET(Géolocalisation!$A$1, MATCH($A40,Géolocalisation!$A:$A,0)-1,1, COUNTIF(Géolocalisation!$A:$A,$A40), MATCH(G$1,Géolocalisation!$A$1:$D$1,0)),2,0),"") | H40: =IFERROR(VLOOKUP($F40,OFFSET(Géolocalisation!$A$1, MATCH($A40,Géolocalisation!$A:$A,0)-1,1, COUNTIF(Géolocalisation!$A:$A,$A40), MATCH(H$1,Géolocalisation!$A$1:$D$1,0)),3,0),"")
A41: 46052 | B41: 0.89930556 | C41: #N/A | E41: Basse | F41: =IFERROR(MIN(IF(ABS(OFFSET(Géolocalisation!$A$1, MATCH($A41,Géolocalisation!$A:$A,0)-1,1, COUNTIF(Géolocalisation!$A:$A,$A41))-B41)= MIN(ABS(OFFSET(Géolocalisation!$A$1, MATCH($A41,Géolocalisation!$A:$A,0)-1,1, COUNTIF(Géolocalisation!$A:$A,$A41))-B41)), OFFSET(Géolocalisation!$A$1, MATCH($A41,Géolocalisation!$A:$A,0)-1,1, COUNTIF(Géolocalisation!$A:$A,$A41)))),"") | G41: =IFERROR(VLOOKUP($F41,OFFSET(Géolocalisation!$A$1, MATCH($A41,Géolocalisation!$A:$A,0)-1,1, COUNTIF(Géolocalisation!$A:$A,$A41), MATCH(G$1,Géolocalisation!$A$1:$D$1,0)),2,0),"") | H41: =IFERROR(VLOOKUP($F41,OFFSET(Géolocalisation!$A$1, MATCH($A41,Géolocalisation!$A:$A,0)-1,1, COUNTIF(Géolocalisation!$A:$A,$A41), MATCH(H$1,Géolocalisation!$A$1:$D$1,0)),3,0),"")
A42: 46053 | B42: 0.16736111 | C42: #N/A | D42: 72 | E42: Haute | F42: =IFERROR(MIN(IF(ABS(OFFSET(Géolocalisation!$A$1, MATCH($A42,Géolocalisation!$A:$A,0)-1,1, COUNTIF(Géolocalisation!$A:$A,$A42))-B42)= MIN(ABS(OFFSET(Géolocalisation!$A$1, MATCH($A42,Géolocalisation!$A:$A,0)-1,1, COUNTIF(Géolocalisation!$A:$A,$A42))-B42)), OFFSET(Géolocalisation!$A$1, MATCH($A42,Géolocalisation!$A:$A,0)-1,1, COUNTIF(Géolocalisation!$A:$A,$A42)))),"") | G42: =IFERROR(VLOOKUP($F42,OFFSET(Géolocalisation!$A$1, MATCH($A42,Géolocalisation!$A:$A,0)-1,1, COUNTIF(Géolocalisation!$A:$A,$A42), MATCH(G$1,Géolocalisation!$A$1:$D$1,0)),2,0),"") | H42: =IFERROR(VLOOKUP($F42,OFFSET(Géolocalisation!$A$1, MATCH($A42,Géolocalisation!$A:$A,0)-1,1, COUNTIF(Géolocalisation!$A:$A,$A42), MATCH(H$1,Géolocalisation!$A$1:$D$1,0)),3,0),"")
A43: 46053 | B43: 0.68958333 | C43: #N/A | D43: 78 | E43: Haute | F43: =IFERROR(MIN(IF(ABS(OFFSET(Géolocalisation!$A$1, MATCH($A43,Géolocalisation!$A:$A,0)-1,1, COUNTIF(Géolocalisation!$A:$A,$A43))-B43)= MIN(ABS(OFFSET(Géolocalisation!$A$1, MATCH($A43,Géolocalisation!$A:$A,0)-1,1, COUNTIF(Géolocalisation!$A:$A,$A43))-B43)), OFFSET(Géolocalisation!$A$1, MATCH($A43,Géolocalisation!$A:$A,0)-1,1, COUNTIF(Géolocalisation!$A:$A,$A43)))),"") | G43: =IFERROR(VLOOKUP($F43,OFFSET(Géolocalisation!$A$1, MATCH($A43,Géolocalisation!$A:$A,0)-1,1, COUNTIF(Géolocalisation!$A:$A,$A43), MATCH(G$1,Géolocalisation!$A$1:$D$1,0)),2,0),"") | H43: =IFERROR(VLOOKUP($F43,OFFSET(Géolocalisation!$A$1, MATCH($A43,Géolocalisation!$A:$A,0)-1,1, COUNTIF(Géolocalisation!$A:$A,$A43), MATCH(H$1,Géolocalisation!$A$1:$D$1,0)),3,0),"")
A44: 46053 | B44: 0.42569444 | C44: #N/A | E44: Basse | F44: =IFERROR(MIN(IF(ABS(OFFSET(Géolocalisation!$A$1, MATCH($A44,Géolocalisation!$A:$A,0)-1,1, COUNTIF(Géolocalisation!$A:$A,$A44))-B44)= MIN(ABS(OFFSET(Géolocalisation!$A$1, MATCH($A44,Géolocalisation!$A:$A,0)-1,1, COUNTIF(Géolocalisation!$A:$A,$A44))-B44)), OFFSET(Géolocalisation!$A$1, MATCH($A44,Géolocalisation!$A:$A,0)-1,1, COUNTIF(Géolocalisation!$A:$A,$A44)))),"") | G44: =IFERROR(VLOOKUP($F44,OFFSET(Géolocalisation!$A$1, MATCH($A44,Géolocalisation!$A:$A,0)-1,1, COUNTIF(Géolocalisation!$A:$A,$A44), MATCH(G$1,Géolocalisation!$A$1:$D$1,0)),2,0),"") | H44: =IFERROR(VLOOKUP($F44,OFFSET(Géolocalisation!$A$1, MATCH($A44,Géolocalisation!$A:$A,0)-1,1, COUNTIF(Géolocalisation!$A:$A,$A44), MATCH(H$1,Géolocalisation!$A$1:$D$1,0)),3,0),"")
A45: 46053 | B45: 0.94166667 | C45: #N/A | E45: Basse | F45: =IFERROR(MIN(IF(ABS(OFFSET(Géolocalisation!$A$1, MATCH($A45,Géolocalisation!$A:$A,0)-1,1, COUNTIF(Géolocalisation!$A:$A,$A45))-B45)= MIN(ABS(OFFSET(Géolocalisation!$A$1, MATCH($A45,Géolocalisation!$A:$A,0)-1,1, COUNTIF(Géolocalisation!$A:$A,$A45))-B45)), OFFSET(Géolocalisation!$A$1, MATCH($A45,Géolocalisation!$A:$A,0)-1,1, COUNTIF(Géolocalisation!$A:$A,$A45)))),"") | G45: =IFERROR(VLOOKUP($F45,OFFSET(Géolocalisation!$A$1, MATCH($A45,Géolocalisation!$A:$A,0)-1,1, COUNTIF(Géolocalisation!$A:$A,$A45), MATCH(G$1,Géolocalisation!$A$1:$D$1,0)),2,0),"") | H45: =IFERROR(VLOOKUP($F45,OFFSET(Géolocalisation!$A$1, MATCH($A45,Géolocalisation!$A:$A,0)-1,1, COUNTIF(Géolocalisation!$A:$A,$A45), MATCH(H$1,Géolocalisation!$A$1:$D$1,0)),3,0),"")
A46: 46054 | B46: 0.20416667 | C46: #N/A | D46: 84 | E46: Haute | F46: =IFERROR(MIN(IF(ABS(OFFSET(Géolocalisation!$A$1, MATCH($A46,Géolocalisation!$A:$A,0)-1,1, COUNTIF(Géolocalisation!$A:$A,$A46))-B46)= MIN(ABS(OFFSET(Géolocalisation!$A$1, MATCH($A46,Géolocalisation!$A:$A,0)-1,1, COUNTIF(Géolocalisation!$A:$A,$A46))-B46)), OFFSET(Géolocalisation!$A$1, MATCH($A46,Géolocalisation!$A:$A,0)-1,1, COUNTIF(Géolocalisation!$A:$A,$A46)))),"") | G46: =IFERROR(VLOOKUP($F46,OFFSET(Géolocalisation!$A$1, MATCH($A46,Géolocalisation!$A:$A,0)-1,1, COUNTIF(Géolocalisation!$A:$A,$A46), MATCH(G$1,Géolocalisation!$A$1:$D$1,0)),2,0),"") | H46: =IFERROR(VLOOKUP($F46,OFFSET(Géolocalisation!$A$1, MATCH($A46,Géolocalisation!$A:$A,0)-1,1, COUNTIF(Géolocalisation!$A:$A,$A46), MATCH(H$1,Géolocalisation!$A$1:$D$1,0)),3,0),"")
A47: 46054 | B47: 0.72430556 | C47: #N/A | D47: 89 | E47: Haute | F47: =IFERROR(MIN(IF(ABS(OFFSET(Géolocalisation!$A$1, MATCH($A47,Géolocalisation!$A:$A,0)-1,1, COUNTIF(Géolocalisation!$A:$A,$A47))-B47)= MIN(ABS(OFFSET(Géolocalisation!$A$1, MATCH($A47,Géolocalisation!$A:$A,0)-1,1, COUNTIF(Géolocalisation!$A:$A,$A47))-B47)), OFFSET(Géolocalisation!$A$1, MATCH($A47,Géolocalisation!$A:$A,0)-1,1, COUNTIF(Géolocalisation!$A:$A,$A47)))),"") | G47: =IFERROR(VLOOKUP($F47,OFFSET(Géolocalisation!$A$1, MATCH($A47,Géolocalisation!$A:$A,0)-1,1, COUNTIF(Géolocalisation!$A:$A,$A47), MATCH(G$1,Géolocalisation!$A$1:$D$1,0)),2,0),"") | H47: =IFERROR(VLOOKUP($F47,OFFSET(Géolocalisation!$A$1, MATCH($A47,Géolocalisation!$A:$A,0)-1,1, COUNTIF(Géolocalisation!$A:$A,$A47), MATCH(H$1,Géolocalisation!$A$1:$D$1,0)),3,0),"")
A48: 46054 | B48: 0.46597222 | C48: #N/A | E48: Basse | F48: =IFERROR(MIN(IF(ABS(OFFSET(Géolocalisation!$A$1, MATCH($A48,Géolocalisation!$A:$A,0)-1,1, COUNTIF(Géolocalisation!$A:$A,$A48))-B48)= MIN(ABS(OFFSET(Géolocalisation!$A$1, MATCH($A48,Géolocalisation!$A:$A,0)-1,1, COUNTIF(Géolocalisation!$A:$A,$A48))-B48)), OFFSET(Géolocalisation!$A$1, MATCH($A48,Géolocalisation!$A:$A,0)-1,1, COUNTIF(Géolocalisation!$A:$A,$A48)))),"") | G48: =IFERROR(VLOOKUP($F48,OFFSET(Géolocalisation!$A$1, MATCH($A48,Géolocalisation!$A:$A,0)-1,1, COUNTIF(Géolocalisation!$A:$A,$A48), MATCH(G$1,Géolocalisation!$A$1:$D$1,0)),2,0),"") | H48: =IFERROR(VLOOKUP($F48,OFFSET(Géolocalisation!$A$1, MATCH($A48,Géolocalisation!$A:$A,0)-1,1, COUNTIF(Géolocalisation!$A:$A,$A48), MATCH(H$1,Géolocalisation!$A$1:$D$1,0)),3,0),"")
A49: 46054 | B49: 0.97847222 | C49: #N/A | E49: Basse | F49: =IFERROR(MIN(IF(ABS(OFFSET(Géolocalisation!$A$1, MATCH($A49,Géolocalisation!$A:$A,0)-1,1, COUNTIF(Géolocalisation!$A:$A,$A49))-B49)= MIN(ABS(OFFSET(Géolocalisation!$A$1, MATCH($A49,Géolocalisation!$A:$A,0)-1,1, COUNTIF(Géolocalisation!$A:$A,$A49))-B49)), OFFSET(Géolocalisation!$A$1, MATCH($A49,Géolocalisation!$A:$A,0)-1,1, COUNTIF(Géolocalisation!$A:$A,$A49)))),"") | G49: =IFERROR(VLOOKUP($F49,OFFSET(Géolocalisation!$A$1, MATCH($A49,Géolocalisation!$A:$A,0)-1,1, COUNTIF(Géolocalisation!$A:$A,$A49), MATCH(G$1,Géolocalisation!$A$1:$D$1,0)),2,0),"") | H49: =IFERROR(VLOOKUP($F49,OFFSET(Géolocalisation!$A$1, MATCH($A49,Géolocalisation!$A:$A,0)-1,1, COUNTIF(Géolocalisation!$A:$A,$A49), MATCH(H$1,Géolocalisation!$A$1:$D$1,0)),3,0),"")
A50: 46055 | B50: 0.2375 | C50: #N/A | D50: 94 | E50: Haute | F50: =IFERROR(MIN(IF(ABS(OFFSET(Géolocalisation!$A$1, MATCH($A50,Géolocalisation!$A:$A,0)-1,1, COUNTIF(Géolocalisation!$A:$A,$A50))-B50)= MIN(ABS(OFFSET(Géolocalisation!$A$1, MATCH($A50,Géolocalisation!$A:$A,0)-1,1, COUNTIF(Géolocalisation!$A:$A,$A50))-B50)), OFFSET(Géolocalisation!$A$1, MATCH($A50,Géolocalisation!$A:$A,0)-1,1, COUNTIF(Géolocalisation!$A:$A,$A50)))),"") | G50: =IFERROR(VLOOKUP($F50,OFFSET(Géolocalisation!$A$1, MATCH($A50,Géolocalisation!$A:$A,0)-1,1, COUNTIF(Géolocalisation!$A:$A,$A50), MATCH(G$1,Géolocalisation!$A$1:$D$1,0)),2,0),"") | H50: =IFERROR(VLOOKUP($F50,OFFSET(Géolocalisation!$A$1, MATCH($A50,Géolocalisation!$A:$A,0)-1,1, COUNTIF(Géolocalisation!$A:$A,$A50), MATCH(H$1,Géolocalisation!$A$1:$D$1,0)),3,0),"")
A51: 46055 | B51: 0.75555556 | C51: #N/A | D51: 97 | E51: Haute | F51: =IFERROR(MIN(IF(ABS(OFFSET(Géolocalisation!$A$1, MATCH($A51,Géolocalisation!$A:$A,0)-1,1, COUNTIF(Géolocalisation!$A:$A,$A51))-B51)= MIN(ABS(OFFSET(Géolocalisation!$A$1, MATCH($A51,Géolocalisation!$A:$A,0)-1,1, COUNTIF(Géolocalisation!$A:$A,$A51))-B51)), OFFSET(Géolocalisation!$A$1, MATCH($A51,Géolocalisation!$A:$A,0)-1,1, COUNTIF(Géolocalisation!$A:$A,$A51)))),"") | G51: =IFERROR(VLOOKUP($F51,OFFSET(Géolocalisation!$A$1, MATCH($A51,Géolocalisation!$A:$A,0)-1,1, COUNTIF(Géolocalisation!$A:$A,$A51), MATCH(G$1,Géolocalisation!$A$1:$D$1,0)),2,0),"") | H51: =IFERROR(VLOOKUP($F51,OFFSET(Géolocalisation!$A$1, MATCH($A51,Géolocalisation!$A:$A,0)-1,1, COUNTIF(Géolocalisation!$A:$A,$A51), MATCH(H$1,Géolocalisation!$A$1:$D$1,0)),3,0),"")
A52: 46055 | B52: 0.5 | C52: #N/A | E52: Basse | F52: =IFERROR(MIN(IF(ABS(OFFSET(Géolocalisation!$A$1, MATCH($A52,Géolocalisation!$A:$A,0)-1,1, COUNTIF(Géolocalisation!$A:$A,$A52))-B52)= MIN(ABS(OFFSET(Géolocalisation!$A$1, MATCH($A52,Géolocalisation!$A:$A,0)-1,1, COUNTIF(Géolocalisation!$A:$A,$A52))-B52)), OFFSET(Géolocalisation!$A$1, MATCH($A52,Géolocalisation!$A:$A,0)-1,1, COUNTIF(Géolocalisation!$A:$A,$A52)))),"") | G52: =IFERROR(VLOOKUP($F52,OFFSET(Géolocalisation!$A$1, MATCH($A52,Géolocalisation!$A:$A,0)-1,1, COUNTIF(Géolocalisation!$A:$A,$A52), MATCH(G$1,Géolocalisation!$A$1:$D$1,0)),2,0),"") | H52: =IFERROR(VLOOKUP($F52,OFFSET(Géolocalisation!$A$1, MATCH($A52,Géolocalisation!$A:$A,0)-1,1, COUNTIF(Géolocalisation!$A:$A,$A52), MATCH(H$1,Géolocalisation!$A$1:$D$1,0)),3,0),"")
A53: 46055 | B53: –:– | C53: #N/A | E53: Basse | F53: =IFERROR(MIN(IF(ABS(OFFSET(Géolocalisation!$A$1, MATCH($A53,Géolocalisation!$A:$A,0)-1,1, COUNTIF(Géolocalisation!$A:$A,$A53))-B53)= MIN(ABS(OFFSET(Géolocalisation!$A$1, MATCH($A53,Géolocalisation!$A:$A,0)-1,1, COUNTIF(Géolocalisation!$A:$A,$A53))-B53)), OFFSET(Géolocalisation!$A$1, MATCH($A53,Géolocalisation!$A:$A,0)-1,1, COUNTIF(Géolocalisation!$A:$A,$A53)))),"") | G53: =IFERROR(VLOOKUP($F53,OFFSET(Géolocalisation!$A$1, MATCH($A53,Géolocalisation!$A:$A,0)-1,1, COUNTIF(Géolocalisation!$A:$A,$A53), MATCH(G$1,Géolocalisation!$A$1:$D$1,0)),2,0),"") | H53: =IFERROR(VLOOKUP($F53,OFFSET(Géolocalisation!$A$1, MATCH($A53,Géolocalisation!$A:$A,0)-1,1, COUNTIF(Géolocalisation!$A:$A,$A53), MATCH(H$1,Géolocalisation!$A$1:$D$1,0)),3,0),"")
A54: 46056 | B54: 0.26875 | C54: #N/A | D54: 99 | E54: Haute | F54: =IFERROR(MIN(IF(ABS(OFFSET(Géolocalisation!$A$1, MATCH($A54,Géolocalisation!$A:$A,0)-1,1, COUNTIF(Géolocalisation!$A:$A,$A54))-B54)= MIN(ABS(OFFSET(Géolocalisation!$A$1, MATCH($A54,Géolocalisation!$A:$A,0)-1,1, COUNTIF(Géolocalisation!$A:$A,$A54))-B54)), OFFSET(Géolocalisation!$A$1, MATCH($A54,Géolocalisation!$A:$A,0)-1,1, COUNTIF(Géolocalisation!$A:$A,$A54)))),"") | G54: =IFERROR(VLOOKUP($F54,OFFSET(Géolocalisation!$A$1, MATCH($A54,Géolocalisation!$A:$A,0)-1,1, COUNTIF(Géolocalisation!$A:$A,$A54), MATCH(G$1,Géolocalisation!$A$1:$D$1,0)),2,0),"") | H54: =IFERROR(VLOOKUP($F54,OFFSET(Géolocalisation!$A$1, MATCH($A54,Géolocalisation!$A:$A,0)-1,1, COUNTIF(Géolocalisation!$A:$A,$A54), MATCH(H$1,Géolocalisation!$A$1:$D$1,0)),3,0),"")
A55: 46056 | B55: 0.78472222 | C55: #N/A | D55: 99 | E55: Haute | F55: =IFERROR(MIN(IF(ABS(OFFSET(Géolocalisation!$A$1, MATCH($A55,Géolocalisation!$A:$A,0)-1,1, COUNTIF(Géolocalisation!$A:$A,$A55))-B55)= MIN(ABS(OFFSET(Géolocalisation!$A$1, MATCH($A55,Géolocalisation!$A:$A,0)-1,1, COUNTIF(Géolocalisation!$A:$A,$A55))-B55)), OFFSET(Géolocalisation!$A$1, MATCH($A55,Géolocalisation!$A:$A,0)-1,1, COUNTIF(Géolocalisation!$A:$A,$A55)))),"") | G55: =IFERROR(VLOOKUP($F55,OFFSET(Géolocalisation!$A$1, MATCH($A55,Géolocalisation!$A:$A,0)-1,1, COUNTIF(Géolocalisation!$A:$A,$A55), MATCH(G$1,Géolocalisation!$A$1:$D$1,0)),2,0),"") | H55: =IFERROR(VLOOKUP($F55,OFFSET(Géolocalisation!$A$1, MATCH($A55,Géolocalisation!$A:$A,0)-1,1, COUNTIF(Géolocalisation!$A:$A,$A55), MATCH(H$1,Géolocalisation!$A$1:$D$1,0)),3,0),"")
A56: 46056 | B56: 0.010416667 | C56: #N/A | E56: Basse | F56: =IFERROR(MIN(IF(ABS(OFFSET(Géolocalisation!$A$1, MATCH($A56,Géolocalisation!$A:$A,0)-1,1, COUNTIF(Géolocalisation!$A:$A,$A56))-B56)= MIN(ABS(OFFSET(Géolocalisation!$A$1, MATCH($A56,Géolocalisation!$A:$A,0)-1,1, COUNTIF(Géolocalisation!$A:$A,$A56))-B56)), OFFSET(Géolocalisation!$A$1, MATCH($A56,Géolocalisation!$A:$A,0)-1,1, COUNTIF(Géolocalisation!$A:$A,$A56)))),"") | G56: =IFERROR(VLOOKUP($F56,OFFSET(Géolocalisation!$A$1, MATCH($A56,Géolocalisation!$A:$A,0)-1,1, COUNTIF(Géolocalisation!$A:$A,$A56), MATCH(G$1,Géolocalisation!$A$1:$D$1,0)),2,0),"") | H56: =IFERROR(VLOOKUP($F56,OFFSET(Géolocalisation!$A$1, MATCH($A56,Géolocalisation!$A:$A,0)-1,1, COUNTIF(Géolocalisation!$A:$A,$A56), MATCH(H$1,Géolocalisation!$A$1:$D$1,0)),3,0),"")
A57: 46056 | B57: 0.53055556 | C57: #N/A | E57: Basse | F57: =IFERROR(MIN(IF(ABS(OFFSET(Géolocalisation!$A$1, MATCH($A57,Géolocalisation!$A:$A,0)-1,1, COUNTIF(Géolocalisation!$A:$A,$A57))-B57)= MIN(ABS(OFFSET(Géolocalisation!$A$1, MATCH($A57,Géolocalisation!$A:$A,0)-1,1, COUNTIF(Géolocalisation!$A:$A,$A57))-B57)), OFFSET(Géolocalisation!$A$1, MATCH($A57,Géolocalisation!$A:$A,0)-1,1, COUNTIF(Géolocalisation!$A:$A,$A57)))),"") | G57: =IFERROR(VLOOKUP($F57,OFFSET(Géolocalisation!$A$1, MATCH($A57,Géolocalisation!$A:$A,0)-1,1, COUNTIF(Géolocalisation!$A:$A,$A57), MATCH(G$1,Géolocalisation!$A$1:$D$1,0)),2,0),"") | H57: =IFERROR(VLOOKUP($F57,OFFSET(Géolocalisation!$A$1, MATCH($A57,Géolocalisation!$A:$A,0)-1,1, COUNTIF(Géolocalisation!$A:$A,$A57), MATCH(H$1,Géolocalisation!$A$1:$D$1,0)),3,0),"")
A58: 46057 | B58: 0.29652778 | C58: #N/A | D58: 99 | E58: Haute | F58: =IFERROR(MIN(IF(ABS(OFFSET(Géolocalisation!$A$1, MATCH($A58,Géolocalisation!$A:$A,0)-1,1, COUNTIF(Géolocalisation!$A:$A,$A58))-B58)= MIN(ABS(OFFSET(Géolocalisation!$A$1, MATCH($A58,Géolocalisation!$A:$A,0)-1,1, COUNTIF(Géolocalisation!$A:$A,$A58))-B58)), OFFSET(Géolocalisation!$A$1, MATCH($A58,Géolocalisation!$A:$A,0)-1,1, COUNTIF(Géolocalisation!$A:$A,$A58)))),"") | G58: =IFERROR(VLOOKUP($F58,OFFSET(Géolocalisation!$A$1, MATCH($A58,Géolocalisation!$A:$A,0)-1,1, COUNTIF(Géolocalisation!$A:$A,$A58), MATCH(G$1,Géolocalisation!$A$1:$D$1,0)),2,0),"") | H58: =IFERROR(VLOOKUP($F58,OFFSET(Géolocalisation!$A$1, MATCH($A58,Géolocalisation!$A:$A,0)-1,1, COUNTIF(Géolocalisation!$A:$A,$A58), MATCH(H$1,Géolocalisation!$A$1:$D$1,0)),3,0),"")
A59: 46057 | B59: 0.81041667 | C59: #N/A | D59: 97 | E59: Haute | F59: =IFERROR(MIN(IF(ABS(OFFSET(Géolocalisation!$A$1, MATCH($A59,Géolocalisation!$A:$A,0)-1,1, COUNTIF(Géolocalisation!$A:$A,$A59))-B59)= MIN(ABS(OFFSET(Géolocalisation!$A$1, MATCH($A59,Géolocalisation!$A:$A,0)-1,1, COUNTIF(Géolocalisation!$A:$A,$A59))-B59)), OFFSET(Géolocalisation!$A$1, MATCH($A59,Géolocalisation!$A:$A,0)-1,1, COUNTIF(Géolocalisation!$A:$A,$A59)))),"") | G59: =IFERROR(VLOOKUP($F59,OFFSET(Géolocalisation!$A$1, MATCH($A59,Géolocalisation!$A:$A,0)-1,1, COUNTIF(Géolocalisation!$A:$A,$A59), MATCH(G$1,Géolocalisation!$A$1:$D$1,0)),2,0),"") | H59: =IFERROR(VLOOKUP($F59,OFFSET(Géolocalisation!$A$1, MATCH($A59,Géolocalisation!$A:$A,0)-1,1, COUNTIF(Géolocalisation!$A:$A,$A59), MATCH(H$1,Géolocalisation!$A$1:$D$1,0)),3,0),"")
A60: 46057 | B60: 0.038888889 | C60: #N/A | E60: Basse | F60: =IFERROR(MIN(IF(ABS(OFFSET(Géolocalisation!$A$1, MATCH($A60,Géolocalisation!$A:$A,0)-1,1, COUNTIF(Géolocalisation!$A:$A,$A60))-B60)= MIN(ABS(OFFSET(Géolocalisation!$A$1, MATCH($A60,Géolocalisation!$A:$A,0)-1,1, COUNTIF(Géolocalisation!$A:$A,$A60))-B60)), OFFSET(Géolocalisation!$A$1, MATCH($A60,Géolocalisation!$A:$A,0)-1,1, COUNTIF(Géolocalisation!$A:$A,$A60)))),"") | G60: =IFERROR(VLOOKUP($F60,OFFSET(Géolocalisation!$A$1, MATCH($A60,Géolocalisation!$A:$A,0)-1,1, COUNTIF(Géolocalisation!$A:$A,$A60), MATCH(G$1,Géolocalisation!$A$1:$D$1,0)),2,0),"") | H60: =IFERROR(VLOOKUP($F60,OFFSET(Géolocalisation!$A$1, MATCH($A60,Géolocalisation!$A:$A,0)-1,1, COUNTIF(Géolocalisation!$A:$A,$A60), MATCH(H$1,Géolocalisation!$A$1:$D$1,0)),3,0),"")
A61: 46057 | B61: 0.55694444 | C61: #N/A | E61: Basse | F61: =IFERROR(MIN(IF(ABS(OFFSET(Géolocalisation!$A$1, MATCH($A61,Géolocalisation!$A:$A,0)-1,1, COUNTIF(Géolocalisation!$A:$A,$A61))-B61)= MIN(ABS(OFFSET(Géolocalisation!$A$1, MATCH($A61,Géolocalisation!$A:$A,0)-1,1, COUNTIF(Géolocalisation!$A:$A,$A61))-B61)), OFFSET(Géolocalisation!$A$1, MATCH($A61,Géolocalisation!$A:$A,0)-1,1, COUNTIF(Géolocalisation!$A:$A,$A61)))),"") | G61: =IFERROR(VLOOKUP($F61,OFFSET(Géolocalisation!$A$1, MATCH($A61,Géolocalisation!$A:$A,0)-1,1, COUNTIF(Géolocalisation!$A:$A,$A61), MATCH(G$1,Géolocalisation!$A$1:$D$1,0)),2,0),"") | H61: =IFERROR(VLOOKUP($F61,OFFSET(Géolocalisation!$A$1, MATCH($A61,Géolocalisation!$A:$A,0)-1,1, COUNTIF(Géolocalisation!$A:$A,$A61), MATCH(H$1,Géolocalisation!$A$1:$D$1,0)),3,0),"")
A62: 46058 | B62: 0.32152778 | C62: #N/A | D62: 94 | E62: Haute | F62: =IFERROR(MIN(IF(ABS(OFFSET(Géolocalisation!$A$1, MATCH($A62,Géolocalisation!$A:$A,0)-1,1, COUNTIF(Géolocalisation!$A:$A,$A62))-B62)= MIN(ABS(OFFSET(Géolocalisation!$A$1, MATCH($A62,Géolocalisation!$A:$A,0)-1,1, COUNTIF(Géolocalisation!$A:$A,$A62))-B62)), OFFSET(Géolocalisation!$A$1, MATCH($A62,Géolocalisation!$A:$A,0)-1,1, COUNTIF(Géolocalisation!$A:$A,$A62)))),"") | G62: =IFERROR(VLOOKUP($F62,OFFSET(Géolocalisation!$A$1, MATCH($A62,Géolocalisation!$A:$A,0)-1,1, COUNTIF(Géolocalisation!$A:$A,$A62), MATCH(G$1,Géolocalisation!$A$1:$D$1,0)),2,0),"") | H62: =IFERROR(VLOOKUP($F62,OFFSET(Géolocalisation!$A$1, MATCH($A62,Géolocalisation!$A:$A,0)-1,1, COUNTIF(Géolocalisation!$A:$A,$A62), MATCH(H$1,Géolocalisation!$A$1:$D$1,0)),3,0),"")
A63: 46058 | B63: 0.83402778 | C63: #N/A | D63: 90 | E63: Haute | F63: =IFERROR(MIN(IF(ABS(OFFSET(Géolocalisation!$A$1, MATCH($A63,Géolocalisation!$A:$A,0)-1,1, COUNTIF(Géolocalisation!$A:$A,$A63))-B63)= MIN(ABS(OFFSET(Géolocalisation!$A$1, MATCH($A63,Géolocalisation!$A:$A,0)-1,1, COUNTIF(Géolocalisation!$A:$A,$A63))-B63)), OFFSET(Géolocalisation!$A$1, MATCH($A63,Géolocalisation!$A:$A,0)-1,1, COUNTIF(Géolocalisation!$A:$A,$A63)))),"") | G63: =IFERROR(VLOOKUP($F63,OFFSET(Géolocalisation!$A$1, MATCH($A63,Géolocalisation!$A:$A,0)-1,1, COUNTIF(Géolocalisation!$A:$A,$A63), MATCH(G$1,Géolocalisation!$A$1:$D$1,0)),2,0),"") | H63: =IFERROR(VLOOKUP($F63,OFFSET(Géolocalisation!$A$1, MATCH($A63,Géolocalisation!$A:$A,0)-1,1, COUNTIF(Géolocalisation!$A:$A,$A63), MATCH(H$1,Géolocalisation!$A$1:$D$1,0)),3,0),"")
A64: 46058 | B64: 0.063194444 | C64: #N/A | E64: Basse | F64: =IFERROR(MIN(IF(ABS(OFFSET(Géolocalisation!$A$1, MATCH($A64,Géolocalisation!$A:$A,0)-1,1, COUNTIF(Géolocalisation!$A:$A,$A64))-B64)= MIN(ABS(OFFSET(Géolocalisation!$A$1, MATCH($A64,Géolocalisation!$A:$A,0)-1,1, COUNTIF(Géolocalisation!$A:$A,$A64))-B64)), OFFSET(Géolocalisation!$A$1, MATCH($A64,Géolocalisation!$A:$A,0)-1,1, COUNTIF(Géolocalisation!$A:$A,$A64)))),"") | G64: =IFERROR(VLOOKUP($F64,OFFSET(Géolocalisation!$A$1, MATCH($A64,Géolocalisation!$A:$A,0)-1,1, COUNTIF(Géolocalisation!$A:$A,$A64), MATCH(G$1,Géolocalisation!$A$1:$D$1,0)),2,0),"") | H64: =IFERROR(VLOOKUP($F64,OFFSET(Géolocalisation!$A$1, MATCH($A64,Géolocalisation!$A:$A,0)-1,1, COUNTIF(Géolocalisation!$A:$A,$A64), MATCH(H$1,Géolocalisation!$A$1:$D$1,0)),3,0),"")
A65: 46058 | B65: 0.57986111 | C65: #N/A | E65: Basse | F65: =IFERROR(MIN(IF(ABS(OFFSET(Géolocalisation!$A$1, MATCH($A65,Géolocalisation!$A:$A,0)-1,1, COUNTIF(Géolocalisation!$A:$A,$A65))-B65)= MIN(ABS(OFFSET(Géolocalisation!$A$1, MATCH($A65,Géolocalisation!$A:$A,0)-1,1, COUNTIF(Géolocalisation!$A:$A,$A65))-B65)), OFFSET(Géolocalisation!$A$1, MATCH($A65,Géolocalisation!$A:$A,0)-1,1, COUNTIF(Géolocalisation!$A:$A,$A65)))),"") | G65: =IFERROR(VLOOKUP($F65,OFFSET(Géolocalisation!$A$1, MATCH($A65,Géolocalisation!$A:$A,0)-1,1, COUNTIF(Géolocalisation!$A:$A,$A65), MATCH(G$1,Géolocalisation!$A$1:$D$1,0)),2,0),"") | H65: =IFERROR(VLOOKUP($F65,OFFSET(Géolocalisation!$A$1, MATCH($A65,Géolocalisation!$A:$A,0)-1,1, COUNTIF(Géolocalisation!$A:$A,$A65), MATCH(H$1,Géolocalisation!$A$1:$D$1,0)),3,0),"")
A66: 46059 | B66: 0.34444444 | C66: #N/A | D66: 84 | E66: Haute | F66: =IFERROR(MIN(IF(ABS(OFFSET(Géolocalisation!$A$1, MATCH($A66,Géolocalisation!$A:$A,0)-1,1, COUNTIF(Géolocalisation!$A:$A,$A66))-B66)= MIN(ABS(OFFSET(Géolocalisation!$A$1, MATCH($A66,Géolocalisation!$A:$A,0)-1,1, COUNTIF(Géolocalisation!$A:$A,$A66))-B66)), OFFSET(Géolocalisation!$A$1, MATCH($A66,Géolocalisation!$A:$A,0)-1,1, COUNTIF(Géolocalisation!$A:$A,$A66)))),"") | G66: =IFERROR(VLOOKUP($F66,OFFSET(Géolocalisation!$A$1, MATCH($A66,Géolocalisation!$A:$A,0)-1,1, COUNTIF(Géolocalisation!$A:$A,$A66), MATCH(G$1,Géolocalisation!$A$1:$D$1,0)),2,0),"") | H66: =IFERROR(VLOOKUP($F66,OFFSET(Géolocalisation!$A$1, MATCH($A66,Géolocalisation!$A:$A,0)-1,1, COUNTIF(Géolocalisation!$A:$A,$A66), MATCH(H$1,Géolocalisation!$A$1:$D$1,0)),3,0),"")
A67: 46059 | B67: 0.85486111 | C67: #N/A | D67: 79 | E67: Haute | F67: =IFERROR(MIN(IF(ABS(OFFSET(Géolocalisation!$A$1, MATCH($A67,Géolocalisation!$A:$A,0)-1,1, COUNTIF(Géolocalisation!$A:$A,$A67))-B67)= MIN(ABS(OFFSET(Géolocalisation!$A$1, MATCH($A67,Géolocalisation!$A:$A,0)-1,1, COUNTIF(Géolocalisation!$A:$A,$A67))-B67)), OFFSET(Géolocalisation!$A$1, MATCH($A67,Géolocalisation!$A:$A,0)-1,1, COUNTIF(Géolocalisation!$A:$A,$A67)))),"") | G67: =IFERROR(VLOOKUP($F67,OFFSET(Géolocalisation!$A$1, MATCH($A67,Géolocalisation!$A:$A,0)-1,1, COUNTIF(Géolocalisation!$A:$A,$A67), MATCH(G$1,Géolocalisation!$A$1:$D$1,0)),2,0),"") | H67: =IFERROR(VLOOKUP($F67,OFFSET(Géolocalisation!$A$1, MATCH($A67,Géolocalisation!$A:$A,0)-1,1, COUNTIF(Géolocalisation!$A:$A,$A67), MATCH(H$1,Géolocalisation!$A$1:$D$1,0)),3,0),"")
A68: 46059 | B68: 0.085416667 | C68: #N/A | E68: Basse | F68: =IFERROR(MIN(IF(ABS(OFFSET(Géolocalisation!$A$1, MATCH($A68,Géolocalisation!$A:$A,0)-1,1, COUNTIF(Géolocalisation!$A:$A,$A68))-B68)= MIN(ABS(OFFSET(Géolocalisation!$A$1, MATCH($A68,Géolocalisation!$A:$A,0)-1,1, COUNTIF(Géolocalisation!$A:$A,$A68))-B68)), OFFSET(Géolocalisation!$A$1, MATCH($A68,Géolocalisation!$A:$A,0)-1,1, COUNTIF(Géolocalisation!$A:$A,$A68)))),"") | G68: =IFERROR(VLOOKUP($F68,OFFSET(Géolocalisation!$A$1, MATCH($A68,Géolocalisation!$A:$A,0)-1,1, COUNTIF(Géolocalisation!$A:$A,$A68), MATCH(G$1,Géolocalisation!$A$1:$D$1,0)),2,0),"") | H68: =IFERROR(VLOOKUP($F68,OFFSET(Géolocalisation!$A$1, MATCH($A68,Géolocalisation!$A:$A,0)-1,1, COUNTIF(Géolocalisation!$A:$A,$A68), MATCH(H$1,Géolocalisation!$A$1:$D$1,0)),3,0),"")
A69: 46059 | B69: 0.60069444 | C69: #N/A | E69: Basse | F69: =IFERROR(MIN(IF(ABS(OFFSET(Géolocalisation!$A$1, MATCH($A69,Géolocalisation!$A:$A,0)-1,1, COUNTIF(Géolocalisation!$A:$A,$A69))-B69)= MIN(ABS(OFFSET(Géolocalisation!$A$1, MATCH($A69,Géolocalisation!$A:$A,0)-1,1, COUNTIF(Géolocalisation!$A:$A,$A69))-B69)), OFFSET(Géolocalisation!$A$1, MATCH($A69,Géolocalisation!$A:$A,0)-1,1, COUNTIF(Géolocalisation!$A:$A,$A69)))),"") | G69: =IFERROR(VLOOKUP($F69,OFFSET(Géolocalisation!$A$1, MATCH($A69,Géolocalisation!$A:$A,0)-1,1, COUNTIF(Géolocalisation!$A:$A,$A69), MATCH(G$1,Géolocalisation!$A$1:$D$1,0)),2,0),"") | H69: =IFERROR(VLOOKUP($F69,OFFSET(Géolocalisation!$A$1, MATCH($A69,Géolocalisation!$A:$A,0)-1,1, COUNTIF(Géolocalisation!$A:$A,$A69), MATCH(H$1,Géolocalisation!$A$1:$D$1,0)),3,0),"")
A70: 46060 | B70: 0.36597222 | C70: #N/A | D70: 73 | E70: Haute | F70: =IFERROR(MIN(IF(ABS(OFFSET(Géolocalisation!$A$1, MATCH($A70,Géolocalisation!$A:$A,0)-1,1, COUNTIF(Géolocalisation!$A:$A,$A70))-B70)= MIN(ABS(OFFSET(Géolocalisation!$A$1, MATCH($A70,Géolocalisation!$A:$A,0)-1,1, COUNTIF(Géolocalisation!$A:$A,$A70))-B70)), OFFSET(Géolocalisation!$A$1, MATCH($A70,Géolocalisation!$A:$A,0)-1,1, COUNTIF(Géolocalisation!$A:$A,$A70)))),"") | G70: =IFERROR(VLOOKUP($F70,OFFSET(Géolocalisation!$A$1, MATCH($A70,Géolocalisation!$A:$A,0)-1,1, COUNTIF(Géolocalisation!$A:$A,$A70), MATCH(G$1,Géolocalisation!$A$1:$D$1,0)),2,0),"") | H70: =IFERROR(VLOOKUP($F70,OFFSET(Géolocalisation!$A$1, MATCH($A70,Géolocalisation!$A:$A,0)-1,1, COUNTIF(Géolocalisation!$A:$A,$A70), MATCH(H$1,Géolocalisation!$A$1:$D$1,0)),3,0),"")
A71: 46060 | B71: 0.87708333 | C71: #N/A | D71: 66 | E71: Haute | F71: =IFERROR(MIN(IF(ABS(OFFSET(Géolocalisation!$A$1, MATCH($A71,Géolocalisation!$A:$A,0)-1,1, COUNTIF(Géolocalisation!$A:$A,$A71))-B71)= MIN(ABS(OFFSET(Géolocalisation!$A$1, MATCH($A71,Géolocalisation!$A:$A,0)-1,1, COUNTIF(Géolocalisation!$A:$A,$A71))-B71)), OFFSET(Géolocalisation!$A$1, MATCH($A71,Géolocalisation!$A:$A,0)-1,1, COUNTIF(Géolocalisation!$A:$A,$A71)))),"") | G71: =IFERROR(VLOOKUP($F71,OFFSET(Géolocalisation!$A$1, MATCH($A71,Géolocalisation!$A:$A,0)-1,1, COUNTIF(Géolocalisation!$A:$A,$A71), MATCH(G$1,Géolocalisation!$A$1:$D$1,0)),2,0),"") | H71: =IFERROR(VLOOKUP($F71,OFFSET(Géolocalisation!$A$1, MATCH($A71,Géolocalisation!$A:$A,0)-1,1, COUNTIF(Géolocalisation!$A:$A,$A71), MATCH(H$1,Géolocalisation!$A$1:$D$1,0)),3,0),"")
A72: 46060 | B72: 0.10694444 | C72: #N/A | E72: Basse | F72: =IFERROR(MIN(IF(ABS(OFFSET(Géolocalisation!$A$1, MATCH($A72,Géolocalisation!$A:$A,0)-1,1, COUNTIF(Géolocalisation!$A:$A,$A72))-B72)= MIN(ABS(OFFSET(Géolocalisation!$A$1, MATCH($A72,Géolocalisation!$A:$A,0)-1,1, COUNTIF(Géolocalisation!$A:$A,$A72))-B72)), OFFSET(Géolocalisation!$A$1, MATCH($A72,Géolocalisation!$A:$A,0)-1,1, COUNTIF(Géolocalisation!$A:$A,$A72)))),"") | G72: =IFERROR(VLOOKUP($F72,OFFSET(Géolocalisation!$A$1, MATCH($A72,Géolocalisation!$A:$A,0)-1,1, COUNTIF(Géolocalisation!$A:$A,$A72), MATCH(G$1,Géolocalisation!$A$1:$D$1,0)),2,0),"") | H72: =IFERROR(VLOOKUP($F72,OFFSET(Géolocalisation!$A$1, MATCH($A72,Géolocalisation!$A:$A,0)-1,1, COUNTIF(Géolocalisation!$A:$A,$A72), MATCH(H$1,Géolocalisation!$A$1:$D$1,0)),3,0),"")
A73: 46060 | B73: 0.62152778 | C73: #N/A | E73: Basse | F73: =IFERROR(MIN(IF(ABS(OFFSET(Géolocalisation!$A$1, MATCH($A73,Géolocalisation!$A:$A,0)-1,1, COUNTIF(Géolocalisation!$A:$A,$A73))-B73)= MIN(ABS(OFFSET(Géolocalisation!$A$1, MATCH($A73,Géolocalisation!$A:$A,0)-1,1, COUNTIF(Géolocalisation!$A:$A,$A73))-B73)), OFFSET(Géolocalisation!$A$1, MATCH($A73,Géolocalisation!$A:$A,0)-1,1, COUNTIF(Géolocalisation!$A:$A,$A73)))),"") | G73: =IFERROR(VLOOKUP($F73,OFFSET(Géolocalisation!$A$1, MATCH($A73,Géolocalisation!$A:$A,0)-1,1, COUNTIF(Géolocalisation!$A:$A,$A73), MATCH(G$1,Géolocalisation!$A$1:$D$1,0)),2,0),"") | H73: =IFERROR(VLOOKUP($F73,OFFSET(Géolocalisation!$A$1, MATCH($A73,Géolocalisation!$A:$A,0)-1,1, COUNTIF(Géolocalisation!$A:$A,$A73), MATCH(H$1,Géolocalisation!$A$1:$D$1,0)),3,0),"")
A74: 46061 | B74: 0.38888889 | C74: #N/A | D74: 59 | E74: Haute | F74: =IFERROR(MIN(IF(ABS(OFFSET(Géolocalisation!$A$1, MATCH($A74,Géolocalisation!$A:$A,0)-1,1, COUNTIF(Géolocalisation!$A:$A,$A74))-B74)= MIN(ABS(OFFSET(Géolocalisation!$A$1, MATCH($A74,Géolocalisation!$A:$A,0)-1,1, COUNTIF(Géolocalisation!$A:$A,$A74))-B74)), OFFSET(Géolocalisation!$A$1, MATCH($A74,Géolocalisation!$A:$A,0)-1,1, COUNTIF(Géolocalisation!$A:$A,$A74)))),"") | G74: =IFERROR(VLOOKUP($F74,OFFSET(Géolocalisation!$A$1, MATCH($A74,Géolocalisation!$A:$A,0)-1,1, COUNTIF(Géolocalisation!$A:$A,$A74), MATCH(G$1,Géolocalisation!$A$1:$D$1,0)),2,0),"") | H74: =IFERROR(VLOOKUP($F74,OFFSET(Géolocalisation!$A$1, MATCH($A74,Géolocalisation!$A:$A,0)-1,1, COUNTIF(Géolocalisation!$A:$A,$A74), MATCH(H$1,Géolocalisation!$A$1:$D$1,0)),3,0),"")
A75: 46061 | B75: 0.90347222 | C75: #N/A | D75: 52 | E75: Haute | F75: =IFERROR(MIN(IF(ABS(OFFSET(Géolocalisation!$A$1, MATCH($A75,Géolocalisation!$A:$A,0)-1,1, COUNTIF(Géolocalisation!$A:$A,$A75))-B75)= MIN(ABS(OFFSET(Géolocalisation!$A$1, MATCH($A75,Géolocalisation!$A:$A,0)-1,1, COUNTIF(Géolocalisation!$A:$A,$A75))-B75)), OFFSET(Géolocalisation!$A$1, MATCH($A75,Géolocalisation!$A:$A,0)-1,1, COUNTIF(Géolocalisation!$A:$A,$A75)))),"") | G75: =IFERROR(VLOOKUP($F75,OFFSET(Géolocalisation!$A$1, MATCH($A75,Géolocalisation!$A:$A,0)-1,1, COUNTIF(Géolocalisation!$A:$A,$A75), MATCH(G$1,Géolocalisation!$A$1:$D$1,0)),2,0),"") | H75: =IFERROR(VLOOKUP($F75,OFFSET(Géolocalisation!$A$1, MATCH($A75,Géolocalisation!$A:$A,0)-1,1, COUNTIF(Géolocalisation!$A:$A,$A75), MATCH(H$1,Géolocalisation!$A$1:$D$1,0)),3,0),"")
A76: 46061 | B76: 0.12916667 | C76: #N/A | E76: Basse | F76: =IFERROR(MIN(IF(ABS(OFFSET(Géolocalisation!$A$1, MATCH($A76,Géolocalisation!$A:$A,0)-1,1, COUNTIF(Géolocalisation!$A:$A,$A76))-B76)= MIN(ABS(OFFSET(Géolocalisation!$A$1, MATCH($A76,Géolocalisation!$A:$A,0)-1,1, COUNTIF(Géolocalisation!$A:$A,$A76))-B76)), OFFSET(Géolocalisation!$A$1, MATCH($A76,Géolocalisation!$A:$A,0)-1,1, COUNTIF(Géolocalisation!$A:$A,$A76)))),"") | G76: =IFERROR(VLOOKUP($F76,OFFSET(Géolocalisation!$A$1, MATCH($A76,Géolocalisation!$A:$A,0)-1,1, COUNTIF(Géolocalisation!$A:$A,$A76), MATCH(G$1,Géolocalisation!$A$1:$D$1,0)),2,0),"") | H76: =IFERROR(VLOOKUP($F76,OFFSET(Géolocalisation!$A$1, MATCH($A76,Géolocalisation!$A:$A,0)-1,1, COUNTIF(Géolocalisation!$A:$A,$A76), MATCH(H$1,Géolocalisation!$A$1:$D$1,0)),3,0),"")
A77: 46061 | B77: 0.64305556 | C77: #N/A | E77: Basse | F77: =IFERROR(MIN(IF(ABS(OFFSET(Géolocalisation!$A$1, MATCH($A77,Géolocalisation!$A:$A,0)-1,1, COUNTIF(Géolocalisation!$A:$A,$A77))-B77)= MIN(ABS(OFFSET(Géolocalisation!$A$1, MATCH($A77,Géolocalisation!$A:$A,0)-1,1, COUNTIF(Géolocalisation!$A:$A,$A77))-B77)), OFFSET(Géolocalisation!$A$1, MATCH($A77,Géolocalisation!$A:$A,0)-1,1, COUNTIF(Géolocalisation!$A:$A,$A77)))),"") | G77: =IFERROR(VLOOKUP($F77,OFFSET(Géolocalisation!$A$1, MATCH($A77,Géolocalisation!$A:$A,0)-1,1, COUNTIF(Géolocalisation!$A:$A,$A77), MATCH(G$1,Géolocalisation!$A$1:$D$1,0)),2,0),"") | H77: =IFERROR(VLOOKUP($F77,OFFSET(Géolocalisation!$A$1, MATCH($A77,Géolocalisation!$A:$A,0)-1,1, COUNTIF(Géolocalisation!$A:$A,$A77), MATCH(H$1,Géolocalisation!$A$1:$D$1,0)),3,0),"")
A78: 46062 | B78: 0.41805556 | C78: #N/A | D78: 46 | E78: Haute | F78: =IFERROR(MIN(IF(ABS(OFFSET(Géolocalisation!$A$1, MATCH($A78,Géolocalisation!$A:$A,0)-1,1, COUNTIF(Géolocalisation!$A:$A,$A78))-B78)= MIN(ABS(OFFSET(Géolocalisation!$A$1, MATCH($A78,Géolocalisation!$A:$A,0)-1,1, COUNTIF(Géolocalisation!$A:$A,$A78))-B78)), OFFSET(Géolocalisation!$A$1, MATCH($A78,Géolocalisation!$A:$A,0)-1,1, COUNTIF(Géolocalisation!$A:$A,$A78)))),"") | G78: =IFERROR(VLOOKUP($F78,OFFSET(Géolocalisation!$A$1, MATCH($A78,Géolocalisation!$A:$A,0)-1,1, COUNTIF(Géolocalisation!$A:$A,$A78), MATCH(G$1,Géolocalisation!$A$1:$D$1,0)),2,0),"") | H78: =IFERROR(VLOOKUP($F78,OFFSET(Géolocalisation!$A$1, MATCH($A78,Géolocalisation!$A:$A,0)-1,1, COUNTIF(Géolocalisation!$A:$A,$A78), MATCH(H$1,Géolocalisation!$A$1:$D$1,0)),3,0),"")
A79: 46062 | B79: 0.94027778 | C79: #N/A | D79: 39 | E79: Haute | F79: =IFERROR(MIN(IF(ABS(OFFSET(Géolocalisation!$A$1, MATCH($A79,Géolocalisation!$A:$A,0)-1,1, COUNTIF(Géolocalisation!$A:$A,$A79))-B79)= MIN(ABS(OFFSET(Géolocalisation!$A$1, MATCH($A79,Géolocalisation!$A:$A,0)-1,1, COUNTIF(Géolocalisation!$A:$A,$A79))-B79)), OFFSET(Géolocalisation!$A$1, MATCH($A79,Géolocalisation!$A:$A,0)-1,1, COUNTIF(Géolocalisation!$A:$A,$A79)))),"") | G79: =IFERROR(VLOOKUP($F79,OFFSET(Géolocalisation!$A$1, MATCH($A79,Géolocalisation!$A:$A,0)-1,1, COUNTIF(Géolocalisation!$A:$A,$A79), MATCH(G$1,Géolocalisation!$A$1:$D$1,0)),2,0),"") | H79: =IFERROR(VLOOKUP($F79,OFFSET(Géolocalisation!$A$1, MATCH($A79,Géolocalisation!$A:$A,0)-1,1, COUNTIF(Géolocalisation!$A:$A,$A79), MATCH(H$1,Géolocalisation!$A$1:$D$1,0)),3,0),"")
A80: 46062 | B80: 0.15277778 | C80: #N/A | E80: Basse | F80: =IFERROR(MIN(IF(ABS(OFFSET(Géolocalisation!$A$1, MATCH($A80,Géolocalisation!$A:$A,0)-1,1, COUNTIF(Géolocalisation!$A:$A,$A80))-B80)= MIN(ABS(OFFSET(Géolocalisation!$A$1, MATCH($A80,Géolocalisation!$A:$A,0)-1,1, COUNTIF(Géolocalisation!$A:$A,$A80))-B80)), OFFSET(Géolocalisation!$A$1, MATCH($A80,Géolocalisation!$A:$A,0)-1,1, COUNTIF(Géolocalisation!$A:$A,$A80)))),"") | G80: =IFERROR(VLOOKUP($F80,OFFSET(Géolocalisation!$A$1, MATCH($A80,Géolocalisation!$A:$A,0)-1,1, COUNTIF(Géolocalisation!$A:$A,$A80), MATCH(G$1,Géolocalisation!$A$1:$D$1,0)),2,0),"") | H80: =IFERROR(VLOOKUP($F80,OFFSET(Géolocalisation!$A$1, MATCH($A80,Géolocalisation!$A:$A,0)-1,1, COUNTIF(Géolocalisation!$A:$A,$A80), MATCH(H$1,Géolocalisation!$A$1:$D$1,0)),3,0),"")
A81: 46062 | B81: 0.66736111 | C81: #N/A | E81: Basse | F81: =IFERROR(MIN(IF(ABS(OFFSET(Géolocalisation!$A$1, MATCH($A81,Géolocalisation!$A:$A,0)-1,1, COUNTIF(Géolocalisation!$A:$A,$A81))-B81)= MIN(ABS(OFFSET(Géolocalisation!$A$1, MATCH($A81,Géolocalisation!$A:$A,0)-1,1, COUNTIF(Géolocalisation!$A:$A,$A81))-B81)), OFFSET(Géolocalisation!$A$1, MATCH($A81,Géolocalisation!$A:$A,0)-1,1, COUNTIF(Géolocalisation!$A:$A,$A81)))),"") | G81: =IFERROR(VLOOKUP($F81,OFFSET(Géolocalisation!$A$1, MATCH($A81,Géolocalisation!$A:$A,0)-1,1, COUNTIF(Géolocalisation!$A:$A,$A81), MATCH(G$1,Géolocalisation!$A$1:$D$1,0)),2,0),"") | H81: =IFERROR(VLOOKUP($F81,OFFSET(Géolocalisation!$A$1, MATCH($A81,Géolocalisation!$A:$A,0)-1,1, COUNTIF(Géolocalisation!$A:$A,$A81), MATCH(H$1,Géolocalisation!$A$1:$D$1,0)),3,0),"")
A82: 46063 | B82: 0.46319444 | C82: #N/A | D82: 33 | E82: Haute | F82: =IFERROR(MIN(IF(ABS(OFFSET(Géolocalisation!$A$1, MATCH($A82,Géolocalisation!$A:$A,0)-1,1, COUNTIF(Géolocalisation!$A:$A,$A82))-B82)= MIN(ABS(OFFSET(Géolocalisation!$A$1, MATCH($A82,Géolocalisation!$A:$A,0)-1,1, COUNTIF(Géolocalisation!$A:$A,$A82))-B82)), OFFSET(Géolocalisation!$A$1, MATCH($A82,Géolocalisation!$A:$A,0)-1,1, COUNTIF(Géolocalisation!$A:$A,$A82)))),"") | G82: =IFERROR(VLOOKUP($F82,OFFSET(Géolocalisation!$A$1, MATCH($A82,Géolocalisation!$A:$A,0)-1,1, COUNTIF(Géolocalisation!$A:$A,$A82), MATCH(G$1,Géolocalisation!$A$1:$D$1,0)),2,0),"") | H82: =IFERROR(VLOOKUP($F82,OFFSET(Géolocalisation!$A$1, MATCH($A82,Géolocalisation!$A:$A,0)-1,1, COUNTIF(Géolocalisation!$A:$A,$A82), MATCH(H$1,Géolocalisation!$A$1:$D$1,0)),3,0),"")
A83: 46063 | B83: 0.99166667 | C83: #N/A | D83: 28 | E83: Haute | F83: =IFERROR(MIN(IF(ABS(OFFSET(Géolocalisation!$A$1, MATCH($A83,Géolocalisation!$A:$A,0)-1,1, COUNTIF(Géolocalisation!$A:$A,$A83))-B83)= MIN(ABS(OFFSET(Géolocalisation!$A$1, MATCH($A83,Géolocalisation!$A:$A,0)-1,1, COUNTIF(Géolocalisation!$A:$A,$A83))-B83)), OFFSET(Géolocalisation!$A$1, MATCH($A83,Géolocalisation!$A:$A,0)-1,1, COUNTIF(Géolocalisation!$A:$A,$A83)))),"") | G83: =IFERROR(VLOOKUP($F83,OFFSET(Géolocalisation!$A$1, MATCH($A83,Géolocalisation!$A:$A,0)-1,1, COUNTIF(Géolocalisation!$A:$A,$A83), MATCH(G$1,Géolocalisation!$A$1:$D$1,0)),2,0),"") | H83: =IFERROR(VLOOKUP($F83,OFFSET(Géolocalisation!$A$1, MATCH($A83,Géolocalisation!$A:$A,0)-1,1, COUNTIF(Géolocalisation!$A:$A,$A83), MATCH(H$1,Géolocalisation!$A$1:$D$1,0)),3,0),"")
A84: 46063 | B84: 0.18194444 | C84: #N/A | E84: Basse | F84: =IFERROR(MIN(IF(ABS(OFFSET(Géolocalisation!$A$1, MATCH($A84,Géolocalisation!$A:$A,0)-1,1, COUNTIF(Géolocalisation!$A:$A,$A84))-B84)= MIN(ABS(OFFSET(Géolocalisation!$A$1, MATCH($A84,Géolocalisation!$A:$A,0)-1,1, COUNTIF(Géolocalisation!$A:$A,$A84))-B84)), OFFSET(Géolocalisation!$A$1, MATCH($A84,Géolocalisation!$A:$A,0)-1,1, COUNTIF(Géolocalisation!$A:$A,$A84)))),"") | G84: =IFERROR(VLOOKUP($F84,OFFSET(Géolocalisation!$A$1, MATCH($A84,Géolocalisation!$A:$A,0)-1,1, COUNTIF(Géolocalisation!$A:$A,$A84), MATCH(G$1,Géolocalisation!$A$1:$D$1,0)),2,0),"") | H84: =IFERROR(VLOOKUP($F84,OFFSET(Géolocalisation!$A$1, MATCH($A84,Géolocalisation!$A:$A,0)-1,1, COUNTIF(Géolocalisation!$A:$A,$A84), MATCH(H$1,Géolocalisation!$A$1:$D$1,0)),3,0),"")
A85: 46063 | B85: 0.70277778 | C85: #N/A | E85: Basse | F85: =IFERROR(MIN(IF(ABS(OFFSET(Géolocalisation!$A$1, MATCH($A85,Géolocalisation!$A:$A,0)-1,1, COUNTIF(Géolocalisation!$A:$A,$A85))-B85)= MIN(ABS(OFFSET(Géolocalisation!$A$1, MATCH($A85,Géolocalisation!$A:$A,0)-1,1, COUNTIF(Géolocalisation!$A:$A,$A85))-B85)), OFFSET(Géolocalisation!$A$1, MATCH($A85,Géolocalisation!$A:$A,0)-1,1, COUNTIF(Géolocalisation!$A:$A,$A85)))),"") | G85: =IFERROR(VLOOKUP($F85,OFFSET(Géolocalisation!$A$1, MATCH($A85,Géolocalisation!$A:$A,0)-1,1, COUNTIF(Géolocalisation!$A:$A,$A85), MATCH(G$1,Géolocalisation!$A$1:$D$1,0)),2,0),"") | H85: =IFERROR(VLOOKUP($F85,OFFSET(Géolocalisation!$A$1, MATCH($A85,Géolocalisation!$A:$A,0)-1,1, COUNTIF(Géolocalisation!$A:$A,$A85), MATCH(H$1,Géolocalisation!$A$1:$D$1,0)),3,0),"")
A86: 46064 | B86: 0.52013889 | C86: #N/A | D86: 25 | E86: Haute | F86: =IFERROR(MIN(IF(ABS(OFFSET(Géolocalisation!$A$1, MATCH($A86,Géolocalisation!$A:$A,0)-1,1, COUNTIF(Géolocalisation!$A:$A,$A86))-B86)= MIN(ABS(OFFSET(Géolocalisation!$A$1, MATCH($A86,Géolocalisation!$A:$A,0)-1,1, COUNTIF(Géolocalisation!$A:$A,$A86))-B86)), OFFSET(Géolocalisation!$A$1, MATCH($A86,Géolocalisation!$A:$A,0)-1,1, COUNTIF(Géolocalisation!$A:$A,$A86)))),"") | G86: =IFERROR(VLOOKUP($F86,OFFSET(Géolocalisation!$A$1, MATCH($A86,Géolocalisation!$A:$A,0)-1,1, COUNTIF(Géolocalisation!$A:$A,$A86), MATCH(G$1,Géolocalisation!$A$1:$D$1,0)),2,0),"") | H86: =IFERROR(VLOOKUP($F86,OFFSET(Géolocalisation!$A$1, MATCH($A86,Géolocalisation!$A:$A,0)-1,1, COUNTIF(Géolocalisation!$A:$A,$A86), MATCH(H$1,Géolocalisation!$A$1:$D$1,0)),3,0),"")
A87: 46064 | B87: –:– | C87: #N/A | D87: - | E87: Haute | F87: =IFERROR(MIN(IF(ABS(OFFSET(Géolocalisation!$A$1, MATCH($A87,Géolocalisation!$A:$A,0)-1,1, COUNTIF(Géolocalisation!$A:$A,$A87))-B87)= MIN(ABS(OFFSET(Géolocalisation!$A$1, MATCH($A87,Géolocalisation!$A:$A,0)-1,1, COUNTIF(Géolocalisation!$A:$A,$A87))-B87)), OFFSET(Géolocalisation!$A$1, MATCH($A87,Géolocalisation!$A:$A,0)-1,1, COUNTIF(Géolocalisation!$A:$A,$A87)))),"") | G87: =IFERROR(VLOOKUP($F87,OFFSET(Géolocalisation!$A$1, MATCH($A87,Géolocalisation!$A:$A,0)-1,1, COUNTIF(Géolocalisation!$A:$A,$A87), MATCH(G$1,Géolocalisation!$A$1:$D$1,0)),2,0),"") | H87: =IFERROR(VLOOKUP($F87,OFFSET(Géolocalisation!$A$1, MATCH($A87,Géolocalisation!$A:$A,0)-1,1, COUNTIF(Géolocalisation!$A:$A,$A87), MATCH(H$1,Géolocalisation!$A$1:$D$1,0)),3,0),"")
A88: 46064 | B88: 0.23333333 | C88: #N/A | E88: Basse | F88: =IFERROR(MIN(IF(ABS(OFFSET(Géolocalisation!$A$1, MATCH($A88,Géolocalisation!$A:$A,0)-1,1, COUNTIF(Géolocalisation!$A:$A,$A88))-B88)= MIN(ABS(OFFSET(Géolocalisation!$A$1, MATCH($A88,Géolocalisation!$A:$A,0)-1,1, COUNTIF(Géolocalisation!$A:$A,$A88))-B88)), OFFSET(Géolocalisation!$A$1, MATCH($A88,Géolocalisation!$A:$A,0)-1,1, COUNTIF(Géolocalisation!$A:$A,$A88)))),"") | G88: =IFERROR(VLOOKUP($F88,OFFSET(Géolocalisation!$A$1, MATCH($A88,Géolocalisation!$A:$A,0)-1,1, COUNTIF(Géolocalisation!$A:$A,$A88), MATCH(G$1,Géolocalisation!$A$1:$D$1,0)),2,0),"") | H88: =IFERROR(VLOOKUP($F88,OFFSET(Géolocalisation!$A$1, MATCH($A88,Géolocalisation!$A:$A,0)-1,1, COUNTIF(Géolocalisation!$A:$A,$A88), MATCH(H$1,Géolocalisation!$A$1:$D$1,0)),3,0),"")
A89: 46064 | B89: 0.77569444 | C89: #N/A | E89: Basse | F89: =IFERROR(MIN(IF(ABS(OFFSET(Géolocalisation!$A$1, MATCH($A89,Géolocalisation!$A:$A,0)-1,1, COUNTIF(Géolocalisation!$A:$A,$A89))-B89)= MIN(ABS(OFFSET(Géolocalisation!$A$1, MATCH($A89,Géolocalisation!$A:$A,0)-1,1, COUNTIF(Géolocalisation!$A:$A,$A89))-B89)), OFFSET(Géolocalisation!$A$1, MATCH($A89,Géolocalisation!$A:$A,0)-1,1, COUNTIF(Géolocalisation!$A:$A,$A89)))),"") | G89: =IFERROR(VLOOKUP($F89,OFFSET(Géolocalisation!$A$1, MATCH($A89,Géolocalisation!$A:$A,0)-1,1, COUNTIF(Géolocalisation!$A:$A,$A89), MATCH(G$1,Géolocalisation!$A$1:$D$1,0)),2,0),"") | H89: =IFERROR(VLOOKUP($F89,OFFSET(Géolocalisation!$A$1, MATCH($A89,Géolocalisation!$A:$A,0)-1,1, COUNTIF(Géolocalisation!$A:$A,$A89), MATCH(H$1,Géolocalisation!$A$1:$D$1,0)),3,0),"")
A90: 46065 | B90: 0.05 | C90: #N/A | D90: 25 | E90: Haute | F90: =IFERROR(MIN(IF(ABS(OFFSET(Géolocalisation!$A$1, MATCH($A90,Géolocalisation!$A:$A,0)-1,1, COUNTIF(Géolocalisation!$A:$A,$A90))-B90)= MIN(ABS(OFFSET(Géolocalisation!$A$1, MATCH($A90,Géolocalisation!$A:$A,0)-1,1, COUNTIF(Géolocalisation!$A:$A,$A90))-B90)), OFFSET(Géolocalisation!$A$1, MATCH($A90,Géolocalisation!$A:$A,0)-1,1, COUNTIF(Géolocalisation!$A:$A,$A90)))),"") | G90: =IFERROR(VLOOKUP($F90,OFFSET(Géolocalisation!$A$1, MATCH($A90,Géolocalisation!$A:$A,0)-1,1, COUNTIF(Géolocalisation!$A:$A,$A90), MATCH(G$1,Géolocalisation!$A$1:$D$1,0)),2,0),"") | H90: =IFERROR(VLOOKUP($F90,OFFSET(Géolocalisation!$A$1, MATCH($A90,Géolocalisation!$A:$A,0)-1,1, COUNTIF(Géolocalisation!$A:$A,$A90), MATCH(H$1,Géolocalisation!$A$1:$D$1,0)),3,0),"")
A91: 46065 | B91: 0.58611111 | C91: #N/A | D91: 28 | E91: Haute | F91: =IFERROR(MIN(IF(ABS(OFFSET(Géolocalisation!$A$1, MATCH($A91,Géolocalisation!$A:$A,0)-1,1, COUNTIF(Géolocalisation!$A:$A,$A91))-B91)= MIN(ABS(OFFSET(Géolocalisation!$A$1, MATCH($A91,Géolocalisation!$A:$A,0)-1,1, COUNTIF(Géolocalisation!$A:$A,$A91))-B91)), OFFSET(Géolocalisation!$A$1, MATCH($A91,Géolocalisation!$A:$A,0)-1,1, COUNTIF(Géolocalisation!$A:$A,$A91)))),"") | G91: =IFERROR(VLOOKUP($F91,OFFSET(Géolocalisation!$A$1, MATCH($A91,Géolocalisation!$A:$A,0)-1,1, COUNTIF(Géolocalisation!$A:$A,$A91), MATCH(G$1,Géolocalisation!$A$1:$D$1,0)),2,0),"") | H91: =IFERROR(VLOOKUP($F91,OFFSET(Géolocalisation!$A$1, MATCH($A91,Géolocalisation!$A:$A,0)-1,1, COUNTIF(Géolocalisation!$A:$A,$A91), MATCH(H$1,Géolocalisation!$A$1:$D$1,0)),3,0),"")
A92: 46065 | B92: 0.30972222 | C92: #N/A | E92: Basse | F92: =IFERROR(MIN(IF(ABS(OFFSET(Géolocalisation!$A$1, MATCH($A92,Géolocalisation!$A:$A,0)-1,1, COUNTIF(Géolocalisation!$A:$A,$A92))-B92)= MIN(ABS(OFFSET(Géolocalisation!$A$1, MATCH($A92,Géolocalisation!$A:$A,0)-1,1, COUNTIF(Géolocalisation!$A:$A,$A92))-B92)), OFFSET(Géolocalisation!$A$1, MATCH($A92,Géolocalisation!$A:$A,0)-1,1, COUNTIF(Géolocalisation!$A:$A,$A92)))),"") | G92: =IFERROR(VLOOKUP($F92,OFFSET(Géolocalisation!$A$1, MATCH($A92,Géolocalisation!$A:$A,0)-1,1, COUNTIF(Géolocalisation!$A:$A,$A92), MATCH(G$1,Géolocalisation!$A$1:$D$1,0)),2,0),"") | H92: =IFERROR(VLOOKUP($F92,OFFSET(Géolocalisation!$A$1, MATCH($A92,Géolocalisation!$A:$A,0)-1,1, COUNTIF(Géolocalisation!$A:$A,$A92), MATCH(H$1,Géolocalisation!$A$1:$D$1,0)),3,0),"")
A93: 46065 | B93: 0.83611111 | C93: #N/A | E93: Basse | F93: =IFERROR(MIN(IF(ABS(OFFSET(Géolocalisation!$A$1, MATCH($A93,Géolocalisation!$A:$A,0)-1,1, COUNTIF(Géolocalisation!$A:$A,$A93))-B93)= MIN(ABS(OFFSET(Géolocalisation!$A$1, MATCH($A93,Géolocalisation!$A:$A,0)-1,1, COUNTIF(Géolocalisation!$A:$A,$A93))-B93)), OFFSET(Géolocalisation!$A$1, MATCH($A93,Géolocalisation!$A:$A,0)-1,1, COUNTIF(Géolocalisation!$A:$A,$A93)))),"") | G93: =IFERROR(VLOOKUP($F93,OFFSET(Géolocalisation!$A$1, MATCH($A93,Géolocalisation!$A:$A,0)-1,1, COUNTIF(Géolocalisation!$A:$A,$A93), MATCH(G$1,Géolocalisation!$A$1:$D$1,0)),2,0),"") | H93: =IFERROR(VLOOKUP($F93,OFFSET(Géolocalisation!$A$1, MATCH($A93,Géolocalisation!$A:$A,0)-1,1, COUNTIF(Géolocalisation!$A:$A,$A93), MATCH(H$1,Géolocalisation!$A$1:$D$1,0)),3,0),"")
A94: 46066 | B94: 0.10694444 | C94: #N/A | D94: 33 | E94: Haute | F94: =IFERROR(MIN(IF(ABS(OFFSET(Géolocalisation!$A$1, MATCH($A94,Géolocalisation!$A:$A,0)-1,1, COUNTIF(Géolocalisation!$A:$A,$A94))-B94)= MIN(ABS(OFFSET(Géolocalisation!$A$1, MATCH($A94,Géolocalisation!$A:$A,0)-1,1, COUNTIF(Géolocalisation!$A:$A,$A94))-B94)), OFFSET(Géolocalisation!$A$1, MATCH($A94,Géolocalisation!$A:$A,0)-1,1, COUNTIF(Géolocalisation!$A:$A,$A94)))),"") | G94: =IFERROR(VLOOKUP($F94,OFFSET(Géolocalisation!$A$1, MATCH($A94,Géolocalisation!$A:$A,0)-1,1, COUNTIF(Géolocalisation!$A:$A,$A94), MATCH(G$1,Géolocalisation!$A$1:$D$1,0)),2,0),"") | H94: =IFERROR(VLOOKUP($F94,OFFSET(Géolocalisation!$A$1, MATCH($A94,Géolocalisation!$A:$A,0)-1,1, COUNTIF(Géolocalisation!$A:$A,$A94), MATCH(H$1,Géolocalisation!$A$1:$D$1,0)),3,0),"")
A95: 46066 | B95: 0.63402778 | C95: #N/A | D95: 39 | E95: Haute | F95: =IFERROR(MIN(IF(ABS(OFFSET(Géolocalisation!$A$1, MATCH($A95,Géolocalisation!$A:$A,0)-1,1, COUNTIF(Géolocalisation!$A:$A,$A95))-B95)= MIN(ABS(OFFSET(Géolocalisation!$A$1, MATCH($A95,Géolocalisation!$A:$A,0)-1,1, COUNTIF(Géolocalisation!$A:$A,$A95))-B95)), OFFSET(Géolocalisation!$A$1, MATCH($A95,Géolocalisation!$A:$A,0)-1,1, COUNTIF(Géolocalisation!$A:$A,$A95)))),"") | G95: =IFERROR(VLOOKUP($F95,OFFSET(Géolocalisation!$A$1, MATCH($A95,Géolocalisation!$A:$A,0)-1,1, COUNTIF(Géolocalisation!$A:$A,$A95), MATCH(G$1,Géolocalisation!$A$1:$D$1,0)),2,0),"") | H95: =IFERROR(VLOOKUP($F95,OFFSET(Géolocalisation!$A$1, MATCH($A95,Géolocalisation!$A:$A,0)-1,1, COUNTIF(Géolocalisation!$A:$A,$A95), MATCH(H$1,Géolocalisation!$A$1:$D$1,0)),3,0),"")
A96: 46066 | B96: 0.35833333 | C96: #N/A | E96: Basse | F96: =IFERROR(MIN(IF(ABS(OFFSET(Géolocalisation!$A$1, MATCH($A96,Géolocalisation!$A:$A,0)-1,1, COUNTIF(Géolocalisation!$A:$A,$A96))-B96)= MIN(ABS(OFFSET(Géolocalisation!$A$1, MATCH($A96,Géolocalisation!$A:$A,0)-1,1, COUNTIF(Géolocalisation!$A:$A,$A96))-B96)), OFFSET(Géolocalisation!$A$1, MATCH($A96,Géolocalisation!$A:$A,0)-1,1, COUNTIF(Géolocalisation!$A:$A,$A96)))),"") | G96: =IFERROR(VLOOKUP($F96,OFFSET(Géolocalisation!$A$1, MATCH($A96,Géolocalisation!$A:$A,0)-1,1, COUNTIF(Géolocalisation!$A:$A,$A96), MATCH(G$1,Géolocalisation!$A$1:$D$1,0)),2,0),"") | H96: =IFERROR(VLOOKUP($F96,OFFSET(Géolocalisation!$A$1, MATCH($A96,Géolocalisation!$A:$A,0)-1,1, COUNTIF(Géolocalisation!$A:$A,$A96), MATCH(H$1,Géolocalisation!$A$1:$D$1,0)),3,0),"")
A97: 46066 | B97: 0.87569444 | C97: #N/A | E97: Basse | F97: =IFERROR(MIN(IF(ABS(OFFSET(Géolocalisation!$A$1, MATCH($A97,Géolocalisation!$A:$A,0)-1,1, COUNTIF(Géolocalisation!$A:$A,$A97))-B97)= MIN(ABS(OFFSET(Géolocalisation!$A$1, MATCH($A97,Géolocalisation!$A:$A,0)-1,1, COUNTIF(Géolocalisation!$A:$A,$A97))-B97)), OFFSET(Géolocalisation!$A$1, MATCH($A97,Géolocalisation!$A:$A,0)-1,1, COUNTIF(Géolocalisation!$A:$A,$A97)))),"") | G97: =IFERROR(VLOOKUP($F97,OFFSET(Géolocalisation!$A$1, MATCH($A97,Géolocalisation!$A:$A,0)-1,1, COUNTIF(Géolocalisation!$A:$A,$A97), MATCH(G$1,Géolocalisation!$A$1:$D$1,0)),2,0),"") | H97: =IFERROR(VLOOKUP($F97,OFFSET(Géolocalisation!$A$1, MATCH($A97,Géolocalisation!$A:$A,0)-1,1, COUNTIF(Géolocalisation!$A:$A,$A97), MATCH(H$1,Géolocalisation!$A$1:$D$1,0)),3,0),"")
A98: 46067 | B98: 0.14513889 | C98: #N/A | D98: 45 | E98: Haute | F98: =IFERROR(MIN(IF(ABS(OFFSET(Géolocalisation!$A$1, MATCH($A98,Géolocalisation!$A:$A,0)-1,1, COUNTIF(Géolocalisation!$A:$A,$A98))-B98)= MIN(ABS(OFFSET(Géolocalisation!$A$1, MATCH($A98,Géolocalisation!$A:$A,0)-1,1, COUNTIF(Géolocalisation!$A:$A,$A98))-B98)), OFFSET(Géolocalisation!$A$1, MATCH($A98,Géolocalisation!$A:$A,0)-1,1, COUNTIF(Géolocalisation!$A:$A,$A98)))),"") | G98: =IFERROR(VLOOKUP($F98,OFFSET(Géolocalisation!$A$1, MATCH($A98,Géolocalisation!$A:$A,0)-1,1, COUNTIF(Géolocalisation!$A:$A,$A98), MATCH(G$1,Géolocalisation!$A$1:$D$1,0)),2,0),"") | H98: =IFERROR(VLOOKUP($F98,OFFSET(Géolocalisation!$A$1, MATCH($A98,Géolocalisation!$A:$A,0)-1,1, COUNTIF(Géolocalisation!$A:$A,$A98), MATCH(H$1,Géolocalisation!$A$1:$D$1,0)),3,0),"")
A99: 46067 | B99: 0.66597222 | C99: #N/A | D99: 52 | E99: Haute | F99: =IFERROR(MIN(IF(ABS(OFFSET(Géolocalisation!$A$1, MATCH($A99,Géolocalisation!$A:$A,0)-1,1, COUNTIF(Géolocalisation!$A:$A,$A99))-B99)= MIN(ABS(OFFSET(Géolocalisation!$A$1, MATCH($A99,Géolocalisation!$A:$A,0)-1,1, COUNTIF(Géolocalisation!$A:$A,$A99))-B99)), OFFSET(Géolocalisation!$A$1, MATCH($A99,Géolocalisation!$A:$A,0)-1,1, COUNTIF(Géolocalisation!$A:$A,$A99)))),"") | G99: =IFERROR(VLOOKUP($F99,OFFSET(Géolocalisation!$A$1, MATCH($A99,Géolocalisation!$A:$A,0)-1,1, COUNTIF(Géolocalisation!$A:$A,$A99), MATCH(G$1,Géolocalisation!$A$1:$D$1,0)),2,0),"") | H99: =IFERROR(VLOOKUP($F99,OFFSET(Géolocalisation!$A$1, MATCH($A99,Géolocalisation!$A:$A,0)-1,1, COUNTIF(Géolocalisation!$A:$A,$A99), MATCH(H$1,Géolocalisation!$A$1:$D$1,0)),3,0),"")
A100: 46067 | B100: 0.39444444 | C100: #N/A | E100: Basse | F100: =IFERROR(MIN(IF(ABS(OFFSET(Géolocalisation!$A$1, MATCH($A100,Géolocalisation!$A:$A,0)-1,1, COUNTIF(Géolocalisation!$A:$A,$A100))-B100)= MIN(ABS(OFFSET(Géolocalisation!$A$1, MATCH($A100,Géolocalisation!$A:$A,0)-1,1, COUNTIF(Géolocalisation!$A:$A,$A100))-B100)), OFFSET(Géolocalisation!$A$1, MATCH($A100,Géolocalisation!$A:$A,0)-1,1, COUNTIF(Géolocalisation!$A:$A,$A100)))),"") | G100: =IFERROR(VLOOKUP($F100,OFFSET(Géolocalisation!$A$1, MATCH($A100,Géolocalisation!$A:$A,0)-1,1, COUNTIF(Géolocalisation!$A:$A,$A100), MATCH(G$1,Géolocalisation!$A$1:$D$1,0)),2,0),"") | H100: =IFERROR(VLOOKUP($F100,OFFSET(Géolocalisation!$A$1, MATCH($A100,Géolocalisation!$A:$A,0)-1,1, COUNTIF(Géolocalisation!$A:$A,$A100), MATCH(H$1,Géolocalisation!$A$1:$D$1,0)),3,0),"")
...
