Workbook

Sheet Géolocalisation
A1: Date | B1: Heure | C1: Long | D1: Lat
A2: 46043 | B2: 0.017395833 | C2: -1.071991 | D2: 44.690784
A3: 46043 | B3: 0.0278125 | C3: -1.072003 | D3: 44.690693
A4: 46043 | B4: 0.048310185 | C4: -1.072277 | D4: 44.690514
A5: 46043 | B5: 0.069155093 | C5: -1.070963 | D5: 44.690742
A6: 46043 | B6: 0.0903125 | C6: -1.063893 | D6: 44.689079
A7: 46043 | B7: 0.11083333 | C7: -1.060855 | D7: 44.688721
A8: 46043 | B8: 0.13165509 | C8: -1.051958 | D8: 44.696766
A9: 46043 | B9: 0.1528125 | C9: -1.048076 | D9: 44.695095
A10: 46043 | B10: 0.17331019 | C10: -1.056607 | D10: 44.691277
A11: 46043 | B11: 0.19421296 | C11: -1.056565 | D11: 44.69125
A12: 46043 | B12: 0.215 | C12: -1.05655 | D12: 44.691269
A13: 46043 | B13: 0.23614583 | C13: -1.05661 | D13: 44.691307
... A1884: 46115 | B1884: 0.64239583 | C1884: -1.160588 | D1884: 44.761925

Sheet Maree 
A1: Date | B1: Heure | C1: Hauteur | D1: Coef (PM) | E1: Maree | F1: Correspondance | G1: Long | H1: Lat
A2: 46043 | B2: 0.29166667 | C2: #N/A | D2: 84 | E2: Haute | F2: =IFERROR(MIN(IF(ABS(OFFSET(Géolocalisation!$A$1, MATCH('Maree '!$A2,Géolocalisation!$A:$A,0)-1,1, COUNTIF(Géolocalisation!$A:$A,'Maree '!$A2))-'Maree '!B2)= MIN(ABS(OFFSET(Géolocalisation!$A$1, MATCH('Maree '!$A2,Géolocalisation!$A:$A,0)-1,1, COUNTIF(Géolocalisation!$A:$A,'Maree '!$A2))-'Maree '!B2)), OFFSET(Géolocalisation!$A$1, MATCH('Maree '!$A2,Géolocalisation!$A:$A,0)-1,1, COUNTIF(Géolocalisation!$A:$A,'Maree '!$A2)))),"") -> 0.017395833 | G2: =IFERROR(VLOOKUP($F2,OFFSET(Géolocalisation!$A$1, MATCH($A2,Géolocalisation!$A:$A,0)-1,1, COUNTIF(Géolocalisation!$A:$A,$A2), MATCH(G$1,Géolocalisation!$A$1:$D$1,0)),2,0),"") -> -1.071991 | H2: =IFERROR(VLOOKUP($F2,OFFSET(Géolocalisation!$A$1, MATCH($A2,Géolocalisation!$A:$A,0)-1,1, COUNTIF(Géolocalisation!$A:$A,$A2), MATCH(H$1,Géolocalisation!$A$1:$D$1,0)),3,0),"") -> 44.690784
A3: 46043 | B3: 0.80486111 | C3: #N/A | D3: 85 | E3: Haute
A4: 46043 | B4: 0.034722222 | C4: #N/A | E4: Basse
A5: 46043 | B5: 0.55138889 | C5: #N/A | E5: Basse
A6: 46044 | B6: 0.31666667 | C6: #N/A | D6: 85 | E6: Haute | F6: =IFERROR(MIN(IF(ABS(OFFSET(Géolocalisation!$A$1, MATCH($A6,Géolocalisation!$A:$A,0)-1,1, COUNTIF(Géolocalisation!$A:$A,$A6))-B6)= MIN(ABS(OFFSET(Géolocalisation!$A$1, MATCH($A6,Géolocalisation!$A:$A,0)-1,1, COUNTIF(Géolocalisation!$A:$A,$A6))-B6)), OFFSET(Géolocalisation!$A$1, MATCH($A6,Géolocalisation!$A:$A,0)-1,1, COUNTIF(Géolocalisation!$A:$A,$A6)))),"") | G6: =IFERROR(VLOOKUP($F6,OFFSET(Géolocalisation!$A$1, MATCH($A6,Géolocalisation!$A:$A,0)-1,1, COUNTIF(Géolocalisation!$A:$A,$A6), MATCH(G$1,Géolocalisation!$A$1:$D$1,0)),2,0),"") | H6: =IFERROR(VLOOKUP($F6,OFFSET(Géolocalisation!$A$1, MATCH($A6,Géolocalisation!$A:$A,0)-1,1, COUNTIF(Géolocalisation!$A:$A,$A6), MATCH(H$1,Géolocalisation!$A$1:$D$1,0)),3,0),"")
A7: 46044 | B7: 0.82916667 | C7: #N/A | D7: 84 | E7: Haute | F7: =IFERROR(MIN(IF(ABS(OFFSET(Géolocalisation!$A$1, MATCH($A7,Géolocalisation!$A:$A,0)-1,1, COUNTIF(Géolocalisation!$A:$A,$A7))-B7)= MIN(ABS(OFFSET(Géolocalisation!$A$1, MATCH($A7,Géolocalisation!$A:$A,0)-1,1, COUNTIF(Géolocalisation!$A:$A,$A7))-B7)), OFFSET(Géolocalisation!$A$1, MATCH($A7,Géolocalisation!$A:$A,0)-1,1, COUNTIF(Géolocalisation!$A:$A,$A7)))),"") | G7: =IFERROR(VLOOKUP($F7,OFFSET(Géolocalisation!$A$1, MATCH($A7,Géolocalisation!$A:$A,0)-1,1, COUNTIF(Géolocalisation!$A:$A,$A7), MATCH(G$1,Géolocalisation!$A$1:$D$1,0)),2,0),"") | H7: =IFERROR(VLOOKUP($F7,OFFSET(Géolocalisation!$A$1, MATCH($A7,Géolocalisation!$A:$A,0)-1,1, COUNTIF(Géolocalisation!$A:$A,$A7), MATCH(H$1,Géolocalisation!$A$1:$D$1,0)),3,0),"")
A8: 46044 | B8: 0.059722222 | C8: #N/A | E8: Basse | F8: =IFERROR(MIN(IF(ABS(OFFSET(Géolocalisation!$A$1, MATCH($A8,Géolocalisation!$A:$A,0)-1,1, COUNTIF(Géolocalisation!$A:$A,$A8))-B8)= MIN(ABS(OFFSET(Géolocalisation!$A$1, MATCH($A8,Géolocalisation!$A:$A,0)-1,1, COUNTIF(Géolocalisation!$A:$A,$A8))-B8)), OFFSET(Géolocalisation!$A$1, MATCH($A8,Géolocalisation!$A:$A,0)-1,1, COUNTIF(Géolocalisation!$A:$A,$A8)))),"") | G8: =IFERROR(VLOOKUP($F8,OFFSET(Géolocalisation!$A$1, MATCH($A8,Géolocalisation!$A:$A,0)-1,1, COUNTIF(Géolocalisation!$A:$A,$A8), MATCH(G$1,Géolocalisation!$A$1:$D$1,0)),2,0),"") | H8: =IFERROR(VLOOKUP($F8,OFFSET(Géolocalisation!$A$1, MATCH($A8,Géolocalisation!$A:$A,0)-1,1, COUNTIF(Géolocalisation!$A:$A,$A8), MATCH(H$1,Géolocalisation!$A$1:$D$1,0)),3,0),"")
A9: 46044 | B9: 0.57569444 | C9: #N/A | E9: Basse | F9: =IFERROR(MIN(IF(ABS(OFFSET(Géolocalisation!$A$1, MATCH($A9,Géolocalisation!$A:$A,0)-1,1, COUNTIF(Géolocalisation!$A:$A,$A9))-B9)= MIN(ABS(OFFSET(Géolocalisation!$A$1, MATCH($A9,Géolocalisation!$A:$A,0)-1,1, COUNTIF(Géolocalisation!$A:$A,$A9))-B9)), OFFSET(Géolocalisation!$A$1, MATCH($A9,Géolocalisation!$A:$A,0)-1,1, COUNTIF(Géolocalisation!$A:$A,$A9)))),"") | G9: =IFERROR(VLOOKUP($F9,OFFSET(Géolocalisation!$A$1, MATCH($A9,Géolocalisation!$A:$A,0)-1,1, COUNTIF(Géolocalisation!$A:$A,$A9), MATCH(G$1,Géolocalisation!$A$1:$D$1,0)),2,0),"") | H9: =IFERROR(VLOOKUP($F9,OFFSET(Géolocalisation!$A$1, MATCH($A9,Géolocalisation!$A:$A,0)-1,1, COUNTIF(Géolocalisation!$A:$A,$A9), MATCH(H$1,Géolocalisation!$A$1:$D$1,0)),3,0),"")
A10: 46045 | B10: 0.34305556 | C10: #N/A | D10: 82 | E10: Haute | F10: =IFERROR(MIN(IF(ABS(OFFSET(Géolocalisation!$A$1, MATCH($A10,Géolocalisation!$A:$A,0)-1,1, COUNTIF(Géolocalisation!$A:$A,$A10))-B10)= MIN(ABS(OFFSET(Géolocalisation!$A$1, MATCH($A10,Géolocalisation!$A:$A,0)-1,1, COUNTIF(Géolocalisation!$A:$A,$A10))-B10)), OFFSET(Géolocalisation!$A$1, MATCH($A10,Géolocalisation!$A:$A,0)-1,1, COUNTIF(Géolocalisation!$A:$A,$A10)))),"") | G10: =IFERROR(VLOOKUP($F10,OFFSET(Géolocalisation!$A$1, MATCH($A10,Géolocalisation!$A:$A,0)-1,1, COUNTIF(Géolocalisation!$A:$A,$A10), MATCH(G$1,Géolocalisation!$A$1:$D$1,0)),2,0),"") | H10: =IFERROR(VLOOKUP($F10,OFFSET(Géolocalisation!$A$1, MATCH($A10,Géolocalisation!$A:$A,0)-1,1, COUNTIF(Géolocalisation!$A:$A,$A10), MATCH(H$1,Géolocalisation!$A$1:$D$1,0)),3,0),"")
A11: 46045 | B11: 0.85555556 | C11: #N/A | D11: 80 | E11: Haute | F11: =IFERROR(MIN(IF(ABS(OFFSET(Géolocalisation!$A$1, MATCH($A11,Géolocalisation!$A:$A,0)-1,1, COUNTIF(Géolocalisation!$A:$A,$A11))-B11)= MIN(ABS(OFFSET(Géolocalisation!$A$1, MATCH($A11,Géolocalisation!$A:$A,0)-1,1, COUNTIF(Géolocalisation!$A:$A,$A11))-B11)), OFFSET(Géolocalisation!$A$1, MATCH($A11,Géolocalisation!$A:$A,0)-1,1, COUNTIF(Géolocalisation!$A:$A,$A11)))),"") | G11: =IFERROR(VLOOKUP($F11,OFFSET(Géolocalisation!$A$1, MATCH($A11,Géolocalisation!$A:$A,0)-1,1, COUNTIF(Géolocalisation!$A:$A,$A11), MATCH(G$1,Géolocalisation!$A$1:$D$1,0)),2,0),"") | H11: =IFERROR(VLOOKUP($F11,OFFSET(Géolocalisation!$A$1, MATCH($A11,Géolocalisation!$A:$A,0)-1,1, COUNTIF(Géolocalisation!$A:$A,$A11), MATCH(H$1,Géolocalisation!$A$1:$D$1,0)),3,0),"")
A12: 46045 | B12: 0.084027778 | C12: #N/A | E12: Basse | F12: =IFERROR(MIN(IF(ABS(OFFSET(Géolocalisation!$A$1, MATCH($A12,Géolocalisation!$A:$A,0)-1,1, COUNTIF(Géolocalisation!$A:$A,$A12))-B12)= MIN(ABS(OFFSET(Géolocalisation!$A$1, MATCH($A12,Géolocalisation!$A:$A,0)-1,1, COUNTIF(Géolocalisation!$A:$A,$A12))-B12)), OFFSET(Géolocalisation!$A$1, MATCH($A12,Géolocalisation!$A:$A,0)-1,1, COUNTIF(Géolocalisation!$A:$A,$A12)))),"") | G12: =IFERROR(VLOOKUP($F12,OFFSET(Géolocalisation!$A$1, MATCH($A12,Géolocalisation!$A:$A,0)-1,1, COUNTIF(Géolocalisation!$A:$A,$A12), MATCH(G$1,Géolocalisation!$A$1:$D$1,0)),2,0),"") | H12: =IFERROR(VLOOKUP($F12,OFFSET(Géolocalisation!$A$1, MATCH($A12,Géolocalisation!$A:$A,0)-1,1, COUNTIF(Géolocalisation!$A:$A,$A12), MATCH(H$1,Géolocalisation!$A$1:$D$1,0)),3,0),"")
A13: 46045 | B13: 0.6 | C13: #N/A | E13: Basse | F13: =IFERROR(MIN(IF(ABS(OFFSET(Géolocalisation!$A$1, MATCH($A13,Géolocalisation!$A:$A,0)-1,1, COUNTIF(Géolocalisation!$A:$A,$A13))-B13)= MIN(ABS(OFFSET(Géolocalisation!$A$1, MATCH($A13,Géolocalisation!$A:$A,0)-1,1, COUNTIF(Géolocalisation!$A:$A,$A13))-B13)), OFFSET(Géolocalisation!$A$1, MATCH($A13,Géolocalisation!$A:$A,0)-1,1, COUNTIF(Géolocalisation!$A:$A,$A13)))),"") | G13: =IFERROR(VLOOKUP($F13,OFFSET(Géolocalisation!$A$1, MATCH($A13,Géolocalisation!$A:$A,0)-1,1, COUNTIF(Géolocalisation!$A:$A,$A13), MATCH(G$1,Géolocalisation!$A$1:$D$1,0)),2,0),"") | H13: =IFERROR(VLOOKUP($F13,OFFSET(Géolocalisation!$A$1, MATCH($A13,Géolocalisation!$A:$A,0)-1,1, COUNTIF(Géolocalisation!$A:$A,$A13), MATCH(H$1,Géolocalisation!$A$1:$D$1,0)),3,0),"")
A14: 46046 | B14: 0.37083333 | C14: #N/A | D14: 76 | E14: Haute | F14: =IFERROR(MIN(IF(ABS(OFFSET(Géolocalisation!$A$1, MATCH($A14,Géolocalisation!$A:$A,0)-1,1, COUNTIF(Géolocalisation!$A:$A,$A14))-B14)= MIN(ABS(OFFSET(Géolocalisation!$A$1, MATCH($A14,Géolocalisation!$A:$A,0)-1,1, COUNTIF(Géolocalisation!$A:$A,$A14))-B14)), OFFSET(Géolocalisation!$A$1, MATCH($A14,Géolocalisation!$A:$A,0)-1,1, COUNTIF(Géolocalisation!$A:$A,$A14)))),"") | G14: =IFERROR(VLOOKUP($F14,OFFSET(Géolocalisation!$A$1, MATCH($A14,Géolocalisation!$A:$A,0)-1,1, COUNTIF(Géolocalisation!$A:$A,$A14), MATCH(G$1,Géolocalisation!$A$1:$D$1,0)),2,0),"") | H14: =IFERROR(VLOOKUP($F14,OFFSET(Géolocalisation!$A$1, MATCH($A14,Géolocalisation!$A:$A,0)-1,1, COUNTIF(Géolocalisation!$A:$A,$A14), MATCH(H$1,Géolocalisation!$A$1:$D$1,0)),3,0),"")
A15: 46046 | B15: 0.88541667 | C15: #N/A | D15: 73 | E15: Haute | F15: =IFERROR(MIN(IF(ABS(OFFSET(Géolocalisation!$A$1, MATCH($A15,Géolocalisation!$A:$A,0)-1,1, COUNTIF(Géolocalisation!$A:$A,$A15))-B15)= MIN(ABS(OFFSET(Géolocalisation!$A$1, MATCH($A15,Géolocalisation!$A:$A,0)-1,1, COUNTIF(Géolocalisation!$A:$A,$A15))-B15)), OFFSET(Géolocalisation!$A$1, MATCH($A15,Géolocalisation!$A:$A,0)-1,1, COUNTIF(Géolocalisation!$A:$A,$A15)))),"") | G15: =IFERROR(VLOOKUP($F15,OFFSET(Géolocalisation!$A$1, MATCH($A15,Géolocalisation!$A:$A,0)-1,1, COUNTIF(Géolocalisation!$A:$A,$A15), MATCH(G$1,Géolocalisation!$A$1:$D$1,0)),2,0),"") | H15: =IFERROR(VLOOKUP($F15,OFFSET(Géolocalisation!$A$1, MATCH($A15,Géolocalisation!$A:$A,0)-1,1, COUNTIF(Géolocalisation!$A:$A,$A15), MATCH(H$1,Géolocalisation!$A$1:$D$1,0)),3,0),"")
A16: 46046 | B16: 0.10833333 | C16: #N/A | E16: Basse | F16: =IFERROR(MIN(IF(ABS(OFFSET(Géolocalisation!$A$1, MATCH($A16,Géolocalisation!$A:$A,0)-1,1, COUNTIF(Géolocalisation!$A:$A,$A16))-B16)= MIN(ABS(OFFSET(Géolocalisation!$A$1, MATCH($A16,Géolocalisation!$A:$A,0)-1,1, COUNTIF(Géolocalisation!$A:$A,$A16))-B16)), OFFSET(Géolocalisation!$A$1, MATCH($A16,Géolocalisation!$A:$A,0)-1,1, COUNTIF(Géolocalisation!$A:$A,$A16)))),"") | G16: =IFERROR(VLOOKUP($F16,OFFSET(Géolocalisation!$A$1, MATCH($A16,Géolocalisation!$A:$A,0)-1,1, COUNTIF(Géolocalisation!$A:$A,$A16), MATCH(G$1,Géolocalisation!$A$1:$D$1,0)),2,0),"") | H16: =IFERROR(VLOOKUP($F16,OFFSET(Géolocalisation!$A$1, MATCH($A16,Géolocalisation!$A:$A,0)-1,1, COUNTIF(Géolocalisation!$A:$A,$A16), MATCH(H$1,Géolocalisation!$A$1:$D$1,0)),3,0),"")
A17: 46046 | B17: 0.625 | C17: #N/A | E17: Basse | F17: =IFERROR(MIN(IF(ABS(OFFSET(Géolocalisation!$A$1, MATCH($A17,Géolocalisation!$A:$A,0)-1,1, COUNTIF(Géolocalisation!$A:$A,$A17))-B17)= MIN(ABS(OFFSET(Géolocalisation!$A$1, MATCH($A17,Géolocalisation!$A:$A,0)-1,1, COUNTIF(Géolocalisation!$A:$A,$A17))-B17)), OFFSET(Géolocalisation!$A$1, MATCH($A17,Géolocalisation!$A:$A,0)-1,1, COUNTIF(Géolocalisation!$A:$A,$A17)))),"") | G17: =IFERROR(VLOOKUP($F17,OFFSET(Géolocalisation!$A$1, MATCH($A17,Géolocalisation!$A:$A,0)-1,1, COUNTIF(Géolocalisation!$A:$A,$A17), MATCH(G$1,Géolocalisation!$A$1:$D$1,0)),2,0),"") | H17: =IFERROR(VLOOKUP($F17,OFFSET(Géolocalisation!$A$1, MATCH($A17,Géolocalisation!$A:$A,0)-1,1, COUNTIF(Géolocalisation!$A:$A,$A17), MATCH(H$1,Géolocalisation!$A$1:$D$1,0)),3,0),"")
A18: 46047 | B18: 0.40138889 | C18: #N/A | D18: 68 | E18: Haute | F18: =IFERROR(MIN(IF(ABS(OFFSET(Géolocalisation!$A$1, MATCH($A18,Géolocalisation!$A:$A,0)-1,1, COUNTIF(Géolocalisation!$A:$A,$A18))-B18)= MIN(ABS(OFFSET(Géolocalisation!$A$1, MATCH($A18,Géolocalisation!$A:$A,0)-1,1, COUNTIF(Géolocalisation!$A:$A,$A18))-B18)), OFFSET(Géolocalisation!$A$1, MATCH($A18,Géolocalisation!$A:$A,0)-1,1, COUNTIF(Géolocalisation!$A:$A,$A18)))),"") | G18: =IFERROR(VLOOKUP($F18,OFFSET(Géolocalisation!$A$1, MATCH($A18,Géolocalisation!$A:$A,0)-1,1, COUNTIF(Géolocalisation!$A:$A,$A18), MATCH(G$1,Géolocalisation!$A$1:$D$1,0)),2,0),"") | H18: =IFERROR(VLOOKUP($F18,OFFSET(Géolocalisation!$A$1, MATCH($A18,Géolocalisation!$A:$A,0)-1,1, COUNTIF(Géolocalisation!$A:$A,$A18), MATCH(H$1,Géolocalisation!$A$1:$D$1,0)),3,0),"")
A19: 46047 | B19: 0.91805556 | C19: #N/A | D19: 64 | E19: Haute | F19: =IFERROR(MIN(IF(ABS(OFFSET(Géolocalisation!$A$1, MATCH($A19,Géolocalisation!$A:$A,0)-1,1, COUNTIF(Géolocalisation!$A:$A,$A19))-B19)= MIN(ABS(OFFSET(Géolocalisation!$A$1, MATCH($A19,Géolocalisation!$A:$A,0)-1,1, COUNTIF(Géolocalisation!$A:$A,$A19))-B19)), OFFSET(Géolocalisation!$A$1, MATCH($A19,Géolocalisation!$A:$A,0)-1,1, COUNTIF(Géolocalisation!$A:$A,$A19)))),"") | G19: =IFERROR(VLOOKUP($F19,OFFSET(Géolocalisation!$A$1, MATCH($A19,Géolocalisation!$A:$A,0)-1,1, COUNTIF(Géolocalisation!$A:$A,$A19), MATCH(G$1,Géolocalisation!$A$1:$D$1,0)),2,0),"") | H19: =IFERROR(VLOOKUP($F19,OFFSET(Géolocalisation!$A$1, MATCH($A19,Géolocalisation!$A:$A,0)-1,1, COUNTIF(Géolocalisation!$A:$A,$A19), MATCH(H$1,Géolocalisation!$A$1:$D$1,0)),3,0),"")
A20: 46047 | B20: 0.13611111 | C20: #N/A | E20: Basse | F20: =IFERROR(MIN(IF(ABS(OFFSET(Géolocalisation!$A$1, MATCH($A20,Géolocalisation!$A:$A,0)-1,1, COUNTIF(Géolocalisation!$A:$A,$A20))-B20)= MIN(ABS(OFFSET(Géolocalisation!$A$1, MATCH($A20,Géolocalisation!$A:$A,0)-1,1, COUNTIF(Géolocalisation!$A:$A,$A20))-B20)), OFFSET(Géolocalisation!$A$1, MATCH($A20,Géolocalisation!$A:$A,0)-1,1, COUNTIF(Géolocalisation!$A:$A,$A20)))),"") | G20: =IFERROR(VLOOKUP($F20,OFFSET(Géolocalisation!$A$1, MATCH($A20,Géolocalisation!$A:$A,0)-1,1, COUNTIF(Géolocalisation!$A:$A,$A20), MATCH(G$1,Géolocalisation!$A$1:$D$1,0)),2,0),"") | H20: =IFERROR(VLOOKUP($F20,OFFSET(Géolocalisation!$A$1, MATCH($A20,Géolocalisation!$A:$A,0)-1,1, COUNTIF(Géolocalisation!$A:$A,$A20), MATCH(H$1,Géolocalisation!$A$1:$D$1,0)),3,0),"")
A21: 46047 | B21: 0.65416667 | C21: #N/A | E21: Basse | F21: =IFERROR(MIN(IF(ABS(OFFSET(Géolocalisation!$A$1, MATCH($A21,Géolocalisation!$A:$A,0)-1,1, COUNTIF(Géolocalisation!$A:$A,$A21))-B21)= MIN(ABS(OFFSET(Géolocalisation!$A$1, MATCH($A21,Géolocalisation!$A:$A,0)-1,1, COUNTIF(Géolocalisation!$A:$A,$A21))-B21)), OFFSET(Géolocalisation!$A$1, MATCH($A21,Géolocalisation!$A:$A,0)-1,1, COUNTIF(Géolocalisation!$A:$A,$A21)))),"") | G21: =IFERROR(VLOOKUP($F21,OFFSET(Géolocalisation!$A$1, MATCH($A21,Géolocalisation!$A:$A,0)-1,1, COUNTIF(Géolocalisation!$A:$A,$A21), MATCH(G$1,Géolocalisation!$A$1:$D$1,0)),2,0),"") | H21: =IFERROR(VLOOKUP($F21,OFFSET(Géolocalisation!$A$1, MATCH($A21,Géolocalisation!$A:$A,0)-1,1, COUNTIF(Géolocalisation!$A:$A,$A21), MATCH(H$1,Géolocalisation!$A$1:$D$1,0)),3,0),"")
A22: 46048 | B22: 0.43819444 | C22: #N/A | D22: 59 | E22: Haute | F22: =IFERROR(MIN(IF(ABS(OFFSET(Géolocalisation!$A$1, MATCH($A22,Géolocalisation!$A:$A,0)-1,1, COUNTIF(Géolocalisation!$A:$A,$A22))-B22)= MIN(ABS(OFFSET(Géolocalisation!$A$1, MATCH($A22,Géolocalisation!$A:$A,0)-1,1, COUNTIF(Géolocalisation!$A:$A,$A22))-B22)), OFFSET(Géolocalisation!$A$1, MATCH($A22,Géolocalisation!$A:$A,0)-1,1, COUNTIF(Géolocalisation!$A:$A,$A22)))),"") | G22: =IFERROR(VLOOKUP($F22,OFFSET(Géolocalisation!$A$1, MATCH($A22,Géolocalisation!$A:$A,0)-1,1, COUNTIF(Géolocalisation!$A:$A,$A22), MATCH(G$1,Géolocalisation!$A$1:$D$1,0)),2,0),"") | H22: =IFERROR(VLOOKUP($F22,OFFSET(Géolocalisation!$A$1, MATCH($A22,Géolocalisation!$A:$A,0)-1,1, COUNTIF(Géolocalisation!$A:$A,$A22), MATCH(H$1,Géolocalisation!$A$1:$D$1,0)),3,0),"")
A23: 46048 | B23: 0.95972222 | C23: #N/A | D23: 54 | E23: Haute | F23: =IFERROR(MIN(IF(ABS(OFFSET(Géolocalisation!$A$1, MATCH($A23,Géolocalisation!$A:$A,0)-1,1, COUNTIF(Géolocalisation!$A:$A,$A23))-B23)= MIN(ABS(OFFSET(Géolocalisation!$A$1, MATCH($A23,Géolocalisation!$A:$A,0)-1,1, COUNTIF(Géolocalisation!$A:$A,$A23))-B23)), OFFSET(Géolocalisation!$A$1, MATCH($A23,Géolocalisation!$A:$A,0)-1,1, COUNTIF(Géolocalisation!$A:$A,$A23)))),"") | G23: =IFERROR(VLOOKUP($F23,OFFSET(Géolocalisation!$A$1, MATCH($A23,Géolocalisation!$A:$A,0)-1,1, COUNTIF(Géolocalisation!$A:$A,$A23), MATCH(G$1,Géolocalisation!$A$1:$D$1,0)),2,0),"") | H23: =IFERROR(VLOOKUP($F23,OFFSET(Géolocalisation!$A$1, MATCH($A23,Géolocalisation!$A:$A,0)-1,1, COUNTIF(Géolocalisation!$A:$A,$A23), MATCH(H$1,Géolocalisation!$A$1:$D$1,0)),3,0),"")
A24: 46048 | B24: 0.16875 | C24: #N/A | E24: Basse | F24: =IFERROR(MIN(IF(ABS(OFFSET(Géolocalisation!$A$1, MATCH($A24,Géolocalisation!$A:$A,0)-1,1, COUNTIF(Géolocalisation!$A:$A,$A24))-B24)= MIN(ABS(OFFSET(Géolocalisation!$A$1, MATCH($A24,Géolocalisation!$A:$A,0)-1,1, COUNTIF(Géolocalisation!$A:$A,$A24))-B24)), OFFSET(Géolocalisation!$A$1, MATCH($A24,Géolocalisation!$A:$A,0)-1,1, COUNTIF(Géolocalisation!$A:$A,$A24)))),"") | G24: =IFERROR(VLOOKUP($F24,OFFSET(Géolocalisation!$A$1, MATCH($A24,Géolocalisation!$A:$A,0)-1,1, COUNTIF(Géolocalisation!$A:$A,$A24), MATCH(G$1,Géolocalisation!$A$1:$D$1,0)),2,0),"") | H24: =IFERROR(VLOOKUP($F24,OFFSET(Géolocalisation!$A$1, MATCH($A24,Géolocalisation!$A:$A,0)-1,1, COUNTIF(Géolocalisation!$A:$A,$A24), MATCH(H$1,Géolocalisation!$A$1:$D$1,0)),3,0),"")
A25: 46048 | B25: 0.68958333 | C25: #N/A | E25: Basse | F25: =IFERROR(MIN(IF(ABS(OFFSET(Géolocalisation!$A$1, MATCH($A25,Géolocalisation!$A:$A,0)-1,1, COUNTIF(Géolocalisation!$A:$A,$A25))-B25)= MIN(ABS(OFFSET(Géolocalisation!$A$1, MATCH($A25,Géolocalisation!$A:$A,0)-1,1, COUNTIF(Géolocalisation!$A:$A,$A25))-B25)), OFFSET(Géolocalisation!$A$1, MATCH($A25,Géolocalisation!$A:$A,0)-1,1, COUNTIF(Géolocalisation!$A:$A,$A25)))),"") | G25: =IFERROR(VLOOKUP($F25,OFFSET(Géolocalisation!$A$1, MATCH($A25,Géolocalisation!$A:$A,0)-1,1, COUNTIF(Géolocalisation!$A:$A,$A25), MATCH(G$1,Géolocalisation!$A$1:$D$1,0)),2,0),"") | H25: =IFERROR(VLOOKUP($F25,OFFSET(Géolocalisation!$A$1, MATCH($A25,Géolocalisation!$A:$A,0)-1,1, COUNTIF(Géolocalisation!$A:$A,$A25), MATCH(H$1,Géolocalisation!$A$1:$D$1,0)),3,0),"")
A26: 46049 | B26: 0.48472222 | C26: #N/A | D26: 50 | E26: Haute | F26: =IFERROR(MIN(IF(ABS(OFFSET(Géolocalisation!$A$1, MATCH($A26,Géolocalisation!$A:$A,0)-1,1, COUNTIF(Géolocalisation!$A:$A,$A26))-B26)= MIN(ABS(OFFSET(Géolocalisation!$A$1, MATCH($A26,Géolocalisation!$A:$A,0)-1,1, COUNTIF(Géolocalisation!$A:$A,$A26))-B26)), OFFSET(Géolocalisation!$A$1, MATCH($A26,Géolocalisation!$A:$A,0)-1,1, COUNTIF(Géolocalisation!$A:$A,$A26)))),"") | G26: =IFERROR(VLOOKUP($F26,OFFSET(Géolocalisation!$A$1, MATCH($A26,Géolocalisation!$A:$A,0)-1,1, COUNTIF(Géolocalisation!$A:$A,$A26), MATCH(G$1,Géolocalisation!$A$1:$D$1,0)),2,0),"") | H26: =IFERROR(VLOOKUP($F26,OFFSET(Géolocalisation!$A$1, MATCH($A26,Géolocalisation!$A:$A,0)-1,1, COUNTIF(Géolocalisation!$A:$A,$A26), MATCH(H$1,Géolocalisation!$A$1:$D$1,0)),3,0),"")
A27: 46049 | B27: –:– | C27: #N/A | D27: - | E27: Haute | F27: =IFERROR(MIN(IF(ABS(OFFSET(Géolocalisation!$A$1, MATCH($A27,Géolocalisation!$A:$A,0)-1,1, COUNTIF(Géolocalisation!$A:$A,$A27))-B27)= MIN(ABS(OFFSET(Géolocalisation!$A$1, MATCH($A27,Géolocalisation!$A:$A,0)-1,1, COUNTIF(Géolocalisation!$A:$A,$A27))-B27)), OFFSET(Géolocalisation!$A$1, MATCH($A27,Géolocalisation!$A:$A,0)-1,1, COUNTIF(Géolocalisation!$A:$A,$A27)))),"") | G27: =IFERROR(VLOOKUP($F27,OFFSET(Géolocalisation!$A$1, MATCH($A27,Géolocalisation!$A:$A,0)-1,1, COUNTIF(Géolocalisation!$A:$A,$A27), MATCH(G$1,Géolocalisation!$A$1:$D$1,0)),2,0),"") | H27: =IFERROR(VLOOKUP($F27,OFFSET(Géolocalisation!$A$1, MATCH($A27,Géolocalisation!$A:$A,0)-1,1, COUNTIF(Géolocalisation!$A:$A,$A27), MATCH(H$1,Géolocalisation!$A$1:$D$1,0)),3,0),"")
A28: 46049 | B28: 0.21180556 | C28: #N/A | E28: Basse | F28: =IFERROR(MIN(IF(ABS(OFFSET(Géolocalisation!$A$1, MATCH($A28,Géolocalisation!$A:$A,0)-1,1, COUNTIF(Géolocalisation!$A:$A,$A28))-B28)= MIN(ABS(OFFSET(Géolocalisation!$A$1, MATCH($A28,Géolocalisation!$A:$A,0)-1,1, COUNTIF(Géolocalisation!$A:$A,$A28))-B28)), OFFSET(Géolocalisation!$A$1, MATCH($A28,Géolocalisation!$A:$A,0)-1,1, COUNTIF(Géolocalisation!$A:$A,$A28)))),"") | G28: =IFERROR(VLOOKUP($F28,OFFSET(Géolocalisation!$A$1, MATCH($A28,Géolocalisation!$A:$A,0)-1,1, COUNTIF(Géolocalisation!$A:$A,$A28), MATCH(G$1,Géolocalisation!$A$1:$D$1,0)),2,0),"") | H28: =IFERROR(VLOOKUP($F28,OFFSET(Géolocalisation!$A$1, MATCH($A28,Géolocalisation!$A:$A,0)-1,1, COUNTIF(Géolocalisation!$A:$A,$A28), MATCH(H$1,Géolocalisation!$A$1:$D$1,0)),3,0),"")
A29: 46049 | B29: 0.73819444 | C29: #N/A | E29: Basse | F29: =IFERROR(MIN(IF(ABS(OFFSET(Géolocalisation!$A$1, MATCH($A29,Géolocalisation!$A:$A,0)-1,1, COUNTIF(Géolocalisation!$A:$A,$A29))-B29)= MIN(ABS(OFFSET(Géolocalisation!$A$1, MATCH($A29,Géolocalisation!$A:$A,0)-1,1, COUNTIF(Géolocalisation!$A:$A,$A29))-B29)), OFFSET(Géolocalisation!$A$1, MATCH($A29,Géolocalisation!$A:$A,0)-1,1, COUNTIF(Géolocalisation!$A:$A,$A29)))),"") | G29: =IFERROR(VLOOKUP($F29,OFFSET(Géolocalisation!$A$1, MATCH($A29,Géolocalisation!$A:$A,0)-1,1, COUNTIF(Géolocalisation!$A:$A,$A29), MATCH(G$1,Géolocalisation!$A$1:$D$1,0)),2,0),"") | H29: =IFERROR(VLOOKUP($F29,OFFSET(Géolocalisation!$A$1, MATCH($A29,Géolocalisation!$A:$A,0)-1,1, COUNTIF(Géolocalisation!$A:$A,$A29), MATCH(H$1,Géolocalisation!$A$1:$D$1,0)),3,0),"")
A30: 46050 | B30: 0.013194444 | C30: #N/A | D30: 47 | E30: Haute | F30: =IFERROR(MIN(IF(ABS(OFFSET(Géolocalisation!$A$1, MATCH($A30,Géolocalisation!$A:$A,0)-1,1, COUNTIF(Géolocalisation!$A:$A,$A30))-B30)= MIN(ABS(OFFSET(Géolocalisation!$A$1, MATCH($A30,Géolocalisation!$A:$A,0)-1,1, COUNTIF(Géolocalisation!$A:$A,$A30))-B30)), OFFSET(Géolocalisation!$A$1, MATCH($A30,Géolocalisation!$A:$A,0)-1,1, COUNTIF(Géolocalisation!$A:$A,$A30)))),"") | G30: =IFERROR(VLOOKUP($F30,OFFSET(Géolocalisation!$A$1, MATCH($A30,Géolocalisation!$A:$A,0)-1,1, COUNTIF(Géolocalisation!$A:$A,$A30), MATCH(G$1,Géolocalisation!$A$1:$D$1,0)),2,0),"") | H30: =IFERROR(VLOOKUP($F30,OFFSET(Géolocalisation!$A$1, MATCH($A30,Géolocalisation!$A:$A,0)-1,1, COUNTIF(Géolocalisation!$A:$A,$A30), MATCH(H$1,Géolocalisation!$A$1:$D$1,0)),3,0),"")
A31: 46050 | B31: 0.54305556 | C31: #N/A | D31: 47 | E31: Haute | F31: =IFERROR(MIN(IF(ABS(OFFSET(Géolocalisation!$A$1, MATCH($A31,Géolocalisation!$A:$A,0)-1,1, COUNTIF(Géolocalisation!$A:$A,$A31))-B31)= MIN(ABS(OFFSET(Géolocalisation!$A$1, MATCH($A31,Géolocalisation!$A:$A,0)-1,1, COUNTIF(Géolocalisation!$A:$A,$A31))-B31)), OFFSET(Géolocalisation!$A$1, MATCH($A31,Géolocalisation!$A:$A,0)-1,1, COUNTIF(Géolocalisation!$A:$A,$A31)))),"") | G31: =IFERROR(VLOOKUP($F31,OFFSET(Géolocalisation!$A$1, MATCH($A31,Géolocalisation!$A:$A,0)-1,1, COUNTIF(Géolocalisation!$A:$A,$A31), MATCH(G$1,Géolocalisation!$A$1:$D$1,0)),2,0),"") | H31: =IFERROR(VLOOKUP($F31,OFFSET(Géolocalisation!$A$1, MATCH($A31,Géolocalisation!$A:$A,0)-1,1, COUNTIF(Géolocalisation!$A:$A,$A31), MATCH(H$1,Géolocalisation!$A$1:$D$1,0)),3,0),"")
A32: 46050 | B32: 0.26805556 | C32: #N/A | E32: Basse | F32: =IFERROR(MIN(IF(ABS(OFFSET(Géolocalisation!$A$1, MATCH($A32,Géolocalisation!$A:$A,0)-1,1, COUNTIF(Géolocalisation!$A:$A,$A32))-B32)= MIN(ABS(OFFSET(Géolocalisation!$A$1, MATCH($A32,Géolocalisation!$A:$A,0)-1,1, COUNTIF(Géolocalisation!$A:$A,$A32))-B32)), OFFSET(Géolocalisation!$A$1, MATCH($A32,Géolocalisation!$A:$A,0)-1,1, COUNTIF(Géolocalisation!$A:$A,$A32)))),"") | G32: =IFERROR(VLOOKUP($F32,OFFSET(Géolocalisation!$A$1, MATCH($A32,Géolocalisation!$A:$A,0)-1,1, COUNTIF(Géolocalisation!$A:$A,$A32), MATCH(G$1,Géolocalisation!$A$1:$D$1,0)),2,0),"") | H32: =IFERROR(VLOOKUP($F32,OFFSET(Géolocalisation!$A$1, MATCH($A32,Géolocalisation!$A:$A,0)-1,1, COUNTIF(Géolocalisation!$A:$A,$A32), MATCH(H$1,Géolocalisation!$A$1:$D$1,0)),3,0),"")
A33: 46050 | B33: 0.79583333 | C33: #N/A | E33: Basse | F33: =IFERROR(MIN(IF(ABS(OFFSET(Géolocalisation!$A$1, MATCH($A33,Géolocalisation!$A:$A,0)-1,1, COUNTIF(Géolocalisation!$A:$A,$A33))-B33)= MIN(ABS(OFFSET(Géolocalisation!$A$1, MATCH($A33,Géolocalisation!$A:$A,0)-1,1, COUNTIF(Géolocalisation!$A:$A,$A33))-B33)), OFFSET(Géolocalisation!$A$1, MATCH($A33,Géolocalisation!$A:$A,0)-1,1, COUNTIF(Géolocalisation!$A:$A,$A33)))),"") | G33: =IFERROR(VLOOKUP($F33,OFFSET(Géolocalisation!$A$1, MATCH($A33,Géolocalisation!$A:$A,0)-1,1, COUNTIF(Géolocalisation!$A:$A,$A33), MATCH(G$1,Géolocalisation!$A$1:$D$1,0)),2,0),"") | H33: =IFERROR(VLOOKUP($F33,OFFSET(Géolocalisation!$A$1, MATCH($A33,Géolocalisation!$A:$A,0)-1,1, COUNTIF(Géolocalisation!$A:$A,$A33), MATCH(H$1,Géolocalisation!$A$1:$D$1,0)),3,0),"")
A34: 46051 | B34: 0.072222222 | C34: #N/A | D34: 49 | E34: Haute | F34: =IFERROR(MIN(IF(ABS(OFFSET(Géolocalisation!$A$1, MATCH($A34,Géolocalisation!$A:$A,0)-1,1, COUNTIF(Géolocalisation!$A:$A,$A34))-B34)= MIN(ABS(OFFSET(Géolocalisation!$A$1, MATCH($A34,Géolocalisation!$A:$A,0)-1,1, COUNTIF(Géolocalisation!$A:$A,$A34))-B34)), OFFSET(Géolocalisation!$A$1, MATCH($A34,Géolocalisation!$A:$A,0)-1,1, COUNTIF(Géolocalisation!$A:$A,$A34)))),"") | G34: =IFERROR(VLOOKUP($F34,OFFSET(Géolocalisation!$A$1, MATCH($A34,Géolocalisation!$A:$A,0)-1,1, COUNTIF(Géolocalisation!$A:$A,$A34), MATCH(G$1,Géolocalisation!$A$1:$D$1,0)),2,0),"") | H34: =IFERROR(VLOOKUP($F34,OFFSET(Géolocalisation!$A$1, MATCH($A34,Géolocalisation!$A:$A,0)-1,1, COUNTIF(Géolocalisation!$A:$A,$A34), MATCH(H$1,Géolocalisation!$A$1:$D$1,0)),3,0),"")
A35: 46051 | B35: 0.60138889 | C35: #N/A | D35: 52 | E35: Haute | F35: =IFERROR(MIN(IF(ABS(OFFSET(Géolocalisation!$A$1, MATCH($A35,Géolocalisation!$A:$A,0)-1,1, COUNTIF(Géolocalisation!$A:$A,$A35))-B35)= MIN(ABS(OFFSET(Géolocalisation!$A$1, MATCH($A35,Géolocalisation!$A:$A,0)-1,1, COUNTIF(Géolocalisation!$A:$A,$A35))-B35)), OFFSET(Géolocalisation!$A$1, MATCH($A35,Géolocalisation!$A:$A,0)-1,1, COUNTIF(Géolocalisation!$A:$A,$A35)))),"") | G35: =IFERROR(VLOOKUP($F35,OFFSET(Géolocalisation!$A$1, MATCH($A35,Géolocalisation!$A:$A,0)-1,1, COUNTIF(Géolocalisation!$A:$A,$A35), MATCH(G$1,Géolocalisation!$A$1:$D$1,0)),2,0),"") | H35: =IFERROR(VLOOKUP($F35,OFFSET(Géolocalisation!$A$1, MATCH($A35,Géolocalisation!$A:$A,0)-1,1, COUNTIF(Géolocalisation!$A:$A,$A35), MATCH(H$1,Géolocalisation!$A$1:$D$1,0)),3,0),"")
A36: 46051 | B36: 0.32569444 | C36: #N/A | E36: Basse | F36: =IFERROR(MIN(IF(ABS(OFFSET(Géolocalisation!$A$1, MATCH($A36,Géolocalisation!$A:$A,0)-1,1, COUNTIF(Géolocalisation!$A:$A,$A36))-B36)= MIN(ABS(OFFSET(Géolocalisation!$A$1, MATCH($A36,Géolocalisation!$A:$A,0)-1,1, COUNTIF(Géolocalisation!$A:$A,$A36))-B36)), OFFSET(Géolocalisation!$A$1, MATCH($A36,Géolocalisation!$A:$A,0)-1,1, COUNTIF(Géolocalisation!$A:$A,$A36)))),"") | G36: =IFERROR(VLOOKUP($F36,OFFSET(Géolocalisation!$A$1, MATCH($A36,Géolocalisation!$A:$A,0)-1,1, COUNTIF(Géolocalisation!$A:$A,$A36), MATCH(G$1,Géolocalisation!$A$1:$D$1,0)),2,0),"") | H36: =IFERROR(VLOOKUP($F36,OFFSET(Géolocalisation!$A$1, MATCH($A36,Géolocalisation!$A:$A,0)-1,1, COUNTIF(Géolocalisation!$A:$A,$A36), MATCH(H$1,Géolocalisation!$A$1:$D$1,0)),3,0),"")
A37: 46051 | B37: 0.85 | C37: #N/A | E37: Basse | F37: =IFERROR(MIN(IF(ABS(OFFSET(Géolocalisation!$A$1, MATCH($A37,Géolocalisation!$A:$A,0)-1,1, COUNTIF(Géolocalisation!$A:$A,$A37))-B37)= MIN(ABS(OFFSET(Géolocalisation!$A$1, MATCH($A37,Géolocalisation!$A:$A,0)-1,1, COUNTIF(Géolocalisation!$A:$A,$A37))-B37)), OFFSET(Géolocalisation!$A$1, MATCH($A37,Géolocalisation!$A:$A,0)-1,1, COUNTIF(Géolocalisation!$A:$A,$A37)))),"") | G37: =IFERROR(VLOOKUP($F37,OFFSET(Géolocalisation!$A$1, MATCH($A37,Géolocalisation!$A:$A,0)-1,1, COUNTIF(Géolocalisation!$A:$A,$A37), MATCH(G$1,Géolocalisation!$A$1:$D$1,0)),2,0),"") | H37: =IFERROR(VLOOKUP($F37,OFFSET(Géolocalisation!$A$1, MATCH($A37,Géolocalisation!$A:$A,0)-1,1, COUNTIF(Géolocalisation!$A:$A,$A37), MATCH(H$1,Géolocalisation!$A$1:$D$1,0)),3,0),"")
A38: 46052 | B38: 0.12430556 | C38: #N/A | D38: 58 | E38: Haute | F38: =IFERROR(MIN(IF(ABS(OFFSET(Géolocalisation!$A$1, MATCH($A38,Géolocalisation!$A:$A,0)-1,1, COUNTIF(Géolocalisation!$A:$A,$A38))-B38)= MIN(ABS(OFFSET(Géolocalisation!$A$1, MATCH($A38,Géolocalisation!$A:$A,0)-1,1, COUNTIF(Géolocalisation!$A:$A,$A38))-B38)), OFFSET(Géolocalisation!$A$1, MATCH($A38,Géolocalisation!$A:$A,0)-1,1, COUNTIF(Géolocalisation!$A:$A,$A38)))),"") | G38: =IFERROR(VLOOKUP($F38,OFFSET(Géolocalisation!$A$1, MATCH($A38,Géolocalisation!$A:$A,0)-1,1, COUNTIF(Géolocalisation!$A:$A,$A38), MATCH(G$1,Géolocalisation!$A$1:$D$1,0)),2,0),"") | H38: =IFERROR(VLOOKUP($F38,OFFSET(Géolocalisation!$A$1, MATCH($A38,Géolocalisation!$A:$A,0)-1,1, COUNTIF(Géolocalisation!$A:$A,$A38), MATCH(H$1,Géolocalisation!$A$1:$D$1,0)),3,0),"")
A39: 46052 | B39: 0.65 | C39: #N/A | D39: 65 | E39: Haute | F39: =IFERROR(MIN(IF(ABS(OFFSET(Géolocalisation!$A$1, MATCH($A39,Géolocalisation!$A:$A,0)-1,1, COUNTIF(Géolocalisation!$A:$A,$A39))-B39)= MIN(ABS(OFFSET(Géolocalisation!$A$1, MATCH($A39,Géolocalisation!$A:$A,0)-1,1, COUNTIF(Géolocalisation!$A:$A,$A39))-B39)), OFFSET(Géolocalisation!$A$1, MATCH($A39,Géolocalisation!$A:$A,0)-1,1, COUNTIF(Géolocalisation!$A:$A,$A39)))),"") | G39: =IFERROR(VLOOKUP($F39,OFFSET(Géolocalisation!$A$1, MATCH($A39,Géolocalisation!$A:$A,0)-1,1, COUNTIF(Géolocalisation!$A:$A,$A39), MATCH(G$1,Géolocalisation!$A$1:$D$1,0)),2,0),"") | H39: =IFERROR(VLOOKUP($F39,OFFSET(Géolocalisation!$A$1, MATCH($A39,Géolocalisation!$A:$A,0)-1,1, COUNTIF(Géolocalisation!$A:$A,$A39), MATCH(H$1,Géolocalisation!$A$1:$D$1,0)),3,0),"")
A40: 46052 | B40: 0.37847222 | C40: #N/A | E40: Basse | F40: =IFERROR(MIN(IF(ABS(OFFSET(Géolocalisation!$A$1, MATCH($A40,Géolocalisation!$A:$A,0)-1,1, COUNTIF(Géolocalisation!$A:$A,$A40))-B40)= MIN(ABS(OFFSET(Géolocalisation!$A$1, MATCH($A40,Géolocalisation!$A:$A,0)-1,1, COUNTIF(Géolocalisation!$A:$A,$A40))-B40)), OFFSET(Géolocalisation!$A$1, MATCH($A40,Géolocalisation!$A:$A,0)-1,1, COUNTIF(Géolocalisation!$A:$A,$A40)))),"") | G40: =IFERROR(VLOOKUP($F40,OFFSET(Géolocalisation!$A$1, MATCH($A40,Géolocalisation!$A:$A,0)-1,1, COUNTIF(Géolocalisation!$A:$A,$A40), MATCH(G$1,Géolocalisation!$A$1:$D$1,0)),2,0),"") | H40: =IFERROR(VLOOKUP($F40,OFFSET(Géolocalisation!$A$1, MATCH($A40,Géolocalisation!$A:$A,0)-1,1, COUNTIF(Géolocalisation!$A:$A,$A40), MATCH(H$1,Géolocalisation!$A$1:$D$1,0)),3,0),"")
...
