Workbook
Name DN: 'coef kt-kti'!$B$5:$E$18
Name etat: annexe!$B$1:$B$3
Name fct: 'coef Fct'!$D$6:$L$15
Name fcti: 'coef Fcti'!$D$6:$L$15
Name position: annexe!$E$1:$F$4
Name tatr: annexe!$G$1:$H$11
Name ti: annexe!$J$1:$K$10
Name tii: annexe!$M$1:$N$10

Sheet Radiateur
A1: CALCUL DE RADIATEURS
L2: Facteur de forme n ou m
L3: Radiateur tubulaire | M3: n= 1.30
B4: Température aller | E4: °C | F4: Puissance du radiateur Φ = | I4: =IF(ISERROR($D$10/$G$22),"",$D$10/$G$22) | J4: W | L4: Panneaux chauffant simple :
B5: Température Retour | E5: °C | L5: h : 14 à 49 cm | M5: n= 1.22 à 1.24
B6: Température moyenne | D6: =IF(ISERROR((D4+D5)/2),"",(D4+D5)/2) -> 0 | E6: °C | F6: Puissance réelle du radiateur = | I6: =IF(ISERROR($E$32*$G$22),"",$E$32*$G$22) | J6: W | L6: h : 56 à 91 cm | M6: n= 1.25 à 1.28
B7: Température ambiante | E7: °C | L7: h : plus de 91 cm | M7: n= 1.29 à 1.30
B8: Delta T | D8: =IF(ISERROR(D6-D7),"",D6-D7) -> 0 | E8: K | F8: Débit dans le radiateur = | I8: =IF(ISERROR($F$39*0.001),"",$F$39*0.001) | J8: m3/h | L8: Panneaux chauffant double :
B9: Facteur n ou m | L9: h : 21 à 42 cm | M9: n = 1.22 à 1.26
B10: Déperdition | E10: W | L10: h : plus de 42 cm | M10: n = 1.27 à 1.30
L11: Panneaux lamellés | M11: n = 1.20 à 1.37
L12: Collecteurs | M12: n = 1.19 à 1.40
B13: 1/ Calcul du Δt
B15: Tr-Ti/Ta-Ti | C15: > ou = 0.7 | D15: alors | E15: Δt=((Ta-Tr)/2)-Ti
B16: Tr-Ti/Ta-Ti | C16: <0.7 | D16: alors | E16: Δt=(Ta-Tr)/ln((Ta-Ti)/(Tr-Ti))
B18: Donc => | C18: Tr-Ti/Ta-Ti = | D18: =IF(ISERROR(($D$5-$D$7)/($D$4-$D$7)),"",($D$5-$D$7)/($D$4-$D$7)) | E18: => | F18: Δt = | G18: =IF(D18<0.7,(D4-D5)/LN((D4-D7)/(D5-D7)),((D4+D5)/2)-D7) -> 0 | H18: K
B20: 2/ Coefficient de correction
B22: Φ=Φn/(Δt/50)^n | E22: d’où (Δt/50)^n | F22: => | G22: =IF(ISERROR((G18/50)^D9),"",(G18/50)^D9)
B24: 3/Puissance utile du radiaeur
B26: Φ=Φn/(Δt/50)^n | E26: d’où | F26: => | G26: =IF(ISERROR($D$10/$G$22),"",$D$10/$G$22) | H26: W
B29: 4/Puissance reelle du radiateur
B31: Choix du radiateur :
B32: Puissance du radiateur à Δt=50 K | G32: W
B34: Puissance reelle du radiateur => | E34: =IF(ISERROR($E$32*$G$22),"",$E$32*$G$22) | F34: W
B36: 5/Débit du radiateur
B38: Q = m*C*Δt | C38: d’où | D38: m=Q/(C*Δt) | E38: d’où m= | F38: =IF(ISERROR(E34/(4187*(D4-D5))),"",E34/(4187*(D4-D5))) | G38: Kg/s
E39: m= | F39: =IF(ISERROR(F38*3600),"",F38*3600) | G39: Kg/h
E40: m= | F40: =IF(ISERROR($F$39*0.001),"",$F$39*0.001) | G40: m3/h

Sheet rad monotube
C1: CALCUL DE RADIATEUR MONOTUBE
A5: Température Départ | C5: tD
A6: Température retour | C6: tR
A7: Température moyenne entre 2 radiateurs | E7: tem
A8: Température entré radiateur | E8: ter
A9: Température sortie radiateur | E9: tsr
A10: Température moyenne du radiateur | E10: trm
A13: Z | B13: 2 | C13: 4 | D13: 6 | E13: 8 | F13: 11 | G13: 14Δ | H13: 20
A14: Δt col | B14: 20 | C14: 16.5 | D14: 15 | E14: 14.5 | F14: 14 | G14: 14 | H14: 14
A15: Δtr const | B15: 10 | C15: 8.25 | D15: 7.5 | E15: 7.25 | F15: 7 | G15: 7 | H15: 7
A18: 1/ INSTALLATION AVEC UN Δt CONSTANT ET DEBIT VARIABLE
A20: td | C20: °C
A21: tr | C21: °C
A22: Δt col | B22: =IF(OR(B20="",B21=""),"",B20-B21) | C22: °C
A23: Fact correct n
A24: Δtr | C24: K
A25: Z nbre rad
A27: N° | B27: Qh [W] | C27: Grad [Kg/h] | D27: Δt'col [°C] | E27: tme [°C] | F27: trm [°C] | G27: ti [°C] | H27: Δt rm - ti | I27: Facteur de correction | J27: Qn à 50 K [W] | K27: Type de radiateur | L27: Puissance rad à 50K | M27: Qeff
C28: =IF($B$24="","",(B28*3600)/(4187*$B$24)) | D28: =IF(OR(B28="",$B$22="",$B$39=""),"",(B28*$B$22)/$B$39) | E28: =IF(B20="","",B20) | F28: =IF(OR($B$24="",E28="",A28=""),"",E28-($B$24/2)) | H28: =IF(OR(G28="",F28=""),"",F28-G28) | I28: =IF(OR($B$23="",H28=""),"",(H28/50)^$B$23) | J28: =IF(OR(B28="",I28=""),"",B28/I28) | M28: =IF(OR(I28="",L28=""),"",L28*I28)
C29: =IF($B$24="","",(B29*3600)/(4187*$B$24)) | D29: =IF(OR(B29="",$B$22="",$B$39=""),"",(B29*$B$22)/$B$39) | E29: =IF(OR(E28="",D28=""),"",E28-D28) | F29: =IF(OR($B$24="",E29="",A29=""),"",E29-($B$24/2)) | H29: =IF(OR(G29="",F29=""),"",F29-G29) | I29: =IF(OR($B$23="",H29=""),"",(H29/50)^$B$23) | J29: =IF(OR(B29="",I29=""),"",B29/I29) | M29: =IF(OR(I29="",L29=""),"",L29*I29)
C30: =IF($B$24="","",(B30*3600)/(4187*$B$24)) | D30: =IF(OR(B30="",$B$22="",$B$39=""),"",(B30*$B$22)/$B$39) | E30: =IF(OR(E29="",D29=""),"",E29-D29) | F30: =IF(OR($B$24="",E30="",A30=""),"",E30-($B$24/2)) | H30: =IF(OR(G30="",F30=""),"",F30-G30) | I30: =IF(OR($B$23="",H30=""),"",(H30/50)^$B$23) | J30: =IF(OR(B30="",I30=""),"",B30/I30) | M30: =IF(OR(I30="",L30=""),"",L30*I30)
C31: =IF($B$24="","",(B31*3600)/(4187*$B$24)) | D31: =IF(OR(B31="",$B$22="",$B$39=""),"",(B31*$B$22)/$B$39) | E31: =IF(OR(E30="",D30=""),"",E30-D30) | F31: =IF(OR($B$24="",E31="",A31=""),"",E31-($B$24/2)) | H31: =IF(OR(G31="",F31=""),"",F31-G31) | I31: =IF(OR($B$23="",H31=""),"",(H31/50)^$B$23) | J31: =IF(OR(B31="",I31=""),"",B31/I31) | M31: =IF(OR(I31="",L31=""),"",L31*I31)
C32: =IF($B$24="","",(B32*3600)/(4187*$B$24)) | D32: =IF(OR(B32="",$B$22="",$B$39=""),"",(B32*$B$22)/$B$39) | E32: =IF(OR(E31="",D31=""),"",E31-D31) | F32: =IF(OR($B$24="",E32="",A32=""),"",E32-($B$24/2)) | H32: =IF(OR(G32="",F32=""),"",F32-G32) | I32: =IF(OR($B$23="",H32=""),"",(H32/50)^$B$23) | J32: =IF(OR(B32="",I32=""),"",B32/I32) | M32: =IF(OR(I32="",L32=""),"",L32*I32)
C33: =IF($B$24="","",(B33*3600)/(4187*$B$24)) | D33: =IF(OR(B33="",$B$22="",$B$39=""),"",(B33*$B$22)/$B$39) | E33: =IF(OR(E32="",D32=""),"",E32-D32) | F33: =IF(OR($B$24="",E33="",A33=""),"",E33-($B$24/2)) | H33: =IF(OR(G33="",F33=""),"",F33-G33) | I33: =IF(OR($B$23="",H33=""),"",(H33/50)^$B$23) | J33: =IF(OR(B33="",I33=""),"",B33/I33) | M33: =IF(OR(I33="",L33=""),"",L33*I33)
C34: =IF($B$24="","",(B34*3600)/(4187*$B$24)) | D34: =IF(OR(B34="",$B$22="",$B$39=""),"",(B34*$B$22)/$B$39) | E34: =IF(OR(E33="",D33=""),"",E33-D33) | F34: =IF(OR($B$24="",E34="",A34=""),"",E34-($B$24/2)) | H34: =IF(OR(G34="",F34=""),"",F34-G34) | I34: =IF(OR($B$23="",H34=""),"",(H34/50)^$B$23) | J34: =IF(OR(B34="",I34=""),"",B34/I34) | M34: =IF(OR(I34="",L34=""),"",L34*I34)
C35: =IF($B$24="","",(B35*3600)/(4187*$B$24)) | D35: =IF(OR(B35="",$B$22="",$B$39=""),"",(B35*$B$22)/$B$39) | E35: =IF(OR(E34="",D34=""),"",E34-D34) | F35: =IF(OR($B$24="",E35="",A35=""),"",E35-($B$24/2)) | H35: =IF(OR(G35="",F35=""),"",F35-G35) | I35: =IF(OR($B$23="",H35=""),"",(H35/50)^$B$23) | J35: =IF(OR(B35="",I35=""),"",B35/I35) | M35: =IF(OR(I35="",L35=""),"",L35*I35)
C36: =IF($B$24="","",(B36*3600)/(4187*$B$24)) | D36: =IF(OR(B36="",$B$22="",$B$39=""),"",(B36*$B$22)/$B$39) | E36: =IF(OR(E35="",D35=""),"",E35-D35) | F36: =IF(OR($B$24="",E36="",A36=""),"",E36-($B$24/2)) | H36: =IF(OR(G36="",F36=""),"",F36-G36) | I36: =IF(OR($B$23="",H36=""),"",(H36/50)^$B$23) | J36: =IF(OR(B36="",I36=""),"",B36/I36) | M36: =IF(OR(I36="",L36=""),"",L36*I36)
C37: =IF($B$24="","",(B37*3600)/(4187*$B$24)) | D37: =IF(OR(B37="",$B$22="",$B$39=""),"",(B37*$B$22)/$B$39) | E37: =IF(OR(E36="",D36=""),"",E36-D36) | F37: =IF(OR($B$24="",E37="",A37=""),"",E37-($B$24/2)) | H37: =IF(OR(G37="",F37=""),"",F37-G37) | I37: =IF(OR($B$23="",H37=""),"",(H37/50)^$B$23) | J37: =IF(OR(B37="",I37=""),"",B37/I37) | M37: =IF(OR(I37="",L37=""),"",L37*I37)
C38: =IF($B$24="","",(B38*3600)/(4187*$B$24)) | D38: =IF(OR(B38="",$B$22="",$B$39=""),"",(B38*$B$22)/$B$39) | E38: =IF(OR(E37="",D37=""),"",E37-D37) | F38: =IF(OR($B$24="",E38="",A38=""),"",E38-($B$24/2)) | H38: =IF(OR(G38="",F38=""),"",F38-G38) | I38: =IF(OR($B$23="",H38=""),"",(H38/50)^$B$23) | J38: =IF(OR(B38="",I38=""),"",B38/I38) | M38: =IF(OR(I38="",L38=""),"",L38*I38)
B39: =SUM(B28:B38) -> 0 | F39: =IF(B25="","",SUM(F28:F38)/B25) | H39: =IF(OR(G39="",F39=""),"",F39-G39) | M39: =SUM(M28:M38) -> 0
A44: 2/ INSTALLATION AVEC UN DEBIT CONSTANT
D45: Fact correct n
A46: td | C46: °C | D46: Z nbr rad
A47: tr | C47: °C
A48: Δt col | B48: =IF(OR(B46="",B47=""),"",B46-B47) | C48: °C
A49: Débit col | B49: =IF(OR(B48="",B65=""),"",(B65*3600)/(B48*4187)) | C49: Kg/h
A50: Debit serie | B50: =IF(OR(B49="",E46=""),"",(2*B49)/E46) | C50: Kg/h
A53: N° | B53: Qh [W] | C53: Δtr | D53: Δt'col [°C] | E53: tme [°C] | F53: trm [°C] | G53: ti [°C] | H53: Δt rm - ti | I53: Facteur de correction | J53: Qn à 50 K [W] | K53: Type de radiateur | L53: Puissance rad à 50K | M53: Qeff
C54: =IF(OR($B$50="",B54=""),"",(B54*3600)/($B$50*4187)) | D54: =IF(OR($B$48="",B54="",$B$65=""),"",B54*$B$48/$B$65) | E54: =IF(B46="","",B46) | F54: =IF(OR(C54="",E54="",A54=""),"",E54-(C54/2)) | H54: =IF(OR(G54="",F54=""),"",F54-G54) | I54: =IF(OR($E$45="",H54=""),"",(H54/50)^$E$45) | J54: =IF(OR(B54="",I54=""),"",B54/I54) | M54: =IF(OR(I54="",L54=""),"",L54*I54)
C55: =IF(OR($B$50="",B55=""),"",(B55*3600)/($B$50*4187)) | D55: =IF(OR($B$48="",B55="",$B$65=""),"",B55*$B$48/$B$65) | E55: =IF(OR(E54="",D54=""),"",E54-D54) | F55: =IF(OR(C55="",E55="",A55=""),"",E55-(C55/2)) | H55: =IF(OR(G55="",F55=""),"",F55-G55) | I55: =IF(OR($E$45="",H55=""),"",(H55/50)^$E$45) | J55: =IF(OR(B55="",I55=""),"",B55/I55) | M55: =IF(OR(I55="",L55=""),"",L55*I55)
C56: =IF(OR($B$50="",B56=""),"",(B56*3600)/($B$50*4187)) | D56: =IF(OR($B$48="",B56="",$B$65=""),"",B56*$B$48/$B$65) | E56: =IF(OR(E55="",D55=""),"",E55-D55) | F56: =IF(OR(C56="",E56="",A56=""),"",E56-(C56/2)) | H56: =IF(OR(G56="",F56=""),"",F56-G56) | I56: =IF(OR($E$45="",H56=""),"",(H56/50)^$E$45) | J56: =IF(OR(B56="",I56=""),"",B56/I56) | M56: =IF(OR(I56="",L56=""),"",L56*I56)
C57: =IF(OR($B$50="",B57=""),"",(B57*3600)/($B$50*4187)) | D57: =IF(OR($B$48="",B57="",$B$65=""),"",B57*$B$48/$B$65) | E57: =IF(OR(E56="",D56=""),"",E56-D56) | F57: =IF(OR(C57="",E57="",A57=""),"",E57-(C57/2)) | H57: =IF(OR(G57="",F57=""),"",F57-G57) | I57: =IF(OR($E$45="",H57=""),"",(H57/50)^$E$45) | J57: =IF(OR(B57="",I57=""),"",B57/I57) | M57: =IF(OR(I57="",L57=""),"",L57*I57)
C58: =IF(OR($B$50="",B58=""),"",(B58*3600)/($B$50*4187)) | D58: =IF(OR($B$48="",B58="",$B$65=""),"",B58*$B$48/$B$65) | E58: =IF(OR(E57="",D57=""),"",E57-D57) | F58: =IF(OR(C58="",E58="",A58=""),"",E58-(C58/2)) | H58: =IF(OR(G58="",F58=""),"",F58-G58) | I58: =IF(OR($E$45="",H58=""),"",(H58/50)^$E$45) | J58: =IF(OR(B58="",I58=""),"",B58/I58) | M58: =IF(OR(I58="",L58=""),"",L58*I58)
C59: =IF(OR($B$50="",B59=""),"",(B59*3600)/($B$50*4187)) | D59: =IF(OR($B$48="",B59="",$B$65=""),"",B59*$B$48/$B$65) | E59: =IF(OR(E58="",D58=""),"",E58-D58) | F59: =IF(OR(C59="",E59="",A59=""),"",E59-(C59/2)) | H59: =IF(OR(G59="",F59=""),"",F59-G59) | I59: =IF(OR($E$45="",H59=""),"",(H59/50)^$E$45) | J59: =IF(OR(B59="",I59=""),"",B59/I59) | M59: =IF(OR(I59="",L59=""),"",L59*I59)
C60: =IF(OR($B$50="",B60=""),"",(B60*3600)/($B$50*4187)) | D60: =IF(OR($B$48="",B60="",$B$65=""),"",B60*$B$48/$B$65) | E60: =IF(OR(E59="",D59=""),"",E59-D59) | F60: =IF(OR(C60="",E60="",A60=""),"",E60-(C60/2)) | H60: =IF(OR(G60="",F60=""),"",F60-G60) | I60: =IF(OR($E$45="",H60=""),"",(H60/50)^$E$45) | J60: =IF(OR(B60="",I60=""),"",B60/I60) | M60: =IF(OR(I60="",L60=""),"",L60*I60)
C61: =IF(OR($B$50="",B61=""),"",(B61*3600)/($B$50*4187)) | D61: =IF(OR($B$48="",B61="",$B$65=""),"",B61*$B$48/$B$65) | E61: =IF(OR(E60="",D60=""),"",E60-D60) | F61: =IF(OR(C61="",E61="",A61=""),"",E61-(C61/2)) | H61: =IF(OR(G61="",F61=""),"",F61-G61) | I61: =IF(OR($E$45="",H61=""),"",(H61/50)^$E$45) | J61: =IF(OR(B61="",I61=""),"",B61/I61) | M61: =IF(OR(I61="",L61=""),"",L61*I61)
C62: =IF(OR($B$50="",B62=""),"",(B62*3600)/($B$50*4187)) | D62: =IF(OR($B$48="",B62="",$B$65=""),"",B62*$B$48/$B$65) | E62: =IF(OR(E61="",D61=""),"",E61-D61) | F62: =IF(OR(C62="",E62="",A62=""),"",E62-(C62/2)) | H62: =IF(OR(G62="",F62=""),"",F62-G62) | I62: =IF(OR($E$45="",H62=""),"",(H62/50)^$E$45) | J62: =IF(OR(B62="",I62=""),"",B62/I62) | M62: =IF(OR(I62="",L62=""),"",L62*I62)
C63: =IF(OR($B$50="",B63=""),"",(B63*3600)/($B$50*4187)) | D63: =IF(OR($B$48="",B63="",$B$65=""),"",B63*$B$48/$B$65) | E63: =IF(OR(E62="",D62=""),"",E62-D62) | F63: =IF(OR(C63="",E63="",A63=""),"",E63-(C63/2)) | H63: =IF(OR(G63="",F63=""),"",F63-G63) | I63: =IF(OR($E$45="",H63=""),"",(H63/50)^$E$45) | J63: =IF(OR(B63="",I63=""),"",B63/I63) | M63: =IF(OR(I63="",L63=""),"",L63*I63)
C64: =IF(OR($B$50="",B64=""),"",(B64*3600)/($B$50*4187)) | D64: =IF(OR($B$48="",B64="",$B$65=""),"",B64*$B$48/$B$65) | E64: =IF(OR(E63="",D63=""),"",E63-D63) | F64: =IF(OR(C64="",E64="",A64=""),"",E64-(C64/2)) | H64: =IF(OR(G64="",F64=""),"",F64-G64) | I64: =IF(OR($E$45="",H64=""),"",(H64/50)^$E$45) | J64: =IF(OR(B64="",I64=""),"",B64/I64) | M64: =IF(OR(I64="",L64=""),"",L64*I64)
B65: =SUM(B54:B64) -> 0 | F65: =IF(E46="","",SUM(F54:F64)/E46) | M65: =SUM(M54:M64) -> 0

Sheet deperd tuyauterie
H6: DEPERDITION TAYAUTERIE NU ET ISOLE
A8: Tronçon | B8: diam | C8: Tuyau | D8: index | E8: Kt/kti | F8: Φn [w/m] | G8: ta [°C] | H8: tr [°C] | I8: tatr | J8: ti [°C] | K8: fct/fcti | L8: Position tuyauterie | M8: fp | N8: Long tube [m] | O8: Φtot [w] | P8: Débit des pertes tuyauterie [kg/h] | Q8: Cumul Débit net [kg/h] | R8: Débit réel des tuyauteries antérieurs | S8: cumul des débits réels | T8: Débit + pertes | U8: Compens pertes | V8: Débit total | W8: Majoration [%]
A10: 1 | D10: =IF(C10="nu",3,IF(C10="isole",4,IF(C10="",""))) | E10: =IF(OR(C10="",B10=""),"",VLOOKUP(B10,DN,D10,0)) | F10: =IF(E10="","",E10*60) | I10: =G10&H10 | K10: =IF(D10=3,INDEX('coef Fct'!fct,VLOOKUP(I10,tatr,2,0),VLOOKUP('deperd tuyauterie'!J10,ti,2,0)),IF(D10=4,INDEX(fcti,VLOOKUP(I10,tatr,2,0),VLOOKUP('deperd tuyauterie'!J10,tii,2,0)),IF(D10="",""))) | M10: =IF(L10="","",VLOOKUP(L10,annexe!position,2,0)) | O10: =IF(OR(M10="",K10=""),"",IF(M10="",F10*K10*N10,IF(N10<>"",F10*K10*M10*N10))) | P10: =IF(OR(O10="",C10=""),"",(O10*0.86)/(G10-H10)) | Q10: Débit net
Q11: Débit tuyauterie
A12: 2 | D12: =IF(C12="nu",3,IF(C12="isole",4,IF(C12="",""))) | E12: =IF(OR(C12="",B12=""),"",VLOOKUP(B12,DN,D12,0)) | F12: =IF(E12="","",E12*60) | I12: =G12&H12 | K12: =IF(D12=3,INDEX('coef Fct'!fct,VLOOKUP(I12,tatr,2,0),VLOOKUP('deperd tuyauterie'!J12,ti,2,0)),IF(D12=4,INDEX(fcti,VLOOKUP(I12,tatr,2,0),VLOOKUP('deperd tuyauterie'!J12,tii,2,0)),IF(D12="",""))) | M12: =IF(L12="","",VLOOKUP(L12,annexe!position,2,0)) | O12: =IF(OR(M12="",K12=""),"",IF(M12="",F12*K12*N12,IF(N12<>"",F12*K12*M12*N12))) | P12: =IF(OR(O12="",C12=""),"",(O12*0.86)/(G12-H12)) | Q12: Débit net
Q13: Débit tuyauterie
A14: 3 | D14: =IF(C14="nu",3,IF(C14="isole",4,IF(C14="",""))) | E14: =IF(OR(C14="",B14=""),"",VLOOKUP(B14,DN,D14,0)) | F14: =IF(E14="","",E14*60) | I14: =G14&H14 | K14: =IF(D14=3,INDEX('coef Fct'!fct,VLOOKUP(I14,tatr,2,0),VLOOKUP('deperd tuyauterie'!J14,ti,2,0)),IF(D14=4,INDEX(fcti,VLOOKUP(I14,tatr,2,0),VLOOKUP('deperd tuyauterie'!J14,tii,2,0)),IF(D14="",""))) | M14: =IF(L14="","",VLOOKUP(L14,annexe!position,2,0)) | O14: =IF(OR(M14="",K14=""),"",IF(M14="",F14*K14*N14,IF(N14<>"",F14*K14*M14*N14))) | P14: =IF(OR(O14="",C14=""),"",(O14*0.86)/(G14-H14)) | Q14: Débit net | S14: =IF(ISERROR(S16+R14),0,S16+R14) -> 0
Q15: Débit tuyauterie
A16: 4 | B16: 51/57 | C16: nu | D16: =IF(C16="nu",3,IF(C16="isole",4,IF(C16="",""))) -> 3 | E16: =IF(OR(C16="",B16=""),"",VLOOKUP(B16,DN,D16,0)) -> 2.33 | F16: =IF(E16="","",E16*60) -> 139.8 | G16: 90 | H16: 70 | I16: =G16&H16 -> 9070 | J16: 10 | K16: =IF(D16=3,INDEX('coef Fct'!fct,VLOOKUP(I16,tatr,2,0),VLOOKUP('deperd tuyauterie'!J16,ti,2,0)),IF(D16=4,INDEX(fcti,VLOOKUP(I16,tatr,2,0),VLOOKUP('deperd tuyauterie'!J16,tii,2,0)),IF(D16="",""))) -> 1.174 | L16: Tuyau hori sous plafond | M16: =IF(L16="","",VLOOKUP(L16,annexe!position,2,0)) -> 0.75 | N16: 16 | O16: =IF(OR(M16="",K16=""),"",IF(M16="",F16*K16*N16,IF(N16<>"",F16*K16*M16*N16))) -> 1969.5024 | P16: =IF(OR(O16="",C16=""),"",(O16*0.86)/(G16-H16)) -> 84.688603 | Q16: Débit net | R16: 930 | S16: =IF(ISERROR(S18+R16),0,S18+R16) -> 3330 | T16: =IF(AND(T18="",R17=""),P16+R16+S16,P16+R16) -> 1014.6886
Q17: Débit tuyauterie | R17: 180
A18: 5 | B18: 43/48 | C18: isole | D18: =IF(C18="nu",3,IF(C18="isole",4,IF(C18="",""))) -> 4 | E18: =IF(OR(C18="",B18=""),"",VLOOKUP(B18,DN,D18,0)) -> 0.33 | F18: =IF(E18="","",E18*60) -> 19.8 | G18: 90 | H18: 70 | I18: =G18&H18 -> 9070 | J18: 7 | K18: =IF(D18=3,INDEX('coef Fct'!fct,VLOOKUP(I18,tatr,2,0),VLOOKUP('deperd tuyauterie'!J18,ti,2,0)),IF(D18=4,INDEX(fcti,VLOOKUP(I18,tatr,2,0),VLOOKUP('deperd tuyauterie'!J18,tii,2,0)),IF(D18="",""))) -> 1.217 | L18: Tuyau hori sous plafond | M18: =IF(L18="","",VLOOKUP(L18,annexe!position,2,0)) -> 0.75 | N18: 16 | O18: =IF(OR(M18="",K18=""),"",IF(M18="",F18*K18*N18,IF(N18<>"",F18*K18*M18*N18))) -> 289.1592 | P18: =IF(OR(O18="",C18=""),"",(O18*0.86)/(G18-H18)) -> 12.433846 | Q18: Débit net | R18: 1300 | S18: =IF(ISERROR(S20+R18),0,S20+R18) -> 2400 | T18: =IF(AND(T20="",R19=""),P18+R18+S18,P18+R18) -> 1312.4338
Q19: Débit tuyauterie | R19: 210
A20: 6 | B20: 1 " | C20: isole | D20: =IF(C20="nu",3,IF(C20="isole",4,IF(C20="",""))) -> 4 | E20: =IF(OR(C20="",B20=""),"",VLOOKUP(B20,DN,D20,0)) -> 0.33 | F20: =IF(E20="","",E20*60) -> 19.8 | G20: 90 | H20: 70 | I20: =G20&H20 -> 9070 | J20: 7 | K20: =IF(D20=3,INDEX('coef Fct'!fct,VLOOKUP(I20,tatr,2,0),VLOOKUP('deperd tuyauterie'!J20,ti,2,0)),IF(D20=4,INDEX(fcti,VLOOKUP(I20,tatr,2,0),VLOOKUP('deperd tuyauterie'!J20,tii,2,0)),IF(D20="",""))) -> 1.217 | L20: Tuyau hori sous plafond | M20: =IF(L20="","",VLOOKUP(L20,annexe!position,2,0)) -> 0.75 | N20: 28 | O20: =IF(OR(M20="",K20=""),"",IF(M20="",F20*K20*N20,IF(N20<>"",F20*K20*M20*N20))) -> 506.0286 | P20: =IF(OR(O20="",C20=""),"",(O20*0.86)/(G20-H20)) -> 21.75923 | Q20: Débit net | R20: 750 | S20: =IF(ISERROR(S22+R20),0,S22+R20) -> 1100 | T20: =IF(AND(T22="",R21=""),P20+R20+S20,P20+R20) -> 771.75923
Q21: Débit tuyauterie | R21: 120
A22: 7 | B22: 3/4" | C22: nu | D22: =IF(C22="nu",3,IF(C22="isole",4,IF(C22="",""))) -> 3 | E22: =IF(OR(C22="",B22=""),"",VLOOKUP(B22,DN,D22,0)) -> 1.22 | F22: =IF(E22="","",E22*60) -> 73.2 | G22: 90 | H22: 70 | I22: =G22&H22 -> 9070 | J22: 15 | K22: =IF(D22=3,INDEX('coef Fct'!fct,VLOOKUP(I22,tatr,2,0),VLOOKUP('deperd tuyauterie'!J22,ti,2,0)),IF(D22=4,INDEX(fcti,VLOOKUP(I22,tatr,2,0),VLOOKUP('deperd tuyauterie'!J22,tii,2,0)),IF(D22="",""))) -> 1.086 | L22: Tuyau hori sous plafond | M22: =IF(L22="","",VLOOKUP(L22,annexe!position,2,0)) -> 0.75 | N22: 18 | O22: =IF(OR(M22="",K22=""),"",IF(M22="",F22*K22*N22,IF(N22<>"",F22*K22*M22*N22))) -> 1073.1852 | P22: =IF(OR(O22="",C22=""),"",(O22*0.86)/(G22-H22)) -> 46.146964 | Q22: Débit net | R22: 150 | S22: =IF(ISERROR(S24+R22),0,S24+R22) -> 350 | T22: =IF(AND(T24="",R23=""),P22+R22+S22,P22+R22) -> 196.14696
Q23: Débit tuyauterie | R23: 18
A24: 8 | B24: 1 " | C24: nu | D24: =IF(C24="nu",3,IF(C24="isole",4,IF(C24="",""))) -> 3 | E24: =IF(OR(C24="",B24=""),"",VLOOKUP(B24,DN,D24,0)) -> 1.48 | F24: =IF(E24="","",E24*60) -> 88.8 | G24: 90 | H24: 70 | I24: =G24&H24 -> 9070 | J24: 20 | K24: =IF(D24=3,INDEX('coef Fct'!fct,VLOOKUP(I24,tatr,2,0),VLOOKUP('deperd tuyauterie'!J24,ti,2,0)),IF(D24=4,INDEX(fcti,VLOOKUP(I24,tatr,2,0),VLOOKUP('deperd tuyauterie'!J24,tii,2,0)),IF(D24="",""))) -> 1 | L24: Tuyau vert | M24: =IF(L24="","",VLOOKUP(L24,annexe!position,2,0)) -> 0.9 | N24: 6 | O24: =IF(OR(M24="",K24=""),"",IF(M24="",F24*K24*N24,IF(N24<>"",F24*K24*M24*N24))) -> 479.52 | P24: =IF(OR(O24="",C24=""),"",(O24*0.86)/(G24-H24)) -> 20.61936 | Q24: Débit net | R24: 100 | S24: =IF(ISERROR(S26+R24),0,S26+R24) -> 200 | T24: =IF(AND(T26="",R25=""),P24+R24+S24,P24+R24) -> 120.61936
Q25: Débit tuyauterie | R25: 15
A26: 9 | B26: 3/8" | C26: nu | D26: =IF(C26="nu",3,IF(C26="isole",4,IF(C26="",""))) -> 3 | E26: =IF(OR(C26="",B26=""),"",VLOOKUP(B26,DN,D26,0)) -> 0.82 | F26: =IF(E26="","",E26*60) -> 49.2 | G26: 90 | H26: 70 | I26: =G26&H26 -> 9070 | J26: 20 | K26: =IF(D26=3,INDEX('coef Fct'!fct,VLOOKUP(I26,tatr,2,0),VLOOKUP('deperd tuyauterie'!J26,ti,2,0)),IF(D26=4,INDEX(fcti,VLOOKUP(I26,tatr,2,0),VLOOKUP('deperd tuyauterie'!J26,tii,2,0)),IF(D26="",""))) -> 1 | L26: Tuyau vert | M26: =IF(L26="","",VLOOKUP(L26,annexe!position,2,0)) -> 0.9 | N26: 10 | O26: =IF(OR(M26="",K26=""),"",IF(M26="",F26*K26*N26,IF(N26<>"",F26*K26*M26*N26))) -> 442.8 | P26: =IF(OR(O26="",C26=""),"",(O26*0.86)/(G26-H26)) -> 19.0404 | Q26: Débit net | R26: 100 | S26: =IF(ISERROR(S28+R26),0,S28+R26) -> 100 | T26: =IF(AND(T28="",R27=""),P26+R26+S26,P26+R26) -> 119.0404
Q27: Débit tuyauterie
A28: 10 | D28: =IF(C28="nu",3,IF(C28="isole",4,IF(C28="",""))) | E28: =IF(OR(C28="",B28=""),"",VLOOKUP(B28,DN,D28,0)) | F28: =IF(E28="","",E28*60) | I28: =G28&H28 | J28: 5 | K28: =IF(D28=3,INDEX('coef Fct'!fct,VLOOKUP(I28,tatr,2,0),VLOOKUP('deperd tuyauterie'!J28,ti,2,0)),IF(D28=4,INDEX(fcti,VLOOKUP(I28,tatr,2,0),VLOOKUP('deperd tuyauterie'!J28,tii,2,0)),IF(D28="",""))) | M28: =IF(L28="","",VLOOKUP(L28,annexe!position,2,0)) | N28: 36 | O28: =IF(OR(M28="",K28=""),"",IF(M28="",F28*K28*N28,IF(N28<>"",F28*K28*M28*N28))) | P28: =IF(OR(O28="",C28=""),"",(O28*0.86)/(G28-H28)) | Q28: Débit net | S28: =IF(ISERROR(S30+R28),0,S30+R28) -> 0
Q29: Débit tuyauterie
A30: 11 | D30: =IF(C30="nu",3,IF(C30="isole",4,IF(C30="",""))) | E30: =IF(OR(C30="",B30=""),"",VLOOKUP(B30,DN,D30,0)) | F30: =IF(E30="","",E30*60) | I30: =G30&H30 | J30: 15 | K30: =IF(D30=3,INDEX('coef Fct'!fct,VLOOKUP(I30,tatr,2,0),VLOOKUP('deperd tuyauterie'!J30,ti,2,0)),IF(D30=4,INDEX(fcti,VLOOKUP(I30,tatr,2,0),VLOOKUP('deperd tuyauterie'!J30,tii,2,0)),IF(D30="",""))) | M30: =IF(L30="","",VLOOKUP(L30,annexe!position,2,0)) | N30: 22 | O30: =IF(OR(M30="",K30=""),"",IF(M30="",F30*K30*N30,IF(N30<>"",F30*K30*M30*N30))) | P30: =IF(OR(O30="",C30=""),"",(O30*0.86)/(G30-H30)) | Q30: Débit net
Q31: Débit tuyauterie
A32: 12 | D32: =IF(C32="nu",3,IF(C32="isole",4,IF(C32="",""))) | E32: =IF(OR(C32="",B32=""),"",VLOOKUP(B32,DN,D32,0)) | F32: =IF(E32="","",E32*60) | I32: =G32&H32 | J32: 7 | K32: =IF(D32=3,INDEX('coef Fct'!fct,VLOOKUP(I32,tatr,2,0),VLOOKUP('deperd tuyauterie'!J32,ti,2,0)),IF(D32=4,INDEX(fcti,VLOOKUP(I32,tatr,2,0),VLOOKUP('deperd tuyauterie'!J32,tii,2,0)),IF(D32="",""))) | M32: =IF(L32="","",VLOOKUP(L32,annexe!position,2,0)) | N32: 16 | O32: =IF(OR(M32="",K32=""),"",IF(M32="",F32*K32*N32,IF(N32<>"",F32*K32*M32*N32))) | P32: =IF(OR(O32="",C32=""),"",(O32*0.86)/(G32-H32)) | Q32: Débit net
Q33: Débit tuyauterie
A34: 13 | D34: =IF(C34="nu",3,IF(C34="isole",4,IF(C34="",""))) | E34: =IF(OR(C34="",B34=""),"",VLOOKUP(B34,DN,D34,0)) | F34: =IF(E34="","",E34*60) | I34: =G34&H34 | J34: 20 | K34: =IF(D34=3,INDEX('coef Fct'!fct,VLOOKUP(I34,tatr,2,0),VLOOKUP('deperd tuyauterie'!J34,ti,2,0)),IF(D34=4,INDEX(fcti,VLOOKUP(I34,tatr,2,0),VLOOKUP('deperd tuyauterie'!J34,tii,2,0)),IF(D34="",""))) | M34: =IF(L34="","",VLOOKUP(L34,annexe!position,2,0)) | N34: 26 | O34: =IF(OR(M34="",K34=""),"",IF(M34="",F34*K34*N34,IF(N34<>"",F34*K34*M34*N34))) | P34: =IF(OR(O34="",C34=""),"",(O34*0.86)/(G34-H34)) | Q34: Débit net
Q35: Débit tuyauterie | S35: =IF(S37="",R35,IF(R35="","",IF(AND(R35<>"",S37<>""),R35+S37)))
A36: 14 | D36: =IF(C36="nu",3,IF(C36="isole",4,IF(C36="",""))) | E36: =IF(OR(C36="",B36=""),"",VLOOKUP(B36,DN,D36,0)) | F36: =IF(E36="","",E36*60) | I36: =G36&H36 | J36: 20 | K36: =IF(D36=3,INDEX('coef Fct'!fct,VLOOKUP(I36,tatr,2,0),VLOOKUP('deperd tuyauterie'!J36,ti,2,0)),IF(D36=4,INDEX(fcti,VLOOKUP(I36,tatr,2,0),VLOOKUP('deperd tuyauterie'!J36,tii,2,0)),IF(D36="",""))) | M36: =IF(L36="","",VLOOKUP(L36,annexe!position,2,0)) | N36: 6 | O36: =IF(OR(M36="",K36=""),"",IF(M36="",F36*K36*N36,IF(N36<>"",F36*K36*M36*N36))) | P36: =IF(OR(O36="",C36=""),"",(O36*0.86)/(G36-H36)) | Q36: Débit net
Q37: Débit tuyauterie
A38: 15 | D38: =IF(C38="nu",3,IF(C38="isole",4,IF(C38="",""))) | E38: =IF(OR(C38="",B38=""),"",VLOOKUP(B38,DN,D38,0)) | F38: =IF(E38="","",E38*60) | I38: =G38&H38 | J38: 20 | K38: =IF(D38=3,INDEX('coef Fct'!fct,VLOOKUP(I38,tatr,2,0),VLOOKUP('deperd tuyauterie'!J38,ti,2,0)),IF(D38=4,INDEX(fcti,VLOOKUP(I38,tatr,2,0),VLOOKUP('deperd tuyauterie'!J38,tii,2,0)),IF(D38="",""))) | M38: =IF(L38="","",VLOOKUP(L38,annexe!position,2,0)) | N38: 10 | O38: =IF(OR(M38="",K38=""),"",IF(M38="",F38*K38*N38,IF(N38<>"",F38*K38*M38*N38))) | P38: =IF(OR(O38="",C38=""),"",(O38*0.86)/(G38-H38)) | Q38: Débit net
Q39: Débit tuyauterie
D40: =IF(C40="nu",3,IF(C40="isole",4,IF(C40="",""))) | E40: =IF(OR(C40="",B40=""),"",VLOOKUP(B40,DN,D40,0)) | F40: =IF(E40="","",E40*60) | I40: =G40&H40 | K40: =IF(D40=3,INDEX('coef Fct'!fct,VLOOKUP(I40,tatr,2,0),VLOOKUP('deperd tuyauterie'!J40,ti,2,0)),IF(D40=4,INDEX(fcti,VLOOKUP(I40,tatr,2,0),VLOOKUP('deperd tuyauterie'!J40,tii,2,0)),IF(D40="",""))) | M40: =IF(L40="","",VLOOKUP(L40,annexe!position,2,0)) | O40: =IF(OR(M40="",K40=""),"",IF(M40="",F40*K40*N40,IF(N40<>"",F40*K40*M40*N40))) | P40: =IF(OR(O40="",C40=""),"",(O40*0.86)/(G40-H40))
D42: =IF(C42="nu",3,IF(C42="isole",4,IF(C42="",""))) | E42: =IF(OR(C42="",B42=""),"",VLOOKUP(B42,DN,D42,0)) | F42: =IF(E42="","",E42*60) | I42: =G42&H42 | K42: =IF(D42=3,INDEX('coef Fct'!fct,VLOOKUP(I42,tatr,2,0),VLOOKUP('deperd tuyauterie'!J42,ti,2,0)),IF(D42=4,INDEX(fcti,VLOOKUP(I42,tatr,2,0),VLOOKUP('deperd tuyauterie'!J42,tii,2,0)),IF(D42="",""))) | M42: =IF(L42="","",VLOOKUP(L42,annexe!position,2,0)) | O42: =IF(OR(M42="",K42=""),"",IF(M42="",F42*K42*N42,IF(N42<>"",F42*K42*M42*N42))) | P42: =IF(OR(O42="",C42=""),"",(O42*0.86)/(G42-H42))
D44: =IF(C44="nu",3,IF(C44="isole",4,IF(C44="",""))) | E44: =IF(OR(C44="",B44=""),"",VLOOKUP(B44,DN,D44,0)) | F44: =IF(E44="","",E44*60) | I44: =G44&H44 | K44: =IF(D44=3,INDEX('coef Fct'!fct,VLOOKUP(I44,tatr,2,0),VLOOKUP('deperd tuyauterie'!J44,ti,2,0)),IF(D44=4,INDEX(fcti,VLOOKUP(I44,tatr,2,0),VLOOKUP('deperd tuyauterie'!J44,tii,2,0)),IF(D44="",""))) | M44: =IF(L44="","",VLOOKUP(L44,annexe!position,2,0)) | O44: =IF(OR(M44="",K44=""),"",IF(M44="",F44*K44*N44,IF(N44<>"",F44*K44*M44*N44))) | P44: =IF(OR(O44="",C44=""),"",(O44*0.86)/(G44-H44))
D46: =IF(C46="nu",3,IF(C46="isole",4,IF(C46="",""))) | E46: =IF(OR(C46="",B46=""),"",VLOOKUP(B46,DN,D46,0)) | F46: =IF(E46="","",E46*60) | I46: =G46&H46 | K46: =IF(D46=3,INDEX('coef Fct'!fct,VLOOKUP(I46,tatr,2,0),VLOOKUP('deperd tuyauterie'!J46,ti,2,0)),IF(D46=4,INDEX(fcti,VLOOKUP(I46,tatr,2,0),VLOOKUP('deperd tuyauterie'!J46,tii,2,0)),IF(D46="",""))) | M46: =IF(L46="","",VLOOKUP(L46,annexe!position,2,0)) | O46: =IF(OR(M46="",K46=""),"",IF(M46="",F46*K46*N46,IF(N46<>"",F46*K46*M46*N46))) | P46: =IF(OR(O46="",C46=""),"",(O46*0.86)/(G46-H46))
D48: =IF(C48="nu",3,IF(C48="isole",4,IF(C48="",""))) | E48: =IF(OR(C48="",B48=""),"",VLOOKUP(B48,DN,D48,0)) | F48: =IF(E48="","",E48*60) | I48: =G48&H48 | K48: =IF(D48=3,INDEX('coef Fct'!fct,VLOOKUP(I48,tatr,2,0),VLOOKUP('deperd tuyauterie'!J48,ti,2,0)),IF(D48=4,INDEX(fcti,VLOOKUP(I48,tatr,2,0),VLOOKUP('deperd tuyauterie'!J48,tii,2,0)),IF(D48="",""))) | M48: =IF(L48="","",VLOOKUP(L48,annexe!position,2,0)) | O48: =IF(OR(M48="",K48=""),"",IF(M48="",F48*K48*N48,IF(N48<>"",F48*K48*M48*N48))) | P48: =IF(OR(O48="",C48=""),"",(O48*0.86)/(G48-H48))
D50: =IF(C50="nu",3,IF(C50="isole",4,IF(C50="",""))) | E50: =IF(OR(C50="",B50=""),"",VLOOKUP(B50,DN,D50,0)) | F50: =IF(E50="","",E50*60) | I50: =G50&H50 | K50: =IF(D50=3,INDEX('coef Fct'!fct,VLOOKUP(I50,tatr,2,0),VLOOKUP('deperd tuyauterie'!J50,ti,2,0)),IF(D50=4,INDEX(fcti,VLOOKUP(I50,tatr,2,0),VLOOKUP('deperd tuyauterie'!J50,tii,2,0)),IF(D50="",""))) | M50: =IF(L50="","",VLOOKUP(L50,annexe!position,2,0)) | O50: =IF(OR(M50="",K50=""),"",IF(M50="",F50*K50*N50,IF(N50<>"",F50*K50*M50*N50))) | P50: =IF(OR(O50="",C50=""),"",(O50*0.86)/(G50-H50))
D52: =IF(C52="nu",3,IF(C52="isole",4,IF(C52="",""))) | E52: =IF(OR(C52="",B52=""),"",VLOOKUP(B52,DN,D52,0)) | F52: =IF(E52="","",E52*60) | I52: =G52&H52 | K52: =IF(D52=3,INDEX('coef Fct'!fct,VLOOKUP(I52,tatr,2,0),VLOOKUP('deperd tuyauterie'!J52,ti,2,0)),IF(D52=4,INDEX(fcti,VLOOKUP(I52,tatr,2,0),VLOOKUP('deperd tuyauterie'!J52,tii,2,0)),IF(D52="",""))) | M52: =IF(L52="","",VLOOKUP(L52,annexe!position,2,0)) | O52: =IF(OR(M52="",K52=""),"",IF(M52="",F52*K52*N52,IF(N52<>"",F52*K52*M52*N52))) | P52: =IF(OR(O52="",C52=""),"",(O52*0.86)/(G52-H52))
D54: =IF(C54="nu",3,IF(C54="isole",4,IF(C54="",""))) | E54: =IF(OR(C54="",B54=""),"",VLOOKUP(B54,DN,D54,0)) | F54: =IF(E54="","",E54*60) | I54: =G54&H54 | K54: =IF(D54=3,INDEX('coef Fct'!fct,VLOOKUP(I54,tatr,2,0),VLOOKUP('deperd tuyauterie'!J54,ti,2,0)),IF(D54=4,INDEX(fcti,VLOOKUP(I54,tatr,2,0),VLOOKUP('deperd tuyauterie'!J54,tii,2,0)),IF(D54="",""))) | M54: =IF(L54="","",VLOOKUP(L54,annexe!position,2,0)) | O54: =IF(OR(M54="",K54=""),"",IF(M54="",F54*K54*N54,IF(N54<>"",F54*K54*M54*N54))) | P54: =IF(OR(O54="",C54=""),"",(O54*0.86)/(G54-H54))
D56: =IF(C56="nu",3,IF(C56="isole",4,IF(C56="",""))) | E56: =IF(OR(C56="",B56=""),"",VLOOKUP(B56,DN,D56,0)) | F56: =IF(E56="","",E56*60) | I56: =G56&H56 | K56: =IF(D56=3,INDEX('coef Fct'!fct,VLOOKUP(I56,tatr,2,0),VLOOKUP('deperd tuyauterie'!J56,ti,2,0)),IF(D56=4,INDEX(fcti,VLOOKUP(I56,tatr,2,0),VLOOKUP('deperd tuyauterie'!J56,tii,2,0)),IF(D56="",""))) | M56: =IF(L56="","",VLOOKUP(L56,annexe!position,2,0)) | O56: =IF(OR(M56="",K56=""),"",IF(M56="",F56*K56*N56,IF(N56<>"",F56*K56*M56*N56))) | P56: =IF(OR(O56="",C56=""),"",(O56*0.86)/(G56-H56))
D58: =IF(C58="nu",3,IF(C58="isole",4,IF(C58="",""))) | E58: =IF(OR(C58="",B58=""),"",VLOOKUP(B58,DN,D58,0)) | F58: =IF(E58="","",E58*60) | I58: =G58&H58 | K58: =IF(D58=3,INDEX('coef Fct'!fct,VLOOKUP(I58,tatr,2,0),VLOOKUP('deperd tuyauterie'!J58,ti,2,0)),IF(D58=4,INDEX(fcti,VLOOKUP(I58,tatr,2,0),VLOOKUP('deperd tuyauterie'!J58,tii,2,0)),IF(D58="",""))) | M58: =IF(L58="","",VLOOKUP(L58,annexe!position,2,0)) | O58: =IF(OR(M58="",K58=""),"",IF(M58="",F58*K58*N58,IF(N58<>"",F58*K58*M58*N58))) | P58: =IF(OR(O58="",C58=""),"",(O58*0.86)/(G58-H58))
D60: =IF(C60="nu",3,IF(C60="isole",4,IF(C60="",""))) | E60: =IF(OR(C60="",B60=""),"",VLOOKUP(B60,DN,D60,0)) | F60: =IF(E60="","",E60*60) | I60: =G60&H60 | K60: =IF(D60=3,INDEX('coef Fct'!fct,VLOOKUP(I60,tatr,2,0),VLOOKUP('deperd tuyauterie'!J60,ti,2,0)),IF(D60=4,INDEX(fcti,VLOOKUP(I60,tatr,2,0),VLOOKUP('deperd tuyauterie'!J60,tii,2,0)),IF(D60="",""))) | M60: =IF(L60="","",VLOOKUP(L60,annexe!position,2,0)) | O60: =IF(OR(M60="",K60=""),"",IF(M60="",F60*K60*N60,IF(N60<>"",F60*K60*M60*N60))) | P60: =IF(OR(O60="",C60=""),"",(O60*0.86)/(G60-H60))
D62: =IF(C62="nu",3,IF(C62="isole",4,IF(C62="",""))) | E62: =IF(OR(C62="",B62=""),"",VLOOKUP(B62,DN,D62,0)) | F62: =IF(E62="","",E62*60) | I62: =G62&H62 | K62: =IF(D62=3,INDEX('coef Fct'!fct,VLOOKUP(I62,tatr,2,0),VLOOKUP('deperd tuyauterie'!J62,ti,2,0)),IF(D62=4,INDEX(fcti,VLOOKUP(I62,tatr,2,0),VLOOKUP('deperd tuyauterie'!J62,tii,2,0)),IF(D62="",""))) | M62: =IF(L62="","",VLOOKUP(L62,annexe!position,2,0)) | O62: =IF(OR(M62="",K62=""),"",IF(M62="",F62*K62*N62,IF(N62<>"",F62*K62*M62*N62))) | P62: =IF(OR(O62="",C62=""),"",(O62*0.86)/(G62-H62))
A68: Tronçon | B68: diam | C68: Tuyau | D68: index | E68: Kt/kti | F68: Φn [w/m] | G68: ta [°C] | H68: tr [°C] | I68: tatr | J68: ti [°C] | K68: fct/fcti | L68: Position tuyauterie | M68: fp | N68: Long tube [m] | O68: Φtot [w] | P68: Débit des pertes tuyauterie [kg/h] | Q68: Cumul Débit net [kg/h] | R68: Débit réel des tuyauteries antérieurs | S68: cumul des débits réels | T68: Débit + pertes | U68: Compens pertes | V68: Débit total | W68: Majoration [%]
A70: 10 | B70: 57/63 | C70: isole | D70: =IF(C70="nu",3,IF(C70="isole",4,IF(C70="",""))) -> 4 | E70: =IF(OR(C70="",B70=""),"",VLOOKUP(B70,DN,D70,0)) -> 0.4 | F70: =IF(E70="","",E70*60) -> 24 | G70: 90 | H70: 70 | I70: =G70&H70 -> 9070 | J70: 5 | K70: =IF(D70=3,INDEX('coef Fct'!fct,VLOOKUP(I70,tatr,2,0),VLOOKUP('deperd tuyauterie'!J70,ti,2,0)),IF(D70=4,INDEX(fcti,VLOOKUP(I70,tatr,2,0),VLOOKUP('deperd tuyauterie'!J70,tii,2,0)),IF(D70="",""))) -> 1.25 | L70: Tuyau hori sous plafond | M70: =IF(L70="","",VLOOKUP(L70,annexe!position,2,0)) -> 0.75 | N70: 36 | O70: =IF(OR(M70="",K70=""),"",IF(M70="",F70*K70*N70,IF(N70<>"",F70*K70*M70*N70))) -> 810 | P70: =IF(OR(O70="",C70=""),"",(O70*0.86)/(G70-H70)) -> 34.83 | Q70: Débit net
Q71: Débit tuyauterie
A72: 11 | B72: 43/48 | C72: nu | D72: =IF(C72="nu",3,IF(C72="isole",4,IF(C72="",""))) -> 3 | E72: =IF(OR(C72="",B72=""),"",VLOOKUP(B72,DN,D72,0)) -> 2.02 | F72: =IF(E72="","",E72*60) -> 121.2 | G72: 90 | H72: 70 | I72: =G72&H72 -> 9070 | J72: 15 | K72: =IF(D72=3,INDEX('coef Fct'!fct,VLOOKUP(I72,tatr,2,0),VLOOKUP('deperd tuyauterie'!J72,ti,2,0)),IF(D72=4,INDEX(fcti,VLOOKUP(I72,tatr,2,0),VLOOKUP('deperd tuyauterie'!J72,tii,2,0)),IF(D72="",""))) -> 1.086 | L72: Tuyau hori sous plafond | M72: =IF(L72="","",VLOOKUP(L72,annexe!position,2,0)) -> 0.75 | N72: 22 | O72: =IF(OR(M72="",K72=""),"",IF(M72="",F72*K72*N72,IF(N72<>"",F72*K72*M72*N72))) -> 2171.7828 | P72: =IF(OR(O72="",C72=""),"",(O72*0.86)/(G72-H72)) -> 93.38666 | Q72: Débit net | R72: 2600 | S72: =IF(ISERROR(S74+R72),0,S74+R72) -> 0
Q73: Débit tuyauterie | R73: 230
A74: 12 | B74: 1 1/4" | C74: isole | D74: =IF(C74="nu",3,IF(C74="isole",4,IF(C74="",""))) -> 4 | E74: =IF(OR(C74="",B74=""),"",VLOOKUP(B74,DN,D74,0)) -> 0.3 | F74: =IF(E74="","",E74*60) -> 18 | G74: 90 | H74: 70 | I74: =G74&H74 -> 9070 | J74: 7 | K74: =IF(D74=3,INDEX('coef Fct'!fct,VLOOKUP(I74,tatr,2,0),VLOOKUP('deperd tuyauterie'!J74,ti,2,0)),IF(D74=4,INDEX(fcti,VLOOKUP(I74,tatr,2,0),VLOOKUP('deperd tuyauterie'!J74,tii,2,0)),IF(D74="",""))) -> 1.217 | L74: Tuyau hori sous plafond | M74: =IF(L74="","",VLOOKUP(L74,annexe!position,2,0)) -> 0.75 | N74: 16 | O74: =IF(OR(M74="",K74=""),"",IF(M74="",F74*K74*N74,IF(N74<>"",F74*K74*M74*N74))) -> 262.872 | P74: =IF(OR(O74="",C74=""),"",(O74*0.86)/(G74-H74)) -> 11.303496 | Q74: Débit net | R74: 1250
Q75: Débit tuyauterie | R75: 180
A76: 13 | B76: 1 " | C76: nu | D76: =IF(C76="nu",3,IF(C76="isole",4,IF(C76="",""))) -> 3 | E76: =IF(OR(C76="",B76=""),"",VLOOKUP(B76,DN,D76,0)) -> 1.48 | F76: =IF(E76="","",E76*60) -> 88.8 | G76: 90 | H76: 70 | I76: =G76&H76 -> 9070 | J76: 20 | K76: =IF(D76=3,INDEX('coef Fct'!fct,VLOOKUP(I76,tatr,2,0),VLOOKUP('deperd tuyauterie'!J76,ti,2,0)),IF(D76=4,INDEX(fcti,VLOOKUP(I76,tatr,2,0),VLOOKUP('deperd tuyauterie'!J76,tii,2,0)),IF(D76="",""))) -> 1 | L76: Tuyau hori sous plafond | M76: =IF(L76="","",VLOOKUP(L76,annexe!position,2,0)) -> 0.75 | N76: 26 | O76: =IF(OR(M76="",K76=""),"",IF(M76="",F76*K76*N76,IF(N76<>"",F76*K76*M76*N76))) -> 1731.6 | P76: =IF(OR(O76="",C76=""),"",(O76*0.86)/(G76-H76)) -> 74.4588 | Q76: Débit net | R76: 880
Q77: Débit tuyauterie | R77: 120
A78: 14 | B78: 3/4" | C78: nu | D78: =IF(C78="nu",3,IF(C78="isole",4,IF(C78="",""))) -> 3 | E78: =IF(OR(C78="",B78=""),"",VLOOKUP(B78,DN,D78,0)) -> 1.22 | F78: =IF(E78="","",E78*60) -> 73.2 | G78: 90 | H78: 70 | I78: =G78&H78 -> 9070 | J78: 20 | K78: =IF(D78=3,INDEX('coef Fct'!fct,VLOOKUP(I78,tatr,2,0),VLOOKUP('deperd tuyauterie'!J78,ti,2,0)),IF(D78=4,INDEX(fcti,VLOOKUP(I78,tatr,2,0),VLOOKUP('deperd tuyauterie'!J78,tii,2,0)),IF(D78="",""))) -> 1 | L78: Tuyau vert | M78: =IF(L78="","",VLOOKUP(L78,annexe!position,2,0)) -> 0.9 | N78: 6 | O78: =IF(OR(M78="",K78=""),"",IF(M78="",F78*K78*N78,IF(N78<>"",F78*K78*M78*N78))) -> 395.28 | P78: =IF(OR(O78="",C78=""),"",(O78*0.86)/(G78-H78)) -> 16.99704 | Q78: Débit net | R78: 250
Q79: Débit tuyauterie | R79: 30
A80: 15 | B80: 1/2" | C80: nu | D80: =IF(C80="nu",3,IF(C80="isole",4,IF(C80="",""))) -> 3 | E80: =IF(OR(C80="",B80=""),"",VLOOKUP(B80,DN,D80,0)) -> 0.99 | F80: =IF(E80="","",E80*60) -> 59.4 | G80: 90 | H80: 70 | I80: =G80&H80 -> 9070 | J80: 20 | K80: =IF(D80=3,INDEX('coef Fct'!fct,VLOOKUP(I80,tatr,2,0),VLOOKUP('deperd tuyauterie'!J80,ti,2,0)),IF(D80=4,INDEX(fcti,VLOOKUP(I80,tatr,2,0),VLOOKUP('deperd tuyauterie'!J80,tii,2,0)),IF(D80="",""))) -> 1 | L80: Tuyau hori sur sol | M80: =IF(L80="","",VLOOKUP(L80,annexe!position,2,0)) -> 0.9 | N80: 10 | O80: =IF(OR(M80="",K80=""),"",IF(M80="",F80*K80*N80,IF(N80<>"",F80*K80*M80*N80))) -> 534.6 | P80: =IF(OR(O80="",C80=""),"",(O80*0.86)/(G80-H80)) -> 22.9878 | Q80: Débit net | R80: 300
Q81: Débit tuyauterie | R81: 38
A82: 7 | D82: =IF(C82="nu",3,IF(C82="isole",4,IF(C82="",""))) | E82: =IF(OR(C82="",B82=""),"",VLOOKUP(B82,DN,D82,0)) | F82: =IF(E82="","",E82*60) | I82: =G82&H82 | K82: =IF(D82=3,INDEX('coef Fct'!fct,VLOOKUP(I82,tatr,2,0),VLOOKUP('deperd tuyauterie'!J82,ti,2,0)),IF(D82=4,INDEX(fcti,VLOOKUP(I82,tatr,2,0),VLOOKUP('deperd tuyauterie'!J82,tii,2,0)),IF(D82="",""))) | M82: =IF(L82="","",VLOOKUP(L82,annexe!position,2,0)) | O82: =IF(OR(M82="",K82=""),"",IF(M82="",F82*K82*N82,IF(N82<>"",F82*K82*M82*N82))) | P82: =IF(OR(O82="",C82=""),"",(O82*0.86)/(G82-H82)) | Q82: Débit net | R82: 150
Q83: Débit tuyauterie
A84: 8 | D84: =IF(C84="nu",3,IF(C84="isole",4,IF(C84="",""))) | E84: =IF(OR(C84="",B84=""),"",VLOOKUP(B84,DN,D84,0)) | F84: =IF(E84="","",E84*60) | I84: =G84&H84 | K84: =IF(D84=3,INDEX('coef Fct'!fct,VLOOKUP(I84,tatr,2,0),VLOOKUP('deperd tuyauterie'!J84,ti,2,0)),IF(D84=4,INDEX(fcti,VLOOKUP(I84,tatr,2,0),VLOOKUP('deperd tuyauterie'!J84,tii,2,0)),IF(D84="",""))) | M84: =IF(L84="","",VLOOKUP(L84,annexe!position,2,0)) | N84: 6 | O84: =IF(OR(M84="",K84=""),"",IF(M84="",F84*K84*N84,IF(N84<>"",F84*K84*M84*N84))) | P84: =IF(OR(O84="",C84=""),"",(O84*0.86)/(G84-H84)) | Q84: Débit net | S84: =IF(ISERROR(S86+R84),0,S86+R84) -> 0
Q85: Débit tuyauterie
A86: 9 | D86: =IF(C86="nu",3,IF(C86="isole",4,IF(C86="",""))) | E86: =IF(OR(C86="",B86=""),"",VLOOKUP(B86,DN,D86,0)) | F86: =IF(E86="","",E86*60) | I86: =G86&H86 | K86: =IF(D86=3,INDEX('coef Fct'!fct,VLOOKUP(I86,tatr,2,0),VLOOKUP('deperd tuyauterie'!J86,ti,2,0)),IF(D86=4,INDEX(fcti,VLOOKUP(I86,tatr,2,0),VLOOKUP('deperd tuyauterie'!J86,tii,2,0)),IF(D86="",""))) | M86: =IF(L86="","",VLOOKUP(L86,annexe!position,2,0)) | O86: =IF(OR(M86="",K86=""),"",IF(M86="",F86*K86*N86,IF(N86<>"",F86*K86*M86*N86))) | P86: =IF(OR(O86="",C86=""),"",(O86*0.86)/(G86-H86)) | Q86: Débit net | S86: =IF(ISERROR(S88+R86),0,S88+R86) -> 0
Q87: Débit tuyauterie
A88: 10 | D88: =IF(C88="nu",3,IF(C88="isole",4,IF(C88="",""))) | E88: =IF(OR(C88="",B88=""),"",VLOOKUP(B88,DN,D88,0)) | F88: =IF(E88="","",E88*60) | I88: =G88&H88 | K88: =IF(D88=3,INDEX('coef Fct'!fct,VLOOKUP(I88,tatr,2,0),VLOOKUP('deperd tuyauterie'!J88,ti,2,0)),IF(D88=4,INDEX(fcti,VLOOKUP(I88,tatr,2,0),VLOOKUP('deperd tuyauterie'!J88,tii,2,0)),IF(D88="",""))) | M88: =IF(L88="","",VLOOKUP(L88,annexe!position,2,0)) | O88: =IF(OR(M88="",K88=""),"",IF(M88="",F88*K88*N88,IF(N88<>"",F88*K88*M88*N88))) | P88: =IF(OR(O88="",C88=""),"",(O88*0.86)/(G88-H88)) | Q88: Débit net | S88: =IF(ISERROR(S90+R88),0,S90+R88) -> 0
Q89: Débit tuyauterie
A90: 11 | D90: =IF(C90="nu",3,IF(C90="isole",4,IF(C90="",""))) | E90: =IF(OR(C90="",B90=""),"",VLOOKUP(B90,DN,D90,0)) | F90: =IF(E90="","",E90*60) | I90: =G90&H90 | K90: =IF(D90=3,INDEX('coef Fct'!fct,VLOOKUP(I90,tatr,2,0),VLOOKUP('deperd tuyauterie'!J90,ti,2,0)),IF(D90=4,INDEX(fcti,VLOOKUP(I90,tatr,2,0),VLOOKUP('deperd tuyauterie'!J90,tii,2,0)),IF(D90="",""))) | M90: =IF(L90="","",VLOOKUP(L90,annexe!position,2,0)) | O90: =IF(OR(M90="",K90=""),"",IF(M90="",F90*K90*N90,IF(N90<>"",F90*K90*M90*N90))) | P90: =IF(OR(O90="",C90=""),"",(O90*0.86)/(G90-H90)) | Q90: Débit net
Q91: Débit tuyauterie
A92: 12 | D92: =IF(C92="nu",3,IF(C92="isole",4,IF(C92="",""))) | E92: =IF(OR(C92="",B92=""),"",VLOOKUP(B92,DN,D92,0)) | F92: =IF(E92="","",E92*60) | I92: =G92&H92 | K92: =IF(D92=3,INDEX('coef Fct'!fct,VLOOKUP(I92,tatr,2,0),VLOOKUP('deperd tuyauterie'!J92,ti,2,0)),IF(D92=4,INDEX(fcti,VLOOKUP(I92,tatr,2,0),VLOOKUP('deperd tuyauterie'!J92,tii,2,0)),IF(D92="",""))) | M92: =IF(L92="","",VLOOKUP(L92,annexe!position,2,0)) | O92: =IF(OR(M92="",K92=""),"",IF(M92="",F92*K92*N92,IF(N92<>"",F92*K92*M92*N92))) | P92: =IF(OR(O92="",C92=""),"",(O92*0.86)/(G92-H92)) | Q92: Débit net
Q93: Débit tuyauterie
A94: 13 | D94: =IF(C94="nu",3,IF(C94="isole",4,IF(C94="",""))) | E94: =IF(OR(C94="",B94=""),"",VLOOKUP(B94,DN,D94,0)) | F94: =IF(E94="","",E94*60) | I94: =G94&H94 | J94: 20 | K94: =IF(D94=3,INDEX('coef Fct'!fct,VLOOKUP(I94,tatr,2,0),VLOOKUP('deperd tuyauterie'!J94,ti,2,0)),IF(D94=4,INDEX(fcti,VLOOKUP(I94,tatr,2,0),VLOOKUP('deperd tuyauterie'!J94,tii,2,0)),IF(D94="",""))) | M94: =IF(L94="","",VLOOKUP(L94,annexe!position,2,0)) | O94: =IF(OR(M94="",K94=""),"",IF(M94="",F94*K94*N94,IF(N94<>"",F94*K94*M94*N94))) | P94: =IF(OR(O94="",C94=""),"",(O94*0.86)/(G94-H94)) | Q94: Débit net
Q95: Débit tuyauterie | S95: =IF(S97="",R95,IF(R95="","",IF(AND(R95<>"",S97<>""),R95+S97)))
A96: 14 | D96: =IF(C96="nu",3,IF(C96="isole",4,IF(C96="",""))) | E96: =IF(OR(C96="",B96=""),"",VLOOKUP(B96,DN,D96,0)) | F96: =IF(E96="","",E96*60) | I96: =G96&H96 | J96: 20 | K96: =IF(D96=3,INDEX('coef Fct'!fct,VLOOKUP(I96,tatr,2,0),VLOOKUP('deperd tuyauterie'!J96,ti,2,0)),IF(D96=4,INDEX(fcti,VLOOKUP(I96,tatr,2,0),VLOOKUP('deperd tuyauterie'!J96,tii,2,0)),IF(D96="",""))) | M96: =IF(L96="","",VLOOKUP(L96,annexe!position,2,0)) | O96: =IF(OR(M96="",K96=""),"",IF(M96="",F96*K96*N96,IF(N96<>"",F96*K96*M96*N96))) | P96: =IF(OR(O96="",C96=""),"",(O96*0.86)/(G96-H96)) | Q96: Débit net
Q97: Débit tuyauterie
A98: 15 | D98: =IF(C98="nu",3,IF(C98="isole",4,IF(C98="",""))) | E98: =IF(OR(C98="",B98=""),"",VLOOKUP(B98,DN,D98,0)) | F98: =IF(E98="","",E98*60) | I98: =G98&H98 | J98: 20 | K98: =IF(D98=3,INDEX('coef Fct'!fct,VLOOKUP(I98,tatr,2,0),VLOOKUP('deperd tuyauterie'!J98,ti,2,0)),IF(D98=4,INDEX(fcti,VLOOKUP(I98,tatr,2,0),VLOOKUP('deperd tuyauterie'!J98,tii,2,0)),IF(D98="",""))) | M98: =IF(L98="","",VLOOKUP(L98,annexe!position,2,0)) | O98: =IF(OR(M98="",K98=""),"",IF(M98="",F98*K98*N98,IF(N98<>"",F98*K98*M98*N98))) | P98: =IF(OR(O98="",C98=""),"",(O98*0.86)/(G98-H98)) | Q98: Débit net
Q99: Débit tuyauterie
D100: =IF(C100="nu",3,IF(C100="isole",4,IF(C100="",""))) | E100: =IF(OR(C100="",B100=""),"",VLOOKUP(B100,DN,D100,0)) | F100: =IF(E100="","",E100*60) | I100: =G100&H100 | K100: =IF(D100=3,INDEX('coef Fct'!fct,VLOOKUP(I100,tatr,2,0),VLOOKUP('deperd tuyauterie'!J100,ti,2,0)),IF(D100=4,INDEX(fcti,VLOOKUP(I100,tatr,2,0),VLOOKUP('deperd tuyauterie'!J100,tii,2,0)),IF(D100="",""))) | M100: =IF(L100="","",VLOOKUP(L100,annexe!position,2,0)) | O100: =IF(OR(M100="",K100=""),"",IF(M100="",F100*K100*N100,IF(N100<>"",F100*K100*M100*N100))) | P100: =IF(OR(O100="",C100=""),"",(O100*0.86)/(G100-H100))
D102: =IF(C102="nu",3,IF(C102="isole",4,IF(C102="",""))) | E102: =IF(OR(C102="",B102=""),"",VLOOKUP(B102,DN,D102,0)) | F102: =IF(E102="","",E102*60) | I102: =G102&H102 | K102: =IF(D102=3,INDEX('coef Fct'!fct,VLOOKUP(I102,tatr,2,0),VLOOKUP('deperd tuyauterie'!J102,ti,2,0)),IF(D102=4,INDEX(fcti,VLOOKUP(I102,tatr,2,0),VLOOKUP('deperd tuyauterie'!J102,tii,2,0)),IF(D102="",""))) | M102: =IF(L102="","",VLOOKUP(L102,annexe!position,2,0)) | O102: =IF(OR(M102="",K102=""),"",IF(M102="",F102*K102*N102,IF(N102<>"",F102*K102*M102*N102))) | P102: =IF(OR(O102="",C102=""),"",(O102*0.86)/(G102-H102))
D104: =IF(C104="nu",3,IF(C104="isole",4,IF(C104="",""))) | E104: =IF(OR(C104="",B104=""),"",VLOOKUP(B104,DN,D104,0)) | F104: =IF(E104="","",E104*60) | I104: =G104&H104 | K104: =IF(D104=3,INDEX('coef Fct'!fct,VLOOKUP(I104,tatr,2,0),VLOOKUP('deperd tuyauterie'!J104,ti,2,0)),IF(D104=4,INDEX(fcti,VLOOKUP(I104,tatr,2,0),VLOOKUP('deperd tuyauterie'!J104,tii,2,0)),IF(D104="",""))) | M104: =IF(L104="","",VLOOKUP(L104,annexe!position,2,0)) | O104: =IF(OR(M104="",K104=""),"",IF(M104="",F104*K104*N104,IF(N104<>"",F104*K104*M104*N104))) | P104: =IF(OR(O104="",C104=""),"",(O104*0.86)/(G104-H104))
D106: =IF(C106="nu",3,IF(C106="isole",4,IF(C106="",""))) | E106: =IF(OR(C106="",B106=""),"",VLOOKUP(B106,DN,D106,0)) | F106: =IF(E106="","",E106*60) | I106: =G106&H106 | K106: =IF(D106=3,INDEX('coef Fct'!fct,VLOOKUP(I106,tatr,2,0),VLOOKUP('deperd tuyauterie'!J106,ti,2,0)),IF(D106=4,INDEX(fcti,VLOOKUP(I106,tatr,2,0),VLOOKUP('deperd tuyauterie'!J106,tii,2,0)),IF(D106="",""))) | M106: =IF(L106="","",VLOOKUP(L106,annexe!position,2,0)) | O106: =IF(OR(M106="",K106=""),"",IF(M106="",F106*K106*N106,IF(N106<>"",F106*K106*M106*N106))) | P106: =IF(OR(O106="",C106=""),"",(O106*0.86)/(G106-H106))
D108: =IF(C108="nu",3,IF(C108="isole",4,IF(C108="",""))) | E108: =IF(OR(C108="",B108=""),"",VLOOKUP(B108,DN,D108,0)) | F108: =IF(E108="","",E108*60) | I108: =G108&H108 | K108: =IF(D108=3,INDEX('coef Fct'!fct,VLOOKUP(I108,tatr,2,0),VLOOKUP('deperd tuyauterie'!J108,ti,2,0)),IF(D108=4,INDEX(fcti,VLOOKUP(I108,tatr,2,0),VLOOKUP('deperd tuyauterie'!J108,tii,2,0)),IF(D108="",""))) | M108: =IF(L108="","",VLOOKUP(L108,annexe!position,2,0)) | O108: =IF(OR(M108="",K108=""),"",IF(M108="",F108*K108*N108,IF(N108<>"",F108*K108*M108*N108))) | P108: =IF(OR(O108="",C108=""),"",(O108*0.86)/(G108-H108))
D110: =IF(C110="nu",3,IF(C110="isole",4,IF(C110="",""))) | E110: =IF(OR(C110="",B110=""),"",VLOOKUP(B110,DN,D110,0)) | F110: =IF(E110="","",E110*60) | I110: =G110&H110 | K110: =IF(D110=3,INDEX('coef Fct'!fct,VLOOKUP(I110,tatr,2,0),VLOOKUP('deperd tuyauterie'!J110,ti,2,0)),IF(D110=4,INDEX(fcti,VLOOKUP(I110,tatr,2,0),VLOOKUP('deperd tuyauterie'!J110,tii,2,0)),IF(D110="",""))) | M110: =IF(L110="","",VLOOKUP(L110,annexe!position,2,0)) | O110: =IF(OR(M110="",K110=""),"",IF(M110="",F110*K110*N110,IF(N110<>"",F110*K110*M110*N110))) | P110: =IF(OR(O110="",C110=""),"",(O110*0.86)/(G110-H110))
D112: =IF(C112="nu",3,IF(C112="isole",4,IF(C112="",""))) | E112: =IF(OR(C112="",B112=""),"",VLOOKUP(B112,DN,D112,0)) | F112: =IF(E112="","",E112*60) | I112: =G112&H112 | K112: =IF(D112=3,INDEX('coef Fct'!fct,VLOOKUP(I112,tatr,2,0),VLOOKUP('deperd tuyauterie'!J112,ti,2,0)),IF(D112=4,INDEX(fcti,VLOOKUP(I112,tatr,2,0),VLOOKUP('deperd tuyauterie'!J112,tii,2,0)),IF(D112="",""))) | M112: =IF(L112="","",VLOOKUP(L112,annexe!position,2,0)) | O112: =IF(OR(M112="",K112=""),"",IF(M112="",F112*K112*N112,IF(N112<>"",F112*K112*M112*N112))) | P112: =IF(OR(O112="",C112=""),"",(O112*0.86)/(G112-H112))
D114: =IF(C114="nu",3,IF(C114="isole",4,IF(C114="",""))) | E114: =IF(OR(C114="",B114=""),"",VLOOKUP(B114,DN,D114,0)) | F114: =IF(E114="","",E114*60) | I114: =G114&H114 | K114: =IF(D114=3,INDEX('coef Fct'!fct,VLOOKUP(I114,tatr,2,0),VLOOKUP('deperd tuyauterie'!J114,ti,2,0)),IF(D114=4,INDEX(fcti,VLOOKUP(I114,tatr,2,0),VLOOKUP('deperd tuyauterie'!J114,tii,2,0)),IF(D114="",""))) | M114: =IF(L114="","",VLOOKUP(L114,annexe!position,2,0)) | O114: =IF(OR(M114="",K114=""),"",IF(M114="",F114*K114*N114,IF(N114<>"",F114*K114*M114*N114))) | P114: =IF(OR(O114="",C114=""),"",(O114*0.86)/(G114-H114))
D116: =IF(C116="nu",3,IF(C116="isole",4,IF(C116="",""))) | E116: =IF(OR(C116="",B116=""),"",VLOOKUP(B116,DN,D116,0)) | F116: =IF(E116="","",E116*60) | I116: =G116&H116 | K116: =IF(D116=3,INDEX('coef Fct'!fct,VLOOKUP(I116,tatr,2,0),VLOOKUP('deperd tuyauterie'!J116,ti,2,0)),IF(D116=4,INDEX(fcti,VLOOKUP(I116,tatr,2,0),VLOOKUP('deperd tuyauterie'!J116,tii,2,0)),IF(D116="",""))) | M116: =IF(L116="","",VLOOKUP(L116,annexe!position,2,0)) | O116: =IF(OR(M116="",K116=""),"",IF(M116="",F116*K116*N116,IF(N116<>"",F116*K116*M116*N116))) | P116: =IF(OR(O116="",C116=""),"",(O116*0.86)/(G116-H116))
D118: =IF(C118="nu",3,IF(C118="isole",4,IF(C118="",""))) | E118: =IF(OR(C118="",B118=""),"",VLOOKUP(B118,DN,D118,0)) | F118: =IF(E118="","",E118*60) | I118: =G118&H118 | K118: =IF(D118=3,INDEX('coef Fct'!fct,VLOOKUP(I118,tatr,2,0),VLOOKUP('deperd tuyauterie'!J118,ti,2,0)),IF(D118=4,INDEX(fcti,VLOOKUP(I118,tatr,2,0),VLOOKUP('deperd tuyauterie'!J118,tii,2,0)),IF(D118="",""))) | M118: =IF(L118="","",VLOOKUP(L118,annexe!position,2,0)) | O118: =IF(OR(M118="",K118=""),"",IF(M118="",F118*K118*N118,IF(N118<>"",F118*K118*M118*N118))) | P118: =IF(OR(O118="",C118=""),"",(O118*0.86)/(G118-H118))
D120: =IF(C120="nu",3,IF(C120="isole",4,IF(C120="",""))) | E120: =IF(OR(C120="",B120=""),"",VLOOKUP(B120,DN,D120,0)) | F120: =IF(E120="","",E120*60) | I120: =G120&H120 | K120: =IF(D120=3,INDEX('coef Fct'!fct,VLOOKUP(I120,tatr,2,0),VLOOKUP('deperd tuyauterie'!J120,ti,2,0)),IF(D120=4,INDEX(fcti,VLOOKUP(I120,tatr,2,0),VLOOKUP('deperd tuyauterie'!J120,tii,2,0)),IF(D120="",""))) | M120: =IF(L120="","",VLOOKUP(L120,annexe!position,2,0)) | O120: =IF(OR(M120="",K120=""),"",IF(M120="",F120*K120*N120,IF(N120<>"",F120*K120*M120*N120))) | P120: =IF(OR(O120="",C120=""),"",(O120*0.86)/(G120-H120))
D122: =IF(C122="nu",3,IF(C122="isole",4,IF(C122="",""))) | E122: =IF(OR(C122="",B122=""),"",VLOOKUP(B122,DN,D122,0)) | F122: =IF(E122="","",E122*60) | I122: =G122&H122 | K122: =IF(D122=3,INDEX('coef Fct'!fct,VLOOKUP(I122,tatr,2,0),VLOOKUP('deperd tuyauterie'!J122,ti,2,0)),IF(D122=4,INDEX(fcti,VLOOKUP(I122,tatr,2,0),VLOOKUP('deperd tuyauterie'!J122,tii,2,0)),IF(D122="",""))) | M122: =IF(L122="","",VLOOKUP(L122,annexe!position,2,0)) | O122: =IF(OR(M122="",K122=""),"",IF(M122="",F122*K122*N122,IF(N122<>"",F122*K122*M122*N122))) | P122: =IF(OR(O122="",C122=""),"",(O122*0.86)/(G122-H122))

Sheet coef kt-kti
B5: DN | C5: ep. Isol | D5: KT | E5: Kti
B6: 3/8" | C6: 20 | D6: 0.82 | E6: 0.22
B7: 1/2" | C7: 20 | D7: 0.99 | E7: 0.25
B8: 3/4" | C8: 20 | D8: 1.22 | E8: 0.29
B9: 1 " | C9: 20 | D9: 1.48 | E9: 0.33
B10: 1 1/4" | C10: 30 | D10: 1.8 | E10: 0.3
B11: 43/48 | C11: 30 | D11: 2.02 | E11: 0.33
B12: 51/57 | C12: 30 | D12: 2.33 | E12: 0.37
B13: 54/60 | C13: 30 | D13: 2.45 | E13: 0.39
B14: 57/63 | C14: 30 | D14: 2.56 | E14: 0.4
B15: 64/70 | C15: 30 | D15: 2.79 | E15: 0.43
B16: 70/76 | C16: 40 | D16: 3 | E16: 0.38
B17: 82/89 | C17: 40 | D17: 3.43 | E17: 0.42
B18: 107/114 | C18: 40 | D18: 4.28 | E18: 0.51

Sheet coef Fct
B2: FACTEUR DE CORRECTION MOYEN POUR TUYAU NU fCT
D4: Ti
B5: Ta | C5: Tr | D5: 45 | E5: 22 | F5: 20 | G5: 18 | H5: 15 | I5: 10 | J5: 7 | K5: 5 | L5: 0
B6: 90 | C6: 70 | D6: 0.568 | E6: 0.965 | F6: 1 | G6: 1.034 | H6: 1.086 | I6: 1.174 | J6: 1.226 | K6: 1.261 | L6: 1.349
B7: 80 | C7: 60 | D7: 0.381 | E7: 0.761 | F7: 0.794 | G7: 0.828 | H7: 0.878 | I7: 0.963 | J7: 1.014 | K7: 1.048 | L7: 1.133
B8: 75 | C8: 65 | D8: 0.381 | E8: 0.761 | F8: 0.794 | G8: 0.828 | H8: 0.878 | I8: 0.963 | J8: 1.014 | K8: 1.048 | L8: 1.133
B9: 75 | C9: 60 | D9: 0.336 | E9: 0.712 | F9: 0.745 | G9: 0.778 | H9: 0.828 | I9: 0.912 | J9: 0.963 | K9: 0.996 | L9: 1.081
B10: 65 | C10: 50 | D10: 0.171 | E10: 0.525 | F10: 0.557 | G10: 0.589 | H10: 0.637 | I10: 0.717 | J10: 0.766 | K10: 0.798 | L10: 0.88
B11: 60 | C11: 50 | D11: 0.132 | E11: 0.481 | F11: 0.512 | G11: 0.544 | H11: 0.591 | I11: 0.671 | J11: 0.719 | K11: 0.751 | L11: 0.832
B12: 60 | C12: 45 | D12: 0.096 | E12: 0.437 | F12: 0.468 | G12: 0.5 | H12: 0.546 | I12: 0.625 | J12: 0.672 | K12: 0.704 | L12: 0.784
B13: 55 | C13: 45 | D13: 0.061 | E13: 0.394 | F13: 0.425 | G13: 0.456 | H13: 0.502 | I13: 0.58 | J13: 0.627 | K13: 0.658 | L13: 0.738
B14: 55 | C14: 40 | D14: 0.028 | E14: 0.353 | F14: 0.383 | G14: 0.413 | H14: 0.459 | I14: 0.536 | J14: 0.582 | K14: 0.613 | L14: 0.692
B15: 50 | C15: 40 | D15: **** | E15: 0.312 | F15: 0.342 | G15: 0.371 | H15: 0.416 | I15: 0.492 | J15: 0.538 | K15: 0.569 | L15: 0.647

Sheet coef Fcti
B2: FACTEUR DE CORRECTION MOYEN POUR TUYAU NU fCTi
D4: Ti
B5: Ta | C5: Tr | D5: 35 | E5: 22 | F5: 20 | G5: 18 | H5: 15 | I5: 10 | J5: 7 | K5: 5 | L5: 0
B6: 90 | C6: 70 | D6: 0.75 | E6: 0.967 | F6: 1 | G6: 1.033 | H6: 1.083 | I6: 1.167 | J6: 1.217 | K6: 1.25 | L6: 1.333
B7: 80 | C7: 60 | D7: 0.581 | E7: 0.797 | F7: 0.83 | G7: 0.863 | H7: 0.913 | I7: 0.996 | J7: 1.046 | K7: 1.08 | L7: 1.162
B8: 75 | C8: 65 | D8: 0.581 | E8: 0.797 | F8: 0.83 | G8: 0.863 | H8: 0.913 | I8: 0.996 | J8: 1.046 | K8: 1.08 | L8: 1.162
B9: 75 | C9: 60 | D9: 0.539 | E9: 0.755 | F9: 0.788 | G9: 0.821 | H9: 0.871 | I9: 0.954 | J9: 1.004 | K9: 1.037 | L9: 1.12
B10: 65 | C10: 50 | D10: 0.371 | E10: 0.586 | F10: 0.619 | G10: 0.652 | H10: 0.702 | I10: 0.785 | J10: 0.834 | K10: 0.867 | L10: 0.95
B11: 60 | C11: 50 | D11: 0.329 | E11: 0.544 | F11: 0.577 | G11: 0.61 | H11: 0.66 | I11: 0.742 | J11: 0.792 | K11: 0.825 | L11: 0.908
B12: 60 | C12: 45 | D12: 0.287 | E12: 0.502 | F12: 0.535 | G12: 0.568 | H12: 0.618 | I12: 0.7 | J12: 0.75 | K12: 0.783 | L12: 0.866
B13: 55 | C13: 45 | D13: 0.246 | E13: 0.46 | F13: 0.493 | G13: 0.526 | H13: 0.576 | I13: 0.658 | J13: 0.708 | K13: 0.741 | L13: 0.823
B14: 55 | C14: 40 | D14: 0.204 | E14: 0.418 | F14: 0.451 | G14: 0.484 | H14: 0.534 | I14: 0.616 | J14: 0.666 | K14: 0.699 | L14: 0.781
B15: 50 | C15: 40 | D15: 0.163 | E15: 0.377 | F15: 0.41 | G15: 0.443 | H15: 0.492 | I15: 0.574 | J15: 0.624 | K15: 0.657 | L15: 0.739

Sheet annexe
B2: nu | C2: 3/8" | E2: Tuyau hori sous plafond | F2: 0.75 | G2: ='coef Fct'!B6&'coef Fct'!C6 -> 9070 | H2: 1 | J2: 45 | K2: 1 | M2: 35 | N2: 1
B3: isole | C3: 1/2" | E3: Tuyau hori sur sol | F3: 0.9 | G3: ='coef Fct'!B7&'coef Fct'!C7 -> 8060 | H3: 2 | J3: 22 | K3: 2 | M3: 22 | N3: 2 | P3: 0.75
C4: 3/4" | E4: Tuyau vert | F4: 0.9 | G4: ='coef Fct'!B8&'coef Fct'!C8 -> 7565 | H4: 3 | J4: 20 | K4: 3 | M4: 20 | N4: 3 | P4: 0.9
C5: 1 " | G5: ='coef Fct'!B9&'coef Fct'!C9 -> 7560 | H5: 4 | J5: 18 | K5: 4 | M5: 18 | N5: 4 | P5: 0.9
C6: 1 1/4" | G6: ='coef Fct'!B10&'coef Fct'!C10 -> 6550 | H6: 5 | J6: 15 | K6: 5 | M6: 15 | N6: 5
C7: 43/48 | G7: ='coef Fct'!B11&'coef Fct'!C11 -> 6050 | H7: 6 | J7: 10 | K7: 6 | M7: 10 | N7: 6
C8: 51/57 | G8: ='coef Fct'!B12&'coef Fct'!C12 -> 6045 | H8: 7 | J8: 7 | K8: 7 | M8: 7 | N8: 7
C9: 54/60 | G9: ='coef Fct'!B13&'coef Fct'!C13 -> 5545 | H9: 8 | J9: 5 | K9: 8 | M9: 5 | N9: 8
C10: 57/63 | G10: ='coef Fct'!B14&'coef Fct'!C14 -> 5540 | H10: 9 | J10: 0 | K10: 9 | M10: 0 | N10: 9
C11: 64/70 | G11: ='coef Fct'!B15&'coef Fct'!C15 -> 5040 | H11: 10
C12: 70/76
C13: 82/89
C14: 107/114
