Workbook
Name DN: 'coef kt-kti'!$B$5:$E$18
Name etat: annexe!$B$1:$B$3
Name fct: 'coef Fct'!$D$6:$L$15
Name fcti: 'coef Fcti'!$D$6:$L$15
Name position: annexe!$E$1:$F$4
Name tatr: annexe!$G$1:$H$11
Name ti: annexe!$J$1:$K$10
Name tii: annexe!$M$1:$N$10

Sheet Radiateur
A1: CALCUL DE RADIATEURS
L2: Facteur de forme n ou m
L3: Radiateur tubulaire | M3: n= 1.30
B4: Température aller | E4: °C | F4: Puissance du radiateur Φ = | I4: =IF(ISERROR($D$10/$G$22),"",$D$10/$G$22) | J4: W | L4: Panneaux chauffant simple :
B5: Température Retour | E5: °C | L5: h : 14 à 49 cm | M5: n= 1.22 à 1.24
B6: Température moyenne | D6: =IF(ISERROR((D4+D5)/2),"",(D4+D5)/2) -> 0 | E6: °C | F6: Puissance réelle du radiateur = | I6: =IF(ISERROR($E$32*$G$22),"",$E$32*$G$22) | J6: W | L6: h : 56 à 91 cm | M6: n= 1.25 à 1.28
B7: Température ambiante | E7: °C | L7: h : plus de 91 cm | M7: n= 1.29 à 1.30
B8: Delta T | D8: =IF(ISERROR(D6-D7),"",D6-D7) -> 0 | E8: K | F8: Débit dans le radiateur = | I8: =IF(ISERROR($F$39*0.001),"",$F$39*0.001) | J8: m3/h | L8: Panneaux chauffant double :
B9: Facteur n ou m | L9: h : 21 à 42 cm | M9: n = 1.22 à 1.26
B10: Déperdition | E10: W | L10: h : plus de 42 cm | M10: n = 1.27 à 1.30
L11: Panneaux lamellés | M11: n = 1.20 à 1.37
L12: Collecteurs | M12: n = 1.19 à 1.40
B13: 1/ Calcul du Δt
B15: Tr-Ti/Ta-Ti | C15: > ou = 0.7 | D15: alors | E15: Δt=((Ta-Tr)/2)-Ti
B16: Tr-Ti/Ta-Ti | C16: <0.7 | D16: alors | E16: Δt=(Ta-Tr)/ln((Ta-Ti)/(Tr-Ti))
B18: Donc => | C18: Tr-Ti/Ta-Ti = | D18: =IF(ISERROR(($D$5-$D$7)/($D$4-$D$7)),"",($D$5-$D$7)/($D$4-$D$7)) | E18: => | F18: Δt = | G18: =IF(D18<0.7,(D4-D5)/LN((D4-D7)/(D5-D7)),((D4+D5)/2)-D7) -> 0 | H18: K
B20: 2/ Coefficient de correction
B22: Φ=Φn/(Δt/50)^n | E22: d’où (Δt/50)^n | F22: => | G22: =IF(ISERROR((G18/50)^D9),"",(G18/50)^D9)
B24: 3/Puissance utile du radiaeur
B26: Φ=Φn/(Δt/50)^n | E26: d’où | F26: => | G26: =IF(ISERROR($D$10/$G$22),"",$D$10/$G$22) | H26: W
B29: 4/Puissance reelle du radiateur
B31: Choix du radiateur :
B32: Puissance du radiateur à Δt=50 K | G32: W
B34: Puissance reelle du radiateur => | E34: =IF(ISERROR($E$32*$G$22),"",$E$32*$G$22) | F34: W
B36: 5/Débit du radiateur
B38: Q = m*C*Δt | C38: d’où | D38: m=Q/(C*Δt) | E38: d’où m= | F38: =IF(ISERROR(E34/(4187*(D4-D5))),"",E34/(4187*(D4-D5))) | G38: Kg/s
E39: m= | F39: =IF(ISERROR(F38*3600),"",F38*3600) | G39: Kg/h
E40: m= | F40: =IF(ISERROR($F$39*0.001),"",$F$39*0.001) | G40: m3/h

Sheet rad monotube
C1: CALCUL DE RADIATEUR MONOTUBE
A5: Température Départ | C5: tD
A6: Température retour | C6: tR
A7: Température moyenne entre 2 radiateurs | E7: tem
A8: Température entré radiateur | E8: ter
A9: Température sortie radiateur | E9: tsr
A10: Température moyenne du radiateur | E10: trm
A13: Z | B13: 2 | C13: 4 | D13: 6 | E13: 8 | F13: 11 | G13: 14Δ | H13: 20
A14: Δt col | B14: 20 | C14: 16.5 | D14: 15 | E14: 14.5 | F14: 14 | G14: 14 | H14: 14
A15: Δtr const | B15: 10 | C15: 8.25 | D15: 7.5 | E15: 7.25 | F15: 7 | G15: 7 | H15: 7
A18: 1/ INSTALLATION AVEC UN Δt CONSTANT ET DEBIT VARIABLE
A20: td | C20: °C
A21: tr | C21: °C
A22: Δt col | B22: =IF(OR(B20="",B21=""),"",B20-B21) | C22: °C
A23: Fact correct n
A24: Δtr | C24: K
A25: Z nbre rad
A27: N° | B27: Qh [W] | C27: Grad [Kg/h] | D27: Δt'col [°C] | E27: tme [°C] | F27: trm [°C] | G27: ti [°C] | H27: Δt rm - ti | I27: Facteur de correction | J27: Qn à 50 K [W] | K27: Type de radiateur | L27: Puissance rad à 50K | M27: Qeff
C28: =IF($B$24="","",(B28*3600)/(4187*$B$24)) | D28: =IF(OR(B28="",$B$22="",$B$39=""),"",(B28*$B$22)/$B$39) | E28: =IF(B20="","",B20) | F28: =IF(OR($B$24="",E28="",A28=""),"",E28-($B$24/2)) | H28: =IF(OR(G28="",F28=""),"",F28-G28) | I28: =IF(OR($B$23="",H28=""),"",(H28/50)^$B$23) | J28: =IF(OR(B28="",I28=""),"",B28/I28) | M28: =IF(OR(I28="",L28=""),"",L28*I28)
C29: =IF($B$24="","",(B29*3600)/(4187*$B$24)) | D29: =IF(OR(B29="",$B$22="",$B$39=""),"",(B29*$B$22)/$B$39) | E29: =IF(OR(E28="",D28=""),"",E28-D28) | F29: =IF(OR($B$24="",E29="",A29=""),"",E29-($B$24/2)) | H29: =IF(OR(G29="",F29=""),"",F29-G29) | I29: =IF(OR($B$23="",H29=""),"",(H29/50)^$B$23) | J29: =IF(OR(B29="",I29=""),"",B29/I29) | M29: =IF(OR(I29="",L29=""),"",L29*I29)
C30: =IF($B$24="","",(B30*3600)/(4187*$B$24)) | D30: =IF(OR(B30="",$B$22="",$B$39=""),"",(B30*$B$22)/$B$39) | E30: =IF(OR(E29="",D29=""),"",E29-D29) | F30: =IF(OR($B$24="",E30="",A30=""),"",E30-($B$24/2)) | H30: =IF(OR(G30="",F30=""),"",F30-G30) | I30: =IF(OR($B$23="",H30=""),"",(H30/50)^$B$23) | J30: =IF(OR(B30="",I30=""),"",B30/I30) | M30: =IF(OR(I30="",L30=""),"",L30*I30)
C31: =IF($B$24="","",(B31*3600)/(4187*$B$24)) | D31: =IF(OR(B31="",$B$22="",$B$39=""),"",(B31*$B$22)/$B$39) | E31: =IF(OR(E30="",D30=""),"",E30-D30) | F31: =IF(OR($B$24="",E31="",A31=""),"",E31-($B$24/2)) | H31: =IF(OR(G31="",F31=""),"",F31-G31) | I31: =IF(OR($B$23="",H31=""),"",(H31/50)^$B$23) | J31: =IF(OR(B31="",I31=""),"",B31/I31) | M31: =IF(OR(I31="",L31=""),"",L31*I31)
C32: =IF($B$24="","",(B32*3600)/(4187*$B$24)) | D32: =IF(OR(B32="",$B$22="",$B$39=""),"",(B32*$B$22)/$B$39) | E32: =IF(OR(E31="",D31=""),"",E31-D31) | F32: =IF(OR($B$24="",E32="",A32=""),"",E32-($B$24/2)) | H32: =IF(OR(G32="",F32=""),"",F32-G32) | I32: =IF(OR($B$23="",H32=""),"",(H32/50)^$B$23) | J32: =IF(OR(B32="",I32=""),"",B32/I32) | M32: =IF(OR(I32="",L32=""),"",L32*I32)
C33: =IF($B$24="","",(B33*3600)/(4187*$B$24)) | D33: =IF(OR(B33="",$B$22="",$B$39=""),"",(B33*$B$22)/$B$39) | E33: =IF(OR(E32="",D32=""),"",E32-D32) | F33: =IF(OR($B$24="",E33="",A33=""),"",E33-($B$24/2)) | H33: =IF(OR(G33="",F33=""),"",F33-G33) | I33: =IF(OR($B$23="",H33=""),"",(H33/50)^$B$23) | J33: =IF(OR(B33="",I33=""),"",B33/I33) | M33: =IF(OR(I33="",L33=""),"",L33*I33)
C34: =IF($B$24="","",(B34*3600)/(4187*$B$24)) | D34: =IF(OR(B34="",$B$22="",$B$39=""),"",(B34*$B$22)/$B$39) | E34: =IF(OR(E33="",D33=""),"",E33-D33) | F34: =IF(OR($B$24="",E34="",A34=""),"",E34-($B$24/2)) | H34: =IF(OR(G34="",F34=""),"",F34-G34) | I34: =IF(OR($B$23="",H34=""),"",(H34/50)^$B$23) | J34: =IF(OR(B34="",I34=""),"",B34/I34) | M34: =IF(OR(I34="",L34=""),"",L34*I34)
C35: =IF($B$24="","",(B35*3600)/(4187*$B$24)) | D35: =IF(OR(B35="",$B$22="",$B$39=""),"",(B35*$B$22)/$B$39) | E35: =IF(OR(E34="",D34=""),"",E34-D34) | F35: =IF(OR($B$24="",E35="",A35=""),"",E35-($B$24/2)) | H35: =IF(OR(G35="",F35=""),"",F35-G35) | I35: =IF(OR($B$23="",H35=""),"",(H35/50)^$B$23) | J35: =IF(OR(B35="",I35=""),"",B35/I35) | M35: =IF(OR(I35="",L35=""),"",L35*I35)
C36: =IF($B$24="","",(B36*3600)/(4187*$B$24)) | D36: =IF(OR(B36="",$B$22="",$B$39=""),"",(B36*$B$22)/$B$39) | E36: =IF(OR(E35="",D35=""),"",E35-D35) | F36: =IF(OR($B$24="",E36="",A36=""),"",E36-($B$24/2)) | H36: =IF(OR(G36="",F36=""),"",F36-G36) | I36: =IF(OR($B$23="",H36=""),"",(H36/50)^$B$23) | J36: =IF(OR(B36="",I36=""),"",B36/I36) | M36: =IF(OR(I36="",L36=""),"",L36*I36)
C37: =IF($B$24="","",(B37*3600)/(4187*$B$24)) | D37: =IF(OR(B37="",$B$22="",$B$39=""),"",(B37*$B$22)/$B$39) | E37: =IF(OR(E36="",D36=""),"",E36-D36) | F37: =IF(OR($B$24="",E37="",A37=""),"",E37-($B$24/2)) | H37: =IF(OR(G37="",F37=""),"",F37-G37) | I37: =IF(OR($B$23="",H37=""),"",(H37/50)^$B$23) | J37: =IF(OR(B37="",I37=""),"",B37/I37) | M37: =IF(OR(I37="",L37=""),"",L37*I37)
C38: =IF($B$24="","",(B38*3600)/(4187*$B$24)) | D38: =IF(OR(B38="",$B$22="",$B$39=""),"",(B38*$B$22)/$B$39) | E38: =IF(OR(E37="",D37=""),"",E37-D37) | F38: =IF(OR($B$24="",E38="",A38=""),"",E38-($B$24/2)) | H38: =IF(OR(G38="",F38=""),"",F38-G38) | I38: =IF(OR($B$23="",H38=""),"",(H38/50)^$B$23) | J38: =IF(OR(B38="",I38=""),"",B38/I38) | M38: =IF(OR(I38="",L38=""),"",L38*I38)
B39: =SUM(B28:B38) -> 0 | F39: =IF(B25="","",SUM(F28:F38)/B25) | H39: =IF(OR(G39="",F39=""),"",F39-G39) | M39: =SUM(M28:M38) -> 0
A44: 2/ INSTALLATION AVEC UN DEBIT CONSTANT
D45: Fact correct n
A46: td | C46: °C | D46: Z nbr rad
A47: tr | C47: °C
A48: Δt col | B48: =IF(OR(B46="",B47=""),"",B46-B47) | C48: °C
A49: Débit col | B49: =IF(OR(B48="",B65=""),"",(B65*3600)/(B48*4187)) | C49: Kg/h
A50: Debit serie | B50: =IF(OR(B49="",E46=""),"",(2*B49)/E46) | C50: Kg/h
A53: N° | B53: Qh [W] | C53: Δtr | D53: Δt'col [°C] | E53: tme [°C] | F53: trm [°C] | G53: ti [°C] | H53: Δt rm - ti | I53: Facteur de correction | J53: Qn à 50 K [W] | K53: Type de radiateur | L53: Puissance rad à 50K | M53: Qeff
C54: =IF(OR($B$50="",B54=""),"",(B54*3600)/($B$50*4187)) | D54: =IF(OR($B$48="",B54="",$B$65=""),"",B54*$B$48/$B$65) | E54: =IF(B46="","",B46) | F54: =IF(OR(C54="",E54="",A54=""),"",E54-(C54/2)) | H54: =IF(OR(G54="",F54=""),"",F54-G54) | I54: =IF(OR($E$45="",H54=""),"",(H54/50)^$E$45) | J54: =IF(OR(B54="",I54=""),"",B54/I54) | M54: =IF(OR(I54="",L54=""),"",L54*I54)
C55: =IF(OR($B$50="",B55=""),"",(B55*3600)/($B$50*4187)) | D55: =IF(OR($B$48="",B55="",$B$65=""),"",B55*$B$48/$B$65) | E55: =IF(OR(E54="",D54=""),"",E54-D54) | F55: =IF(OR(C55="",E55="",A55=""),"",E55-(C55/2)) | H55: =IF(OR(G55="",F55=""),"",F55-G55) | I55: =IF(OR($E$45="",H55=""),"",(H55/50)^$E$45) | J55: =IF(OR(B55="",I55=""),"",B55/I55) | M55: =IF(OR(I55="",L55=""),"",L55*I55)
...

Sheet deperd tuyauterie
H6: DEPERDITION TAYAUTERIE NU ET ISOLE
A8: Tronçon | B8: diam | C8: Tuyau | D8: index | E8: Kt/kti | F8: Φn [w/m] | G8: ta [°C] | H8: tr [°C] | I8: tatr | J8: ti [°C] | K8: fct/fcti | L8: Position tuyauterie | M8: fp | N8: Long tube [m] | O8: Φtot [w] | P8: Débit des pertes tuyauterie [kg/h] | Q8: Cumul Débit net [kg/h] | R8: Débit réel des tuyauteries antérieurs | S8: cumul des débits réels | T8: Débit + pertes | U8: Compens pertes | V8: Débit total | W8: Majoration [%]
A10: 1 | D10: =IF(C10="nu",3,IF(C10="isole",4,IF(C10="",""))) | E10: =IF(OR(C10="",B10=""),"",VLOOKUP(B10,DN,D10,0)) | F10: =IF(E10="","",E10*60) | I10: =G10&H10 | K10: =IF(D10=3,INDEX('coef Fct'!fct,VLOOKUP(I10,tatr,2,0),VLOOKUP('deperd tuyauterie'!J10,ti,2,0)),IF(D10=4,INDEX(fcti,VLOOKUP(I10,tatr,2,0),VLOOKUP('deperd tuyauterie'!J10,tii,2,0)),IF(D10="",""))) | M10: =IF(L10="","",VLOOKUP(L10,annexe!position,2,0)) | O10: =IF(OR(M10="",K10=""),"",IF(M10="",F10*K10*N10,IF(N10<>"",F10*K10*M10*N10))) | P10: =IF(OR(O10="",C10=""),"",(O10*0.86)/(G10-H10)) | Q10: Débit net
Q11: Débit tuyauterie
A12: 2 | D12: =IF(C12="nu",3,IF(C12="isole",4,IF(C12="",""))) | E12: =IF(OR(C12="",B12=""),"",VLOOKUP(B12,DN,D12,0)) | F12: =IF(E12="","",E12*60) | I12: =G12&H12 | K12: =IF(D12=3,INDEX('coef Fct'!fct,VLOOKUP(I12,tatr,2,0),VLOOKUP('deperd tuyauterie'!J12,ti,2,0)),IF(D12=4,INDEX(fcti,VLOOKUP(I12,tatr,2,0),VLOOKUP('deperd tuyauterie'!J12,tii,2,0)),IF(D12="",""))) | M12: =IF(L12="","",VLOOKUP(L12,annexe!position,2,0)) | O12: =IF(OR(M12="",K12=""),"",IF(M12="",F12*K12*N12,IF(N12<>"",F12*K12*M12*N12))) | P12: =IF(OR(O12="",C12=""),"",(O12*0.86)/(G12-H12)) | Q12: Débit net
Q13: Débit tuyauterie
A14: 3 | D14: =IF(C14="nu",3,IF(C14="isole",4,IF(C14="",""))) | E14: =IF(OR(C14="",B14=""),"",VLOOKUP(B14,DN,D14,0)) | F14: =IF(E14="","",E14*60) | I14: =G14&H14 | K14: =IF(D14=3,INDEX('coef Fct'!fct,VLOOKUP(I14,tatr,2,0),VLOOKUP('deperd tuyauterie'!J14,ti,2,0)),IF(D14=4,INDEX(fcti,VLOOKUP(I14,tatr,2,0),VLOOKUP('deperd tuyauterie'!J14,tii,2,0)),IF(D14="",""))) | M14: =IF(L14="","",VLOOKUP(L14,annexe!position,2,0)) | O14: =IF(OR(M14="",K14=""),"",IF(M14="",F14*K14*N14,IF(N14<>"",F14*K14*M14*N14))) | P14: =IF(OR(O14="",C14=""),"",(O14*0.86)/(G14-H14)) | Q14: Débit net | S14: =IF(ISERROR(S16+R14),0,S16+R14) -> 0
Q15: Débit tuyauterie
A16: 4 | B16: 51/57 | C16: nu | D16: =IF(C16="nu",3,IF(C16="isole",4,IF(C16="",""))) -> 3 | E16: =IF(OR(C16="",B16=""),"",VLOOKUP(B16,DN,D16,0)) -> 2.33 | F16: =IF(E16="","",E16*60) -> 139.8 | G16: 90 | H16: 70 | I16: =G16&H16 -> 9070 | J16: 10 | K16: =IF(D16=3,INDEX('coef Fct'!fct,VLOOKUP(I16,tatr,2,0),VLOOKUP('deperd tuyauterie'!J16,ti,2,0)),IF(D16=4,INDEX(fcti,VLOOKUP(I16,tatr,2,0),VLOOKUP('deperd tuyauterie'!J16,tii,2,0)),IF(D16="",""))) -> 1.174 | L16: Tuyau hori sous plafond | M16: =IF(L16="","",VLOOKUP(L16,annexe!position,2,0)) -> 0.75 | N16: 16 | O16: =IF(OR(M16="",K16=""),"",IF(M16="",F16*K16*N16,IF(N16<>"",F16*K16*M16*N16))) -> 1969.5024 | P16: =IF(OR(O16="",C16=""),"",(O16*0.86)/(G16-H16)) -> 84.688603 | Q16: Débit net | R16: 930 | S16: =IF(ISERROR(S18+R16),0,S18+R16) -> 3330 | T16: =IF(AND(T18="",R17=""),P16+R16+S16,P16+R16) -> 1014.6886
Q17: Débit tuyauterie | R17: 180
A18: 5 | B18: 43/48 | C18: isole | D18: =IF(C18="nu",3,IF(C18="isole",4,IF(C18="",""))) -> 4 | E18: =IF(OR(C18="",B18=""),"",VLOOKUP(B18,DN,D18,0)) -> 0.33 | F18: =IF(E18="","",E18*60) -> 19.8 | G18: 90 | H18: 70 | I18: =G18&H18 -> 9070 | J18: 7 | K18: =IF(D18=3,INDEX('coef Fct'!fct,VLOOKUP(I18,tatr,2,0),VLOOKUP('deperd tuyauterie'!J18,ti,2,0)),IF(D18=4,INDEX(fcti,VLOOKUP(I18,tatr,2,0),VLOOKUP('deperd tuyauterie'!J18,tii,2,0)),IF(D18="",""))) -> 1.217 | L18: Tuyau hori sous plafond | M18: =IF(L18="","",VLOOKUP(L18,annexe!position,2,0)) -> 0.75 | N18: 16 | O18: =IF(OR(M18="",K18=""),"",IF(M18="",F18*K18*N18,IF(N18<>"",F18*K18*M18*N18))) -> 289.1592 | P18: =IF(OR(O18="",C18=""),"",(O18*0.86)/(G18-H18)) -> 12.433846 | Q18: Débit net | R18: 1300 | S18: =IF(ISERROR(S20+R18),0,S20+R18) -> 2400 | T18: =IF(AND(T20="",R19=""),P18+R18+S18,P18+R18) -> 1312.4338
Q19: Débit tuyauterie | R19: 210
A20: 6 | B20: 1 " | C20: isole | D20: =IF(C20="nu",3,IF(C20="isole",4,IF(C20="",""))) -> 4 | E20: =IF(OR(C20="",B20=""),"",VLOOKUP(B20,DN,D20,0)) -> 0.33 | F20: =IF(E20="","",E20*60) -> 19.8 | G20: 90 | H20: 70 | I20: =G20&H20 -> 9070 | J20: 7 | K20: =IF(D20=3,INDEX('coef Fct'!fct,VLOOKUP(I20,tatr,2,0),VLOOKUP('deperd tuyauterie'!J20,ti,2,0)),IF(D20=4,INDEX(fcti,VLOOKUP(I20,tatr,2,0),VLOOKUP('deperd tuyauterie'!J20,tii,2,0)),IF(D20="",""))) -> 1.217 | L20: Tuyau hori sous plafond | M20: =IF(L20="","",VLOOKUP(L20,annexe!position,2,0)) -> 0.75 | N20: 28 | O20: =IF(OR(M20="",K20=""),"",IF(M20="",F20*K20*N20,IF(N20<>"",F20*K20*M20*N20))) -> 506.0286 | P20: =IF(OR(O20="",C20=""),"",(O20*0.86)/(G20-H20)) -> 21.75923 | Q20: Débit net | R20: 750 | S20: =IF(ISERROR(S22+R20),0,S22+R20) -> 1100 | T20: =IF(AND(T22="",R21=""),P20+R20+S20,P20+R20) -> 771.75923
Q21: Débit tuyauterie | R21: 120
A22: 7 | B22: 3/4" | C22: nu | D22: =IF(C22="nu",3,IF(C22="isole",4,IF(C22="",""))) -> 3 | E22: =IF(OR(C22="",B22=""),"",VLOOKUP(B22,DN,D22,0)) -> 1.22 | F22: =IF(E22="","",E22*60) -> 73.2 | G22: 90 | H22: 70 | I22: =G22&H22 -> 9070 | J22: 15 | K22: =IF(D22=3,INDEX('coef Fct'!fct,VLOOKUP(I22,tatr,2,0),VLOOKUP('deperd tuyauterie'!J22,ti,2,0)),IF(D22=4,INDEX(fcti,VLOOKUP(I22,tatr,2,0),VLOOKUP('deperd tuyauterie'!J22,tii,2,0)),IF(D22="",""))) -> 1.086 | L22: Tuyau hori sous plafond | M22: =IF(L22="","",VLOOKUP(L22,annexe!position,2,0)) -> 0.75 | N22: 18 | O22: =IF(OR(M22="",K22=""),"",IF(M22="",F22*K22*N22,IF(N22<>"",F22*K22*M22*N22))) -> 1073.1852 | P22: =IF(OR(O22="",C22=""),"",(O22*0.86)/(G22-H22)) -> 46.146964 | Q22: Débit net | R22: 150 | S22: =IF(ISERROR(S24+R22),0,S24+R22) -> 350 | T22: =IF(AND(T24="",R23=""),P22+R22+S22,P22+R22) -> 196.14696
Q23: Débit tuyauterie | R23: 18
A24: 8 | B24: 1 " | C24: nu | D24: =IF(C24="nu",3,IF(C24="isole",4,IF(C24="",""))) -> 3 | E24: =IF(OR(C24="",B24=""),"",VLOOKUP(B24,DN,D24,0)) -> 1.48 | F24: =IF(E24="","",E24*60) -> 88.8 | G24: 90 | H24: 70 | I24: =G24&H24 -> 9070 | J24: 20 | K24: =IF(D24=3,INDEX('coef Fct'!fct,VLOOKUP(I24,tatr,2,0),VLOOKUP('deperd tuyauterie'!J24,ti,2,0)),IF(D24=4,INDEX(fcti,VLOOKUP(I24,tatr,2,0),VLOOKUP('deperd tuyauterie'!J24,tii,2,0)),IF(D24="",""))) -> 1 | L24: Tuyau vert | M24: =IF(L24="","",VLOOKUP(L24,annexe!position,2,0)) -> 0.9 | N24: 6 | O24: =IF(OR(M24="",K24=""),"",IF(M24="",F24*K24*N24,IF(N24<>"",F24*K24*M24*N24))) -> 479.52 | P24: =IF(OR(O24="",C24=""),"",(O24*0.86)/(G24-H24)) -> 20.61936 | Q24: Débit net | R24: 100 | S24: =IF(ISERROR(S26+R24),0,S26+R24) -> 200 | T24: =IF(AND(T26="",R25=""),P24+R24+S24,P24+R24) -> 120.61936
Q25: Débit tuyauterie | R25: 15
A26: 9 | B26: 3/8" | C26: nu | D26: =IF(C26="nu",3,IF(C26="isole",4,IF(C26="",""))) -> 3 | E26: =IF(OR(C26="",B26=""),"",VLOOKUP(B26,DN,D26,0)) -> 0.82 | F26: =IF(E26="","",E26*60) -> 49.2 | G26: 90 | H26: 70 | I26: =G26&H26 -> 9070 | J26: 20 | K26: =IF(D26=3,INDEX('coef Fct'!fct,VLOOKUP(I26,tatr,2,0),VLOOKUP('deperd tuyauterie'!J26,ti,2,0)),IF(D26=4,INDEX(fcti,VLOOKUP(I26,tatr,2,0),VLOOKUP('deperd tuyauterie'!J26,tii,2,0)),IF(D26="",""))) -> 1 | L26: Tuyau vert | M26: =IF(L26="","",VLOOKUP(L26,annexe!position,2,0)) -> 0.9 | N26: 10 | O26: =IF(OR(M26="",K26=""),"",IF(M26="",F26*K26*N26,IF(N26<>"",F26*K26*M26*N26))) -> 442.8 | P26: =IF(OR(O26="",C26=""),"",(O26*0.86)/(G26-H26)) -> 19.0404 | Q26: Débit net | R26: 100 | S26: =IF(ISERROR(S28+R26),0,S28+R26) -> 100 | T26: =IF(AND(T28="",R27=""),P26+R26+S26,P26+R26) -> 119.0404
Q27: Débit tuyauterie
A28: 10 | D28: =IF(C28="nu",3,IF(C28="isole",4,IF(C28="",""))) | E28: =IF(OR(C28="",B28=""),"",VLOOKUP(B28,DN,D28,0)) | F28: =IF(E28="","",E28*60) | I28: =G28&H28 | J28: 5 | K28: =IF(D28=3,INDEX('coef Fct'!fct,VLOOKUP(I28,tatr,2,0),VLOOKUP('deperd tuyauterie'!J28,ti,2,0)),IF(D28=4,INDEX(fcti,VLOOKUP(I28,tatr,2,0),VLOOKUP('deperd tuyauterie'!J28,tii,2,0)),IF(D28="",""))) | M28: =IF(L28="","",VLOOKUP(L28,annexe!position,2,0)) | N28: 36 | O28: =IF(OR(M28="",K28=""),"",IF(M28="",F28*K28*N28,IF(N28<>"",F28*K28*M28*N28))) | P28: =IF(OR(O28="",C28=""),"",(O28*0.86)/(G28-H28)) | Q28: Débit net | S28: =IF(ISERROR(S30+R28),0,S30+R28) -> 0
Q29: Débit tuyauterie
A30: 11 | D30: =IF(C30="nu",3,IF(C30="isole",4,IF(C30="",""))) | E30: =IF(OR(C30="",B30=""),"",VLOOKUP(B30,DN,D30,0)) | F30: =IF(E30="","",E30*60) | I30: =G30&H30 | J30: 15 | K30: =IF(D30=3,INDEX('coef Fct'!fct,VLOOKUP(I30,tatr,2,0),VLOOKUP('deperd tuyauterie'!J30,ti,2,0)),IF(D30=4,INDEX(fcti,VLOOKUP(I30,tatr,2,0),VLOOKUP('deperd tuyauterie'!J30,tii,2,0)),IF(D30="",""))) | M30: =IF(L30="","",VLOOKUP(L30,annexe!position,2,0)) | N30: 22 | O30: =IF(OR(M30="",K30=""),"",IF(M30="",F30*K30*N30,IF(N30<>"",F30*K30*M30*N30))) | P30: =IF(OR(O30="",C30=""),"",(O30*0.86)/(G30-H30)) | Q30: Débit net
Q31: Débit tuyauterie
A32: 12 | D32: =IF(C32="nu",3,IF(C32="isole",4,IF(C32="",""))) | E32: =IF(OR(C32="",B32=""),"",VLOOKUP(B32,DN,D32,0)) | F32: =IF(E32="","",E32*60) | I32: =G32&H32 | J32: 7 | K32: =IF(D32=3,INDEX('coef Fct'!fct,VLOOKUP(I32,tatr,2,0),VLOOKUP('deperd tuyauterie'!J32,ti,2,0)),IF(D32=4,INDEX(fcti,VLOOKUP(I32,tatr,2,0),VLOOKUP('deperd tuyauterie'!J32,tii,2,0)),IF(D32="",""))) | M32: =IF(L32="","",VLOOKUP(L32,annexe!position,2,0)) | N32: 16 | O32: =IF(OR(M32="",K32=""),"",IF(M32="",F32*K32*N32,IF(N32<>"",F32*K32*M32*N32))) | P32: =IF(OR(O32="",C32=""),"",(O32*0.86)/(G32-H32)) | Q32: Débit net
Q33: Débit tuyauterie
A34: 13 | D34: =IF(C34="nu",3,IF(C34="isole",4,IF(C34="",""))) | E34: =IF(OR(C34="",B34=""),"",VLOOKUP(B34,DN,D34,0)) | F34: =IF(E34="","",E34*60) | I34: =G34&H34 | J34: 20 | K34: =IF(D34=3,INDEX('coef Fct'!fct,VLOOKUP(I34,tatr,2,0),VLOOKUP('deperd tuyauterie'!J34,ti,2,0)),IF(D34=4,INDEX(fcti,VLOOKUP(I34,tatr,2,0),VLOOKUP('deperd tuyauterie'!J34,tii,2,0)),IF(D34="",""))) | M34: =IF(L34="","",VLOOKUP(L34,annexe!position,2,0)) | N34: 26 | O34: =IF(OR(M34="",K34=""),"",IF(M34="",F34*K34*N34,IF(N34<>"",F34*K34*M34*N34))) | P34: =IF(OR(O34="",C34=""),"",(O34*0.86)/(G34-H34)) | Q34: Débit net
Q35: Débit tuyauterie | S35: =IF(S37="",R35,IF(R35="","",IF(AND(R35<>"",S37<>""),R35+S37)))
A36: 14 | D36: =IF(C36="nu",3,IF(C36="isole",4,IF(C36="",""))) | E36: =IF(OR(C36="",B36=""),"",VLOOKUP(B36,DN,D36,0)) | F36: =IF(E36="","",E36*60) | I36: =G36&H36 | J36: 20 | K36: =IF(D36=3,INDEX('coef Fct'!fct,VLOOKUP(I36,tatr,2,0),VLOOKUP('deperd tuyauterie'!J36,ti,2,0)),IF(D36=4,INDEX(fcti,VLOOKUP(I36,tatr,2,0),VLOOKUP('deperd tuyauterie'!J36,tii,2,0)),IF(D36="",""))) | M36: =IF(L36="","",VLOOKUP(L36,annexe!position,2,0)) | N36: 6 | O36: =IF(OR(M36="",K36=""),"",IF(M36="",F36*K36*N36,IF(N36<>"",F36*K36*M36*N36))) | P36: =IF(OR(O36="",C36=""),"",(O36*0.86)/(G36-H36)) | Q36: Débit net
Q37: Débit tuyauterie
A38: 15 | D38: =IF(C38="nu",3,IF(C38="isole",4,IF(C38="",""))) | E38: =IF(OR(C38="",B38=""),"",VLOOKUP(B38,DN,D38,0)) | F38: =IF(E38="","",E38*60) | I38: =G38&H38 | J38: 20 | K38: =IF(D38=3,INDEX('coef Fct'!fct,VLOOKUP(I38,tatr,2,0),VLOOKUP('deperd tuyauterie'!J38,ti,2,0)),IF(D38=4,INDEX(fcti,VLOOKUP(I38,tatr,2,0),VLOOKUP('deperd tuyauterie'!J38,tii,2,0)),IF(D38="",""))) | M38: =IF(L38="","",VLOOKUP(L38,annexe!position,2,0)) | N38: 10 | O38: =IF(OR(M38="",K38=""),"",IF(M38="",F38*K38*N38,IF(N38<>"",F38*K38*M38*N38))) | P38: =IF(OR(O38="",C38=""),"",(O38*0.86)/(G38-H38)) | Q38: Débit net
Q39: Débit tuyauterie
D40: =IF(C40="nu",3,IF(C40="isole",4,IF(C40="",""))) | E40: =IF(OR(C40="",B40=""),"",VLOOKUP(B40,DN,D40,0)) | F40: =IF(E40="","",E40*60) | I40: =G40&H40 | K40: =IF(D40=3,INDEX('coef Fct'!fct,VLOOKUP(I40,tatr,2,0),VLOOKUP('deperd tuyauterie'!J40,ti,2,0)),IF(D40=4,INDEX(fcti,VLOOKUP(I40,tatr,2,0),VLOOKUP('deperd tuyauterie'!J40,tii,2,0)),IF(D40="",""))) | M40: =IF(L40="","",VLOOKUP(L40,annexe!position,2,0)) | O40: =IF(OR(M40="",K40=""),"",IF(M40="",F40*K40*N40,IF(N40<>"",F40*K40*M40*N40))) | P40: =IF(OR(O40="",C40=""),"",(O40*0.86)/(G40-H40))
D42: =IF(C42="nu",3,IF(C42="isole",4,IF(C42="",""))) | E42: =IF(OR(C42="",B42=""),"",VLOOKUP(B42,DN,D42,0)) | F42: =IF(E42="","",E42*60) | I42: =G42&H42 | K42: =IF(D42=3,INDEX('coef Fct'!fct,VLOOKUP(I42,tatr,2,0),VLOOKUP('deperd tuyauterie'!J42,ti,2,0)),IF(D42=4,INDEX(fcti,VLOOKUP(I42,tatr,2,0),VLOOKUP('deperd tuyauterie'!J42,tii,2,0)),IF(D42="",""))) | M42: =IF(L42="","",VLOOKUP(L42,annexe!position,2,0)) | O42: =IF(OR(M42="",K42=""),"",IF(M42="",F42*K42*N42,IF(N42<>"",F42*K42*M42*N42))) | P42: =IF(OR(O42="",C42=""),"",(O42*0.86)/(G42-H42))
D44: =IF(C44="nu",3,IF(C44="isole",4,IF(C44="",""))) | E44: =IF(OR(C44="",B44=""),"",VLOOKUP(B44,DN,D44,0)) | F44: =IF(E44="","",E44*60) | I44: =G44&H44 | K44: =IF(D44=3,INDEX('coef Fct'!fct,VLOOKUP(I44,tatr,2,0),VLOOKUP('deperd tuyauterie'!J44,ti,2,0)),IF(D44=4,INDEX(fcti,VLOOKUP(I44,tatr,2,0),VLOOKUP('deperd tuyauterie'!J44,tii,2,0)),IF(D44="",""))) | M44: =IF(L44="","",VLOOKUP(L44,annexe!position,2,0)) | O44: =IF(OR(M44="",K44=""),"",IF(M44="",F44*K44*N44,IF(N44<>"",F44*K44*M44*N44))) | P44: =IF(OR(O44="",C44=""),"",(O44*0.86)/(G44-H44))
D46: =IF(C46="nu",3,IF(C46="isole",4,IF(C46="",""))) | E46: =IF(OR(C46="",B46=""),"",VLOOKUP(B46,DN,D46,0)) | F46: =IF(E46="","",E46*60) | I46: =G46&H46 | K46: =IF(D46=3,INDEX('coef Fct'!fct,VLOOKUP(I46,tatr,2,0),VLOOKUP('deperd tuyauterie'!J46,ti,2,0)),IF(D46=4,INDEX(fcti,VLOOKUP(I46,tatr,2,0),VLOOKUP('deperd tuyauterie'!J46,tii,2,0)),IF(D46="",""))) | M46: =IF(L46="","",VLOOKUP(L46,annexe!position,2,0)) | O46: =IF(OR(M46="",K46=""),"",IF(M46="",F46*K46*N46,IF(N46<>"",F46*K46*M46*N46))) | P46: =IF(OR(O46="",C46=""),"",(O46*0.86)/(G46-H46))
D48: =IF(C48="nu",3,IF(C48="isole",4,IF(C48="",""))) | E48: =IF(OR(C48="",B48=""),"",VLOOKUP(B48,DN,D48,0)) | F48: =IF(E48="","",E48*60) | I48: =G48&H48 | K48: =IF(D48=3,INDEX('coef Fct'!fct,VLOOKUP(I48,tatr,2,0),VLOOKUP('deperd tuyauterie'!J48,ti,2,0)),IF(D48=4,INDEX(fcti,VLOOKUP(I48,tatr,2,0),VLOOKUP('deperd tuyauterie'!J48,tii,2,0)),IF(D48="",""))) | M48: =IF(L48="","",VLOOKUP(L48,annexe!position,2,0)) | O48: =IF(OR(M48="",K48=""),"",IF(M48="",F48*K48*N48,IF(N48<>"",F48*K48*M48*N48))) | P48: =IF(OR(O48="",C48=""),"",(O48*0.86)/(G48-H48))
D50: =IF(C50="nu",3,IF(C50="isole",4,IF(C50="",""))) | E50: =IF(OR(C50="",B50=""),"",VLOOKUP(B50,DN,D50,0)) | F50: =IF(E50="","",E50*60) | I50: =G50&H50 | K50: =IF(D50=3,INDEX('coef Fct'!fct,VLOOKUP(I50,tatr,2,0),VLOOKUP('deperd tuyauterie'!J50,ti,2,0)),IF(D50=4,INDEX(fcti,VLOOKUP(I50,tatr,2,0),VLOOKUP('deperd tuyauterie'!J50,tii,2,0)),IF(D50="",""))) | M50: =IF(L50="","",VLOOKUP(L50,annexe!position,2,0)) | O50: =IF(OR(M50="",K50=""),"",IF(M50="",F50*K50*N50,IF(N50<>"",F50*K50*M50*N50))) | P50: =IF(OR(O50="",C50=""),"",(O50*0.86)/(G50-H50))
D52: =IF(C52="nu",3,IF(C52="isole",4,IF(C52="",""))) | E52: =IF(OR(C52="",B52=""),"",VLOOKUP(B52,DN,D52,0)) | F52: =IF(E52="","",E52*60) | I52: =G52&H52 | K52: =IF(D52=3,INDEX('coef Fct'!fct,VLOOKUP(I52,tatr,2,0),VLOOKUP('deperd tuyauterie'!J52,ti,2,0)),IF(D52=4,INDEX(fcti,VLOOKUP(I52,tatr,2,0),VLOOKUP('deperd tuyauterie'!J52,tii,2,0)),IF(D52="",""))) | M52: =IF(L52="","",VLOOKUP(L52,annexe!position,2,0)) | O52: =IF(OR(M52="",K52=""),"",IF(M52="",F52*K52*N52,IF(N52<>"",F52*K52*M52*N52))) | P52: =IF(OR(O52="",C52=""),"",(O52*0.86)/(G52-H52))
D54: =IF(C54="nu",3,IF(C54="isole",4,IF(C54="",""))) | E54: =IF(OR(C54="",B54=""),"",VLOOKUP(B54,DN,D54,0)) | F54: =IF(E54="","",E54*60) | I54: =G54&H54 | K54: =IF(D54=3,INDEX('coef Fct'!fct,VLOOKUP(I54,tatr,2,0),VLOOKUP('deperd tuyauterie'!J54,ti,2,0)),IF(D54=4,INDEX(fcti,VLOOKUP(I54,tatr,2,0),VLOOKUP('deperd tuyauterie'!J54,tii,2,0)),IF(D54="",""))) | M54: =IF(L54="","",VLOOKUP(L54,annexe!position,2,0)) | O54: =IF(OR(M54="",K54=""),"",IF(M54="",F54*K54*N54,IF(N54<>"",F54*K54*M54*N54))) | P54: =IF(OR(O54="",C54=""),"",(O54*0.86)/(G54-H54))
...

Sheet coef kt-kti
B5: DN | C5: ep. Isol | D5: KT | E5: Kti
B6: 3/8" | C6: 20 | D6: 0.82 | E6: 0.22
B7: 1/2" | C7: 20 | D7: 0.99 | E7: 0.25
B8: 3/4" | C8: 20 | D8: 1.22 | E8: 0.29
B9: 1 " | C9: 20 | D9: 1.48 | E9: 0.33
B10: 1 1/4" | C10: 30 | D10: 1.8 | E10: 0.3
B11: 43/48 | C11: 30 | D11: 2.02 | E11: 0.33
B12: 51/57 | C12: 30 | D12: 2.33 | E12: 0.37
B13: 54/60 | C13: 30 | D13: 2.45 | E13: 0.39
B14: 57/63 | C14: 30 | D14: 2.56 | E14: 0.4
B15: 64/70 | C15: 30 | D15: 2.79 | E15: 0.43
B16: 70/76 | C16: 40 | D16: 3 | E16: 0.38
B17: 82/89 | C17: 40 | D17: 3.43 | E17: 0.42
B18: 107/114 | C18: 40 | D18: 4.28 | E18: 0.51

Sheet coef Fct
B2: FACTEUR DE CORRECTION MOYEN POUR TUYAU NU fCT
D4: Ti
B5: Ta | C5: Tr | D5: 45 | E5: 22 | F5: 20 | G5: 18 | H5: 15 | I5: 10 | J5: 7 | K5: 5 | L5: 0
B6: 90 | C6: 70 | D6: 0.568 | E6: 0.965 | F6: 1 | G6: 1.034 | H6: 1.086 | I6: 1.174 | J6: 1.226 | K6: 1.261 | L6: 1.349
B7: 80 | C7: 60 | D7: 0.381 | E7: 0.761 | F7: 0.794 | G7: 0.828 | H7: 0.878 | I7: 0.963 | J7: 1.014 | K7: 1.048 | L7: 1.133
B8: 75 | C8: 65 | D8: 0.381 | E8: 0.761 | F8: 0.794 | G8: 0.828 | H8: 0.878 | I8: 0.963 | J8: 1.014 | K8: 1.048 | L8: 1.133
B9: 75 | C9: 60 | D9: 0.336 | E9: 0.712 | F9: 0.745 | G9: 0.778 | H9: 0.828 | I9: 0.912 | J9: 0.963 | K9: 0.996 | L9: 1.081
B10: 65 | C10: 50 | D10: 0.171 | E10: 0.525 | F10: 0.557 | G10: 0.589 | H10: 0.637 | I10: 0.717 | J10: 0.766 | K10: 0.798 | L10: 0.88
B11: 60 | C11: 50 | D11: 0.132 | E11: 0.481 | F11: 0.512 | G11: 0.544 | H11: 0.591 | I11: 0.671 | J11: 0.719 | K11: 0.751 | L11: 0.832
B12: 60 | C12: 45 | D12: 0.096 | E12: 0.437 | F12: 0.468 | G12: 0.5 | H12: 0.546 | I12: 0.625 | J12: 0.672 | K12: 0.704 | L12: 0.784
B13: 55 | C13: 45 | D13: 0.061 | E13: 0.394 | F13: 0.425 | G13: 0.456 | H13: 0.502 | I13: 0.58 | J13: 0.627 | K13: 0.658 | L13: 0.738
B14: 55 | C14: 40 | D14: 0.028 | E14: 0.353 | F14: 0.383 | G14: 0.413 | H14: 0.459 | I14: 0.536 | J14: 0.582 | K14: 0.613 | L14: 0.692
B15: 50 | C15: 40 | D15: **** | E15: 0.312 | F15: 0.342 | G15: 0.371 | H15: 0.416 | I15: 0.492 | J15: 0.538 | K15: 0.569 | L15: 0.647

Sheet coef Fcti
B2: FACTEUR DE CORRECTION MOYEN POUR TUYAU NU fCTi
D4: Ti
B5: Ta | C5: Tr | D5: 35 | E5: 22 | F5: 20 | G5: 18 | H5: 15 | I5: 10 | J5: 7 | K5: 5 | L5: 0
B6: 90 | C6: 70 | D6: 0.75 | E6: 0.967 | F6: 1 | G6: 1.033 | H6: 1.083 | I6: 1.167 | J6: 1.217 | K6: 1.25 | L6: 1.333
B7: 80 | C7: 60 | D7: 0.581 | E7: 0.797 | F7: 0.83 | G7: 0.863 | H7: 0.913 | I7: 0.996 | J7: 1.046 | K7: 1.08 | L7: 1.162
B8: 75 | C8: 65 | D8: 0.581 | E8: 0.797 | F8: 0.83 | G8: 0.863 | H8: 0.913 | I8: 0.996 | J8: 1.046 | K8: 1.08 | L8: 1.162
B9: 75 | C9: 60 | D9: 0.539 | E9: 0.755 | F9: 0.788 | G9: 0.821 | H9: 0.871 | I9: 0.954 | J9: 1.004 | K9: 1.037 | L9: 1.12
B10: 65 | C10: 50 | D10: 0.371 | E10: 0.586 | F10: 0.619 | G10: 0.652 | H10: 0.702 | I10: 0.785 | J10: 0.834 | K10: 0.867 | L10: 0.95
B11: 60 | C11: 50 | D11: 0.329 | E11: 0.544 | F11: 0.577 | G11: 0.61 | H11: 0.66 | I11: 0.742 | J11: 0.792 | K11: 0.825 | L11: 0.908
B12: 60 | C12: 45 | D12: 0.287 | E12: 0.502 | F12: 0.535 | G12: 0.568 | H12: 0.618 | I12: 0.7 | J12: 0.75 | K12: 0.783 | L12: 0.866
B13: 55 | C13: 45 | D13: 0.246 | E13: 0.46 | F13: 0.493 | G13: 0.526 | H13: 0.576 | I13: 0.658 | J13: 0.708 | K13: 0.741 | L13: 0.823
B14: 55 | C14: 40 | D14: 0.204 | E14: 0.418 | F14: 0.451 | G14: 0.484 | H14: 0.534 | I14: 0.616 | J14: 0.666 | K14: 0.699 | L14: 0.781
B15: 50 | C15: 40 | D15: 0.163 | E15: 0.377 | F15: 0.41 | G15: 0.443 | H15: 0.492 | I15: 0.574 | J15: 0.624 | K15: 0.657 | L15: 0.739

Sheet annexe
B2: nu | C2: 3/8" | E2: Tuyau hori sous plafond | F2: 0.75 | G2: ='coef Fct'!B6&'coef Fct'!C6 -> 9070 | H2: 1 | J2: 45 | K2: 1 | M2: 35 | N2: 1
B3: isole | C3: 1/2" | E3: Tuyau hori sur sol | F3: 0.9 | G3: ='coef Fct'!B7&'coef Fct'!C7 -> 8060 | H3: 2 | J3: 22 | K3: 2 | M3: 22 | N3: 2 | P3: 0.75
C4: 3/4" | E4: Tuyau vert | F4: 0.9 | G4: ='coef Fct'!B8&'coef Fct'!C8 -> 7565 | H4: 3 | J4: 20 | K4: 3 | M4: 20 | N4: 3 | P4: 0.9
C5: 1 " | G5: ='coef Fct'!B9&'coef Fct'!C9 -> 7560 | H5: 4 | J5: 18 | K5: 4 | M5: 18 | N5: 4 | P5: 0.9
C6: 1 1/4" | G6: ='coef Fct'!B10&'coef Fct'!C10 -> 6550 | H6: 5 | J6: 15 | K6: 5 | M6: 15 | N6: 5
C7: 43/48 | G7: ='coef Fct'!B11&'coef Fct'!C11 -> 6050 | H7: 6 | J7: 10 | K7: 6 | M7: 10 | N7: 6
C8: 51/57 | G8: ='coef Fct'!B12&'coef Fct'!C12 -> 6045 | H8: 7 | J8: 7 | K8: 7 | M8: 7 | N8: 7
C9: 54/60 | G9: ='coef Fct'!B13&'coef Fct'!C13 -> 5545 | H9: 8 | J9: 5 | K9: 8 | M9: 5 | N9: 8
C10: 57/63 | G10: ='coef Fct'!B14&'coef Fct'!C14 -> 5540 | H10: 9 | J10: 0 | K10: 9 | M10: 0 | N10: 9
C11: 64/70 | G11: ='coef Fct'!B15&'coef Fct'!C15 -> 5040 | H11: 10
C12: 70/76
C13: 82/89
C14: 107/114
