Workbook
Name DN: 'coef kt-kti'!$B$5:$E$18
Name etat: annexe!$B$1:$B$3
Name fct: 'coef Fct'!$D$6:$L$15
Name fcti: 'coef Fcti'!$D$6:$L$15
Name position: annexe!$E$1:$F$4
Name tatr: annexe!$G$1:$H$11
Name ti: annexe!$J$1:$K$10
Name tii: annexe!$M$1:$N$10

Sheet Radiateur
A1: CALCUL DE RADIATEURS
L2: Facteur de forme n ou m
L3: Radiateur tubulaire | M3: n= 1.30
B4: Température aller | E4: °C | F4: Puissance du radiateur Φ = | I4: =IF(ISERROR($D$10/$G$22),"",$D$10/$G$22) | J4: W | L4: Panneaux chauffant simple :
B5: Température Retour | E5: °C | L5: h : 14 à 49 cm | M5: n= 1.22 à 1.24
B6: Température moyenne | D6: =IF(ISERROR((D4+D5)/2),"",(D4+D5)/2) -> 0 | E6: °C | F6: Puissance réelle du radiateur = | I6: =IF(ISERROR($E$32*$G$22),"",$E$32*$G$22) | J6: W | L6: h : 56 à 91 cm | M6: n= 1.25 à 1.28
B7: Température ambiante | E7: °C | L7: h : plus de 91 cm | M7: n= 1.29 à 1.30
B8: Delta T | D8: =IF(ISERROR(D6-D7),"",D6-D7) -> 0 | E8: K | F8: Débit dans le radiateur = | I8: =IF(ISERROR($F$39*0.001),"",$F$39*0.001) | J8: m3/h | L8: Panneaux chauffant double :
B9: Facteur n ou m | L9: h : 21 à 42 cm | M9: n = 1.22 à 1.26
B10: Déperdition | E10: W | L10: h : plus de 42 cm | M10: n = 1.27 à 1.30
L11: Panneaux lamellés | M11: n = 1.20 à 1.37
L12: Collecteurs | M12: n = 1.19 à 1.40
B13: 1/ Calcul du Δt
B15: Tr-Ti/Ta-Ti | C15: > ou = 0.7 | D15: alors | E15: Δt=((Ta-Tr)/2)-Ti
B16: Tr-Ti/Ta-Ti | C16: <0.7 | D16: alors | E16: Δt=(Ta-Tr)/ln((Ta-Ti)/(Tr-Ti))
B18: Donc => | C18: Tr-Ti/Ta-Ti = | D18: =IF(ISERROR(($D$5-$D$7)/($D$4-$D$7)),"",($D$5-$D$7)/($D$4-$D$7)) | E18: => | F18: Δt = | G18: =IF(D18<0.7,(D4-D5)/LN((D4-D7)/(D5-D7)),((D4+D5)/2)-D7) -> 0 | H18: K
B20: 2/ Coefficient de correction
B22: Φ=Φn/(Δt/50)^n | E22: d’où (Δt/50)^n | F22: => | G22: =IF(ISERROR((G18/50)^D9),"",(G18/50)^D9)
B24: 3/Puissance utile du radiaeur
B26: Φ=Φn/(Δt/50)^n | E26: d’où | F26: => | G26: =IF(ISERROR($D$10/$G$22),"",$D$10/$G$22) | H26: W
B29: 4/Puissance reelle du radiateur
B31: Choix du radiateur :
B32: Puissance du radiateur à Δt=50 K | G32: W
B34: Puissance reelle du radiateur => | E34: =IF(ISERROR($E$32*$G$22),"",$E$32*$G$22) | F34: W
B36: 5/Débit du radiateur
B38: Q = m*C*Δt | C38: d’où | D38: m=Q/(C*Δt) | E38: d’où m= | F38: =IF(ISERROR(E34/(4187*(D4-D5))),"",E34/(4187*(D4-D5))) | G38: Kg/s
E39: m= | F39: =IF(ISERROR(F38*3600),"",F38*3600) | G39: Kg/h
E40: m= | F40: =IF(ISERROR($F$39*0.001),"",$F$39*0.001) | G40: m3/h

Sheet rad monotube
C1: CALCUL DE RADIATEUR MONOTUBE
A5: Température Départ | C5: tD
A6: Température retour | C6: tR
A7: Température moyenne entre 2 radiateurs | E7: tem
A8: Température entré radiateur | E8: ter
A9: Température sortie radiateur | E9: tsr
A10: Température moyenne du radiateur | E10: trm
A13: Z | B13: 2 | C13: 4 | D13: 6 | E13: 8 | F13: 11 | G13: 14Δ | H13: 20
A14: Δt col | B14: 20 | C14: 16.5 | D14: 15 | E14: 14.5 | F14: 14 | G14: 14 | H14: 14
A15: Δtr const | B15: 10 | C15: 8.25 | D15: 7.5 | E15: 7.25 | F15: 7 | G15: 7 | H15: 7
A18: 1/ INSTALLATION AVEC UN Δt CONSTANT ET DEBIT VARIABLE
A20: td | C20: °C
A21: tr | C21: °C
A22: Δt col | B22: =IF(OR(B20="",B21=""),"",B20-B21) | C22: °C
A23: Fact correct n
A24: Δtr | C24: K
A25: Z nbre rad
A27: N° | B27: Qh [W] | C27: Grad [Kg/h] | D27: Δt'col [°C] | E27: tme [°C] | F27: trm [°C] | G27: ti [°C] | H27: Δt rm - ti | I27: Facteur de correction | J27: Qn à 50 K [W] | K27: Type de radiateur | L27: Puissance rad à 50K | M27: Qeff
C28: =IF($B$24="","",(B28*3600)/(4187*$B$24)) | D28: =IF(OR(B28="",$B$22="",$B$39=""),"",(B28*$B$22)/$B$39) | E28: =IF(B20="","",B20) | F28: =IF(OR($B$24="",E28="",A28=""),"",E28-($B$24/2)) | H28: =IF(OR(G28="",F28=""),"",F28-G28) | I28: =IF(OR($B$23="",H28=""),"",(H28/50)^$B$23) | J28: =IF(OR(B28="",I28=""),"",B28/I28) | M28: =IF(OR(I28="",L28=""),"",L28*I28)
C29: =IF($B$24="","",(B29*3600)/(4187*$B$24)) | D29: =IF(OR(B29="",$B$22="",$B$39=""),"",(B29*$B$22)/$B$39) | E29: =IF(OR(E28="",D28=""),"",E28-D28) | F29: =IF(OR($B$24="",E29="",A29=""),"",E29-($B$24/2)) | H29: =IF(OR(G29="",F29=""),"",F29-G29) | I29: =IF(OR($B$23="",H29=""),"",(H29/50)^$B$23) | J29: =IF(OR(B29="",I29=""),"",B29/I29) | M29: =IF(OR(I29="",L29=""),"",L29*I29)
C30: =IF($B$24="","",(B30*3600)/(4187*$B$24)) | D30: =IF(OR(B30="",$B$22="",$B$39=""),"",(B30*$B$22)/$B$39) | E30: =IF(OR(E29="",D29=""),"",E29-D29) | F30: =IF(OR($B$24="",E30="",A30=""),"",E30-($B$24/2)) | H30: =IF(OR(G30="",F30=""),"",F30-G30) | I30: =IF(OR($B$23="",H30=""),"",(H30/50)^$B$23) | J30: =IF(OR(B30="",I30=""),"",B30/I30) | M30: =IF(OR(I30="",L30=""),"",L30*I30)
C31: =IF($B$24="","",(B31*3600)/(4187*$B$24)) | D31: =IF(OR(B31="",$B$22="",$B$39=""),"",(B31*$B$22)/$B$39) | E31: =IF(OR(E30="",D30=""),"",E30-D30) | F31: =IF(OR($B$24="",E31="",A31=""),"",E31-($B$24/2)) | H31: =IF(OR(G31="",F31=""),"",F31-G31) | I31: =IF(OR($B$23="",H31=""),"",(H31/50)^$B$23) | J31: =IF(OR(B31="",I31=""),"",B31/I31) | M31: =IF(OR(I31="",L31=""),"",L31*I31)
C32: =IF($B$24="","",(B32*3600)/(4187*$B$24)) | D32: =IF(OR(B32="",$B$22="",$B$39=""),"",(B32*$B$22)/$B$39) | E32: =IF(OR(E31="",D31=""),"",E31-D31) | F32: =IF(OR($B$24="",E32="",A32=""),"",E32-($B$24/2)) | H32: =IF(OR(G32="",F32=""),"",F32-G32) | I32: =IF(OR($B$23="",H32=""),"",(H32/50)^$B$23) | J32: =IF(OR(B32="",I32=""),"",B32/I32) | M32: =IF(OR(I32="",L32=""),"",L32*I32)
C33: =IF($B$24="","",(B33*3600)/(4187*$B$24)) | D33: =IF(OR(B33="",$B$22="",$B$39=""),"",(B33*$B$22)/$B$39) | E33: =IF(OR(E32="",D32=""),"",E32-D32) | F33: =IF(OR($B$24="",E33="",A33=""),"",E33-($B$24/2)) | H33: =IF(OR(G33="",F33=""),"",F33-G33) | I33: =IF(OR($B$23="",H33=""),"",(H33/50)^$B$23) | J33: =IF(OR(B33="",I33=""),"",B33/I33) | M33: =IF(OR(I33="",L33=""),"",L33*I33)
C34: =IF($B$24="","",(B34*3600)/(4187*$B$24)) | D34: =IF(OR(B34="",$B$22="",$B$39=""),"",(B34*$B$22)/$B$39) | E34: =IF(OR(E33="",D33=""),"",E33-D33) | F34: =IF(OR($B$24="",E34="",A34=""),"",E34-($B$24/2)) | H34: =IF(OR(G34="",F34=""),"",F34-G34) | I34: =IF(OR($B$23="",H34=""),"",(H34/50)^$B$23) | J34: =IF(OR(B34="",I34=""),"",B34/I34) | M34: =IF(OR(I34="",L34=""),"",L34*I34)
C35: =IF($B$24="","",(B35*3600)/(4187*$B$24)) | D35: =IF(OR(B35="",$B$22="",$B$39=""),"",(B35*$B$22)/$B$39) | E35: =IF(OR(E34="",D34=""),"",E34-D34) | F35: =IF(OR($B$24="",E35="",A35=""),"",E35-($B$24/2)) | H35: =IF(OR(G35="",F35=""),"",F35-G35) | I35: =IF(OR($B$23="",H35=""),"",(H35/50)^$B$23) | J35: =IF(OR(B35="",I35=""),"",B35/I35) | M35: =IF(OR(I35="",L35=""),"",L35*I35)
C36: =IF($B$24="","",(B36*3600)/(4187*$B$24)) | D36: =IF(OR(B36="",$B$22="",$B$39=""),"",(B36*$B$22)/$B$39) | E36: =IF(OR(E35="",D35=""),"",E35-D35) | F36: =IF(OR($B$24="",E36="",A36=""),"",E36-($B$24/2)) | H36: =IF(OR(G36="",F36=""),"",F36-G36) | I36: =IF(OR($B$23="",H36=""),"",(H36/50)^$B$23) | J36: =IF(OR(B36="",I36=""),"",B36/I36) | M36: =IF(OR(I36="",L36=""),"",L36*I36)
C37: =IF($B$24="","",(B37*3600)/(4187*$B$24)) | D37: =IF(OR(B37="",$B$22="",$B$39=""),"",(B37*$B$22)/$B$39) | E37: =IF(OR(E36="",D36=""),"",E36-D36) | F37: =IF(OR($B$24="",E37="",A37=""),"",E37-($B$24/2)) | H37: =IF(OR(G37="",F37=""),"",F37-G37) | I37: =IF(OR($B$23="",H37=""),"",(H37/50)^$B$23) | J37: =IF(OR(B37="",I37=""),"",B37/I37) | M37: =IF(OR(I37="",L37=""),"",L37*I37)
C38: =IF($B$24="","",(B38*3600)/(4187*$B$24)) | D38: =IF(OR(B38="",$B$22="",$B$39=""),"",(B38*$B$22)/$B$39) | E38: =IF(OR(E37="",D37=""),"",E37-D37) | F38: =IF(OR($B$24="",E38="",A38=""),"",E38-($B$24/2)) | H38: =IF(OR(G38="",F38=""),"",F38-G38) | I38: =IF(OR($B$23="",H38=""),"",(H38/50)^$B$23) | J38: =IF(OR(B38="",I38=""),"",B38/I38) | M38: =IF(OR(I38="",L38=""),"",L38*I38)
B39: =SUM(B28:B38) -> 0 | F39: =IF(B25="","",SUM(F28:F38)/B25) | H39: =IF(OR(G39="",F39=""),"",F39-G39) | M39: =SUM(M28:M38) -> 0
A44: 2/ INSTALLATION AVEC UN DEBIT CONSTANT
D45: Fact correct n
A46: td | C46: °C | D46: Z nbr rad
A47: tr | C47: °C
A48: Δt col | B48: =IF(OR(B46="",B47=""),"",B46-B47) | C48: °C
A49: Débit col | B49: =IF(OR(B48="",B65=""),"",(B65*3600)/(B48*4187)) | C49: Kg/h
A50: Debit serie | B50: =IF(OR(B49="",E46=""),"",(2*B49)/E46) | C50: Kg/h
A53: N° | B53: Qh [W] | C53: Δtr | D53: Δt'col [°C] | E53: tme [°C] | F53: trm [°C] | G53: ti [°C] | H53: Δt rm - ti | I53: Facteur de correction | J53: Qn à 50 K [W] | K53: Type de radiateur | L53: Puissance rad à 50K | M53: Qeff
C54: =IF(OR($B$50="",B54=""),"",(B54*3600)/($B$50*4187)) | D54: =IF(OR($B$48="",B54="",$B$65=""),"",B54*$B$48/$B$65) | E54: =IF(B46="","",B46) | F54: =IF(OR(C54="",E54="",A54=""),"",E54-(C54/2)) | H54: =IF(OR(G54="",F54=""),"",F54-G54) | I54: =IF(OR($E$45="",H54=""),"",(H54/50)^$E$45) | J54: =IF(OR(B54="",I54=""),"",B54/I54) | M54: =IF(OR(I54="",L54=""),"",L54*I54)
C55: =IF(OR($B$50="",B55=""),"",(B55*3600)/($B$50*4187)) | D55: =IF(OR($B$48="",B55="",$B$65=""),"",B55*$B$48/$B$65) | E55: =IF(OR(E54="",D54=""),"",E54-D54) | F55: =IF(OR(C55="",E55="",A55=""),"",E55-(C55/2)) | H55: =IF(OR(G55="",F55=""),"",F55-G55) | I55: =IF(OR($E$45="",H55=""),"",(H55/50)^$E$45) | J55: =IF(OR(B55="",I55=""),"",B55/I55) | M55: =IF(OR(I55="",L55=""),"",L55*I55)
C56: =IF(OR($B$50="",B56=""),"",(B56*3600)/($B$50*4187)) | D56: =IF(OR($B$48="",B56="",$B$65=""),"",B56*$B$48/$B$65) | E56: =IF(OR(E55="",D55=""),"",E55-D55) | F56: =IF(OR(C56="",E56="",A56=""),"",E56-(C56/2)) | H56: =IF(OR(G56="",F56=""),"",F56-G56) | I56: =IF(OR($E$45="",H56=""),"",(H56/50)^$E$45) | J56: =IF(OR(B56="",I56=""),"",B56/I56) | M56: =IF(OR(I56="",L56=""),"",L56*I56)
C57: =IF(OR($B$50="",B57=""),"",(B57*3600)/($B$50*4187)) | D57: =IF(OR($B$48="",B57="",$B$65=""),"",B57*$B$48/$B$65) | E57: =IF(OR(E56="",D56=""),"",E56-D56) | F57: =IF(OR(C57="",E57="",A57=""),"",E57-(C57/2)) | H57: =IF(OR(G57="",F57=""),"",F57-G57) | I57: =IF(OR($E$45="",H57=""),"",(H57/50)^$E$45) | J57: =IF(OR(B57="",I57=""),"",B57/I57) | M57: =IF(OR(I57="",L57=""),"",L57*I57)
C58: =IF(OR($B$50="",B58=""),"",(B58*3600)/($B$50*4187)) | D58: =IF(OR($B$48="",B58="",$B$65=""),"",B58*$B$48/$B$65) | E58: =IF(OR(E57="",D57=""),"",E57-D57) | F58: =IF(OR(C58="",E58="",A58=""),"",E58-(C58/2)) | H58: =IF(OR(G58="",F58=""),"",F58-G58) | I58: =IF(OR($E$45="",H58=""),"",(H58/50)^$E$45) | J58: =IF(OR(B58="",I58=""),"",B58/I58) | M58: =IF(OR(I58="",L58=""),"",L58*I58)
C59: =IF(OR($B$50="",B59=""),"",(B59*3600)/($B$50*4187)) | D59: =IF(OR($B$48="",B59="",$B$65=""),"",B59*$B$48/$B$65) | E59: =IF(OR(E58="",D58=""),"",E58-D58) | F59: =IF(OR(C59="",E59="",A59=""),"",E59-(C59/2)) | H59: =IF(OR(G59="",F59=""),"",F59-G59) | I59: =IF(OR($E$45="",H59=""),"",(H59/50)^$E$45) | J59: =IF(OR(B59="",I59=""),"",B59/I59) | M59: =IF(OR(I59="",L59=""),"",L59*I59)
C60: =IF(OR($B$50="",B60=""),"",(B60*3600)/($B$50*4187)) | D60: =IF(OR($B$48="",B60="",$B$65=""),"",B60*$B$48/$B$65) | E60: =IF(OR(E59="",D59=""),"",E59-D59) | F60: =IF(OR(C60="",E60="",A60=""),"",E60-(C60/2)) | H60: =IF(OR(G60="",F60=""),"",F60-G60) | I60: =IF(OR($E$45="",H60=""),"",(H60/50)^$E$45) | J60: =IF(OR(B60="",I60=""),"",B60/I60) | M60: =IF(OR(I60="",L60=""),"",L60*I60)
C61: =IF(OR($B$50="",B61=""),"",(B61*3600)/($B$50*4187)) | D61: =IF(OR($B$48="",B61="",$B$65=""),"",B61*$B$48/$B$65) | E61: =IF(OR(E60="",D60=""),"",E60-D60) | F61: =IF(OR(C61="",E61="",A61=""),"",E61-(C61/2)) | H61: =IF(OR(G61="",F61=""),"",F61-G61) | I61: =IF(OR($E$45="",H61=""),"",(H61/50)^$E$45) | J61: =IF(OR(B61="",I61=""),"",B61/I61) | M61: =IF(OR(I61="",L61=""),"",L61*I61)
C62: =IF(OR($B$50="",B62=""),"",(B62*3600)/($B$50*4187)) | D62: =IF(OR($B$48="",B62="",$B$65=""),"",B62*$B$48/$B$65) | E62: =IF(OR(E61="",D61=""),"",E61-D61) | F62: =IF(OR(C62="",E62="",A62=""),"",E62-(C62/2)) | H62: =IF(OR(G62="",F62=""),"",F62-G62) | I62: =IF(OR($E$45="",H62=""),"",(H62/50)^$E$45) | J62: =IF(OR(B62="",I62=""),"",B62/I62) | M62: =IF(OR(I62="",L62=""),"",L62*I62)
C63: =IF(OR($B$50="",B63=""),"",(B63*3600)/($B$50*4187)) | D63: =IF(OR($B$48="",B63="",$B$65=""),"",B63*$B$48/$B$65) | E63: =IF(OR(E62="",D62=""),"",E62-D62) | F63: =IF(OR(C63="",E63="",A63=""),"",E63-(C63/2)) | H63: =IF(OR(G63="",F63=""),"",F63-G63) | I63: =IF(OR($E$45="",H63=""),"",(H63/50)^$E$45) | J63: =IF(OR(B63="",I63=""),"",B63/I63) | M63: =IF(OR(I63="",L63=""),"",L63*I63)
C64: =IF(OR($B$50="",B64=""),"",(B64*3600)/($B$50*4187)) | D64: =IF(OR($B$48="",B64="",$B$65=""),"",B64*$B$48/$B$65) | E64: =IF(OR(E63="",D63=""),"",E63-D63) | F64: =IF(OR(C64="",E64="",A64=""),"",E64-(C64/2)) | H64: =IF(OR(G64="",F64=""),"",F64-G64) | I64: =IF(OR($E$45="",H64=""),"",(H64/50)^$E$45) | J64: =IF(OR(B64="",I64=""),"",B64/I64) | M64: =IF(OR(I64="",L64=""),"",L64*I64)
B65: =SUM(B54:B64) -> 0 | F65: =IF(E46="","",SUM(F54:F64)/E46) | M65: =SUM(M54:M64) -> 0

Sheet deperd tuyauterie
I6: DEPERDITION TAYAUTERIE NU ET ISOLE
A8: Tronçon | B8: diam | C8: Tuyau | D8: intersection | E8: index | F8: Kt/kti | G8: Φn [w/m] | H8: ta [°C] | I8: tr [°C] | J8: tatr | K8: ti [°C] | L8: fct/fcti | M8: Position tuyauterie | N8: fp | O8: Long tube [m] | P8: Φtot [w] | Q8: Débit des pertes tuyauterie [kg/h] | R8: Débit antérieur déjà calculé [kg/h] | T8: Cumul des débits nets [kg/h] | U8: Débit de base | V8: Débit + pertes [kg/h] | W8: Compens pertes | X8: Débit total | Y8: Majoration [%] | Z8: Φ linéique aller | AA8: Δ t | AB8: Température de départ
E10: =IF(C10="nu",3,IF(C10="isole",4,IF(C10="",""))) | F10: =IF(OR(C10="",B10=""),"",VLOOKUP(B10,DN,E10,0)) | G10: =IF(F10="","",F10*60) | J10: =H10&I10 | L10: =IF(E10=3,INDEX('coef Fct'!fct,VLOOKUP(J10,tatr,2,0),VLOOKUP('deperd tuyauterie'!K10,ti,2,0)),IF(E10=4,INDEX(fcti,VLOOKUP(J10,tatr,2,0),VLOOKUP('deperd tuyauterie'!K10,tii,2,0)),IF(E10="",""))) | N10: =IF(M10="","",VLOOKUP(M10,annexe!position,2,0)) | P10: =IF(OR(N10="",L10=""),"",IF(N10="",G10*L10*O10,IF(O10<>"",G10*L10*N10*O10))) | Q10: =IF(OR(P10="",C10=""),"",(P10*0.86)/(H10-I10)) | R10: Débit net | T10: =IF(AND(T12="",S13="",S12=""),"",IF(AND(T12="",S13="",S12<>""),S12+Q10,IF(AND(T12<>"",S13<>"",S12<>""),T12+S13+S12+Q10,""))) | U10: =IF(AND(U12="",S12=""),"",IF(AND(U12="",S12<>""),S12,IF(AND(U12<>"",S12<>""),U12+S12,""))) | Z10: =IF(P10="","",P10/2) | AA10: =IF(AND(Z10="",X10=""),"",Z10/((X10/3600)*4187)) | AB10: =IF(AND(AA9="",AB9="",H10=""),"",IF(AND(AB9="",H10<>""),H10,IF(AND(H10<>"",AA9<>""),AB9-AA9)))
R11: Débit tuayauterie
E12: =IF(C12="nu",3,IF(C12="isole",4,IF(C12="",""))) | F12: =IF(OR(C12="",B12=""),"",VLOOKUP(B12,DN,E12,0)) | G12: =IF(F12="","",F12*60) | J12: =H12&I12 | L12: =IF(E12=3,INDEX('coef Fct'!fct,VLOOKUP(J12,tatr,2,0),VLOOKUP('deperd tuyauterie'!K12,ti,2,0)),IF(E12=4,INDEX(fcti,VLOOKUP(J12,tatr,2,0),VLOOKUP('deperd tuyauterie'!K12,tii,2,0)),IF(E12="",""))) | N12: =IF(M12="","",VLOOKUP(M12,annexe!position,2,0)) | P12: =IF(OR(N12="",L12=""),"",IF(N12="",G12*L12*O12,IF(O12<>"",G12*L12*N12*O12))) | Q12: =IF(OR(P12="",C12=""),"",(P12*0.86)/(H12-I12)) | R12: Débit net | T12: =IF(AND(T14="",S15="",S14=""),"",IF(AND(T14="",S15="",S14<>""),S14+Q12,IF(AND(T14<>"",S15<>"",S14<>""),T14+S15+S14+Q12,""))) | U12: =IF(AND(U14="",S14=""),"",IF(AND(U14="",S14<>""),S14,IF(AND(U14<>"",S14<>""),U14+S14,""))) | Z12: =IF(P12="","",P12/2) | AA12: =IF(AND(Z12="",X12=""),"",Z12/((X12/3600)*4187)) | AB12: =IF(AND(AB10="",AA10="",H12=""),"",IF(AND(H12<>"",AA10=""),H12,IF(AND(AA10<>"",AB10<>""),AB10-AA10)))
R13: Débit tuayauterie
E14: =IF(C14="nu",3,IF(C14="isole",4,IF(C14="",""))) | F14: =IF(OR(C14="",B14=""),"",VLOOKUP(B14,DN,E14,0)) | G14: =IF(F14="","",F14*60) | J14: =H14&I14 | L14: =IF(E14=3,INDEX('coef Fct'!fct,VLOOKUP(J14,tatr,2,0),VLOOKUP('deperd tuyauterie'!K14,ti,2,0)),IF(E14=4,INDEX(fcti,VLOOKUP(J14,tatr,2,0),VLOOKUP('deperd tuyauterie'!K14,tii,2,0)),IF(E14="",""))) | N14: =IF(M14="","",VLOOKUP(M14,annexe!position,2,0)) | P14: =IF(OR(N14="",L14=""),"",IF(N14="",G14*L14*O14,IF(O14<>"",G14*L14*N14*O14))) | Q14: =IF(OR(P14="",C14=""),"",(P14*0.86)/(H14-I14)) | R14: Débit net | T14: =IF(AND(T16="",S17="",S16=""),"",IF(AND(T16="",S17="",S16<>""),S16+Q14,IF(AND(T16<>"",S17<>"",S16<>""),T16+S17+S16+Q14,""))) | U14: =IF(AND(U16="",S16=""),"",IF(AND(U16="",S16<>""),S16,IF(AND(U16<>"",S16<>""),U16+S16,""))) | Z14: =IF(P14="","",P14/2) | AA14: =IF(AND(Z14="",X14=""),"",Z14/((X14/3600)*4187)) | AB14: =IF(AND(AB12="",AA12="",H14=""),"",IF(AND(H14<>"",AA12=""),H14,IF(AND(AA12<>"",AB12<>""),AB12-AA12)))
R15: Débit tuayauterie
E16: =IF(C16="nu",3,IF(C16="isole",4,IF(C16="",""))) | F16: =IF(OR(C16="",B16=""),"",VLOOKUP(B16,DN,E16,0)) | G16: =IF(F16="","",F16*60) | J16: =H16&I16 | L16: =IF(E16=3,INDEX('coef Fct'!fct,VLOOKUP(J16,tatr,2,0),VLOOKUP('deperd tuyauterie'!K16,ti,2,0)),IF(E16=4,INDEX(fcti,VLOOKUP(J16,tatr,2,0),VLOOKUP('deperd tuyauterie'!K16,tii,2,0)),IF(E16="",""))) | N16: =IF(M16="","",VLOOKUP(M16,annexe!position,2,0)) | P16: =IF(OR(N16="",L16=""),"",IF(N16="",G16*L16*O16,IF(O16<>"",G16*L16*N16*O16))) | Q16: =IF(OR(P16="",C16=""),"",(P16*0.86)/(H16-I16)) | R16: Débit net | T16: =IF(AND(T18="",S19="",S18=""),"",IF(AND(T18="",S19="",S18<>""),S18+Q16,IF(AND(T18<>"",S19<>"",S18<>""),T18+S19+S18+Q16,""))) | U16: =IF(AND(U18="",S18=""),"",IF(AND(U18="",S18<>""),S18,IF(AND(U18<>"",S18<>""),U18+S18,""))) | Z16: =IF(P16="","",P16/2) | AA16: =IF(AND(Z16="",X16=""),"",Z16/((X16/3600)*4187)) | AB16: =IF(AND(AB14="",AA14="",H16=""),"",IF(AND(H16<>"",AA14=""),H16,IF(AND(AA14<>"",AB14<>""),AB14-AA14)))
R17: Débit tuayauterie
E18: =IF(C18="nu",3,IF(C18="isole",4,IF(C18="",""))) | F18: =IF(OR(C18="",B18=""),"",VLOOKUP(B18,DN,E18,0)) | G18: =IF(F18="","",F18*60) | J18: =H18&I18 | L18: =IF(E18=3,INDEX('coef Fct'!fct,VLOOKUP(J18,tatr,2,0),VLOOKUP('deperd tuyauterie'!K18,ti,2,0)),IF(E18=4,INDEX(fcti,VLOOKUP(J18,tatr,2,0),VLOOKUP('deperd tuyauterie'!K18,tii,2,0)),IF(E18="",""))) | N18: =IF(M18="","",VLOOKUP(M18,annexe!position,2,0)) | P18: =IF(OR(N18="",L18=""),"",IF(N18="",G18*L18*O18,IF(O18<>"",G18*L18*N18*O18))) | Q18: =IF(OR(P18="",C18=""),"",(P18*0.86)/(H18-I18)) | R18: Débit net | T18: =IF(AND(T20="",S21="",S20=""),"",IF(AND(T20="",S21="",S20<>""),S20+Q18,IF(AND(T20<>"",S21<>"",S20<>""),T20+S21+S20+Q18,""))) | U18: =IF(AND(U20="",S20=""),"",IF(AND(U20="",S20<>""),S20,IF(AND(U20<>"",S20<>""),U20+S20,""))) | Z18: =IF(P18="","",P18/2) | AA18: =IF(AND(Z18="",X18=""),"",Z18/((X18/3600)*4187)) | AB18: =IF(AND(AB16="",AA16="",H18=""),"",IF(AND(H18<>"",AA16=""),H18,IF(AND(AA16<>"",AB16<>""),AB16-AA16)))
R19: Débit tuayauterie
E20: =IF(C20="nu",3,IF(C20="isole",4,IF(C20="",""))) | F20: =IF(OR(C20="",B20=""),"",VLOOKUP(B20,DN,E20,0)) | G20: =IF(F20="","",F20*60) | J20: =H20&I20 | L20: =IF(E20=3,INDEX('coef Fct'!fct,VLOOKUP(J20,tatr,2,0),VLOOKUP('deperd tuyauterie'!K20,ti,2,0)),IF(E20=4,INDEX(fcti,VLOOKUP(J20,tatr,2,0),VLOOKUP('deperd tuyauterie'!K20,tii,2,0)),IF(E20="",""))) | N20: =IF(M20="","",VLOOKUP(M20,annexe!position,2,0)) | P20: =IF(OR(N20="",L20=""),"",IF(N20="",G20*L20*O20,IF(O20<>"",G20*L20*N20*O20))) | Q20: =IF(OR(P20="",C20=""),"",(P20*0.86)/(H20-I20)) | R20: Débit net | T20: =IF(AND(T22="",S23="",S22=""),"",IF(AND(T22="",S23="",S22<>""),S22+Q20,IF(AND(T22<>"",S23<>"",S22<>""),T22+S23+S22+Q20,""))) | U20: =IF(AND(U22="",S22=""),"",IF(AND(U22="",S22<>""),S22,IF(AND(U22<>"",S22<>""),U22+S22,""))) | Z20: =IF(P20="","",P20/2) | AA20: =IF(AND(Z20="",X20=""),"",Z20/((X20/3600)*4187)) | AB20: =IF(AND(AB18="",AA18="",H20=""),"",IF(AND(H20<>"",AA18=""),H20,IF(AND(AA18<>"",AB18<>""),AB18-AA18)))
R21: Débit tuayauterie
E22: =IF(C22="nu",3,IF(C22="isole",4,IF(C22="",""))) | F22: =IF(OR(C22="",B22=""),"",VLOOKUP(B22,DN,E22,0)) | G22: =IF(F22="","",F22*60) | J22: =H22&I22 | L22: =IF(E22=3,INDEX('coef Fct'!fct,VLOOKUP(J22,tatr,2,0),VLOOKUP('deperd tuyauterie'!K22,ti,2,0)),IF(E22=4,INDEX(fcti,VLOOKUP(J22,tatr,2,0),VLOOKUP('deperd tuyauterie'!K22,tii,2,0)),IF(E22="",""))) | N22: =IF(M22="","",VLOOKUP(M22,annexe!position,2,0)) | P22: =IF(OR(N22="",L22=""),"",IF(N22="",G22*L22*O22,IF(O22<>"",G22*L22*N22*O22))) | Q22: =IF(OR(P22="",C22=""),"",(P22*0.86)/(H22-I22)) | R22: Débit net | T22: =IF(AND(T24="",S25="",S24=""),"",IF(AND(T24="",S25="",S24<>""),S24+Q22,IF(AND(T24<>"",S25<>"",S24<>""),T24+S25+S24+Q22,""))) | U22: =IF(AND(U24="",S24=""),"",IF(AND(U24="",S24<>""),S24,IF(AND(U24<>"",S24<>""),U24+S24,""))) | Z22: =IF(P22="","",P22/2) | AA22: =IF(AND(Z22="",X22=""),"",Z22/((X22/3600)*4187)) | AB22: =IF(AND(AB20="",AA20="",H22=""),"",IF(AND(H22<>"",AA20=""),H22,IF(AND(AA20<>"",AB20<>""),AB20-AA20)))
R23: Débit tuayauterie
E24: =IF(C24="nu",3,IF(C24="isole",4,IF(C24="",""))) | F24: =IF(OR(C24="",B24=""),"",VLOOKUP(B24,DN,E24,0)) | G24: =IF(F24="","",F24*60) | J24: =H24&I24 | L24: =IF(E24=3,INDEX('coef Fct'!fct,VLOOKUP(J24,tatr,2,0),VLOOKUP('deperd tuyauterie'!K24,ti,2,0)),IF(E24=4,INDEX(fcti,VLOOKUP(J24,tatr,2,0),VLOOKUP('deperd tuyauterie'!K24,tii,2,0)),IF(E24="",""))) | N24: =IF(M24="","",VLOOKUP(M24,annexe!position,2,0)) | P24: =IF(OR(N24="",L24=""),"",IF(N24="",G24*L24*O24,IF(O24<>"",G24*L24*N24*O24))) | Q24: =IF(OR(P24="",C24=""),"",(P24*0.86)/(H24-I24)) | R24: Débit net | T24: =IF(AND(T26="",S27="",S26=""),"",IF(AND(T26="",S27="",S26<>""),S26+Q24,IF(AND(T26<>"",S27<>"",S26<>""),T26+S27+S26+Q24,""))) | U24: =IF(AND(U26="",S26=""),"",IF(AND(U26="",S26<>""),S26,IF(AND(U26<>"",S26<>""),U26+S26,""))) | Z24: =IF(P24="","",P24/2) | AA24: =IF(AND(Z24="",X24=""),"",Z24/((X24/3600)*4187)) | AB24: =IF(AND(AB22="",AA22="",H24=""),"",IF(AND(H24<>"",AA22=""),H24,IF(AND(AA22<>"",AB22<>""),AB22-AA22)))
R25: Débit tuayauterie
E26: =IF(C26="nu",3,IF(C26="isole",4,IF(C26="",""))) | F26: =IF(OR(C26="",B26=""),"",VLOOKUP(B26,DN,E26,0)) | G26: =IF(F26="","",F26*60) | J26: =H26&I26 | L26: =IF(E26=3,INDEX('coef Fct'!fct,VLOOKUP(J26,tatr,2,0),VLOOKUP('deperd tuyauterie'!K26,ti,2,0)),IF(E26=4,INDEX(fcti,VLOOKUP(J26,tatr,2,0),VLOOKUP('deperd tuyauterie'!K26,tii,2,0)),IF(E26="",""))) | N26: =IF(M26="","",VLOOKUP(M26,annexe!position,2,0)) | P26: =IF(OR(N26="",L26=""),"",IF(N26="",G26*L26*O26,IF(O26<>"",G26*L26*N26*O26))) | Q26: =IF(OR(P26="",C26=""),"",(P26*0.86)/(H26-I26)) | R26: Débit net | T26: =IF(AND(T28="",S29="",S28=""),"",IF(AND(T28="",S29="",S28<>""),S28+Q26,IF(AND(T28<>"",S29<>"",S28<>""),T28+S29+S28+Q26,""))) | U26: =IF(AND(U28="",S28=""),"",IF(AND(U28="",S28<>""),S28,IF(AND(U28<>"",S28<>""),U28+S28,""))) | Z26: =IF(P26="","",P26/2) | AA26: =IF(AND(Z26="",X26=""),"",Z26/((X26/3600)*4187)) | AB26: =IF(AND(AB24="",AA24="",H26=""),"",IF(AND(H26<>"",AA24=""),H26,IF(AND(AA24<>"",AB24<>""),AB24-AA24)))
R27: Débit tuayauterie
E28: =IF(C28="nu",3,IF(C28="isole",4,IF(C28="",""))) | F28: =IF(OR(C28="",B28=""),"",VLOOKUP(B28,DN,E28,0)) | G28: =IF(F28="","",F28*60) | J28: =H28&I28 | L28: =IF(E28=3,INDEX('coef Fct'!fct,VLOOKUP(J28,tatr,2,0),VLOOKUP('deperd tuyauterie'!K28,ti,2,0)),IF(E28=4,INDEX(fcti,VLOOKUP(J28,tatr,2,0),VLOOKUP('deperd tuyauterie'!K28,tii,2,0)),IF(E28="",""))) | N28: =IF(M28="","",VLOOKUP(M28,annexe!position,2,0)) | P28: =IF(OR(N28="",L28=""),"",IF(N28="",G28*L28*O28,IF(O28<>"",G28*L28*N28*O28))) | Q28: =IF(OR(P28="",C28=""),"",(P28*0.86)/(H28-I28)) | R28: Débit net | T28: =IF(AND(T30="",S31="",S30=""),"",IF(AND(T30="",S31="",S30<>""),S30+Q28,IF(AND(T30<>"",S31<>"",S30<>""),T30+S31+S30+Q28,""))) | U28: =IF(AND(U30="",S30=""),"",IF(AND(U30="",S30<>""),S30,IF(AND(U30<>"",S30<>""),U30+S30,""))) | Z28: =IF(P28="","",P28/2) | AA28: =IF(AND(Z28="",X28=""),"",Z28/((X28/3600)*4187)) | AB28: =IF(AND(AB26="",AA26="",H28=""),"",IF(AND(H28<>"",AA26=""),H28,IF(AND(AA26<>"",AB26<>""),AB26-AA26)))
R29: Débit tuayauterie
E30: =IF(C30="nu",3,IF(C30="isole",4,IF(C30="",""))) | F30: =IF(OR(C30="",B30=""),"",VLOOKUP(B30,DN,E30,0)) | G30: =IF(F30="","",F30*60) | J30: =H30&I30 | L30: =IF(E30=3,INDEX('coef Fct'!fct,VLOOKUP(J30,tatr,2,0),VLOOKUP('deperd tuyauterie'!K30,ti,2,0)),IF(E30=4,INDEX(fcti,VLOOKUP(J30,tatr,2,0),VLOOKUP('deperd tuyauterie'!K30,tii,2,0)),IF(E30="",""))) | N30: =IF(M30="","",VLOOKUP(M30,annexe!position,2,0)) | P30: =IF(OR(N30="",L30=""),"",IF(N30="",G30*L30*O30,IF(O30<>"",G30*L30*N30*O30))) | Q30: =IF(OR(P30="",C30=""),"",(P30*0.86)/(H30-I30)) | R30: Débit net | T30: =IF(AND(T32="",S33="",S32=""),"",IF(AND(T32="",S33="",S32<>""),S32+Q30,IF(AND(T32<>"",S33<>"",S32<>""),T32+S33+S32+Q30,""))) | U30: =IF(AND(U32="",S32=""),"",IF(AND(U32="",S32<>""),S32,IF(AND(U32<>"",S32<>""),U32+S32,""))) | Z30: =IF(P30="","",P30/2) | AA30: =IF(AND(Z30="",X30=""),"",Z30/((X30/3600)*4187)) | AB30: =IF(AND(AB28="",AA28="",H30=""),"",IF(AND(H30<>"",AA28=""),H30,IF(AND(AA28<>"",AB28<>""),AB28-AA28)))
R31: Débit tuayauterie
E32: =IF(C32="nu",3,IF(C32="isole",4,IF(C32="",""))) | F32: =IF(OR(C32="",B32=""),"",VLOOKUP(B32,DN,E32,0)) | G32: =IF(F32="","",F32*60) | J32: =H32&I32 | L32: =IF(E32=3,INDEX('coef Fct'!fct,VLOOKUP(J32,tatr,2,0),VLOOKUP('deperd tuyauterie'!K32,ti,2,0)),IF(E32=4,INDEX(fcti,VLOOKUP(J32,tatr,2,0),VLOOKUP('deperd tuyauterie'!K32,tii,2,0)),IF(E32="",""))) | N32: =IF(M32="","",VLOOKUP(M32,annexe!position,2,0)) | P32: =IF(OR(N32="",L32=""),"",IF(N32="",G32*L32*O32,IF(O32<>"",G32*L32*N32*O32))) | Q32: =IF(OR(P32="",C32=""),"",(P32*0.86)/(H32-I32)) | R32: Débit net | T32: =IF(AND(T34="",S35="",S34=""),"",IF(AND(T34="",S35="",S34<>""),S34+Q32,IF(AND(T34<>"",S35<>"",S34<>""),T34+S35+S34+Q32,""))) | U32: =IF(AND(U34="",S34=""),"",IF(AND(U34="",S34<>""),S34,IF(AND(U34<>"",S34<>""),U34+S34,""))) | Z32: =IF(P32="","",P32/2) | AA32: =IF(AND(Z32="",X32=""),"",Z32/((X32/3600)*4187)) | AB32: =IF(AND(AB30="",AA30="",H32=""),"",IF(AND(H32<>"",AA30=""),H32,IF(AND(AA30<>"",AB30<>""),AB30-AA30)))
R33: Débit tuayauterie
E34: =IF(C34="nu",3,IF(C34="isole",4,IF(C34="",""))) | F34: =IF(OR(C34="",B34=""),"",VLOOKUP(B34,DN,E34,0)) | G34: =IF(F34="","",F34*60) | J34: =H34&I34 | L34: =IF(E34=3,INDEX('coef Fct'!fct,VLOOKUP(J34,tatr,2,0),VLOOKUP('deperd tuyauterie'!K34,ti,2,0)),IF(E34=4,INDEX(fcti,VLOOKUP(J34,tatr,2,0),VLOOKUP('deperd tuyauterie'!K34,tii,2,0)),IF(E34="",""))) | N34: =IF(M34="","",VLOOKUP(M34,annexe!position,2,0)) | P34: =IF(OR(N34="",L34=""),"",IF(N34="",G34*L34*O34,IF(O34<>"",G34*L34*N34*O34))) | Q34: =IF(OR(P34="",C34=""),"",(P34*0.86)/(H34-I34)) | R34: Débit net | T34: =IF(AND(T36="",S37="",S36=""),"",IF(AND(T36="",S37="",S36<>""),S36+Q34,IF(AND(T36<>"",S37<>"",S36<>""),T36+S37+S36+Q34,""))) | U34: =IF(AND(U36="",S36=""),"",IF(AND(U36="",S36<>""),S36,IF(AND(U36<>"",S36<>""),U36+S36,""))) | Z34: =IF(P34="","",P34/2) | AA34: =IF(AND(Z34="",X34=""),"",Z34/((X34/3600)*4187)) | AB34: =IF(AND(AB32="",AA32="",H34=""),"",IF(AND(H34<>"",AA32=""),H34,IF(AND(AA32<>"",AB32<>""),AB32-AA32)))
R35: Débit tuayauterie
E36: =IF(C36="nu",3,IF(C36="isole",4,IF(C36="",""))) | F36: =IF(OR(C36="",B36=""),"",VLOOKUP(B36,DN,E36,0)) | G36: =IF(F36="","",F36*60) | J36: =H36&I36 | L36: =IF(E36=3,INDEX('coef Fct'!fct,VLOOKUP(J36,tatr,2,0),VLOOKUP('deperd tuyauterie'!K36,ti,2,0)),IF(E36=4,INDEX(fcti,VLOOKUP(J36,tatr,2,0),VLOOKUP('deperd tuyauterie'!K36,tii,2,0)),IF(E36="",""))) | N36: =IF(M36="","",VLOOKUP(M36,annexe!position,2,0)) | P36: =IF(OR(N36="",L36=""),"",IF(N36="",G36*L36*O36,IF(O36<>"",G36*L36*N36*O36))) | Q36: =IF(OR(P36="",C36=""),"",(P36*0.86)/(H36-I36)) | R36: Débit net | T36: =IF(AND(T38="",S39="",S38=""),"",IF(AND(T38="",S39="",S38<>""),S38+Q36,IF(AND(T38<>"",S39<>"",S38<>""),T38+S39+S38+Q36,""))) | U36: =IF(AND(U38="",S38=""),"",IF(AND(U38="",S38<>""),S38,IF(AND(U38<>"",S38<>""),U38+S38,""))) | Z36: =IF(P36="","",P36/2) | AA36: =IF(AND(Z36="",X36=""),"",Z36/((X36/3600)*4187)) | AB36: =IF(AND(AB34="",AA34="",H36=""),"",IF(AND(H36<>"",AA34=""),H36,IF(AND(AA34<>"",AB34<>""),AB34-AA34)))
R37: Débit tuayauterie
E38: =IF(C38="nu",3,IF(C38="isole",4,IF(C38="",""))) | F38: =IF(OR(C38="",B38=""),"",VLOOKUP(B38,DN,E38,0)) | G38: =IF(F38="","",F38*60) | J38: =H38&I38 | L38: =IF(E38=3,INDEX('coef Fct'!fct,VLOOKUP(J38,tatr,2,0),VLOOKUP('deperd tuyauterie'!K38,ti,2,0)),IF(E38=4,INDEX(fcti,VLOOKUP(J38,tatr,2,0),VLOOKUP('deperd tuyauterie'!K38,tii,2,0)),IF(E38="",""))) | N38: =IF(M38="","",VLOOKUP(M38,annexe!position,2,0)) | P38: =IF(OR(N38="",L38=""),"",IF(N38="",G38*L38*O38,IF(O38<>"",G38*L38*N38*O38))) | Q38: =IF(OR(P38="",C38=""),"",(P38*0.86)/(H38-I38)) | R38: Débit net | T38: =IF(AND(T40="",S41="",S40=""),"",IF(AND(T40="",S41="",S40<>""),S40+Q38,IF(AND(T40<>"",S41<>"",S40<>""),T40+S41+S40+Q38,""))) | U38: =IF(AND(U40="",S40=""),"",IF(AND(U40="",S40<>""),S40,IF(AND(U40<>"",S40<>""),U40+S40,""))) | Z38: =IF(P38="","",P38/2) | AA38: =IF(AND(Z38="",X38=""),"",Z38/((X38/3600)*4187)) | AB38: =IF(AND(AB36="",AA36="",H38=""),"",IF(AND(H38<>"",AA36=""),H38,IF(AND(AA36<>"",AB36<>""),AB36-AA36)))
R39: Débit tuayauterie
E40: =IF(C40="nu",3,IF(C40="isole",4,IF(C40="",""))) | F40: =IF(OR(C40="",B40=""),"",VLOOKUP(B40,DN,E40,0)) | G40: =IF(F40="","",F40*60) | J40: =H40&I40 | L40: =IF(E40=3,INDEX('coef Fct'!fct,VLOOKUP(J40,tatr,2,0),VLOOKUP('deperd tuyauterie'!K40,ti,2,0)),IF(E40=4,INDEX(fcti,VLOOKUP(J40,tatr,2,0),VLOOKUP('deperd tuyauterie'!K40,tii,2,0)),IF(E40="",""))) | N40: =IF(M40="","",VLOOKUP(M40,annexe!position,2,0)) | P40: =IF(OR(N40="",L40=""),"",IF(N40="",G40*L40*O40,IF(O40<>"",G40*L40*N40*O40))) | Q40: =IF(OR(P40="",C40=""),"",(P40*0.86)/(H40-I40)) | R40: Débit net | T40: =IF(AND(T42="",S43="",S42=""),"",IF(AND(T42="",S43="",S42<>""),S42+Q40,IF(AND(T42<>"",S43<>"",S42<>""),T42+S43+S42+Q40,""))) | U40: =IF(AND(U42="",S42=""),"",IF(AND(U42="",S42<>""),S42,IF(AND(U42<>"",S42<>""),U42+S42,""))) | Z40: =IF(P40="","",P40/2) | AA40: =IF(AND(Z40="",X40=""),"",Z40/((X40/3600)*4187)) | AB40: =IF(AND(AB38="",AA38="",H40=""),"",IF(AND(H40<>"",AA38=""),H40,IF(AND(AA38<>"",AB38<>""),AB38-AA38)))
R41: Débit tuayauterie
E42: =IF(C42="nu",3,IF(C42="isole",4,IF(C42="",""))) | F42: =IF(OR(C42="",B42=""),"",VLOOKUP(B42,DN,E42,0)) | G42: =IF(F42="","",F42*60) | J42: =H42&I42 | L42: =IF(E42=3,INDEX('coef Fct'!fct,VLOOKUP(J42,tatr,2,0),VLOOKUP('deperd tuyauterie'!K42,ti,2,0)),IF(E42=4,INDEX(fcti,VLOOKUP(J42,tatr,2,0),VLOOKUP('deperd tuyauterie'!K42,tii,2,0)),IF(E42="",""))) | N42: =IF(M42="","",VLOOKUP(M42,annexe!position,2,0)) | P42: =IF(OR(N42="",L42=""),"",IF(N42="",G42*L42*O42,IF(O42<>"",G42*L42*N42*O42))) | Q42: =IF(OR(P42="",C42=""),"",(P42*0.86)/(H42-I42)) | R42: Débit net | T42: =IF(AND(T44="",S45="",S44=""),"",IF(AND(T44="",S45="",S44<>""),S44+Q42,IF(AND(T44<>"",S45<>"",S44<>""),T44+S45+S44+Q42,""))) | U42: =IF(AND(U44="",S44=""),"",IF(AND(U44="",S44<>""),S44,IF(AND(U44<>"",S44<>""),U44+S44,""))) | Z42: =IF(P42="","",P42/2) | AA42: =IF(AND(Z42="",X42=""),"",Z42/((X42/3600)*4187)) | AB42: =IF(AND(AB40="",AA40="",H42=""),"",IF(AND(H42<>"",AA40=""),H42,IF(AND(AA40<>"",AB40<>""),AB40-AA40)))
R43: Débit tuayauterie
E44: =IF(C44="nu",3,IF(C44="isole",4,IF(C44="",""))) | F44: =IF(OR(C44="",B44=""),"",VLOOKUP(B44,DN,E44,0)) | G44: =IF(F44="","",F44*60) | J44: =H44&I44 | L44: =IF(E44=3,INDEX('coef Fct'!fct,VLOOKUP(J44,tatr,2,0),VLOOKUP('deperd tuyauterie'!K44,ti,2,0)),IF(E44=4,INDEX(fcti,VLOOKUP(J44,tatr,2,0),VLOOKUP('deperd tuyauterie'!K44,tii,2,0)),IF(E44="",""))) | N44: =IF(M44="","",VLOOKUP(M44,annexe!position,2,0)) | P44: =IF(OR(N44="",L44=""),"",IF(N44="",G44*L44*O44,IF(O44<>"",G44*L44*N44*O44))) | Q44: =IF(OR(P44="",C44=""),"",(P44*0.86)/(H44-I44)) | R44: Débit net | T44: =IF(AND(T46="",S47="",S46=""),"",IF(AND(T46="",S47="",S46<>""),S46+Q44,IF(AND(T46<>"",S47<>"",S46<>""),T46+S47+S46+Q44,""))) | U44: =IF(AND(U46="",S46=""),"",IF(AND(U46="",S46<>""),S46,IF(AND(U46<>"",S46<>""),U46+S46,""))) | Z44: =IF(P44="","",P44/2) | AA44: =IF(AND(Z44="",X44=""),"",Z44/((X44/3600)*4187)) | AB44: =IF(AND(AB42="",AA42="",H44=""),"",IF(AND(H44<>"",AA42=""),H44,IF(AND(AA42<>"",AB42<>""),AB42-AA42)))
R45: Débit tuayauterie
E46: =IF(C46="nu",3,IF(C46="isole",4,IF(C46="",""))) | F46: =IF(OR(C46="",B46=""),"",VLOOKUP(B46,DN,E46,0)) | G46: =IF(F46="","",F46*60) | J46: =H46&I46 | L46: =IF(E46=3,INDEX('coef Fct'!fct,VLOOKUP(J46,tatr,2,0),VLOOKUP('deperd tuyauterie'!K46,ti,2,0)),IF(E46=4,INDEX(fcti,VLOOKUP(J46,tatr,2,0),VLOOKUP('deperd tuyauterie'!K46,tii,2,0)),IF(E46="",""))) | N46: =IF(M46="","",VLOOKUP(M46,annexe!position,2,0)) | P46: =IF(OR(N46="",L46=""),"",IF(N46="",G46*L46*O46,IF(O46<>"",G46*L46*N46*O46))) | Q46: =IF(OR(P46="",C46=""),"",(P46*0.86)/(H46-I46)) | R46: Débit net | T46: =IF(AND(T48="",S49="",S48=""),"",IF(AND(T48="",S49="",S48<>""),S48+Q46,IF(AND(T48<>"",S49<>"",S48<>""),T48+S49+S48+Q46,""))) | U46: =IF(AND(U48="",S48=""),"",IF(AND(U48="",S48<>""),S48,IF(AND(U48<>"",S48<>""),U48+S48,""))) | Z46: =IF(P46="","",P46/2) | AA46: =IF(AND(Z46="",X46=""),"",Z46/((X46/3600)*4187)) | AB46: =IF(AND(AB44="",AA44="",H46=""),"",IF(AND(H46<>"",AA44=""),H46,IF(AND(AA44<>"",AB44<>""),AB44-AA44)))
R47: Débit tuayauterie
E48: =IF(C48="nu",3,IF(C48="isole",4,IF(C48="",""))) | F48: =IF(OR(C48="",B48=""),"",VLOOKUP(B48,DN,E48,0)) | G48: =IF(F48="","",F48*60) | J48: =H48&I48 | L48: =IF(E48=3,INDEX('coef Fct'!fct,VLOOKUP(J48,tatr,2,0),VLOOKUP('deperd tuyauterie'!K48,ti,2,0)),IF(E48=4,INDEX(fcti,VLOOKUP(J48,tatr,2,0),VLOOKUP('deperd tuyauterie'!K48,tii,2,0)),IF(E48="",""))) | N48: =IF(M48="","",VLOOKUP(M48,annexe!position,2,0)) | P48: =IF(OR(N48="",L48=""),"",IF(N48="",G48*L48*O48,IF(O48<>"",G48*L48*N48*O48))) | Q48: =IF(OR(P48="",C48=""),"",(P48*0.86)/(H48-I48)) | R48: Débit net | T48: =IF(AND(T50="",S51="",S50=""),"",IF(AND(T50="",S51="",S50<>""),S50+Q48,IF(AND(T50<>"",S51<>"",S50<>""),T50+S51+S50+Q48,""))) | U48: =IF(AND(U50="",S50=""),"",IF(AND(U50="",S50<>""),S50,IF(AND(U50<>"",S50<>""),U50+S50,""))) | Z48: =IF(P48="","",P48/2) | AA48: =IF(AND(Z48="",X48=""),"",Z48/((X48/3600)*4187)) | AB48: =IF(AND(AB46="",AA46="",H48=""),"",IF(AND(H48<>"",AA46=""),H48,IF(AND(AA46<>"",AB46<>""),AB46-AA46)))
R49: Débit tuayauterie
E50: =IF(C50="nu",3,IF(C50="isole",4,IF(C50="",""))) | F50: =IF(OR(C50="",B50=""),"",VLOOKUP(B50,DN,E50,0)) | G50: =IF(F50="","",F50*60) | J50: =H50&I50 | L50: =IF(E50=3,INDEX('coef Fct'!fct,VLOOKUP(J50,tatr,2,0),VLOOKUP('deperd tuyauterie'!K50,ti,2,0)),IF(E50=4,INDEX(fcti,VLOOKUP(J50,tatr,2,0),VLOOKUP('deperd tuyauterie'!K50,tii,2,0)),IF(E50="",""))) | N50: =IF(M50="","",VLOOKUP(M50,annexe!position,2,0)) | P50: =IF(OR(N50="",L50=""),"",IF(N50="",G50*L50*O50,IF(O50<>"",G50*L50*N50*O50))) | Q50: =IF(OR(P50="",C50=""),"",(P50*0.86)/(H50-I50)) | R50: Débit net | T50: =IF(AND(T52="",S53="",S52=""),"",IF(AND(T52="",S53="",S52<>""),S52+Q50,IF(AND(T52<>"",S53<>"",S52<>""),T52+S53+S52+Q50,""))) | U50: =IF(AND(U52="",S52=""),"",IF(AND(U52="",S52<>""),S52,IF(AND(U52<>"",S52<>""),U52+S52,""))) | Z50: =IF(P50="","",P50/2) | AA50: =IF(AND(Z50="",X50=""),"",Z50/((X50/3600)*4187)) | AB50: =IF(AND(AB48="",AA48="",H50=""),"",IF(AND(H50<>"",AA48=""),H50,IF(AND(AA48<>"",AB48<>""),AB48-AA48)))
R51: Débit tuayauterie
E52: =IF(C52="nu",3,IF(C52="isole",4,IF(C52="",""))) | F52: =IF(OR(C52="",B52=""),"",VLOOKUP(B52,DN,E52,0)) | G52: =IF(F52="","",F52*60) | J52: =H52&I52 | L52: =IF(E52=3,INDEX('coef Fct'!fct,VLOOKUP(J52,tatr,2,0),VLOOKUP('deperd tuyauterie'!K52,ti,2,0)),IF(E52=4,INDEX(fcti,VLOOKUP(J52,tatr,2,0),VLOOKUP('deperd tuyauterie'!K52,tii,2,0)),IF(E52="",""))) | N52: =IF(M52="","",VLOOKUP(M52,annexe!position,2,0)) | P52: =IF(OR(N52="",L52=""),"",IF(N52="",G52*L52*O52,IF(O52<>"",G52*L52*N52*O52))) | Q52: =IF(OR(P52="",C52=""),"",(P52*0.86)/(H52-I52)) | R52: Débit net | T52: =IF(AND(T54="",S55="",S54=""),"",IF(AND(T54="",S55="",S54<>""),S54+Q52,IF(AND(T54<>"",S55<>"",S54<>""),T54+S55+S54+Q52,""))) | U52: =IF(AND(U54="",S54=""),"",IF(AND(U54="",S54<>""),S54,IF(AND(U54<>"",S54<>""),U54+S54,""))) | Z52: =IF(P52="","",P52/2) | AA52: =IF(AND(Z52="",X52=""),"",Z52/((X52/3600)*4187)) | AB52: =IF(AND(AB50="",AA50="",H52=""),"",IF(AND(H52<>"",AA50=""),H52,IF(AND(AA50<>"",AB50<>""),AB50-AA50)))
R53: Débit tuayauterie
E54: =IF(C54="nu",3,IF(C54="isole",4,IF(C54="",""))) | F54: =IF(OR(C54="",B54=""),"",VLOOKUP(B54,DN,E54,0)) | G54: =IF(F54="","",F54*60) | J54: =H54&I54 | L54: =IF(E54=3,INDEX('coef Fct'!fct,VLOOKUP(J54,tatr,2,0),VLOOKUP('deperd tuyauterie'!K54,ti,2,0)),IF(E54=4,INDEX(fcti,VLOOKUP(J54,tatr,2,0),VLOOKUP('deperd tuyauterie'!K54,tii,2,0)),IF(E54="",""))) | N54: =IF(M54="","",VLOOKUP(M54,annexe!position,2,0)) | P54: =IF(OR(N54="",L54=""),"",IF(N54="",G54*L54*O54,IF(O54<>"",G54*L54*N54*O54))) | Q54: =IF(OR(P54="",C54=""),"",(P54*0.86)/(H54-I54)) | R54: Débit net | T54: =IF(AND(T56="",S57="",S56=""),"",IF(AND(T56="",S57="",S56<>""),S56+Q54,IF(AND(T56<>"",S57<>"",S56<>""),T56+S57+S56+Q54,""))) | U54: =IF(AND(U56="",S56=""),"",IF(AND(U56="",S56<>""),S56,IF(AND(U56<>"",S56<>""),U56+S56,""))) | Z54: =IF(P54="","",P54/2) | AA54: =IF(AND(Z54="",X54=""),"",Z54/((X54/3600)*4187)) | AB54: =IF(AND(AB52="",AA52="",H54=""),"",IF(AND(H54<>"",AA52=""),H54,IF(AND(AA52<>"",AB52<>""),AB52-AA52)))
R55: Débit tuayauterie

Sheet coef kt-kti
B5: DN | C5: ep. Isol | D5: KT | E5: Kti
B6: 3/8" | C6: 20 | D6: 0.82 | E6: 0.22
B7: 1/2" | C7: 20 | D7: 0.99 | E7: 0.25
B8: 3/4" | C8: 20 | D8: 1.22 | E8: 0.29
B9: 1 " | C9: 20 | D9: 1.48 | E9: 0.33
B10: 1 1/4" | C10: 30 | D10: 1.8 | E10: 0.3
B11: 43/48 | C11: 30 | D11: 2.02 | E11: 0.33
B12: 51/57 | C12: 30 | D12: 2.33 | E12: 0.37
B13: 54/60 | C13: 30 | D13: 2.45 | E13: 0.39
B14: 57/63 | C14: 30 | D14: 2.56 | E14: 0.4
B15: 64/70 | C15: 30 | D15: 2.79 | E15: 0.43
B16: 70/76 | C16: 40 | D16: 3 | E16: 0.38
B17: 82/89 | C17: 40 | D17: 3.43 | E17: 0.42
B18: 107/114 | C18: 40 | D18: 4.28 | E18: 0.51

Sheet coef Fct
B2: FACTEUR DE CORRECTION MOYEN POUR TUYAU NU fCT
D4: Ti
B5: Ta | C5: Tr | D5: 45 | E5: 22 | F5: 20 | G5: 18 | H5: 15 | I5: 10 | J5: 7 | K5: 5 | L5: 0
B6: 90 | C6: 70 | D6: 0.568 | E6: 0.965 | F6: 1 | G6: 1.034 | H6: 1.086 | I6: 1.174 | J6: 1.226 | K6: 1.261 | L6: 1.349
B7: 80 | C7: 60 | D7: 0.381 | E7: 0.761 | F7: 0.794 | G7: 0.828 | H7: 0.878 | I7: 0.963 | J7: 1.014 | K7: 1.048 | L7: 1.133
B8: 75 | C8: 65 | D8: 0.381 | E8: 0.761 | F8: 0.794 | G8: 0.828 | H8: 0.878 | I8: 0.963 | J8: 1.014 | K8: 1.048 | L8: 1.133
B9: 75 | C9: 60 | D9: 0.336 | E9: 0.712 | F9: 0.745 | G9: 0.778 | H9: 0.828 | I9: 0.912 | J9: 0.963 | K9: 0.996 | L9: 1.081
B10: 65 | C10: 50 | D10: 0.171 | E10: 0.525 | F10: 0.557 | G10: 0.589 | H10: 0.637 | I10: 0.717 | J10: 0.766 | K10: 0.798 | L10: 0.88
B11: 60 | C11: 50 | D11: 0.132 | E11: 0.481 | F11: 0.512 | G11: 0.544 | H11: 0.591 | I11: 0.671 | J11: 0.719 | K11: 0.751 | L11: 0.832
B12: 60 | C12: 45 | D12: 0.096 | E12: 0.437 | F12: 0.468 | G12: 0.5 | H12: 0.546 | I12: 0.625 | J12: 0.672 | K12: 0.704 | L12: 0.784
B13: 55 | C13: 45 | D13: 0.061 | E13: 0.394 | F13: 0.425 | G13: 0.456 | H13: 0.502 | I13: 0.58 | J13: 0.627 | K13: 0.658 | L13: 0.738
B14: 55 | C14: 40 | D14: 0.028 | E14: 0.353 | F14: 0.383 | G14: 0.413 | H14: 0.459 | I14: 0.536 | J14: 0.582 | K14: 0.613 | L14: 0.692
B15: 50 | C15: 40 | D15: **** | E15: 0.312 | F15: 0.342 | G15: 0.371 | H15: 0.416 | I15: 0.492 | J15: 0.538 | K15: 0.569 | L15: 0.647

Sheet coef Fcti
B2: FACTEUR DE CORRECTION MOYEN POUR TUYAU NU fCTi
D4: Ti
B5: Ta | C5: Tr | D5: 35 | E5: 22 | F5: 20 | G5: 18 | H5: 15 | I5: 10 | J5: 7 | K5: 5 | L5: 0
B6: 90 | C6: 70 | D6: 0.75 | E6: 0.967 | F6: 1 | G6: 1.033 | H6: 1.083 | I6: 1.167 | J6: 1.217 | K6: 1.25 | L6: 1.333
B7: 80 | C7: 60 | D7: 0.581 | E7: 0.797 | F7: 0.83 | G7: 0.863 | H7: 0.913 | I7: 0.996 | J7: 1.046 | K7: 1.08 | L7: 1.162
B8: 75 | C8: 65 | D8: 0.581 | E8: 0.797 | F8: 0.83 | G8: 0.863 | H8: 0.913 | I8: 0.996 | J8: 1.046 | K8: 1.08 | L8: 1.162
B9: 75 | C9: 60 | D9: 0.539 | E9: 0.755 | F9: 0.788 | G9: 0.821 | H9: 0.871 | I9: 0.954 | J9: 1.004 | K9: 1.037 | L9: 1.12
B10: 65 | C10: 50 | D10: 0.371 | E10: 0.586 | F10: 0.619 | G10: 0.652 | H10: 0.702 | I10: 0.785 | J10: 0.834 | K10: 0.867 | L10: 0.95
B11: 60 | C11: 50 | D11: 0.329 | E11: 0.544 | F11: 0.577 | G11: 0.61 | H11: 0.66 | I11: 0.742 | J11: 0.792 | K11: 0.825 | L11: 0.908
B12: 60 | C12: 45 | D12: 0.287 | E12: 0.502 | F12: 0.535 | G12: 0.568 | H12: 0.618 | I12: 0.7 | J12: 0.75 | K12: 0.783 | L12: 0.866
B13: 55 | C13: 45 | D13: 0.246 | E13: 0.46 | F13: 0.493 | G13: 0.526 | H13: 0.576 | I13: 0.658 | J13: 0.708 | K13: 0.741 | L13: 0.823
B14: 55 | C14: 40 | D14: 0.204 | E14: 0.418 | F14: 0.451 | G14: 0.484 | H14: 0.534 | I14: 0.616 | J14: 0.666 | K14: 0.699 | L14: 0.781
B15: 50 | C15: 40 | D15: 0.163 | E15: 0.377 | F15: 0.41 | G15: 0.443 | H15: 0.492 | I15: 0.574 | J15: 0.624 | K15: 0.657 | L15: 0.739

Sheet annexe
B2: nu | C2: 3/8" | E2: Tuyau hori sous plafond | F2: 0.75 | G2: ='coef Fct'!B6&'coef Fct'!C6 -> 9070 | H2: 1 | J2: 45 | K2: 1 | M2: 35 | N2: 1
B3: isole | C3: 1/2" | E3: Tuyau hori sur sol | F3: 0.9 | G3: ='coef Fct'!B7&'coef Fct'!C7 -> 8060 | H3: 2 | J3: 22 | K3: 2 | M3: 22 | N3: 2 | P3: 0.75
C4: 3/4" | E4: Tuyau vert | F4: 0.9 | G4: ='coef Fct'!B8&'coef Fct'!C8 -> 7565 | H4: 3 | J4: 20 | K4: 3 | M4: 20 | N4: 3 | P4: 0.9
C5: 1 " | G5: ='coef Fct'!B9&'coef Fct'!C9 -> 7560 | H5: 4 | J5: 18 | K5: 4 | M5: 18 | N5: 4 | P5: 0.9
C6: 1 1/4" | G6: ='coef Fct'!B10&'coef Fct'!C10 -> 6550 | H6: 5 | J6: 15 | K6: 5 | M6: 15 | N6: 5
C7: 43/48 | G7: ='coef Fct'!B11&'coef Fct'!C11 -> 6050 | H7: 6 | J7: 10 | K7: 6 | M7: 10 | N7: 6
C8: 51/57 | G8: ='coef Fct'!B12&'coef Fct'!C12 -> 6045 | H8: 7 | J8: 7 | K8: 7 | M8: 7 | N8: 7
C9: 54/60 | G9: ='coef Fct'!B13&'coef Fct'!C13 -> 5545 | H9: 8 | J9: 5 | K9: 8 | M9: 5 | N9: 8
C10: 57/63 | G10: ='coef Fct'!B14&'coef Fct'!C14 -> 5540 | H10: 9 | J10: 0 | K10: 9 | M10: 0 | N10: 9
C11: 64/70 | G11: ='coef Fct'!B15&'coef Fct'!C15 -> 5040 | H11: 10
C12: 70/76
C13: 82/89
C14: 107/114

Sheet Feuil1
H6: DEPERDITION TAYAUTERIE NU ET ISOLE
A8: Tronçon | B8: diam | C8: Tuyau | D8: index | E8: Kt/kti | F8: Φn [w/m] | G8: ta [°C] | H8: tr [°C] | I8: tatr | J8: ti [°C] | K8: fct/fcti | L8: Position tuyauterie | M8: fp | N8: Long tube [m] | O8: Φtot [w] | P8: Débit des pertes tuyauterie [kg/h] | Q8: Débit antérieur déjà calculé [kg/h] | S8: Cumul des débits nets [kg/h] | T8: Débit de base | U8: Débit + pertes [kg/h] | V8: Compens pertes | W8: Débit total | X8: Majoration [%] | Y8: Φ linéique aller | Z8: Δ t | AA8: Température de départ
A10: 1 | B10: 107/114 | C10: isole | D10: =IF(C10="nu",3,IF(C10="isole",4,IF(C10="",""))) -> 4 | E10: =IF(OR(C10="",B10=""),"",VLOOKUP(B10,DN,D10,0)) -> 0.51 | F10: =IF(E10="","",E10*60) -> 30.6 | G10: 90 | H10: 70 | I10: =G10&H10 -> 9070 | J10: 15 | K10: =IF(D10=3,INDEX('coef Fct'!fct,VLOOKUP(I10,tatr,2,0),VLOOKUP('deperd tuyauterie'!K10,ti,2,0)),IF(D10=4,INDEX(fcti,VLOOKUP(I10,tatr,2,0),VLOOKUP('deperd tuyauterie'!K10,tii,2,0)),IF(D10="",""))) -> 1.333 | L10: Tuyau hori sous plafond | M10: =IF(L10="","",VLOOKUP(L10,annexe!position,2,0)) -> 0.75 | N10: 18 | O10: =IF(OR(M10="",K10=""),"",IF(M10="",F10*K10*N10,IF(N10<>"",F10*K10*M10*N10))) -> 550.6623 | P10: =IF(OR(O10="",C10=""),"",(O10*0.86)/(G10-H10)) -> 23.678479 | Q10: Débit net | S10: =IF(AND(S12="",R13="",R12=""),"",IF(AND(S12="",R13="",R12<>""),R12+P10,IF(AND(S12<>"",R13<>"",R12<>""),S12+R13+R12+P10,""))) -> 36378.9 | T10: =IF(AND(T12="",R12=""),"",IF(AND(T12="",R12<>""),R12,IF(AND(T12<>"",R12<>""),T12+R12,""))) -> 34260 | Y10: =IF(O10="","",O10/2) -> 275.33115 | Z10: =IF(AND(Y10="",W10=""),"",Y10/((W10/3600)*4187)) -> #DIV/0! | AA10: =IF(AND(Z9="",AA9="",G10=""),"",IF(AND(AA9="",G10<>""),G10,IF(AND(G10<>"",Z9<>""),AA9-Z9))) -> 90
Q11: Débit tuayauterie
A12: 2 | B12: 82/89 | C12: isole | D12: =IF(C12="nu",3,IF(C12="isole",4,IF(C12="",""))) -> 4 | E12: =IF(OR(C12="",B12=""),"",VLOOKUP(B12,DN,D12,0)) -> 0.42 | F12: =IF(E12="","",E12*60) -> 25.2 | G12: 90 | H12: 70 | I12: =G12&H12 -> 9070 | J12: 7 | K12: =IF(D12=3,INDEX('coef Fct'!fct,VLOOKUP(I12,tatr,2,0),VLOOKUP('deperd tuyauterie'!K12,ti,2,0)),IF(D12=4,INDEX(fcti,VLOOKUP(I12,tatr,2,0),VLOOKUP('deperd tuyauterie'!K12,tii,2,0)),IF(D12="",""))) -> 1.333 | L12: Tuyau hori sous plafond | M12: =IF(L12="","",VLOOKUP(L12,annexe!position,2,0)) -> 0.75 | N12: 24 | O12: =IF(OR(M12="",K12=""),"",IF(M12="",F12*K12*N12,IF(N12<>"",F12*K12*M12*N12))) -> 604.6488 | P12: =IF(OR(O12="",C12=""),"",(O12*0.86)/(G12-H12)) -> 25.999898 | Q12: Débit net | R12: 26260 | S12: =IF(AND(S14="",R15="",R14=""),"",IF(AND(S14="",R15="",R14<>""),R14+P12,IF(AND(S14<>"",R15<>"",R14<>""),S14+R15+R14+P12,""))) -> 9255.2212 | T12: =IF(AND(T14="",R14=""),"",IF(AND(T14="",R14<>""),R14,IF(AND(T14<>"",R14<>""),T14+R14,""))) -> 8000 | Y12: =IF(O12="","",O12/2) -> 302.3244 | Z12: =IF(AND(Y12="",W12=""),"",Y12/((W12/3600)*4187)) -> #DIV/0! | AA12: =IF(AND(AA10="",Z10="",G12=""),"",IF(AND(G12<>"",Z10=""),G12,IF(AND(Z10<>"",AA10<>""),AA10-Z10))) -> #DIV/0!
Q13: Débit tuayauterie | R13: 840
A14: 3 | B14: 64/70 | C14: isole | D14: =IF(C14="nu",3,IF(C14="isole",4,IF(C14="",""))) -> 4 | E14: =IF(OR(C14="",B14=""),"",VLOOKUP(B14,DN,D14,0)) -> 0.43 | F14: =IF(E14="","",E14*60) -> 25.8 | G14: 90 | H14: 70 | I14: =G14&H14 -> 9070 | J14: 5 | K14: =IF(D14=3,INDEX('coef Fct'!fct,VLOOKUP(I14,tatr,2,0),VLOOKUP('deperd tuyauterie'!K14,ti,2,0)),IF(D14=4,INDEX(fcti,VLOOKUP(I14,tatr,2,0),VLOOKUP('deperd tuyauterie'!K14,tii,2,0)),IF(D14="",""))) -> 1.333 | L14: Tuyau hori sous plafond | M14: =IF(L14="","",VLOOKUP(L14,annexe!position,2,0)) -> 0.75 | N14: 14 | O14: =IF(OR(M14="",K14=""),"",IF(M14="",F14*K14*N14,IF(N14<>"",F14*K14*M14*N14))) -> 361.1097 | P14: =IF(OR(O14="",C14=""),"",(O14*0.86)/(G14-H14)) -> 15.527717 | Q14: Débit net | R14: 4670 | S14: =IF(AND(S16="",R17="",R16=""),"",IF(AND(S16="",R17="",R16<>""),R16+P14,IF(AND(S16<>"",R17<>"",R16<>""),S16+R17+R16+P14,""))) -> 4099.2213 | T14: =IF(AND(T16="",R16=""),"",IF(AND(T16="",R16<>""),R16,IF(AND(T16<>"",R16<>""),T16+R16,""))) -> 3330 | Y14: =IF(O14="","",O14/2) -> 180.55485 | Z14: =IF(AND(Y14="",W14=""),"",Y14/((W14/3600)*4187)) -> #DIV/0! | AA14: =IF(AND(AA12="",Z12="",G14=""),"",IF(AND(G14<>"",Z12=""),G14,IF(AND(Z12<>"",AA12<>""),AA12-Z12))) -> #DIV/0!
Q15: Débit tuayauterie | R15: 460
A16: 4 | B16: 51/57 | C16: nu | D16: =IF(C16="nu",3,IF(C16="isole",4,IF(C16="",""))) -> 3 | E16: =IF(OR(C16="",B16=""),"",VLOOKUP(B16,DN,D16,0)) -> 2.33 | F16: =IF(E16="","",E16*60) -> 139.8 | G16: 90 | H16: 70 | I16: =G16&H16 -> 9070 | J16: 10 | K16: =IF(D16=3,INDEX('coef Fct'!fct,VLOOKUP(I16,tatr,2,0),VLOOKUP('deperd tuyauterie'!K16,ti,2,0)),IF(D16=4,INDEX(fcti,VLOOKUP(I16,tatr,2,0),VLOOKUP('deperd tuyauterie'!K16,tii,2,0)),IF(D16="",""))) -> 1.349 | L16: Tuyau hori sous plafond | M16: =IF(L16="","",VLOOKUP(L16,annexe!position,2,0)) -> 0.75 | N16: 16 | O16: =IF(OR(M16="",K16=""),"",IF(M16="",F16*K16*N16,IF(N16<>"",F16*K16*M16*N16))) -> 2263.0824 | P16: =IF(OR(O16="",C16=""),"",(O16*0.86)/(G16-H16)) -> 97.312543 | Q16: Débit net | R16: 930 | S16: =IF(AND(S18="",R19="",R18=""),"",IF(AND(S18="",R19="",R18<>""),R18+P16,IF(AND(S18<>"",R19<>"",R18<>""),S18+R19+R18+P16,""))) -> 2973.6936 | T16: =IF(AND(T18="",R18=""),"",IF(AND(T18="",R18<>""),R18,IF(AND(T18<>"",R18<>""),T18+R18,""))) -> 2400 | Y16: =IF(O16="","",O16/2) -> 1131.5412 | Z16: =IF(AND(Y16="",W16=""),"",Y16/((W16/3600)*4187)) -> #DIV/0! | AA16: =IF(AND(AA14="",Z14="",G16=""),"",IF(AND(G16<>"",Z14=""),G16,IF(AND(Z14<>"",AA14<>""),AA14-Z14))) -> #DIV/0!
Q17: Débit tuayauterie | R17: 180
A18: 5 | B18: 43/48 | C18: isole | D18: =IF(C18="nu",3,IF(C18="isole",4,IF(C18="",""))) -> 4 | E18: =IF(OR(C18="",B18=""),"",VLOOKUP(B18,DN,D18,0)) -> 0.33 | F18: =IF(E18="","",E18*60) -> 19.8 | G18: 90 | H18: 70 | I18: =G18&H18 -> 9070 | J18: 7 | K18: =IF(D18=3,INDEX('coef Fct'!fct,VLOOKUP(I18,tatr,2,0),VLOOKUP('deperd tuyauterie'!K18,ti,2,0)),IF(D18=4,INDEX(fcti,VLOOKUP(I18,tatr,2,0),VLOOKUP('deperd tuyauterie'!K18,tii,2,0)),IF(D18="",""))) -> 1.333 | L18: Tuyau hori sous plafond | M18: =IF(L18="","",VLOOKUP(L18,annexe!position,2,0)) -> 0.75 | N18: 16 | O18: =IF(OR(M18="",K18=""),"",IF(M18="",F18*K18*N18,IF(N18<>"",F18*K18*M18*N18))) -> 316.7208 | P18: =IF(OR(O18="",C18=""),"",(O18*0.86)/(G18-H18)) -> 13.618994 | Q18: Débit net | R18: 1300 | S18: =IF(AND(S20="",R21="",R20=""),"",IF(AND(S20="",R21="",R20<>""),R20+P18,IF(AND(S20<>"",R21<>"",R20<>""),S20+R21+R20+P18,""))) -> 1366.3811 | T18: =IF(AND(T20="",R20=""),"",IF(AND(T20="",R20<>""),R20,IF(AND(T20<>"",R20<>""),T20+R20,""))) -> 1100 | Y18: =IF(O18="","",O18/2) -> 158.3604 | Z18: =IF(AND(Y18="",W18=""),"",Y18/((W18/3600)*4187)) -> #DIV/0! | AA18: =IF(AND(AA16="",Z16="",G18=""),"",IF(AND(G18<>"",Z16=""),G18,IF(AND(Z16<>"",AA16<>""),AA16-Z16))) -> #DIV/0!
Q19: Débit tuayauterie | R19: 210
A20: 6 | B20: 1 " | C20: isole | D20: =IF(C20="nu",3,IF(C20="isole",4,IF(C20="",""))) -> 4 | E20: =IF(OR(C20="",B20=""),"",VLOOKUP(B20,DN,D20,0)) -> 0.33 | F20: =IF(E20="","",E20*60) -> 19.8 | G20: 90 | H20: 70 | I20: =G20&H20 -> 9070 | J20: 7 | K20: =IF(D20=3,INDEX('coef Fct'!fct,VLOOKUP(I20,tatr,2,0),VLOOKUP('deperd tuyauterie'!K20,ti,2,0)),IF(D20=4,INDEX(fcti,VLOOKUP(I20,tatr,2,0),VLOOKUP('deperd tuyauterie'!K20,tii,2,0)),IF(D20="",""))) -> 1.333 | L20: Tuyau hori sous plafond | M20: =IF(L20="","",VLOOKUP(L20,annexe!position,2,0)) -> 0.75 | N20: 28 | O20: =IF(OR(M20="",K20=""),"",IF(M20="",F20*K20*N20,IF(N20<>"",F20*K20*M20*N20))) -> 554.2614 | P20: =IF(OR(O20="",C20=""),"",(O20*0.86)/(G20-H20)) -> 23.83324 | Q20: Débit net | R20: 750 | S20: =IF(AND(S22="",R23="",R22=""),"",IF(AND(S22="",R23="",R22<>""),R22+P20,IF(AND(S22<>"",R23<>"",R22<>""),S22+R23+R22+P20,""))) -> 482.76208 | T20: =IF(AND(T22="",R22=""),"",IF(AND(T22="",R22<>""),R22,IF(AND(T22<>"",R22<>""),T22+R22,""))) -> 350 | Y20: =IF(O20="","",O20/2) -> 277.1307 | Z20: =IF(AND(Y20="",W20=""),"",Y20/((W20/3600)*4187)) -> #DIV/0! | AA20: =IF(AND(AA18="",Z18="",G20=""),"",IF(AND(G20<>"",Z18=""),G20,IF(AND(Z18<>"",AA18<>""),AA18-Z18))) -> #DIV/0!
Q21: Débit tuayauterie | R21: 120
A22: 7 | B22: 3/4" | C22: nu | D22: =IF(C22="nu",3,IF(C22="isole",4,IF(C22="",""))) -> 3 | E22: =IF(OR(C22="",B22=""),"",VLOOKUP(B22,DN,D22,0)) -> 1.22 | F22: =IF(E22="","",E22*60) -> 73.2 | G22: 90 | H22: 70 | I22: =G22&H22 -> 9070 | J22: 15 | K22: =IF(D22=3,INDEX('coef Fct'!fct,VLOOKUP(I22,tatr,2,0),VLOOKUP('deperd tuyauterie'!K22,ti,2,0)),IF(D22=4,INDEX(fcti,VLOOKUP(I22,tatr,2,0),VLOOKUP('deperd tuyauterie'!K22,tii,2,0)),IF(D22="",""))) -> 1.349 | L22: Tuyau hori sous plafond | M22: =IF(L22="","",VLOOKUP(L22,annexe!position,2,0)) -> 0.75 | N22: 18 | O22: =IF(OR(M22="",K22=""),"",IF(M22="",F22*K22*N22,IF(N22<>"",F22*K22*M22*N22))) -> 1333.0818 | P22: =IF(OR(O22="",C22=""),"",(O22*0.86)/(G22-H22)) -> 57.322517 | Q22: Débit net | R22: 150 | S22: =IF(AND(S24="",R25="",R24=""),"",IF(AND(S24="",R25="",R24<>""),R24+P22,IF(AND(S24<>"",R25<>"",R24<>""),S24+R25+R24+P22,""))) -> 290.92884 | T22: =IF(AND(T24="",R24=""),"",IF(AND(T24="",R24<>""),R24,IF(AND(T24<>"",R24<>""),T24+R24,""))) -> 200 | Y22: =IF(O22="","",O22/2) -> 666.5409 | Z22: =IF(AND(Y22="",W22=""),"",Y22/((W22/3600)*4187)) -> #DIV/0! | AA22: =IF(AND(AA20="",Z20="",G22=""),"",IF(AND(G22<>"",Z20=""),G22,IF(AND(Z20<>"",AA20<>""),AA20-Z20))) -> #DIV/0!
Q23: Débit tuayauterie | R23: 18
A24: 8 | B24: 1/2" | C24: nu | D24: =IF(C24="nu",3,IF(C24="isole",4,IF(C24="",""))) -> 3 | E24: =IF(OR(C24="",B24=""),"",VLOOKUP(B24,DN,D24,0)) -> 0.99 | F24: =IF(E24="","",E24*60) -> 59.4 | G24: 90 | H24: 70 | I24: =G24&H24 -> 9070 | J24: 20 | K24: =IF(D24=3,INDEX('coef Fct'!fct,VLOOKUP(I24,tatr,2,0),VLOOKUP('deperd tuyauterie'!K24,ti,2,0)),IF(D24=4,INDEX(fcti,VLOOKUP(I24,tatr,2,0),VLOOKUP('deperd tuyauterie'!K24,tii,2,0)),IF(D24="",""))) -> 1.349 | L24: Tuyau hori sur sol | M24: =IF(L24="","",VLOOKUP(L24,annexe!position,2,0)) -> 0.9 | N24: 6 | O24: =IF(OR(M24="",K24=""),"",IF(M24="",F24*K24*N24,IF(N24<>"",F24*K24*M24*N24))) -> 432.70524 | P24: =IF(OR(O24="",C24=""),"",(O24*0.86)/(G24-H24)) -> 18.606325 | Q24: Débit net | R24: 100 | S24: =IF(AND(S26="",R27="",R26=""),"",IF(AND(S26="",R27="",R26<>""),R26+P24,IF(AND(S26<>"",R27<>"",R26<>""),S26+R27+R26+P24,""))) -> 118.60633 | T24: =IF(AND(T26="",R26=""),"",IF(AND(T26="",R26<>""),R26,IF(AND(T26<>"",R26<>""),T26+R26,""))) -> 100 | Y24: =IF(O24="","",O24/2) -> 216.35262 | Z24: =IF(AND(Y24="",W24=""),"",Y24/((W24/3600)*4187)) -> #DIV/0! | AA24: =IF(AND(AA22="",Z22="",G24=""),"",IF(AND(G24<>"",Z22=""),G24,IF(AND(Z22<>"",AA22<>""),AA22-Z22))) -> #DIV/0!
Q25: Débit tuayauterie | R25: 15
A26: 9 | B26: 3/8" | C26: nu | D26: =IF(C26="nu",3,IF(C26="isole",4,IF(C26="",""))) -> 3 | E26: =IF(OR(C26="",B26=""),"",VLOOKUP(B26,DN,D26,0)) -> 0.82 | F26: =IF(E26="","",E26*60) -> 49.2 | G26: 90 | H26: 70 | I26: =G26&H26 -> 9070 | J26: 20 | K26: =IF(D26=3,INDEX('coef Fct'!fct,VLOOKUP(I26,tatr,2,0),VLOOKUP('deperd tuyauterie'!K26,ti,2,0)),IF(D26=4,INDEX(fcti,VLOOKUP(I26,tatr,2,0),VLOOKUP('deperd tuyauterie'!K26,tii,2,0)),IF(D26="",""))) -> 1.349 | L26: Tuyau hori sur sol | M26: =IF(L26="","",VLOOKUP(L26,annexe!position,2,0)) -> 0.9 | N26: 10 | O26: =IF(OR(M26="",K26=""),"",IF(M26="",F26*K26*N26,IF(N26<>"",F26*K26*M26*N26))) -> 597.3372 | P26: =IF(OR(O26="",C26=""),"",(O26*0.86)/(G26-H26)) -> 25.6855 | Q26: Débit net | R26: 100 | S26: =IF(AND(S28="",R29="",R28=""),"",IF(AND(S28="",R29="",R28<>""),R28+P26,IF(AND(S28<>"",R29<>"",R28<>""),S28+R29+R28+P26,""))) | T26: =IF(AND(T28="",R28=""),"",IF(AND(T28="",R28<>""),R28,IF(AND(T28<>"",R28<>""),T28+R28,""))) | Y26: =IF(O26="","",O26/2) -> 298.6686 | Z26: =IF(AND(Y26="",W26=""),"",Y26/((W26/3600)*4187)) -> #DIV/0! | AA26: =IF(AND(AA24="",Z24="",G26=""),"",IF(AND(G26<>"",Z24=""),G26,IF(AND(Z24<>"",AA24<>""),AA24-Z24))) -> #DIV/0!
Q27: Débit tuayauterie
A28: 10 | B28: 57/63 | C28: isole | D28: =IF(C28="nu",3,IF(C28="isole",4,IF(C28="",""))) -> 4 | E28: =IF(OR(C28="",B28=""),"",VLOOKUP(B28,DN,D28,0)) -> 0.4 | F28: =IF(E28="","",E28*60) -> 24 | G28: 90 | H28: 70 | I28: =G28&H28 -> 9070 | J28: 5 | K28: =IF(D28=3,INDEX('coef Fct'!fct,VLOOKUP(I28,tatr,2,0),VLOOKUP('deperd tuyauterie'!K28,ti,2,0)),IF(D28=4,INDEX(fcti,VLOOKUP(I28,tatr,2,0),VLOOKUP('deperd tuyauterie'!K28,tii,2,0)),IF(D28="",""))) -> 1.333 | L28: Tuyau hori sous plafond | M28: =IF(L28="","",VLOOKUP(L28,annexe!position,2,0)) -> 0.75 | N28: 36 | O28: =IF(OR(M28="",K28=""),"",IF(M28="",F28*K28*N28,IF(N28<>"",F28*K28*M28*N28))) -> 863.784 | P28: =IF(OR(O28="",C28=""),"",(O28*0.86)/(G28-H28)) -> 37.142712 | Q28: Débit net | S28: =IF(AND(S30="",R31="",R30=""),"",IF(AND(S30="",R31="",R30<>""),R30+P28,IF(AND(S30<>"",R31<>"",R30<>""),S30+R31+R30+P28,""))) -> 6347.9105 | T28: =IF(AND(T30="",R30=""),"",IF(AND(T30="",R30<>""),R30,IF(AND(T30<>"",R30<>""),T30+R30,""))) -> 5430 | Y28: =IF(O28="","",O28/2) -> 431.892 | Z28: =IF(AND(Y28="",W28=""),"",Y28/((W28/3600)*4187)) -> #DIV/0! | AA28: =IF(AND(AA26="",Z26="",G28=""),"",IF(AND(G28<>"",Z26=""),G28,IF(AND(Z26<>"",AA26<>""),AA26-Z26))) -> #DIV/0!
Q29: Débit tuayauterie
A30: 11 | B30: 43/48 | C30: nu | D30: =IF(C30="nu",3,IF(C30="isole",4,IF(C30="",""))) -> 3 | E30: =IF(OR(C30="",B30=""),"",VLOOKUP(B30,DN,D30,0)) -> 2.02 | F30: =IF(E30="","",E30*60) -> 121.2 | G30: 90 | H30: 70 | I30: =G30&H30 -> 9070 | J30: 15 | K30: =IF(D30=3,INDEX('coef Fct'!fct,VLOOKUP(I30,tatr,2,0),VLOOKUP('deperd tuyauterie'!K30,ti,2,0)),IF(D30=4,INDEX(fcti,VLOOKUP(I30,tatr,2,0),VLOOKUP('deperd tuyauterie'!K30,tii,2,0)),IF(D30="",""))) -> 1.349 | L30: Tuyau hori sous plafond | M30: =IF(L30="","",VLOOKUP(L30,annexe!position,2,0)) -> 0.75 | N30: 22 | O30: =IF(OR(M30="",K30=""),"",IF(M30="",F30*K30*N30,IF(N30<>"",F30*K30*M30*N30))) -> 2697.7302 | P30: =IF(OR(O30="",C30=""),"",(O30*0.86)/(G30-H30)) -> 116.0024 | Q30: Débit net | R30: 2600 | S30: =IF(AND(S32="",R33="",R32=""),"",IF(AND(S32="",R33="",R32<>""),R32+P30,IF(AND(S32<>"",R33<>"",R32<>""),S32+R33+R32+P30,""))) -> 3480.7678 | T30: =IF(AND(T32="",R32=""),"",IF(AND(T32="",R32<>""),R32,IF(AND(T32<>"",R32<>""),T32+R32,""))) -> 2830 | Y30: =IF(O30="","",O30/2) -> 1348.8651 | Z30: =IF(AND(Y30="",W30=""),"",Y30/((W30/3600)*4187)) -> #DIV/0! | AA30: =IF(AND(AA28="",Z28="",G30=""),"",IF(AND(G30<>"",Z28=""),G30,IF(AND(Z28<>"",AA28<>""),AA28-Z28))) -> #DIV/0!
Q31: Débit tuayauterie | R31: 230
A32: 12 | B32: 1 1/4" | C32: isole | D32: =IF(C32="nu",3,IF(C32="isole",4,IF(C32="",""))) -> 4 | E32: =IF(OR(C32="",B32=""),"",VLOOKUP(B32,DN,D32,0)) -> 0.3 | F32: =IF(E32="","",E32*60) -> 18 | G32: 90 | H32: 70 | I32: =G32&H32 -> 9070 | J32: 7 | K32: =IF(D32=3,INDEX('coef Fct'!fct,VLOOKUP(I32,tatr,2,0),VLOOKUP('deperd tuyauterie'!K32,ti,2,0)),IF(D32=4,INDEX(fcti,VLOOKUP(I32,tatr,2,0),VLOOKUP('deperd tuyauterie'!K32,tii,2,0)),IF(D32="",""))) -> 1.333 | L32: Tuyau hori sous plafond | M32: =IF(L32="","",VLOOKUP(L32,annexe!position,2,0)) -> 0.75 | N32: 16 | O32: =IF(OR(M32="",K32=""),"",IF(M32="",F32*K32*N32,IF(N32<>"",F32*K32*M32*N32))) -> 287.928 | P32: =IF(OR(O32="",C32=""),"",(O32*0.86)/(G32-H32)) -> 12.380904 | Q32: Débit net | R32: 1250 | S32: =IF(AND(S34="",R35="",R34=""),"",IF(AND(S34="",R35="",R34<>""),R34+P32,IF(AND(S34<>"",R35<>"",R34<>""),S34+R35+R34+P32,""))) -> 1934.7654 | T32: =IF(AND(T34="",R34=""),"",IF(AND(T34="",R34<>""),R34,IF(AND(T34<>"",R34<>""),T34+R34,""))) -> 1580 | Y32: =IF(O32="","",O32/2) -> 143.964 | Z32: =IF(AND(Y32="",W32=""),"",Y32/((W32/3600)*4187)) -> #DIV/0! | AA32: =IF(AND(AA30="",Z30="",G32=""),"",IF(AND(G32<>"",Z30=""),G32,IF(AND(Z30<>"",AA30<>""),AA30-Z30))) -> #DIV/0!
Q33: Débit tuayauterie | R33: 180
A34: 13 | B34: 1 " | C34: nu | D34: =IF(C34="nu",3,IF(C34="isole",4,IF(C34="",""))) -> 3 | E34: =IF(OR(C34="",B34=""),"",VLOOKUP(B34,DN,D34,0)) -> 1.48 | F34: =IF(E34="","",E34*60) -> 88.8 | G34: 90 | H34: 70 | I34: =G34&H34 -> 9070 | J34: 20 | K34: =IF(D34=3,INDEX('coef Fct'!fct,VLOOKUP(I34,tatr,2,0),VLOOKUP('deperd tuyauterie'!K34,ti,2,0)),IF(D34=4,INDEX(fcti,VLOOKUP(I34,tatr,2,0),VLOOKUP('deperd tuyauterie'!K34,tii,2,0)),IF(D34="",""))) -> 1.349 | L34: Tuyau hori sous plafond | M34: =IF(L34="","",VLOOKUP(L34,annexe!position,2,0)) -> 0.75 | N34: 26 | O34: =IF(OR(M34="",K34=""),"",IF(M34="",F34*K34*N34,IF(N34<>"",F34*K34*M34*N34))) -> 2335.9284 | P34: =IF(OR(O34="",C34=""),"",(O34*0.86)/(G34-H34)) -> 100.44492 | Q34: Débit net | R34: 880 | S34: =IF(AND(S36="",R37="",R36=""),"",IF(AND(S36="",R37="",R36<>""),R36+P34,IF(AND(S36<>"",R37<>"",R36<>""),S36+R37+R36+P34,""))) -> 922.38447 | T34: =IF(AND(T36="",R36=""),"",IF(AND(T36="",R36<>""),R36,IF(AND(T36<>"",R36<>""),T36+R36,""))) -> 700 | Y34: =IF(O34="","",O34/2) -> 1167.9642 | Z34: =IF(AND(Y34="",W34=""),"",Y34/((W34/3600)*4187)) -> #DIV/0! | AA34: =IF(AND(AA32="",Z32="",G34=""),"",IF(AND(G34<>"",Z32=""),G34,IF(AND(Z32<>"",AA32<>""),AA32-Z32))) -> #DIV/0!
Q35: Débit tuayauterie | R35: 120
A36: 14 | B36: 3/4" | C36: nu | D36: =IF(C36="nu",3,IF(C36="isole",4,IF(C36="",""))) -> 3 | E36: =IF(OR(C36="",B36=""),"",VLOOKUP(B36,DN,D36,0)) -> 1.22 | F36: =IF(E36="","",E36*60) -> 73.2 | G36: 90 | H36: 70 | I36: =G36&H36 -> 9070 | J36: 20 | K36: =IF(D36=3,INDEX('coef Fct'!fct,VLOOKUP(I36,tatr,2,0),VLOOKUP('deperd tuyauterie'!K36,ti,2,0)),IF(D36=4,INDEX(fcti,VLOOKUP(I36,tatr,2,0),VLOOKUP('deperd tuyauterie'!K36,tii,2,0)),IF(D36="",""))) -> 1.349 | L36: Tuyau hori sur sol | M36: =IF(L36="","",VLOOKUP(L36,annexe!position,2,0)) -> 0.9 | N36: 6 | O36: =IF(OR(M36="",K36=""),"",IF(M36="",F36*K36*N36,IF(N36<>"",F36*K36*M36*N36))) -> 533.23272 | P36: =IF(OR(O36="",C36=""),"",(O36*0.86)/(G36-H36)) -> 22.929007 | Q36: Débit net | R36: 250 | S36: =IF(AND(S38="",R39="",R38=""),"",IF(AND(S38="",R39="",R38<>""),R38+P36,IF(AND(S38<>"",R39<>"",R38<>""),S38+R39+R38+P36,""))) -> 541.93955 | T36: =IF(AND(T38="",R38=""),"",IF(AND(T38="",R38<>""),R38,IF(AND(T38<>"",R38<>""),T38+R38,""))) -> 450 | Y36: =IF(O36="","",O36/2) -> 266.61636 | Z36: =IF(AND(Y36="",W36=""),"",Y36/((W36/3600)*4187)) -> #DIV/0! | AA36: =IF(AND(AA34="",Z34="",G36=""),"",IF(AND(G36<>"",Z34=""),G36,IF(AND(Z34<>"",AA34<>""),AA34-Z34))) -> #DIV/0!
Q37: Débit tuayauterie | R37: 30
A38: 15 | B38: 1/2" | C38: nu | D38: =IF(C38="nu",3,IF(C38="isole",4,IF(C38="",""))) -> 3 | E38: =IF(OR(C38="",B38=""),"",VLOOKUP(B38,DN,D38,0)) -> 0.99 | F38: =IF(E38="","",E38*60) -> 59.4 | G38: 90 | H38: 70 | I38: =G38&H38 -> 9070 | J38: 20 | K38: =IF(D38=3,INDEX('coef Fct'!fct,VLOOKUP(I38,tatr,2,0),VLOOKUP('deperd tuyauterie'!K38,ti,2,0)),IF(D38=4,INDEX(fcti,VLOOKUP(I38,tatr,2,0),VLOOKUP('deperd tuyauterie'!K38,tii,2,0)),IF(D38="",""))) -> 1.349 | L38: Tuyau hori sur sol | M38: =IF(L38="","",VLOOKUP(L38,annexe!position,2,0)) -> 0.9 | N38: 10 | O38: =IF(OR(M38="",K38=""),"",IF(M38="",F38*K38*N38,IF(N38<>"",F38*K38*M38*N38))) -> 721.1754 | P38: =IF(OR(O38="",C38=""),"",(O38*0.86)/(G38-H38)) -> 31.010542 | Q38: Débit net | R38: 300 | S38: =IF(AND(S40="",R41="",R40=""),"",IF(AND(S40="",R41="",R40<>""),R40+P38,IF(AND(S40<>"",R41<>"",R40<>""),S40+R41+R40+P38,""))) -> 181.01054 | T38: =IF(AND(T40="",R40=""),"",IF(AND(T40="",R40<>""),R40,IF(AND(T40<>"",R40<>""),T40+R40,""))) -> 150 | Y38: =IF(O38="","",O38/2) -> 360.5877 | Z38: =IF(AND(Y38="",W38=""),"",Y38/((W38/3600)*4187)) -> #DIV/0! | AA38: =IF(AND(AA36="",Z36="",G38=""),"",IF(AND(G38<>"",Z36=""),G38,IF(AND(Z36<>"",AA36<>""),AA36-Z36))) -> #DIV/0!
Q39: Débit tuayauterie | R39: 38
D40: =IF(C40="nu",3,IF(C40="isole",4,IF(C40="",""))) | E40: =IF(OR(C40="",B40=""),"",VLOOKUP(B40,DN,D40,0)) | F40: =IF(E40="","",E40*60) | I40: =G40&H40 | K40: =IF(D40=3,INDEX('coef Fct'!fct,VLOOKUP(I40,tatr,2,0),VLOOKUP('deperd tuyauterie'!K40,ti,2,0)),IF(D40=4,INDEX(fcti,VLOOKUP(I40,tatr,2,0),VLOOKUP('deperd tuyauterie'!K40,tii,2,0)),IF(D40="",""))) | M40: =IF(L40="","",VLOOKUP(L40,annexe!position,2,0)) | O40: =IF(OR(M40="",K40=""),"",IF(M40="",F40*K40*N40,IF(N40<>"",F40*K40*M40*N40))) | P40: =IF(OR(O40="",C40=""),"",(O40*0.86)/(G40-H40)) | Q40: Débit net | R40: 150 | S40: =IF(AND(S42="",R43="",R42=""),"",IF(AND(S42="",R43="",R42<>""),R42+P40,IF(AND(S42<>"",R43<>"",R42<>""),S42+R43+R42+P40,""))) | T40: =IF(AND(T42="",R42=""),"",IF(AND(T42="",R42<>""),R42,IF(AND(T42<>"",R42<>""),T42+R42,""))) | Y40: =IF(O40="","",O40/2) | Z40: =IF(AND(Y40="",W40=""),"",Y40/((W40/3600)*4187)) | AA40: =IF(AND(AA38="",Z38="",G40=""),"",IF(AND(G40<>"",Z38=""),G40,IF(AND(Z38<>"",AA38<>""),AA38-Z38))) -> #DIV/0!
Q41: Débit tuayauterie
D42: =IF(C42="nu",3,IF(C42="isole",4,IF(C42="",""))) | E42: =IF(OR(C42="",B42=""),"",VLOOKUP(B42,DN,D42,0)) | F42: =IF(E42="","",E42*60) | I42: =G42&H42 | K42: =IF(D42=3,INDEX('coef Fct'!fct,VLOOKUP(I42,tatr,2,0),VLOOKUP('deperd tuyauterie'!K42,ti,2,0)),IF(D42=4,INDEX(fcti,VLOOKUP(I42,tatr,2,0),VLOOKUP('deperd tuyauterie'!K42,tii,2,0)),IF(D42="",""))) | M42: =IF(L42="","",VLOOKUP(L42,annexe!position,2,0)) | O42: =IF(OR(M42="",K42=""),"",IF(M42="",F42*K42*N42,IF(N42<>"",F42*K42*M42*N42))) | P42: =IF(OR(O42="",C42=""),"",(O42*0.86)/(G42-H42)) | Q42: Débit net | S42: =IF(AND(S44="",R45="",R44=""),"",IF(AND(S44="",R45="",R44<>""),R44+P42,IF(AND(S44<>"",R45<>"",R44<>""),S44+R45+R44+P42,""))) | T42: =IF(AND(T44="",R44=""),"",IF(AND(T44="",R44<>""),R44,IF(AND(T44<>"",R44<>""),T44+R44,""))) | Y42: =IF(O42="","",O42/2) | Z42: =IF(AND(Y42="",W42=""),"",Y42/((W42/3600)*4187)) | AA42: =IF(AND(AA40="",Z40="",G42=""),"",IF(AND(G42<>"",Z40=""),G42,IF(AND(Z40<>"",AA40<>""),AA40-Z40))) -> #DIV/0!
Q43: Débit tuayauterie
D44: =IF(C44="nu",3,IF(C44="isole",4,IF(C44="",""))) | E44: =IF(OR(C44="",B44=""),"",VLOOKUP(B44,DN,D44,0)) | F44: =IF(E44="","",E44*60) | I44: =G44&H44 | K44: =IF(D44=3,INDEX('coef Fct'!fct,VLOOKUP(I44,tatr,2,0),VLOOKUP('deperd tuyauterie'!K44,ti,2,0)),IF(D44=4,INDEX(fcti,VLOOKUP(I44,tatr,2,0),VLOOKUP('deperd tuyauterie'!K44,tii,2,0)),IF(D44="",""))) | M44: =IF(L44="","",VLOOKUP(L44,annexe!position,2,0)) | O44: =IF(OR(M44="",K44=""),"",IF(M44="",F44*K44*N44,IF(N44<>"",F44*K44*M44*N44))) | P44: =IF(OR(O44="",C44=""),"",(O44*0.86)/(G44-H44)) | Q44: Débit net | S44: =IF(AND(S46="",R47="",R46=""),"",IF(AND(S46="",R47="",R46<>""),R46+P44,IF(AND(S46<>"",R47<>"",R46<>""),S46+R47+R46+P44,""))) | T44: =IF(AND(T46="",R46=""),"",IF(AND(T46="",R46<>""),R46,IF(AND(T46<>"",R46<>""),T46+R46,""))) | Y44: =IF(O44="","",O44/2) | Z44: =IF(AND(Y44="",W44=""),"",Y44/((W44/3600)*4187)) | AA44: =IF(AND(AA42="",Z42="",G44=""),"",IF(AND(G44<>"",Z42=""),G44,IF(AND(Z42<>"",AA42<>""),AA42-Z42))) -> #DIV/0!
Q45: Débit tuayauterie
D46: =IF(C46="nu",3,IF(C46="isole",4,IF(C46="",""))) | E46: =IF(OR(C46="",B46=""),"",VLOOKUP(B46,DN,D46,0)) | F46: =IF(E46="","",E46*60) | I46: =G46&H46 | K46: =IF(D46=3,INDEX('coef Fct'!fct,VLOOKUP(I46,tatr,2,0),VLOOKUP('deperd tuyauterie'!K46,ti,2,0)),IF(D46=4,INDEX(fcti,VLOOKUP(I46,tatr,2,0),VLOOKUP('deperd tuyauterie'!K46,tii,2,0)),IF(D46="",""))) | M46: =IF(L46="","",VLOOKUP(L46,annexe!position,2,0)) | O46: =IF(OR(M46="",K46=""),"",IF(M46="",F46*K46*N46,IF(N46<>"",F46*K46*M46*N46))) | P46: =IF(OR(O46="",C46=""),"",(O46*0.86)/(G46-H46)) | Q46: Débit net | S46: =IF(AND(S48="",R49="",R48=""),"",IF(AND(S48="",R49="",R48<>""),R48+P46,IF(AND(S48<>"",R49<>"",R48<>""),S48+R49+R48+P46,""))) | T46: =IF(AND(T48="",R48=""),"",IF(AND(T48="",R48<>""),R48,IF(AND(T48<>"",R48<>""),T48+R48,""))) | Y46: =IF(O46="","",O46/2) | Z46: =IF(AND(Y46="",W46=""),"",Y46/((W46/3600)*4187)) | AA46: =IF(AND(AA44="",Z44="",G46=""),"",IF(AND(G46<>"",Z44=""),G46,IF(AND(Z44<>"",AA44<>""),AA44-Z44))) -> #DIV/0!
Q47: Débit tuayauterie
D48: =IF(C48="nu",3,IF(C48="isole",4,IF(C48="",""))) | E48: =IF(OR(C48="",B48=""),"",VLOOKUP(B48,DN,D48,0)) | F48: =IF(E48="","",E48*60) | I48: =G48&H48 | K48: =IF(D48=3,INDEX('coef Fct'!fct,VLOOKUP(I48,tatr,2,0),VLOOKUP('deperd tuyauterie'!K48,ti,2,0)),IF(D48=4,INDEX(fcti,VLOOKUP(I48,tatr,2,0),VLOOKUP('deperd tuyauterie'!K48,tii,2,0)),IF(D48="",""))) | M48: =IF(L48="","",VLOOKUP(L48,annexe!position,2,0)) | O48: =IF(OR(M48="",K48=""),"",IF(M48="",F48*K48*N48,IF(N48<>"",F48*K48*M48*N48))) | P48: =IF(OR(O48="",C48=""),"",(O48*0.86)/(G48-H48)) | Q48: Débit net | S48: =IF(AND(S50="",R51="",R50=""),"",IF(AND(S50="",R51="",R50<>""),R50+P48,IF(AND(S50<>"",R51<>"",R50<>""),S50+R51+R50+P48,""))) | T48: =IF(AND(T50="",R50=""),"",IF(AND(T50="",R50<>""),R50,IF(AND(T50<>"",R50<>""),T50+R50,""))) | Y48: =IF(O48="","",O48/2) | Z48: =IF(AND(Y48="",W48=""),"",Y48/((W48/3600)*4187)) | AA48: =IF(AND(AA46="",Z46="",G48=""),"",IF(AND(G48<>"",Z46=""),G48,IF(AND(Z46<>"",AA46<>""),AA46-Z46))) -> #DIV/0!
Q49: Débit tuayauterie
D50: =IF(C50="nu",3,IF(C50="isole",4,IF(C50="",""))) | E50: =IF(OR(C50="",B50=""),"",VLOOKUP(B50,DN,D50,0)) | F50: =IF(E50="","",E50*60) | I50: =G50&H50 | K50: =IF(D50=3,INDEX('coef Fct'!fct,VLOOKUP(I50,tatr,2,0),VLOOKUP('deperd tuyauterie'!K50,ti,2,0)),IF(D50=4,INDEX(fcti,VLOOKUP(I50,tatr,2,0),VLOOKUP('deperd tuyauterie'!K50,tii,2,0)),IF(D50="",""))) | M50: =IF(L50="","",VLOOKUP(L50,annexe!position,2,0)) | O50: =IF(OR(M50="",K50=""),"",IF(M50="",F50*K50*N50,IF(N50<>"",F50*K50*M50*N50))) | P50: =IF(OR(O50="",C50=""),"",(O50*0.86)/(G50-H50)) | Q50: Débit net | S50: =IF(AND(S52="",R53="",R52=""),"",IF(AND(S52="",R53="",R52<>""),R52+P50,IF(AND(S52<>"",R53<>"",R52<>""),S52+R53+R52+P50,""))) | T50: =IF(AND(T52="",R52=""),"",IF(AND(T52="",R52<>""),R52,IF(AND(T52<>"",R52<>""),T52+R52,""))) | Y50: =IF(O50="","",O50/2) | Z50: =IF(AND(Y50="",W50=""),"",Y50/((W50/3600)*4187)) | AA50: =IF(AND(AA48="",Z48="",G50=""),"",IF(AND(G50<>"",Z48=""),G50,IF(AND(Z48<>"",AA48<>""),AA48-Z48))) -> #DIV/0!
Q51: Débit tuayauterie
D52: =IF(C52="nu",3,IF(C52="isole",4,IF(C52="",""))) | E52: =IF(OR(C52="",B52=""),"",VLOOKUP(B52,DN,D52,0)) | F52: =IF(E52="","",E52*60) | I52: =G52&H52 | K52: =IF(D52=3,INDEX('coef Fct'!fct,VLOOKUP(I52,tatr,2,0),VLOOKUP('deperd tuyauterie'!K52,ti,2,0)),IF(D52=4,INDEX(fcti,VLOOKUP(I52,tatr,2,0),VLOOKUP('deperd tuyauterie'!K52,tii,2,0)),IF(D52="",""))) | M52: =IF(L52="","",VLOOKUP(L52,annexe!position,2,0)) | O52: =IF(OR(M52="",K52=""),"",IF(M52="",F52*K52*N52,IF(N52<>"",F52*K52*M52*N52))) | P52: =IF(OR(O52="",C52=""),"",(O52*0.86)/(G52-H52)) | Q52: Débit net | S52: =IF(AND(S54="",R55="",R54=""),"",IF(AND(S54="",R55="",R54<>""),R54+P52,IF(AND(S54<>"",R55<>"",R54<>""),S54+R55+R54+P52,""))) | T52: =IF(AND(T54="",R54=""),"",IF(AND(T54="",R54<>""),R54,IF(AND(T54<>"",R54<>""),T54+R54,""))) | Y52: =IF(O52="","",O52/2) | Z52: =IF(AND(Y52="",W52=""),"",Y52/((W52/3600)*4187)) | AA52: =IF(AND(AA50="",Z50="",G52=""),"",IF(AND(G52<>"",Z50=""),G52,IF(AND(Z50<>"",AA50<>""),AA50-Z50))) -> #DIV/0!
Q53: Débit tuayauterie
D54: =IF(C54="nu",3,IF(C54="isole",4,IF(C54="",""))) | E54: =IF(OR(C54="",B54=""),"",VLOOKUP(B54,DN,D54,0)) | F54: =IF(E54="","",E54*60) | I54: =G54&H54 | K54: =IF(D54=3,INDEX('coef Fct'!fct,VLOOKUP(I54,tatr,2,0),VLOOKUP('deperd tuyauterie'!K54,ti,2,0)),IF(D54=4,INDEX(fcti,VLOOKUP(I54,tatr,2,0),VLOOKUP('deperd tuyauterie'!K54,tii,2,0)),IF(D54="",""))) | M54: =IF(L54="","",VLOOKUP(L54,annexe!position,2,0)) | O54: =IF(OR(M54="",K54=""),"",IF(M54="",F54*K54*N54,IF(N54<>"",F54*K54*M54*N54))) | P54: =IF(OR(O54="",C54=""),"",(O54*0.86)/(G54-H54)) | Q54: Débit net | S54: =IF(AND(S56="",R57="",R56=""),"",IF(AND(S56="",R57="",R56<>""),R56+P54,IF(AND(S56<>"",R57<>"",R56<>""),S56+R57+R56+P54,""))) | T54: =IF(AND(T56="",R56=""),"",IF(AND(T56="",R56<>""),R56,IF(AND(T56<>"",R56<>""),T56+R56,""))) | Y54: =IF(O54="","",O54/2) | Z54: =IF(AND(Y54="",W54=""),"",Y54/((W54/3600)*4187)) | AA54: =IF(AND(AA52="",Z52="",G54=""),"",IF(AND(G54<>"",Z52=""),G54,IF(AND(Z52<>"",AA52<>""),AA52-Z52))) -> #DIV/0!
Q55: Débit tuayauterie
