Workbook

Sheet Données
B3: Délais entre deux contrôles (mois) : | E3: 6
B5: ref | C5: Dernier contrôle OK | D5: jours de retard
B6: A | C6: {=IF(B6="","",IF(MAX(IF((tableau!$C$4:$C$500=B6)*(tableau!$D$4:$D$500="OK"),tableau!$B$4:$B$500))=0,"",MAX(IF((tableau!$C$4:$C$500=B6)*(tableau!$D$4:$D$500="OK"),tableau!$B$4:$B$500))))} -> 44588 | D6: =IF(C6="","",IF(C6+E3*30>TODAY(),0,TODAY()-C6+E3*30)) -> 0
B7: B | C7: {=IF(B7="","",IF(MAX(IF((tableau!$C$4:$C$500=B7)*(tableau!$D$4:$D$500="OK"),tableau!$B$4:$B$500))=0,"",MAX(IF((tableau!$C$4:$C$500=B7)*(tableau!$D$4:$D$500="OK"),tableau!$B$4:$B$500))))} -> 44583 | D7: =IF(C7="","",IF(C7+E4*30>TODAY(),0,TODAY()-C7+E4*30)) -> 6
B8: C | C8: {=IF(B8="","",IF(MAX(IF((tableau!$C$4:$C$500=B8)*(tableau!$D$4:$D$500="OK"),tableau!$B$4:$B$500))=0,"",MAX(IF((tableau!$C$4:$C$500=B8)*(tableau!$D$4:$D$500="OK"),tableau!$B$4:$B$500))))} -> 44468 | D8: =IF(C8="","",IF(C8+E5*30>TODAY(),0,TODAY()-C8+E5*30)) -> 121
B9: D | C9: {=IF(B9="","",IF(MAX(IF((tableau!$C$4:$C$500=B9)*(tableau!$D$4:$D$500="OK"),tableau!$B$4:$B$500))=0,"",MAX(IF((tableau!$C$4:$C$500=B9)*(tableau!$D$4:$D$500="OK"),tableau!$B$4:$B$500))))} -> 44542 | D9: =IF(C9="","",IF(C9+E6*30>TODAY(),0,TODAY()-C9+E6*30)) -> 47
B10: E | C10: {=IF(B10="","",IF(MAX(IF((tableau!$C$4:$C$500=B10)*(tableau!$D$4:$D$500="OK"),tableau!$B$4:$B$500))=0,"",MAX(IF((tableau!$C$4:$C$500=B10)*(tableau!$D$4:$D$500="OK"),tableau!$B$4:$B$500))))} -> 44239 | D10: =IF(C10="","",IF(C10+E7*30>TODAY(),0,TODAY()-C10+E7*30)) -> 350
B11: F | C11: {=IF(B11="","",IF(MAX(IF((tableau!$C$4:$C$500=B11)*(tableau!$D$4:$D$500="OK"),tableau!$B$4:$B$500))=0,"",MAX(IF((tableau!$C$4:$C$500=B11)*(tableau!$D$4:$D$500="OK"),tableau!$B$4:$B$500))))} -> 43478 | D11: =IF(C11="","",IF(C11+E8*30>TODAY(),0,TODAY()-C11+E8*30)) -> 1111
B12: G | C12: {=IF(B12="","",IF(MAX(IF((tableau!$C$4:$C$500=B12)*(tableau!$D$4:$D$500="OK"),tableau!$B$4:$B$500))=0,"",MAX(IF((tableau!$C$4:$C$500=B12)*(tableau!$D$4:$D$500="OK"),tableau!$B$4:$B$500))))} | D12: =IF(C12="","",IF(C12+E9*30>TODAY(),0,TODAY()-C12+E9*30))
B13: H | C13: {=IF(B13="","",IF(MAX(IF((tableau!$C$4:$C$500=B13)*(tableau!$D$4:$D$500="OK"),tableau!$B$4:$B$500))=0,"",MAX(IF((tableau!$C$4:$C$500=B13)*(tableau!$D$4:$D$500="OK"),tableau!$B$4:$B$500))))} | D13: =IF(C13="","",IF(C13+E10*30>TODAY(),0,TODAY()-C13+E10*30))
B14: I | C14: {=IF(B14="","",IF(MAX(IF((tableau!$C$4:$C$500=B14)*(tableau!$D$4:$D$500="OK"),tableau!$B$4:$B$500))=0,"",MAX(IF((tableau!$C$4:$C$500=B14)*(tableau!$D$4:$D$500="OK"),tableau!$B$4:$B$500))))} | D14: =IF(C14="","",IF(C14+E11*30>TODAY(),0,TODAY()-C14+E11*30))
B15: J | C15: {=IF(B15="","",IF(MAX(IF((tableau!$C$4:$C$500=B15)*(tableau!$D$4:$D$500="OK"),tableau!$B$4:$B$500))=0,"",MAX(IF((tableau!$C$4:$C$500=B15)*(tableau!$D$4:$D$500="OK"),tableau!$B$4:$B$500))))} | D15: =IF(C15="","",IF(C15+E12*30>TODAY(),0,TODAY()-C15+E12*30))
B16: K | C16: {=IF(B16="","",IF(MAX(IF((tableau!$C$4:$C$500=B16)*(tableau!$D$4:$D$500="OK"),tableau!$B$4:$B$500))=0,"",MAX(IF((tableau!$C$4:$C$500=B16)*(tableau!$D$4:$D$500="OK"),tableau!$B$4:$B$500))))} -> 42965 | D16: =IF(C16="","",IF(C16+E13*30>TODAY(),0,TODAY()-C16+E13*30)) -> 1624
B17: L | C17: {=IF(B17="","",IF(MAX(IF((tableau!$C$4:$C$500=B17)*(tableau!$D$4:$D$500="OK"),tableau!$B$4:$B$500))=0,"",MAX(IF((tableau!$C$4:$C$500=B17)*(tableau!$D$4:$D$500="OK"),tableau!$B$4:$B$500))))} | D17: =IF(C17="","",IF(C17+E14*30>TODAY(),0,TODAY()-C17+E14*30))
B18: M | C18: {=IF(B18="","",IF(MAX(IF((tableau!$C$4:$C$500=B18)*(tableau!$D$4:$D$500="OK"),tableau!$B$4:$B$500))=0,"",MAX(IF((tableau!$C$4:$C$500=B18)*(tableau!$D$4:$D$500="OK"),tableau!$B$4:$B$500))))} | D18: =IF(C18="","",IF(C18+E15*30>TODAY(),0,TODAY()-C18+E15*30))
C19: {=IF(B19="","",IF(MAX(IF((tableau!$C$4:$C$500=B19)*(tableau!$D$4:$D$500="OK"),tableau!$B$4:$B$500))=0,"",MAX(IF((tableau!$C$4:$C$500=B19)*(tableau!$D$4:$D$500="OK"),tableau!$B$4:$B$500))))} | D19: =IF(C19="","",IF(C19+E16*30>TODAY(),0,TODAY()-C19+E16*30))
C20: {=IF(B20="","",IF(MAX(IF((tableau!$C$4:$C$500=B20)*(tableau!$D$4:$D$500="OK"),tableau!$B$4:$B$500))=0,"",MAX(IF((tableau!$C$4:$C$500=B20)*(tableau!$D$4:$D$500="OK"),tableau!$B$4:$B$500))))} | D20: =IF(C20="","",IF(C20+E17*30>TODAY(),0,TODAY()-C20+E17*30))
C21: {=IF(B21="","",IF(MAX(IF((tableau!$C$4:$C$500=B21)*(tableau!$D$4:$D$500="OK"),tableau!$B$4:$B$500))=0,"",MAX(IF((tableau!$C$4:$C$500=B21)*(tableau!$D$4:$D$500="OK"),tableau!$B$4:$B$500))))} | D21: =IF(C21="","",IF(C21+E18*30>TODAY(),0,TODAY()-C21+E18*30))
C22: {=IF(B22="","",IF(MAX(IF((tableau!$C$4:$C$500=B22)*(tableau!$D$4:$D$500="OK"),tableau!$B$4:$B$500))=0,"",MAX(IF((tableau!$C$4:$C$500=B22)*(tableau!$D$4:$D$500="OK"),tableau!$B$4:$B$500))))} | D22: =IF(C22="","",IF(C22+E19*30>TODAY(),0,TODAY()-C22+E19*30))
C23: {=IF(B23="","",IF(MAX(IF((tableau!$C$4:$C$500=B23)*(tableau!$D$4:$D$500="OK"),tableau!$B$4:$B$500))=0,"",MAX(IF((tableau!$C$4:$C$500=B23)*(tableau!$D$4:$D$500="OK"),tableau!$B$4:$B$500))))} | D23: =IF(C23="","",IF(C23+E20*30>TODAY(),0,TODAY()-C23+E20*30))
C24: {=IF(B24="","",IF(MAX(IF((tableau!$C$4:$C$500=B24)*(tableau!$D$4:$D$500="OK"),tableau!$B$4:$B$500))=0,"",MAX(IF((tableau!$C$4:$C$500=B24)*(tableau!$D$4:$D$500="OK"),tableau!$B$4:$B$500))))} | D24: =IF(C24="","",IF(C24+E21*30>TODAY(),0,TODAY()-C24+E21*30))
C25: {=IF(B25="","",IF(MAX(IF((tableau!$C$4:$C$500=B25)*(tableau!$D$4:$D$500="OK"),tableau!$B$4:$B$500))=0,"",MAX(IF((tableau!$C$4:$C$500=B25)*(tableau!$D$4:$D$500="OK"),tableau!$B$4:$B$500))))} | D25: =IF(C25="","",IF(C25+E22*30>TODAY(),0,TODAY()-C25+E22*30))
C26: {=IF(B26="","",IF(MAX(IF((tableau!$C$4:$C$500=B26)*(tableau!$D$4:$D$500="OK"),tableau!$B$4:$B$500))=0,"",MAX(IF((tableau!$C$4:$C$500=B26)*(tableau!$D$4:$D$500="OK"),tableau!$B$4:$B$500))))} | D26: =IF(C26="","",IF(C26+E23*30>TODAY(),0,TODAY()-C26+E23*30))
C27: {=IF(B27="","",IF(MAX(IF((tableau!$C$4:$C$500=B27)*(tableau!$D$4:$D$500="OK"),tableau!$B$4:$B$500))=0,"",MAX(IF((tableau!$C$4:$C$500=B27)*(tableau!$D$4:$D$500="OK"),tableau!$B$4:$B$500))))} | D27: =IF(C27="","",IF(C27+E24*30>TODAY(),0,TODAY()-C27+E24*30))
C28: {=IF(B28="","",IF(MAX(IF((tableau!$C$4:$C$500=B28)*(tableau!$D$4:$D$500="OK"),tableau!$B$4:$B$500))=0,"",MAX(IF((tableau!$C$4:$C$500=B28)*(tableau!$D$4:$D$500="OK"),tableau!$B$4:$B$500))))} | D28: =IF(C28="","",IF(C28+E25*30>TODAY(),0,TODAY()-C28+E25*30))
C29: {=IF(B29="","",IF(MAX(IF((tableau!$C$4:$C$500=B29)*(tableau!$D$4:$D$500="OK"),tableau!$B$4:$B$500))=0,"",MAX(IF((tableau!$C$4:$C$500=B29)*(tableau!$D$4:$D$500="OK"),tableau!$B$4:$B$500))))} | D29: =IF(C29="","",IF(C29+E26*30>TODAY(),0,TODAY()-C29+E26*30))
C30: {=IF(B30="","",IF(MAX(IF((tableau!$C$4:$C$500=B30)*(tableau!$D$4:$D$500="OK"),tableau!$B$4:$B$500))=0,"",MAX(IF((tableau!$C$4:$C$500=B30)*(tableau!$D$4:$D$500="OK"),tableau!$B$4:$B$500))))} | D30: =IF(C30="","",IF(C30+E27*30>TODAY(),0,TODAY()-C30+E27*30))
... C39: {=IF(B39="","",IF(MAX(IF((tableau!$C$4:$C$500=B39)*(tableau!$D$4:$D$500="OK"),tableau!$B$4:$B$500))=0,"",MAX(IF((tableau!$C$4:$C$500=B39)*(tableau!$D$4:$D$500="OK"),tableau!$B$4:$B$500))))} | D39: =IF(C39="","",IF(C39+E36*30>TODAY(),0,TODAY()-C39+E36*30))

Sheet tableau
B2: Date | C2: ref | D2: Validation
B4: 44585 | C4: A | D4: OK
B5: 44268 | C5: B | D5: OK
B6: 44362 | C6: A | D6: OK
B7: 44455 | C7: C | D7: OK
B8: 44420 | C8: C | D8: OK
B9: 44521 | C9: D | D9: OK
B10: 44234 | C10: A | D10: OK
B11: 44210 | C11: A | D11: OK
B12: 44434 | C12: A | D12: OK
B13: 44468 | C13: C | D13: OK
B14: 44542 | C14: D | D14: OK
B15: 44212 | C15: E | D15: OK
... B21: 42965 | C21: K | D21: OK
