Workbook
Name Liste: Pourcentage!$A$4:$A$8
Name ListeModule: Pourcentage!$A$4:$A$8

Sheet Pourcentage
A1: 41249 | D1: Personnel recensé = | E1: =SUM(anatole:etienne!D1) -> 5
A3: module | B3: A jour | C3: Pourcentage
A4: course à pied | B4: =SUM(anatole:etienne!D4) -> 3 | C4: =B4/$E$1 -> 0.6
A5: informatique | B5: =SUM(anatole:etienne!D5) -> 1 | C5: =B5/$E$1 -> 0.2
A6: gestion | B6: =SUM(anatole:etienne!D6) -> 5 | C6: =B6/$E$1 -> 1
A7: permis | B7: =SUM(anatole:etienne!D7) -> 3 | C7: =B7/$E$1 -> 0.6
A8: habilitation | B8: =SUM(anatole:etienne!D8) -> 4 | C8: =B8/$E$1 -> 0.8

Sheet Non à jour
A1: =TODAY() -> 41249
A3: Choix du module : | B3: course à pied
A5: Noms des personnels non à jour : | B5: bernard
B6: denis

Sheet anatole
A1: =TODAY() -> 41249 | C1: Anatole | D1: =IF(C1<>"",1,0) -> 1
A3: module | B3: date de passage | C3: validité
A4: course à pied | B4: 41030 | C4: =B4+365 -> 41395 | D4: =IF(C4>$A$1,1,0) -> 1
A5: informatique | B5: 40179 | C5: =B5+182 -> 40361 | D5: =IF(C5>$A$1,1,0) -> 0
A6: gestion | B6: 41248 | C6: =B6+182 -> 41430 | D6: =IF(C6>$A$1,1,0) -> 1
A7: permis | B7: 41232 | C7: =B7+1825 -> 43057 | D7: =IF(C7>$A$1,1,0) -> 1
A8: habilitation | B8: 41248 | C8: =B8+365 -> 41613 | D8: =IF(C8>$A$1,1,0) -> 1

Sheet bernard
A1: =TODAY() -> 41249 | C1: bernard | D1: =IF(C1<>"",1,0) -> 1
A3: module | B3: date de passage | C3: validité
A4: course à pied | B4: 40549 | C4: =B4+365 -> 40914 | D4: =IF(C4>$A$1,1,0) -> 0
A5: informatique | B5: 40179 | C5: =B5+182 -> 40361 | D5: =IF(C5>$A$1,1,0) -> 0
A6: gestion | B6: 41249 | C6: =B6+182 -> 41431 | D6: =IF(C6>$A$1,1,0) -> 1
A7: permis | B7: 39008 | C7: =B7+1825 -> 40833 | D7: =IF(C7>$A$1,1,0) -> 0
A8: habilitation | B8: 40889 | C8: =B8+365 -> 41254 | D8: =IF(C8>$A$1,1,0) -> 1

Sheet charles
A1: =TODAY() -> 41249 | C1: charles | D1: =IF(C1<>"",1,0) -> 1
A3: module | B3: date de passage | C3: validité
A4: course à pied | B4: 41030 | C4: =B4+365 -> 41395 | D4: =IF(C4>$A$1,1,0) -> 1
A5: informatique | B5: 40179 | C5: =B5+182 -> 40361 | D5: =IF(C5>$A$1,1,0) -> 0
A6: gestion | B6: 41248 | C6: =B6+182 -> 41430 | D6: =IF(C6>$A$1,1,0) -> 1
A7: permis | B7: 41232 | C7: =B7+1825 -> 43057 | D7: =IF(C7>$A$1,1,0) -> 1
A8: habilitation | B8: 39545 | C8: =B8+365 -> 39910 | D8: =IF(C8>$A$1,1,0) -> 0

Sheet denis
A1: =TODAY() -> 41249 | C1: denis | D1: =IF(C1<>"",1,0) -> 1
A3: module | B3: date de passage | C3: validité
A4: course à pied | B4: 36892 | C4: =B4+365 -> 37257 | D4: =IF(C4>$A$1,1,0) -> 0
A5: informatique | B5: 41126 | C5: =B5+182 -> 41308 | D5: =IF(C5>$A$1,1,0) -> 1
A6: gestion | B6: 41248 | C6: =B6+182 -> 41430 | D6: =IF(C6>$A$1,1,0) -> 1
A7: permis | B7: 39484 | C7: =B7+1825 -> 41309 | D7: =IF(C7>$A$1,1,0) -> 1
A8: habilitation | B8: 41248 | C8: =B8+365 -> 41613 | D8: =IF(C8>$A$1,1,0) -> 1

Sheet etienne
A1: =TODAY() -> 41249 | C1: etienne | D1: =IF(C1<>"",1,0) -> 1
A3: module | B3: date de passage | C3: validité
A4: course à pied | B4: 41030 | C4: =B4+365 -> 41395 | D4: =IF(C4>$A$1,1,0) -> 1
A5: informatique | B5: 40179 | C5: =B5+182 -> 40361 | D5: =IF(C5>$A$1,1,0) -> 0
A6: gestion | B6: 41248 | C6: =B6+182 -> 41430 | D6: =IF(C6>$A$1,1,0) -> 1
A7: permis | B7: 39420 | C7: =B7+1825 -> 41245 | D7: =IF(C7>$A$1,1,0) -> 0
A8: habilitation | B8: 41248 | C8: =B8+365 -> 41613 | D8: =IF(C8>$A$1,1,0) -> 1
