Workbook

Sheet DATA
A1: Jour | B1: Date | C1: A | D1: B | E1: C | F1: D | G1: E | H1: F | I1: G | J1: H | K1: I
A2: {=_xlfn.SWITCH(WEEKDAY(B2,2),1,"Lundi",2,"Mardi",3,"Mercredi",4,"Jeudi",5,"Vendredi")} -> Lundi | B2: 46083 | C2: 0 | D2: 59 | E2: 0 | F2: 0 | G2: 75 | H2: 0 | I2: 0 | J2: 71 | K2: 56
A3: {=_xlfn.SWITCH(WEEKDAY(B3,2),1,"Lundi",2,"Mardi",3,"Mercredi",4,"Jeudi",5,"Vendredi")} -> Mardi | B3: 46084 | C3: 0 | D3: 63 | E3: 0 | F3: 0 | G3: 55 | H3: 0 | I3: 0 | J3: 46 | K3: 72
A4: {=_xlfn.SWITCH(WEEKDAY(B4,2),1,"Lundi",2,"Mardi",3,"Mercredi",4,"Jeudi",5,"Vendredi")} -> Mercredi | B4: 46085 | C4: 0 | D4: 99 | E4: 0 | F4: 62 | G4: 82 | H4: 0 | I4: 0 | J4: 61 | K4: 0
A5: {=_xlfn.SWITCH(WEEKDAY(B5,2),1,"Lundi",2,"Mardi",3,"Mercredi",4,"Jeudi",5,"Vendredi")} -> Jeudi | B5: 46086 | C5: 0 | D5: 89 | E5: 0 | F5: 39 | G5: 39 | H5: 0 | I5: 0 | J5: 47 | K5: 0
A6: {=_xlfn.SWITCH(WEEKDAY(B6,2),1,"Lundi",2,"Mardi",3,"Mercredi",4,"Jeudi",5,"Vendredi")} -> Vendredi | B6: 46087 | C6: 0 | D6: 69 | E6: 0 | F6: 64 | G6: 56 | H6: 0 | I6: 0 | J6: 51 | K6: 48
A7: {=_xlfn.SWITCH(WEEKDAY(B7,2),1,"Lundi",2,"Mardi",3,"Mercredi",4,"Jeudi",5,"Vendredi")} -> Lundi | B7: 46090 | C7: 0 | D7: 66 | E7: 0 | F7: 34 | G7: 73 | H7: 0 | I7: 0 | J7: 46 | K7: 52
A8: {=_xlfn.SWITCH(WEEKDAY(B8,2),1,"Lundi",2,"Mardi",3,"Mercredi",4,"Jeudi",5,"Vendredi")} -> Mardi | B8: 46091 | C8: 0 | D8: 75 | E8: 138 | F8: 0 | G8: 0 | H8: 0 | I8: 0 | J8: 56 | K8: 71
A9: {=_xlfn.SWITCH(WEEKDAY(B9,2),1,"Lundi",2,"Mardi",3,"Mercredi",4,"Jeudi",5,"Vendredi")} -> Mercredi | B9: 46092 | C9: 0 | D9: 82 | E9: 78 | F9: 0 | G9: 66 | H9: 0 | I9: 0 | J9: 64 | K9: 0
A10: {=_xlfn.SWITCH(WEEKDAY(B10,2),1,"Lundi",2,"Mardi",3,"Mercredi",4,"Jeudi",5,"Vendredi")} -> Jeudi | B10: 46093 | C10: 0 | D10: 86 | E10: 86 | F10: 0 | G10: 69 | H10: 0 | I10: 0 | J10: 62 | K10: 52
A11: {=_xlfn.SWITCH(WEEKDAY(B11,2),1,"Lundi",2,"Mardi",3,"Mercredi",4,"Jeudi",5,"Vendredi")} -> Vendredi | B11: 46094 | C11: 0 | D11: 81 | E11: 77 | F11: 0 | G11: 67 | H11: 0 | I11: 0 | J11: 50 | K11: 63
A12: {=_xlfn.SWITCH(WEEKDAY(B12,2),1,"Lundi",2,"Mardi",3,"Mercredi",4,"Jeudi",5,"Vendredi")} -> Lundi | B12: 46097 | C12: 0 | D12: 60 | E12: 63 | F12: 90 | G12: 54 | H12: 0 | I12: 0 | J12: 50 | K12: 79
A13: {=_xlfn.SWITCH(WEEKDAY(B13,2),1,"Lundi",2,"Mardi",3,"Mercredi",4,"Jeudi",5,"Vendredi")} -> Mardi | B13: 46098 | C13: 0 | D13: 67 | E13: 101 | F13: 86 | G13: 51 | H13: 0 | I13: 0 | J13: 34 | K13: 55
... A44: {=_xlfn.SWITCH(WEEKDAY(B44,2),1,"Lundi",2,"Mardi",3,"Mercredi",4,"Jeudi",5,"Vendredi")} -> Jeudi | B44: 46142 | C44: 99 | D44: 101 | E44: 105 | F44: 27 | G44: 69 | H44: 0 | I44: 0 | J44: 76 | K44: 91

Sheet Moyenne jour
A1: Moyenne | B1: A | C1: B | D1: C | E1: D | F1: E | G1: F | H1: G | I1: H | J1: I | K1: Total
A2: Lundi | B2: =AVERAGEIFS(DATA!C:C,DATA!$A:$A,'Moyenne jour'!$A2,DATA!C:C,"<>0") -> 26.6 | C2: =AVERAGEIFS(DATA!D:D,DATA!$A:$A,'Moyenne jour'!$A2,DATA!D:D,"<>0") -> 77.375 | D2: =AVERAGEIFS(DATA!E:E,DATA!$A:$A,'Moyenne jour'!$A2,DATA!E:E,"<>0") -> 77 | E2: =AVERAGEIFS(DATA!F:F,DATA!$A:$A,'Moyenne jour'!$A2,DATA!F:F,"<>0") -> 64.833333 | F2: =AVERAGEIFS(DATA!G:G,DATA!$A:$A,'Moyenne jour'!$A2,DATA!G:G,"<>0") -> 61.285714 | G2: =AVERAGEIFS(DATA!H:H,DATA!$A:$A,'Moyenne jour'!$A2,DATA!H:H,"<>0") -> #DIV/0! | H2: =AVERAGEIFS(DATA!I:I,DATA!$A:$A,'Moyenne jour'!$A2,DATA!I:I,"<>0") -> #DIV/0! | I2: =AVERAGEIFS(DATA!J:J,DATA!$A:$A,'Moyenne jour'!$A2,DATA!J:J,"<>0") -> 53.25 | J2: =AVERAGEIFS(DATA!K:K,DATA!$A:$A,'Moyenne jour'!$A2,DATA!K:K,"<>0") -> 70.428571 | K2: =AVERAGEIFS(DATA!C:K,DATA!$A:$A,'Moyenne jour'!$A2,DATA!C:K,"<>0") -> #VALUE!
A3: Mardi | B3: =AVERAGEIFS(DATA!C:C,DATA!$A:$A,'Moyenne jour'!$A3,DATA!C:C,"<>0") -> 45 | C3: =AVERAGEIFS(DATA!D:D,DATA!$A:$A,'Moyenne jour'!$A3,DATA!D:D,"<>0") -> 72.125 | D3: =AVERAGEIFS(DATA!E:E,DATA!$A:$A,'Moyenne jour'!$A3,DATA!E:E,"<>0") -> 98.571429 | E3: =AVERAGEIFS(DATA!F:F,DATA!$A:$A,'Moyenne jour'!$A3,DATA!F:F,"<>0") -> 68.666667 | F3: =AVERAGEIFS(DATA!G:G,DATA!$A:$A,'Moyenne jour'!$A3,DATA!G:G,"<>0") -> 64.5 | G3: =AVERAGEIFS(DATA!H:H,DATA!$A:$A,'Moyenne jour'!$A3,DATA!H:H,"<>0") -> #DIV/0! | H3: =AVERAGEIFS(DATA!I:I,DATA!$A:$A,'Moyenne jour'!$A3,DATA!I:I,"<>0") -> #DIV/0! | I3: =AVERAGEIFS(DATA!J:J,DATA!$A:$A,'Moyenne jour'!$A3,DATA!J:J,"<>0") -> 56.555556 | J3: =AVERAGEIFS(DATA!K:K,DATA!$A:$A,'Moyenne jour'!$A3,DATA!K:K,"<>0") -> 74.25 | K3: =AVERAGEIFS(DATA!C:K,DATA!$A:$A,'Moyenne jour'!$A3,DATA!C:K,"<>0") -> #VALUE!
A4: Mercredi | B4: =AVERAGEIFS(DATA!C:C,DATA!$A:$A,'Moyenne jour'!$A4,DATA!C:C,"<>0") -> 39 | C4: =AVERAGEIFS(DATA!D:D,DATA!$A:$A,'Moyenne jour'!$A4,DATA!D:D,"<>0") -> 86 | D4: =AVERAGEIFS(DATA!E:E,DATA!$A:$A,'Moyenne jour'!$A4,DATA!E:E,"<>0") -> 74.428571 | E4: =AVERAGEIFS(DATA!F:F,DATA!$A:$A,'Moyenne jour'!$A4,DATA!F:F,"<>0") -> 64.75 | F4: =AVERAGEIFS(DATA!G:G,DATA!$A:$A,'Moyenne jour'!$A4,DATA!G:G,"<>0") -> 71.111111 | G4: =AVERAGEIFS(DATA!H:H,DATA!$A:$A,'Moyenne jour'!$A4,DATA!H:H,"<>0") -> #DIV/0! | H4: =AVERAGEIFS(DATA!I:I,DATA!$A:$A,'Moyenne jour'!$A4,DATA!I:I,"<>0") -> #DIV/0! | I4: =AVERAGEIFS(DATA!J:J,DATA!$A:$A,'Moyenne jour'!$A4,DATA!J:J,"<>0") -> 58.875 | J4: =AVERAGEIFS(DATA!K:K,DATA!$A:$A,'Moyenne jour'!$A4,DATA!K:K,"<>0") -> #DIV/0! | K4: =AVERAGEIFS(DATA!C:K,DATA!$A:$A,'Moyenne jour'!$A4,DATA!C:K,"<>0") -> #VALUE!
A5: Jeudi | B5: =AVERAGEIFS(DATA!C:C,DATA!$A:$A,'Moyenne jour'!$A5,DATA!C:C,"<>0") -> 49.5 | C5: =AVERAGEIFS(DATA!D:D,DATA!$A:$A,'Moyenne jour'!$A5,DATA!D:D,"<>0") -> 77.5 | D5: =AVERAGEIFS(DATA!E:E,DATA!$A:$A,'Moyenne jour'!$A5,DATA!E:E,"<>0") -> 80.714286 | E5: =AVERAGEIFS(DATA!F:F,DATA!$A:$A,'Moyenne jour'!$A5,DATA!F:F,"<>0") -> 51.857143 | F5: =AVERAGEIFS(DATA!G:G,DATA!$A:$A,'Moyenne jour'!$A5,DATA!G:G,"<>0") -> 61.75 | G5: =AVERAGEIFS(DATA!H:H,DATA!$A:$A,'Moyenne jour'!$A5,DATA!H:H,"<>0") -> #DIV/0! | H5: =AVERAGEIFS(DATA!I:I,DATA!$A:$A,'Moyenne jour'!$A5,DATA!I:I,"<>0") -> #DIV/0! | I5: =AVERAGEIFS(DATA!J:J,DATA!$A:$A,'Moyenne jour'!$A5,DATA!J:J,"<>0") -> 61.875 | J5: =AVERAGEIFS(DATA!K:K,DATA!$A:$A,'Moyenne jour'!$A5,DATA!K:K,"<>0") -> 65.857143 | K5: =AVERAGEIFS(DATA!C:K,DATA!$A:$A,'Moyenne jour'!$A5,DATA!C:K,"<>0") -> #VALUE!
A6: Vendredi | B6: =AVERAGEIFS(DATA!C:C,DATA!$A:$A,'Moyenne jour'!$A6,DATA!C:C,"<>0") -> 41.5 | C6: =AVERAGEIFS(DATA!D:D,DATA!$A:$A,'Moyenne jour'!$A6,DATA!D:D,"<>0") -> 93 | D6: =AVERAGEIFS(DATA!E:E,DATA!$A:$A,'Moyenne jour'!$A6,DATA!E:E,"<>0") -> 72 | E6: =AVERAGEIFS(DATA!F:F,DATA!$A:$A,'Moyenne jour'!$A6,DATA!F:F,"<>0") -> 55.2 | F6: =AVERAGEIFS(DATA!G:G,DATA!$A:$A,'Moyenne jour'!$A6,DATA!G:G,"<>0") -> 63.4 | G6: =AVERAGEIFS(DATA!H:H,DATA!$A:$A,'Moyenne jour'!$A6,DATA!H:H,"<>0") -> #DIV/0! | H6: =AVERAGEIFS(DATA!I:I,DATA!$A:$A,'Moyenne jour'!$A6,DATA!I:I,"<>0") -> #DIV/0! | I6: =AVERAGEIFS(DATA!J:J,DATA!$A:$A,'Moyenne jour'!$A6,DATA!J:J,"<>0") -> 50.125 | J6: =AVERAGEIFS(DATA!K:K,DATA!$A:$A,'Moyenne jour'!$A6,DATA!K:K,"<>0") -> 60.714286 | K6: =AVERAGEIFS(DATA!C:K,DATA!$A:$A,'Moyenne jour'!$A6,DATA!C:K,"<>0") -> #VALUE!

Sheet Médiane jour
A1: Médiane | B1: A | C1: B | D1: C | E1: D | F1: E | G1: F | H1: G | I1: H | J1: I
A2: Lundi | B2: =MEDIANE(SI((DATA!$A:$A=$A2)*(DATA!C:C<>0));DATA!C:C)
A3: Mardi
A4: Mercredi
A5: Jeudi
A6: Vendredi
