Workbook

Sheet Heures
A1: Numéro | B1: Nom | C1: Prénom | D1: Dimanche | E1: Lundi | F1: Mardi | G1: Mercredi | H1: Jeudi | I1: Vendredi | J1: Samedi
A2: 1000 | B2: Lafleur | C2: Luce | D2: 0 | E2: 8 | F2: 8 | G2: 6.75 | H2: 8 | I2: 8 | J2: 0
A3: 1010 | B3: Comeau | C3: Gilbert | D3: 0 | E3: 8 | F3: 8 | G3: 8 | H3: 8 | I3: 8 | J3: 0
A4: 1020 | B4: Côté | C4: Danielle | D4: 0 | E4: 8 | F4: 8 | G4: 8 | H4: 8 | I4: 8 | J4: 0
A5: 1040 | B5: Legeault | C5: Louis | D5: 0 | E5: 8 | F5: 8 | G5: 8.25 | H5: 8 | I5: 8 | J5: 0
A6: 1050 | B6: Lafleur | C6: Lucille | D6: 0 | E6: 8 | F6: 8 | G6: 8 | H6: 8 | I6: 8 | J6: 7
A7: 1070 | B7: Baril | C7: Jules | D7: 0 | E7: 7.5 | F7: 8 | G7: 8 | H7: 8 | I7: 8 | J7: 0
A8: 1090 | B8: Masson | C8: Paul | D8: 0 | E8: 8 | F8: 8 | G8: 8 | H8: 9 | I8: 9 | J8: 10

Sheet Taux
A1: Numéro | B1: Nom | C1: Prénom | D1: Taux
A2: 1000 | B2: Lafleur | C2: Luce | D2: 10.05 | H2: =SUM(D2+3.5%*D2) -> 10.40175
A3: 1010 | B3: Comeau | C3: Gilbert | D3: 9.35 | H3: =SUM(D3+3.5%*D3) -> 9.67725
A4: 1020 | B4: Côté | C4: Danielle | D4: 10.4 | H4: =SUM(D4+3.5%*D4) -> 10.764
A5: 1040 | B5: Legeault | C5: Louis | D5: 9.58 | H5: =SUM(D5+3.5%*D5) -> 9.9153
A6: 1050 | B6: Lafleur | C6: Lucille | D6: 9.4 | H6: =SUM(D6+3.5%*D6) -> 9.729
A7: 1070 | B7: Baril | C7: Jules | D7: 9 | H7: =SUM(D7+3.5%*D7) -> 9.315
A8: 1090 | B8: Masson | C8: Paul | D8: 9.4 | H8: =SUM(D8+3.5%*D8) -> 9.729

Sheet Paie
A1: Numéro | B1: Nom | C1: Prénom | D1: Paie | F1: Moyenne | G1: Bonus
A2: 1000 | B2: Lafleur | C2: Luce | D2: =SUM(Heures!D2:J2)*Taux!D2 -> 389.4375 | F2: =AVERAGE(Heures!D2:J2) -> 5.5357143
A3: 1010 | B3: Comeau | C3: Gilbert | D3: =SUM(Heures!D3:J3)*Taux!D3 -> 374 | F3: =AVERAGE(Heures!D3:J3) -> 5.7142857
A4: 1020 | B4: Côté | C4: Danielle | D4: =SUM(Heures!D4:J4)*Taux!D4 -> 416 | F4: =AVERAGE(Heures!D4:J4) -> 5.7142857
A5: 1040 | B5: Legeault | C5: Louis | D5: =SUM(Heures!D5:J5)*Taux!D5 -> 385.595 | F5: =AVERAGE(Heures!D5:J5) -> 5.75
A6: 1050 | B6: Lafleur | C6: Lucille | D6: =SUM(Heures!D6:J6)*Taux!D6 -> 441.8 | F6: =AVERAGE(Heures!D6:J6) -> 6.7142857
A7: 1070 | B7: Baril | C7: Jules | D7: =SUM(Heures!D7:J7)*Taux!D7 -> 355.5 | F7: =AVERAGE(Heures!D7:J7) -> 5.6428571
A8: 1090 | B8: Masson | C8: Paul | D8: =SUM(Heures!D8:J8)*Taux!D8 -> 488.8 | F8: =AVERAGE(Heures!D8:J8) -> 7.4285714
A10: Nom: | B10: Frédérick Parenteau | K10: / 10
A12: 1) À la feuille Paie en D2, faites une formule multi feuille qui
A13: calcule la paie de chaque employé
A14: Formule: | B14: SOMME(Heures!D2:J2)*Taux!D2 | K14: 2.5
A16: 2) À la feuille Paie en F2, faites une formule multi feuille qui calcule la
A17: moyenne des heures pour chaque employé
A18: Formule: | B18: moyenne(Heures!D2:J2) | K18: 2.5
A20: 3) À la feuille Paie en G2, si la personne a travaillé le samedi ou
A21: le dimanche, calculez un bonus de 10% sur la paie.
A22: Calculez que le bonus.
A23: Formule: | K23: 2.5
A25: 4) À la feuille Paie en H2, calculez le nouveau taux, augmenté de 3,5%
A26: Formule: | K26: 2.5

Sheet Feuil1
