Workbook
Name An: Parametre!$C$5
Name Annee: Parametre!$G$7:$G$17
Name DebutVac: Parametre!$AA$27:$AA$39
Name EvtMarie: Parametre!$K$65:$K$70
Name EvtMichel: Parametre!$K$45:$K$62
Name FinVac: Parametre!$AB$27:$AB$39
Name jourferies: Parametre!$C$27:$C$78
Name Jours_Repos: Parametre!$K$7:$K$13
Name JoursSem: Parametre!$I$7:$I$13
Name Mois: Parametre!$H$7:$H$18
Name No_Semaine: Parametre!$F$27:$F$79
Name NumMois: Parametre!$H$27:$H$38
Name Premierjour: Parametre!$B$4
Name PremierMois: Parametre!$B$5
Name Saison: Saison!$B$3:$F$8

Sheet Parametre
B3: =MONTH(1&B5) -> 1
B4: =DATE($C$5,B3,1) -> 43831
B5: Janvier | C5: 2020
B6: Généralités de l'année Choisie | G6: Annee | H6: Mois | I6: Mois | J6: Repos | K6: Jours Repos
C7: Année bissextile | D7: =IF(OR(MOD(C5,400)=0,AND(MOD(C5,4)=0,MOD(C5,100)>0)),TRUE,FALSE) -> TRUE | G7: 2020 | H7: Janvier | I7: Lundi | J7: FALSE | K7: =IF(J7,I7,"")
C8: Nombre de jours | D8: =IF(D7,366,365) -> 366 | G8: 2021 | H8: Février | I8: Mardi | J8: FALSE | K8: =IF(J8,I8,"")
C9: Nombre de jours fériés | D9: =COUNTA(C27:C39) -> 13 | G9: 2022 | H9: Mars | I9: Mercredi | J9: FALSE | K9: =IF(J9,I9,"")
C10: Nombre de jours fériés le samedi | D10: =SUM(D27:D39) -> 1 | G10: 2023 | H10: Avril | I10: Jeudi | J10: FALSE | K10: =IF(J10,I10,"")
C11: Nombre de jours fériés le dimanche | D11: =SUM(E27:E37) -> 3 | G11: 2024 | H11: Mai | I11: Vendredi | J11: FALSE | K11: =IF(J11,I11,"")
C12: Nombre de jours ouvrables sur l'année | D12: =NETWORKDAYS(I27,L38,jourferies) -> 253 | G12: 2025 | H12: Juin | I12: Samedi | J12: FALSE | K12: =IF(J12,I12,"")
C13: Nombre de jours ouvrés sur l'année | D13: =NETWORKDAYS(I27,L38) -> 262 | G13: 2026 | H13: Juillet | I13: Dimanche | J13: TRUE | K13: =IF(J13,I13,"") -> Dimanche
G14: 2027 | H14: Août
G15: 2028 | H15: Septembre
G16: 2029 | H16: Octobre
G17: 2030 | H17: Novembre
H18: Décembre
B20: Pâques est un calcul.
B21: Lundi de de Pâques : c'est 1 jour après Pâques
B22: Jeudi de l'Ascencion : c'est 39 jours après Pâques | Z22: Calcul entre 2 dates == > | AA22: Date départ | AB22: Date fin | AC22: Nb Jours
B23: Lundi de la Pentecôte : c'est 50 jours après Pâques | AA23: 44605 | AB23: 44660 | AC23: =AB23-AA23 -> 55
B24: Les jours féries sont calculer avec l'année en A26, et pour une période de 4 Ans. | I24: Toutes ces colonnes sont calculées d'après l'année choisie.
U25: Nb H mois travaillées | Z25: https://vacances-scolaires.education/ | AA25: Vacances soclaires | AB25: Zone A
A26: =C5 -> 2020 | B26: Feries | C26: Jours Feries | D26: Sam Ferie | E26: Dim Ferie | F26: No Semaine | G26: Mois | H26: Num/Mois | I26: Deb/mois | J26: Jours | L26: Fin/mois | M26: Jours | O26: Nb jours | P26: J-ouvrables | Q26: J-ouvrés | R26: Samedi | S26: Dimanche | T26: Fériés | U26: 7 | V26: 7 | AA26: Debut Vac | AB26: Fin Vac | AC26: Jour Reprise
B27: Jour de l'An | C27: =DATE($A$26,1,1) -> 43831 | D27: =IF(WEEKDAY(C27,2)=6,1,0) -> 0 | E27: =IF(WEEKDAY(C27,2)=7,1,0) -> 0 | F27: 1 | G27: Janvier | H27: =MONTH(1&G27) -> 1 | I27: =DATE($A$26,H27,1) -> 43831 | J27: =WEEKDAY(I27,2) -> 3 | K27: =INDEX(JoursSem,J27,1) -> Mercredi | L27: =DATE($A$26,MONTH(DATE($A$26,H27,1))+1,0) -> 43861 | M27: =WEEKDAY(L27,2) -> 5 | N27: =INDEX(JoursSem,M27,1) -> Vendredi | O27: =DATE(YEAR(I27),MONTH(I27)+1,1)-I27 -> 31 | P27: =NETWORKDAYS($I27,$L27,jourferies) -> 22 | Q27: =NETWORKDAYS($I27,$L27) -> 23 | R27: =SUMPRODUCT((WEEKDAY(ROW(INDIRECT("A"&I27&":"&"A"&L27)),2)=6)*1) -> 4 | S27: =SUMPRODUCT((WEEKDAY(ROW(INDIRECT("A"&I27&":"&"A"&L27)),2)=7)*1) -> 4 | T27: =SUMPRODUCT(COUNTIF(jourferies,(ROW(INDIRECT(I27&":"&L27))))) -> 1 | U27: =P27*$U$26 -> 154 | V27: =Q27*$U$26 -> 161 | Z27: ="Noël "&CHAR(10)&TEXT(AA27,"""(""mmm aaaa"")""") -> Noël (déc 2019) | AA27: =DATE(C5-1,12,20) -> 43819 | AB27: =AA27+14 -> 43833 | AC27: =AB27+1 -> 43834 | AD27: ="Année scolaire "&YEAR(AA27)&"-"&YEAR(AA32) -> Année scolaire 2019-2020
B28: Pâques | C28: =DATE($A$26,3,29.56+0.979*MOD(204-11*MOD($A$26,19),30)-WEEKDAY(DATE($A$26,3,28.56+0.979*MOD(204-11*MOD($A$26,19),30)))) -> 43933 | D28: =IF(WEEKDAY(C28,2)=6,1,0) -> 0 | E28: =IF(WEEKDAY(C28,2)=7,1,0) -> 1 | F28: 2 | G28: Février | H28: =MONTH(1&G28) -> 2 | I28: =DATE($A$26,H28,1) -> 43862 | J28: =WEEKDAY(I28,2) -> 6 | K28: =INDEX(JoursSem,J28,1) -> Samedi | L28: =DATE($A$26,MONTH(DATE($A$26,H28,1))+1,0) -> 43890 | M28: =WEEKDAY(L28,2) -> 6 | N28: =INDEX(JoursSem,M28,1) -> Samedi | O28: =DATE(YEAR(I28),MONTH(I28)+1,1)-I28 -> 29 | P28: =NETWORKDAYS($I28,$L28,jourferies) -> 20 | Q28: =NETWORKDAYS($I28,$L28) -> 20 | R28: =SUMPRODUCT((WEEKDAY(ROW(INDIRECT("A"&I28&":"&"A"&L28)),2)=6)*1) -> 5 | S28: =SUMPRODUCT((WEEKDAY(ROW(INDIRECT("A"&I28&":"&"A"&L28)),2)=7)*1) -> 4 | T28: =SUMPRODUCT(COUNTIF(jourferies,(ROW(INDIRECT(I28&":"&L28))))) -> 0 | U28: =P28*$U$26 -> 140 | V28: =Q28*$U$26 -> 140 | Z28: ="Hiver "&CHAR(10)&TEXT(AA28,"""(""mmm aaaa"")""") -> Hiver (févr 2020) | AA28: =AA27+65 -> 43884 | AB28: =AA28+14 -> 43898 | AC28: =AB28+1 -> 43899
B29: Lundi de Pâques | C29: =C28+1 -> 43934 | D29: =IF(WEEKDAY(C29,2)=6,1,0) -> 0 | E29: =IF(WEEKDAY(C29,2)=7,1,0) -> 0 | F29: 3 | G29: Mars | H29: =MONTH(1&G29) -> 3 | I29: =DATE($A$26,H29,1) -> 43891 | J29: =WEEKDAY(I29,2) -> 7 | K29: =INDEX(JoursSem,J29,1) -> Dimanche | L29: =DATE($A$26,MONTH(DATE($A$26,H29,1))+1,0) -> 43921 | M29: =WEEKDAY(L29,2) -> 2 | N29: =INDEX(JoursSem,M29,1) -> Mardi | O29: =DATE(YEAR(I29),MONTH(I29)+1,1)-I29 -> 31 | P29: =NETWORKDAYS($I29,$L29,jourferies) -> 22 | Q29: =NETWORKDAYS($I29,$L29) -> 22 | R29: =SUMPRODUCT((WEEKDAY(ROW(INDIRECT("A"&I29&":"&"A"&L29)),2)=6)*1) -> 4 | S29: =SUMPRODUCT((WEEKDAY(ROW(INDIRECT("A"&I29&":"&"A"&L29)),2)=7)*1) -> 5 | T29: =SUMPRODUCT(COUNTIF(jourferies,(ROW(INDIRECT(I29&":"&L29))))) -> 0 | U29: =P29*$U$26 -> 154 | V29: =Q29*$U$26 -> 154 | Z29: ="Printemps "&CHAR(10)&TEXT(AA29,"""(""mmm aaaa"")""") -> Printemps (avr 2020) | AA29: =AA28+56 -> 43940 | AB29: =AA29+14 -> 43954 | AC29: =AB29+1 -> 43955
B30: Fête du travail | C30: =DATE($A$26,5,1) -> 43952 | D30: =IF(WEEKDAY(C30,2)=6,1,0) -> 0 | E30: =IF(WEEKDAY(C30,2)=7,1,0) -> 0 | F30: 4 | G30: Avril | H30: =MONTH(1&G30) -> 4 | I30: =DATE($A$26,H30,1) -> 43922 | J30: =WEEKDAY(I30,2) -> 3 | K30: =INDEX(JoursSem,J30,1) -> Mercredi | L30: =DATE($A$26,MONTH(DATE($A$26,H30,1))+1,0) -> 43951 | M30: =WEEKDAY(L30,2) -> 4 | N30: =INDEX(JoursSem,M30,1) -> Jeudi | O30: =DATE(YEAR(I30),MONTH(I30)+1,1)-I30 -> 30 | P30: =NETWORKDAYS($I30,$L30,jourferies) -> 21 | Q30: =NETWORKDAYS($I30,$L30) -> 22 | R30: =SUMPRODUCT((WEEKDAY(ROW(INDIRECT("A"&I30&":"&"A"&L30)),2)=6)*1) -> 4 | S30: =SUMPRODUCT((WEEKDAY(ROW(INDIRECT("A"&I30&":"&"A"&L30)),2)=7)*1) -> 4 | T30: =SUMPRODUCT(COUNTIF(jourferies,(ROW(INDIRECT(I30&":"&L30))))) -> 2 | U30: =P30*$U$26 -> 147 | V30: =Q30*$U$26 -> 154 | Z30: ="Ascension "&CHAR(10)&TEXT(AA30,"""(""mmm aaaa"")""") -> Ascension (mai 2020) | AA30: =AA29+32 -> 43972 | AB30: =AA30+3 -> 43975 | AC30: =AB30+1 -> 43976
B31: Victoire 1945 | C31: =DATE($A$26,5,8) -> 43959 | D31: =IF(WEEKDAY(C31,2)=6,1,0) -> 0 | E31: =IF(WEEKDAY(C31,2)=7,1,0) -> 0 | F31: 5 | G31: Mai | H31: =MONTH(1&G31) -> 5 | I31: =DATE($A$26,H31,1) -> 43952 | J31: =WEEKDAY(I31,2) -> 5 | K31: =INDEX(JoursSem,J31,1) -> Vendredi | L31: =DATE($A$26,MONTH(DATE($A$26,H31,1))+1,0) -> 43982 | M31: =WEEKDAY(L31,2) -> 7 | N31: =INDEX(JoursSem,M31,1) -> Dimanche | O31: =DATE(YEAR(I31),MONTH(I31)+1,1)-I31 -> 31 | P31: =NETWORKDAYS($I31,$L31,jourferies) -> 18 | Q31: =NETWORKDAYS($I31,$L31) -> 21 | R31: =SUMPRODUCT((WEEKDAY(ROW(INDIRECT("A"&I31&":"&"A"&L31)),2)=6)*1) -> 5 | S31: =SUMPRODUCT((WEEKDAY(ROW(INDIRECT("A"&I31&":"&"A"&L31)),2)=7)*1) -> 5 | T31: =SUMPRODUCT(COUNTIF(jourferies,(ROW(INDIRECT(I31&":"&L31))))) -> 4 | U31: =P31*$U$26 -> 126 | V31: =Q31*$U$26 -> 147 | Z31: ="Eté "&CHAR(10)&TEXT(AA31,"""(""mmm aaaa"")""") -> Eté (juil 2020) | AA31: =AA30+45 -> 44017 | AB31: =AA31+57 -> 44074 | AC31: =AB31+1 -> 44075
B32: Ascension | C32: =C28+39 -> 43972 | D32: =IF(WEEKDAY(C32,2)=6,1,0) -> 0 | E32: =IF(WEEKDAY(C32,2)=7,1,0) -> 0 | F32: 6 | G32: Juin | H32: =MONTH(1&G32) -> 6 | I32: =DATE($A$26,H32,1) -> 43983 | J32: =WEEKDAY(I32,2) -> 1 | K32: =INDEX(JoursSem,J32,1) -> Lundi | L32: =DATE($A$26,MONTH(DATE($A$26,H32,1))+1,0) -> 44012 | M32: =WEEKDAY(L32,2) -> 2 | N32: =INDEX(JoursSem,M32,1) -> Mardi | O32: =DATE(YEAR(I32),MONTH(I32)+1,1)-I32 -> 30 | P32: =NETWORKDAYS($I32,$L32,jourferies) -> 21 | Q32: =NETWORKDAYS($I32,$L32) -> 22 | R32: =SUMPRODUCT((WEEKDAY(ROW(INDIRECT("A"&I32&":"&"A"&L32)),2)=6)*1) -> 4 | S32: =SUMPRODUCT((WEEKDAY(ROW(INDIRECT("A"&I32&":"&"A"&L32)),2)=7)*1) -> 4 | T32: =SUMPRODUCT(COUNTIF(jourferies,(ROW(INDIRECT(I32&":"&L32))))) -> 1 | U32: =P32*$U$26 -> 147 | V32: =Q32*$U$26 -> 154 | Z32: ="Toussaint "&CHAR(10)&TEXT(AA32,"""(""mmm aaaa"")""") -> Toussaint (oct 2020) | AA32: =AC31+47 -> 44122 | AB32: =AA32+14 -> 44136 | AC32: =AB32+1 -> 44137 | AD32: ="Année scolaire "&YEAR(AC31)&"-"&YEAR(AA37) -> Année scolaire 2020-2021
B33: Pentecôte | C33: =C28+49 -> 43982 | D33: =IF(WEEKDAY(C33,2)=6,1,0) -> 0 | E33: =IF(WEEKDAY(C33,2)=7,1,0) -> 1 | F33: 7 | G33: Juillet | H33: =MONTH(1&G33) -> 7 | I33: =DATE($A$26,H33,1) -> 44013 | J33: =WEEKDAY(I33,2) -> 3 | K33: =INDEX(JoursSem,J33,1) -> Mercredi | L33: =DATE($A$26,MONTH(DATE($A$26,H33,1))+1,0) -> 44043 | M33: =WEEKDAY(L33,2) -> 5 | N33: =INDEX(JoursSem,M33,1) -> Vendredi | O33: =DATE(YEAR(I33),MONTH(I33)+1,1)-I33 -> 31 | P33: =NETWORKDAYS($I33,$L33,jourferies) -> 22 | Q33: =NETWORKDAYS($I33,$L33) -> 23 | R33: =SUMPRODUCT((WEEKDAY(ROW(INDIRECT("A"&I33&":"&"A"&L33)),2)=6)*1) -> 4 | S33: =SUMPRODUCT((WEEKDAY(ROW(INDIRECT("A"&I33&":"&"A"&L33)),2)=7)*1) -> 4 | T33: =SUMPRODUCT(COUNTIF(jourferies,(ROW(INDIRECT(I33&":"&L33))))) -> 1 | U33: =P33*$U$26 -> 154 | V33: =Q33*$U$26 -> 161 | Z33: ="Noël "&CHAR(10)&TEXT(AA33,"""(""mmm aaaa"")""") -> Noël (déc 2020) | AA33: =AA32+63 -> 44185 | AB33: =AA33+14 -> 44199 | AC33: =AB33+1 -> 44200
B34: Lun Pent. | C34: =C33+1 -> 43983 | D34: =IF(WEEKDAY(C34,2)=6,1,0) -> 0 | E34: =IF(WEEKDAY(C34,2)=7,1,0) -> 0 | F34: 8 | G34: Août | H34: =MONTH(1&G34) -> 8 | I34: =DATE($A$26,H34,1) -> 44044 | J34: =WEEKDAY(I34,2) -> 6 | K34: =INDEX(JoursSem,J34,1) -> Samedi | L34: =DATE($A$26,MONTH(DATE($A$26,H34,1))+1,0) -> 44074 | M34: =WEEKDAY(L34,2) -> 1 | N34: =INDEX(JoursSem,M34,1) -> Lundi | O34: =DATE(YEAR(I34),MONTH(I34)+1,1)-I34 -> 31 | P34: =NETWORKDAYS($I34,$L34,jourferies) -> 21 | Q34: =NETWORKDAYS($I34,$L34) -> 21 | R34: =SUMPRODUCT((WEEKDAY(ROW(INDIRECT("A"&I34&":"&"A"&L34)),2)=6)*1) -> 5 | S34: =SUMPRODUCT((WEEKDAY(ROW(INDIRECT("A"&I34&":"&"A"&L34)),2)=7)*1) -> 5 | T34: =SUMPRODUCT(COUNTIF(jourferies,(ROW(INDIRECT(I34&":"&L34))))) -> 1 | U34: =P34*$U$26 -> 147 | V34: =Q34*$U$26 -> 147 | Z34: ="Hiver "&CHAR(10)&TEXT(AA34,"""(""mmm aaaa"")""") -> Hiver (févr 2021) | AA34: =AA33+49 -> 44234 | AB34: =AA34+14 -> 44248 | AC34: =AB34+1 -> 44249
B35: Fête Nationale | C35: =DATE($A$26,7,14) -> 44026 | D35: =IF(WEEKDAY(C35,2)=6,1,0) -> 0 | E35: =IF(WEEKDAY(C35,2)=7,1,0) -> 0 | F35: 9 | G35: Septembre | H35: =MONTH(1&G35) -> 9 | I35: =DATE($A$26,H35,1) -> 44075 | J35: =WEEKDAY(I35,2) -> 2 | K35: =INDEX(JoursSem,J35,1) -> Mardi | L35: =DATE($A$26,MONTH(DATE($A$26,H35,1))+1,0) -> 44104 | M35: =WEEKDAY(L35,2) -> 3 | N35: =INDEX(JoursSem,M35,1) -> Mercredi | O35: =DATE(YEAR(I35),MONTH(I35)+1,1)-I35 -> 30 | P35: =NETWORKDAYS($I35,$L35,jourferies) -> 22 | Q35: =NETWORKDAYS($I35,$L35) -> 22 | R35: =SUMPRODUCT((WEEKDAY(ROW(INDIRECT("A"&I35&":"&"A"&L35)),2)=6)*1) -> 4 | S35: =SUMPRODUCT((WEEKDAY(ROW(INDIRECT("A"&I35&":"&"A"&L35)),2)=7)*1) -> 4 | T35: =SUMPRODUCT(COUNTIF(jourferies,(ROW(INDIRECT(I35&":"&L35))))) -> 0 | U35: =P35*$U$26 -> 154 | V35: =Q35*$U$26 -> 154 | Z35: ="Printemps "&CHAR(10)&TEXT(AA35,"""(""mmm aaaa"")""") -> Printemps (avr 2021) | AA35: =AA34+63 -> 44297 | AB35: =AA35+14 -> 44311 | AC35: =AB35+1 -> 44312
B36: Assomption | C36: =DATE($A$26,8,15) -> 44058 | D36: =IF(WEEKDAY(C36,2)=6,1,0) -> 1 | E36: =IF(WEEKDAY(C36,2)=7,1,0) -> 0 | F36: 10 | G36: Octobre | H36: =MONTH(1&G36) -> 10 | I36: =DATE($A$26,H36,1) -> 44105 | J36: =WEEKDAY(I36,2) -> 4 | K36: =INDEX(JoursSem,J36,1) -> Jeudi | L36: =DATE($A$26,MONTH(DATE($A$26,H36,1))+1,0) -> 44135 | M36: =WEEKDAY(L36,2) -> 6 | N36: =INDEX(JoursSem,M36,1) -> Samedi | O36: =DATE(YEAR(I36),MONTH(I36)+1,1)-I36 -> 31 | P36: =NETWORKDAYS($I36,$L36,jourferies) -> 22 | Q36: =NETWORKDAYS($I36,$L36) -> 22 | R36: =SUMPRODUCT((WEEKDAY(ROW(INDIRECT("A"&I36&":"&"A"&L36)),2)=6)*1) -> 5 | S36: =SUMPRODUCT((WEEKDAY(ROW(INDIRECT("A"&I36&":"&"A"&L36)),2)=7)*1) -> 4 | T36: =SUMPRODUCT(COUNTIF(jourferies,(ROW(INDIRECT(I36&":"&L36))))) -> 0 | U36: =P36*$U$26 -> 154 | V36: =Q36*$U$26 -> 154 | Z36: ="Ascension "&CHAR(10)&TEXT(AA36,"""(""mmm aaaa"")""") -> Ascension (mai 2021) | AA36: =AA35+32 -> 44329 | AB36: =AA36+3 -> 44332 | AC36: =AB36+1 -> 44333
B37: Toussaint | C37: =DATE($A$26,11,1) -> 44136 | D37: =IF(WEEKDAY(C37,2)=6,1,0) -> 0 | E37: =IF(WEEKDAY(C37,2)=7,1,0) -> 1 | F37: 11 | G37: Novembre | H37: =MONTH(1&G37) -> 11 | I37: =DATE($A$26,H37,1) -> 44136 | J37: =WEEKDAY(I37,2) -> 7 | K37: =INDEX(JoursSem,J37,1) -> Dimanche | L37: =DATE($A$26,MONTH(DATE($A$26,H37,1))+1,0) -> 44165 | M37: =WEEKDAY(L37,2) -> 1 | N37: =INDEX(JoursSem,M37,1) -> Lundi | O37: =DATE(YEAR(I37),MONTH(I37)+1,1)-I37 -> 30 | P37: =NETWORKDAYS($I37,$L37,jourferies) -> 20 | Q37: =NETWORKDAYS($I37,$L37) -> 21 | R37: =SUMPRODUCT((WEEKDAY(ROW(INDIRECT("A"&I37&":"&"A"&L37)),2)=6)*1) -> 4 | S37: =SUMPRODUCT((WEEKDAY(ROW(INDIRECT("A"&I37&":"&"A"&L37)),2)=7)*1) -> 5 | T37: =SUMPRODUCT(COUNTIF(jourferies,(ROW(INDIRECT(I37&":"&L37))))) -> 2 | U37: =P37*$U$26 -> 140 | V37: =Q37*$U$26 -> 147 | Z37: ="Eté "&CHAR(10)&TEXT(AA37,"""(""mmm aaaa"")""") -> Eté (juil 2021) | AA37: =AA36+54 -> 44383 | AB37: =AA37+56 -> 44439 | AC37: =AB37+1 -> 44440
B38: Victoire 1918 | C38: =DATE($A$26,11,11) -> 44146 | D38: =IF(WEEKDAY(C38,2)=6,1,0) -> 0 | E38: =IF(WEEKDAY(C38,2)=7,1,0) -> 0 | F38: 12 | G38: Décembre | H38: =MONTH(1&G38) -> 12 | I38: =DATE($A$26,H38,1) -> 44166 | J38: =WEEKDAY(I38,2) -> 2 | K38: =INDEX(JoursSem,J38,1) -> Mardi | L38: =DATE($A$26,MONTH(DATE($A$26,H38,1))+1,0) -> 44196 | M38: =WEEKDAY(L38,2) -> 4 | N38: =INDEX(JoursSem,M38,1) -> Jeudi | O38: =DATE(YEAR(I38),MONTH(I38)+1,1)-I38 -> 31 | P38: =NETWORKDAYS($I38,$L38,jourferies) -> 22 | Q38: =NETWORKDAYS($I38,$L38) -> 23 | R38: =SUMPRODUCT((WEEKDAY(ROW(INDIRECT("A"&I38&":"&"A"&L38)),2)=6)*1) -> 4 | S38: =SUMPRODUCT((WEEKDAY(ROW(INDIRECT("A"&I38&":"&"A"&L38)),2)=7)*1) -> 4 | T38: =SUMPRODUCT(COUNTIF(jourferies,(ROW(INDIRECT(I38&":"&L38))))) -> 1 | U38: =P38*$U$26 -> 154 | V38: =Q38*$U$26 -> 161 | Z38: ="Toussaint "&CHAR(10)&TEXT(AA38,"""(""mmm aaaa"")""") -> Toussaint (oct 2021) | AA38: =AC37+46 -> 44486 | AB38: =AA38+15 -> 44501 | AC38: =AB38+1 -> 44502 | AD38: ="Année scolaire "&YEAR(AC37)&"-"&YEAR(AA43) -> Année scolaire 2021-2022
B39: Noël | C39: =DATE($A$26,12,25) -> 44190 | D39: =IF(WEEKDAY(C39,2)=6,1,0) -> 0 | E39: =IF(WEEKDAY(C39,2)=7,1,0) -> 0 | F39: 13 | O39: =SUM(O27:O38) -> 366 | P39: =SUM(P27:P38) -> 253 | Q39: =SUM(Q27:Q38) -> 262 | R39: =SUM(R27:R38) -> 52 | S39: =SUM(S27:S38) -> 52 | T39: =SUM(T27:T38) -> 13 | Z39: ="Noël "&CHAR(10)&TEXT(AA39,"""(""mmm aaaa"")""") -> Noël (déc 2021) | AA39: =AA38+63 -> 44549 | AB39: =AA39+14 -> 44563 | AC39: =AB39+1 -> 44564
B40: Jour de l'An | C40: =DATE($A$26+1,1,1) -> 44197 | D40: =IF(WEEKDAY(C40,2)=6,1,0) -> 0 | E40: =IF(WEEKDAY(C40,2)=7,1,0) -> 0 | F40: 14 | Z40: ="Hiver "&CHAR(10)&TEXT(AA40,"""(""mmm aaaa"")""") -> Hiver (févr 2022) | AA40: =AA39+56 -> 44605 | AB40: =AA40+14 -> 44619 | AC40: =AB40+1 -> 44620
B41: Pâques | C41: =DATE($A$26+1,3,29.56+0.979*MOD(204-11*MOD($A$26+1,19),30)-WEEKDAY(DATE($A$26+1,3,28.56+0.979*MOD(204-11*MOD($A$26+1,19),30)))) -> 44290 | D41: =IF(WEEKDAY(C41,2)=6,1,0) -> 0 | E41: =IF(WEEKDAY(C41,2)=7,1,0) -> 1 | F41: 15 | Z41: ="Printemps "&CHAR(10)&TEXT(AA41,"""(""mmm aaaa"")""") -> Printemps (avr 2022) | AA41: =AA40+56 -> 44661 | AB41: =AA41+14 -> 44675 | AC41: =AB41+1 -> 44676
B42: Lundi de Pâques | C42: =C41+1 -> 44291 | D42: =IF(WEEKDAY(C42,2)=6,1,0) -> 0 | E42: =IF(WEEKDAY(C42,2)=7,1,0) -> 0 | F42: 16 | H42: Tous les évènements | Z42: ="Ascension "&CHAR(10)&TEXT(AA42,"""(""mmm aaaa"")""") -> Ascension (mai 2022) | AA42: =AA41+46 -> 44707 | AB42: =AA42+3 -> 44710 | AC42: =AB42+1 -> 44711
B43: Fête du travail | C43: =DATE($A$26+1,5,1) -> 44317 | D43: =IF(WEEKDAY(C43,2)=6,1,0) -> 1 | E43: =IF(WEEKDAY(C43,2)=7,1,0) -> 0 | F43: 17 | G43: =C5 -> 2020 | Z43: ="Eté "&CHAR(10)&TEXT(AA43,"""(""mmm aaaa"")""") -> Eté (juil 2022) | AA43: =AA42+38 -> 44745
...

Sheet Lune
A1: Date | B1: lunes | C1: =Parametre!C5 -> 2020
A2: 43825
A3: 43833 | B3: 
A4: 43840 | B4: 
A5: 43847 | B5: 
A6: 43854 | B6: 
A7: 43862 | B7: 
A8: 43870 | B8: 
A9: 43877 | B9: 
A10: 43884 | B10: 
A11: 43892 | B11: 
A12: 43899 | B12: 
A13: 43906 | B13: 
A14: 43914 | B14: 
... A55: 44216 | B55: 

Sheet Saison
B1: Saisons
B2: Année | C2: Équinoxe de mars : Printemps | D2: Solstice de juin : Eté | E2: Équinoxe de septembre : Automne | F2: Solstice de décembre : Hiver
B3: 2020 | C3: 43910.201 | D3: 44002.988 | E3: 44096.646 | F3: 44186.46
B4: 2021 | C4: 44275.442 | D4: 44368.231 | E4: 44461.89 | F4: 44551.708
B5: 2022 | C5: 44640.69 | D5: 44733.467 | E5: 44827.127 | F5: 44916.95
B6: 2023 | C6: 45005.933 | D6: 45098.706 | E6: 45192.367 | F6: 45282.185
B7: 2024 | C7: 45371.171 | D7: 45463.951 | E7: 45557.613 | F7: 45647.431
B8: 2025 | C8: 45736.417 | D8: 45829.196 | E8: 45922.847 | F8: 46012.669

Sheet Saints
B1: Prénom | C1: Dates | D1: Année ==> | E1: =Parametre!C5 -> 2020 | G1: Calculs Jours | I1: Dates | J1: Tous les Saints
B2: Maria | C2: =DATEVALUE(G2&$E$1) -> 43831 | D2: Maria | G2: 01/01/ | I2: 43831 | J2: Maria
B3: Basile | C3: =DATEVALUE(G3&$E$1) -> 43832 | D3: Basile | G3: 02/01/ | I3: 43832 | J3: Basile
B4: Geneviève | C4: =DATEVALUE(G4&$E$1) -> 43833 | D4: Geneviève | G4: 03/01/ | I4: 43832 | J4: Vassili
B5: Odilon | C5: =DATEVALUE(G5&$E$1) -> 43834 | D5: Odilon | G5: 04/01/ | I5: 43833 | J5: Geneviève
B6: Edouard | C6: =DATEVALUE(G6&$E$1) -> 43835 | D6: Edouard | G6: 05/01/ | I6: 43833 | J6: Ginette
B7: Mélaine | C7: =DATEVALUE(G7&$E$1) -> 43836 | D7: Mélaine | G7: 06/01/ | I7: 43834 | J7: Eddie
B8: Raymond | C8: =DATEVALUE(G8&$E$1) -> 43837 | D8: Raymond | G8: 07/01/ | I8: 43834 | J8: Eddy
B9: Lucien | C9: =DATEVALUE(G9&$E$1) -> 43838 | D9: Lucien | G9: 08/01/ | I9: 43834 | J9: Odilon
B10: Alix | C10: =DATEVALUE(G10&$E$1) -> 43839 | D10: Alix | G10: 09/01/ | I10: 43835 | J10: Amélien
B11: Guillaume | C11: =DATEVALUE(G11&$E$1) -> 43840 | D11: Guillaume | G11: 10/01/ | I11: 43835 | J11: Édouard
B12: Paulin | C12: =DATEVALUE(G12&$E$1) -> 43841 | D12: Paulin | G12: 11/01/ | I12: 43835 | J12: Édouardine
B13: Tatiana | C13: =DATEVALUE(G13&$E$1) -> 43842 | D13: Tatiana | G13: 12/01/ | I13: 43835 | J13: Eduardo
... B371: Sylvestre | C371: =DATEVALUE(G371&$E$1) -> 44196 | D371: Sylvestre | G371: 31/12/ | I371: 43938 | J371: Anicet
I372: 43939 | J372: Greta
I373: 43939 | J373: Parfait
I374: 43940 | J374: Emma
I375: 43940 | J375: Werner
I376: 43941 | J376: Giraud
I377: 43941 | J377: Hildegonde
I378: 43941 | J378: Odette
I379: 43942 | J379: Anselme
I380: 43942 | J380: Selma
I381: 43943 | J381: Alexandra
I382: 43943 | J382: Alexandre
I383: 43944 | J383: George
... I1590: 44196 | J1590: Sylvestre

Sheet CalendrierAn
D2: =MONTH(1&H4) -> 1
G3: An | H3: =Parametre!C5 -> 2020 | O3: ="Jours Fériés, Lunes, Saints, Vacances & Anniversaires de "&TEXT(DATE($H$3,$B$4,1),"jj mmmm")&" au "&TEXT(DATE($H$3,$B$4+6,1)-1,"jj mmmm aaaa") -> Jours Fériés, Lunes, Saints, Vacances & Anniversaires de 01 janvier au 30 juin 2020 | AZ3: ="Jours Fériés, Lunes, Saints, Vacances & Anniversaires de "&TEXT(DATE($H$3,$B$4+6,1),"jj mmmm")&" au "&TEXT(DATE($H$3,$B$4+12,1)-1,"jj mmmm aaaa") -> Jours Fériés, Lunes, Saints, Vacances & Anniversaires de 01 juillet au 31 décembre 2020
B4: =MONTH(1&H4) -> 1 | G4: Mois | H4: Janvier
P5: Date de Pâques | Q5: =DATE(H3,3,29.56+0.979*MOD(204-11*MOD(H3,19),30)-WEEKDAY(DATE(H3,3,28.56+0.979*MOD(204-11*MOD(H3,19),30)))) -> 43933
C7: =PROPER(TEXT(C8,"mmmm")) -> Janvier | G7: =YEAR(C8) -> 2020 | J7: =PROPER(TEXT(J8,"mmmm")) -> Février | N7: =YEAR(J8) -> 2020 | Q7: =PROPER(TEXT(Q8,"mmmm")) -> Mars | U7: =YEAR(Q8) -> 2020 | X7: =PROPER(TEXT(X8,"mmmm")) -> Avril | AB7: =YEAR(X8) -> 2020 | AE7: =PROPER(TEXT(AE8,"mmmm")) -> Mai | AI7: =YEAR(AE8) -> 2020 | AL7: =PROPER(TEXT(AL8,"mmmm")) -> Juin | AP7: =YEAR(AL8) -> 2020 | AS7: =PROPER(TEXT(AS8,"mmmm")) -> Juillet | AW7: =YEAR(AS8) -> 2020 | AZ7: =PROPER(TEXT(AZ8,"mmmm")) -> Août | BD7: =YEAR(AZ8) -> 2020 | BG7: =PROPER(TEXT(BG8,"mmmm")) -> Septembre | BK7: =YEAR(BG8) -> 2020 | BN7: =PROPER(TEXT(BN8,"mmmm")) -> Octobre | BQ7: 2020 | BR7: =YEAR(BN8) -> 2020 | BU7: =PROPER(TEXT(BU8,"mmmm")) -> Novembre | BY7: =YEAR(BU8) -> 2020 | CB7: =PROPER(TEXT(CB8,"mmmm")) -> Décembre | CF7: =YEAR(CB8) -> 2020
B8: 1 | C8: =DATE($H$3,D2,1) -> 43831 | E8: =IF(WEEKDAY(C8)=4,INT(MOD(INT((C8-2)/7)+0.6,52+5/28))+1,"") -> 1 | F8: =IF(ISERROR(VLOOKUP(C8,Lune!$A$2:$B$55,2,FALSE)),"",VLOOKUP(C8,Lune!$A$2:$B$55,2,FALSE)) | G8: =IFERROR(IF(COUNTIF(Saints!$C$2:$C$371,C8)=0,"",INDEX(Saints!$D$2:$D$371,MATCH(C8,Saints!$C$2:$C$371,0))),"") -> Maria | H8: =IF(COUNTIF(Parametre!$C$27:$C$39,C8)=0,"",INDEX(Parametre!$B$27:$B$39,MATCH(C8,Parametre!$C$27:$C$39,0)))&""&IF(COUNTIF(Parametre!$I$45:$I$94,C8)=0,"",INDEX(Parametre!$K$45:$K$94,MATCH(C8,Parametre!$I$45:$I$94,0))) -> Jour de l'An | J8: =DATE(YEAR(C8),MONTH(C8)+1,1) -> 43862 | L8: =IF(WEEKDAY(C8)=4,INT(MOD(INT((J8-2)/7)+0.6,52+5/28))+1,"") -> 5 | M8: =IF(ISERROR(VLOOKUP(J8,Lune!$A$2:$B$55,2,FALSE)),"",VLOOKUP(J8,Lune!$A$2:$B$55,2,FALSE)) ->  | N8: =IFERROR(IF(COUNTIF(Saints!$C$2:$C$371,J8)=0,"",INDEX(Saints!$D$2:$D$371,MATCH(J8,Saints!$C$2:$C$371,0))),"") -> Ella | O8: =IF(COUNTIF(Parametre!$C$27:$C$39,J8)=0,"",INDEX(Parametre!$B$27:$B$39,MATCH(J8,Parametre!$C$27:$C$39,0)))&""&IF(COUNTIF(Parametre!$I$45:$I$94,J8)=0,"",INDEX(Parametre!$K$45:$K$94,MATCH(J8,Parametre!$I$45:$I$94,0))) | Q8: =DATE(YEAR(J8),MONTH(J8)+1,1) -> 43891 | S8: =IF(WEEKDAY(C8)=4,INT(MOD(INT((Q8-2)/7)+0.6,52+5/28))+1,"") -> 9 | T8: =IF(ISERROR(VLOOKUP(Q8,Lune!$A$2:$B$55,2,FALSE)),"",VLOOKUP(Q8,Lune!$A$2:$B$55,2,FALSE)) | U8: =IFERROR(IF(COUNTIF(Saints!$C$2:$C$371,Q8)=0,"",INDEX(Saints!$D$2:$D$371,MATCH(Q8,Saints!$C$2:$C$371,0))),"") -> Aubin | V8: =IF(COUNTIF(Parametre!$C$27:$C$39,Q8)=0,"",INDEX(Parametre!$B$27:$B$39,MATCH(Q8,Parametre!$C$27:$C$39,0)))&""&IF(COUNTIF(Parametre!$I$45:$I$94,Q8)=0,"",INDEX(Parametre!$K$45:$K$94,MATCH(Q8,Parametre!$I$45:$I$94,0))) -> F. Grds-Mères | X8: =DATE(YEAR(Q8),MONTH(Q8)+1,1) -> 43922 | Z8: =IF(WEEKDAY(C8)=4,INT(MOD(INT((X8-2)/7)+0.6,52+5/28))+1,"") -> 14 | AA8: =IF(ISERROR(VLOOKUP(X8,Lune!$A$2:$B$55,2,FALSE)),"",VLOOKUP(X8,Lune!$A$2:$B$55,2,FALSE)) ->  | AB8: =IFERROR(IF(COUNTIF(Saints!$C$2:$C$371,X8)=0,"",INDEX(Saints!$D$2:$D$371,MATCH(X8,Saints!$C$2:$C$371,0))),"") -> Hugues | AC8: =IF(COUNTIF(Parametre!$C$27:$C$39,X8)=0,"",INDEX(Parametre!$B$27:$B$39,MATCH(X8,Parametre!$C$27:$C$39,0)))&""&IF(COUNTIF(Parametre!$I$45:$I$94,X8)=0,"",INDEX(Parametre!$K$45:$K$94,MATCH(X8,Parametre!$I$45:$I$94,0))) -> 16 an Kelyan | AE8: =DATE(YEAR(X8),MONTH(X8)+1,1) -> 43952 | AG8: =IF(WEEKDAY(C8)=4,INT(MOD(INT((AE8-2)/7)+0.6,52+5/28))+1,"") -> 18 | AH8: =IF(ISERROR(VLOOKUP(AE8,Lune!$A$2:$B$55,2,FALSE)),"",VLOOKUP(AE8,Lune!$A$2:$B$55,2,FALSE)) | AI8: =IFERROR(IF(COUNTIF(Saints!$C$2:$C$371,AE8)=0,"",INDEX(Saints!$D$2:$D$371,MATCH(AE8,Saints!$C$2:$C$371,0))),"") -> Muguet | AJ8: =IF(COUNTIF(Parametre!$C$27:$C$39,AE8)=0,"",INDEX(Parametre!$B$27:$B$39,MATCH(AE8,Parametre!$C$27:$C$39,0)))&""&IF(COUNTIF(Parametre!$I$45:$I$94,AE8)=0,"",INDEX(Parametre!$K$45:$K$94,MATCH(AE8,Parametre!$I$45:$I$94,0))) -> Fête du travail | AL8: =DATE(YEAR(AE8),MONTH(AE8)+1,1) -> 43983 | AN8: =INT(MOD(INT((AL8-2)/7)+3/5,52+5/28))+1 -> 23 | AO8: =IF(ISERROR(VLOOKUP(AL8,Lune!$A$2:$B$55,2,FALSE)),"",VLOOKUP(AL8,Lune!$A$2:$B$55,2,FALSE)) | AP8: =IFERROR(IF(COUNTIF(Saints!$C$2:$C$371,AL8)=0,"",INDEX(Saints!$D$2:$D$371,MATCH(AL8,Saints!$C$2:$C$371,0))),"") -> Justin | AQ8: =IF(COUNTIF(Parametre!$C$27:$C$39,AL8)=0,"",INDEX(Parametre!$B$27:$B$39,MATCH(AL8,Parametre!$C$27:$C$39,0)))&"-"&IF(COUNTIF(Parametre!$I$45:$I$94,AL8)=0,"",INDEX(Parametre!$K$45:$K$94,MATCH(AL8,Parametre!$I$45:$I$94,0))) -> Lun Pent.-61 an M. Claire | AS8: =DATE(YEAR(AL8),MONTH(AL8)+1,1) -> 44013 | AU8: =INT(MOD(INT((AS8-2)/7)+3/5,52+5/28))+1 -> 27 | AV8: =IF(ISERROR(VLOOKUP(AS8,Lune!$A$2:$B$55,2,FALSE)),"",VLOOKUP(AS8,Lune!$A$2:$B$55,2,FALSE)) | AW8: =IFERROR(IF(COUNTIF(Saints!$C$2:$C$371,AS8)=0,"",INDEX(Saints!$D$2:$D$371,MATCH(AS8,Saints!$C$2:$C$371,0))),"") -> Thierry | AX8: =IF(COUNTIF(Parametre!$C$27:$C$39,AS8)=0,"",INDEX(Parametre!$B$27:$B$39,MATCH(AS8,Parametre!$C$27:$C$39,0)))&""&IF(COUNTIF(Parametre!$I$45:$I$94,AS8)=0,"",INDEX(Parametre!$K$45:$K$94,MATCH(AS8,Parametre!$I$45:$I$94,0))) | AZ8: =DATE(YEAR(AS8),MONTH(AS8)+1,1) -> 44044 | BB8: =INT(MOD(INT((AZ8-2)/7)+3/5,52+5/28))+1 -> 31 | BC8: =IF(ISERROR(VLOOKUP(AZ8,Lune!$A$2:$B$55,2,FALSE)),"",VLOOKUP(AZ8,Lune!$A$2:$B$55,2,FALSE)) | BD8: =IFERROR(IF(COUNTIF(Saints!$C$2:$C$371,AZ8)=0,"",INDEX(Saints!$D$2:$D$371,MATCH(AZ8,Saints!$C$2:$C$371,0))),"") -> Alphonse | BE8: =IF(COUNTIF(Parametre!$C$27:$C$39,AZ8)=0,"",INDEX(Parametre!$B$27:$B$39,MATCH(AZ8,Parametre!$C$27:$C$39,0)))&""&IF(COUNTIF(Parametre!$I$45:$I$94,AZ8)=0,"",INDEX(Parametre!$K$45:$K$94,MATCH(AZ8,Parametre!$I$45:$I$94,0))) | BG8: =DATE(YEAR(AZ8),MONTH(AZ8)+1,1) -> 44075 | BI8: =INT(MOD(INT((BG8-2)/7)+3/5,52+5/28))+1 -> 36 | BJ8: =IF(ISERROR(VLOOKUP(BG8,Lune!$A$2:$B$55,2,FALSE)),"",VLOOKUP(BG8,Lune!$A$2:$B$55,2,FALSE)) | BK8: =IFERROR(IF(COUNTIF(Saints!$C$2:$C$371,BG8)=0,"",INDEX(Saints!$D$2:$D$371,MATCH(BG8,Saints!$C$2:$C$371,0))),"") -> Gilles | BL8: =IF(COUNTIF(Parametre!$C$27:$C$39,BG8)=0,"",INDEX(Parametre!$B$27:$B$39,MATCH(BG8,Parametre!$C$27:$C$39,0)))&""&IF(COUNTIF(Parametre!$I$45:$I$94,BG8)=0,"",INDEX(Parametre!$K$45:$K$94,MATCH(BG8,Parametre!$I$45:$I$94,0))) -> 40 an Gwénaëlle | BN8: =DATE(YEAR(BG8),MONTH(BG8)+1,1) -> 44105 | BP8: =INT(MOD(INT((BN8-2)/7)+3/5,52+5/28))+1 -> 40 | BQ8: =IF(ISERROR(VLOOKUP(BN8,Lune!$A$2:$B$55,2,FALSE)),"",VLOOKUP(BN8,Lune!$A$2:$B$55,2,FALSE)) ->  | BR8: =IFERROR(IF(COUNTIF(Saints!$C$2:$C$371,BN8)=0,"",INDEX(Saints!$D$2:$D$371,MATCH(BN8,Saints!$C$2:$C$371,0))),"") -> Thérèse | BS8: =IF(COUNTIF(Parametre!$C$27:$C$39,BN8)=0,"",INDEX(Parametre!$B$27:$B$39,MATCH(BN8,Parametre!$C$27:$C$39,0)))&""&IF(COUNTIF(Parametre!$I$45:$I$94,BN8)=0,"",INDEX(Parametre!$K$45:$K$94,MATCH(BN8,Parametre!$I$45:$I$94,0))) | BU8: =DATE(YEAR(BN8),MONTH(BN8)+1,1) -> 44136 | BW8: =INT(MOD(INT((BU8-2)/7)+3/5,52+5/28))+1 -> 44 | BX8: =IF(ISERROR(VLOOKUP(BU8,Lune!$A$2:$B$55,2,FALSE)),"",VLOOKUP(BU8,Lune!$A$2:$B$55,2,FALSE)) | BY8: =IFERROR(IF(COUNTIF(Saints!$C$2:$C$371,BU8)=0,"",INDEX(Saints!$D$2:$D$371,MATCH(BU8,Saints!$C$2:$C$371,0))),"") -> Mathurin | BZ8: =IF(COUNTIF(Parametre!$C$27:$C$39,BU8)=0,"",INDEX(Parametre!$B$27:$B$39,MATCH(BU8,Parametre!$C$27:$C$39,0)))&""&IF(COUNTIF(Parametre!$I$45:$I$94,BU8)=0,"",INDEX(Parametre!$K$45:$K$94,MATCH(BU8,Parametre!$I$45:$I$94,0))) -> Toussaint | CB8: =DATE(YEAR(BU8),MONTH(BU8)+1,1) -> 44166 | CD8: =INT(MOD(INT((CB8-2)/7)+3/5,52+5/28))+1 -> 49 | CE8: =IF(ISERROR(VLOOKUP(CB8,Lune!$A$2:$B$55,2,FALSE)),"",VLOOKUP(CB8,Lune!$A$2:$B$55,2,FALSE)) | CF8: =IFERROR(IF(COUNTIF(Saints!$C$2:$C$371,CB8)=0,"",INDEX(Saints!$D$2:$D$371,MATCH(CB8,Saints!$C$2:$C$371,0))),"") -> Florence | CG8: =IF(COUNTIF(Parametre!$C$27:$C$39,CB8)=0,"",INDEX(Parametre!$B$27:$B$39,MATCH(CB8,Parametre!$C$27:$C$39,0)))&" "&IF(COUNTIF(Parametre!$I$45:$I$94,CB8)=0,"",INDEX(Parametre!$K$45:$K$94,MATCH(CB8,Parametre!$I$45:$I$94,0)))
B9: 2 | C9: =C8+1 -> 43832 | E9: =IF(WEEKDAY(C9)=2,INT(MOD(INT((C9-2)/7)+0.6,52+5/28))+1,"") | F9: =IF(ISERROR(VLOOKUP(C9,Lune!$A$2:$B$55,2,FALSE)),"",VLOOKUP(C9,Lune!$A$2:$B$55,2,FALSE)) | G9: =IFERROR(IF(COUNTIF(Saints!$C$2:$C$371,C9)=0,"",INDEX(Saints!$D$2:$D$371,MATCH(C9,Saints!$C$2:$C$371,0))),"") -> Basile | H9: =IF(COUNTIF(Parametre!$C$27:$C$39,C9)=0,"",INDEX(Parametre!$B$27:$B$39,MATCH(C9,Parametre!$C$27:$C$39,0)))&""&IF(COUNTIF(Parametre!$I$45:$I$94,C9)=0,"",INDEX(Parametre!$K$45:$K$94,MATCH(C9,Parametre!$I$45:$I$94,0))) | J9: =J8+1 -> 43863 | L9: =IF(WEEKDAY(J9)=2,INT(MOD(INT((J9-2)/7)+0.6,52+5/28))+1,"") | M9: =IF(ISERROR(VLOOKUP(J9,Lune!$A$2:$B$55,2,FALSE)),"",VLOOKUP(J9,Lune!$A$2:$B$55,2,FALSE)) | N9: =IFERROR(IF(COUNTIF(Saints!$C$2:$C$371,J9)=0,"",INDEX(Saints!$D$2:$D$371,MATCH(J9,Saints!$C$2:$C$371,0))),"") -> Théophane | O9: =IF(COUNTIF(Parametre!$C$27:$C$39,J9)=0,"",INDEX(Parametre!$B$27:$B$39,MATCH(J9,Parametre!$C$27:$C$39,0)))&""&IF(COUNTIF(Parametre!$I$45:$I$94,J9)=0,"",INDEX(Parametre!$K$45:$K$94,MATCH(J9,Parametre!$I$45:$I$94,0))) -> Chandeleur | Q9: =Q8+1 -> 43892 | S9: =IFERROR(IF(WEEKDAY(Q9)=2,INT(MOD(INT((Q9-2)/7)+0.6,52+5/28))+1,""),"") -> 10 | T9: =IF(ISERROR(VLOOKUP(Q9,Lune!$A$2:$B$55,2,FALSE)),"",VLOOKUP(Q9,Lune!$A$2:$B$55,2,FALSE)) ->  | U9: =IFERROR(IF(COUNTIF(Saints!$C$2:$C$371,Q9)=0,"",INDEX(Saints!$D$2:$D$371,MATCH(Q9,Saints!$C$2:$C$371,0))),"") -> Joévin | V9: =IF(COUNTIF(Parametre!$C$27:$C$39,Q9)=0,"",INDEX(Parametre!$B$27:$B$39,MATCH(Q9,Parametre!$C$27:$C$39,0)))&""&IF(COUNTIF(Parametre!$I$45:$I$94,Q9)=0,"",INDEX(Parametre!$K$45:$K$94,MATCH(Q9,Parametre!$I$45:$I$94,0))) | X9: =X8+1 -> 43923 | Z9: =IF(WEEKDAY(X9)=2,INT(MOD(INT((X9-2)/7)+0.6,52+5/28))+1,"") | AA9: =IF(ISERROR(VLOOKUP(X9,Lune!$A$2:$B$55,2,FALSE)),"",VLOOKUP(X9,Lune!$A$2:$B$55,2,FALSE)) | AB9: =IFERROR(IF(COUNTIF(Saints!$C$2:$C$371,X9)=0,"",INDEX(Saints!$D$2:$D$371,MATCH(X9,Saints!$C$2:$C$371,0))),"") -> Sandrine | AC9: =IF(COUNTIF(Parametre!$C$27:$C$39,X9)=0,"",INDEX(Parametre!$B$27:$B$39,MATCH(X9,Parametre!$C$27:$C$39,0)))&""&IF(COUNTIF(Parametre!$I$45:$I$94,X9)=0,"",INDEX(Parametre!$K$45:$K$94,MATCH(X9,Parametre!$I$45:$I$94,0))) | AE9: =AE8+1 -> 43953 | AG9: =IFERROR(IF(WEEKDAY(AE9)=2,INT(MOD(INT((AE9-2)/7)+0.6,52+5/28))+1,""),"") | AH9: =IF(ISERROR(VLOOKUP(AE9,[1]Lune!$A$2:$B$55,2,FALSE)),"",VLOOKUP(AE9,[1]Lune!$A$2:$B$55,2,FALSE)) | AI9: =IFERROR(IF(COUNTIF(Saints!$C$2:$C$371,AE9)=0,"",INDEX(Saints!$D$2:$D$371,MATCH(AE9,Saints!$C$2:$C$371,0))),"") -> Boris | AJ9: =IF(COUNTIF(Parametre!$C$27:$C$39,AE9)=0,"",INDEX(Parametre!$B$27:$B$39,MATCH(AE9,Parametre!$C$27:$C$39,0)))&""&IF(COUNTIF(Parametre!$I$45:$I$94,AE9)=0,"",INDEX(Parametre!$K$45:$K$94,MATCH(AE9,Parametre!$I$45:$I$94,0))) | AL9: =AL8+1 -> 43984 | AN9: =IFERROR(IF(WEEKDAY(AL9)=2,INT(MOD(INT((AL9-2)/7)+0.6,52+5/28))+1,""),"") | AO9: =IF(ISERROR(VLOOKUP(AL9,Lune!$A$2:$B$55,2,FALSE)),"",VLOOKUP(AL9,Lune!$A$2:$B$55,2,FALSE)) | AP9: =IFERROR(IF(COUNTIF(Saints!$C$2:$C$371,AL9)=0,"",INDEX(Saints!$D$2:$D$371,MATCH(AL9,Saints!$C$2:$C$371,0))),"") -> Blandine | AQ9: =IF(COUNTIF(Parametre!$C$27:$C$39,AL9)=0,"",INDEX(Parametre!$B$27:$B$39,MATCH(AL9,Parametre!$C$27:$C$39,0)))&""&IF(COUNTIF(Parametre!$I$45:$I$94,AL9)=0,"",INDEX(Parametre!$K$45:$K$94,MATCH(AL9,Parametre!$I$45:$I$94,0))) | AS9: =AS8+1 -> 44014 | AU9: =IFERROR(IF(WEEKDAY(AS9)=2,INT(MOD(INT((AS9-2)/7)+0.6,52+5/28))+1,""),"") | AV9: =IF(ISERROR(VLOOKUP(AS9,Lune!$A$2:$B$55,2,FALSE)),"",VLOOKUP(AS9,Lune!$A$2:$B$55,2,FALSE)) | AW9: =IFERROR(IF(COUNTIF(Saints!$C$2:$C$371,AS9)=0,"",INDEX(Saints!$D$2:$D$371,MATCH(AS9,Saints!$C$2:$C$371,0))),"") -> Martinien | AX9: =IF(COUNTIF(Parametre!$C$27:$C$39,AS9)=0,"",INDEX(Parametre!$B$27:$B$39,MATCH(AS9,Parametre!$C$27:$C$39,0)))&""&IF(COUNTIF(Parametre!$I$45:$I$94,AS9)=0,"",INDEX(Parametre!$K$45:$K$94,MATCH(AS9,Parametre!$I$45:$I$94,0))) | AZ9: =AZ8+1 -> 44045 | BB9: =IFERROR(IF(WEEKDAY(AZ9)=2,INT(MOD(INT((AZ9-2)/7)+0.6,52+5/28))+1,""),"") | BC9: =IF(ISERROR(VLOOKUP(AZ9,Lune!$A$2:$B$55,2,FALSE)),"",VLOOKUP(AZ9,Lune!$A$2:$B$55,2,FALSE)) | BD9: =IFERROR(IF(COUNTIF(Saints!$C$2:$C$371,AZ9)=0,"",INDEX(Saints!$D$2:$D$371,MATCH(AZ9,Saints!$C$2:$C$371,0))),"") -> Julien | BE9: =IF(COUNTIF(Parametre!$C$27:$C$39,AZ9)=0,"",INDEX(Parametre!$B$27:$B$39,MATCH(AZ9,Parametre!$C$27:$C$39,0)))&""&IF(COUNTIF(Parametre!$I$45:$I$94,AZ9)=0,"",INDEX(Parametre!$K$45:$K$94,MATCH(AZ9,Parametre!$I$45:$I$94,0))) | BG9: =BG8+1 -> 44076 | BI9: =IFERROR(IF(WEEKDAY(BG9)=2,INT(MOD(INT((BG9-2)/7)+0.6,52+5/28))+1,""),"") | BJ9: =IF(ISERROR(VLOOKUP(BG9,Lune!$A$2:$B$55,2,FALSE)),"",VLOOKUP(BG9,Lune!$A$2:$B$55,2,FALSE)) ->  | BK9: =IFERROR(IF(COUNTIF(Saints!$C$2:$C$371,BG9)=0,"",INDEX(Saints!$D$2:$D$371,MATCH(BG9,Saints!$C$2:$C$371,0))),"") -> Ingrid | BL9: =IF(COUNTIF(Parametre!$C$27:$C$39,BG9)=0,"",INDEX(Parametre!$B$27:$B$39,MATCH(BG9,Parametre!$C$27:$C$39,0)))&""&IF(COUNTIF(Parametre!$I$45:$I$94,BG9)=0,"",INDEX(Parametre!$K$45:$K$94,MATCH(BG9,Parametre!$I$45:$I$94,0))) | BN9: =BN8+1 -> 44106 | BP9: =IFERROR(IF(WEEKDAY(BN9)=2,INT(MOD(INT((BN9-2)/7)+0.6,52+5/28))+1,""),"") | BQ9: =IF(ISERROR(VLOOKUP(BN9,Lune!$A$2:$B$55,2,FALSE)),"",VLOOKUP(BN9,Lune!$A$2:$B$55,2,FALSE)) | BR9: =IFERROR(IF(COUNTIF(Saints!$C$2:$C$371,BN9)=0,"",INDEX(Saints!$D$2:$D$371,MATCH(BN9,Saints!$C$2:$C$371,0))),"") -> Léger | BS9: =IF(COUNTIF(Parametre!$C$27:$C$39,BN9)=0,"",INDEX(Parametre!$B$27:$B$39,MATCH(BN9,Parametre!$C$27:$C$39,0)))&""&IF(COUNTIF(Parametre!$I$45:$I$94,BN9)=0,"",INDEX(Parametre!$K$45:$K$94,MATCH(BN9,Parametre!$I$45:$I$94,0))) | BU9: =BU8+1 -> 44137 | BW9: =IFERROR(IF(WEEKDAY(BU9)=2,INT(MOD(INT((BU9-2)/7)+0.6,52+5/28))+1,""),"") -> 45 | BX9: =IF(ISERROR(VLOOKUP(BU9,Lune!$A$2:$B$55,2,FALSE)),"",VLOOKUP(BU9,Lune!$A$2:$B$55,2,FALSE)) | BY9: =IFERROR(IF(COUNTIF(Saints!$C$2:$C$371,BU9)=0,"",INDEX(Saints!$D$2:$D$371,MATCH(BU9,Saints!$C$2:$C$371,0))),"") -> Défunts | BZ9: =IF(COUNTIF(Parametre!$C$27:$C$39,BU9)=0,"",INDEX(Parametre!$B$27:$B$39,MATCH(BU9,Parametre!$C$27:$C$39,0)))&""&IF(COUNTIF(Parametre!$I$45:$I$94,BU9)=0,"",INDEX(Parametre!$K$45:$K$94,MATCH(BU9,Parametre!$I$45:$I$94,0))) | CB9: =CB8+1 -> 44167 | CD9: =IFERROR(IF(WEEKDAY(CB9)=2,INT(MOD(INT((CB9-2)/7)+0.6,52+5/28))+1,""),"") | CE9: =IF(ISERROR(VLOOKUP(CB9,Lune!$A$2:$B$55,2,FALSE)),"",VLOOKUP(CB9,Lune!$A$2:$B$55,2,FALSE)) | CF9: =IFERROR(IF(COUNTIF(Saints!$C$2:$C$371,CB9)=0,"",INDEX(Saints!$D$2:$D$371,MATCH(CB9,Saints!$C$2:$C$371,0))),"") -> Viviane | CG9: =IF(COUNTIF(Parametre!$C$27:$C$39,CB9)=0,"",INDEX(Parametre!$B$27:$B$39,MATCH(CB9,Parametre!$C$27:$C$39,0)))&" "&IF(COUNTIF(Parametre!$I$45:$I$94,CB9)=0,"",INDEX(Parametre!$K$45:$K$94,MATCH(CB9,Parametre!$I$45:$I$94,0)))
B10: 3 | C10: =C9+1 -> 43833 | E10: =IF(WEEKDAY(C10)=2,INT(MOD(INT((C10-2)/7)+0.6,52+5/28))+1,"") | F10: =IF(ISERROR(VLOOKUP(C10,Lune!$A$2:$B$55,2,FALSE)),"",VLOOKUP(C10,Lune!$A$2:$B$55,2,FALSE)) ->  | G10: =IFERROR(IF(COUNTIF(Saints!$C$2:$C$371,C10)=0,"",INDEX(Saints!$D$2:$D$371,MATCH(C10,Saints!$C$2:$C$371,0))),"") -> Geneviève | H10: =IF(COUNTIF(Parametre!$C$27:$C$39,C10)=0,"",INDEX(Parametre!$B$27:$B$39,MATCH(C10,Parametre!$C$27:$C$39,0)))&""&IF(COUNTIF(Parametre!$I$45:$I$94,C10)=0,"",INDEX(Parametre!$K$45:$K$94,MATCH(C10,Parametre!$I$45:$I$94,0))) | J10: =J9+1 -> 43864 | L10: =IF(WEEKDAY(J10)=2,INT(MOD(INT((J10-2)/7)+0.6,52+5/28))+1,"") -> 6 | M10: =IF(ISERROR(VLOOKUP(J10,Lune!$A$2:$B$55,2,FALSE)),"",VLOOKUP(J10,Lune!$A$2:$B$55,2,FALSE)) | N10: =IFERROR(IF(COUNTIF(Saints!$C$2:$C$371,J10)=0,"",INDEX(Saints!$D$2:$D$371,MATCH(J10,Saints!$C$2:$C$371,0))),"") -> Blaise | O10: =IF(COUNTIF(Parametre!$C$27:$C$39,J10)=0,"",INDEX(Parametre!$B$27:$B$39,MATCH(J10,Parametre!$C$27:$C$39,0)))&""&IF(COUNTIF(Parametre!$I$45:$I$94,J10)=0,"",INDEX(Parametre!$K$45:$K$94,MATCH(J10,Parametre!$I$45:$I$94,0))) | Q10: =Q9+1 -> 43893 | S10: =IF(WEEKDAY(Q10)=2,INT(MOD(INT((Q10-2)/7)+0.6,52+5/28))+1,"") | T10: =IF(ISERROR(VLOOKUP(Q10,Lune!$A$2:$B$55,2,FALSE)),"",VLOOKUP(Q10,Lune!$A$2:$B$55,2,FALSE)) | U10: =IFERROR(IF(COUNTIF(Saints!$C$2:$C$371,Q10)=0,"",INDEX(Saints!$D$2:$D$371,MATCH(Q10,Saints!$C$2:$C$371,0))),"") -> Guénolé | V10: =IF(COUNTIF(Parametre!$C$27:$C$39,Q10)=0,"",INDEX(Parametre!$B$27:$B$39,MATCH(Q10,Parametre!$C$27:$C$39,0)))&""&IF(COUNTIF(Parametre!$I$45:$I$94,Q10)=0,"",INDEX(Parametre!$K$45:$K$94,MATCH(Q10,Parametre!$I$45:$I$94,0))) | X10: =X9+1 -> 43924 | Z10: =IF(WEEKDAY(X10)=2,INT(MOD(INT((X10-2)/7)+0.6,52+5/28))+1,"") | AA10: =IF(ISERROR(VLOOKUP(X10,Lune!$A$2:$B$55,2,FALSE)),"",VLOOKUP(X10,Lune!$A$2:$B$55,2,FALSE)) | AB10: =IFERROR(IF(COUNTIF(Saints!$C$2:$C$371,X10)=0,"",INDEX(Saints!$D$2:$D$371,MATCH(X10,Saints!$C$2:$C$371,0))),"") -> Richard | AC10: =IF(COUNTIF(Parametre!$C$27:$C$39,X10)=0,"",INDEX(Parametre!$B$27:$B$39,MATCH(X10,Parametre!$C$27:$C$39,0)))&""&IF(COUNTIF(Parametre!$I$45:$I$94,X10)=0,"",INDEX(Parametre!$K$45:$K$94,MATCH(X10,Parametre!$I$45:$I$94,0))) | AE10: =AE9+1 -> 43954 | AG10: =IF(WEEKDAY(AE10)=2,INT(MOD(INT((AE10-2)/7)+0.6,52+5/28))+1,"") | AH10: =IF(ISERROR(VLOOKUP(AE10,[1]Lune!$A$2:$B$55,2,FALSE)),"",VLOOKUP(AE10,[1]Lune!$A$2:$B$55,2,FALSE)) | AI10: =IFERROR(IF(COUNTIF(Saints!$C$2:$C$371,AE10)=0,"",INDEX(Saints!$D$2:$D$371,MATCH(AE10,Saints!$C$2:$C$371,0))),"") -> Philippe | AJ10: =IF(COUNTIF(Parametre!$C$27:$C$39,AE10)=0,"",INDEX(Parametre!$B$27:$B$39,MATCH(AE10,Parametre!$C$27:$C$39,0)))&""&IF(COUNTIF(Parametre!$I$45:$I$94,AE10)=0,"",INDEX(Parametre!$K$45:$K$94,MATCH(AE10,Parametre!$I$45:$I$94,0))) | AL10: =AL9+1 -> 43985 | AN10: =IF(WEEKDAY(AL10)=2,INT(MOD(INT((AL10-2)/7)+0.6,52+5/28))+1,"") | AO10: =IF(ISERROR(VLOOKUP(AL10,Lune!$A$2:$B$55,2,FALSE)),"",VLOOKUP(AL10,Lune!$A$2:$B$55,2,FALSE)) | AP10: =IFERROR(IF(COUNTIF(Saints!$C$2:$C$371,AL10)=0,"",INDEX(Saints!$D$2:$D$371,MATCH(AL10,Saints!$C$2:$C$371,0))),"") -> Kévin | AQ10: =IF(COUNTIF(Parametre!$C$27:$C$39,AL10)=0,"",INDEX(Parametre!$B$27:$B$39,MATCH(AL10,Parametre!$C$27:$C$39,0)))&""&IF(COUNTIF(Parametre!$I$45:$I$94,AL10)=0,"",INDEX(Parametre!$K$45:$K$94,MATCH(AL10,Parametre!$I$45:$I$94,0))) | AS10: =AS9+1 -> 44015 | AU10: =IF(WEEKDAY(AS10)=2,INT(MOD(INT((AS10-2)/7)+0.6,52+5/28))+1,"") | AV10: =IF(ISERROR(VLOOKUP(AS10,Lune!$A$2:$B$55,2,FALSE)),"",VLOOKUP(AS10,Lune!$A$2:$B$55,2,FALSE)) | AW10: =IFERROR(IF(COUNTIF(Saints!$C$2:$C$371,AS10)=0,"",INDEX(Saints!$D$2:$D$371,MATCH(AS10,Saints!$C$2:$C$371,0))),"") -> Thomas | AX10: =IF(COUNTIF(Parametre!$C$27:$C$39,AS10)=0,"",INDEX(Parametre!$B$27:$B$39,MATCH(AS10,Parametre!$C$27:$C$39,0)))&""&IF(COUNTIF(Parametre!$I$45:$I$94,AS10)=0,"",INDEX(Parametre!$K$45:$K$94,MATCH(AS10,Parametre!$I$45:$I$94,0))) | AZ10: =AZ9+1 -> 44046 | BB10: =IF(WEEKDAY(AZ10)=2,INT(MOD(INT((AZ10-2)/7)+0.6,52+5/28))+1,"") -> 32 | BC10: =IF(ISERROR(VLOOKUP(AZ10,Lune!$A$2:$B$55,2,FALSE)),"",VLOOKUP(AZ10,Lune!$A$2:$B$55,2,FALSE)) ->  | BD10: =IFERROR(IF(COUNTIF(Saints!$C$2:$C$371,AZ10)=0,"",INDEX(Saints!$D$2:$D$371,MATCH(AZ10,Saints!$C$2:$C$371,0))),"") -> Lydie | BE10: =IF(COUNTIF(Parametre!$C$27:$C$39,AZ10)=0,"",INDEX(Parametre!$B$27:$B$39,MATCH(AZ10,Parametre!$C$27:$C$39,0)))&""&IF(COUNTIF(Parametre!$I$45:$I$94,AZ10)=0,"",INDEX(Parametre!$K$45:$K$94,MATCH(AZ10,Parametre!$I$45:$I$94,0))) | BG10: =BG9+1 -> 44077 | BI10: =IF(WEEKDAY(BG10)=2,INT(MOD(INT((BG10-2)/7)+0.6,52+5/28))+1,"") | BJ10: =IF(ISERROR(VLOOKUP(BG10,Lune!$A$2:$B$55,2,FALSE)),"",VLOOKUP(BG10,Lune!$A$2:$B$55,2,FALSE)) | BK10: =IFERROR(IF(COUNTIF(Saints!$C$2:$C$371,BG10)=0,"",INDEX(Saints!$D$2:$D$371,MATCH(BG10,Saints!$C$2:$C$371,0))),"") -> Grégoire | BL10: =IF(COUNTIF(Parametre!$C$27:$C$39,BG10)=0,"",INDEX(Parametre!$B$27:$B$39,MATCH(BG10,Parametre!$C$27:$C$39,0)))&""&IF(COUNTIF(Parametre!$I$45:$I$94,BG10)=0,"",INDEX(Parametre!$K$45:$K$94,MATCH(BG10,Parametre!$I$45:$I$94,0))) | BN10: =BN9+1 -> 44107 | BP10: =IF(WEEKDAY(BN10)=2,INT(MOD(INT((BN10-2)/7)+0.6,52+5/28))+1,"") | BQ10: =IF(ISERROR(VLOOKUP(BN10,Lune!$A$2:$B$55,2,FALSE)),"",VLOOKUP(BN10,Lune!$A$2:$B$55,2,FALSE)) | BR10: =IFERROR(IF(COUNTIF(Saints!$C$2:$C$371,BN10)=0,"",INDEX(Saints!$D$2:$D$371,MATCH(BN10,Saints!$C$2:$C$371,0))),"") -> Gérard | BS10: =IF(COUNTIF(Parametre!$C$27:$C$39,BN10)=0,"",INDEX(Parametre!$B$27:$B$39,MATCH(BN10,Parametre!$C$27:$C$39,0)))&""&IF(COUNTIF(Parametre!$I$45:$I$94,BN10)=0,"",INDEX(Parametre!$K$45:$K$94,MATCH(BN10,Parametre!$I$45:$I$94,0))) | BU10: =BU9+1 -> 44138 | BW10: =IF(WEEKDAY(BU10)=2,INT(MOD(INT((BU10-2)/7)+0.6,52+5/28))+1,"") | BX10: =IF(ISERROR(VLOOKUP(BU10,Lune!$A$2:$B$55,2,FALSE)),"",VLOOKUP(BU10,Lune!$A$2:$B$55,2,FALSE)) | BY10: =IFERROR(IF(COUNTIF(Saints!$C$2:$C$371,BU10)=0,"",INDEX(Saints!$D$2:$D$371,MATCH(BU10,Saints!$C$2:$C$371,0))),"") -> Gwénaëlle | BZ10: =IF(COUNTIF(Parametre!$C$27:$C$39,BU10)=0,"",INDEX(Parametre!$B$27:$B$39,MATCH(BU10,Parametre!$C$27:$C$39,0)))&""&IF(COUNTIF(Parametre!$I$45:$I$94,BU10)=0,"",INDEX(Parametre!$K$45:$K$94,MATCH(BU10,Parametre!$I$45:$I$94,0))) | CB10: =CB9+1 -> 44168 | CD10: =IF(WEEKDAY(CB10)=2,INT(MOD(INT((CB10-2)/7)+0.6,52+5/28))+1,"") | CE10: =IF(ISERROR(VLOOKUP(CB10,Lune!$A$2:$B$55,2,FALSE)),"",VLOOKUP(CB10,Lune!$A$2:$B$55,2,FALSE)) | CF10: =IFERROR(IF(COUNTIF(Saints!$C$2:$C$371,CB10)=0,"",INDEX(Saints!$D$2:$D$371,MATCH(CB10,Saints!$C$2:$C$371,0))),"") -> Xavier | CG10: =IF(COUNTIF(Parametre!$C$27:$C$39,CB10)=0,"",INDEX(Parametre!$B$27:$B$39,MATCH(CB10,Parametre!$C$27:$C$39,0)))&" "&IF(COUNTIF(Parametre!$I$45:$I$94,CB10)=0,"",INDEX(Parametre!$K$45:$K$94,MATCH(CB10,Parametre!$I$45:$I$94,0)))
B11: 4 | C11: =C10+1 -> 43834 | E11: =IF(WEEKDAY(C11)=2,INT(MOD(INT((C11-2)/7)+0.6,52+5/28))+1,"") | F11: =IF(ISERROR(VLOOKUP(C11,Lune!$A$2:$B$55,2,FALSE)),"",VLOOKUP(C11,Lune!$A$2:$B$55,2,FALSE)) | G11: =IFERROR(IF(COUNTIF(Saints!$C$2:$C$371,C11)=0,"",INDEX(Saints!$D$2:$D$371,MATCH(C11,Saints!$C$2:$C$371,0))),"") -> Odilon | H11: =IF(COUNTIF(Parametre!$C$27:$C$39,C11)=0,"",INDEX(Parametre!$B$27:$B$39,MATCH(C11,Parametre!$C$27:$C$39,0)))&""&IF(COUNTIF(Parametre!$I$45:$I$94,C11)=0,"",INDEX(Parametre!$K$45:$K$94,MATCH(C11,Parametre!$I$45:$I$94,0))) | J11: =J10+1 -> 43865 | L11: =IF(WEEKDAY(J11)=2,INT(MOD(INT((J11-2)/7)+0.6,52+5/28))+1,"") | M11: =IF(ISERROR(VLOOKUP(J11,Lune!$A$2:$B$55,2,FALSE)),"",VLOOKUP(J11,Lune!$A$2:$B$55,2,FALSE)) | N11: =IFERROR(IF(COUNTIF(Saints!$C$2:$C$371,J11)=0,"",INDEX(Saints!$D$2:$D$371,MATCH(J11,Saints!$C$2:$C$371,0))),"") -> Véronique | O11: =IF(COUNTIF(Parametre!$C$27:$C$39,J11)=0,"",INDEX(Parametre!$B$27:$B$39,MATCH(J11,Parametre!$C$27:$C$39,0)))&""&IF(COUNTIF(Parametre!$I$45:$I$94,J11)=0,"",INDEX(Parametre!$K$45:$K$94,MATCH(J11,Parametre!$I$45:$I$94,0))) | Q11: =Q10+1 -> 43894 | S11: =IF(WEEKDAY(Q11)=2,INT(MOD(INT((Q11-2)/7)+0.6,52+5/28))+1,"") | T11: =IF(ISERROR(VLOOKUP(Q11,Lune!$A$2:$B$55,2,FALSE)),"",VLOOKUP(Q11,Lune!$A$2:$B$55,2,FALSE)) | U11: =IFERROR(IF(COUNTIF(Saints!$C$2:$C$371,Q11)=0,"",INDEX(Saints!$D$2:$D$371,MATCH(Q11,Saints!$C$2:$C$371,0))),"") -> Casimir | V11: =IF(COUNTIF(Parametre!$C$27:$C$39,Q11)=0,"",INDEX(Parametre!$B$27:$B$39,MATCH(Q11,Parametre!$C$27:$C$39,0)))&""&IF(COUNTIF(Parametre!$I$45:$I$94,Q11)=0,"",INDEX(Parametre!$K$45:$K$94,MATCH(Q11,Parametre!$I$45:$I$94,0))) | X11: =X10+1 -> 43925 | Z11: =IF(WEEKDAY(X11)=2,INT(MOD(INT((X11-2)/7)+0.6,52+5/28))+1,"") | AA11: =IF(ISERROR(VLOOKUP(X11,Lune!$A$2:$B$55,2,FALSE)),"",VLOOKUP(X11,Lune!$A$2:$B$55,2,FALSE)) | AB11: =IFERROR(IF(COUNTIF(Saints!$C$2:$C$371,X11)=0,"",INDEX(Saints!$D$2:$D$371,MATCH(X11,Saints!$C$2:$C$371,0))),"") -> Isidore | AC11: =IF(COUNTIF(Parametre!$C$27:$C$39,X11)=0,"",INDEX(Parametre!$B$27:$B$39,MATCH(X11,Parametre!$C$27:$C$39,0)))&""&IF(COUNTIF(Parametre!$I$45:$I$94,X11)=0,"",INDEX(Parametre!$K$45:$K$94,MATCH(X11,Parametre!$I$45:$I$94,0))) | AE11: =AE10+1 -> 43955 | AG11: =IF(WEEKDAY(AE11)=2,INT(MOD(INT((AE11-2)/7)+0.6,52+5/28))+1,"") -> 19 | AH11: =IF(ISERROR(VLOOKUP(AE11,[1]Lune!$A$2:$B$55,2,FALSE)),"",VLOOKUP(AE11,[1]Lune!$A$2:$B$55,2,FALSE)) | AI11: =IFERROR(IF(COUNTIF(Saints!$C$2:$C$371,AE11)=0,"",INDEX(Saints!$D$2:$D$371,MATCH(AE11,Saints!$C$2:$C$371,0))),"") -> Sylvain | AJ11: =IF(COUNTIF(Parametre!$C$27:$C$39,AE11)=0,"",INDEX(Parametre!$B$27:$B$39,MATCH(AE11,Parametre!$C$27:$C$39,0)))&""&IF(COUNTIF(Parametre!$I$45:$I$94,AE11)=0,"",INDEX(Parametre!$K$45:$K$94,MATCH(AE11,Parametre!$I$45:$I$94,0))) | AL11: =AL10+1 -> 43986 | AN11: =IFERROR(IF(WEEKDAY(AL11)=2,INT(MOD(INT((AL11-2)/7)+0.6,52+5/28))+1,""),"") | AO11: =IF(ISERROR(VLOOKUP(AL11,Lune!$A$2:$B$55,2,FALSE)),"",VLOOKUP(AL11,Lune!$A$2:$B$55,2,FALSE)) | AP11: =IFERROR(IF(COUNTIF(Saints!$C$2:$C$371,AL11)=0,"",INDEX(Saints!$D$2:$D$371,MATCH(AL11,Saints!$C$2:$C$371,0))),"") -> Clothilde | AQ11: =IF(COUNTIF(Parametre!$C$27:$C$39,AL11)=0,"",INDEX(Parametre!$B$27:$B$39,MATCH(AL11,Parametre!$C$27:$C$39,0)))&""&IF(COUNTIF(Parametre!$I$45:$I$94,AL11)=0,"",INDEX(Parametre!$K$45:$K$94,MATCH(AL11,Parametre!$I$45:$I$94,0))) | AS11: =AS10+1 -> 44016 | AU11: =IFERROR(IF(WEEKDAY(AS11)=2,INT(MOD(INT((AS11-2)/7)+0.6,52+5/28))+1,""),"") | AV11: =IF(ISERROR(VLOOKUP(AS11,Lune!$A$2:$B$55,2,FALSE)),"",VLOOKUP(AS11,Lune!$A$2:$B$55,2,FALSE)) | AW11: =IFERROR(IF(COUNTIF(Saints!$C$2:$C$371,AS11)=0,"",INDEX(Saints!$D$2:$D$371,MATCH(AS11,Saints!$C$2:$C$371,0))),"") -> Florent | AX11: =IF(COUNTIF(Parametre!$C$27:$C$39,AS11)=0,"",INDEX(Parametre!$B$27:$B$39,MATCH(AS11,Parametre!$C$27:$C$39,0)))&""&IF(COUNTIF(Parametre!$I$45:$I$94,AS11)=0,"",INDEX(Parametre!$K$45:$K$94,MATCH(AS11,Parametre!$I$45:$I$94,0))) | AZ11: =AZ10+1 -> 44047 | BB11: =IF(WEEKDAY(AZ11)=2,INT(MOD(INT((AZ11-2)/7)+0.6,52+5/28))+1,"") | BC11: =IF(ISERROR(VLOOKUP(AZ11,Lune!$A$2:$B$55,2,FALSE)),"",VLOOKUP(AZ11,Lune!$A$2:$B$55,2,FALSE)) | BD11: =IFERROR(IF(COUNTIF(Saints!$C$2:$C$371,AZ11)=0,"",INDEX(Saints!$D$2:$D$371,MATCH(AZ11,Saints!$C$2:$C$371,0))),"") -> Vianney | BE11: =IF(COUNTIF(Parametre!$C$27:$C$39,AZ11)=0,"",INDEX(Parametre!$B$27:$B$39,MATCH(AZ11,Parametre!$C$27:$C$39,0)))&""&IF(COUNTIF(Parametre!$I$45:$I$94,AZ11)=0,"",INDEX(Parametre!$K$45:$K$94,MATCH(AZ11,Parametre!$I$45:$I$94,0))) | BG11: =BG10+1 -> 44078 | BI11: =IF(WEEKDAY(BG11)=2,INT(MOD(INT((BG11-2)/7)+0.6,52+5/28))+1,"") | BJ11: =IF(ISERROR(VLOOKUP(BG11,Lune!$A$2:$B$55,2,FALSE)),"",VLOOKUP(BG11,Lune!$A$2:$B$55,2,FALSE)) | BK11: =IFERROR(IF(COUNTIF(Saints!$C$2:$C$371,BG11)=0,"",INDEX(Saints!$D$2:$D$371,MATCH(BG11,Saints!$C$2:$C$371,0))),"") -> Rosalie | BL11: =IF(COUNTIF(Parametre!$C$27:$C$39,BG11)=0,"",INDEX(Parametre!$B$27:$B$39,MATCH(BG11,Parametre!$C$27:$C$39,0)))&""&IF(COUNTIF(Parametre!$I$45:$I$94,BG11)=0,"",INDEX(Parametre!$K$45:$K$94,MATCH(BG11,Parametre!$I$45:$I$94,0))) | BN11: =BN10+1 -> 44108 | BP11: =IF(WEEKDAY(BN11)=2,INT(MOD(INT((BN11-2)/7)+0.6,52+5/28))+1,"") | BQ11: =IF(ISERROR(VLOOKUP(BN11,Lune!$A$2:$B$55,2,FALSE)),"",VLOOKUP(BN11,Lune!$A$2:$B$55,2,FALSE)) | BR11: =IFERROR(IF(COUNTIF(Saints!$C$2:$C$371,BN11)=0,"",INDEX(Saints!$D$2:$D$371,MATCH(BN11,Saints!$C$2:$C$371,0))),"") -> François | BS11: =IF(COUNTIF(Parametre!$C$27:$C$39,BN11)=0,"",INDEX(Parametre!$B$27:$B$39,MATCH(BN11,Parametre!$C$27:$C$39,0)))&""&IF(COUNTIF(Parametre!$I$45:$I$94,BN11)=0,"",INDEX(Parametre!$K$45:$K$94,MATCH(BN11,Parametre!$I$45:$I$94,0))) -> F. Grds-Pères | BU11: =BU10+1 -> 44139 | BW11: =IF(WEEKDAY(BU11)=2,INT(MOD(INT((BU11-2)/7)+0.6,52+5/28))+1,"") | BX11: =IF(ISERROR(VLOOKUP(BU11,Lune!$A$2:$B$55,2,FALSE)),"",VLOOKUP(BU11,Lune!$A$2:$B$55,2,FALSE)) | BY11: =IFERROR(IF(COUNTIF(Saints!$C$2:$C$371,BU11)=0,"",INDEX(Saints!$D$2:$D$371,MATCH(BU11,Saints!$C$2:$C$371,0))),"") -> Charles | BZ11: =IF(COUNTIF(Parametre!$C$27:$C$39,BU11)=0,"",INDEX(Parametre!$B$27:$B$39,MATCH(BU11,Parametre!$C$27:$C$39,0)))&""&IF(COUNTIF(Parametre!$I$45:$I$94,BU11)=0,"",INDEX(Parametre!$K$45:$K$94,MATCH(BU11,Parametre!$I$45:$I$94,0))) | CB11: =CB10+1 -> 44169 | CD11: =IF(WEEKDAY(CB11)=2,INT(MOD(INT((CB11-2)/7)+0.6,52+5/28))+1,"") | CE11: =IF(ISERROR(VLOOKUP(CB11,Lune!$A$2:$B$55,2,FALSE)),"",VLOOKUP(CB11,Lune!$A$2:$B$55,2,FALSE)) | CF11: =IFERROR(IF(COUNTIF(Saints!$C$2:$C$371,CB11)=0,"",INDEX(Saints!$D$2:$D$371,MATCH(CB11,Saints!$C$2:$C$371,0))),"") -> Barbara | CG11: =IF(COUNTIF(Parametre!$C$27:$C$39,CB11)=0,"",INDEX(Parametre!$B$27:$B$39,MATCH(CB11,Parametre!$C$27:$C$39,0)))&" "&IF(COUNTIF(Parametre!$I$45:$I$94,CB11)=0,"",INDEX(Parametre!$K$45:$K$94,MATCH(CB11,Parametre!$I$45:$I$94,0)))
B12: 5 | C12: =C11+1 -> 43835 | E12: =IF(WEEKDAY(C12)=2,INT(MOD(INT((C12-2)/7)+0.6,52+5/28))+1,"") | F12: =IF(ISERROR(VLOOKUP(C12,Lune!$A$2:$B$55,2,FALSE)),"",VLOOKUP(C12,Lune!$A$2:$B$55,2,FALSE)) | G12: =IFERROR(IF(COUNTIF(Saints!$C$2:$C$371,C12)=0,"",INDEX(Saints!$D$2:$D$371,MATCH(C12,Saints!$C$2:$C$371,0))),"") -> Edouard | H12: =IF(COUNTIF(Parametre!$C$27:$C$39,C12)=0,"",INDEX(Parametre!$B$27:$B$39,MATCH(C12,Parametre!$C$27:$C$39,0)))&""&IF(COUNTIF(Parametre!$I$45:$I$94,C12)=0,"",INDEX(Parametre!$K$45:$K$94,MATCH(C12,Parametre!$I$45:$I$94,0))) -> Ephiphanie | J12: =J11+1 -> 43866 | L12: =IF(WEEKDAY(J12)=2,INT(MOD(INT((J12-2)/7)+0.6,52+5/28))+1,"") | M12: =IF(ISERROR(VLOOKUP(J12,Lune!$A$2:$B$55,2,FALSE)),"",VLOOKUP(J12,Lune!$A$2:$B$55,2,FALSE)) | N12: =IFERROR(IF(COUNTIF(Saints!$C$2:$C$371,J12)=0,"",INDEX(Saints!$D$2:$D$371,MATCH(J12,Saints!$C$2:$C$371,0))),"") -> Agathe | O12: =IF(COUNTIF(Parametre!$C$27:$C$39,J12)=0,"",INDEX(Parametre!$B$27:$B$39,MATCH(J12,Parametre!$C$27:$C$39,0)))&""&IF(COUNTIF(Parametre!$I$45:$I$94,J12)=0,"",INDEX(Parametre!$K$45:$K$94,MATCH(J12,Parametre!$I$45:$I$94,0))) | Q12: =Q11+1 -> 43895 | S12: =IF(WEEKDAY(Q12)=2,INT(MOD(INT((Q12-2)/7)+0.6,52+5/28))+1,"") | T12: =IF(ISERROR(VLOOKUP(Q12,Lune!$A$2:$B$55,2,FALSE)),"",VLOOKUP(Q12,Lune!$A$2:$B$55,2,FALSE)) | U12: =IFERROR(IF(COUNTIF(Saints!$C$2:$C$371,Q12)=0,"",INDEX(Saints!$D$2:$D$371,MATCH(Q12,Saints!$C$2:$C$371,0))),"") -> Olive | V12: =IF(COUNTIF(Parametre!$C$27:$C$39,Q12)=0,"",INDEX(Parametre!$B$27:$B$39,MATCH(Q12,Parametre!$C$27:$C$39,0)))&""&IF(COUNTIF(Parametre!$I$45:$I$94,Q12)=0,"",INDEX(Parametre!$K$45:$K$94,MATCH(Q12,Parametre!$I$45:$I$94,0))) | X12: =X11+1 -> 43926 | Z12: =IF(WEEKDAY(X12)=2,INT(MOD(INT((X12-2)/7)+0.6,52+5/28))+1,"") | AA12: =IF(ISERROR(VLOOKUP(X12,Lune!$A$2:$B$55,2,FALSE)),"",VLOOKUP(X12,Lune!$A$2:$B$55,2,FALSE)) | AB12: =IFERROR(IF(COUNTIF(Saints!$C$2:$C$371,X12)=0,"",INDEX(Saints!$D$2:$D$371,MATCH(X12,Saints!$C$2:$C$371,0))),"") -> Irène | AC12: =IF(COUNTIF(Parametre!$C$27:$C$39,X12)=0,"",INDEX(Parametre!$B$27:$B$39,MATCH(X12,Parametre!$C$27:$C$39,0)))&""&IF(COUNTIF(Parametre!$I$45:$I$94,X12)=0,"",INDEX(Parametre!$K$45:$K$94,MATCH(X12,Parametre!$I$45:$I$94,0))) | AE12: =AE11+1 -> 43956 | AG12: =IF(WEEKDAY(AE12)=2,INT(MOD(INT((AE12-2)/7)+0.6,52+5/28))+1,"") | AH12: =IF(ISERROR(VLOOKUP(AE12,[1]Lune!$A$2:$B$55,2,FALSE)),"",VLOOKUP(AE12,[1]Lune!$A$2:$B$55,2,FALSE)) | AI12: =IFERROR(IF(COUNTIF(Saints!$C$2:$C$371,AE12)=0,"",INDEX(Saints!$D$2:$D$371,MATCH(AE12,Saints!$C$2:$C$371,0))),"") -> Judith | AJ12: =IF(COUNTIF(Parametre!$C$27:$C$39,AE12)=0,"",INDEX(Parametre!$B$27:$B$39,MATCH(AE12,Parametre!$C$27:$C$39,0)))&""&IF(COUNTIF(Parametre!$I$45:$I$94,AE12)=0,"",INDEX(Parametre!$K$45:$K$94,MATCH(AE12,Parametre!$I$45:$I$94,0))) | AL12: =AL11+1 -> 43987 | AN12: =IF(WEEKDAY(AL12)=2,INT(MOD(INT((AL12-2)/7)+0.6,52+5/28))+1,"") | AO12: =IF(ISERROR(VLOOKUP(AL12,Lune!$A$2:$B$55,2,FALSE)),"",VLOOKUP(AL12,Lune!$A$2:$B$55,2,FALSE)) ->  | AP12: =IFERROR(IF(COUNTIF(Saints!$C$2:$C$371,AL12)=0,"",INDEX(Saints!$D$2:$D$371,MATCH(AL12,Saints!$C$2:$C$371,0))),"") -> Igor | AQ12: =IF(COUNTIF(Parametre!$C$27:$C$39,AL12)=0,"",INDEX(Parametre!$B$27:$B$39,MATCH(AL12,Parametre!$C$27:$C$39,0)))&""&IF(COUNTIF(Parametre!$I$45:$I$94,AL12)=0,"",INDEX(Parametre!$K$45:$K$94,MATCH(AL12,Parametre!$I$45:$I$94,0))) | AS12: =AS11+1 -> 44017 | AU12: =IF(WEEKDAY(AS12)=2,INT(MOD(INT((AS12-2)/7)+0.6,52+5/28))+1,"") | AV12: =IF(ISERROR(VLOOKUP(AS12,Lune!$A$2:$B$55,2,FALSE)),"",VLOOKUP(AS12,Lune!$A$2:$B$55,2,FALSE)) ->  | AW12: =IFERROR(IF(COUNTIF(Saints!$C$2:$C$371,AS12)=0,"",INDEX(Saints!$D$2:$D$371,MATCH(AS12,Saints!$C$2:$C$371,0))),"") -> Antoine | AX12: =IF(COUNTIF(Parametre!$C$27:$C$39,AS12)=0,"",INDEX(Parametre!$B$27:$B$39,MATCH(AS12,Parametre!$C$27:$C$39,0)))&""&IF(COUNTIF(Parametre!$I$45:$I$94,AS12)=0,"",INDEX(Parametre!$K$45:$K$94,MATCH(AS12,Parametre!$I$45:$I$94,0))) | AZ12: =AZ11+1 -> 44048 | BB12: =IF(WEEKDAY(AZ12)=2,INT(MOD(INT((AZ12-2)/7)+0.6,52+5/28))+1,"") | BC12: =IF(ISERROR(VLOOKUP(AZ12,Lune!$A$2:$B$55,2,FALSE)),"",VLOOKUP(AZ12,Lune!$A$2:$B$55,2,FALSE)) | BD12: =IFERROR(IF(COUNTIF(Saints!$C$2:$C$371,AZ12)=0,"",INDEX(Saints!$D$2:$D$371,MATCH(AZ12,Saints!$C$2:$C$371,0))),"") -> Abel | BE12: =IF(COUNTIF(Parametre!$C$27:$C$39,AZ12)=0,"",INDEX(Parametre!$B$27:$B$39,MATCH(AZ12,Parametre!$C$27:$C$39,0)))&""&IF(COUNTIF(Parametre!$I$45:$I$94,AZ12)=0,"",INDEX(Parametre!$K$45:$K$94,MATCH(AZ12,Parametre!$I$45:$I$94,0))) | BG12: =BG11+1 -> 44079 | BI12: =IF(WEEKDAY(BG12)=2,INT(MOD(INT((BG12-2)/7)+0.6,52+5/28))+1,"") | BJ12: =IF(ISERROR(VLOOKUP(BG12,Lune!$A$2:$B$55,2,FALSE)),"",VLOOKUP(BG12,Lune!$A$2:$B$55,2,FALSE)) | BK12: =IFERROR(IF(COUNTIF(Saints!$C$2:$C$371,BG12)=0,"",INDEX(Saints!$D$2:$D$371,MATCH(BG12,Saints!$C$2:$C$371,0))),"") -> Raïssa | BL12: =IF(COUNTIF(Parametre!$C$27:$C$39,BG12)=0,"",INDEX(Parametre!$B$27:$B$39,MATCH(BG12,Parametre!$C$27:$C$39,0)))&""&IF(COUNTIF(Parametre!$I$45:$I$94,BG12)=0,"",INDEX(Parametre!$K$45:$K$94,MATCH(BG12,Parametre!$I$45:$I$94,0))) | BN12: =BN11+1 -> 44109 | BP12: =IF(WEEKDAY(BN12)=2,INT(MOD(INT((BN12-2)/7)+0.6,52+5/28))+1,"") -> 41 | BQ12: =IF(ISERROR(VLOOKUP(BN12,Lune!$A$2:$B$55,2,FALSE)),"",VLOOKUP(BN12,Lune!$A$2:$B$55,2,FALSE)) | BR12: =IFERROR(IF(COUNTIF(Saints!$C$2:$C$371,BN12)=0,"",INDEX(Saints!$D$2:$D$371,MATCH(BN12,Saints!$C$2:$C$371,0))),"") -> Fleur | BS12: =IF(COUNTIF(Parametre!$C$27:$C$39,BN12)=0,"",INDEX(Parametre!$B$27:$B$39,MATCH(BN12,Parametre!$C$27:$C$39,0)))&""&IF(COUNTIF(Parametre!$I$45:$I$94,BN12)=0,"",INDEX(Parametre!$K$45:$K$94,MATCH(BN12,Parametre!$I$45:$I$94,0))) | BU12: =BU11+1 -> 44140 | BW12: =IF(WEEKDAY(BU12)=2,INT(MOD(INT((BU12-2)/7)+0.6,52+5/28))+1,"") | BX12: =IF(ISERROR(VLOOKUP(BU12,Lune!$A$2:$B$55,2,FALSE)),"",VLOOKUP(BU12,Lune!$A$2:$B$55,2,FALSE)) | BY12: =IFERROR(IF(COUNTIF(Saints!$C$2:$C$371,BU12)=0,"",INDEX(Saints!$D$2:$D$371,MATCH(BU12,Saints!$C$2:$C$371,0))),"") -> Sylvie | BZ12: =IF(COUNTIF(Parametre!$C$27:$C$39,BU12)=0,"",INDEX(Parametre!$B$27:$B$39,MATCH(BU12,Parametre!$C$27:$C$39,0)))&""&IF(COUNTIF(Parametre!$I$45:$I$94,BU12)=0,"",INDEX(Parametre!$K$45:$K$94,MATCH(BU12,Parametre!$I$45:$I$94,0))) | CB12: =CB11+1 -> 44170 | CD12: =IF(WEEKDAY(CB12)=2,INT(MOD(INT((CB12-2)/7)+0.6,52+5/28))+1,"") | CE12: =IF(ISERROR(VLOOKUP(CB12,Lune!$A$2:$B$55,2,FALSE)),"",VLOOKUP(CB12,Lune!$A$2:$B$55,2,FALSE)) | CF12: =IFERROR(IF(COUNTIF(Saints!$C$2:$C$371,CB12)=0,"",INDEX(Saints!$D$2:$D$371,MATCH(CB12,Saints!$C$2:$C$371,0))),"") -> Gérald | CG12: =IF(COUNTIF(Parametre!$C$27:$C$39,CB12)=0,"",INDEX(Parametre!$B$27:$B$39,MATCH(CB12,Parametre!$C$27:$C$39,0)))&" "&IF(COUNTIF(Parametre!$I$45:$I$94,CB12)=0,"",INDEX(Parametre!$K$45:$K$94,MATCH(CB12,Parametre!$I$45:$I$94,0)))
