Workbook
Name An: Parametre!$C$5
Name Annee: Parametre!$G$7:$G$17
Name DebutVac: Parametre!$AA$27:$AA$39
Name EvtMarie: Parametre!$K$65:$K$70
Name EvtMichel: Parametre!$K$45:$K$62
Name FinVac: Parametre!$AB$27:$AB$39
Name jourferies: Parametre!$C$27:$C$78
Name Jours_Repos: Parametre!$K$7:$K$13
Name JoursSem: Parametre!$I$7:$I$13
Name Mois: Parametre!$H$7:$H$18
Name No_Semaine: Parametre!$F$27:$F$79
Name NumMois: Parametre!$H$27:$H$38
Name Premierjour: Parametre!$B$4
Name PremierMois: Parametre!$B$5
Name Saison: Saison!$B$3:$F$8

Sheet Parametre
B3: =MONTH(1&B5) -> 1
B4: =DATE($C$5,B3,1) -> 43831
B5: Janvier | C5: 2020
B6: Généralités de l'année Choisie | G6: Annee | H6: Mois | I6: Mois | J6: Repos | K6: Jours Repos
C7: Année bissextile | D7: =IF(OR(MOD(C5,400)=0,AND(MOD(C5,4)=0,MOD(C5,100)>0)),TRUE,FALSE) -> TRUE | G7: 2020 | H7: Janvier | I7: Lundi | J7: FALSE | K7: =IF(J7,I7,"")
C8: Nombre de jours | D8: =IF(D7,366,365) -> 366 | G8: 2021 | H8: Février | I8: Mardi | J8: FALSE | K8: =IF(J8,I8,"")
C9: Nombre de jours fériés | D9: =COUNTA(C27:C39) -> 13 | G9: 2022 | H9: Mars | I9: Mercredi | J9: FALSE | K9: =IF(J9,I9,"")
C10: Nombre de jours fériés le samedi | D10: =SUM(D27:D39) -> 1 | G10: 2023 | H10: Avril | I10: Jeudi | J10: FALSE | K10: =IF(J10,I10,"")
C11: Nombre de jours fériés le dimanche | D11: =SUM(E27:E37) -> 3 | G11: 2024 | H11: Mai | I11: Vendredi | J11: FALSE | K11: =IF(J11,I11,"")
C12: Nombre de jours ouvrables sur l'année | D12: =NETWORKDAYS(I27,L38,jourferies) -> 253 | G12: 2025 | H12: Juin | I12: Samedi | J12: FALSE | K12: =IF(J12,I12,"")
C13: Nombre de jours ouvrés sur l'année | D13: =NETWORKDAYS(I27,L38) -> 262 | G13: 2026 | H13: Juillet | I13: Dimanche | J13: TRUE | K13: =IF(J13,I13,"") -> Dimanche
G14: 2027 | H14: Août
G15: 2028 | H15: Septembre
G16: 2029 | H16: Octobre
G17: 2030 | H17: Novembre
H18: Décembre
B20: Pâques est un calcul.
B21: Lundi de de Pâques : c'est 1 jour après Pâques
B22: Jeudi de l'Ascencion : c'est 39 jours après Pâques | Z22: Calcul entre 2 dates == > | AA22: Date départ | AB22: Date fin | AC22: Nb Jours
B23: Lundi de la Pentecôte : c'est 50 jours après Pâques | AA23: 44605 | AB23: 44660 | AC23: =AB23-AA23 -> 55
B24: Les jours féries sont calculer avec l'année en A26, et pour une période de 4 Ans. | I24: Toutes ces colonnes sont calculées d'après l'année choisie.
U25: Nb H mois travaillées | Z25: https://vacances-scolaires.education/ | AA25: Vacances soclaires | AB25: Zone A
A26: =C5 -> 2020 | B26: Feries | C26: Jours Feries | D26: Sam Ferie | E26: Dim Ferie | F26: No Semaine | G26: Mois | H26: Num/Mois | I26: Deb/mois | J26: Jours | L26: Fin/mois | M26: Jours | O26: Nb jours | P26: J-ouvrables | Q26: J-ouvrés | R26: Samedi | S26: Dimanche | T26: Fériés | U26: 7 | V26: 7 | AA26: Debut Vac | AB26: Fin Vac | AC26: Jour Reprise
B27: Jour de l'An | C27: =DATE($A$26,1,1) -> 43831 | D27: =IF(WEEKDAY(C27,2)=6,1,0) -> 0 | E27: =IF(WEEKDAY(C27,2)=7,1,0) -> 0 | F27: 1 | G27: Janvier | H27: =MONTH(1&G27) -> 1 | I27: =DATE($A$26,H27,1) -> 43831 | J27: =WEEKDAY(I27,2) -> 3 | K27: =INDEX(JoursSem,J27,1) -> Mercredi | L27: =DATE($A$26,MONTH(DATE($A$26,H27,1))+1,0) -> 43861 | M27: =WEEKDAY(L27,2) -> 5 | N27: =INDEX(JoursSem,M27,1) -> Vendredi | O27: =DATE(YEAR(I27),MONTH(I27)+1,1)-I27 -> 31 | P27: =NETWORKDAYS($I27,$L27,jourferies) -> 22 | Q27: =NETWORKDAYS($I27,$L27) -> 23 | R27: =SUMPRODUCT((WEEKDAY(ROW(INDIRECT("A"&I27&":"&"A"&L27)),2)=6)*1) -> 4 | S27: =SUMPRODUCT((WEEKDAY(ROW(INDIRECT("A"&I27&":"&"A"&L27)),2)=7)*1) -> 4 | T27: =SUMPRODUCT(COUNTIF(jourferies,(ROW(INDIRECT(I27&":"&L27))))) -> 1 | U27: =P27*$U$26 -> 154 | V27: =Q27*$U$26 -> 161 | Z27: ="Noël "&CHAR(10)&TEXT(AA27,"""(""mmm aaaa"")""") -> Noël (déc 2019) | AA27: =DATE(C5-1,12,20) -> 43819 | AB27: =AA27+14 -> 43833 | AC27: =AB27+1 -> 43834 | AD27: ="Année scolaire "&YEAR(AA27)&"-"&YEAR(AA32) -> Année scolaire 2019-2020
B28: Pâques | C28: =DATE($A$26,3,29.56+0.979*MOD(204-11*MOD($A$26,19),30)-WEEKDAY(DATE($A$26,3,28.56+0.979*MOD(204-11*MOD($A$26,19),30)))) -> 43933 | D28: =IF(WEEKDAY(C28,2)=6,1,0) -> 0 | E28: =IF(WEEKDAY(C28,2)=7,1,0) -> 1 | F28: 2 | G28: Février | H28: =MONTH(1&G28) -> 2 | I28: =DATE($A$26,H28,1) -> 43862 | J28: =WEEKDAY(I28,2) -> 6 | K28: =INDEX(JoursSem,J28,1) -> Samedi | L28: =DATE($A$26,MONTH(DATE($A$26,H28,1))+1,0) -> 43890 | M28: =WEEKDAY(L28,2) -> 6 | N28: =INDEX(JoursSem,M28,1) -> Samedi | O28: =DATE(YEAR(I28),MONTH(I28)+1,1)-I28 -> 29 | P28: =NETWORKDAYS($I28,$L28,jourferies) -> 20 | Q28: =NETWORKDAYS($I28,$L28) -> 20 | R28: =SUMPRODUCT((WEEKDAY(ROW(INDIRECT("A"&I28&":"&"A"&L28)),2)=6)*1) -> 5 | S28: =SUMPRODUCT((WEEKDAY(ROW(INDIRECT("A"&I28&":"&"A"&L28)),2)=7)*1) -> 4 | T28: =SUMPRODUCT(COUNTIF(jourferies,(ROW(INDIRECT(I28&":"&L28))))) -> 0 | U28: =P28*$U$26 -> 140 | V28: =Q28*$U$26 -> 140 | Z28: ="Hiver "&CHAR(10)&TEXT(AA28,"""(""mmm aaaa"")""") -> Hiver (févr 2020) | AA28: =AA27+65 -> 43884 | AB28: =AA28+14 -> 43898 | AC28: =AB28+1 -> 43899
B29: Lundi de Pâques | C29: =C28+1 -> 43934 | D29: =IF(WEEKDAY(C29,2)=6,1,0) -> 0 | E29: =IF(WEEKDAY(C29,2)=7,1,0) -> 0 | F29: 3 | G29: Mars | H29: =MONTH(1&G29) -> 3 | I29: =DATE($A$26,H29,1) -> 43891 | J29: =WEEKDAY(I29,2) -> 7 | K29: =INDEX(JoursSem,J29,1) -> Dimanche | L29: =DATE($A$26,MONTH(DATE($A$26,H29,1))+1,0) -> 43921 | M29: =WEEKDAY(L29,2) -> 2 | N29: =INDEX(JoursSem,M29,1) -> Mardi | O29: =DATE(YEAR(I29),MONTH(I29)+1,1)-I29 -> 31 | P29: =NETWORKDAYS($I29,$L29,jourferies) -> 22 | Q29: =NETWORKDAYS($I29,$L29) -> 22 | R29: =SUMPRODUCT((WEEKDAY(ROW(INDIRECT("A"&I29&":"&"A"&L29)),2)=6)*1) -> 4 | S29: =SUMPRODUCT((WEEKDAY(ROW(INDIRECT("A"&I29&":"&"A"&L29)),2)=7)*1) -> 5 | T29: =SUMPRODUCT(COUNTIF(jourferies,(ROW(INDIRECT(I29&":"&L29))))) -> 0 | U29: =P29*$U$26 -> 154 | V29: =Q29*$U$26 -> 154 | Z29: ="Printemps "&CHAR(10)&TEXT(AA29,"""(""mmm aaaa"")""") -> Printemps (avr 2020) | AA29: =AA28+56 -> 43940 | AB29: =AA29+14 -> 43954 | AC29: =AB29+1 -> 43955
B30: Fête du travail | C30: =DATE($A$26,5,1) -> 43952 | D30: =IF(WEEKDAY(C30,2)=6,1,0) -> 0 | E30: =IF(WEEKDAY(C30,2)=7,1,0) -> 0 | F30: 4 | G30: Avril | H30: =MONTH(1&G30) -> 4 | I30: =DATE($A$26,H30,1) -> 43922 | J30: =WEEKDAY(I30,2) -> 3 | K30: =INDEX(JoursSem,J30,1) -> Mercredi | L30: =DATE($A$26,MONTH(DATE($A$26,H30,1))+1,0) -> 43951 | M30: =WEEKDAY(L30,2) -> 4 | N30: =INDEX(JoursSem,M30,1) -> Jeudi | O30: =DATE(YEAR(I30),MONTH(I30)+1,1)-I30 -> 30 | P30: =NETWORKDAYS($I30,$L30,jourferies) -> 21 | Q30: =NETWORKDAYS($I30,$L30) -> 22 | R30: =SUMPRODUCT((WEEKDAY(ROW(INDIRECT("A"&I30&":"&"A"&L30)),2)=6)*1) -> 4 | S30: =SUMPRODUCT((WEEKDAY(ROW(INDIRECT("A"&I30&":"&"A"&L30)),2)=7)*1) -> 4 | T30: =SUMPRODUCT(COUNTIF(jourferies,(ROW(INDIRECT(I30&":"&L30))))) -> 2 | U30: =P30*$U$26 -> 147 | V30: =Q30*$U$26 -> 154 | Z30: ="Ascension "&CHAR(10)&TEXT(AA30,"""(""mmm aaaa"")""") -> Ascension (mai 2020) | AA30: =AA29+32 -> 43972 | AB30: =AA30+3 -> 43975 | AC30: =AB30+1 -> 43976
B31: Victoire 1945 | C31: =DATE($A$26,5,8) -> 43959 | D31: =IF(WEEKDAY(C31,2)=6,1,0) -> 0 | E31: =IF(WEEKDAY(C31,2)=7,1,0) -> 0 | F31: 5 | G31: Mai | H31: =MONTH(1&G31) -> 5 | I31: =DATE($A$26,H31,1) -> 43952 | J31: =WEEKDAY(I31,2) -> 5 | K31: =INDEX(JoursSem,J31,1) -> Vendredi | L31: =DATE($A$26,MONTH(DATE($A$26,H31,1))+1,0) -> 43982 | M31: =WEEKDAY(L31,2) -> 7 | N31: =INDEX(JoursSem,M31,1) -> Dimanche | O31: =DATE(YEAR(I31),MONTH(I31)+1,1)-I31 -> 31 | P31: =NETWORKDAYS($I31,$L31,jourferies) -> 18 | Q31: =NETWORKDAYS($I31,$L31) -> 21 | R31: =SUMPRODUCT((WEEKDAY(ROW(INDIRECT("A"&I31&":"&"A"&L31)),2)=6)*1) -> 5 | S31: =SUMPRODUCT((WEEKDAY(ROW(INDIRECT("A"&I31&":"&"A"&L31)),2)=7)*1) -> 5 | T31: =SUMPRODUCT(COUNTIF(jourferies,(ROW(INDIRECT(I31&":"&L31))))) -> 4 | U31: =P31*$U$26 -> 126 | V31: =Q31*$U$26 -> 147 | Z31: ="Eté "&CHAR(10)&TEXT(AA31,"""(""mmm aaaa"")""") -> Eté (juil 2020) | AA31: =AA30+45 -> 44017 | AB31: =AA31+57 -> 44074 | AC31: =AB31+1 -> 44075
B32: Ascension | C32: =C28+39 -> 43972 | D32: =IF(WEEKDAY(C32,2)=6,1,0) -> 0 | E32: =IF(WEEKDAY(C32,2)=7,1,0) -> 0 | F32: 6 | G32: Juin | H32: =MONTH(1&G32) -> 6 | I32: =DATE($A$26,H32,1) -> 43983 | J32: =WEEKDAY(I32,2) -> 1 | K32: =INDEX(JoursSem,J32,1) -> Lundi | L32: =DATE($A$26,MONTH(DATE($A$26,H32,1))+1,0) -> 44012 | M32: =WEEKDAY(L32,2) -> 2 | N32: =INDEX(JoursSem,M32,1) -> Mardi | O32: =DATE(YEAR(I32),MONTH(I32)+1,1)-I32 -> 30 | P32: =NETWORKDAYS($I32,$L32,jourferies) -> 21 | Q32: =NETWORKDAYS($I32,$L32) -> 22 | R32: =SUMPRODUCT((WEEKDAY(ROW(INDIRECT("A"&I32&":"&"A"&L32)),2)=6)*1) -> 4 | S32: =SUMPRODUCT((WEEKDAY(ROW(INDIRECT("A"&I32&":"&"A"&L32)),2)=7)*1) -> 4 | T32: =SUMPRODUCT(COUNTIF(jourferies,(ROW(INDIRECT(I32&":"&L32))))) -> 1 | U32: =P32*$U$26 -> 147 | V32: =Q32*$U$26 -> 154 | Z32: ="Toussaint "&CHAR(10)&TEXT(AA32,"""(""mmm aaaa"")""") -> Toussaint (oct 2020) | AA32: =AC31+47 -> 44122 | AB32: =AA32+14 -> 44136 | AC32: =AB32+1 -> 44137 | AD32: ="Année scolaire "&YEAR(AC31)&"-"&YEAR(AA37) -> Année scolaire 2020-2021
B33: Pentecôte | C33: =C28+49 -> 43982 | D33: =IF(WEEKDAY(C33,2)=6,1,0) -> 0 | E33: =IF(WEEKDAY(C33,2)=7,1,0) -> 1 | F33: 7 | G33: Juillet | H33: =MONTH(1&G33) -> 7 | I33: =DATE($A$26,H33,1) -> 44013 | J33: =WEEKDAY(I33,2) -> 3 | K33: =INDEX(JoursSem,J33,1) -> Mercredi | L33: =DATE($A$26,MONTH(DATE($A$26,H33,1))+1,0) -> 44043 | M33: =WEEKDAY(L33,2) -> 5 | N33: =INDEX(JoursSem,M33,1) -> Vendredi | O33: =DATE(YEAR(I33),MONTH(I33)+1,1)-I33 -> 31 | P33: =NETWORKDAYS($I33,$L33,jourferies) -> 22 | Q33: =NETWORKDAYS($I33,$L33) -> 23 | R33: =SUMPRODUCT((WEEKDAY(ROW(INDIRECT("A"&I33&":"&"A"&L33)),2)=6)*1) -> 4 | S33: =SUMPRODUCT((WEEKDAY(ROW(INDIRECT("A"&I33&":"&"A"&L33)),2)=7)*1) -> 4 | T33: =SUMPRODUCT(COUNTIF(jourferies,(ROW(INDIRECT(I33&":"&L33))))) -> 1 | U33: =P33*$U$26 -> 154 | V33: =Q33*$U$26 -> 161 | Z33: ="Noël "&CHAR(10)&TEXT(AA33,"""(""mmm aaaa"")""") -> Noël (déc 2020) | AA33: =AA32+63 -> 44185 | AB33: =AA33+14 -> 44199 | AC33: =AB33+1 -> 44200
B34: Lun Pent. | C34: =C33+1 -> 43983 | D34: =IF(WEEKDAY(C34,2)=6,1,0) -> 0 | E34: =IF(WEEKDAY(C34,2)=7,1,0) -> 0 | F34: 8 | G34: Août | H34: =MONTH(1&G34) -> 8 | I34: =DATE($A$26,H34,1) -> 44044 | J34: =WEEKDAY(I34,2) -> 6 | K34: =INDEX(JoursSem,J34,1) -> Samedi | L34: =DATE($A$26,MONTH(DATE($A$26,H34,1))+1,0) -> 44074 | M34: =WEEKDAY(L34,2) -> 1 | N34: =INDEX(JoursSem,M34,1) -> Lundi | O34: =DATE(YEAR(I34),MONTH(I34)+1,1)-I34 -> 31 | P34: =NETWORKDAYS($I34,$L34,jourferies) -> 21 | Q34: =NETWORKDAYS($I34,$L34) -> 21 | R34: =SUMPRODUCT((WEEKDAY(ROW(INDIRECT("A"&I34&":"&"A"&L34)),2)=6)*1) -> 5 | S34: =SUMPRODUCT((WEEKDAY(ROW(INDIRECT("A"&I34&":"&"A"&L34)),2)=7)*1) -> 5 | T34: =SUMPRODUCT(COUNTIF(jourferies,(ROW(INDIRECT(I34&":"&L34))))) -> 1 | U34: =P34*$U$26 -> 147 | V34: =Q34*$U$26 -> 147 | Z34: ="Hiver "&CHAR(10)&TEXT(AA34,"""(""mmm aaaa"")""") -> Hiver (févr 2021) | AA34: =AA33+49 -> 44234 | AB34: =AA34+14 -> 44248 | AC34: =AB34+1 -> 44249
B35: Fête Nationale | C35: =DATE($A$26,7,14) -> 44026 | D35: =IF(WEEKDAY(C35,2)=6,1,0) -> 0 | E35: =IF(WEEKDAY(C35,2)=7,1,0) -> 0 | F35: 9 | G35: Septembre | H35: =MONTH(1&G35) -> 9 | I35: =DATE($A$26,H35,1) -> 44075 | J35: =WEEKDAY(I35,2) -> 2 | K35: =INDEX(JoursSem,J35,1) -> Mardi | L35: =DATE($A$26,MONTH(DATE($A$26,H35,1))+1,0) -> 44104 | M35: =WEEKDAY(L35,2) -> 3 | N35: =INDEX(JoursSem,M35,1) -> Mercredi | O35: =DATE(YEAR(I35),MONTH(I35)+1,1)-I35 -> 30 | P35: =NETWORKDAYS($I35,$L35,jourferies) -> 22 | Q35: =NETWORKDAYS($I35,$L35) -> 22 | R35: =SUMPRODUCT((WEEKDAY(ROW(INDIRECT("A"&I35&":"&"A"&L35)),2)=6)*1) -> 4 | S35: =SUMPRODUCT((WEEKDAY(ROW(INDIRECT("A"&I35&":"&"A"&L35)),2)=7)*1) -> 4 | T35: =SUMPRODUCT(COUNTIF(jourferies,(ROW(INDIRECT(I35&":"&L35))))) -> 0 | U35: =P35*$U$26 -> 154 | V35: =Q35*$U$26 -> 154 | Z35: ="Printemps "&CHAR(10)&TEXT(AA35,"""(""mmm aaaa"")""") -> Printemps (avr 2021) | AA35: =AA34+63 -> 44297 | AB35: =AA35+14 -> 44311 | AC35: =AB35+1 -> 44312
B36: Assomption | C36: =DATE($A$26,8,15) -> 44058 | D36: =IF(WEEKDAY(C36,2)=6,1,0) -> 1 | E36: =IF(WEEKDAY(C36,2)=7,1,0) -> 0 | F36: 10 | G36: Octobre | H36: =MONTH(1&G36) -> 10 | I36: =DATE($A$26,H36,1) -> 44105 | J36: =WEEKDAY(I36,2) -> 4 | K36: =INDEX(JoursSem,J36,1) -> Jeudi | L36: =DATE($A$26,MONTH(DATE($A$26,H36,1))+1,0) -> 44135 | M36: =WEEKDAY(L36,2) -> 6 | N36: =INDEX(JoursSem,M36,1) -> Samedi | O36: =DATE(YEAR(I36),MONTH(I36)+1,1)-I36 -> 31 | P36: =NETWORKDAYS($I36,$L36,jourferies) -> 22 | Q36: =NETWORKDAYS($I36,$L36) -> 22 | R36: =SUMPRODUCT((WEEKDAY(ROW(INDIRECT("A"&I36&":"&"A"&L36)),2)=6)*1) -> 5 | S36: =SUMPRODUCT((WEEKDAY(ROW(INDIRECT("A"&I36&":"&"A"&L36)),2)=7)*1) -> 4 | T36: =SUMPRODUCT(COUNTIF(jourferies,(ROW(INDIRECT(I36&":"&L36))))) -> 0 | U36: =P36*$U$26 -> 154 | V36: =Q36*$U$26 -> 154 | Z36: ="Ascension "&CHAR(10)&TEXT(AA36,"""(""mmm aaaa"")""") -> Ascension (mai 2021) | AA36: =AA35+32 -> 44329 | AB36: =AA36+3 -> 44332 | AC36: =AB36+1 -> 44333
B37: Toussaint | C37: =DATE($A$26,11,1) -> 44136 | D37: =IF(WEEKDAY(C37,2)=6,1,0) -> 0 | E37: =IF(WEEKDAY(C37,2)=7,1,0) -> 1 | F37: 11 | G37: Novembre | H37: =MONTH(1&G37) -> 11 | I37: =DATE($A$26,H37,1) -> 44136 | J37: =WEEKDAY(I37,2) -> 7 | K37: =INDEX(JoursSem,J37,1) -> Dimanche | L37: =DATE($A$26,MONTH(DATE($A$26,H37,1))+1,0) -> 44165 | M37: =WEEKDAY(L37,2) -> 1 | N37: =INDEX(JoursSem,M37,1) -> Lundi | O37: =DATE(YEAR(I37),MONTH(I37)+1,1)-I37 -> 30 | P37: =NETWORKDAYS($I37,$L37,jourferies) -> 20 | Q37: =NETWORKDAYS($I37,$L37) -> 21 | R37: =SUMPRODUCT((WEEKDAY(ROW(INDIRECT("A"&I37&":"&"A"&L37)),2)=6)*1) -> 4 | S37: =SUMPRODUCT((WEEKDAY(ROW(INDIRECT("A"&I37&":"&"A"&L37)),2)=7)*1) -> 5 | T37: =SUMPRODUCT(COUNTIF(jourferies,(ROW(INDIRECT(I37&":"&L37))))) -> 2 | U37: =P37*$U$26 -> 140 | V37: =Q37*$U$26 -> 147 | Z37: ="Eté "&CHAR(10)&TEXT(AA37,"""(""mmm aaaa"")""") -> Eté (juil 2021) | AA37: =AA36+54 -> 44383 | AB37: =AA37+56 -> 44439 | AC37: =AB37+1 -> 44440
B38: Victoire 1918 | C38: =DATE($A$26,11,11) -> 44146 | D38: =IF(WEEKDAY(C38,2)=6,1,0) -> 0 | E38: =IF(WEEKDAY(C38,2)=7,1,0) -> 0 | F38: 12 | G38: Décembre | H38: =MONTH(1&G38) -> 12 | I38: =DATE($A$26,H38,1) -> 44166 | J38: =WEEKDAY(I38,2) -> 2 | K38: =INDEX(JoursSem,J38,1) -> Mardi | L38: =DATE($A$26,MONTH(DATE($A$26,H38,1))+1,0) -> 44196 | M38: =WEEKDAY(L38,2) -> 4 | N38: =INDEX(JoursSem,M38,1) -> Jeudi | O38: =DATE(YEAR(I38),MONTH(I38)+1,1)-I38 -> 31 | P38: =NETWORKDAYS($I38,$L38,jourferies) -> 22 | Q38: =NETWORKDAYS($I38,$L38) -> 23 | R38: =SUMPRODUCT((WEEKDAY(ROW(INDIRECT("A"&I38&":"&"A"&L38)),2)=6)*1) -> 4 | S38: =SUMPRODUCT((WEEKDAY(ROW(INDIRECT("A"&I38&":"&"A"&L38)),2)=7)*1) -> 4 | T38: =SUMPRODUCT(COUNTIF(jourferies,(ROW(INDIRECT(I38&":"&L38))))) -> 1 | U38: =P38*$U$26 -> 154 | V38: =Q38*$U$26 -> 161 | Z38: ="Toussaint "&CHAR(10)&TEXT(AA38,"""(""mmm aaaa"")""") -> Toussaint (oct 2021) | AA38: =AC37+46 -> 44486 | AB38: =AA38+15 -> 44501 | AC38: =AB38+1 -> 44502 | AD38: ="Année scolaire "&YEAR(AC37)&"-"&YEAR(AA43) -> Année scolaire 2021-2022
B39: Noël | C39: =DATE($A$26,12,25) -> 44190 | D39: =IF(WEEKDAY(C39,2)=6,1,0) -> 0 | E39: =IF(WEEKDAY(C39,2)=7,1,0) -> 0 | F39: 13 | O39: =SUM(O27:O38) -> 366 | P39: =SUM(P27:P38) -> 253 | Q39: =SUM(Q27:Q38) -> 262 | R39: =SUM(R27:R38) -> 52 | S39: =SUM(S27:S38) -> 52 | T39: =SUM(T27:T38) -> 13 | Z39: ="Noël "&CHAR(10)&TEXT(AA39,"""(""mmm aaaa"")""") -> Noël (déc 2021) | AA39: =AA38+63 -> 44549 | AB39: =AA39+14 -> 44563 | AC39: =AB39+1 -> 44564
B40: Jour de l'An | C40: =DATE($A$26+1,1,1) -> 44197 | D40: =IF(WEEKDAY(C40,2)=6,1,0) -> 0 | E40: =IF(WEEKDAY(C40,2)=7,1,0) -> 0 | F40: 14 | Z40: ="Hiver "&CHAR(10)&TEXT(AA40,"""(""mmm aaaa"")""") -> Hiver (févr 2022) | AA40: =AA39+56 -> 44605 | AB40: =AA40+14 -> 44619 | AC40: =AB40+1 -> 44620
B41: Pâques | C41: =DATE($A$26+1,3,29.56+0.979*MOD(204-11*MOD($A$26+1,19),30)-WEEKDAY(DATE($A$26+1,3,28.56+0.979*MOD(204-11*MOD($A$26+1,19),30)))) -> 44290 | D41: =IF(WEEKDAY(C41,2)=6,1,0) -> 0 | E41: =IF(WEEKDAY(C41,2)=7,1,0) -> 1 | F41: 15 | Z41: ="Printemps "&CHAR(10)&TEXT(AA41,"""(""mmm aaaa"")""") -> Printemps (avr 2022) | AA41: =AA40+56 -> 44661 | AB41: =AA41+14 -> 44675 | AC41: =AB41+1 -> 44676
B42: Lundi de Pâques | C42: =C41+1 -> 44291 | D42: =IF(WEEKDAY(C42,2)=6,1,0) -> 0 | E42: =IF(WEEKDAY(C42,2)=7,1,0) -> 0 | F42: 16 | H42: Tous les évènements | Z42: ="Ascension "&CHAR(10)&TEXT(AA42,"""(""mmm aaaa"")""") -> Ascension (mai 2022) | AA42: =AA41+46 -> 44707 | AB42: =AA42+3 -> 44710 | AC42: =AB42+1 -> 44711
B43: Fête du travail | C43: =DATE($A$26+1,5,1) -> 44317 | D43: =IF(WEEKDAY(C43,2)=6,1,0) -> 1 | E43: =IF(WEEKDAY(C43,2)=7,1,0) -> 0 | F43: 17 | G43: =C5 -> 2020 | Z43: ="Eté "&CHAR(10)&TEXT(AA43,"""(""mmm aaaa"")""") -> Eté (juil 2022) | AA43: =AA42+38 -> 44745
B44: Victoire 1945 | C44: =DATE($A$26+1,5,8) -> 44324 | D44: =IF(WEEKDAY(C44,2)=6,1,0) -> 1 | E44: =IF(WEEKDAY(C44,2)=7,1,0) -> 0 | F44: 18 | H44: Date naissance | I44: Jours nais. | K44: Evenements
B45: Ascension | C45: =C41+39 -> 44329 | D45: =IF(WEEKDAY(C45,2)=6,1,0) -> 0 | E45: =IF(WEEKDAY(C45,2)=7,1,0) -> 0 | F45: 19 | G45: EvtMichel | H45: 18975 | I45: =DATE($A$26,MONTH(H45),DAY(H45)) -> 44178 | K45: =YEAR(I45)-YEAR(H45)&" an Michel" -> 69 an Michel
B46: Pentecôte | C46: =C41+49 -> 44339 | D46: =IF(WEEKDAY(C46,2)=6,1,0) -> 0 | E46: =IF(WEEKDAY(C46,2)=7,1,0) -> 1 | F46: 20 | H46: 18147 | I46: =DATE($A$26,MONTH(H46),DAY(H46)) -> 44080 | K46: =YEAR(I46)-YEAR(H46)&" an J. Marie" -> 71 an J. Marie
B47: Lun Pent. | C47: =C46+1 -> 44340 | D47: =IF(WEEKDAY(C47,2)=6,1,0) -> 0 | E47: =IF(WEEKDAY(C47,2)=7,1,0) -> 0 | F47: 21 | H47: 19652 | I47: =DATE($A$26,MONTH(H47),DAY(H47)) -> 44124 | K47: =YEAR(I47)-YEAR(H47)&" an Didier" -> 67 an Didier
B48: Fête Nationale | C48: =DATE($A$26+1,7,14) -> 44391 | D48: =IF(WEEKDAY(C48,2)=6,1,0) -> 0 | E48: =IF(WEEKDAY(C48,2)=7,1,0) -> 0 | F48: 22 | H48: 21702 | I48: =DATE($A$26,MONTH(H48),DAY(H48)) -> 43983 | K48: =YEAR(I48)-YEAR(H48)&" an M. Claire" -> 61 an M. Claire
B49: Assomption | C49: =DATE($A$26+1,8,15) -> 44423 | D49: =IF(WEEKDAY(C49,2)=6,1,0) -> 0 | E49: =IF(WEEKDAY(C49,2)=7,1,0) -> 1 | F49: 23 | H49: 28635 | I49: =DATE($A$26,MONTH(H49),DAY(H49)) -> 43976 | K49: =YEAR(I49)-YEAR(H49)&" an Carole" -> 42 an Carole
B50: Toussaint | C50: =DATE($A$26+1,11,1) -> 44501 | D50: =IF(WEEKDAY(C50,2)=6,1,0) -> 0 | E50: =IF(WEEKDAY(C50,2)=7,1,0) -> 0 | F50: 24 | H50: 29171 | I50: =DATE($A$26,MONTH(H50),DAY(H50)) -> 44147 | K50: =YEAR(I50)-YEAR(H50)&" an Albane" -> 41 an Albane
B51: Victoire 1918 | C51: =DATE($A$26+1,11,11) -> 44511 | D51: =IF(WEEKDAY(C51,2)=6,1,0) -> 0 | E51: =IF(WEEKDAY(C51,2)=7,1,0) -> 0 | F51: 25 | H51: 29171 | I51: =DATE($A$26,MONTH(H51),DAY(H51)) -> 44147 | K51: =YEAR(I51)-YEAR(H51)&" an Simon" -> 41 an Simon
B52: Noël | C52: =DATE($A$26+1,12,25) -> 44555 | D52: =IF(WEEKDAY(C52,2)=6,1,0) -> 1 | E52: =IF(WEEKDAY(C52,2)=7,1,0) -> 0 | F52: 26 | H52: 29197 | I52: =DATE($A$26,MONTH(H52),DAY(H52)) -> 44173 | K52: =YEAR(I52)-YEAR(H52)&" an Maud" -> 41 an Maud
B53: Jour de l'An | C53: =DATE($A$26+2,1,1) -> 44562 | D53: =IF(WEEKDAY(C53,2)=6,1,0) -> 1 | E53: =IF(WEEKDAY(C53,2)=7,1,0) -> 0 | F53: 27 | H53: 29465 | I53: =DATE($A$26,MONTH(H53),DAY(H53)) -> 44075 | K53: =YEAR(I53)-YEAR(H53)&" an Gwénaëlle" -> 40 an Gwénaëlle
B54: Pâques | C54: =DATE($A$26+2,3,29.56+0.979*MOD(204-11*MOD($A$26+2,19),30)-WEEKDAY(DATE($A$26+2,3,28.56+0.979*MOD(204-11*MOD($A$26+2,19),30)))) -> 44668 | D54: =IF(WEEKDAY(C54,2)=6,1,0) -> 0 | E54: =IF(WEEKDAY(C54,2)=7,1,0) -> 1 | F54: 28 | H54: 31158 | I54: =DATE($A$26,MONTH(H54),DAY(H54)) -> 43942 | K54: =YEAR(I54)-YEAR(H54)&" an Orane" -> 35 an Orane
B55: Lundi de Pâques | C55: =C54+1 -> 44669 | D55: =IF(WEEKDAY(C55,2)=6,1,0) -> 0 | E55: =IF(WEEKDAY(C55,2)=7,1,0) -> 0 | F55: 29 | H55: 32472 | I55: =DATE($A$26,MONTH(H55),DAY(H55)) -> 44160 | K55: =YEAR(I55)-YEAR(H55)&" an Emeline" -> 32 an Emeline
B56: Fête du travail | C56: =DATE($A$26+2,5,1) -> 44682 | D56: =IF(WEEKDAY(C56,2)=6,1,0) -> 0 | E56: =IF(WEEKDAY(C56,2)=7,1,0) -> 1 | F56: 30 | H56: 32613 | I56: =DATE($A$26,MONTH(H56),DAY(H56)) -> 43936 | K56: =YEAR(I56)-YEAR(H56)&" an Mathieu" -> 31 an Mathieu
B57: Victoire 1945 | C57: =DATE($A$26+2,5,8) -> 44689 | D57: =IF(WEEKDAY(C57,2)=6,1,0) -> 0 | E57: =IF(WEEKDAY(C57,2)=7,1,0) -> 1 | F57: 31 | H57: 36299 | I57: =DATE($A$26,MONTH(H57),DAY(H57)) -> 43970 | K57: =YEAR(I57)-YEAR(H57)&" an Émilie" -> 21 an Émilie
B58: Ascension | C58: =C54+39 -> 44707 | D58: =IF(WEEKDAY(C58,2)=6,1,0) -> 0 | E58: =IF(WEEKDAY(C58,2)=7,1,0) -> 0 | F58: 32 | H58: 36868 | I58: =DATE($A$26,MONTH(H58),DAY(H58)) -> 44173 | K58: =YEAR(I58)-YEAR(H58)&" an Hugo" -> 20 an Hugo
B59: Pentecôte | C59: =C54+49 -> 44717 | D59: =IF(WEEKDAY(C59,2)=6,1,0) -> 0 | E59: =IF(WEEKDAY(C59,2)=7,1,0) -> 1 | F59: 33 | H59: 37699 | I59: =DATE($A$26,MONTH(H59),DAY(H59)) -> 43909 | K59: =YEAR(I59)-YEAR(H59)&" an Rémi" -> 17 an Rémi
B60: Lun Pent. | C60: =C59+1 -> 44718 | D60: =IF(WEEKDAY(C60,2)=6,1,0) -> 0 | E60: =IF(WEEKDAY(C60,2)=7,1,0) -> 0 | F60: 34 | H60: 38078 | I60: =DATE($A$26,MONTH(H60),DAY(H60)) -> 43922 | K60: =YEAR(I60)-YEAR(H60)&" an Kelyan" -> 16 an Kelyan
B61: Fête Nationale | C61: =DATE($A$26+2,7,14) -> 44756 | D61: =IF(WEEKDAY(C61,2)=6,1,0) -> 0 | E61: =IF(WEEKDAY(C61,2)=7,1,0) -> 0 | F61: 35 | H61: 39607 | I61: =DATE($A$26,MONTH(H61),DAY(H61)) -> 43990 | K61: =YEAR(I61)-YEAR(H61)&" an Clara" -> 12 an Clara
B62: Assomption | C62: =DATE($A$26+2,8,15) -> 44788 | D62: =IF(WEEKDAY(C62,2)=6,1,0) -> 0 | E62: =IF(WEEKDAY(C62,2)=7,1,0) -> 0 | F62: 36 | H62: 39636 | I62: =DATE($A$26,MONTH(H62),DAY(H62)) -> 44019 | K62: =YEAR(I62)-YEAR(H62)&" an Mathéo" -> 12 an Mathéo
B63: Toussaint | C63: =DATE($A$26+2,11,1) -> 44866 | D63: =IF(WEEKDAY(C63,2)=6,1,0) -> 0 | E63: =IF(WEEKDAY(C63,2)=7,1,0) -> 0 | F63: 37
B64: Victoire 1918 | C64: =DATE($A$26+2,11,11) -> 44876 | D64: =IF(WEEKDAY(C64,2)=6,1,0) -> 0 | E64: =IF(WEEKDAY(C64,2)=7,1,0) -> 0 | F64: 38
B65: Noël | C65: =DATE($A$26+2,12,25) -> 44920 | D65: =IF(WEEKDAY(C65,2)=6,1,0) -> 0 | E65: =IF(WEEKDAY(C65,2)=7,1,0) -> 1 | F65: 39 | G65: EvtMarie | H65: 19310 | I65: =DATE($A$26,MONTH(H65),DAY(H65)) -> 44147 | K65: =YEAR(I65)-YEAR(H65)&" an Marie" -> 68 an Marie
B66: Jour de l'An | C66: =DATE($A$26+3,1,1) -> 44927 | D66: =IF(WEEKDAY(C66,2)=6,1,0) -> 0 | E66: =IF(WEEKDAY(C66,2)=7,1,0) -> 1 | F66: 40 | H66: 27864 | I66: =DATE($A$26,MONTH(H66),DAY(H66)) -> 43935 | K66: =YEAR(I66)-YEAR(H66)&" an Jérôme" -> 44 an Jérôme
B67: Pâques | C67: =DATE($A$26+3,3,29.56+0.979*MOD(204-11*MOD($A$26+3,19),30)-WEEKDAY(DATE($A$26+3,3,28.56+0.979*MOD(204-11*MOD($A$26+3,19),30)))) -> 45025 | D67: =IF(WEEKDAY(C67,2)=6,1,0) -> 0 | E67: =IF(WEEKDAY(C67,2)=7,1,0) -> 1 | F67: 41 | H67: 28622 | I67: =DATE($A$26,MONTH(H67),DAY(H67)) -> 43963 | K67: =YEAR(I67)-YEAR(H67)&" an Sabrina" -> 42 an Sabrina
B68: Lundi de Pâques | C68: =C67+1 -> 45026 | D68: =IF(WEEKDAY(C68,2)=6,1,0) -> 0 | E68: =IF(WEEKDAY(C68,2)=7,1,0) -> 0 | F68: 42 | H68: 39561 | I68: =DATE($A$26,MONTH(H68),DAY(H68)) -> 43944 | K68: =YEAR(I68)-YEAR(H68)&" an Émma" -> 12 an Émma
B69: Fête du travail | C69: =DATE($A$26+3,5,1) -> 45047 | D69: =IF(WEEKDAY(C69,2)=6,1,0) -> 0 | E69: =IF(WEEKDAY(C69,2)=7,1,0) -> 0 | F69: 43 | H69: 40583 | I69: =DATE($A$26,MONTH(H69),DAY(H69)) -> 43870 | K69: =YEAR(I69)-YEAR(H69)&" an Maxence" -> 9 an Maxence
B70: Victoire 1945 | C70: =DATE($A$26+3,5,8) -> 45054 | D70: =IF(WEEKDAY(C70,2)=6,1,0) -> 0 | E70: =IF(WEEKDAY(C70,2)=7,1,0) -> 0 | F70: 44 | H70: 41085 | I70: =DATE($A$26,MONTH(H70),DAY(H70)) -> 44007 | K70: =YEAR(I70)-YEAR(H70)&" an Justine" -> 8 an Justine
B71: Ascension | C71: =C67+39 -> 45064 | D71: =IF(WEEKDAY(C71,2)=6,1,0) -> 0 | E71: =IF(WEEKDAY(C71,2)=7,1,0) -> 0 | F71: 45
B72: Pentecôte | C72: =C67+49 -> 45074 | D72: =IF(WEEKDAY(C72,2)=6,1,0) -> 0 | E72: =IF(WEEKDAY(C72,2)=7,1,0) -> 1 | F72: 46
B73: Lun Pent. | C73: =C72+1 -> 45075 | D73: =IF(WEEKDAY(C73,2)=6,1,0) -> 0 | E73: =IF(WEEKDAY(C73,2)=7,1,0) -> 0 | F73: 47
B74: Fête Nationale | C74: =DATE($A$26+3,7,14) -> 45121 | D74: =IF(WEEKDAY(C74,2)=6,1,0) -> 0 | E74: =IF(WEEKDAY(C74,2)=7,1,0) -> 0 | F74: 48
B75: Assomption | C75: =DATE($A$26+3,8,15) -> 45153 | D75: =IF(WEEKDAY(C75,2)=6,1,0) -> 0 | E75: =IF(WEEKDAY(C75,2)=7,1,0) -> 0 | F75: 49 | L75: Fêtes catholiques
B76: Toussaint | C76: =DATE($A$26+3,11,1) -> 45231 | D76: =IF(WEEKDAY(C76,2)=6,1,0) -> 0 | E76: =IF(WEEKDAY(C76,2)=7,1,0) -> 0 | F76: 50 | H76: =DATE($A$26,1,6) -> 43836 | I76: =DATE($A$26,1,9)-WEEKDAY(DATE(A26,1,8)) -> 43835 | K76: Ephiphanie | L76: 2èm dim après Noël. OU moins 49 J de Pâques
B77: Victoire 1918 | C77: =DATE($A$26+3,11,11) -> 45241 | D77: =IF(WEEKDAY(C77,2)=6,1,0) -> 1 | E77: =IF(WEEKDAY(C77,2)=7,1,0) -> 0 | F77: 51 | H77: =DATE($A$26,2,2) -> 43863 | I77: =DATE($A$26,MONTH(H77),DAY(H77)) -> 43863 | K77: Chandeleur | L77: la date est fixe, chaque elle a lieu le 2 février
B78: Noël | C78: =DATE($A$26+3,12,25) -> 45285 | D78: =IF(WEEKDAY(C78,2)=6,1,0) -> 0 | E78: =IF(WEEKDAY(C78,2)=7,1,0) -> 0 | F78: 52 | H78: =DATE($A$26,2,14) -> 43875 | I78: =DATE($A$26,MONTH(H78),DAY(H78)) -> 43875 | K78: Saint Valentin | L78: la date est fixe, chaque elle a lieu le 14 février
F79: 53 | H79: =$C$28-47 -> 43886 | I79: =DATE($A$26,MONTH(H79),DAY(H79)) -> 43886 | K79: Mardi gras | L79: moins 47 J de Pâques
H80: =$C$28-46 -> 43887 | I80: =DATE($A$26,MONTH(H80),DAY(H80)) -> 43887 | K80: Cendres | L80: moins 46 J de Pâques, ce jour correspond au début du Carême
H81: =$C$28-2 -> 43931 | I81: =DATE($A$26,MONTH(H81),DAY(H81)) -> 43931 | K81: Vendredi Saint | L81: 2 jours avant Pâques
G82: =DATE($C$5,6,1)-WEEKDAY(DATE($C$5,5,31)) -> 43982 | H82: =IF(G82=C34,"",G82+7) -> 43989 | I82: =DATE($A$26,MONTH(H82),DAY(H82)) -> 43989 | K82: F. des mères | L82: Dernier dimanche de mai, sauf si celui-ci est le dimanche de Pentecôte. Dans ce cas, la Fête des mères est reportée au premier dimanche de juin.
H83: =DATE($A$26,6,22)-WEEKDAY(DATE($A$26,6,7)) -> 44003 | I83: =DATE($A$26,MONTH(H83),DAY(H83)) -> 44003 | K83: F. des pères | L83: 3 èm dimanche de juin
H84: =DATE($A$26,3,8)-WEEKDAY(DATE($A$26,3,7)) -> 43891 | I84: =DATE($A$26,MONTH(H84),DAY(H84)) -> 43891 | K84: F. Grds-Mères | L84: 1er dimanche de mars
H85: =DATE($A$26,10,8)-WEEKDAY(DATE($A$26,10,7)) -> 44108 | I85: =DATE($A$26,MONTH(H85),DAY(H85)) -> 44108 | K85: F. Grds-Pères | L85: 1er dimanche d'octobre
L89: Saisons
H90: =VLOOKUP($C$5,Saison,2) -> 43910.201 | I90: =IF($C$5<=H90,DATE($A$26,MONTH(H90),DAY(H90))) -> 43910 | K90: Printemps | L90: Calcul jusquà 2025, onglet Saison
H91: =VLOOKUP($C$5,Saison,3) -> 44002.988 | I91: =IF($C$5<=H91,DATE($A$26,MONTH(H91),DAY(H91))) -> 44002 | K91: Été
H92: =VLOOKUP($C$5,Saison,4) -> 44096.646 | I92: =IF($C$5<=H92,DATE($A$26,MONTH(H92),DAY(H92))) -> 44096 | K92: Automne
H93: =VLOOKUP($C$5,Saison,5) -> 44186.46 | I93: =IF($C$5<=H93,DATE($A$26,MONTH(H93),DAY(H93))) -> 44186 | K93: Hiver

Sheet Lune
A1: Date | B1: lunes | C1: =Parametre!C5 -> 2020
A2: 43825
A3: 43833 | B3: 
A4: 43840 | B4: 
A5: 43847 | B5: 
A6: 43854 | B6: 
A7: 43862 | B7: 
A8: 43870 | B8: 
A9: 43877 | B9: 
A10: 43884 | B10: 
A11: 43892 | B11: 
A12: 43899 | B12: 
A13: 43906 | B13: 
A14: 43914 | B14: 
... A55: 44216 | B55: 

Sheet Saison
B1: Saisons
B2: Année | C2: Équinoxe de mars : Printemps | D2: Solstice de juin : Eté | E2: Équinoxe de septembre : Automne | F2: Solstice de décembre : Hiver
B3: 2020 | C3: 43910.201 | D3: 44002.988 | E3: 44096.646 | F3: 44186.46
B4: 2021 | C4: 44275.442 | D4: 44368.231 | E4: 44461.89 | F4: 44551.708
B5: 2022 | C5: 44640.69 | D5: 44733.467 | E5: 44827.127 | F5: 44916.95
B6: 2023 | C6: 45005.933 | D6: 45098.706 | E6: 45192.367 | F6: 45282.185
B7: 2024 | C7: 45371.171 | D7: 45463.951 | E7: 45557.613 | F7: 45647.431
B8: 2025 | C8: 45736.417 | D8: 45829.196 | E8: 45922.847 | F8: 46012.669

Sheet Saints
B1: Prénom | C1: Dates | D1: Année ==> | E1: =Parametre!C5 -> 2020 | G1: Calculs Jours | I1: Dates | J1: Tous les Saints
B2: Maria | C2: =DATEVALUE(G2&$E$1) -> 43831 | D2: Maria | G2: 01/01/ | I2: 43831 | J2: Maria
B3: Basile | C3: =DATEVALUE(G3&$E$1) -> 43832 | D3: Basile | G3: 02/01/ | I3: 43832 | J3: Basile
B4: Geneviève | C4: =DATEVALUE(G4&$E$1) -> 43833 | D4: Geneviève | G4: 03/01/ | I4: 43832 | J4: Vassili
B5: Odilon | C5: =DATEVALUE(G5&$E$1) -> 43834 | D5: Odilon | G5: 04/01/ | I5: 43833 | J5: Geneviève
B6: Edouard | C6: =DATEVALUE(G6&$E$1) -> 43835 | D6: Edouard | G6: 05/01/ | I6: 43833 | J6: Ginette
B7: Mélaine | C7: =DATEVALUE(G7&$E$1) -> 43836 | D7: Mélaine | G7: 06/01/ | I7: 43834 | J7: Eddie
B8: Raymond | C8: =DATEVALUE(G8&$E$1) -> 43837 | D8: Raymond | G8: 07/01/ | I8: 43834 | J8: Eddy
B9: Lucien | C9: =DATEVALUE(G9&$E$1) -> 43838 | D9: Lucien | G9: 08/01/ | I9: 43834 | J9: Odilon
B10: Alix | C10: =DATEVALUE(G10&$E$1) -> 43839 | D10: Alix | G10: 09/01/ | I10: 43835 | J10: Amélien
B11: Guillaume | C11: =DATEVALUE(G11&$E$1) -> 43840 | D11: Guillaume | G11: 10/01/ | I11: 43835 | J11: Édouard
B12: Paulin | C12: =DATEVALUE(G12&$E$1) -> 43841 | D12: Paulin | G12: 11/01/ | I12: 43835 | J12: Édouardine
B13: Tatiana | C13: =DATEVALUE(G13&$E$1) -> 43842 | D13: Tatiana | G13: 12/01/ | I13: 43835 | J13: Eduardo
... B371: Sylvestre | C371: =DATEVALUE(G371&$E$1) -> 44196 | D371: Sylvestre | G371: 31/12/ | I371: 43938 | J371: Anicet
I372: 43939 | J372: Greta
I373: 43939 | J373: Parfait
I374: 43940 | J374: Emma
I375: 43940 | J375: Werner
I376: 43941 | J376: Giraud
I377: 43941 | J377: Hildegonde
I378: 43941 | J378: Odette
I379: 43942 | J379: Anselme
I380: 43942 | J380: Selma
I381: 43943 | J381: Alexandra
I382: 43943 | J382: Alexandre
I383: 43944 | J383: George
... I1590: 44196 | J1590: Sylvestre

Sheet CalendrierAn
D2: =MONTH(1&H4) -> 1
G3: An | H3: =Parametre!C5 -> 2020 | O3: ="Jours Fériés, Lunes, Saints, Vacances & Anniversaires de "&TEXT(DATE($H$3,$B$4,1),"jj mmmm")&" au "&TEXT(DATE($H$3,$B$4+6,1)-1,"jj mmmm aaaa") -> Jours Fériés, Lunes, Saints, Vacances & Anniversaires de 01 janvier au 30 juin 2020 | AZ3: ="Jours Fériés, Lunes, Saints, Vacances & Anniversaires de "&TEXT(DATE($H$3,$B$4+6,1),"jj mmmm")&" au "&TEXT(DATE($H$3,$B$4+12,1)-1,"jj mmmm aaaa") -> Jours Fériés, Lunes, Saints, Vacances & Anniversaires de 01 juillet au 31 décembre 2020
B4: =MONTH(1&H4) -> 1 | G4: Mois | H4: Janvier
P5: Date de Pâques | Q5: =DATE(H3,3,29.56+0.979*MOD(204-11*MOD(H3,19),30)-WEEKDAY(DATE(H3,3,28.56+0.979*MOD(204-11*MOD(H3,19),30)))) -> 43933
C7: =PROPER(TEXT(C8,"mmmm")) -> Janvier | G7: =YEAR(C8) -> 2020 | J7: =PROPER(TEXT(J8,"mmmm")) -> Février | N7: =YEAR(J8) -> 2020 | Q7: =PROPER(TEXT(Q8,"mmmm")) -> Mars | U7: =YEAR(Q8) -> 2020 | X7: =PROPER(TEXT(X8,"mmmm")) -> Avril | AB7: =YEAR(X8) -> 2020 | AE7: =PROPER(TEXT(AE8,"mmmm")) -> Mai | AI7: =YEAR(AE8) -> 2020 | AL7: =PROPER(TEXT(AL8,"mmmm")) -> Juin | AP7: =YEAR(AL8) -> 2020 | AS7: =PROPER(TEXT(AS8,"mmmm")) -> Juillet | AW7: =YEAR(AS8) -> 2020 | AZ7: =PROPER(TEXT(AZ8,"mmmm")) -> Août | BD7: =YEAR(AZ8) -> 2020 | BG7: =PROPER(TEXT(BG8,"mmmm")) -> Septembre | BK7: =YEAR(BG8) -> 2020 | BN7: =PROPER(TEXT(BN8,"mmmm")) -> Octobre | BQ7: 2020 | BR7: =YEAR(BN8) -> 2020 | BU7: =PROPER(TEXT(BU8,"mmmm")) -> Novembre | BY7: =YEAR(BU8) -> 2020 | CB7: =PROPER(TEXT(CB8,"mmmm")) -> Décembre | CF7: =YEAR(CB8) -> 2020
B8: 1 | C8: =DATE($H$3,D2,1) -> 43831 | E8: =IF(WEEKDAY(C8)=4,INT(MOD(INT((C8-2)/7)+0.6,52+5/28))+1,"") -> 1 | F8: =IF(ISERROR(VLOOKUP(C8,Lune!$A$2:$B$55,2,FALSE)),"",VLOOKUP(C8,Lune!$A$2:$B$55,2,FALSE)) | G8: =IFERROR(IF(COUNTIF(Saints!$C$2:$C$371,C8)=0,"",INDEX(Saints!$D$2:$D$371,MATCH(C8,Saints!$C$2:$C$371,0))),"") -> Maria | H8: =IF(COUNTIF(Parametre!$C$27:$C$39,C8)=0,"",INDEX(Parametre!$B$27:$B$39,MATCH(C8,Parametre!$C$27:$C$39,0)))&""&IF(COUNTIF(Parametre!$I$45:$I$94,C8)=0,"",INDEX(Parametre!$K$45:$K$94,MATCH(C8,Parametre!$I$45:$I$94,0))) -> Jour de l'An | J8: =DATE(YEAR(C8),MONTH(C8)+1,1) -> 43862 | L8: =IF(WEEKDAY(C8)=4,INT(MOD(INT((J8-2)/7)+0.6,52+5/28))+1,"") -> 5 | M8: =IF(ISERROR(VLOOKUP(J8,Lune!$A$2:$B$55,2,FALSE)),"",VLOOKUP(J8,Lune!$A$2:$B$55,2,FALSE)) ->  | N8: =IFERROR(IF(COUNTIF(Saints!$C$2:$C$371,J8)=0,"",INDEX(Saints!$D$2:$D$371,MATCH(J8,Saints!$C$2:$C$371,0))),"") -> Ella | O8: =IF(COUNTIF(Parametre!$C$27:$C$39,J8)=0,"",INDEX(Parametre!$B$27:$B$39,MATCH(J8,Parametre!$C$27:$C$39,0)))&""&IF(COUNTIF(Parametre!$I$45:$I$94,J8)=0,"",INDEX(Parametre!$K$45:$K$94,MATCH(J8,Parametre!$I$45:$I$94,0))) | Q8: =DATE(YEAR(J8),MONTH(J8)+1,1) -> 43891 | S8: =IF(WEEKDAY(C8)=4,INT(MOD(INT((Q8-2)/7)+0.6,52+5/28))+1,"") -> 9 | T8: =IF(ISERROR(VLOOKUP(Q8,Lune!$A$2:$B$55,2,FALSE)),"",VLOOKUP(Q8,Lune!$A$2:$B$55,2,FALSE)) | U8: =IFERROR(IF(COUNTIF(Saints!$C$2:$C$371,Q8)=0,"",INDEX(Saints!$D$2:$D$371,MATCH(Q8,Saints!$C$2:$C$371,0))),"") -> Aubin | V8: =IF(COUNTIF(Parametre!$C$27:$C$39,Q8)=0,"",INDEX(Parametre!$B$27:$B$39,MATCH(Q8,Parametre!$C$27:$C$39,0)))&""&IF(COUNTIF(Parametre!$I$45:$I$94,Q8)=0,"",INDEX(Parametre!$K$45:$K$94,MATCH(Q8,Parametre!$I$45:$I$94,0))) -> F. Grds-Mères | X8: =DATE(YEAR(Q8),MONTH(Q8)+1,1) -> 43922 | Z8: =IF(WEEKDAY(C8)=4,INT(MOD(INT((X8-2)/7)+0.6,52+5/28))+1,"") -> 14 | AA8: =IF(ISERROR(VLOOKUP(X8,Lune!$A$2:$B$55,2,FALSE)),"",VLOOKUP(X8,Lune!$A$2:$B$55,2,FALSE)) ->  | AB8: =IFERROR(IF(COUNTIF(Saints!$C$2:$C$371,X8)=0,"",INDEX(Saints!$D$2:$D$371,MATCH(X8,Saints!$C$2:$C$371,0))),"") -> Hugues | AC8: =IF(COUNTIF(Parametre!$C$27:$C$39,X8)=0,"",INDEX(Parametre!$B$27:$B$39,MATCH(X8,Parametre!$C$27:$C$39,0)))&""&IF(COUNTIF(Parametre!$I$45:$I$94,X8)=0,"",INDEX(Parametre!$K$45:$K$94,MATCH(X8,Parametre!$I$45:$I$94,0))) -> 16 an Kelyan | AE8: =DATE(YEAR(X8),MONTH(X8)+1,1) -> 43952 | AG8: =IF(WEEKDAY(C8)=4,INT(MOD(INT((AE8-2)/7)+0.6,52+5/28))+1,"") -> 18 | AH8: =IF(ISERROR(VLOOKUP(AE8,Lune!$A$2:$B$55,2,FALSE)),"",VLOOKUP(AE8,Lune!$A$2:$B$55,2,FALSE)) | AI8: =IFERROR(IF(COUNTIF(Saints!$C$2:$C$371,AE8)=0,"",INDEX(Saints!$D$2:$D$371,MATCH(AE8,Saints!$C$2:$C$371,0))),"") -> Muguet | AJ8: =IF(COUNTIF(Parametre!$C$27:$C$39,AE8)=0,"",INDEX(Parametre!$B$27:$B$39,MATCH(AE8,Parametre!$C$27:$C$39,0)))&""&IF(COUNTIF(Parametre!$I$45:$I$94,AE8)=0,"",INDEX(Parametre!$K$45:$K$94,MATCH(AE8,Parametre!$I$45:$I$94,0))) -> Fête du travail | AL8: =DATE(YEAR(AE8),MONTH(AE8)+1,1) -> 43983 | AN8: =INT(MOD(INT((AL8-2)/7)+3/5,52+5/28))+1 -> 23 | AO8: =IF(ISERROR(VLOOKUP(AL8,Lune!$A$2:$B$55,2,FALSE)),"",VLOOKUP(AL8,Lune!$A$2:$B$55,2,FALSE)) | AP8: =IFERROR(IF(COUNTIF(Saints!$C$2:$C$371,AL8)=0,"",INDEX(Saints!$D$2:$D$371,MATCH(AL8,Saints!$C$2:$C$371,0))),"") -> Justin | AQ8: =IF(COUNTIF(Parametre!$C$27:$C$39,AL8)=0,"",INDEX(Parametre!$B$27:$B$39,MATCH(AL8,Parametre!$C$27:$C$39,0)))&"-"&IF(COUNTIF(Parametre!$I$45:$I$94,AL8)=0,"",INDEX(Parametre!$K$45:$K$94,MATCH(AL8,Parametre!$I$45:$I$94,0))) -> Lun Pent.-61 an M. Claire | AS8: =DATE(YEAR(AL8),MONTH(AL8)+1,1) -> 44013 | AU8: =INT(MOD(INT((AS8-2)/7)+3/5,52+5/28))+1 -> 27 | AV8: =IF(ISERROR(VLOOKUP(AS8,Lune!$A$2:$B$55,2,FALSE)),"",VLOOKUP(AS8,Lune!$A$2:$B$55,2,FALSE)) | AW8: =IFERROR(IF(COUNTIF(Saints!$C$2:$C$371,AS8)=0,"",INDEX(Saints!$D$2:$D$371,MATCH(AS8,Saints!$C$2:$C$371,0))),"") -> Thierry | AX8: =IF(COUNTIF(Parametre!$C$27:$C$39,AS8)=0,"",INDEX(Parametre!$B$27:$B$39,MATCH(AS8,Parametre!$C$27:$C$39,0)))&""&IF(COUNTIF(Parametre!$I$45:$I$94,AS8)=0,"",INDEX(Parametre!$K$45:$K$94,MATCH(AS8,Parametre!$I$45:$I$94,0))) | AZ8: =DATE(YEAR(AS8),MONTH(AS8)+1,1) -> 44044 | BB8: =INT(MOD(INT((AZ8-2)/7)+3/5,52+5/28))+1 -> 31 | BC8: =IF(ISERROR(VLOOKUP(AZ8,Lune!$A$2:$B$55,2,FALSE)),"",VLOOKUP(AZ8,Lune!$A$2:$B$55,2,FALSE)) | BD8: =IFERROR(IF(COUNTIF(Saints!$C$2:$C$371,AZ8)=0,"",INDEX(Saints!$D$2:$D$371,MATCH(AZ8,Saints!$C$2:$C$371,0))),"") -> Alphonse | BE8: =IF(COUNTIF(Parametre!$C$27:$C$39,AZ8)=0,"",INDEX(Parametre!$B$27:$B$39,MATCH(AZ8,Parametre!$C$27:$C$39,0)))&""&IF(COUNTIF(Parametre!$I$45:$I$94,AZ8)=0,"",INDEX(Parametre!$K$45:$K$94,MATCH(AZ8,Parametre!$I$45:$I$94,0))) | BG8: =DATE(YEAR(AZ8),MONTH(AZ8)+1,1) -> 44075 | BI8: =INT(MOD(INT((BG8-2)/7)+3/5,52+5/28))+1 -> 36 | BJ8: =IF(ISERROR(VLOOKUP(BG8,Lune!$A$2:$B$55,2,FALSE)),"",VLOOKUP(BG8,Lune!$A$2:$B$55,2,FALSE)) | BK8: =IFERROR(IF(COUNTIF(Saints!$C$2:$C$371,BG8)=0,"",INDEX(Saints!$D$2:$D$371,MATCH(BG8,Saints!$C$2:$C$371,0))),"") -> Gilles | BL8: =IF(COUNTIF(Parametre!$C$27:$C$39,BG8)=0,"",INDEX(Parametre!$B$27:$B$39,MATCH(BG8,Parametre!$C$27:$C$39,0)))&""&IF(COUNTIF(Parametre!$I$45:$I$94,BG8)=0,"",INDEX(Parametre!$K$45:$K$94,MATCH(BG8,Parametre!$I$45:$I$94,0))) -> 40 an Gwénaëlle | BN8: =DATE(YEAR(BG8),MONTH(BG8)+1,1) -> 44105 | BP8: =INT(MOD(INT((BN8-2)/7)+3/5,52+5/28))+1 -> 40 | BQ8: =IF(ISERROR(VLOOKUP(BN8,Lune!$A$2:$B$55,2,FALSE)),"",VLOOKUP(BN8,Lune!$A$2:$B$55,2,FALSE)) ->  | BR8: =IFERROR(IF(COUNTIF(Saints!$C$2:$C$371,BN8)=0,"",INDEX(Saints!$D$2:$D$371,MATCH(BN8,Saints!$C$2:$C$371,0))),"") -> Thérèse | BS8: =IF(COUNTIF(Parametre!$C$27:$C$39,BN8)=0,"",INDEX(Parametre!$B$27:$B$39,MATCH(BN8,Parametre!$C$27:$C$39,0)))&""&IF(COUNTIF(Parametre!$I$45:$I$94,BN8)=0,"",INDEX(Parametre!$K$45:$K$94,MATCH(BN8,Parametre!$I$45:$I$94,0))) | BU8: =DATE(YEAR(BN8),MONTH(BN8)+1,1) -> 44136 | BW8: =INT(MOD(INT((BU8-2)/7)+3/5,52+5/28))+1 -> 44 | BX8: =IF(ISERROR(VLOOKUP(BU8,Lune!$A$2:$B$55,2,FALSE)),"",VLOOKUP(BU8,Lune!$A$2:$B$55,2,FALSE)) | BY8: =IFERROR(IF(COUNTIF(Saints!$C$2:$C$371,BU8)=0,"",INDEX(Saints!$D$2:$D$371,MATCH(BU8,Saints!$C$2:$C$371,0))),"") -> Mathurin | BZ8: =IF(COUNTIF(Parametre!$C$27:$C$39,BU8)=0,"",INDEX(Parametre!$B$27:$B$39,MATCH(BU8,Parametre!$C$27:$C$39,0)))&""&IF(COUNTIF(Parametre!$I$45:$I$94,BU8)=0,"",INDEX(Parametre!$K$45:$K$94,MATCH(BU8,Parametre!$I$45:$I$94,0))) -> Toussaint | CB8: =DATE(YEAR(BU8),MONTH(BU8)+1,1) -> 44166 | CD8: =INT(MOD(INT((CB8-2)/7)+3/5,52+5/28))+1 -> 49 | CE8: =IF(ISERROR(VLOOKUP(CB8,Lune!$A$2:$B$55,2,FALSE)),"",VLOOKUP(CB8,Lune!$A$2:$B$55,2,FALSE)) | CF8: =IFERROR(IF(COUNTIF(Saints!$C$2:$C$371,CB8)=0,"",INDEX(Saints!$D$2:$D$371,MATCH(CB8,Saints!$C$2:$C$371,0))),"") -> Florence | CG8: =IF(COUNTIF(Parametre!$C$27:$C$39,CB8)=0,"",INDEX(Parametre!$B$27:$B$39,MATCH(CB8,Parametre!$C$27:$C$39,0)))&" "&IF(COUNTIF(Parametre!$I$45:$I$94,CB8)=0,"",INDEX(Parametre!$K$45:$K$94,MATCH(CB8,Parametre!$I$45:$I$94,0)))
B9: 2 | C9: =C8+1 -> 43832 | E9: =IF(WEEKDAY(C9)=2,INT(MOD(INT((C9-2)/7)+0.6,52+5/28))+1,"") | F9: =IF(ISERROR(VLOOKUP(C9,Lune!$A$2:$B$55,2,FALSE)),"",VLOOKUP(C9,Lune!$A$2:$B$55,2,FALSE)) | G9: =IFERROR(IF(COUNTIF(Saints!$C$2:$C$371,C9)=0,"",INDEX(Saints!$D$2:$D$371,MATCH(C9,Saints!$C$2:$C$371,0))),"") -> Basile | H9: =IF(COUNTIF(Parametre!$C$27:$C$39,C9)=0,"",INDEX(Parametre!$B$27:$B$39,MATCH(C9,Parametre!$C$27:$C$39,0)))&""&IF(COUNTIF(Parametre!$I$45:$I$94,C9)=0,"",INDEX(Parametre!$K$45:$K$94,MATCH(C9,Parametre!$I$45:$I$94,0))) | J9: =J8+1 -> 43863 | L9: =IF(WEEKDAY(J9)=2,INT(MOD(INT((J9-2)/7)+0.6,52+5/28))+1,"") | M9: =IF(ISERROR(VLOOKUP(J9,Lune!$A$2:$B$55,2,FALSE)),"",VLOOKUP(J9,Lune!$A$2:$B$55,2,FALSE)) | N9: =IFERROR(IF(COUNTIF(Saints!$C$2:$C$371,J9)=0,"",INDEX(Saints!$D$2:$D$371,MATCH(J9,Saints!$C$2:$C$371,0))),"") -> Théophane | O9: =IF(COUNTIF(Parametre!$C$27:$C$39,J9)=0,"",INDEX(Parametre!$B$27:$B$39,MATCH(J9,Parametre!$C$27:$C$39,0)))&""&IF(COUNTIF(Parametre!$I$45:$I$94,J9)=0,"",INDEX(Parametre!$K$45:$K$94,MATCH(J9,Parametre!$I$45:$I$94,0))) -> Chandeleur | Q9: =Q8+1 -> 43892 | S9: =IFERROR(IF(WEEKDAY(Q9)=2,INT(MOD(INT((Q9-2)/7)+0.6,52+5/28))+1,""),"") -> 10 | T9: =IF(ISERROR(VLOOKUP(Q9,Lune!$A$2:$B$55,2,FALSE)),"",VLOOKUP(Q9,Lune!$A$2:$B$55,2,FALSE)) ->  | U9: =IFERROR(IF(COUNTIF(Saints!$C$2:$C$371,Q9)=0,"",INDEX(Saints!$D$2:$D$371,MATCH(Q9,Saints!$C$2:$C$371,0))),"") -> Joévin | V9: =IF(COUNTIF(Parametre!$C$27:$C$39,Q9)=0,"",INDEX(Parametre!$B$27:$B$39,MATCH(Q9,Parametre!$C$27:$C$39,0)))&""&IF(COUNTIF(Parametre!$I$45:$I$94,Q9)=0,"",INDEX(Parametre!$K$45:$K$94,MATCH(Q9,Parametre!$I$45:$I$94,0))) | X9: =X8+1 -> 43923 | Z9: =IF(WEEKDAY(X9)=2,INT(MOD(INT((X9-2)/7)+0.6,52+5/28))+1,"") | AA9: =IF(ISERROR(VLOOKUP(X9,Lune!$A$2:$B$55,2,FALSE)),"",VLOOKUP(X9,Lune!$A$2:$B$55,2,FALSE)) | AB9: =IFERROR(IF(COUNTIF(Saints!$C$2:$C$371,X9)=0,"",INDEX(Saints!$D$2:$D$371,MATCH(X9,Saints!$C$2:$C$371,0))),"") -> Sandrine | AC9: =IF(COUNTIF(Parametre!$C$27:$C$39,X9)=0,"",INDEX(Parametre!$B$27:$B$39,MATCH(X9,Parametre!$C$27:$C$39,0)))&""&IF(COUNTIF(Parametre!$I$45:$I$94,X9)=0,"",INDEX(Parametre!$K$45:$K$94,MATCH(X9,Parametre!$I$45:$I$94,0))) | AE9: =AE8+1 -> 43953 | AG9: =IFERROR(IF(WEEKDAY(AE9)=2,INT(MOD(INT((AE9-2)/7)+0.6,52+5/28))+1,""),"") | AH9: =IF(ISERROR(VLOOKUP(AE9,[1]Lune!$A$2:$B$55,2,FALSE)),"",VLOOKUP(AE9,[1]Lune!$A$2:$B$55,2,FALSE)) | AI9: =IFERROR(IF(COUNTIF(Saints!$C$2:$C$371,AE9)=0,"",INDEX(Saints!$D$2:$D$371,MATCH(AE9,Saints!$C$2:$C$371,0))),"") -> Boris | AJ9: =IF(COUNTIF(Parametre!$C$27:$C$39,AE9)=0,"",INDEX(Parametre!$B$27:$B$39,MATCH(AE9,Parametre!$C$27:$C$39,0)))&""&IF(COUNTIF(Parametre!$I$45:$I$94,AE9)=0,"",INDEX(Parametre!$K$45:$K$94,MATCH(AE9,Parametre!$I$45:$I$94,0))) | AL9: =AL8+1 -> 43984 | AN9: =IFERROR(IF(WEEKDAY(AL9)=2,INT(MOD(INT((AL9-2)/7)+0.6,52+5/28))+1,""),"") | AO9: =IF(ISERROR(VLOOKUP(AL9,Lune!$A$2:$B$55,2,FALSE)),"",VLOOKUP(AL9,Lune!$A$2:$B$55,2,FALSE)) | AP9: =IFERROR(IF(COUNTIF(Saints!$C$2:$C$371,AL9)=0,"",INDEX(Saints!$D$2:$D$371,MATCH(AL9,Saints!$C$2:$C$371,0))),"") -> Blandine | AQ9: =IF(COUNTIF(Parametre!$C$27:$C$39,AL9)=0,"",INDEX(Parametre!$B$27:$B$39,MATCH(AL9,Parametre!$C$27:$C$39,0)))&""&IF(COUNTIF(Parametre!$I$45:$I$94,AL9)=0,"",INDEX(Parametre!$K$45:$K$94,MATCH(AL9,Parametre!$I$45:$I$94,0))) | AS9: =AS8+1 -> 44014 | AU9: =IFERROR(IF(WEEKDAY(AS9)=2,INT(MOD(INT((AS9-2)/7)+0.6,52+5/28))+1,""),"") | AV9: =IF(ISERROR(VLOOKUP(AS9,Lune!$A$2:$B$55,2,FALSE)),"",VLOOKUP(AS9,Lune!$A$2:$B$55,2,FALSE)) | AW9: =IFERROR(IF(COUNTIF(Saints!$C$2:$C$371,AS9)=0,"",INDEX(Saints!$D$2:$D$371,MATCH(AS9,Saints!$C$2:$C$371,0))),"") -> Martinien | AX9: =IF(COUNTIF(Parametre!$C$27:$C$39,AS9)=0,"",INDEX(Parametre!$B$27:$B$39,MATCH(AS9,Parametre!$C$27:$C$39,0)))&""&IF(COUNTIF(Parametre!$I$45:$I$94,AS9)=0,"",INDEX(Parametre!$K$45:$K$94,MATCH(AS9,Parametre!$I$45:$I$94,0))) | AZ9: =AZ8+1 -> 44045 | BB9: =IFERROR(IF(WEEKDAY(AZ9)=2,INT(MOD(INT((AZ9-2)/7)+0.6,52+5/28))+1,""),"") | BC9: =IF(ISERROR(VLOOKUP(AZ9,Lune!$A$2:$B$55,2,FALSE)),"",VLOOKUP(AZ9,Lune!$A$2:$B$55,2,FALSE)) | BD9: =IFERROR(IF(COUNTIF(Saints!$C$2:$C$371,AZ9)=0,"",INDEX(Saints!$D$2:$D$371,MATCH(AZ9,Saints!$C$2:$C$371,0))),"") -> Julien | BE9: =IF(COUNTIF(Parametre!$C$27:$C$39,AZ9)=0,"",INDEX(Parametre!$B$27:$B$39,MATCH(AZ9,Parametre!$C$27:$C$39,0)))&""&IF(COUNTIF(Parametre!$I$45:$I$94,AZ9)=0,"",INDEX(Parametre!$K$45:$K$94,MATCH(AZ9,Parametre!$I$45:$I$94,0))) | BG9: =BG8+1 -> 44076 | BI9: =IFERROR(IF(WEEKDAY(BG9)=2,INT(MOD(INT((BG9-2)/7)+0.6,52+5/28))+1,""),"") | BJ9: =IF(ISERROR(VLOOKUP(BG9,Lune!$A$2:$B$55,2,FALSE)),"",VLOOKUP(BG9,Lune!$A$2:$B$55,2,FALSE)) ->  | BK9: =IFERROR(IF(COUNTIF(Saints!$C$2:$C$371,BG9)=0,"",INDEX(Saints!$D$2:$D$371,MATCH(BG9,Saints!$C$2:$C$371,0))),"") -> Ingrid | BL9: =IF(COUNTIF(Parametre!$C$27:$C$39,BG9)=0,"",INDEX(Parametre!$B$27:$B$39,MATCH(BG9,Parametre!$C$27:$C$39,0)))&""&IF(COUNTIF(Parametre!$I$45:$I$94,BG9)=0,"",INDEX(Parametre!$K$45:$K$94,MATCH(BG9,Parametre!$I$45:$I$94,0))) | BN9: =BN8+1 -> 44106 | BP9: =IFERROR(IF(WEEKDAY(BN9)=2,INT(MOD(INT((BN9-2)/7)+0.6,52+5/28))+1,""),"") | BQ9: =IF(ISERROR(VLOOKUP(BN9,Lune!$A$2:$B$55,2,FALSE)),"",VLOOKUP(BN9,Lune!$A$2:$B$55,2,FALSE)) | BR9: =IFERROR(IF(COUNTIF(Saints!$C$2:$C$371,BN9)=0,"",INDEX(Saints!$D$2:$D$371,MATCH(BN9,Saints!$C$2:$C$371,0))),"") -> Léger | BS9: =IF(COUNTIF(Parametre!$C$27:$C$39,BN9)=0,"",INDEX(Parametre!$B$27:$B$39,MATCH(BN9,Parametre!$C$27:$C$39,0)))&""&IF(COUNTIF(Parametre!$I$45:$I$94,BN9)=0,"",INDEX(Parametre!$K$45:$K$94,MATCH(BN9,Parametre!$I$45:$I$94,0))) | BU9: =BU8+1 -> 44137 | BW9: =IFERROR(IF(WEEKDAY(BU9)=2,INT(MOD(INT((BU9-2)/7)+0.6,52+5/28))+1,""),"") -> 45 | BX9: =IF(ISERROR(VLOOKUP(BU9,Lune!$A$2:$B$55,2,FALSE)),"",VLOOKUP(BU9,Lune!$A$2:$B$55,2,FALSE)) | BY9: =IFERROR(IF(COUNTIF(Saints!$C$2:$C$371,BU9)=0,"",INDEX(Saints!$D$2:$D$371,MATCH(BU9,Saints!$C$2:$C$371,0))),"") -> Défunts | BZ9: =IF(COUNTIF(Parametre!$C$27:$C$39,BU9)=0,"",INDEX(Parametre!$B$27:$B$39,MATCH(BU9,Parametre!$C$27:$C$39,0)))&""&IF(COUNTIF(Parametre!$I$45:$I$94,BU9)=0,"",INDEX(Parametre!$K$45:$K$94,MATCH(BU9,Parametre!$I$45:$I$94,0))) | CB9: =CB8+1 -> 44167 | CD9: =IFERROR(IF(WEEKDAY(CB9)=2,INT(MOD(INT((CB9-2)/7)+0.6,52+5/28))+1,""),"") | CE9: =IF(ISERROR(VLOOKUP(CB9,Lune!$A$2:$B$55,2,FALSE)),"",VLOOKUP(CB9,Lune!$A$2:$B$55,2,FALSE)) | CF9: =IFERROR(IF(COUNTIF(Saints!$C$2:$C$371,CB9)=0,"",INDEX(Saints!$D$2:$D$371,MATCH(CB9,Saints!$C$2:$C$371,0))),"") -> Viviane | CG9: =IF(COUNTIF(Parametre!$C$27:$C$39,CB9)=0,"",INDEX(Parametre!$B$27:$B$39,MATCH(CB9,Parametre!$C$27:$C$39,0)))&" "&IF(COUNTIF(Parametre!$I$45:$I$94,CB9)=0,"",INDEX(Parametre!$K$45:$K$94,MATCH(CB9,Parametre!$I$45:$I$94,0)))
B10: 3 | C10: =C9+1 -> 43833 | E10: =IF(WEEKDAY(C10)=2,INT(MOD(INT((C10-2)/7)+0.6,52+5/28))+1,"") | F10: =IF(ISERROR(VLOOKUP(C10,Lune!$A$2:$B$55,2,FALSE)),"",VLOOKUP(C10,Lune!$A$2:$B$55,2,FALSE)) ->  | G10: =IFERROR(IF(COUNTIF(Saints!$C$2:$C$371,C10)=0,"",INDEX(Saints!$D$2:$D$371,MATCH(C10,Saints!$C$2:$C$371,0))),"") -> Geneviève | H10: =IF(COUNTIF(Parametre!$C$27:$C$39,C10)=0,"",INDEX(Parametre!$B$27:$B$39,MATCH(C10,Parametre!$C$27:$C$39,0)))&""&IF(COUNTIF(Parametre!$I$45:$I$94,C10)=0,"",INDEX(Parametre!$K$45:$K$94,MATCH(C10,Parametre!$I$45:$I$94,0))) | J10: =J9+1 -> 43864 | L10: =IF(WEEKDAY(J10)=2,INT(MOD(INT((J10-2)/7)+0.6,52+5/28))+1,"") -> 6 | M10: =IF(ISERROR(VLOOKUP(J10,Lune!$A$2:$B$55,2,FALSE)),"",VLOOKUP(J10,Lune!$A$2:$B$55,2,FALSE)) | N10: =IFERROR(IF(COUNTIF(Saints!$C$2:$C$371,J10)=0,"",INDEX(Saints!$D$2:$D$371,MATCH(J10,Saints!$C$2:$C$371,0))),"") -> Blaise | O10: =IF(COUNTIF(Parametre!$C$27:$C$39,J10)=0,"",INDEX(Parametre!$B$27:$B$39,MATCH(J10,Parametre!$C$27:$C$39,0)))&""&IF(COUNTIF(Parametre!$I$45:$I$94,J10)=0,"",INDEX(Parametre!$K$45:$K$94,MATCH(J10,Parametre!$I$45:$I$94,0))) | Q10: =Q9+1 -> 43893 | S10: =IF(WEEKDAY(Q10)=2,INT(MOD(INT((Q10-2)/7)+0.6,52+5/28))+1,"") | T10: =IF(ISERROR(VLOOKUP(Q10,Lune!$A$2:$B$55,2,FALSE)),"",VLOOKUP(Q10,Lune!$A$2:$B$55,2,FALSE)) | U10: =IFERROR(IF(COUNTIF(Saints!$C$2:$C$371,Q10)=0,"",INDEX(Saints!$D$2:$D$371,MATCH(Q10,Saints!$C$2:$C$371,0))),"") -> Guénolé | V10: =IF(COUNTIF(Parametre!$C$27:$C$39,Q10)=0,"",INDEX(Parametre!$B$27:$B$39,MATCH(Q10,Parametre!$C$27:$C$39,0)))&""&IF(COUNTIF(Parametre!$I$45:$I$94,Q10)=0,"",INDEX(Parametre!$K$45:$K$94,MATCH(Q10,Parametre!$I$45:$I$94,0))) | X10: =X9+1 -> 43924 | Z10: =IF(WEEKDAY(X10)=2,INT(MOD(INT((X10-2)/7)+0.6,52+5/28))+1,"") | AA10: =IF(ISERROR(VLOOKUP(X10,Lune!$A$2:$B$55,2,FALSE)),"",VLOOKUP(X10,Lune!$A$2:$B$55,2,FALSE)) | AB10: =IFERROR(IF(COUNTIF(Saints!$C$2:$C$371,X10)=0,"",INDEX(Saints!$D$2:$D$371,MATCH(X10,Saints!$C$2:$C$371,0))),"") -> Richard | AC10: =IF(COUNTIF(Parametre!$C$27:$C$39,X10)=0,"",INDEX(Parametre!$B$27:$B$39,MATCH(X10,Parametre!$C$27:$C$39,0)))&""&IF(COUNTIF(Parametre!$I$45:$I$94,X10)=0,"",INDEX(Parametre!$K$45:$K$94,MATCH(X10,Parametre!$I$45:$I$94,0))) | AE10: =AE9+1 -> 43954 | AG10: =IF(WEEKDAY(AE10)=2,INT(MOD(INT((AE10-2)/7)+0.6,52+5/28))+1,"") | AH10: =IF(ISERROR(VLOOKUP(AE10,[1]Lune!$A$2:$B$55,2,FALSE)),"",VLOOKUP(AE10,[1]Lune!$A$2:$B$55,2,FALSE)) | AI10: =IFERROR(IF(COUNTIF(Saints!$C$2:$C$371,AE10)=0,"",INDEX(Saints!$D$2:$D$371,MATCH(AE10,Saints!$C$2:$C$371,0))),"") -> Philippe | AJ10: =IF(COUNTIF(Parametre!$C$27:$C$39,AE10)=0,"",INDEX(Parametre!$B$27:$B$39,MATCH(AE10,Parametre!$C$27:$C$39,0)))&""&IF(COUNTIF(Parametre!$I$45:$I$94,AE10)=0,"",INDEX(Parametre!$K$45:$K$94,MATCH(AE10,Parametre!$I$45:$I$94,0))) | AL10: =AL9+1 -> 43985 | AN10: =IF(WEEKDAY(AL10)=2,INT(MOD(INT((AL10-2)/7)+0.6,52+5/28))+1,"") | AO10: =IF(ISERROR(VLOOKUP(AL10,Lune!$A$2:$B$55,2,FALSE)),"",VLOOKUP(AL10,Lune!$A$2:$B$55,2,FALSE)) | AP10: =IFERROR(IF(COUNTIF(Saints!$C$2:$C$371,AL10)=0,"",INDEX(Saints!$D$2:$D$371,MATCH(AL10,Saints!$C$2:$C$371,0))),"") -> Kévin | AQ10: =IF(COUNTIF(Parametre!$C$27:$C$39,AL10)=0,"",INDEX(Parametre!$B$27:$B$39,MATCH(AL10,Parametre!$C$27:$C$39,0)))&""&IF(COUNTIF(Parametre!$I$45:$I$94,AL10)=0,"",INDEX(Parametre!$K$45:$K$94,MATCH(AL10,Parametre!$I$45:$I$94,0))) | AS10: =AS9+1 -> 44015 | AU10: =IF(WEEKDAY(AS10)=2,INT(MOD(INT((AS10-2)/7)+0.6,52+5/28))+1,"") | AV10: =IF(ISERROR(VLOOKUP(AS10,Lune!$A$2:$B$55,2,FALSE)),"",VLOOKUP(AS10,Lune!$A$2:$B$55,2,FALSE)) | AW10: =IFERROR(IF(COUNTIF(Saints!$C$2:$C$371,AS10)=0,"",INDEX(Saints!$D$2:$D$371,MATCH(AS10,Saints!$C$2:$C$371,0))),"") -> Thomas | AX10: =IF(COUNTIF(Parametre!$C$27:$C$39,AS10)=0,"",INDEX(Parametre!$B$27:$B$39,MATCH(AS10,Parametre!$C$27:$C$39,0)))&""&IF(COUNTIF(Parametre!$I$45:$I$94,AS10)=0,"",INDEX(Parametre!$K$45:$K$94,MATCH(AS10,Parametre!$I$45:$I$94,0))) | AZ10: =AZ9+1 -> 44046 | BB10: =IF(WEEKDAY(AZ10)=2,INT(MOD(INT((AZ10-2)/7)+0.6,52+5/28))+1,"") -> 32 | BC10: =IF(ISERROR(VLOOKUP(AZ10,Lune!$A$2:$B$55,2,FALSE)),"",VLOOKUP(AZ10,Lune!$A$2:$B$55,2,FALSE)) ->  | BD10: =IFERROR(IF(COUNTIF(Saints!$C$2:$C$371,AZ10)=0,"",INDEX(Saints!$D$2:$D$371,MATCH(AZ10,Saints!$C$2:$C$371,0))),"") -> Lydie | BE10: =IF(COUNTIF(Parametre!$C$27:$C$39,AZ10)=0,"",INDEX(Parametre!$B$27:$B$39,MATCH(AZ10,Parametre!$C$27:$C$39,0)))&""&IF(COUNTIF(Parametre!$I$45:$I$94,AZ10)=0,"",INDEX(Parametre!$K$45:$K$94,MATCH(AZ10,Parametre!$I$45:$I$94,0))) | BG10: =BG9+1 -> 44077 | BI10: =IF(WEEKDAY(BG10)=2,INT(MOD(INT((BG10-2)/7)+0.6,52+5/28))+1,"") | BJ10: =IF(ISERROR(VLOOKUP(BG10,Lune!$A$2:$B$55,2,FALSE)),"",VLOOKUP(BG10,Lune!$A$2:$B$55,2,FALSE)) | BK10: =IFERROR(IF(COUNTIF(Saints!$C$2:$C$371,BG10)=0,"",INDEX(Saints!$D$2:$D$371,MATCH(BG10,Saints!$C$2:$C$371,0))),"") -> Grégoire | BL10: =IF(COUNTIF(Parametre!$C$27:$C$39,BG10)=0,"",INDEX(Parametre!$B$27:$B$39,MATCH(BG10,Parametre!$C$27:$C$39,0)))&""&IF(COUNTIF(Parametre!$I$45:$I$94,BG10)=0,"",INDEX(Parametre!$K$45:$K$94,MATCH(BG10,Parametre!$I$45:$I$94,0))) | BN10: =BN9+1 -> 44107 | BP10: =IF(WEEKDAY(BN10)=2,INT(MOD(INT((BN10-2)/7)+0.6,52+5/28))+1,"") | BQ10: =IF(ISERROR(VLOOKUP(BN10,Lune!$A$2:$B$55,2,FALSE)),"",VLOOKUP(BN10,Lune!$A$2:$B$55,2,FALSE)) | BR10: =IFERROR(IF(COUNTIF(Saints!$C$2:$C$371,BN10)=0,"",INDEX(Saints!$D$2:$D$371,MATCH(BN10,Saints!$C$2:$C$371,0))),"") -> Gérard | BS10: =IF(COUNTIF(Parametre!$C$27:$C$39,BN10)=0,"",INDEX(Parametre!$B$27:$B$39,MATCH(BN10,Parametre!$C$27:$C$39,0)))&""&IF(COUNTIF(Parametre!$I$45:$I$94,BN10)=0,"",INDEX(Parametre!$K$45:$K$94,MATCH(BN10,Parametre!$I$45:$I$94,0))) | BU10: =BU9+1 -> 44138 | BW10: =IF(WEEKDAY(BU10)=2,INT(MOD(INT((BU10-2)/7)+0.6,52+5/28))+1,"") | BX10: =IF(ISERROR(VLOOKUP(BU10,Lune!$A$2:$B$55,2,FALSE)),"",VLOOKUP(BU10,Lune!$A$2:$B$55,2,FALSE)) | BY10: =IFERROR(IF(COUNTIF(Saints!$C$2:$C$371,BU10)=0,"",INDEX(Saints!$D$2:$D$371,MATCH(BU10,Saints!$C$2:$C$371,0))),"") -> Gwénaëlle | BZ10: =IF(COUNTIF(Parametre!$C$27:$C$39,BU10)=0,"",INDEX(Parametre!$B$27:$B$39,MATCH(BU10,Parametre!$C$27:$C$39,0)))&""&IF(COUNTIF(Parametre!$I$45:$I$94,BU10)=0,"",INDEX(Parametre!$K$45:$K$94,MATCH(BU10,Parametre!$I$45:$I$94,0))) | CB10: =CB9+1 -> 44168 | CD10: =IF(WEEKDAY(CB10)=2,INT(MOD(INT((CB10-2)/7)+0.6,52+5/28))+1,"") | CE10: =IF(ISERROR(VLOOKUP(CB10,Lune!$A$2:$B$55,2,FALSE)),"",VLOOKUP(CB10,Lune!$A$2:$B$55,2,FALSE)) | CF10: =IFERROR(IF(COUNTIF(Saints!$C$2:$C$371,CB10)=0,"",INDEX(Saints!$D$2:$D$371,MATCH(CB10,Saints!$C$2:$C$371,0))),"") -> Xavier | CG10: =IF(COUNTIF(Parametre!$C$27:$C$39,CB10)=0,"",INDEX(Parametre!$B$27:$B$39,MATCH(CB10,Parametre!$C$27:$C$39,0)))&" "&IF(COUNTIF(Parametre!$I$45:$I$94,CB10)=0,"",INDEX(Parametre!$K$45:$K$94,MATCH(CB10,Parametre!$I$45:$I$94,0)))
B11: 4 | C11: =C10+1 -> 43834 | E11: =IF(WEEKDAY(C11)=2,INT(MOD(INT((C11-2)/7)+0.6,52+5/28))+1,"") | F11: =IF(ISERROR(VLOOKUP(C11,Lune!$A$2:$B$55,2,FALSE)),"",VLOOKUP(C11,Lune!$A$2:$B$55,2,FALSE)) | G11: =IFERROR(IF(COUNTIF(Saints!$C$2:$C$371,C11)=0,"",INDEX(Saints!$D$2:$D$371,MATCH(C11,Saints!$C$2:$C$371,0))),"") -> Odilon | H11: =IF(COUNTIF(Parametre!$C$27:$C$39,C11)=0,"",INDEX(Parametre!$B$27:$B$39,MATCH(C11,Parametre!$C$27:$C$39,0)))&""&IF(COUNTIF(Parametre!$I$45:$I$94,C11)=0,"",INDEX(Parametre!$K$45:$K$94,MATCH(C11,Parametre!$I$45:$I$94,0))) | J11: =J10+1 -> 43865 | L11: =IF(WEEKDAY(J11)=2,INT(MOD(INT((J11-2)/7)+0.6,52+5/28))+1,"") | M11: =IF(ISERROR(VLOOKUP(J11,Lune!$A$2:$B$55,2,FALSE)),"",VLOOKUP(J11,Lune!$A$2:$B$55,2,FALSE)) | N11: =IFERROR(IF(COUNTIF(Saints!$C$2:$C$371,J11)=0,"",INDEX(Saints!$D$2:$D$371,MATCH(J11,Saints!$C$2:$C$371,0))),"") -> Véronique | O11: =IF(COUNTIF(Parametre!$C$27:$C$39,J11)=0,"",INDEX(Parametre!$B$27:$B$39,MATCH(J11,Parametre!$C$27:$C$39,0)))&""&IF(COUNTIF(Parametre!$I$45:$I$94,J11)=0,"",INDEX(Parametre!$K$45:$K$94,MATCH(J11,Parametre!$I$45:$I$94,0))) | Q11: =Q10+1 -> 43894 | S11: =IF(WEEKDAY(Q11)=2,INT(MOD(INT((Q11-2)/7)+0.6,52+5/28))+1,"") | T11: =IF(ISERROR(VLOOKUP(Q11,Lune!$A$2:$B$55,2,FALSE)),"",VLOOKUP(Q11,Lune!$A$2:$B$55,2,FALSE)) | U11: =IFERROR(IF(COUNTIF(Saints!$C$2:$C$371,Q11)=0,"",INDEX(Saints!$D$2:$D$371,MATCH(Q11,Saints!$C$2:$C$371,0))),"") -> Casimir | V11: =IF(COUNTIF(Parametre!$C$27:$C$39,Q11)=0,"",INDEX(Parametre!$B$27:$B$39,MATCH(Q11,Parametre!$C$27:$C$39,0)))&""&IF(COUNTIF(Parametre!$I$45:$I$94,Q11)=0,"",INDEX(Parametre!$K$45:$K$94,MATCH(Q11,Parametre!$I$45:$I$94,0))) | X11: =X10+1 -> 43925 | Z11: =IF(WEEKDAY(X11)=2,INT(MOD(INT((X11-2)/7)+0.6,52+5/28))+1,"") | AA11: =IF(ISERROR(VLOOKUP(X11,Lune!$A$2:$B$55,2,FALSE)),"",VLOOKUP(X11,Lune!$A$2:$B$55,2,FALSE)) | AB11: =IFERROR(IF(COUNTIF(Saints!$C$2:$C$371,X11)=0,"",INDEX(Saints!$D$2:$D$371,MATCH(X11,Saints!$C$2:$C$371,0))),"") -> Isidore | AC11: =IF(COUNTIF(Parametre!$C$27:$C$39,X11)=0,"",INDEX(Parametre!$B$27:$B$39,MATCH(X11,Parametre!$C$27:$C$39,0)))&""&IF(COUNTIF(Parametre!$I$45:$I$94,X11)=0,"",INDEX(Parametre!$K$45:$K$94,MATCH(X11,Parametre!$I$45:$I$94,0))) | AE11: =AE10+1 -> 43955 | AG11: =IF(WEEKDAY(AE11)=2,INT(MOD(INT((AE11-2)/7)+0.6,52+5/28))+1,"") -> 19 | AH11: =IF(ISERROR(VLOOKUP(AE11,[1]Lune!$A$2:$B$55,2,FALSE)),"",VLOOKUP(AE11,[1]Lune!$A$2:$B$55,2,FALSE)) | AI11: =IFERROR(IF(COUNTIF(Saints!$C$2:$C$371,AE11)=0,"",INDEX(Saints!$D$2:$D$371,MATCH(AE11,Saints!$C$2:$C$371,0))),"") -> Sylvain | AJ11: =IF(COUNTIF(Parametre!$C$27:$C$39,AE11)=0,"",INDEX(Parametre!$B$27:$B$39,MATCH(AE11,Parametre!$C$27:$C$39,0)))&""&IF(COUNTIF(Parametre!$I$45:$I$94,AE11)=0,"",INDEX(Parametre!$K$45:$K$94,MATCH(AE11,Parametre!$I$45:$I$94,0))) | AL11: =AL10+1 -> 43986 | AN11: =IFERROR(IF(WEEKDAY(AL11)=2,INT(MOD(INT((AL11-2)/7)+0.6,52+5/28))+1,""),"") | AO11: =IF(ISERROR(VLOOKUP(AL11,Lune!$A$2:$B$55,2,FALSE)),"",VLOOKUP(AL11,Lune!$A$2:$B$55,2,FALSE)) | AP11: =IFERROR(IF(COUNTIF(Saints!$C$2:$C$371,AL11)=0,"",INDEX(Saints!$D$2:$D$371,MATCH(AL11,Saints!$C$2:$C$371,0))),"") -> Clothilde | AQ11: =IF(COUNTIF(Parametre!$C$27:$C$39,AL11)=0,"",INDEX(Parametre!$B$27:$B$39,MATCH(AL11,Parametre!$C$27:$C$39,0)))&""&IF(COUNTIF(Parametre!$I$45:$I$94,AL11)=0,"",INDEX(Parametre!$K$45:$K$94,MATCH(AL11,Parametre!$I$45:$I$94,0))) | AS11: =AS10+1 -> 44016 | AU11: =IFERROR(IF(WEEKDAY(AS11)=2,INT(MOD(INT((AS11-2)/7)+0.6,52+5/28))+1,""),"") | AV11: =IF(ISERROR(VLOOKUP(AS11,Lune!$A$2:$B$55,2,FALSE)),"",VLOOKUP(AS11,Lune!$A$2:$B$55,2,FALSE)) | AW11: =IFERROR(IF(COUNTIF(Saints!$C$2:$C$371,AS11)=0,"",INDEX(Saints!$D$2:$D$371,MATCH(AS11,Saints!$C$2:$C$371,0))),"") -> Florent | AX11: =IF(COUNTIF(Parametre!$C$27:$C$39,AS11)=0,"",INDEX(Parametre!$B$27:$B$39,MATCH(AS11,Parametre!$C$27:$C$39,0)))&""&IF(COUNTIF(Parametre!$I$45:$I$94,AS11)=0,"",INDEX(Parametre!$K$45:$K$94,MATCH(AS11,Parametre!$I$45:$I$94,0))) | AZ11: =AZ10+1 -> 44047 | BB11: =IF(WEEKDAY(AZ11)=2,INT(MOD(INT((AZ11-2)/7)+0.6,52+5/28))+1,"") | BC11: =IF(ISERROR(VLOOKUP(AZ11,Lune!$A$2:$B$55,2,FALSE)),"",VLOOKUP(AZ11,Lune!$A$2:$B$55,2,FALSE)) | BD11: =IFERROR(IF(COUNTIF(Saints!$C$2:$C$371,AZ11)=0,"",INDEX(Saints!$D$2:$D$371,MATCH(AZ11,Saints!$C$2:$C$371,0))),"") -> Vianney | BE11: =IF(COUNTIF(Parametre!$C$27:$C$39,AZ11)=0,"",INDEX(Parametre!$B$27:$B$39,MATCH(AZ11,Parametre!$C$27:$C$39,0)))&""&IF(COUNTIF(Parametre!$I$45:$I$94,AZ11)=0,"",INDEX(Parametre!$K$45:$K$94,MATCH(AZ11,Parametre!$I$45:$I$94,0))) | BG11: =BG10+1 -> 44078 | BI11: =IF(WEEKDAY(BG11)=2,INT(MOD(INT((BG11-2)/7)+0.6,52+5/28))+1,"") | BJ11: =IF(ISERROR(VLOOKUP(BG11,Lune!$A$2:$B$55,2,FALSE)),"",VLOOKUP(BG11,Lune!$A$2:$B$55,2,FALSE)) | BK11: =IFERROR(IF(COUNTIF(Saints!$C$2:$C$371,BG11)=0,"",INDEX(Saints!$D$2:$D$371,MATCH(BG11,Saints!$C$2:$C$371,0))),"") -> Rosalie | BL11: =IF(COUNTIF(Parametre!$C$27:$C$39,BG11)=0,"",INDEX(Parametre!$B$27:$B$39,MATCH(BG11,Parametre!$C$27:$C$39,0)))&""&IF(COUNTIF(Parametre!$I$45:$I$94,BG11)=0,"",INDEX(Parametre!$K$45:$K$94,MATCH(BG11,Parametre!$I$45:$I$94,0))) | BN11: =BN10+1 -> 44108 | BP11: =IF(WEEKDAY(BN11)=2,INT(MOD(INT((BN11-2)/7)+0.6,52+5/28))+1,"") | BQ11: =IF(ISERROR(VLOOKUP(BN11,Lune!$A$2:$B$55,2,FALSE)),"",VLOOKUP(BN11,Lune!$A$2:$B$55,2,FALSE)) | BR11: =IFERROR(IF(COUNTIF(Saints!$C$2:$C$371,BN11)=0,"",INDEX(Saints!$D$2:$D$371,MATCH(BN11,Saints!$C$2:$C$371,0))),"") -> François | BS11: =IF(COUNTIF(Parametre!$C$27:$C$39,BN11)=0,"",INDEX(Parametre!$B$27:$B$39,MATCH(BN11,Parametre!$C$27:$C$39,0)))&""&IF(COUNTIF(Parametre!$I$45:$I$94,BN11)=0,"",INDEX(Parametre!$K$45:$K$94,MATCH(BN11,Parametre!$I$45:$I$94,0))) -> F. Grds-Pères | BU11: =BU10+1 -> 44139 | BW11: =IF(WEEKDAY(BU11)=2,INT(MOD(INT((BU11-2)/7)+0.6,52+5/28))+1,"") | BX11: =IF(ISERROR(VLOOKUP(BU11,Lune!$A$2:$B$55,2,FALSE)),"",VLOOKUP(BU11,Lune!$A$2:$B$55,2,FALSE)) | BY11: =IFERROR(IF(COUNTIF(Saints!$C$2:$C$371,BU11)=0,"",INDEX(Saints!$D$2:$D$371,MATCH(BU11,Saints!$C$2:$C$371,0))),"") -> Charles | BZ11: =IF(COUNTIF(Parametre!$C$27:$C$39,BU11)=0,"",INDEX(Parametre!$B$27:$B$39,MATCH(BU11,Parametre!$C$27:$C$39,0)))&""&IF(COUNTIF(Parametre!$I$45:$I$94,BU11)=0,"",INDEX(Parametre!$K$45:$K$94,MATCH(BU11,Parametre!$I$45:$I$94,0))) | CB11: =CB10+1 -> 44169 | CD11: =IF(WEEKDAY(CB11)=2,INT(MOD(INT((CB11-2)/7)+0.6,52+5/28))+1,"") | CE11: =IF(ISERROR(VLOOKUP(CB11,Lune!$A$2:$B$55,2,FALSE)),"",VLOOKUP(CB11,Lune!$A$2:$B$55,2,FALSE)) | CF11: =IFERROR(IF(COUNTIF(Saints!$C$2:$C$371,CB11)=0,"",INDEX(Saints!$D$2:$D$371,MATCH(CB11,Saints!$C$2:$C$371,0))),"") -> Barbara | CG11: =IF(COUNTIF(Parametre!$C$27:$C$39,CB11)=0,"",INDEX(Parametre!$B$27:$B$39,MATCH(CB11,Parametre!$C$27:$C$39,0)))&" "&IF(COUNTIF(Parametre!$I$45:$I$94,CB11)=0,"",INDEX(Parametre!$K$45:$K$94,MATCH(CB11,Parametre!$I$45:$I$94,0)))
B12: 5 | C12: =C11+1 -> 43835 | E12: =IF(WEEKDAY(C12)=2,INT(MOD(INT((C12-2)/7)+0.6,52+5/28))+1,"") | F12: =IF(ISERROR(VLOOKUP(C12,Lune!$A$2:$B$55,2,FALSE)),"",VLOOKUP(C12,Lune!$A$2:$B$55,2,FALSE)) | G12: =IFERROR(IF(COUNTIF(Saints!$C$2:$C$371,C12)=0,"",INDEX(Saints!$D$2:$D$371,MATCH(C12,Saints!$C$2:$C$371,0))),"") -> Edouard | H12: =IF(COUNTIF(Parametre!$C$27:$C$39,C12)=0,"",INDEX(Parametre!$B$27:$B$39,MATCH(C12,Parametre!$C$27:$C$39,0)))&""&IF(COUNTIF(Parametre!$I$45:$I$94,C12)=0,"",INDEX(Parametre!$K$45:$K$94,MATCH(C12,Parametre!$I$45:$I$94,0))) -> Ephiphanie | J12: =J11+1 -> 43866 | L12: =IF(WEEKDAY(J12)=2,INT(MOD(INT((J12-2)/7)+0.6,52+5/28))+1,"") | M12: =IF(ISERROR(VLOOKUP(J12,Lune!$A$2:$B$55,2,FALSE)),"",VLOOKUP(J12,Lune!$A$2:$B$55,2,FALSE)) | N12: =IFERROR(IF(COUNTIF(Saints!$C$2:$C$371,J12)=0,"",INDEX(Saints!$D$2:$D$371,MATCH(J12,Saints!$C$2:$C$371,0))),"") -> Agathe | O12: =IF(COUNTIF(Parametre!$C$27:$C$39,J12)=0,"",INDEX(Parametre!$B$27:$B$39,MATCH(J12,Parametre!$C$27:$C$39,0)))&""&IF(COUNTIF(Parametre!$I$45:$I$94,J12)=0,"",INDEX(Parametre!$K$45:$K$94,MATCH(J12,Parametre!$I$45:$I$94,0))) | Q12: =Q11+1 -> 43895 | S12: =IF(WEEKDAY(Q12)=2,INT(MOD(INT((Q12-2)/7)+0.6,52+5/28))+1,"") | T12: =IF(ISERROR(VLOOKUP(Q12,Lune!$A$2:$B$55,2,FALSE)),"",VLOOKUP(Q12,Lune!$A$2:$B$55,2,FALSE)) | U12: =IFERROR(IF(COUNTIF(Saints!$C$2:$C$371,Q12)=0,"",INDEX(Saints!$D$2:$D$371,MATCH(Q12,Saints!$C$2:$C$371,0))),"") -> Olive | V12: =IF(COUNTIF(Parametre!$C$27:$C$39,Q12)=0,"",INDEX(Parametre!$B$27:$B$39,MATCH(Q12,Parametre!$C$27:$C$39,0)))&""&IF(COUNTIF(Parametre!$I$45:$I$94,Q12)=0,"",INDEX(Parametre!$K$45:$K$94,MATCH(Q12,Parametre!$I$45:$I$94,0))) | X12: =X11+1 -> 43926 | Z12: =IF(WEEKDAY(X12)=2,INT(MOD(INT((X12-2)/7)+0.6,52+5/28))+1,"") | AA12: =IF(ISERROR(VLOOKUP(X12,Lune!$A$2:$B$55,2,FALSE)),"",VLOOKUP(X12,Lune!$A$2:$B$55,2,FALSE)) | AB12: =IFERROR(IF(COUNTIF(Saints!$C$2:$C$371,X12)=0,"",INDEX(Saints!$D$2:$D$371,MATCH(X12,Saints!$C$2:$C$371,0))),"") -> Irène | AC12: =IF(COUNTIF(Parametre!$C$27:$C$39,X12)=0,"",INDEX(Parametre!$B$27:$B$39,MATCH(X12,Parametre!$C$27:$C$39,0)))&""&IF(COUNTIF(Parametre!$I$45:$I$94,X12)=0,"",INDEX(Parametre!$K$45:$K$94,MATCH(X12,Parametre!$I$45:$I$94,0))) | AE12: =AE11+1 -> 43956 | AG12: =IF(WEEKDAY(AE12)=2,INT(MOD(INT((AE12-2)/7)+0.6,52+5/28))+1,"") | AH12: =IF(ISERROR(VLOOKUP(AE12,[1]Lune!$A$2:$B$55,2,FALSE)),"",VLOOKUP(AE12,[1]Lune!$A$2:$B$55,2,FALSE)) | AI12: =IFERROR(IF(COUNTIF(Saints!$C$2:$C$371,AE12)=0,"",INDEX(Saints!$D$2:$D$371,MATCH(AE12,Saints!$C$2:$C$371,0))),"") -> Judith | AJ12: =IF(COUNTIF(Parametre!$C$27:$C$39,AE12)=0,"",INDEX(Parametre!$B$27:$B$39,MATCH(AE12,Parametre!$C$27:$C$39,0)))&""&IF(COUNTIF(Parametre!$I$45:$I$94,AE12)=0,"",INDEX(Parametre!$K$45:$K$94,MATCH(AE12,Parametre!$I$45:$I$94,0))) | AL12: =AL11+1 -> 43987 | AN12: =IF(WEEKDAY(AL12)=2,INT(MOD(INT((AL12-2)/7)+0.6,52+5/28))+1,"") | AO12: =IF(ISERROR(VLOOKUP(AL12,Lune!$A$2:$B$55,2,FALSE)),"",VLOOKUP(AL12,Lune!$A$2:$B$55,2,FALSE)) ->  | AP12: =IFERROR(IF(COUNTIF(Saints!$C$2:$C$371,AL12)=0,"",INDEX(Saints!$D$2:$D$371,MATCH(AL12,Saints!$C$2:$C$371,0))),"") -> Igor | AQ12: =IF(COUNTIF(Parametre!$C$27:$C$39,AL12)=0,"",INDEX(Parametre!$B$27:$B$39,MATCH(AL12,Parametre!$C$27:$C$39,0)))&""&IF(COUNTIF(Parametre!$I$45:$I$94,AL12)=0,"",INDEX(Parametre!$K$45:$K$94,MATCH(AL12,Parametre!$I$45:$I$94,0))) | AS12: =AS11+1 -> 44017 | AU12: =IF(WEEKDAY(AS12)=2,INT(MOD(INT((AS12-2)/7)+0.6,52+5/28))+1,"") | AV12: =IF(ISERROR(VLOOKUP(AS12,Lune!$A$2:$B$55,2,FALSE)),"",VLOOKUP(AS12,Lune!$A$2:$B$55,2,FALSE)) ->  | AW12: =IFERROR(IF(COUNTIF(Saints!$C$2:$C$371,AS12)=0,"",INDEX(Saints!$D$2:$D$371,MATCH(AS12,Saints!$C$2:$C$371,0))),"") -> Antoine | AX12: =IF(COUNTIF(Parametre!$C$27:$C$39,AS12)=0,"",INDEX(Parametre!$B$27:$B$39,MATCH(AS12,Parametre!$C$27:$C$39,0)))&""&IF(COUNTIF(Parametre!$I$45:$I$94,AS12)=0,"",INDEX(Parametre!$K$45:$K$94,MATCH(AS12,Parametre!$I$45:$I$94,0))) | AZ12: =AZ11+1 -> 44048 | BB12: =IF(WEEKDAY(AZ12)=2,INT(MOD(INT((AZ12-2)/7)+0.6,52+5/28))+1,"") | BC12: =IF(ISERROR(VLOOKUP(AZ12,Lune!$A$2:$B$55,2,FALSE)),"",VLOOKUP(AZ12,Lune!$A$2:$B$55,2,FALSE)) | BD12: =IFERROR(IF(COUNTIF(Saints!$C$2:$C$371,AZ12)=0,"",INDEX(Saints!$D$2:$D$371,MATCH(AZ12,Saints!$C$2:$C$371,0))),"") -> Abel | BE12: =IF(COUNTIF(Parametre!$C$27:$C$39,AZ12)=0,"",INDEX(Parametre!$B$27:$B$39,MATCH(AZ12,Parametre!$C$27:$C$39,0)))&""&IF(COUNTIF(Parametre!$I$45:$I$94,AZ12)=0,"",INDEX(Parametre!$K$45:$K$94,MATCH(AZ12,Parametre!$I$45:$I$94,0))) | BG12: =BG11+1 -> 44079 | BI12: =IF(WEEKDAY(BG12)=2,INT(MOD(INT((BG12-2)/7)+0.6,52+5/28))+1,"") | BJ12: =IF(ISERROR(VLOOKUP(BG12,Lune!$A$2:$B$55,2,FALSE)),"",VLOOKUP(BG12,Lune!$A$2:$B$55,2,FALSE)) | BK12: =IFERROR(IF(COUNTIF(Saints!$C$2:$C$371,BG12)=0,"",INDEX(Saints!$D$2:$D$371,MATCH(BG12,Saints!$C$2:$C$371,0))),"") -> Raïssa | BL12: =IF(COUNTIF(Parametre!$C$27:$C$39,BG12)=0,"",INDEX(Parametre!$B$27:$B$39,MATCH(BG12,Parametre!$C$27:$C$39,0)))&""&IF(COUNTIF(Parametre!$I$45:$I$94,BG12)=0,"",INDEX(Parametre!$K$45:$K$94,MATCH(BG12,Parametre!$I$45:$I$94,0))) | BN12: =BN11+1 -> 44109 | BP12: =IF(WEEKDAY(BN12)=2,INT(MOD(INT((BN12-2)/7)+0.6,52+5/28))+1,"") -> 41 | BQ12: =IF(ISERROR(VLOOKUP(BN12,Lune!$A$2:$B$55,2,FALSE)),"",VLOOKUP(BN12,Lune!$A$2:$B$55,2,FALSE)) | BR12: =IFERROR(IF(COUNTIF(Saints!$C$2:$C$371,BN12)=0,"",INDEX(Saints!$D$2:$D$371,MATCH(BN12,Saints!$C$2:$C$371,0))),"") -> Fleur | BS12: =IF(COUNTIF(Parametre!$C$27:$C$39,BN12)=0,"",INDEX(Parametre!$B$27:$B$39,MATCH(BN12,Parametre!$C$27:$C$39,0)))&""&IF(COUNTIF(Parametre!$I$45:$I$94,BN12)=0,"",INDEX(Parametre!$K$45:$K$94,MATCH(BN12,Parametre!$I$45:$I$94,0))) | BU12: =BU11+1 -> 44140 | BW12: =IF(WEEKDAY(BU12)=2,INT(MOD(INT((BU12-2)/7)+0.6,52+5/28))+1,"") | BX12: =IF(ISERROR(VLOOKUP(BU12,Lune!$A$2:$B$55,2,FALSE)),"",VLOOKUP(BU12,Lune!$A$2:$B$55,2,FALSE)) | BY12: =IFERROR(IF(COUNTIF(Saints!$C$2:$C$371,BU12)=0,"",INDEX(Saints!$D$2:$D$371,MATCH(BU12,Saints!$C$2:$C$371,0))),"") -> Sylvie | BZ12: =IF(COUNTIF(Parametre!$C$27:$C$39,BU12)=0,"",INDEX(Parametre!$B$27:$B$39,MATCH(BU12,Parametre!$C$27:$C$39,0)))&""&IF(COUNTIF(Parametre!$I$45:$I$94,BU12)=0,"",INDEX(Parametre!$K$45:$K$94,MATCH(BU12,Parametre!$I$45:$I$94,0))) | CB12: =CB11+1 -> 44170 | CD12: =IF(WEEKDAY(CB12)=2,INT(MOD(INT((CB12-2)/7)+0.6,52+5/28))+1,"") | CE12: =IF(ISERROR(VLOOKUP(CB12,Lune!$A$2:$B$55,2,FALSE)),"",VLOOKUP(CB12,Lune!$A$2:$B$55,2,FALSE)) | CF12: =IFERROR(IF(COUNTIF(Saints!$C$2:$C$371,CB12)=0,"",INDEX(Saints!$D$2:$D$371,MATCH(CB12,Saints!$C$2:$C$371,0))),"") -> Gérald | CG12: =IF(COUNTIF(Parametre!$C$27:$C$39,CB12)=0,"",INDEX(Parametre!$B$27:$B$39,MATCH(CB12,Parametre!$C$27:$C$39,0)))&" "&IF(COUNTIF(Parametre!$I$45:$I$94,CB12)=0,"",INDEX(Parametre!$K$45:$K$94,MATCH(CB12,Parametre!$I$45:$I$94,0)))
B13: 6 | C13: =C12+1 -> 43836 | E13: =IF(WEEKDAY(C13)=2,INT(MOD(INT((C13-2)/7)+0.6,52+5/28))+1,"") -> 2 | F13: =IF(ISERROR(VLOOKUP(C13,Lune!$A$2:$B$55,2,FALSE)),"",VLOOKUP(C13,Lune!$A$2:$B$55,2,FALSE)) | G13: =IFERROR(IF(COUNTIF(Saints!$C$2:$C$371,C13)=0,"",INDEX(Saints!$D$2:$D$371,MATCH(C13,Saints!$C$2:$C$371,0))),"") -> Mélaine | H13: =IF(COUNTIF(Parametre!$C$27:$C$39,C13)=0,"",INDEX(Parametre!$B$27:$B$39,MATCH(C13,Parametre!$C$27:$C$39,0)))&""&IF(COUNTIF(Parametre!$I$45:$I$94,C13)=0,"",INDEX(Parametre!$K$45:$K$94,MATCH(C13,Parametre!$I$45:$I$94,0))) | J13: =J12+1 -> 43867 | L13: =IF(WEEKDAY(J13)=2,INT(MOD(INT((J13-2)/7)+0.6,52+5/28))+1,"") | M13: =IF(ISERROR(VLOOKUP(J13,Lune!$A$2:$B$55,2,FALSE)),"",VLOOKUP(J13,Lune!$A$2:$B$55,2,FALSE)) | N13: =IFERROR(IF(COUNTIF(Saints!$C$2:$C$371,J13)=0,"",INDEX(Saints!$D$2:$D$371,MATCH(J13,Saints!$C$2:$C$371,0))),"") -> Gaston | O13: =IF(COUNTIF(Parametre!$C$27:$C$39,J13)=0,"",INDEX(Parametre!$B$27:$B$39,MATCH(J13,Parametre!$C$27:$C$39,0)))&""&IF(COUNTIF(Parametre!$I$45:$I$94,J13)=0,"",INDEX(Parametre!$K$45:$K$94,MATCH(J13,Parametre!$I$45:$I$94,0))) | Q13: =Q12+1 -> 43896 | S13: =IF(WEEKDAY(Q13)=2,INT(MOD(INT((Q13-2)/7)+0.6,52+5/28))+1,"") | T13: =IF(ISERROR(VLOOKUP(Q13,Lune!$A$2:$B$55,2,FALSE)),"",VLOOKUP(Q13,Lune!$A$2:$B$55,2,FALSE)) | U13: =IFERROR(IF(COUNTIF(Saints!$C$2:$C$371,Q13)=0,"",INDEX(Saints!$D$2:$D$371,MATCH(Q13,Saints!$C$2:$C$371,0))),"") -> Colette | V13: =IF(COUNTIF(Parametre!$C$27:$C$39,Q13)=0,"",INDEX(Parametre!$B$27:$B$39,MATCH(Q13,Parametre!$C$27:$C$39,0)))&""&IF(COUNTIF(Parametre!$I$45:$I$94,Q13)=0,"",INDEX(Parametre!$K$45:$K$94,MATCH(Q13,Parametre!$I$45:$I$94,0))) | X13: =X12+1 -> 43927 | Z13: =IF(WEEKDAY(X13)=2,INT(MOD(INT((X13-2)/7)+0.6,52+5/28))+1,"") -> 15 | AA13: =IF(ISERROR(VLOOKUP(X13,Lune!$A$2:$B$55,2,FALSE)),"",VLOOKUP(X13,Lune!$A$2:$B$55,2,FALSE)) | AB13: =IFERROR(IF(COUNTIF(Saints!$C$2:$C$371,X13)=0,"",INDEX(Saints!$D$2:$D$371,MATCH(X13,Saints!$C$2:$C$371,0))),"") -> Marcellin | AC13: =IF(COUNTIF(Parametre!$C$27:$C$39,X13)=0,"",INDEX(Parametre!$B$27:$B$39,MATCH(X13,Parametre!$C$27:$C$39,0)))&""&IF(COUNTIF(Parametre!$I$45:$I$94,X13)=0,"",INDEX(Parametre!$K$45:$K$94,MATCH(X13,Parametre!$I$45:$I$94,0))) | AE13: =AE12+1 -> 43957 | AG13: =IF(WEEKDAY(AE13)=2,INT(MOD(INT((AE13-2)/7)+0.6,52+5/28))+1,"") | AH13: =IF(ISERROR(VLOOKUP(AE13,[1]Lune!$A$2:$B$55,2,FALSE)),"",VLOOKUP(AE13,[1]Lune!$A$2:$B$55,2,FALSE)) | AI13: =IFERROR(IF(COUNTIF(Saints!$C$2:$C$371,AE13)=0,"",INDEX(Saints!$D$2:$D$371,MATCH(AE13,Saints!$C$2:$C$371,0))),"") -> Prudence | AJ13: =IF(COUNTIF(Parametre!$C$27:$C$39,AE13)=0,"",INDEX(Parametre!$B$27:$B$39,MATCH(AE13,Parametre!$C$27:$C$39,0)))&""&IF(COUNTIF(Parametre!$I$45:$I$94,AE13)=0,"",INDEX(Parametre!$K$45:$K$94,MATCH(AE13,Parametre!$I$45:$I$94,0))) | AL13: =AL12+1 -> 43988 | AN13: =IFERROR(IF(WEEKDAY(AL13)=2,INT(MOD(INT((AL13-2)/7)+0.6,52+5/28))+1,""),"") | AO13: =IF(ISERROR(VLOOKUP(AL13,Lune!$A$2:$B$55,2,FALSE)),"",VLOOKUP(AL13,Lune!$A$2:$B$55,2,FALSE)) | AP13: =IFERROR(IF(COUNTIF(Saints!$C$2:$C$371,AL13)=0,"",INDEX(Saints!$D$2:$D$371,MATCH(AL13,Saints!$C$2:$C$371,0))),"") -> Norbert | AQ13: =IF(COUNTIF(Parametre!$C$27:$C$39,AL13)=0,"",INDEX(Parametre!$B$27:$B$39,MATCH(AL13,Parametre!$C$27:$C$39,0)))&""&IF(COUNTIF(Parametre!$I$45:$I$94,AL13)=0,"",INDEX(Parametre!$K$45:$K$94,MATCH(AL13,Parametre!$I$45:$I$94,0))) | AS13: =AS12+1 -> 44018 | AU13: =IFERROR(IF(WEEKDAY(AS13)=2,INT(MOD(INT((AS13-2)/7)+0.6,52+5/28))+1,""),"") -> 28 | AV13: =IF(ISERROR(VLOOKUP(AS13,Lune!$A$2:$B$55,2,FALSE)),"",VLOOKUP(AS13,Lune!$A$2:$B$55,2,FALSE)) | AW13: =IFERROR(IF(COUNTIF(Saints!$C$2:$C$371,AS13)=0,"",INDEX(Saints!$D$2:$D$371,MATCH(AS13,Saints!$C$2:$C$371,0))),"") -> Mariette | AX13: =IF(COUNTIF(Parametre!$C$27:$C$39,AS13)=0,"",INDEX(Parametre!$B$27:$B$39,MATCH(AS13,Parametre!$C$27:$C$39,0)))&""&IF(COUNTIF(Parametre!$I$45:$I$94,AS13)=0,"",INDEX(Parametre!$K$45:$K$94,MATCH(AS13,Parametre!$I$45:$I$94,0))) | AZ13: =AZ12+1 -> 44049 | BB13: =IF(WEEKDAY(AZ13)=2,INT(MOD(INT((AZ13-2)/7)+0.6,52+5/28))+1,"") | BC13: =IF(ISERROR(VLOOKUP(AZ13,Lune!$A$2:$B$55,2,FALSE)),"",VLOOKUP(AZ13,Lune!$A$2:$B$55,2,FALSE)) | BD13: =IFERROR(IF(COUNTIF(Saints!$C$2:$C$371,AZ13)=0,"",INDEX(Saints!$D$2:$D$371,MATCH(AZ13,Saints!$C$2:$C$371,0))),"") -> Octavien | BE13: =IF(COUNTIF(Parametre!$C$27:$C$39,AZ13)=0,"",INDEX(Parametre!$B$27:$B$39,MATCH(AZ13,Parametre!$C$27:$C$39,0)))&""&IF(COUNTIF(Parametre!$I$45:$I$94,AZ13)=0,"",INDEX(Parametre!$K$45:$K$94,MATCH(AZ13,Parametre!$I$45:$I$94,0))) | BG13: =BG12+1 -> 44080 | BI13: =IF(WEEKDAY(BG13)=2,INT(MOD(INT((BG13-2)/7)+0.6,52+5/28))+1,"") | BJ13: =IF(ISERROR(VLOOKUP(BG13,Lune!$A$2:$B$55,2,FALSE)),"",VLOOKUP(BG13,Lune!$A$2:$B$55,2,FALSE)) | BK13: =IFERROR(IF(COUNTIF(Saints!$C$2:$C$371,BG13)=0,"",INDEX(Saints!$D$2:$D$371,MATCH(BG13,Saints!$C$2:$C$371,0))),"") -> Bertrand | BL13: =IF(COUNTIF(Parametre!$C$27:$C$39,BG13)=0,"",INDEX(Parametre!$B$27:$B$39,MATCH(BG13,Parametre!$C$27:$C$39,0)))&""&IF(COUNTIF(Parametre!$I$45:$I$94,BG13)=0,"",INDEX(Parametre!$K$45:$K$94,MATCH(BG13,Parametre!$I$45:$I$94,0))) -> 71 an J. Marie | BN13: =BN12+1 -> 44110 | BP13: =IF(WEEKDAY(BN13)=2,INT(MOD(INT((BN13-2)/7)+0.6,52+5/28))+1,"") | BQ13: =IF(ISERROR(VLOOKUP(BN13,Lune!$A$2:$B$55,2,FALSE)),"",VLOOKUP(BN13,Lune!$A$2:$B$55,2,FALSE)) | BR13: =IFERROR(IF(COUNTIF(Saints!$C$2:$C$371,BN13)=0,"",INDEX(Saints!$D$2:$D$371,MATCH(BN13,Saints!$C$2:$C$371,0))),"") -> Bruno | BS13: =IF(COUNTIF(Parametre!$C$27:$C$39,BN13)=0,"",INDEX(Parametre!$B$27:$B$39,MATCH(BN13,Parametre!$C$27:$C$39,0)))&""&IF(COUNTIF(Parametre!$I$45:$I$94,BN13)=0,"",INDEX(Parametre!$K$45:$K$94,MATCH(BN13,Parametre!$I$45:$I$94,0))) | BU13: =BU12+1 -> 44141 | BW13: =IF(WEEKDAY(BU13)=2,INT(MOD(INT((BU13-2)/7)+0.6,52+5/28))+1,"") | BX13: =IF(ISERROR(VLOOKUP(BU13,Lune!$A$2:$B$55,2,FALSE)),"",VLOOKUP(BU13,Lune!$A$2:$B$55,2,FALSE)) | BY13: =IFERROR(IF(COUNTIF(Saints!$C$2:$C$371,BU13)=0,"",INDEX(Saints!$D$2:$D$371,MATCH(BU13,Saints!$C$2:$C$371,0))),"") -> Bertille | BZ13: =IF(COUNTIF(Parametre!$C$27:$C$39,BU13)=0,"",INDEX(Parametre!$B$27:$B$39,MATCH(BU13,Parametre!$C$27:$C$39,0)))&""&IF(COUNTIF(Parametre!$I$45:$I$94,BU13)=0,"",INDEX(Parametre!$K$45:$K$94,MATCH(BU13,Parametre!$I$45:$I$94,0))) | CB13: =CB12+1 -> 44171 | CD13: =IF(WEEKDAY(CB13)=2,INT(MOD(INT((CB13-2)/7)+0.6,52+5/28))+1,"") | CE13: =IF(ISERROR(VLOOKUP(CB13,Lune!$A$2:$B$55,2,FALSE)),"",VLOOKUP(CB13,Lune!$A$2:$B$55,2,FALSE)) | CF13: =IFERROR(IF(COUNTIF(Saints!$C$2:$C$371,CB13)=0,"",INDEX(Saints!$D$2:$D$371,MATCH(CB13,Saints!$C$2:$C$371,0))),"") -> Nicolas | CG13: =IF(COUNTIF(Parametre!$C$27:$C$39,CB13)=0,"",INDEX(Parametre!$B$27:$B$39,MATCH(CB13,Parametre!$C$27:$C$39,0)))&" "&IF(COUNTIF(Parametre!$I$45:$I$94,CB13)=0,"",INDEX(Parametre!$K$45:$K$94,MATCH(CB13,Parametre!$I$45:$I$94,0)))
B14: 7 | C14: =C13+1 -> 43837 | E14: =IF(WEEKDAY(C14)=2,INT(MOD(INT((C14-2)/7)+0.6,52+5/28))+1,"") | F14: =IF(ISERROR(VLOOKUP(C14,Lune!$A$2:$B$55,2,FALSE)),"",VLOOKUP(C14,Lune!$A$2:$B$55,2,FALSE)) | G14: =IFERROR(IF(COUNTIF(Saints!$C$2:$C$371,C14)=0,"",INDEX(Saints!$D$2:$D$371,MATCH(C14,Saints!$C$2:$C$371,0))),"") -> Raymond | H14: =IF(COUNTIF(Parametre!$C$27:$C$39,C14)=0,"",INDEX(Parametre!$B$27:$B$39,MATCH(C14,Parametre!$C$27:$C$39,0)))&""&IF(COUNTIF(Parametre!$I$45:$I$94,C14)=0,"",INDEX(Parametre!$K$45:$K$94,MATCH(C14,Parametre!$I$45:$I$94,0))) | J14: =J13+1 -> 43868 | L14: =IF(WEEKDAY(J14)=2,INT(MOD(INT((J14-2)/7)+0.6,52+5/28))+1,"") | M14: =IF(ISERROR(VLOOKUP(J14,Lune!$A$2:$B$55,2,FALSE)),"",VLOOKUP(J14,Lune!$A$2:$B$55,2,FALSE)) | N14: =IFERROR(IF(COUNTIF(Saints!$C$2:$C$371,J14)=0,"",INDEX(Saints!$D$2:$D$371,MATCH(J14,Saints!$C$2:$C$371,0))),"") -> Eugénie | O14: =IF(COUNTIF(Parametre!$C$27:$C$39,J14)=0,"",INDEX(Parametre!$B$27:$B$39,MATCH(J14,Parametre!$C$27:$C$39,0)))&""&IF(COUNTIF(Parametre!$I$45:$I$94,J14)=0,"",INDEX(Parametre!$K$45:$K$94,MATCH(J14,Parametre!$I$45:$I$94,0))) | Q14: =Q13+1 -> 43897 | S14: =IF(WEEKDAY(Q14)=2,INT(MOD(INT((Q14-2)/7)+0.6,52+5/28))+1,"") | T14: =IF(ISERROR(VLOOKUP(Q14,Lune!$A$2:$B$55,2,FALSE)),"",VLOOKUP(Q14,Lune!$A$2:$B$55,2,FALSE)) | U14: =IFERROR(IF(COUNTIF(Saints!$C$2:$C$371,Q14)=0,"",INDEX(Saints!$D$2:$D$371,MATCH(Q14,Saints!$C$2:$C$371,0))),"") -> Félicité | V14: =IF(COUNTIF(Parametre!$C$27:$C$39,Q14)=0,"",INDEX(Parametre!$B$27:$B$39,MATCH(Q14,Parametre!$C$27:$C$39,0)))&""&IF(COUNTIF(Parametre!$I$45:$I$94,Q14)=0,"",INDEX(Parametre!$K$45:$K$94,MATCH(Q14,Parametre!$I$45:$I$94,0))) | X14: =X13+1 -> 43928 | Z14: =IF(WEEKDAY(X14)=2,INT(MOD(INT((X14-2)/7)+0.6,52+5/28))+1,"") | AA14: =IF(ISERROR(VLOOKUP(X14,Lune!$A$2:$B$55,2,FALSE)),"",VLOOKUP(X14,Lune!$A$2:$B$55,2,FALSE)) | AB14: =IFERROR(IF(COUNTIF(Saints!$C$2:$C$371,X14)=0,"",INDEX(Saints!$D$2:$D$371,MATCH(X14,Saints!$C$2:$C$371,0))),"") -> J.B. de la Salle | AC14: =IF(COUNTIF(Parametre!$C$27:$C$39,X14)=0,"",INDEX(Parametre!$B$27:$B$39,MATCH(X14,Parametre!$C$27:$C$39,0)))&""&IF(COUNTIF(Parametre!$I$45:$I$94,X14)=0,"",INDEX(Parametre!$K$45:$K$94,MATCH(X14,Parametre!$I$45:$I$94,0))) | AE14: =AE13+1 -> 43958 | AG14: =IF(WEEKDAY(AE14)=2,INT(MOD(INT((AE14-2)/7)+0.6,52+5/28))+1,"") | AH14: =IF(ISERROR(VLOOKUP(AE14,[1]Lune!$A$2:$B$55,2,FALSE)),"",VLOOKUP(AE14,[1]Lune!$A$2:$B$55,2,FALSE)) ->  | AI14: =IFERROR(IF(COUNTIF(Saints!$C$2:$C$371,AE14)=0,"",INDEX(Saints!$D$2:$D$371,MATCH(AE14,Saints!$C$2:$C$371,0))),"") -> Gisèle | AJ14: =IF(COUNTIF(Parametre!$C$27:$C$39,AE14)=0,"",INDEX(Parametre!$B$27:$B$39,MATCH(AE14,Parametre!$C$27:$C$39,0)))&""&IF(COUNTIF(Parametre!$I$45:$I$94,AE14)=0,"",INDEX(Parametre!$K$45:$K$94,MATCH(AE14,Parametre!$I$45:$I$94,0))) | AL14: =AL13+1 -> 43989 | AN14: =IF(WEEKDAY(AL14)=2,INT(MOD(INT((AL14-2)/7)+0.6,52+5/28))+1,"") | AO14: =IF(ISERROR(VLOOKUP(AL14,Lune!$A$2:$B$55,2,FALSE)),"",VLOOKUP(AL14,Lune!$A$2:$B$55,2,FALSE)) | AP14: =IFERROR(IF(COUNTIF(Saints!$C$2:$C$371,AL14)=0,"",INDEX(Saints!$D$2:$D$371,MATCH(AL14,Saints!$C$2:$C$371,0))),"") -> Gilbert | AQ14: =IF(COUNTIF(Parametre!$C$27:$C$39,AL14)=0,"",INDEX(Parametre!$B$27:$B$39,MATCH(AL14,Parametre!$C$27:$C$39,0)))&""&IF(COUNTIF(Parametre!$I$45:$I$94,AL14)=0,"",INDEX(Parametre!$K$45:$K$94,MATCH(AL14,Parametre!$I$45:$I$94,0))) -> F. des mères | AS14: =AS13+1 -> 44019 | AU14: =IF(WEEKDAY(AS14)=2,INT(MOD(INT((AS14-2)/7)+0.6,52+5/28))+1,"") | AV14: =IF(ISERROR(VLOOKUP(AS14,Lune!$A$2:$B$55,2,FALSE)),"",VLOOKUP(AS14,Lune!$A$2:$B$55,2,FALSE)) | AW14: =IFERROR(IF(COUNTIF(Saints!$C$2:$C$371,AS14)=0,"",INDEX(Saints!$D$2:$D$371,MATCH(AS14,Saints!$C$2:$C$371,0))),"") -> Raoul | AX14: =IF(COUNTIF(Parametre!$C$27:$C$39,AS14)=0,"",INDEX(Parametre!$B$27:$B$39,MATCH(AS14,Parametre!$C$27:$C$39,0)))&""&IF(COUNTIF(Parametre!$I$45:$I$94,AS14)=0,"",INDEX(Parametre!$K$45:$K$94,MATCH(AS14,Parametre!$I$45:$I$94,0))) -> 12 an Mathéo | AZ14: =AZ13+1 -> 44050 | BB14: =IF(WEEKDAY(AZ14)=2,INT(MOD(INT((AZ14-2)/7)+0.6,52+5/28))+1,"") | BC14: =IF(ISERROR(VLOOKUP(AZ14,Lune!$A$2:$B$55,2,FALSE)),"",VLOOKUP(AZ14,Lune!$A$2:$B$55,2,FALSE)) | BD14: =IFERROR(IF(COUNTIF(Saints!$C$2:$C$371,AZ14)=0,"",INDEX(Saints!$D$2:$D$371,MATCH(AZ14,Saints!$C$2:$C$371,0))),"") -> Gaétan | BE14: =IF(COUNTIF(Parametre!$C$27:$C$39,AZ14)=0,"",INDEX(Parametre!$B$27:$B$39,MATCH(AZ14,Parametre!$C$27:$C$39,0)))&""&IF(COUNTIF(Parametre!$I$45:$I$94,AZ14)=0,"",INDEX(Parametre!$K$45:$K$94,MATCH(AZ14,Parametre!$I$45:$I$94,0))) | BG14: =BG13+1 -> 44081 | BI14: =IF(WEEKDAY(BG14)=2,INT(MOD(INT((BG14-2)/7)+0.6,52+5/28))+1,"") -> 37 | BJ14: =IF(ISERROR(VLOOKUP(BG14,Lune!$A$2:$B$55,2,FALSE)),"",VLOOKUP(BG14,Lune!$A$2:$B$55,2,FALSE)) | BK14: =IFERROR(IF(COUNTIF(Saints!$C$2:$C$371,BG14)=0,"",INDEX(Saints!$D$2:$D$371,MATCH(BG14,Saints!$C$2:$C$371,0))),"") -> Reine | BL14: =IF(COUNTIF(Parametre!$C$27:$C$39,BG14)=0,"",INDEX(Parametre!$B$27:$B$39,MATCH(BG14,Parametre!$C$27:$C$39,0)))&""&IF(COUNTIF(Parametre!$I$45:$I$94,BG14)=0,"",INDEX(Parametre!$K$45:$K$94,MATCH(BG14,Parametre!$I$45:$I$94,0))) | BN14: =BN13+1 -> 44111 | BP14: =IF(WEEKDAY(BN14)=2,INT(MOD(INT((BN14-2)/7)+0.6,52+5/28))+1,"") | BQ14: =IF(ISERROR(VLOOKUP(BN14,Lune!$A$2:$B$55,2,FALSE)),"",VLOOKUP(BN14,Lune!$A$2:$B$55,2,FALSE)) | BR14: =IFERROR(IF(COUNTIF(Saints!$C$2:$C$371,BN14)=0,"",INDEX(Saints!$D$2:$D$371,MATCH(BN14,Saints!$C$2:$C$371,0))),"") -> Serge | BS14: =IF(COUNTIF(Parametre!$C$27:$C$39,BN14)=0,"",INDEX(Parametre!$B$27:$B$39,MATCH(BN14,Parametre!$C$27:$C$39,0)))&""&IF(COUNTIF(Parametre!$I$45:$I$94,BN14)=0,"",INDEX(Parametre!$K$45:$K$94,MATCH(BN14,Parametre!$I$45:$I$94,0))) | BU14: =BU13+1 -> 44142 | BW14: =IF(WEEKDAY(BU14)=2,INT(MOD(INT((BU14-2)/7)+0.6,52+5/28))+1,"") | BX14: =IF(ISERROR(VLOOKUP(BU14,Lune!$A$2:$B$55,2,FALSE)),"",VLOOKUP(BU14,Lune!$A$2:$B$55,2,FALSE)) | BY14: =IFERROR(IF(COUNTIF(Saints!$C$2:$C$371,BU14)=0,"",INDEX(Saints!$D$2:$D$371,MATCH(BU14,Saints!$C$2:$C$371,0))),"") -> Carine | BZ14: =IF(COUNTIF(Parametre!$C$27:$C$39,BU14)=0,"",INDEX(Parametre!$B$27:$B$39,MATCH(BU14,Parametre!$C$27:$C$39,0)))&""&IF(COUNTIF(Parametre!$I$45:$I$94,BU14)=0,"",INDEX(Parametre!$K$45:$K$94,MATCH(BU14,Parametre!$I$45:$I$94,0))) | CB14: =CB13+1 -> 44172 | CD14: =IF(WEEKDAY(CB14)=2,INT(MOD(INT((CB14-2)/7)+0.6,52+5/28))+1,"") -> 50 | CE14: =IF(ISERROR(VLOOKUP(CB14,Lune!$A$2:$B$55,2,FALSE)),"",VLOOKUP(CB14,Lune!$A$2:$B$55,2,FALSE)) ->  | CF14: =IFERROR(IF(COUNTIF(Saints!$C$2:$C$371,CB14)=0,"",INDEX(Saints!$D$2:$D$371,MATCH(CB14,Saints!$C$2:$C$371,0))),"") -> Ambroise | CG14: =IF(COUNTIF(Parametre!$C$27:$C$39,CB14)=0,"",INDEX(Parametre!$B$27:$B$39,MATCH(CB14,Parametre!$C$27:$C$39,0)))&" "&IF(COUNTIF(Parametre!$I$45:$I$94,CB14)=0,"",INDEX(Parametre!$K$45:$K$94,MATCH(CB14,Parametre!$I$45:$I$94,0)))
B15: 8 | C15: =C14+1 -> 43838 | E15: =IF(WEEKDAY(C15)=2,INT(MOD(INT((C15-2)/7)+0.6,52+5/28))+1,"") | F15: =IF(ISERROR(VLOOKUP(C15,Lune!$A$2:$B$55,2,FALSE)),"",VLOOKUP(C15,Lune!$A$2:$B$55,2,FALSE)) | G15: =IFERROR(IF(COUNTIF(Saints!$C$2:$C$371,C15)=0,"",INDEX(Saints!$D$2:$D$371,MATCH(C15,Saints!$C$2:$C$371,0))),"") -> Lucien | H15: =IF(COUNTIF(Parametre!$C$27:$C$39,C15)=0,"",INDEX(Parametre!$B$27:$B$39,MATCH(C15,Parametre!$C$27:$C$39,0)))&""&IF(COUNTIF(Parametre!$I$45:$I$94,C15)=0,"",INDEX(Parametre!$K$45:$K$94,MATCH(C15,Parametre!$I$45:$I$94,0))) | J15: =J14+1 -> 43869 | L15: =IF(WEEKDAY(J15)=2,INT(MOD(INT((J15-2)/7)+0.6,52+5/28))+1,"") | M15: =IF(ISERROR(VLOOKUP(J15,Lune!$A$2:$B$55,2,FALSE)),"",VLOOKUP(J15,Lune!$A$2:$B$55,2,FALSE)) | N15: =IFERROR(IF(COUNTIF(Saints!$C$2:$C$371,J15)=0,"",INDEX(Saints!$D$2:$D$371,MATCH(J15,Saints!$C$2:$C$371,0))),"") -> Jacqueline | O15: =IF(COUNTIF(Parametre!$C$27:$C$39,J15)=0,"",INDEX(Parametre!$B$27:$B$39,MATCH(J15,Parametre!$C$27:$C$39,0)))&""&IF(COUNTIF(Parametre!$I$45:$I$94,J15)=0,"",INDEX(Parametre!$K$45:$K$94,MATCH(J15,Parametre!$I$45:$I$94,0))) | Q15: =Q14+1 -> 43898 | S15: =IF(WEEKDAY(Q15)=2,INT(MOD(INT((Q15-2)/7)+0.6,52+5/28))+1,"") | T15: =IF(ISERROR(VLOOKUP(Q15,Lune!$A$2:$B$55,2,FALSE)),"",VLOOKUP(Q15,Lune!$A$2:$B$55,2,FALSE)) | U15: =IFERROR(IF(COUNTIF(Saints!$C$2:$C$371,Q15)=0,"",INDEX(Saints!$D$2:$D$371,MATCH(Q15,Saints!$C$2:$C$371,0))),"") -> Jean de Dieu | V15: =IF(COUNTIF(Parametre!$C$27:$C$39,Q15)=0,"",INDEX(Parametre!$B$27:$B$39,MATCH(Q15,Parametre!$C$27:$C$39,0)))&""&IF(COUNTIF(Parametre!$I$45:$I$94,Q15)=0,"",INDEX(Parametre!$K$45:$K$94,MATCH(Q15,Parametre!$I$45:$I$94,0))) | X15: =X14+1 -> 43929 | Z15: =IF(WEEKDAY(X15)=2,INT(MOD(INT((X15-2)/7)+0.6,52+5/28))+1,"") | AA15: =IF(ISERROR(VLOOKUP(X15,Lune!$A$2:$B$55,2,FALSE)),"",VLOOKUP(X15,Lune!$A$2:$B$55,2,FALSE)) ->  | AB15: =IFERROR(IF(COUNTIF(Saints!$C$2:$C$371,X15)=0,"",INDEX(Saints!$D$2:$D$371,MATCH(X15,Saints!$C$2:$C$371,0))),"") -> Julie | AC15: =IF(COUNTIF(Parametre!$C$27:$C$39,X15)=0,"",INDEX(Parametre!$B$27:$B$39,MATCH(X15,Parametre!$C$27:$C$39,0)))&""&IF(COUNTIF(Parametre!$I$45:$I$94,X15)=0,"",INDEX(Parametre!$K$45:$K$94,MATCH(X15,Parametre!$I$45:$I$94,0))) | AE15: =AE14+1 -> 43959 | AG15: =IF(WEEKDAY(AE15)=2,INT(MOD(INT((AE15-2)/7)+0.6,52+5/28))+1,"") | AH15: =IF(ISERROR(VLOOKUP(AE15,[1]Lune!$A$2:$B$55,2,FALSE)),"",VLOOKUP(AE15,[1]Lune!$A$2:$B$55,2,FALSE)) | AI15: =IFERROR(IF(COUNTIF(Saints!$C$2:$C$371,AE15)=0,"",INDEX(Saints!$D$2:$D$371,MATCH(AE15,Saints!$C$2:$C$371,0))),"") -> Désiré | AJ15: =IF(COUNTIF(Parametre!$C$27:$C$39,AE15)=0,"",INDEX(Parametre!$B$27:$B$39,MATCH(AE15,Parametre!$C$27:$C$39,0)))&""&IF(COUNTIF(Parametre!$I$45:$I$94,AE15)=0,"",INDEX(Parametre!$K$45:$K$94,MATCH(AE15,Parametre!$I$45:$I$94,0))) -> Victoire 1945 | AL15: =AL14+1 -> 43990 | AN15: =IFERROR(IF(WEEKDAY(AL15)=2,INT(MOD(INT((AL15-2)/7)+0.6,52+5/28))+1,""),"") -> 24 | AO15: =IF(ISERROR(VLOOKUP(AL15,Lune!$A$2:$B$55,2,FALSE)),"",VLOOKUP(AL15,Lune!$A$2:$B$55,2,FALSE)) | AP15: =IFERROR(IF(COUNTIF(Saints!$C$2:$C$371,AL15)=0,"",INDEX(Saints!$D$2:$D$371,MATCH(AL15,Saints!$C$2:$C$371,0))),"") -> Médard | AQ15: =IF(COUNTIF(Parametre!$C$27:$C$39,AL15)=0,"",INDEX(Parametre!$B$27:$B$39,MATCH(AL15,Parametre!$C$27:$C$39,0)))&""&IF(COUNTIF(Parametre!$I$45:$I$94,AL15)=0,"",INDEX(Parametre!$K$45:$K$94,MATCH(AL15,Parametre!$I$45:$I$94,0))) -> 12 an Clara | AS15: =AS14+1 -> 44020 | AU15: =IFERROR(IF(WEEKDAY(AS15)=2,INT(MOD(INT((AS15-2)/7)+0.6,52+5/28))+1,""),"") | AV15: =IF(ISERROR(VLOOKUP(AS15,Lune!$A$2:$B$55,2,FALSE)),"",VLOOKUP(AS15,Lune!$A$2:$B$55,2,FALSE)) | AW15: =IFERROR(IF(COUNTIF(Saints!$C$2:$C$371,AS15)=0,"",INDEX(Saints!$D$2:$D$371,MATCH(AS15,Saints!$C$2:$C$371,0))),"") -> Thibaut | AX15: =IF(COUNTIF(Parametre!$C$27:$C$39,AS15)=0,"",INDEX(Parametre!$B$27:$B$39,MATCH(AS15,Parametre!$C$27:$C$39,0)))&""&IF(COUNTIF(Parametre!$I$45:$I$94,AS15)=0,"",INDEX(Parametre!$K$45:$K$94,MATCH(AS15,Parametre!$I$45:$I$94,0))) | AZ15: =AZ14+1 -> 44051 | BB15: =IF(WEEKDAY(AZ15)=2,INT(MOD(INT((AZ15-2)/7)+0.6,52+5/28))+1,"") | BC15: =IF(ISERROR(VLOOKUP(AZ15,Lune!$A$2:$B$55,2,FALSE)),"",VLOOKUP(AZ15,Lune!$A$2:$B$55,2,FALSE)) | BD15: =IFERROR(IF(COUNTIF(Saints!$C$2:$C$371,AZ15)=0,"",INDEX(Saints!$D$2:$D$371,MATCH(AZ15,Saints!$C$2:$C$371,0))),"") -> Dominique | BE15: =IF(COUNTIF(Parametre!$C$27:$C$39,AZ15)=0,"",INDEX(Parametre!$B$27:$B$39,MATCH(AZ15,Parametre!$C$27:$C$39,0)))&""&IF(COUNTIF(Parametre!$I$45:$I$94,AZ15)=0,"",INDEX(Parametre!$K$45:$K$94,MATCH(AZ15,Parametre!$I$45:$I$94,0))) | BG15: =BG14+1 -> 44082 | BI15: =IF(WEEKDAY(BG15)=2,INT(MOD(INT((BG15-2)/7)+0.6,52+5/28))+1,"") | BJ15: =IF(ISERROR(VLOOKUP(BG15,Lune!$A$2:$B$55,2,FALSE)),"",VLOOKUP(BG15,Lune!$A$2:$B$55,2,FALSE)) | BK15: =IFERROR(IF(COUNTIF(Saints!$C$2:$C$371,BG15)=0,"",INDEX(Saints!$D$2:$D$371,MATCH(BG15,Saints!$C$2:$C$371,0))),"") -> Adrien | BL15: =IF(COUNTIF(Parametre!$C$27:$C$39,BG15)=0,"",INDEX(Parametre!$B$27:$B$39,MATCH(BG15,Parametre!$C$27:$C$39,0)))&""&IF(COUNTIF(Parametre!$I$45:$I$94,BG15)=0,"",INDEX(Parametre!$K$45:$K$94,MATCH(BG15,Parametre!$I$45:$I$94,0))) | BN15: =BN14+1 -> 44112 | BP15: =IF(WEEKDAY(BN15)=2,INT(MOD(INT((BN15-2)/7)+0.6,52+5/28))+1,"") | BQ15: =IF(ISERROR(VLOOKUP(BN15,Lune!$A$2:$B$55,2,FALSE)),"",VLOOKUP(BN15,Lune!$A$2:$B$55,2,FALSE)) | BR15: =IFERROR(IF(COUNTIF(Saints!$C$2:$C$371,BN15)=0,"",INDEX(Saints!$D$2:$D$371,MATCH(BN15,Saints!$C$2:$C$371,0))),"") -> Pélagie | BS15: =IF(COUNTIF(Parametre!$C$27:$C$39,BN15)=0,"",INDEX(Parametre!$B$27:$B$39,MATCH(BN15,Parametre!$C$27:$C$39,0)))&""&IF(COUNTIF(Parametre!$I$45:$I$94,BN15)=0,"",INDEX(Parametre!$K$45:$K$94,MATCH(BN15,Parametre!$I$45:$I$94,0))) | BU15: =BU14+1 -> 44143 | BW15: =IF(WEEKDAY(BU15)=2,INT(MOD(INT((BU15-2)/7)+0.6,52+5/28))+1,"") | BX15: =IF(ISERROR(VLOOKUP(BU15,Lune!$A$2:$B$55,2,FALSE)),"",VLOOKUP(BU15,Lune!$A$2:$B$55,2,FALSE)) ->  | BY15: =IFERROR(IF(COUNTIF(Saints!$C$2:$C$371,BU15)=0,"",INDEX(Saints!$D$2:$D$371,MATCH(BU15,Saints!$C$2:$C$371,0))),"") -> Geoffroy | BZ15: =IF(COUNTIF(Parametre!$C$27:$C$39,BU15)=0,"",INDEX(Parametre!$B$27:$B$39,MATCH(BU15,Parametre!$C$27:$C$39,0)))&""&IF(COUNTIF(Parametre!$I$45:$I$94,BU15)=0,"",INDEX(Parametre!$K$45:$K$94,MATCH(BU15,Parametre!$I$45:$I$94,0))) | CB15: =CB14+1 -> 44173 | CD15: =IF(WEEKDAY(CB15)=2,INT(MOD(INT((CB15-2)/7)+0.6,52+5/28))+1,"") | CE15: =IF(ISERROR(VLOOKUP(CB15,Lune!$A$2:$B$55,2,FALSE)),"",VLOOKUP(CB15,Lune!$A$2:$B$55,2,FALSE)) | CF15: =IFERROR(IF(COUNTIF(Saints!$C$2:$C$371,CB15)=0,"",INDEX(Saints!$D$2:$D$371,MATCH(CB15,Saints!$C$2:$C$371,0))),"") -> Conception | CG15: =IF(COUNTIF(Parametre!$C$27:$C$39,CB15)=0,"",INDEX(Parametre!$B$27:$B$39,MATCH(CB15,Parametre!$C$27:$C$39,0)))&""&IF(COUNTIF(Parametre!$I$45:$I$94,CB15)=0,"",INDEX(Parametre!$K$45:$K$94,MATCH(CB15,Parametre!$I$45:$I$94,0))) -> 41 an Maud
B16: 9 | C16: =C15+1 -> 43839 | E16: =IF(WEEKDAY(C16)=2,INT(MOD(INT((C16-2)/7)+0.6,52+5/28))+1,"") | F16: =IF(ISERROR(VLOOKUP(C16,Lune!$A$2:$B$55,2,FALSE)),"",VLOOKUP(C16,Lune!$A$2:$B$55,2,FALSE)) | G16: =IFERROR(IF(COUNTIF(Saints!$C$2:$C$371,C16)=0,"",INDEX(Saints!$D$2:$D$371,MATCH(C16,Saints!$C$2:$C$371,0))),"") -> Alix | H16: =IF(COUNTIF(Parametre!$C$27:$C$39,C16)=0,"",INDEX(Parametre!$B$27:$B$39,MATCH(C16,Parametre!$C$27:$C$39,0)))&""&IF(COUNTIF(Parametre!$I$45:$I$94,C16)=0,"",INDEX(Parametre!$K$45:$K$94,MATCH(C16,Parametre!$I$45:$I$94,0))) | J16: =J15+1 -> 43870 | L16: =IF(WEEKDAY(J16)=2,INT(MOD(INT((J16-2)/7)+0.6,52+5/28))+1,"") | M16: =IF(ISERROR(VLOOKUP(J16,Lune!$A$2:$B$55,2,FALSE)),"",VLOOKUP(J16,Lune!$A$2:$B$55,2,FALSE)) ->  | N16: =IFERROR(IF(COUNTIF(Saints!$C$2:$C$371,J16)=0,"",INDEX(Saints!$D$2:$D$371,MATCH(J16,Saints!$C$2:$C$371,0))),"") -> Apolline | O16: =IF(COUNTIF(Parametre!$C$27:$C$39,J16)=0,"",INDEX(Parametre!$B$27:$B$39,MATCH(J16,Parametre!$C$27:$C$39,0)))&""&IF(COUNTIF(Parametre!$I$45:$I$94,J16)=0,"",INDEX(Parametre!$K$45:$K$94,MATCH(J16,Parametre!$I$45:$I$94,0))) -> 9 an Maxence | Q16: =Q15+1 -> 43899 | S16: =IF(WEEKDAY(Q16)=2,INT(MOD(INT((Q16-2)/7)+0.6,52+5/28))+1,"") -> 11 | T16: =IF(ISERROR(VLOOKUP(Q16,Lune!$A$2:$B$55,2,FALSE)),"",VLOOKUP(Q16,Lune!$A$2:$B$55,2,FALSE)) ->  | U16: =IFERROR(IF(COUNTIF(Saints!$C$2:$C$371,Q16)=0,"",INDEX(Saints!$D$2:$D$371,MATCH(Q16,Saints!$C$2:$C$371,0))),"") -> Françoise | V16: =IF(COUNTIF(Parametre!$C$27:$C$39,Q16)=0,"",INDEX(Parametre!$B$27:$B$39,MATCH(Q16,Parametre!$C$27:$C$39,0)))&""&IF(COUNTIF(Parametre!$I$45:$I$94,Q16)=0,"",INDEX(Parametre!$K$45:$K$94,MATCH(Q16,Parametre!$I$45:$I$94,0))) | X16: =X15+1 -> 43930 | Z16: =IF(WEEKDAY(X16)=2,INT(MOD(INT((X16-2)/7)+0.6,52+5/28))+1,"") | AA16: =IF(ISERROR(VLOOKUP(X16,Lune!$A$2:$B$55,2,FALSE)),"",VLOOKUP(X16,Lune!$A$2:$B$55,2,FALSE)) | AB16: =IFERROR(IF(COUNTIF(Saints!$C$2:$C$371,X16)=0,"",INDEX(Saints!$D$2:$D$371,MATCH(X16,Saints!$C$2:$C$371,0))),"") -> Gauthier | AC16: =IF(COUNTIF(Parametre!$C$27:$C$39,X16)=0,"",INDEX(Parametre!$B$27:$B$39,MATCH(X16,Parametre!$C$27:$C$39,0)))&""&IF(COUNTIF(Parametre!$I$45:$I$94,X16)=0,"",INDEX(Parametre!$K$45:$K$94,MATCH(X16,Parametre!$I$45:$I$94,0))) | AE16: =AE15+1 -> 43960 | AG16: =IF(WEEKDAY(AE16)=2,INT(MOD(INT((AE16-2)/7)+0.6,52+5/28))+1,"") | AH16: =IF(ISERROR(VLOOKUP(AE16,[1]Lune!$A$2:$B$55,2,FALSE)),"",VLOOKUP(AE16,[1]Lune!$A$2:$B$55,2,FALSE)) | AI16: =IFERROR(IF(COUNTIF(Saints!$C$2:$C$371,AE16)=0,"",INDEX(Saints!$D$2:$D$371,MATCH(AE16,Saints!$C$2:$C$371,0))),"") -> Pâcome | AJ16: =IF(COUNTIF(Parametre!$C$27:$C$39,AE16)=0,"",INDEX(Parametre!$B$27:$B$39,MATCH(AE16,Parametre!$C$27:$C$39,0)))&""&IF(COUNTIF(Parametre!$I$45:$I$94,AE16)=0,"",INDEX(Parametre!$K$45:$K$94,MATCH(AE16,Parametre!$I$45:$I$94,0))) | AL16: =AL15+1 -> 43991 | AN16: =IFERROR(IF(WEEKDAY(AL16)=2,INT(MOD(INT((AL16-2)/7)+0.6,52+5/28))+1,""),"") | AO16: =IF(ISERROR(VLOOKUP(AL16,Lune!$A$2:$B$55,2,FALSE)),"",VLOOKUP(AL16,Lune!$A$2:$B$55,2,FALSE)) | AP16: =IFERROR(IF(COUNTIF(Saints!$C$2:$C$371,AL16)=0,"",INDEX(Saints!$D$2:$D$371,MATCH(AL16,Saints!$C$2:$C$371,0))),"") -> Diane | AQ16: =IF(COUNTIF(Parametre!$C$27:$C$39,AL16)=0,"",INDEX(Parametre!$B$27:$B$39,MATCH(AL16,Parametre!$C$27:$C$39,0)))&""&IF(COUNTIF(Parametre!$I$45:$I$94,AL16)=0,"",INDEX(Parametre!$K$45:$K$94,MATCH(AL16,Parametre!$I$45:$I$94,0))) | AS16: =AS15+1 -> 44021 | AU16: =IFERROR(IF(WEEKDAY(AS16)=2,INT(MOD(INT((AS16-2)/7)+0.6,52+5/28))+1,""),"") | AV16: =IF(ISERROR(VLOOKUP(AS16,Lune!$A$2:$B$55,2,FALSE)),"",VLOOKUP(AS16,Lune!$A$2:$B$55,2,FALSE)) | AW16: =IFERROR(IF(COUNTIF(Saints!$C$2:$C$371,AS16)=0,"",INDEX(Saints!$D$2:$D$371,MATCH(AS16,Saints!$C$2:$C$371,0))),"") -> Amandine | AX16: =IF(COUNTIF(Parametre!$C$27:$C$39,AS16)=0,"",INDEX(Parametre!$B$27:$B$39,MATCH(AS16,Parametre!$C$27:$C$39,0)))&""&IF(COUNTIF(Parametre!$I$45:$I$94,AS16)=0,"",INDEX(Parametre!$K$45:$K$94,MATCH(AS16,Parametre!$I$45:$I$94,0))) | AZ16: =AZ15+1 -> 44052 | BB16: =IF(WEEKDAY(AZ16)=2,INT(MOD(INT((AZ16-2)/7)+0.6,52+5/28))+1,"") | BC16: =IF(ISERROR(VLOOKUP(AZ16,Lune!$A$2:$B$55,2,FALSE)),"",VLOOKUP(AZ16,Lune!$A$2:$B$55,2,FALSE)) | BD16: =IFERROR(IF(COUNTIF(Saints!$C$2:$C$371,AZ16)=0,"",INDEX(Saints!$D$2:$D$371,MATCH(AZ16,Saints!$C$2:$C$371,0))),"") -> Amour | BE16: =IF(COUNTIF(Parametre!$C$27:$C$39,AZ16)=0,"",INDEX(Parametre!$B$27:$B$39,MATCH(AZ16,Parametre!$C$27:$C$39,0)))&""&IF(COUNTIF(Parametre!$I$45:$I$94,AZ16)=0,"",INDEX(Parametre!$K$45:$K$94,MATCH(AZ16,Parametre!$I$45:$I$94,0))) | BG16: =BG15+1 -> 44083 | BI16: =IF(WEEKDAY(BG16)=2,INT(MOD(INT((BG16-2)/7)+0.6,52+5/28))+1,"") | BJ16: =IF(ISERROR(VLOOKUP(BG16,Lune!$A$2:$B$55,2,FALSE)),"",VLOOKUP(BG16,Lune!$A$2:$B$55,2,FALSE)) | BK16: =IFERROR(IF(COUNTIF(Saints!$C$2:$C$371,BG16)=0,"",INDEX(Saints!$D$2:$D$371,MATCH(BG16,Saints!$C$2:$C$371,0))),"") -> Alain | BL16: =IF(COUNTIF(Parametre!$C$27:$C$39,BG16)=0,"",INDEX(Parametre!$B$27:$B$39,MATCH(BG16,Parametre!$C$27:$C$39,0)))&""&IF(COUNTIF(Parametre!$I$45:$I$94,BG16)=0,"",INDEX(Parametre!$K$45:$K$94,MATCH(BG16,Parametre!$I$45:$I$94,0))) | BN16: =BN15+1 -> 44113 | BP16: =IF(WEEKDAY(BN16)=2,INT(MOD(INT((BN16-2)/7)+0.6,52+5/28))+1,"") | BQ16: =IF(ISERROR(VLOOKUP(BN16,Lune!$A$2:$B$55,2,FALSE)),"",VLOOKUP(BN16,Lune!$A$2:$B$55,2,FALSE)) ->  | BR16: =IFERROR(IF(COUNTIF(Saints!$C$2:$C$371,BN16)=0,"",INDEX(Saints!$D$2:$D$371,MATCH(BN16,Saints!$C$2:$C$371,0))),"") -> Denis | BS16: =IF(COUNTIF(Parametre!$C$27:$C$39,BN16)=0,"",INDEX(Parametre!$B$27:$B$39,MATCH(BN16,Parametre!$C$27:$C$39,0)))&""&IF(COUNTIF(Parametre!$I$45:$I$94,BN16)=0,"",INDEX(Parametre!$K$45:$K$94,MATCH(BN16,Parametre!$I$45:$I$94,0))) | BU16: =BU15+1 -> 44144 | BW16: =IF(WEEKDAY(BU16)=2,INT(MOD(INT((BU16-2)/7)+0.6,52+5/28))+1,"") -> 46 | BX16: =IF(ISERROR(VLOOKUP(BU16,Lune!$A$2:$B$55,2,FALSE)),"",VLOOKUP(BU16,Lune!$A$2:$B$55,2,FALSE)) | BY16: =IFERROR(IF(COUNTIF(Saints!$C$2:$C$371,BU16)=0,"",INDEX(Saints!$D$2:$D$371,MATCH(BU16,Saints!$C$2:$C$371,0))),"") -> Théodore | BZ16: =IF(COUNTIF(Parametre!$C$27:$C$39,BU16)=0,"",INDEX(Parametre!$B$27:$B$39,MATCH(BU16,Parametre!$C$27:$C$39,0)))&""&IF(COUNTIF(Parametre!$I$45:$I$94,BU16)=0,"",INDEX(Parametre!$K$45:$K$94,MATCH(BU16,Parametre!$I$45:$I$94,0))) | CB16: =CB15+1 -> 44174 | CD16: =IF(WEEKDAY(CB16)=2,INT(MOD(INT((CB16-2)/7)+0.6,52+5/28))+1,"") | CE16: =IF(ISERROR(VLOOKUP(CB16,Lune!$A$2:$B$55,2,FALSE)),"",VLOOKUP(CB16,Lune!$A$2:$B$55,2,FALSE)) | CF16: =IFERROR(IF(COUNTIF(Saints!$C$2:$C$371,CB16)=0,"",INDEX(Saints!$D$2:$D$371,MATCH(CB16,Saints!$C$2:$C$371,0))),"") -> P. Fourier | CG16: =IF(COUNTIF(Parametre!$C$27:$C$39,CB16)=0,"",INDEX(Parametre!$B$27:$B$39,MATCH(CB16,Parametre!$C$27:$C$39,0)))&" "&IF(COUNTIF(Parametre!$I$45:$I$94,CB16)=0,"",INDEX(Parametre!$K$45:$K$94,MATCH(CB16,Parametre!$I$45:$I$94,0)))
B17: 10 | C17: =C16+1 -> 43840 | E17: =IF(WEEKDAY(C17)=2,INT(MOD(INT((C17-2)/7)+0.6,52+5/28))+1,"") | F17: =IF(ISERROR(VLOOKUP(C17,Lune!$A$2:$B$55,2,FALSE)),"",VLOOKUP(C17,Lune!$A$2:$B$55,2,FALSE)) ->  | G17: =IFERROR(IF(COUNTIF(Saints!$C$2:$C$371,C17)=0,"",INDEX(Saints!$D$2:$D$371,MATCH(C17,Saints!$C$2:$C$371,0))),"") -> Guillaume | H17: =IF(COUNTIF(Parametre!$C$27:$C$39,C17)=0,"",INDEX(Parametre!$B$27:$B$39,MATCH(C17,Parametre!$C$27:$C$39,0)))&""&IF(COUNTIF(Parametre!$I$45:$I$94,C17)=0,"",INDEX(Parametre!$K$45:$K$94,MATCH(C17,Parametre!$I$45:$I$94,0))) | J17: =J16+1 -> 43871 | L17: =IF(WEEKDAY(J17)=2,INT(MOD(INT((J17-2)/7)+0.6,52+5/28))+1,"") -> 7 | M17: =IF(ISERROR(VLOOKUP(J17,Lune!$A$2:$B$55,2,FALSE)),"",VLOOKUP(J17,Lune!$A$2:$B$55,2,FALSE)) | N17: =IFERROR(IF(COUNTIF(Saints!$C$2:$C$371,J17)=0,"",INDEX(Saints!$D$2:$D$371,MATCH(J17,Saints!$C$2:$C$371,0))),"") -> Arnaud | O17: =IF(COUNTIF(Parametre!$C$27:$C$39,J17)=0,"",INDEX(Parametre!$B$27:$B$39,MATCH(J17,Parametre!$C$27:$C$39,0)))&""&IF(COUNTIF(Parametre!$I$45:$I$94,J17)=0,"",INDEX(Parametre!$K$45:$K$94,MATCH(J17,Parametre!$I$45:$I$94,0))) | Q17: =Q16+1 -> 43900 | S17: =IF(WEEKDAY(Q17)=2,INT(MOD(INT((Q17-2)/7)+0.6,52+5/28))+1,"") | T17: =IF(ISERROR(VLOOKUP(Q17,Lune!$A$2:$B$55,2,FALSE)),"",VLOOKUP(Q17,Lune!$A$2:$B$55,2,FALSE)) | U17: =IFERROR(IF(COUNTIF(Saints!$C$2:$C$371,Q17)=0,"",INDEX(Saints!$D$2:$D$371,MATCH(Q17,Saints!$C$2:$C$371,0))),"") -> Vivien | V17: =IF(COUNTIF(Parametre!$C$27:$C$39,Q17)=0,"",INDEX(Parametre!$B$27:$B$39,MATCH(Q17,Parametre!$C$27:$C$39,0)))&""&IF(COUNTIF(Parametre!$I$45:$I$94,Q17)=0,"",INDEX(Parametre!$K$45:$K$94,MATCH(Q17,Parametre!$I$45:$I$94,0))) | X17: =X16+1 -> 43931 | Z17: =IF(WEEKDAY(X17)=2,INT(MOD(INT((X17-2)/7)+0.6,52+5/28))+1,"") | AA17: =IF(ISERROR(VLOOKUP(X17,Lune!$A$2:$B$55,2,FALSE)),"",VLOOKUP(X17,Lune!$A$2:$B$55,2,FALSE)) | AB17: =IFERROR(IF(COUNTIF(Saints!$C$2:$C$371,X17)=0,"",INDEX(Saints!$D$2:$D$371,MATCH(X17,Saints!$C$2:$C$371,0))),"") -> Fulbert | AC17: =IF(COUNTIF(Parametre!$C$27:$C$39,X17)=0,"",INDEX(Parametre!$B$27:$B$39,MATCH(X17,Parametre!$C$27:$C$39,0)))&""&IF(COUNTIF(Parametre!$I$45:$I$94,X17)=0,"",INDEX(Parametre!$K$45:$K$94,MATCH(X17,Parametre!$I$45:$I$94,0))) -> Vendredi Saint | AE17: =AE16+1 -> 43961 | AG17: =IF(WEEKDAY(AE17)=2,INT(MOD(INT((AE17-2)/7)+0.6,52+5/28))+1,"") | AH17: =IF(ISERROR(VLOOKUP(AE17,[1]Lune!$A$2:$B$55,2,FALSE)),"",VLOOKUP(AE17,[1]Lune!$A$2:$B$55,2,FALSE)) | AI17: =IFERROR(IF(COUNTIF(Saints!$C$2:$C$371,AE17)=0,"",INDEX(Saints!$D$2:$D$371,MATCH(AE17,Saints!$C$2:$C$371,0))),"") -> Solange | AJ17: =IF(COUNTIF(Parametre!$C$27:$C$39,AE17)=0,"",INDEX(Parametre!$B$27:$B$39,MATCH(AE17,Parametre!$C$27:$C$39,0)))&""&IF(COUNTIF(Parametre!$I$45:$I$94,AE17)=0,"",INDEX(Parametre!$K$45:$K$94,MATCH(AE17,Parametre!$I$45:$I$94,0))) | AL17: =AL16+1 -> 43992 | AN17: =IF(WEEKDAY(AL17)=2,INT(MOD(INT((AL17-2)/7)+0.6,52+5/28))+1,"") | AO17: =IF(ISERROR(VLOOKUP(AL17,Lune!$A$2:$B$55,2,FALSE)),"",VLOOKUP(AL17,Lune!$A$2:$B$55,2,FALSE)) | AP17: =IFERROR(IF(COUNTIF(Saints!$C$2:$C$371,AL17)=0,"",INDEX(Saints!$D$2:$D$371,MATCH(AL17,Saints!$C$2:$C$371,0))),"") -> Landry | AQ17: =IF(COUNTIF(Parametre!$C$27:$C$39,AL17)=0,"",INDEX(Parametre!$B$27:$B$39,MATCH(AL17,Parametre!$C$27:$C$39,0)))&""&IF(COUNTIF(Parametre!$I$45:$I$94,AL17)=0,"",INDEX(Parametre!$K$45:$K$94,MATCH(AL17,Parametre!$I$45:$I$94,0))) | AS17: =AS16+1 -> 44022 | AU17: =IF(WEEKDAY(AS17)=2,INT(MOD(INT((AS17-2)/7)+0.6,52+5/28))+1,"") | AV17: =IF(ISERROR(VLOOKUP(AS17,Lune!$A$2:$B$55,2,FALSE)),"",VLOOKUP(AS17,Lune!$A$2:$B$55,2,FALSE)) | AW17: =IFERROR(IF(COUNTIF(Saints!$C$2:$C$371,AS17)=0,"",INDEX(Saints!$D$2:$D$371,MATCH(AS17,Saints!$C$2:$C$371,0))),"") -> Ulrich | AX17: =IF(COUNTIF(Parametre!$C$27:$C$39,AS17)=0,"",INDEX(Parametre!$B$27:$B$39,MATCH(AS17,Parametre!$C$27:$C$39,0)))&""&IF(COUNTIF(Parametre!$I$45:$I$94,AS17)=0,"",INDEX(Parametre!$K$45:$K$94,MATCH(AS17,Parametre!$I$45:$I$94,0))) | AZ17: =AZ16+1 -> 44053 | BB17: =IF(WEEKDAY(AZ17)=2,INT(MOD(INT((AZ17-2)/7)+0.6,52+5/28))+1,"") -> 33 | BC17: =IF(ISERROR(VLOOKUP(AZ17,Lune!$A$2:$B$55,2,FALSE)),"",VLOOKUP(AZ17,Lune!$A$2:$B$55,2,FALSE)) | BD17: =IFERROR(IF(COUNTIF(Saints!$C$2:$C$371,AZ17)=0,"",INDEX(Saints!$D$2:$D$371,MATCH(AZ17,Saints!$C$2:$C$371,0))),"") -> Laurent | BE17: =IF(COUNTIF(Parametre!$C$27:$C$39,AZ17)=0,"",INDEX(Parametre!$B$27:$B$39,MATCH(AZ17,Parametre!$C$27:$C$39,0)))&""&IF(COUNTIF(Parametre!$I$45:$I$94,AZ17)=0,"",INDEX(Parametre!$K$45:$K$94,MATCH(AZ17,Parametre!$I$45:$I$94,0))) | BG17: =BG16+1 -> 44084 | BI17: =IF(WEEKDAY(BG17)=2,INT(MOD(INT((BG17-2)/7)+0.6,52+5/28))+1,"") | BJ17: =IF(ISERROR(VLOOKUP(BG17,Lune!$A$2:$B$55,2,FALSE)),"",VLOOKUP(BG17,Lune!$A$2:$B$55,2,FALSE)) ->  | BK17: =IFERROR(IF(COUNTIF(Saints!$C$2:$C$371,BG17)=0,"",INDEX(Saints!$D$2:$D$371,MATCH(BG17,Saints!$C$2:$C$371,0))),"") -> Inès | BL17: =IF(COUNTIF(Parametre!$C$27:$C$39,BG17)=0,"",INDEX(Parametre!$B$27:$B$39,MATCH(BG17,Parametre!$C$27:$C$39,0)))&""&IF(COUNTIF(Parametre!$I$45:$I$94,BG17)=0,"",INDEX(Parametre!$K$45:$K$94,MATCH(BG17,Parametre!$I$45:$I$94,0))) | BN17: =BN16+1 -> 44114 | BP17: =IF(WEEKDAY(BN17)=2,INT(MOD(INT((BN17-2)/7)+0.6,52+5/28))+1,"") | BQ17: =IF(ISERROR(VLOOKUP(BN17,Lune!$A$2:$B$55,2,FALSE)),"",VLOOKUP(BN17,Lune!$A$2:$B$55,2,FALSE)) | BR17: =IFERROR(IF(COUNTIF(Saints!$C$2:$C$371,BN17)=0,"",INDEX(Saints!$D$2:$D$371,MATCH(BN17,Saints!$C$2:$C$371,0))),"") -> Ghislain | BS17: =IF(COUNTIF(Parametre!$C$27:$C$39,BN17)=0,"",INDEX(Parametre!$B$27:$B$39,MATCH(BN17,Parametre!$C$27:$C$39,0)))&""&IF(COUNTIF(Parametre!$I$45:$I$94,BN17)=0,"",INDEX(Parametre!$K$45:$K$94,MATCH(BN17,Parametre!$I$45:$I$94,0))) | BU17: =BU16+1 -> 44145 | BW17: =IF(WEEKDAY(BU17)=2,INT(MOD(INT((BU17-2)/7)+0.6,52+5/28))+1,"") | BX17: =IF(ISERROR(VLOOKUP(BU17,Lune!$A$2:$B$55,2,FALSE)),"",VLOOKUP(BU17,Lune!$A$2:$B$55,2,FALSE)) | BY17: =IFERROR(IF(COUNTIF(Saints!$C$2:$C$371,BU17)=0,"",INDEX(Saints!$D$2:$D$371,MATCH(BU17,Saints!$C$2:$C$371,0))),"") -> Léon | BZ17: =IF(COUNTIF(Parametre!$C$27:$C$39,BU17)=0,"",INDEX(Parametre!$B$27:$B$39,MATCH(BU17,Parametre!$C$27:$C$39,0)))&""&IF(COUNTIF(Parametre!$I$45:$I$94,BU17)=0,"",INDEX(Parametre!$K$45:$K$94,MATCH(BU17,Parametre!$I$45:$I$94,0))) | CB17: =CB16+1 -> 44175 | CD17: =IF(WEEKDAY(CB17)=2,INT(MOD(INT((CB17-2)/7)+0.6,52+5/28))+1,"") | CE17: =IF(ISERROR(VLOOKUP(CB17,Lune!$A$2:$B$55,2,FALSE)),"",VLOOKUP(CB17,Lune!$A$2:$B$55,2,FALSE)) | CF17: =IFERROR(IF(COUNTIF(Saints!$C$2:$C$371,CB17)=0,"",INDEX(Saints!$D$2:$D$371,MATCH(CB17,Saints!$C$2:$C$371,0))),"") -> Romaric | CG17: =IF(COUNTIF(Parametre!$C$27:$C$39,CB17)=0,"",INDEX(Parametre!$B$27:$B$39,MATCH(CB17,Parametre!$C$27:$C$39,0)))&" "&IF(COUNTIF(Parametre!$I$45:$I$94,CB17)=0,"",INDEX(Parametre!$K$45:$K$94,MATCH(CB17,Parametre!$I$45:$I$94,0)))
B18: 11 | C18: =C17+1 -> 43841 | E18: =IF(WEEKDAY(C18)=2,INT(MOD(INT((C18-2)/7)+0.6,52+5/28))+1,"") | F18: =IF(ISERROR(VLOOKUP(C18,Lune!$A$2:$B$55,2,FALSE)),"",VLOOKUP(C18,Lune!$A$2:$B$55,2,FALSE)) | G18: =IFERROR(IF(COUNTIF(Saints!$C$2:$C$371,C18)=0,"",INDEX(Saints!$D$2:$D$371,MATCH(C18,Saints!$C$2:$C$371,0))),"") -> Paulin | H18: =IF(COUNTIF(Parametre!$C$27:$C$39,C18)=0,"",INDEX(Parametre!$B$27:$B$39,MATCH(C18,Parametre!$C$27:$C$39,0)))&""&IF(COUNTIF(Parametre!$I$45:$I$94,C18)=0,"",INDEX(Parametre!$K$45:$K$94,MATCH(C18,Parametre!$I$45:$I$94,0))) | J18: =J17+1 -> 43872 | L18: =IF(WEEKDAY(J18)=2,INT(MOD(INT((J18-2)/7)+0.6,52+5/28))+1,"") | M18: =IF(ISERROR(VLOOKUP(J18,Lune!$A$2:$B$55,2,FALSE)),"",VLOOKUP(J18,Lune!$A$2:$B$55,2,FALSE)) | N18: =IFERROR(IF(COUNTIF(Saints!$C$2:$C$371,J18)=0,"",INDEX(Saints!$D$2:$D$371,MATCH(J18,Saints!$C$2:$C$371,0))),"") -> ND de Lourdes | O18: =IF(COUNTIF(Parametre!$C$27:$C$39,J18)=0,"",INDEX(Parametre!$B$27:$B$39,MATCH(J18,Parametre!$C$27:$C$39,0)))&""&IF(COUNTIF(Parametre!$I$45:$I$94,J18)=0,"",INDEX(Parametre!$K$45:$K$94,MATCH(J18,Parametre!$I$45:$I$94,0))) | Q18: =Q17+1 -> 43901 | S18: =IF(WEEKDAY(Q18)=2,INT(MOD(INT((Q18-2)/7)+0.6,52+5/28))+1,"") | T18: =IF(ISERROR(VLOOKUP(Q18,Lune!$A$2:$B$55,2,FALSE)),"",VLOOKUP(Q18,Lune!$A$2:$B$55,2,FALSE)) | U18: =IFERROR(IF(COUNTIF(Saints!$C$2:$C$371,Q18)=0,"",INDEX(Saints!$D$2:$D$371,MATCH(Q18,Saints!$C$2:$C$371,0))),"") -> Rosine | V18: =IF(COUNTIF(Parametre!$C$27:$C$39,Q18)=0,"",INDEX(Parametre!$B$27:$B$39,MATCH(Q18,Parametre!$C$27:$C$39,0)))&""&IF(COUNTIF(Parametre!$I$45:$I$94,Q18)=0,"",INDEX(Parametre!$K$45:$K$94,MATCH(Q18,Parametre!$I$45:$I$94,0))) | X18: =X17+1 -> 43932 | Z18: =IF(WEEKDAY(X18)=2,INT(MOD(INT((X18-2)/7)+0.6,52+5/28))+1,"") | AA18: =IF(ISERROR(VLOOKUP(X18,Lune!$A$2:$B$55,2,FALSE)),"",VLOOKUP(X18,Lune!$A$2:$B$55,2,FALSE)) | AB18: =IFERROR(IF(COUNTIF(Saints!$C$2:$C$371,X18)=0,"",INDEX(Saints!$D$2:$D$371,MATCH(X18,Saints!$C$2:$C$371,0))),"") -> Stanislas | AC18: =IF(COUNTIF(Parametre!$C$27:$C$39,X18)=0,"",INDEX(Parametre!$B$27:$B$39,MATCH(X18,Parametre!$C$27:$C$39,0)))&""&IF(COUNTIF(Parametre!$I$45:$I$94,X18)=0,"",INDEX(Parametre!$K$45:$K$94,MATCH(X18,Parametre!$I$45:$I$94,0))) | AE18: =AE17+1 -> 43962 | AG18: =IF(WEEKDAY(AE18)=2,INT(MOD(INT((AE18-2)/7)+0.6,52+5/28))+1,"") -> 20 | AH18: =IF(ISERROR(VLOOKUP(AE18,[1]Lune!$A$2:$B$55,2,FALSE)),"",VLOOKUP(AE18,[1]Lune!$A$2:$B$55,2,FALSE)) | AI18: =IFERROR(IF(COUNTIF(Saints!$C$2:$C$371,AE18)=0,"",INDEX(Saints!$D$2:$D$371,MATCH(AE18,Saints!$C$2:$C$371,0))),"") -> Estelle | AJ18: =IF(COUNTIF(Parametre!$C$27:$C$39,AE18)=0,"",INDEX(Parametre!$B$27:$B$39,MATCH(AE18,Parametre!$C$27:$C$39,0)))&""&IF(COUNTIF(Parametre!$I$45:$I$94,AE18)=0,"",INDEX(Parametre!$K$45:$K$94,MATCH(AE18,Parametre!$I$45:$I$94,0))) | AL18: =AL17+1 -> 43993 | AN18: =IFERROR(IF(WEEKDAY(AL18)=2,INT(MOD(INT((AL18-2)/7)+0.6,52+5/28))+1,""),"") | AO18: =IF(ISERROR(VLOOKUP(AL18,Lune!$A$2:$B$55,2,FALSE)),"",VLOOKUP(AL18,Lune!$A$2:$B$55,2,FALSE)) | AP18: =IFERROR(IF(COUNTIF(Saints!$C$2:$C$371,AL18)=0,"",INDEX(Saints!$D$2:$D$371,MATCH(AL18,Saints!$C$2:$C$371,0))),"") -> Barnabé | AQ18: =IF(COUNTIF(Parametre!$C$27:$C$39,AL18)=0,"",INDEX(Parametre!$B$27:$B$39,MATCH(AL18,Parametre!$C$27:$C$39,0)))&""&IF(COUNTIF(Parametre!$I$45:$I$94,AL18)=0,"",INDEX(Parametre!$K$45:$K$94,MATCH(AL18,Parametre!$I$45:$I$94,0))) | AS18: =AS17+1 -> 44023 | AU18: =IFERROR(IF(WEEKDAY(AS18)=2,INT(MOD(INT((AS18-2)/7)+0.6,52+5/28))+1,""),"") | AV18: =IF(ISERROR(VLOOKUP(AS18,Lune!$A$2:$B$55,2,FALSE)),"",VLOOKUP(AS18,Lune!$A$2:$B$55,2,FALSE)) | AW18: =IFERROR(IF(COUNTIF(Saints!$C$2:$C$371,AS18)=0,"",INDEX(Saints!$D$2:$D$371,MATCH(AS18,Saints!$C$2:$C$371,0))),"") -> Benoît | AX18: =IF(COUNTIF(Parametre!$C$27:$C$39,AS18)=0,"",INDEX(Parametre!$B$27:$B$39,MATCH(AS18,Parametre!$C$27:$C$39,0)))&""&IF(COUNTIF(Parametre!$I$45:$I$94,AS18)=0,"",INDEX(Parametre!$K$45:$K$94,MATCH(AS18,Parametre!$I$45:$I$94,0))) | AZ18: =AZ17+1 -> 44054 | BB18: =IF(WEEKDAY(AZ18)=2,INT(MOD(INT((AZ18-2)/7)+0.6,52+5/28))+1,"") | BC18: =IF(ISERROR(VLOOKUP(AZ18,Lune!$A$2:$B$55,2,FALSE)),"",VLOOKUP(AZ18,Lune!$A$2:$B$55,2,FALSE)) ->  | BD18: =IFERROR(IF(COUNTIF(Saints!$C$2:$C$371,AZ18)=0,"",INDEX(Saints!$D$2:$D$371,MATCH(AZ18,Saints!$C$2:$C$371,0))),"") -> Claire | BE18: =IF(COUNTIF(Parametre!$C$27:$C$39,AZ18)=0,"",INDEX(Parametre!$B$27:$B$39,MATCH(AZ18,Parametre!$C$27:$C$39,0)))&""&IF(COUNTIF(Parametre!$I$45:$I$94,AZ18)=0,"",INDEX(Parametre!$K$45:$K$94,MATCH(AZ18,Parametre!$I$45:$I$94,0))) | BG18: =BG17+1 -> 44085 | BI18: =IF(WEEKDAY(BG18)=2,INT(MOD(INT((BG18-2)/7)+0.6,52+5/28))+1,"") | BJ18: =IF(ISERROR(VLOOKUP(BG18,Lune!$A$2:$B$55,2,FALSE)),"",VLOOKUP(BG18,Lune!$A$2:$B$55,2,FALSE)) | BK18: =IFERROR(IF(COUNTIF(Saints!$C$2:$C$371,BG18)=0,"",INDEX(Saints!$D$2:$D$371,MATCH(BG18,Saints!$C$2:$C$371,0))),"") -> Adelphe | BL18: =IF(COUNTIF(Parametre!$C$27:$C$39,BG18)=0,"",INDEX(Parametre!$B$27:$B$39,MATCH(BG18,Parametre!$C$27:$C$39,0)))&""&IF(COUNTIF(Parametre!$I$45:$I$94,BG18)=0,"",INDEX(Parametre!$K$45:$K$94,MATCH(BG18,Parametre!$I$45:$I$94,0))) | BN18: =BN17+1 -> 44115 | BP18: =IF(WEEKDAY(BN18)=2,INT(MOD(INT((BN18-2)/7)+0.6,52+5/28))+1,"") | BQ18: =IF(ISERROR(VLOOKUP(BN18,Lune!$A$2:$B$55,2,FALSE)),"",VLOOKUP(BN18,Lune!$A$2:$B$55,2,FALSE)) | BR18: =IFERROR(IF(COUNTIF(Saints!$C$2:$C$371,BN18)=0,"",INDEX(Saints!$D$2:$D$371,MATCH(BN18,Saints!$C$2:$C$371,0))),"") -> Firmin | BS18: =IF(COUNTIF(Parametre!$C$27:$C$39,BN18)=0,"",INDEX(Parametre!$B$27:$B$39,MATCH(BN18,Parametre!$C$27:$C$39,0)))&""&IF(COUNTIF(Parametre!$I$45:$I$94,BN18)=0,"",INDEX(Parametre!$K$45:$K$94,MATCH(BN18,Parametre!$I$45:$I$94,0))) | BU18: =BU17+1 -> 44146 | BW18: =IF(WEEKDAY(BU18)=2,INT(MOD(INT((BU18-2)/7)+0.6,52+5/28))+1,"") | BX18: =IF(ISERROR(VLOOKUP(BU18,Lune!$A$2:$B$55,2,FALSE)),"",VLOOKUP(BU18,Lune!$A$2:$B$55,2,FALSE)) | BY18: =IFERROR(IF(COUNTIF(Saints!$C$2:$C$371,BU18)=0,"",INDEX(Saints!$D$2:$D$371,MATCH(BU18,Saints!$C$2:$C$371,0))),"") -> Armistice 1918 | BZ18: =IF(COUNTIF(Parametre!$C$27:$C$39,BU18)=0,"",INDEX(Parametre!$B$27:$B$39,MATCH(BU18,Parametre!$C$27:$C$39,0)))&""&IF(COUNTIF(Parametre!$I$45:$I$94,BU18)=0,"",INDEX(Parametre!$K$45:$K$94,MATCH(BU18,Parametre!$I$45:$I$94,0))) -> Victoire 1918 | CB18: =CB17+1 -> 44176 | CD18: =IF(WEEKDAY(CB18)=2,INT(MOD(INT((CB18-2)/7)+0.6,52+5/28))+1,"") | CE18: =IF(ISERROR(VLOOKUP(CB18,Lune!$A$2:$B$55,2,FALSE)),"",VLOOKUP(CB18,Lune!$A$2:$B$55,2,FALSE)) | CF18: =IFERROR(IF(COUNTIF(Saints!$C$2:$C$371,CB18)=0,"",INDEX(Saints!$D$2:$D$371,MATCH(CB18,Saints!$C$2:$C$371,0))),"") -> Daniel | CG18: =IF(COUNTIF(Parametre!$C$27:$C$39,CB18)=0,"",INDEX(Parametre!$B$27:$B$39,MATCH(CB18,Parametre!$C$27:$C$39,0)))&" "&IF(COUNTIF(Parametre!$I$45:$I$94,CB18)=0,"",INDEX(Parametre!$K$45:$K$94,MATCH(CB18,Parametre!$I$45:$I$94,0)))
B19: 12 | C19: =C18+1 -> 43842 | E19: =IF(WEEKDAY(C19)=2,INT(MOD(INT((C19-2)/7)+0.6,52+5/28))+1,"") | F19: =IF(ISERROR(VLOOKUP(C19,Lune!$A$2:$B$55,2,FALSE)),"",VLOOKUP(C19,Lune!$A$2:$B$55,2,FALSE)) | G19: =IFERROR(IF(COUNTIF(Saints!$C$2:$C$371,C19)=0,"",INDEX(Saints!$D$2:$D$371,MATCH(C19,Saints!$C$2:$C$371,0))),"") -> Tatiana | H19: =IF(COUNTIF(Parametre!$C$27:$C$39,C19)=0,"",INDEX(Parametre!$B$27:$B$39,MATCH(C19,Parametre!$C$27:$C$39,0)))&""&IF(COUNTIF(Parametre!$I$45:$I$94,C19)=0,"",INDEX(Parametre!$K$45:$K$94,MATCH(C19,Parametre!$I$45:$I$94,0))) | J19: =J18+1 -> 43873 | L19: =IF(WEEKDAY(J19)=2,INT(MOD(INT((J19-2)/7)+0.6,52+5/28))+1,"") | M19: =IF(ISERROR(VLOOKUP(J19,Lune!$A$2:$B$55,2,FALSE)),"",VLOOKUP(J19,Lune!$A$2:$B$55,2,FALSE)) | N19: =IFERROR(IF(COUNTIF(Saints!$C$2:$C$371,J19)=0,"",INDEX(Saints!$D$2:$D$371,MATCH(J19,Saints!$C$2:$C$371,0))),"") -> Félix | O19: =IF(COUNTIF(Parametre!$C$27:$C$39,J19)=0,"",INDEX(Parametre!$B$27:$B$39,MATCH(J19,Parametre!$C$27:$C$39,0)))&""&IF(COUNTIF(Parametre!$I$45:$I$94,J19)=0,"",INDEX(Parametre!$K$45:$K$94,MATCH(J19,Parametre!$I$45:$I$94,0))) | Q19: =Q18+1 -> 43902 | S19: =IF(WEEKDAY(Q19)=2,INT(MOD(INT((Q19-2)/7)+0.6,52+5/28))+1,"") | T19: =IF(ISERROR(VLOOKUP(Q19,Lune!$A$2:$B$55,2,FALSE)),"",VLOOKUP(Q19,Lune!$A$2:$B$55,2,FALSE)) | U19: =IFERROR(IF(COUNTIF(Saints!$C$2:$C$371,Q19)=0,"",INDEX(Saints!$D$2:$D$371,MATCH(Q19,Saints!$C$2:$C$371,0))),"") -> Justine | V19: =IF(COUNTIF(Parametre!$C$27:$C$39,Q19)=0,"",INDEX(Parametre!$B$27:$B$39,MATCH(Q19,Parametre!$C$27:$C$39,0)))&""&IF(COUNTIF(Parametre!$I$45:$I$94,Q19)=0,"",INDEX(Parametre!$K$45:$K$94,MATCH(Q19,Parametre!$I$45:$I$94,0))) | X19: =X18+1 -> 43933 | Z19: =IF(WEEKDAY(X19)=2,INT(MOD(INT((X19-2)/7)+0.6,52+5/28))+1,"") | AA19: =IF(ISERROR(VLOOKUP(X19,Lune!$A$2:$B$55,2,FALSE)),"",VLOOKUP(X19,Lune!$A$2:$B$55,2,FALSE)) | AB19: =IFERROR(IF(COUNTIF(Saints!$C$2:$C$371,X19)=0,"",INDEX(Saints!$D$2:$D$371,MATCH(X19,Saints!$C$2:$C$371,0))),"") -> Jules | AC19: =IF(COUNTIF(Parametre!$C$27:$C$39,X19)=0,"",INDEX(Parametre!$B$27:$B$39,MATCH(X19,Parametre!$C$27:$C$39,0)))&""&IF(COUNTIF(Parametre!$I$45:$I$94,X19)=0,"",INDEX(Parametre!$K$45:$K$94,MATCH(X19,Parametre!$I$45:$I$94,0))) -> Pâques | AE19: =AE18+1 -> 43963 | AG19: =IF(WEEKDAY(AE19)=2,INT(MOD(INT((AE19-2)/7)+0.6,52+5/28))+1,"") | AH19: =IF(ISERROR(VLOOKUP(AE19,[1]Lune!$A$2:$B$55,2,FALSE)),"",VLOOKUP(AE19,[1]Lune!$A$2:$B$55,2,FALSE)) | AI19: =IFERROR(IF(COUNTIF(Saints!$C$2:$C$371,AE19)=0,"",INDEX(Saints!$D$2:$D$371,MATCH(AE19,Saints!$C$2:$C$371,0))),"") -> Achille | AJ19: =IF(COUNTIF(Parametre!$C$27:$C$39,AE19)=0,"",INDEX(Parametre!$B$27:$B$39,MATCH(AE19,Parametre!$C$27:$C$39,0)))&""&IF(COUNTIF(Parametre!$I$45:$I$94,AE19)=0,"",INDEX(Parametre!$K$45:$K$94,MATCH(AE19,Parametre!$I$45:$I$94,0))) -> 42 an Sabrina | AL19: =AL18+1 -> 43994 | AN19: =IF(WEEKDAY(AL19)=2,INT(MOD(INT((AL19-2)/7)+0.6,52+5/28))+1,"") | AO19: =IF(ISERROR(VLOOKUP(AL19,Lune!$A$2:$B$55,2,FALSE)),"",VLOOKUP(AL19,Lune!$A$2:$B$55,2,FALSE)) | AP19: =IFERROR(IF(COUNTIF(Saints!$C$2:$C$371,AL19)=0,"",INDEX(Saints!$D$2:$D$371,MATCH(AL19,Saints!$C$2:$C$371,0))),"") -> Guy | AQ19: =IF(COUNTIF(Parametre!$C$27:$C$39,AL19)=0,"",INDEX(Parametre!$B$27:$B$39,MATCH(AL19,Parametre!$C$27:$C$39,0)))&""&IF(COUNTIF(Parametre!$I$45:$I$94,AL19)=0,"",INDEX(Parametre!$K$45:$K$94,MATCH(AL19,Parametre!$I$45:$I$94,0))) | AS19: =AS18+1 -> 44024 | AU19: =IF(WEEKDAY(AS19)=2,INT(MOD(INT((AS19-2)/7)+0.6,52+5/28))+1,"") | AV19: =IF(ISERROR(VLOOKUP(AS19,Lune!$A$2:$B$55,2,FALSE)),"",VLOOKUP(AS19,Lune!$A$2:$B$55,2,FALSE)) ->  | AW19: =IFERROR(IF(COUNTIF(Saints!$C$2:$C$371,AS19)=0,"",INDEX(Saints!$D$2:$D$371,MATCH(AS19,Saints!$C$2:$C$371,0))),"") -> Olivier | AX19: =IF(COUNTIF(Parametre!$C$27:$C$39,AS19)=0,"",INDEX(Parametre!$B$27:$B$39,MATCH(AS19,Parametre!$C$27:$C$39,0)))&""&IF(COUNTIF(Parametre!$I$45:$I$94,AS19)=0,"",INDEX(Parametre!$K$45:$K$94,MATCH(AS19,Parametre!$I$45:$I$94,0))) | AZ19: =AZ18+1 -> 44055 | BB19: =IF(WEEKDAY(AZ19)=2,INT(MOD(INT((AZ19-2)/7)+0.6,52+5/28))+1,"") | BC19: =IF(ISERROR(VLOOKUP(AZ19,Lune!$A$2:$B$55,2,FALSE)),"",VLOOKUP(AZ19,Lune!$A$2:$B$55,2,FALSE)) | BD19: =IFERROR(IF(COUNTIF(Saints!$C$2:$C$371,AZ19)=0,"",INDEX(Saints!$D$2:$D$371,MATCH(AZ19,Saints!$C$2:$C$371,0))),"") -> Clarisse | BE19: =IF(COUNTIF(Parametre!$C$27:$C$39,AZ19)=0,"",INDEX(Parametre!$B$27:$B$39,MATCH(AZ19,Parametre!$C$27:$C$39,0)))&""&IF(COUNTIF(Parametre!$I$45:$I$94,AZ19)=0,"",INDEX(Parametre!$K$45:$K$94,MATCH(AZ19,Parametre!$I$45:$I$94,0))) | BG19: =BG18+1 -> 44086 | BI19: =IF(WEEKDAY(BG19)=2,INT(MOD(INT((BG19-2)/7)+0.6,52+5/28))+1,"") | BJ19: =IF(ISERROR(VLOOKUP(BG19,Lune!$A$2:$B$55,2,FALSE)),"",VLOOKUP(BG19,Lune!$A$2:$B$55,2,FALSE)) | BK19: =IFERROR(IF(COUNTIF(Saints!$C$2:$C$371,BG19)=0,"",INDEX(Saints!$D$2:$D$371,MATCH(BG19,Saints!$C$2:$C$371,0))),"") -> Apollinaire | BL19: =IF(COUNTIF(Parametre!$C$27:$C$39,BG19)=0,"",INDEX(Parametre!$B$27:$B$39,MATCH(BG19,Parametre!$C$27:$C$39,0)))&""&IF(COUNTIF(Parametre!$I$45:$I$94,BG19)=0,"",INDEX(Parametre!$K$45:$K$94,MATCH(BG19,Parametre!$I$45:$I$94,0))) | BN19: =BN18+1 -> 44116 | BP19: =IF(WEEKDAY(BN19)=2,INT(MOD(INT((BN19-2)/7)+0.6,52+5/28))+1,"") -> 42 | BQ19: =IF(ISERROR(VLOOKUP(BN19,Lune!$A$2:$B$55,2,FALSE)),"",VLOOKUP(BN19,Lune!$A$2:$B$55,2,FALSE)) | BR19: =IFERROR(IF(COUNTIF(Saints!$C$2:$C$371,BN19)=0,"",INDEX(Saints!$D$2:$D$371,MATCH(BN19,Saints!$C$2:$C$371,0))),"") -> Wilfried | BS19: =IF(COUNTIF(Parametre!$C$27:$C$39,BN19)=0,"",INDEX(Parametre!$B$27:$B$39,MATCH(BN19,Parametre!$C$27:$C$39,0)))&""&IF(COUNTIF(Parametre!$I$45:$I$94,BN19)=0,"",INDEX(Parametre!$K$45:$K$94,MATCH(BN19,Parametre!$I$45:$I$94,0))) | BU19: =BU18+1 -> 44147 | BW19: =IF(WEEKDAY(BU19)=2,INT(MOD(INT((BU19-2)/7)+0.6,52+5/28))+1,"") | BX19: =IF(ISERROR(VLOOKUP(BU19,Lune!$A$2:$B$55,2,FALSE)),"",VLOOKUP(BU19,Lune!$A$2:$B$55,2,FALSE)) | BY19: =IFERROR(IF(COUNTIF(Saints!$C$2:$C$371,BU19)=0,"",INDEX(Saints!$D$2:$D$371,MATCH(BU19,Saints!$C$2:$C$371,0))),"") -> Christian | BZ19: =IF(COUNTIF(Parametre!$C$27:$C$39,BU19)=0,"",INDEX(Parametre!$B$27:$B$39,MATCH(BU19,Parametre!$C$27:$C$39,0)))&""&IF(COUNTIF(Parametre!$I$45:$I$94,BU19)=0,"",INDEX(Parametre!$K$45:$K$94,MATCH(BU19,Parametre!$I$45:$I$94,0))) -> 41 an Albane | CB19: =CB18+1 -> 44177 | CD19: =IF(WEEKDAY(CB19)=2,INT(MOD(INT((CB19-2)/7)+0.6,52+5/28))+1,"") | CE19: =IF(ISERROR(VLOOKUP(CB19,Lune!$A$2:$B$55,2,FALSE)),"",VLOOKUP(CB19,Lune!$A$2:$B$55,2,FALSE)) | CF19: =IFERROR(IF(COUNTIF(Saints!$C$2:$C$371,CB19)=0,"",INDEX(Saints!$D$2:$D$371,MATCH(CB19,Saints!$C$2:$C$371,0))),"") -> Chantal | CG19: =IF(COUNTIF(Parametre!$C$27:$C$39,CB19)=0,"",INDEX(Parametre!$B$27:$B$39,MATCH(CB19,Parametre!$C$27:$C$39,0)))&" "&IF(COUNTIF(Parametre!$I$45:$I$94,CB19)=0,"",INDEX(Parametre!$K$45:$K$94,MATCH(CB19,Parametre!$I$45:$I$94,0)))
B20: 13 | C20: =C19+1 -> 43843 | E20: =IF(WEEKDAY(C20)=2,INT(MOD(INT((C20-2)/7)+0.6,52+5/28))+1,"") -> 3 | F20: =IF(ISERROR(VLOOKUP(C20,Lune!$A$2:$B$55,2,FALSE)),"",VLOOKUP(C20,Lune!$A$2:$B$55,2,FALSE)) | G20: =IFERROR(IF(COUNTIF(Saints!$C$2:$C$371,C20)=0,"",INDEX(Saints!$D$2:$D$371,MATCH(C20,Saints!$C$2:$C$371,0))),"") -> Yvette | H20: =IF(COUNTIF(Parametre!$C$27:$C$39,C20)=0,"",INDEX(Parametre!$B$27:$B$39,MATCH(C20,Parametre!$C$27:$C$39,0)))&""&IF(COUNTIF(Parametre!$I$45:$I$94,C20)=0,"",INDEX(Parametre!$K$45:$K$94,MATCH(C20,Parametre!$I$45:$I$94,0))) | J20: =J19+1 -> 43874 | L20: =IF(WEEKDAY(J20)=2,INT(MOD(INT((J20-2)/7)+0.6,52+5/28))+1,"") | M20: =IF(ISERROR(VLOOKUP(J20,Lune!$A$2:$B$55,2,FALSE)),"",VLOOKUP(J20,Lune!$A$2:$B$55,2,FALSE)) | N20: =IFERROR(IF(COUNTIF(Saints!$C$2:$C$371,J20)=0,"",INDEX(Saints!$D$2:$D$371,MATCH(J20,Saints!$C$2:$C$371,0))),"") -> Béatrice | O20: =IF(COUNTIF(Parametre!$C$27:$C$39,J20)=0,"",INDEX(Parametre!$B$27:$B$39,MATCH(J20,Parametre!$C$27:$C$39,0)))&""&IF(COUNTIF(Parametre!$I$45:$I$94,J20)=0,"",INDEX(Parametre!$K$45:$K$94,MATCH(J20,Parametre!$I$45:$I$94,0))) | Q20: =Q19+1 -> 43903 | S20: =IF(WEEKDAY(Q20)=2,INT(MOD(INT((Q20-2)/7)+0.6,52+5/28))+1,"") | T20: =IF(ISERROR(VLOOKUP(Q20,Lune!$A$2:$B$55,2,FALSE)),"",VLOOKUP(Q20,Lune!$A$2:$B$55,2,FALSE)) | U20: =IFERROR(IF(COUNTIF(Saints!$C$2:$C$371,Q20)=0,"",INDEX(Saints!$D$2:$D$371,MATCH(Q20,Saints!$C$2:$C$371,0))),"") -> Rodrigue | V20: =IF(COUNTIF(Parametre!$C$27:$C$39,Q20)=0,"",INDEX(Parametre!$B$27:$B$39,MATCH(Q20,Parametre!$C$27:$C$39,0)))&""&IF(COUNTIF(Parametre!$I$45:$I$94,Q20)=0,"",INDEX(Parametre!$K$45:$K$94,MATCH(Q20,Parametre!$I$45:$I$94,0))) | X20: =X19+1 -> 43934 | Z20: =IF(WEEKDAY(X20)=2,INT(MOD(INT((X20-2)/7)+0.6,52+5/28))+1,"") -> 16 | AA20: =IF(ISERROR(VLOOKUP(X20,Lune!$A$2:$B$55,2,FALSE)),"",VLOOKUP(X20,Lune!$A$2:$B$55,2,FALSE)) | AB20: =IFERROR(IF(COUNTIF(Saints!$C$2:$C$371,X20)=0,"",INDEX(Saints!$D$2:$D$371,MATCH(X20,Saints!$C$2:$C$371,0))),"") -> Ida | AC20: =IF(COUNTIF(Parametre!$C$27:$C$39,X20)=0,"",INDEX(Parametre!$B$27:$B$39,MATCH(X20,Parametre!$C$27:$C$39,0)))&""&IF(COUNTIF(Parametre!$I$45:$I$94,X20)=0,"",INDEX(Parametre!$K$45:$K$94,MATCH(X20,Parametre!$I$45:$I$94,0))) -> Lundi de Pâques | AE20: =AE19+1 -> 43964 | AG20: =IF(WEEKDAY(AE20)=2,INT(MOD(INT((AE20-2)/7)+0.6,52+5/28))+1,"") | AH20: =IF(ISERROR(VLOOKUP(AE20,[1]Lune!$A$2:$B$55,2,FALSE)),"",VLOOKUP(AE20,[1]Lune!$A$2:$B$55,2,FALSE)) | AI20: =IFERROR(IF(COUNTIF(Saints!$C$2:$C$371,AE20)=0,"",INDEX(Saints!$D$2:$D$371,MATCH(AE20,Saints!$C$2:$C$371,0))),"") -> Rolande | AJ20: =IF(COUNTIF(Parametre!$C$27:$C$39,AE20)=0,"",INDEX(Parametre!$B$27:$B$39,MATCH(AE20,Parametre!$C$27:$C$39,0)))&""&IF(COUNTIF(Parametre!$I$45:$I$94,AE20)=0,"",INDEX(Parametre!$K$45:$K$94,MATCH(AE20,Parametre!$I$45:$I$94,0))) | AL20: =AL19+1 -> 43995 | AN20: =IFERROR(IF(WEEKDAY(AL20)=2,INT(MOD(INT((AL20-2)/7)+0.6,52+5/28))+1,""),"") | AO20: =IF(ISERROR(VLOOKUP(AL20,Lune!$A$2:$B$55,2,FALSE)),"",VLOOKUP(AL20,Lune!$A$2:$B$55,2,FALSE)) ->  | AP20: =IFERROR(IF(COUNTIF(Saints!$C$2:$C$371,AL20)=0,"",INDEX(Saints!$D$2:$D$371,MATCH(AL20,Saints!$C$2:$C$371,0))),"") -> Antoine de P. | AQ20: =IF(COUNTIF(Parametre!$C$27:$C$39,AL20)=0,"",INDEX(Parametre!$B$27:$B$39,MATCH(AL20,Parametre!$C$27:$C$39,0)))&""&IF(COUNTIF(Parametre!$I$45:$I$94,AL20)=0,"",INDEX(Parametre!$K$45:$K$94,MATCH(AL20,Parametre!$I$45:$I$94,0))) | AS20: =AS19+1 -> 44025 | AU20: =IFERROR(IF(WEEKDAY(AS20)=2,INT(MOD(INT((AS20-2)/7)+0.6,52+5/28))+1,""),"") -> 29 | AV20: =IF(ISERROR(VLOOKUP(AS20,Lune!$A$2:$B$55,2,FALSE)),"",VLOOKUP(AS20,Lune!$A$2:$B$55,2,FALSE)) | AW20: =IFERROR(IF(COUNTIF(Saints!$C$2:$C$371,AS20)=0,"",INDEX(Saints!$D$2:$D$371,MATCH(AS20,Saints!$C$2:$C$371,0))),"") -> Henri | AX20: =IF(COUNTIF(Parametre!$C$27:$C$39,AS20)=0,"",INDEX(Parametre!$B$27:$B$39,MATCH(AS20,Parametre!$C$27:$C$39,0)))&""&IF(COUNTIF(Parametre!$I$45:$I$94,AS20)=0,"",INDEX(Parametre!$K$45:$K$94,MATCH(AS20,Parametre!$I$45:$I$94,0))) | AZ20: =AZ19+1 -> 44056 | BB20: =IF(WEEKDAY(AZ20)=2,INT(MOD(INT((AZ20-2)/7)+0.6,52+5/28))+1,"") | BC20: =IF(ISERROR(VLOOKUP(AZ20,Lune!$A$2:$B$55,2,FALSE)),"",VLOOKUP(AZ20,Lune!$A$2:$B$55,2,FALSE)) | BD20: =IFERROR(IF(COUNTIF(Saints!$C$2:$C$371,AZ20)=0,"",INDEX(Saints!$D$2:$D$371,MATCH(AZ20,Saints!$C$2:$C$371,0))),"") -> Hippolyte | BE20: =IF(COUNTIF(Parametre!$C$27:$C$39,AZ20)=0,"",INDEX(Parametre!$B$27:$B$39,MATCH(AZ20,Parametre!$C$27:$C$39,0)))&""&IF(COUNTIF(Parametre!$I$45:$I$94,AZ20)=0,"",INDEX(Parametre!$K$45:$K$94,MATCH(AZ20,Parametre!$I$45:$I$94,0))) | BG20: =BG19+1 -> 44087 | BI20: =IF(WEEKDAY(BG20)=2,INT(MOD(INT((BG20-2)/7)+0.6,52+5/28))+1,"") | BJ20: =IF(ISERROR(VLOOKUP(BG20,Lune!$A$2:$B$55,2,FALSE)),"",VLOOKUP(BG20,Lune!$A$2:$B$55,2,FALSE)) | BK20: =IFERROR(IF(COUNTIF(Saints!$C$2:$C$371,BG20)=0,"",INDEX(Saints!$D$2:$D$371,MATCH(BG20,Saints!$C$2:$C$371,0))),"") -> Aimé | BL20: =IF(COUNTIF(Parametre!$C$27:$C$39,BG20)=0,"",INDEX(Parametre!$B$27:$B$39,MATCH(BG20,Parametre!$C$27:$C$39,0)))&""&IF(COUNTIF(Parametre!$I$45:$I$94,BG20)=0,"",INDEX(Parametre!$K$45:$K$94,MATCH(BG20,Parametre!$I$45:$I$94,0))) | BN20: =BN19+1 -> 44117 | BP20: =IF(WEEKDAY(BN20)=2,INT(MOD(INT((BN20-2)/7)+0.6,52+5/28))+1,"") | BQ20: =IF(ISERROR(VLOOKUP(BN20,Lune!$A$2:$B$55,2,FALSE)),"",VLOOKUP(BN20,Lune!$A$2:$B$55,2,FALSE)) | BR20: =IFERROR(IF(COUNTIF(Saints!$C$2:$C$371,BN20)=0,"",INDEX(Saints!$D$2:$D$371,MATCH(BN20,Saints!$C$2:$C$371,0))),"") -> Géraud | BS20: =IF(COUNTIF(Parametre!$C$27:$C$39,BN20)=0,"",INDEX(Parametre!$B$27:$B$39,MATCH(BN20,Parametre!$C$27:$C$39,0)))&""&IF(COUNTIF(Parametre!$I$45:$I$94,BN20)=0,"",INDEX(Parametre!$K$45:$K$94,MATCH(BN20,Parametre!$I$45:$I$94,0))) | BU20: =BU19+1 -> 44148 | BW20: =IF(WEEKDAY(BU20)=2,INT(MOD(INT((BU20-2)/7)+0.6,52+5/28))+1,"") | BX20: =IF(ISERROR(VLOOKUP(BU20,Lune!$A$2:$B$55,2,FALSE)),"",VLOOKUP(BU20,Lune!$A$2:$B$55,2,FALSE)) | BY20: =IFERROR(IF(COUNTIF(Saints!$C$2:$C$371,BU20)=0,"",INDEX(Saints!$D$2:$D$371,MATCH(BU20,Saints!$C$2:$C$371,0))),"") -> Brice | BZ20: =IF(COUNTIF(Parametre!$C$27:$C$39,BU20)=0,"",INDEX(Parametre!$B$27:$B$39,MATCH(BU20,Parametre!$C$27:$C$39,0)))&""&IF(COUNTIF(Parametre!$I$45:$I$94,BU20)=0,"",INDEX(Parametre!$K$45:$K$94,MATCH(BU20,Parametre!$I$45:$I$94,0))) | CB20: =CB19+1 -> 44178 | CD20: =IF(WEEKDAY(CB20)=2,INT(MOD(INT((CB20-2)/7)+0.6,52+5/28))+1,"") | CE20: =IF(ISERROR(VLOOKUP(CB20,Lune!$A$2:$B$55,2,FALSE)),"",VLOOKUP(CB20,Lune!$A$2:$B$55,2,FALSE)) | CF20: =IFERROR(IF(COUNTIF(Saints!$C$2:$C$371,CB20)=0,"",INDEX(Saints!$D$2:$D$371,MATCH(CB20,Saints!$C$2:$C$371,0))),"") -> Lucie | CG20: =IF(COUNTIF(Parametre!$C$27:$C$39,CB20)=0,"",INDEX(Parametre!$B$27:$B$39,MATCH(CB20,Parametre!$C$27:$C$39,0)))&""&IF(COUNTIF(Parametre!$I$45:$I$94,CB20)=0,"",INDEX(Parametre!$K$45:$K$94,MATCH(CB20,Parametre!$I$45:$I$94,0))) -> 69 an Michel
B21: 14 | C21: =C20+1 -> 43844 | E21: =IF(WEEKDAY(C21)=2,INT(MOD(INT((C21-2)/7)+0.6,52+5/28))+1,"") | F21: =IF(ISERROR(VLOOKUP(C21,Lune!$A$2:$B$55,2,FALSE)),"",VLOOKUP(C21,Lune!$A$2:$B$55,2,FALSE)) | G21: =IFERROR(IF(COUNTIF(Saints!$C$2:$C$371,C21)=0,"",INDEX(Saints!$D$2:$D$371,MATCH(C21,Saints!$C$2:$C$371,0))),"") -> Nina | H21: =IF(COUNTIF(Parametre!$C$27:$C$39,C21)=0,"",INDEX(Parametre!$B$27:$B$39,MATCH(C21,Parametre!$C$27:$C$39,0)))&""&IF(COUNTIF(Parametre!$I$45:$I$94,C21)=0,"",INDEX(Parametre!$K$45:$K$94,MATCH(C21,Parametre!$I$45:$I$94,0))) | J21: =J20+1 -> 43875 | L21: =IF(WEEKDAY(J21)=2,INT(MOD(INT((J21-2)/7)+0.6,52+5/28))+1,"") | M21: =IF(ISERROR(VLOOKUP(J21,Lune!$A$2:$B$55,2,FALSE)),"",VLOOKUP(J21,Lune!$A$2:$B$55,2,FALSE)) | N21: =IFERROR(IF(COUNTIF(Saints!$C$2:$C$371,J21)=0,"",INDEX(Saints!$D$2:$D$371,MATCH(J21,Saints!$C$2:$C$371,0))),"") -> Valentin | O21: =IF(COUNTIF(Parametre!$C$27:$C$39,J21)=0,"",INDEX(Parametre!$B$27:$B$39,MATCH(J21,Parametre!$C$27:$C$39,0)))&""&IF(COUNTIF(Parametre!$I$45:$I$94,J21)=0,"",INDEX(Parametre!$K$45:$K$94,MATCH(J21,Parametre!$I$45:$I$94,0))) -> Saint Valentin | Q21: =Q20+1 -> 43904 | S21: =IF(WEEKDAY(Q21)=2,INT(MOD(INT((Q21-2)/7)+0.6,52+5/28))+1,"") | T21: =IF(ISERROR(VLOOKUP(Q21,Lune!$A$2:$B$55,2,FALSE)),"",VLOOKUP(Q21,Lune!$A$2:$B$55,2,FALSE)) | U21: =IFERROR(IF(COUNTIF(Saints!$C$2:$C$371,Q21)=0,"",INDEX(Saints!$D$2:$D$371,MATCH(Q21,Saints!$C$2:$C$371,0))),"") -> Mathilde | V21: =IF(COUNTIF(Parametre!$C$27:$C$39,Q21)=0,"",INDEX(Parametre!$B$27:$B$39,MATCH(Q21,Parametre!$C$27:$C$39,0)))&""&IF(COUNTIF(Parametre!$I$45:$I$94,Q21)=0,"",INDEX(Parametre!$K$45:$K$94,MATCH(Q21,Parametre!$I$45:$I$94,0))) | X21: =X20+1 -> 43935 | Z21: =IF(WEEKDAY(X21)=2,INT(MOD(INT((X21-2)/7)+0.6,52+5/28))+1,"") | AA21: =IF(ISERROR(VLOOKUP(X21,Lune!$A$2:$B$55,2,FALSE)),"",VLOOKUP(X21,Lune!$A$2:$B$55,2,FALSE)) | AB21: =IFERROR(IF(COUNTIF(Saints!$C$2:$C$371,X21)=0,"",INDEX(Saints!$D$2:$D$371,MATCH(X21,Saints!$C$2:$C$371,0))),"") -> Maxime | AC21: =IF(COUNTIF(Parametre!$C$27:$C$39,X21)=0,"",INDEX(Parametre!$B$27:$B$39,MATCH(X21,Parametre!$C$27:$C$39,0)))&""&IF(COUNTIF(Parametre!$I$45:$I$94,X21)=0,"",INDEX(Parametre!$K$45:$K$94,MATCH(X21,Parametre!$I$45:$I$94,0))) -> 44 an Jérôme | AE21: =AE20+1 -> 43965 | AG21: =IF(WEEKDAY(AE21)=2,INT(MOD(INT((AE21-2)/7)+0.6,52+5/28))+1,"") | AH21: =IF(ISERROR(VLOOKUP(AE21,[1]Lune!$A$2:$B$55,2,FALSE)),"",VLOOKUP(AE21,[1]Lune!$A$2:$B$55,2,FALSE)) ->  | AI21: =IFERROR(IF(COUNTIF(Saints!$C$2:$C$371,AE21)=0,"",INDEX(Saints!$D$2:$D$371,MATCH(AE21,Saints!$C$2:$C$371,0))),"") -> Mathias | AJ21: =IF(COUNTIF(Parametre!$C$27:$C$39,AE21)=0,"",INDEX(Parametre!$B$27:$B$39,MATCH(AE21,Parametre!$C$27:$C$39,0)))&""&IF(COUNTIF(Parametre!$I$45:$I$94,AE21)=0,"",INDEX(Parametre!$K$45:$K$94,MATCH(AE21,Parametre!$I$45:$I$94,0))) | AL21: =AL20+1 -> 43996 | AN21: =IF(WEEKDAY(AL21)=2,INT(MOD(INT((AL21-2)/7)+0.6,52+5/28))+1,"") | AO21: =IF(ISERROR(VLOOKUP(AL21,Lune!$A$2:$B$55,2,FALSE)),"",VLOOKUP(AL21,Lune!$A$2:$B$55,2,FALSE)) | AP21: =IFERROR(IF(COUNTIF(Saints!$C$2:$C$371,AL21)=0,"",INDEX(Saints!$D$2:$D$371,MATCH(AL21,Saints!$C$2:$C$371,0))),"") -> Elysée | AQ21: =IF(COUNTIF(Parametre!$C$27:$C$39,AL21)=0,"",INDEX(Parametre!$B$27:$B$39,MATCH(AL21,Parametre!$C$27:$C$39,0)))&""&IF(COUNTIF(Parametre!$I$45:$I$94,AL21)=0,"",INDEX(Parametre!$K$45:$K$94,MATCH(AL21,Parametre!$I$45:$I$94,0))) | AS21: =AS20+1 -> 44026 | AU21: =IF(WEEKDAY(AS21)=2,INT(MOD(INT((AS21-2)/7)+0.6,52+5/28))+1,"") | AV21: =IF(ISERROR(VLOOKUP(AS21,Lune!$A$2:$B$55,2,FALSE)),"",VLOOKUP(AS21,Lune!$A$2:$B$55,2,FALSE)) | AW21: =IFERROR(IF(COUNTIF(Saints!$C$2:$C$371,AS21)=0,"",INDEX(Saints!$D$2:$D$371,MATCH(AS21,Saints!$C$2:$C$371,0))),"") -> Camille | AX21: =IF(COUNTIF(Parametre!$C$27:$C$39,AS21)=0,"",INDEX(Parametre!$B$27:$B$39,MATCH(AS21,Parametre!$C$27:$C$39,0)))&""&IF(COUNTIF(Parametre!$I$45:$I$94,AS21)=0,"",INDEX(Parametre!$K$45:$K$94,MATCH(AS21,Parametre!$I$45:$I$94,0))) -> Fête Nationale | AZ21: =AZ20+1 -> 44057 | BB21: =IF(WEEKDAY(AZ21)=2,INT(MOD(INT((AZ21-2)/7)+0.6,52+5/28))+1,"") | BC21: =IF(ISERROR(VLOOKUP(AZ21,Lune!$A$2:$B$55,2,FALSE)),"",VLOOKUP(AZ21,Lune!$A$2:$B$55,2,FALSE)) | BD21: =IFERROR(IF(COUNTIF(Saints!$C$2:$C$371,AZ21)=0,"",INDEX(Saints!$D$2:$D$371,MATCH(AZ21,Saints!$C$2:$C$371,0))),"") -> Evrard | BE21: =IF(COUNTIF(Parametre!$C$27:$C$39,AZ21)=0,"",INDEX(Parametre!$B$27:$B$39,MATCH(AZ21,Parametre!$C$27:$C$39,0)))&""&IF(COUNTIF(Parametre!$I$45:$I$94,AZ21)=0,"",INDEX(Parametre!$K$45:$K$94,MATCH(AZ21,Parametre!$I$45:$I$94,0))) | BG21: =BG20+1 -> 44088 | BI21: =IF(WEEKDAY(BG21)=2,INT(MOD(INT((BG21-2)/7)+0.6,52+5/28))+1,"") -> 38 | BJ21: =IF(ISERROR(VLOOKUP(BG21,Lune!$A$2:$B$55,2,FALSE)),"",VLOOKUP(BG21,Lune!$A$2:$B$55,2,FALSE)) | BK21: =IFERROR(IF(COUNTIF(Saints!$C$2:$C$371,BG21)=0,"",INDEX(Saints!$D$2:$D$371,MATCH(BG21,Saints!$C$2:$C$371,0))),"") -> Materne | BL21: =IF(COUNTIF(Parametre!$C$27:$C$39,BG21)=0,"",INDEX(Parametre!$B$27:$B$39,MATCH(BG21,Parametre!$C$27:$C$39,0)))&""&IF(COUNTIF(Parametre!$I$45:$I$94,BG21)=0,"",INDEX(Parametre!$K$45:$K$94,MATCH(BG21,Parametre!$I$45:$I$94,0))) | BN21: =BN20+1 -> 44118 | BP21: =IF(WEEKDAY(BN21)=2,INT(MOD(INT((BN21-2)/7)+0.6,52+5/28))+1,"") | BQ21: =IF(ISERROR(VLOOKUP(BN21,Lune!$A$2:$B$55,2,FALSE)),"",VLOOKUP(BN21,Lune!$A$2:$B$55,2,FALSE)) | BR21: =IFERROR(IF(COUNTIF(Saints!$C$2:$C$371,BN21)=0,"",INDEX(Saints!$D$2:$D$371,MATCH(BN21,Saints!$C$2:$C$371,0))),"") -> Juste | BS21: =IF(COUNTIF(Parametre!$C$27:$C$39,BN21)=0,"",INDEX(Parametre!$B$27:$B$39,MATCH(BN21,Parametre!$C$27:$C$39,0)))&""&IF(COUNTIF(Parametre!$I$45:$I$94,BN21)=0,"",INDEX(Parametre!$K$45:$K$94,MATCH(BN21,Parametre!$I$45:$I$94,0))) | BU21: =BU20+1 -> 44149 | BW21: =IF(WEEKDAY(BU21)=2,INT(MOD(INT((BU21-2)/7)+0.6,52+5/28))+1,"") | BX21: =IF(ISERROR(VLOOKUP(BU21,Lune!$A$2:$B$55,2,FALSE)),"",VLOOKUP(BU21,Lune!$A$2:$B$55,2,FALSE)) | BY21: =IFERROR(IF(COUNTIF(Saints!$C$2:$C$371,BU21)=0,"",INDEX(Saints!$D$2:$D$371,MATCH(BU21,Saints!$C$2:$C$371,0))),"") -> Sidoine | BZ21: =IF(COUNTIF(Parametre!$C$27:$C$39,BU21)=0,"",INDEX(Parametre!$B$27:$B$39,MATCH(BU21,Parametre!$C$27:$C$39,0)))&""&IF(COUNTIF(Parametre!$I$45:$I$94,BU21)=0,"",INDEX(Parametre!$K$45:$K$94,MATCH(BU21,Parametre!$I$45:$I$94,0))) | CB21: =CB20+1 -> 44179 | CD21: =IF(WEEKDAY(CB21)=2,INT(MOD(INT((CB21-2)/7)+0.6,52+5/28))+1,"") -> 51 | CE21: =IF(ISERROR(VLOOKUP(CB21,Lune!$A$2:$B$55,2,FALSE)),"",VLOOKUP(CB21,Lune!$A$2:$B$55,2,FALSE)) ->  | CF21: =IFERROR(IF(COUNTIF(Saints!$C$2:$C$371,CB21)=0,"",INDEX(Saints!$D$2:$D$371,MATCH(CB21,Saints!$C$2:$C$371,0))),"") -> Odile | CG21: =IF(COUNTIF(Parametre!$C$27:$C$39,CB21)=0,"",INDEX(Parametre!$B$27:$B$39,MATCH(CB21,Parametre!$C$27:$C$39,0)))&" "&IF(COUNTIF(Parametre!$I$45:$I$94,CB21)=0,"",INDEX(Parametre!$K$45:$K$94,MATCH(CB21,Parametre!$I$45:$I$94,0)))
B22: 15 | C22: =C21+1 -> 43845 | E22: =IF(WEEKDAY(C22)=2,INT(MOD(INT((C22-2)/7)+0.6,52+5/28))+1,"") | F22: =IF(ISERROR(VLOOKUP(C22,Lune!$A$2:$B$55,2,FALSE)),"",VLOOKUP(C22,Lune!$A$2:$B$55,2,FALSE)) | G22: =IFERROR(IF(COUNTIF(Saints!$C$2:$C$371,C22)=0,"",INDEX(Saints!$D$2:$D$371,MATCH(C22,Saints!$C$2:$C$371,0))),"") -> Rémi | H22: =IF(COUNTIF(Parametre!$C$27:$C$39,C22)=0,"",INDEX(Parametre!$B$27:$B$39,MATCH(C22,Parametre!$C$27:$C$39,0)))&""&IF(COUNTIF(Parametre!$I$45:$I$94,C22)=0,"",INDEX(Parametre!$K$45:$K$94,MATCH(C22,Parametre!$I$45:$I$94,0))) | J22: =J21+1 -> 43876 | L22: =IF(WEEKDAY(J22)=2,INT(MOD(INT((J22-2)/7)+0.6,52+5/28))+1,"") | M22: =IF(ISERROR(VLOOKUP(J22,Lune!$A$2:$B$55,2,FALSE)),"",VLOOKUP(J22,Lune!$A$2:$B$55,2,FALSE)) | N22: =IFERROR(IF(COUNTIF(Saints!$C$2:$C$371,J22)=0,"",INDEX(Saints!$D$2:$D$371,MATCH(J22,Saints!$C$2:$C$371,0))),"") -> Claude | O22: =IF(COUNTIF(Parametre!$C$27:$C$39,J22)=0,"",INDEX(Parametre!$B$27:$B$39,MATCH(J22,Parametre!$C$27:$C$39,0)))&""&IF(COUNTIF(Parametre!$I$45:$I$94,J22)=0,"",INDEX(Parametre!$K$45:$K$94,MATCH(J22,Parametre!$I$45:$I$94,0))) | Q22: =Q21+1 -> 43905 | S22: =IF(WEEKDAY(Q22)=2,INT(MOD(INT((Q22-2)/7)+0.6,52+5/28))+1,"") | T22: =IF(ISERROR(VLOOKUP(Q22,Lune!$A$2:$B$55,2,FALSE)),"",VLOOKUP(Q22,Lune!$A$2:$B$55,2,FALSE)) | U22: =IFERROR(IF(COUNTIF(Saints!$C$2:$C$371,Q22)=0,"",INDEX(Saints!$D$2:$D$371,MATCH(Q22,Saints!$C$2:$C$371,0))),"") -> Louise | V22: =IF(COUNTIF(Parametre!$C$27:$C$39,Q22)=0,"",INDEX(Parametre!$B$27:$B$39,MATCH(Q22,Parametre!$C$27:$C$39,0)))&""&IF(COUNTIF(Parametre!$I$45:$I$94,Q22)=0,"",INDEX(Parametre!$K$45:$K$94,MATCH(Q22,Parametre!$I$45:$I$94,0))) | X22: =X21+1 -> 43936 | Z22: =IF(WEEKDAY(X22)=2,INT(MOD(INT((X22-2)/7)+0.6,52+5/28))+1,"") | AA22: =IF(ISERROR(VLOOKUP(X22,Lune!$A$2:$B$55,2,FALSE)),"",VLOOKUP(X22,Lune!$A$2:$B$55,2,FALSE)) ->  | AB22: =IFERROR(IF(COUNTIF(Saints!$C$2:$C$371,X22)=0,"",INDEX(Saints!$D$2:$D$371,MATCH(X22,Saints!$C$2:$C$371,0))),"") -> Paterne | AC22: =IF(COUNTIF(Parametre!$C$27:$C$39,X22)=0,"",INDEX(Parametre!$B$27:$B$39,MATCH(X22,Parametre!$C$27:$C$39,0)))&""&IF(COUNTIF(Parametre!$I$45:$I$94,X22)=0,"",INDEX(Parametre!$K$45:$K$94,MATCH(X22,Parametre!$I$45:$I$94,0))) -> 31 an Mathieu | AE22: =AE21+1 -> 43966 | AG22: =IF(WEEKDAY(AE22)=2,INT(MOD(INT((AE22-2)/7)+0.6,52+5/28))+1,"") | AH22: =IF(ISERROR(VLOOKUP(AE22,[1]Lune!$A$2:$B$55,2,FALSE)),"",VLOOKUP(AE22,[1]Lune!$A$2:$B$55,2,FALSE)) | AI22: =IFERROR(IF(COUNTIF(Saints!$C$2:$C$371,AE22)=0,"",INDEX(Saints!$D$2:$D$371,MATCH(AE22,Saints!$C$2:$C$371,0))),"") -> Denise | AJ22: =IF(COUNTIF(Parametre!$C$27:$C$39,AE22)=0,"",INDEX(Parametre!$B$27:$B$39,MATCH(AE22,Parametre!$C$27:$C$39,0)))&""&IF(COUNTIF(Parametre!$I$45:$I$94,AE22)=0,"",INDEX(Parametre!$K$45:$K$94,MATCH(AE22,Parametre!$I$45:$I$94,0))) | AL22: =AL21+1 -> 43997 | AN22: =IFERROR(IF(WEEKDAY(AL22)=2,INT(MOD(INT((AL22-2)/7)+0.6,52+5/28))+1,""),"") -> 25 | AO22: =IF(ISERROR(VLOOKUP(AL22,Lune!$A$2:$B$55,2,FALSE)),"",VLOOKUP(AL22,Lune!$A$2:$B$55,2,FALSE)) | AP22: =IFERROR(IF(COUNTIF(Saints!$C$2:$C$371,AL22)=0,"",INDEX(Saints!$D$2:$D$371,MATCH(AL22,Saints!$C$2:$C$371,0))),"") -> Germaine | AQ22: =IF(COUNTIF(Parametre!$C$27:$C$39,AL22)=0,"",INDEX(Parametre!$B$27:$B$39,MATCH(AL22,Parametre!$C$27:$C$39,0)))&""&IF(COUNTIF(Parametre!$I$45:$I$94,AL22)=0,"",INDEX(Parametre!$K$45:$K$94,MATCH(AL22,Parametre!$I$45:$I$94,0))) | AS22: =AS21+1 -> 44027 | AU22: =IFERROR(IF(WEEKDAY(AS22)=2,INT(MOD(INT((AS22-2)/7)+0.6,52+5/28))+1,""),"") | AV22: =IF(ISERROR(VLOOKUP(AS22,Lune!$A$2:$B$55,2,FALSE)),"",VLOOKUP(AS22,Lune!$A$2:$B$55,2,FALSE)) | AW22: =IFERROR(IF(COUNTIF(Saints!$C$2:$C$371,AS22)=0,"",INDEX(Saints!$D$2:$D$371,MATCH(AS22,Saints!$C$2:$C$371,0))),"") -> Donald | AX22: =IF(COUNTIF(Parametre!$C$27:$C$39,AS22)=0,"",INDEX(Parametre!$B$27:$B$39,MATCH(AS22,Parametre!$C$27:$C$39,0)))&""&IF(COUNTIF(Parametre!$I$45:$I$94,AS22)=0,"",INDEX(Parametre!$K$45:$K$94,MATCH(AS22,Parametre!$I$45:$I$94,0))) | AZ22: =AZ21+1 -> 44058 | BB22: =IF(WEEKDAY(AZ22)=2,INT(MOD(INT((AZ22-2)/7)+0.6,52+5/28))+1,"") | BC22: =IF(ISERROR(VLOOKUP(AZ22,Lune!$A$2:$B$55,2,FALSE)),"",VLOOKUP(AZ22,Lune!$A$2:$B$55,2,FALSE)) | BD22: =IFERROR(IF(COUNTIF(Saints!$C$2:$C$371,AZ22)=0,"",INDEX(Saints!$D$2:$D$371,MATCH(AZ22,Saints!$C$2:$C$371,0))),"") -> Marie | BE22: =IF(COUNTIF(Parametre!$C$27:$C$39,AZ22)=0,"",INDEX(Parametre!$B$27:$B$39,MATCH(AZ22,Parametre!$C$27:$C$39,0)))&""&IF(COUNTIF(Parametre!$I$45:$I$94,AZ22)=0,"",INDEX(Parametre!$K$45:$K$94,MATCH(AZ22,Parametre!$I$45:$I$94,0))) -> Assomption | BG22: =BG21+1 -> 44089 | BI22: =IF(WEEKDAY(BG22)=2,INT(MOD(INT((BG22-2)/7)+0.6,52+5/28))+1,"") | BJ22: =IF(ISERROR(VLOOKUP(BG22,Lune!$A$2:$B$55,2,FALSE)),"",VLOOKUP(BG22,Lune!$A$2:$B$55,2,FALSE)) | BK22: =IFERROR(IF(COUNTIF(Saints!$C$2:$C$371,BG22)=0,"",INDEX(Saints!$D$2:$D$371,MATCH(BG22,Saints!$C$2:$C$371,0))),"") -> Roland | BL22: =IF(COUNTIF(Parametre!$C$27:$C$39,BG22)=0,"",INDEX(Parametre!$B$27:$B$39,MATCH(BG22,Parametre!$C$27:$C$39,0)))&""&IF(COUNTIF(Parametre!$I$45:$I$94,BG22)=0,"",INDEX(Parametre!$K$45:$K$94,MATCH(BG22,Parametre!$I$45:$I$94,0))) | BN22: =BN21+1 -> 44119 | BP22: =IF(WEEKDAY(BN22)=2,INT(MOD(INT((BN22-2)/7)+0.6,52+5/28))+1,"") | BQ22: =IF(ISERROR(VLOOKUP(BN22,Lune!$A$2:$B$55,2,FALSE)),"",VLOOKUP(BN22,Lune!$A$2:$B$55,2,FALSE)) | BR22: =IFERROR(IF(COUNTIF(Saints!$C$2:$C$371,BN22)=0,"",INDEX(Saints!$D$2:$D$371,MATCH(BN22,Saints!$C$2:$C$371,0))),"") -> Aurélie | BS22: =IF(COUNTIF(Parametre!$C$27:$C$39,BN22)=0,"",INDEX(Parametre!$B$27:$B$39,MATCH(BN22,Parametre!$C$27:$C$39,0)))&""&IF(COUNTIF(Parametre!$I$45:$I$94,BN22)=0,"",INDEX(Parametre!$K$45:$K$94,MATCH(BN22,Parametre!$I$45:$I$94,0))) | BU22: =BU21+1 -> 44150 | BW22: =IF(WEEKDAY(BU22)=2,INT(MOD(INT((BU22-2)/7)+0.6,52+5/28))+1,"") | BX22: =IF(ISERROR(VLOOKUP(BU22,Lune!$A$2:$B$55,2,FALSE)),"",VLOOKUP(BU22,Lune!$A$2:$B$55,2,FALSE)) ->  | BY22: =IFERROR(IF(COUNTIF(Saints!$C$2:$C$371,BU22)=0,"",INDEX(Saints!$D$2:$D$371,MATCH(BU22,Saints!$C$2:$C$371,0))),"") -> Albert | BZ22: =IF(COUNTIF(Parametre!$C$27:$C$39,BU22)=0,"",INDEX(Parametre!$B$27:$B$39,MATCH(BU22,Parametre!$C$27:$C$39,0)))&""&IF(COUNTIF(Parametre!$I$45:$I$94,BU22)=0,"",INDEX(Parametre!$K$45:$K$94,MATCH(BU22,Parametre!$I$45:$I$94,0))) | CB22: =CB21+1 -> 44180 | CD22: =IF(WEEKDAY(CB22)=2,INT(MOD(INT((CB22-2)/7)+0.6,52+5/28))+1,"") | CE22: =IF(ISERROR(VLOOKUP(CB22,Lune!$A$2:$B$55,2,FALSE)),"",VLOOKUP(CB22,Lune!$A$2:$B$55,2,FALSE)) | CF22: =IFERROR(IF(COUNTIF(Saints!$C$2:$C$371,CB22)=0,"",INDEX(Saints!$D$2:$D$371,MATCH(CB22,Saints!$C$2:$C$371,0))),"") -> Ninon | CG22: =IF(COUNTIF(Parametre!$C$27:$C$39,CB22)=0,"",INDEX(Parametre!$B$27:$B$39,MATCH(CB22,Parametre!$C$27:$C$39,0)))&" "&IF(COUNTIF(Parametre!$I$45:$I$94,CB22)=0,"",INDEX(Parametre!$K$45:$K$94,MATCH(CB22,Parametre!$I$45:$I$94,0)))
B23: 16 | C23: =C22+1 -> 43846 | E23: =IF(WEEKDAY(C23)=2,INT(MOD(INT((C23-2)/7)+0.6,52+5/28))+1,"") | F23: =IF(ISERROR(VLOOKUP(C23,Lune!$A$2:$B$55,2,FALSE)),"",VLOOKUP(C23,Lune!$A$2:$B$55,2,FALSE)) | G23: =IFERROR(IF(COUNTIF(Saints!$C$2:$C$371,C23)=0,"",INDEX(Saints!$D$2:$D$371,MATCH(C23,Saints!$C$2:$C$371,0))),"") -> Marcel | H23: =IF(COUNTIF(Parametre!$C$27:$C$39,C23)=0,"",INDEX(Parametre!$B$27:$B$39,MATCH(C23,Parametre!$C$27:$C$39,0)))&""&IF(COUNTIF(Parametre!$I$45:$I$94,C23)=0,"",INDEX(Parametre!$K$45:$K$94,MATCH(C23,Parametre!$I$45:$I$94,0))) | J23: =J22+1 -> 43877 | L23: =IF(WEEKDAY(J23)=2,INT(MOD(INT((J23-2)/7)+0.6,52+5/28))+1,"") | M23: =IF(ISERROR(VLOOKUP(J23,Lune!$A$2:$B$55,2,FALSE)),"",VLOOKUP(J23,Lune!$A$2:$B$55,2,FALSE)) ->  | N23: =IFERROR(IF(COUNTIF(Saints!$C$2:$C$371,J23)=0,"",INDEX(Saints!$D$2:$D$371,MATCH(J23,Saints!$C$2:$C$371,0))),"") -> Julienne | O23: =IF(COUNTIF(Parametre!$C$27:$C$39,J23)=0,"",INDEX(Parametre!$B$27:$B$39,MATCH(J23,Parametre!$C$27:$C$39,0)))&""&IF(COUNTIF(Parametre!$I$45:$I$94,J23)=0,"",INDEX(Parametre!$K$45:$K$94,MATCH(J23,Parametre!$I$45:$I$94,0))) | Q23: =Q22+1 -> 43906 | S23: =IF(WEEKDAY(Q23)=2,INT(MOD(INT((Q23-2)/7)+0.6,52+5/28))+1,"") -> 12 | T23: =IF(ISERROR(VLOOKUP(Q23,Lune!$A$2:$B$55,2,FALSE)),"",VLOOKUP(Q23,Lune!$A$2:$B$55,2,FALSE)) ->  | U23: =IFERROR(IF(COUNTIF(Saints!$C$2:$C$371,Q23)=0,"",INDEX(Saints!$D$2:$D$371,MATCH(Q23,Saints!$C$2:$C$371,0))),"") -> Bénédicte | V23: =IF(COUNTIF(Parametre!$C$27:$C$39,Q23)=0,"",INDEX(Parametre!$B$27:$B$39,MATCH(Q23,Parametre!$C$27:$C$39,0)))&""&IF(COUNTIF(Parametre!$I$45:$I$94,Q23)=0,"",INDEX(Parametre!$K$45:$K$94,MATCH(Q23,Parametre!$I$45:$I$94,0))) | X23: =X22+1 -> 43937 | Z23: =IF(WEEKDAY(X23)=2,INT(MOD(INT((X23-2)/7)+0.6,52+5/28))+1,"") | AA23: =IF(ISERROR(VLOOKUP(X23,Lune!$A$2:$B$55,2,FALSE)),"",VLOOKUP(X23,Lune!$A$2:$B$55,2,FALSE)) | AB23: =IFERROR(IF(COUNTIF(Saints!$C$2:$C$371,X23)=0,"",INDEX(Saints!$D$2:$D$371,MATCH(X23,Saints!$C$2:$C$371,0))),"") -> Benoît Joseph | AC23: =IF(COUNTIF(Parametre!$C$27:$C$39,X23)=0,"",INDEX(Parametre!$B$27:$B$39,MATCH(X23,Parametre!$C$27:$C$39,0)))&""&IF(COUNTIF(Parametre!$I$45:$I$94,X23)=0,"",INDEX(Parametre!$K$45:$K$94,MATCH(X23,Parametre!$I$45:$I$94,0))) | AE23: =AE22+1 -> 43967 | AG23: =IF(WEEKDAY(AE23)=2,INT(MOD(INT((AE23-2)/7)+0.6,52+5/28))+1,"") | AH23: =IF(ISERROR(VLOOKUP(AE23,[1]Lune!$A$2:$B$55,2,FALSE)),"",VLOOKUP(AE23,[1]Lune!$A$2:$B$55,2,FALSE)) | AI23: =IFERROR(IF(COUNTIF(Saints!$C$2:$C$371,AE23)=0,"",INDEX(Saints!$D$2:$D$371,MATCH(AE23,Saints!$C$2:$C$371,0))),"") -> Honoré | AJ23: =IF(COUNTIF(Parametre!$C$27:$C$39,AE23)=0,"",INDEX(Parametre!$B$27:$B$39,MATCH(AE23,Parametre!$C$27:$C$39,0)))&""&IF(COUNTIF(Parametre!$I$45:$I$94,AE23)=0,"",INDEX(Parametre!$K$45:$K$94,MATCH(AE23,Parametre!$I$45:$I$94,0))) | AL23: =AL22+1 -> 43998 | AN23: =IF(WEEKDAY(AL23)=2,INT(MOD(INT((AL23-2)/7)+0.6,52+5/28))+1,"") | AO23: =IF(ISERROR(VLOOKUP(AL23,Lune!$A$2:$B$55,2,FALSE)),"",VLOOKUP(AL23,Lune!$A$2:$B$55,2,FALSE)) | AP23: =IFERROR(IF(COUNTIF(Saints!$C$2:$C$371,AL23)=0,"",INDEX(Saints!$D$2:$D$371,MATCH(AL23,Saints!$C$2:$C$371,0))),"") -> Jean-François | AQ23: =IF(COUNTIF(Parametre!$C$27:$C$39,AL23)=0,"",INDEX(Parametre!$B$27:$B$39,MATCH(AL23,Parametre!$C$27:$C$39,0)))&""&IF(COUNTIF(Parametre!$I$45:$I$94,AL23)=0,"",INDEX(Parametre!$K$45:$K$94,MATCH(AL23,Parametre!$I$45:$I$94,0))) | AS23: =AS22+1 -> 44028 | AU23: =IFERROR(IF(WEEKDAY(AS23)=2,INT(MOD(INT((AS23-2)/7)+0.6,52+5/28))+1,""),"") | AV23: =IF(ISERROR(VLOOKUP(AS23,Lune!$A$2:$B$55,2,FALSE)),"",VLOOKUP(AS23,Lune!$A$2:$B$55,2,FALSE)) | AW23: =IFERROR(IF(COUNTIF(Saints!$C$2:$C$371,AS23)=0,"",INDEX(Saints!$D$2:$D$371,MATCH(AS23,Saints!$C$2:$C$371,0))),"") -> Carmel | AX23: =IF(COUNTIF(Parametre!$C$27:$C$39,AS23)=0,"",INDEX(Parametre!$B$27:$B$39,MATCH(AS23,Parametre!$C$27:$C$39,0)))&""&IF(COUNTIF(Parametre!$I$45:$I$94,AS23)=0,"",INDEX(Parametre!$K$45:$K$94,MATCH(AS23,Parametre!$I$45:$I$94,0))) | AZ23: =AZ22+1 -> 44059 | BB23: =IF(WEEKDAY(AZ23)=2,INT(MOD(INT((AZ23-2)/7)+0.6,52+5/28))+1,"") | BC23: =IF(ISERROR(VLOOKUP(AZ23,Lune!$A$2:$B$55,2,FALSE)),"",VLOOKUP(AZ23,Lune!$A$2:$B$55,2,FALSE)) | BD23: =IFERROR(IF(COUNTIF(Saints!$C$2:$C$371,AZ23)=0,"",INDEX(Saints!$D$2:$D$371,MATCH(AZ23,Saints!$C$2:$C$371,0))),"") -> Armelle | BE23: =IF(COUNTIF(Parametre!$C$27:$C$39,AZ23)=0,"",INDEX(Parametre!$B$27:$B$39,MATCH(AZ23,Parametre!$C$27:$C$39,0)))&""&IF(COUNTIF(Parametre!$I$45:$I$94,AZ23)=0,"",INDEX(Parametre!$K$45:$K$94,MATCH(AZ23,Parametre!$I$45:$I$94,0))) | BG23: =BG22+1 -> 44090 | BI23: =IF(WEEKDAY(BG23)=2,INT(MOD(INT((BG23-2)/7)+0.6,52+5/28))+1,"") | BJ23: =IF(ISERROR(VLOOKUP(BG23,Lune!$A$2:$B$55,2,FALSE)),"",VLOOKUP(BG23,Lune!$A$2:$B$55,2,FALSE)) | BK23: =IFERROR(IF(COUNTIF(Saints!$C$2:$C$371,BG23)=0,"",INDEX(Saints!$D$2:$D$371,MATCH(BG23,Saints!$C$2:$C$371,0))),"") -> Edith | BL23: =IF(COUNTIF(Parametre!$C$27:$C$39,BG23)=0,"",INDEX(Parametre!$B$27:$B$39,MATCH(BG23,Parametre!$C$27:$C$39,0)))&""&IF(COUNTIF(Parametre!$I$45:$I$94,BG23)=0,"",INDEX(Parametre!$K$45:$K$94,MATCH(BG23,Parametre!$I$45:$I$94,0))) | BN23: =BN22+1 -> 44120 | BP23: =IF(WEEKDAY(BN23)=2,INT(MOD(INT((BN23-2)/7)+0.6,52+5/28))+1,"") | BQ23: =IF(ISERROR(VLOOKUP(BN23,Lune!$A$2:$B$55,2,FALSE)),"",VLOOKUP(BN23,Lune!$A$2:$B$55,2,FALSE)) ->  | BR23: =IFERROR(IF(COUNTIF(Saints!$C$2:$C$371,BN23)=0,"",INDEX(Saints!$D$2:$D$371,MATCH(BN23,Saints!$C$2:$C$371,0))),"") -> Edwige | BS23: =IF(COUNTIF(Parametre!$C$27:$C$39,BN23)=0,"",INDEX(Parametre!$B$27:$B$39,MATCH(BN23,Parametre!$C$27:$C$39,0)))&""&IF(COUNTIF(Parametre!$I$45:$I$94,BN23)=0,"",INDEX(Parametre!$K$45:$K$94,MATCH(BN23,Parametre!$I$45:$I$94,0))) | BU23: =BU22+1 -> 44151 | BW23: =IF(WEEKDAY(BU23)=2,INT(MOD(INT((BU23-2)/7)+0.6,52+5/28))+1,"") -> 47 | BX23: =IF(ISERROR(VLOOKUP(BU23,Lune!$A$2:$B$55,2,FALSE)),"",VLOOKUP(BU23,Lune!$A$2:$B$55,2,FALSE)) | BY23: =IFERROR(IF(COUNTIF(Saints!$C$2:$C$371,BU23)=0,"",INDEX(Saints!$D$2:$D$371,MATCH(BU23,Saints!$C$2:$C$371,0))),"") -> Marguerite | BZ23: =IF(COUNTIF(Parametre!$C$27:$C$39,BU23)=0,"",INDEX(Parametre!$B$27:$B$39,MATCH(BU23,Parametre!$C$27:$C$39,0)))&""&IF(COUNTIF(Parametre!$I$45:$I$94,BU23)=0,"",INDEX(Parametre!$K$45:$K$94,MATCH(BU23,Parametre!$I$45:$I$94,0))) | CB23: =CB22+1 -> 44181 | CD23: =IF(WEEKDAY(CB23)=2,INT(MOD(INT((CB23-2)/7)+0.6,52+5/28))+1,"") | CE23: =IF(ISERROR(VLOOKUP(CB23,Lune!$A$2:$B$55,2,FALSE)),"",VLOOKUP(CB23,Lune!$A$2:$B$55,2,FALSE)) | CF23: =IFERROR(IF(COUNTIF(Saints!$C$2:$C$371,CB23)=0,"",INDEX(Saints!$D$2:$D$371,MATCH(CB23,Saints!$C$2:$C$371,0))),"") -> Alice | CG23: =IF(COUNTIF(Parametre!$C$27:$C$39,CB23)=0,"",INDEX(Parametre!$B$27:$B$39,MATCH(CB23,Parametre!$C$27:$C$39,0)))&" "&IF(COUNTIF(Parametre!$I$45:$I$94,CB23)=0,"",INDEX(Parametre!$K$45:$K$94,MATCH(CB23,Parametre!$I$45:$I$94,0)))
B24: 17 | C24: =C23+1 -> 43847 | E24: =IF(WEEKDAY(C24)=2,INT(MOD(INT((C24-2)/7)+0.6,52+5/28))+1,"") | F24: =IF(ISERROR(VLOOKUP(C24,Lune!$A$2:$B$55,2,FALSE)),"",VLOOKUP(C24,Lune!$A$2:$B$55,2,FALSE)) ->  | G24: =IFERROR(IF(COUNTIF(Saints!$C$2:$C$371,C24)=0,"",INDEX(Saints!$D$2:$D$371,MATCH(C24,Saints!$C$2:$C$371,0))),"") -> Roseline | H24: =IF(COUNTIF(Parametre!$C$27:$C$39,C24)=0,"",INDEX(Parametre!$B$27:$B$39,MATCH(C24,Parametre!$C$27:$C$39,0)))&""&IF(COUNTIF(Parametre!$I$45:$I$94,C24)=0,"",INDEX(Parametre!$K$45:$K$94,MATCH(C24,Parametre!$I$45:$I$94,0))) | J24: =J23+1 -> 43878 | L24: =IF(WEEKDAY(J24)=2,INT(MOD(INT((J24-2)/7)+0.6,52+5/28))+1,"") -> 8 | M24: =IF(ISERROR(VLOOKUP(J24,Lune!$A$2:$B$55,2,FALSE)),"",VLOOKUP(J24,Lune!$A$2:$B$55,2,FALSE)) | N24: =IFERROR(IF(COUNTIF(Saints!$C$2:$C$371,J24)=0,"",INDEX(Saints!$D$2:$D$371,MATCH(J24,Saints!$C$2:$C$371,0))),"") -> Alexis | O24: =IF(COUNTIF(Parametre!$C$27:$C$39,J24)=0,"",INDEX(Parametre!$B$27:$B$39,MATCH(J24,Parametre!$C$27:$C$39,0)))&""&IF(COUNTIF(Parametre!$I$45:$I$94,J24)=0,"",INDEX(Parametre!$K$45:$K$94,MATCH(J24,Parametre!$I$45:$I$94,0))) | Q24: =Q23+1 -> 43907 | S24: =IF(WEEKDAY(Q24)=2,INT(MOD(INT((Q24-2)/7)+0.6,52+5/28))+1,"") | T24: =IF(ISERROR(VLOOKUP(Q24,Lune!$A$2:$B$55,2,FALSE)),"",VLOOKUP(Q24,Lune!$A$2:$B$55,2,FALSE)) | U24: =IFERROR(IF(COUNTIF(Saints!$C$2:$C$371,Q24)=0,"",INDEX(Saints!$D$2:$D$371,MATCH(Q24,Saints!$C$2:$C$371,0))),"") -> Patrice | V24: =IF(COUNTIF(Parametre!$C$27:$C$39,Q24)=0,"",INDEX(Parametre!$B$27:$B$39,MATCH(Q24,Parametre!$C$27:$C$39,0)))&""&IF(COUNTIF(Parametre!$I$45:$I$94,Q24)=0,"",INDEX(Parametre!$K$45:$K$94,MATCH(Q24,Parametre!$I$45:$I$94,0))) | X24: =X23+1 -> 43938 | Z24: =IF(WEEKDAY(X24)=2,INT(MOD(INT((X24-2)/7)+0.6,52+5/28))+1,"") | AA24: =IF(ISERROR(VLOOKUP(X24,Lune!$A$2:$B$55,2,FALSE)),"",VLOOKUP(X24,Lune!$A$2:$B$55,2,FALSE)) | AB24: =IFERROR(IF(COUNTIF(Saints!$C$2:$C$371,X24)=0,"",INDEX(Saints!$D$2:$D$371,MATCH(X24,Saints!$C$2:$C$371,0))),"") -> Anicet | AC24: =IF(COUNTIF(Parametre!$C$27:$C$39,X24)=0,"",INDEX(Parametre!$B$27:$B$39,MATCH(X24,Parametre!$C$27:$C$39,0)))&""&IF(COUNTIF(Parametre!$I$45:$I$94,X24)=0,"",INDEX(Parametre!$K$45:$K$94,MATCH(X24,Parametre!$I$45:$I$94,0))) | AE24: =AE23+1 -> 43968 | AG24: =IF(WEEKDAY(AE24)=2,INT(MOD(INT((AE24-2)/7)+0.6,52+5/28))+1,"") | AH24: =IF(ISERROR(VLOOKUP(AE24,[1]Lune!$A$2:$B$55,2,FALSE)),"",VLOOKUP(AE24,[1]Lune!$A$2:$B$55,2,FALSE)) | AI24: =IFERROR(IF(COUNTIF(Saints!$C$2:$C$371,AE24)=0,"",INDEX(Saints!$D$2:$D$371,MATCH(AE24,Saints!$C$2:$C$371,0))),"") -> Pascal | AJ24: =IF(COUNTIF(Parametre!$C$27:$C$39,AE24)=0,"",INDEX(Parametre!$B$27:$B$39,MATCH(AE24,Parametre!$C$27:$C$39,0)))&""&IF(COUNTIF(Parametre!$I$45:$I$94,AE24)=0,"",INDEX(Parametre!$K$45:$K$94,MATCH(AE24,Parametre!$I$45:$I$94,0))) | AL24: =AL23+1 -> 43999 | AN24: =IFERROR(IF(WEEKDAY(AL24)=2,INT(MOD(INT((AL24-2)/7)+0.6,52+5/28))+1,""),"") | AO24: =IF(ISERROR(VLOOKUP(AL24,Lune!$A$2:$B$55,2,FALSE)),"",VLOOKUP(AL24,Lune!$A$2:$B$55,2,FALSE)) | AP24: =IFERROR(IF(COUNTIF(Saints!$C$2:$C$371,AL24)=0,"",INDEX(Saints!$D$2:$D$371,MATCH(AL24,Saints!$C$2:$C$371,0))),"") -> Hervé | AQ24: =IF(COUNTIF(Parametre!$C$27:$C$39,AL24)=0,"",INDEX(Parametre!$B$27:$B$39,MATCH(AL24,Parametre!$C$27:$C$39,0)))&""&IF(COUNTIF(Parametre!$I$45:$I$94,AL24)=0,"",INDEX(Parametre!$K$45:$K$94,MATCH(AL24,Parametre!$I$45:$I$94,0))) | AS24: =AS23+1 -> 44029 | AU24: =IF(WEEKDAY(AS24)=2,INT(MOD(INT((AS24-2)/7)+0.6,52+5/28))+1,"") | AV24: =IF(ISERROR(VLOOKUP(AS24,Lune!$A$2:$B$55,2,FALSE)),"",VLOOKUP(AS24,Lune!$A$2:$B$55,2,FALSE)) | AW24: =IFERROR(IF(COUNTIF(Saints!$C$2:$C$371,AS24)=0,"",INDEX(Saints!$D$2:$D$371,MATCH(AS24,Saints!$C$2:$C$371,0))),"") -> Charlotte | AX24: =IF(COUNTIF(Parametre!$C$27:$C$39,AS24)=0,"",INDEX(Parametre!$B$27:$B$39,MATCH(AS24,Parametre!$C$27:$C$39,0)))&""&IF(COUNTIF(Parametre!$I$45:$I$94,AS24)=0,"",INDEX(Parametre!$K$45:$K$94,MATCH(AS24,Parametre!$I$45:$I$94,0))) | AZ24: =AZ23+1 -> 44060 | BB24: =IF(WEEKDAY(AZ24)=2,INT(MOD(INT((AZ24-2)/7)+0.6,52+5/28))+1,"") -> 34 | BC24: =IF(ISERROR(VLOOKUP(AZ24,Lune!$A$2:$B$55,2,FALSE)),"",VLOOKUP(AZ24,Lune!$A$2:$B$55,2,FALSE)) | BD24: =IFERROR(IF(COUNTIF(Saints!$C$2:$C$371,AZ24)=0,"",INDEX(Saints!$D$2:$D$371,MATCH(AZ24,Saints!$C$2:$C$371,0))),"") -> Hyacinthe | BE24: =IF(COUNTIF(Parametre!$C$27:$C$39,AZ24)=0,"",INDEX(Parametre!$B$27:$B$39,MATCH(AZ24,Parametre!$C$27:$C$39,0)))&""&IF(COUNTIF(Parametre!$I$45:$I$94,AZ24)=0,"",INDEX(Parametre!$K$45:$K$94,MATCH(AZ24,Parametre!$I$45:$I$94,0))) | BG24: =BG23+1 -> 44091 | BI24: =IF(WEEKDAY(BG24)=2,INT(MOD(INT((BG24-2)/7)+0.6,52+5/28))+1,"") | BJ24: =IF(ISERROR(VLOOKUP(BG24,Lune!$A$2:$B$55,2,FALSE)),"",VLOOKUP(BG24,Lune!$A$2:$B$55,2,FALSE)) ->  | BK24: =IFERROR(IF(COUNTIF(Saints!$C$2:$C$371,BG24)=0,"",INDEX(Saints!$D$2:$D$371,MATCH(BG24,Saints!$C$2:$C$371,0))),"") -> Renaud | BL24: =IF(COUNTIF(Parametre!$C$27:$C$39,BG24)=0,"",INDEX(Parametre!$B$27:$B$39,MATCH(BG24,Parametre!$C$27:$C$39,0)))&""&IF(COUNTIF(Parametre!$I$45:$I$94,BG24)=0,"",INDEX(Parametre!$K$45:$K$94,MATCH(BG24,Parametre!$I$45:$I$94,0))) | BN24: =BN23+1 -> 44121 | BP24: =IF(WEEKDAY(BN24)=2,INT(MOD(INT((BN24-2)/7)+0.6,52+5/28))+1,"") | BQ24: =IF(ISERROR(VLOOKUP(BN24,Lune!$A$2:$B$55,2,FALSE)),"",VLOOKUP(BN24,Lune!$A$2:$B$55,2,FALSE)) | BR24: =IFERROR(IF(COUNTIF(Saints!$C$2:$C$371,BN24)=0,"",INDEX(Saints!$D$2:$D$371,MATCH(BN24,Saints!$C$2:$C$371,0))),"") -> Baudoin | BS24: =IF(COUNTIF(Parametre!$C$27:$C$39,BN24)=0,"",INDEX(Parametre!$B$27:$B$39,MATCH(BN24,Parametre!$C$27:$C$39,0)))&""&IF(COUNTIF(Parametre!$I$45:$I$94,BN24)=0,"",INDEX(Parametre!$K$45:$K$94,MATCH(BN24,Parametre!$I$45:$I$94,0))) | BU24: =BU23+1 -> 44152 | BW24: =IF(WEEKDAY(BU24)=2,INT(MOD(INT((BU24-2)/7)+0.6,52+5/28))+1,"") | BX24: =IF(ISERROR(VLOOKUP(BU24,Lune!$A$2:$B$55,2,FALSE)),"",VLOOKUP(BU24,Lune!$A$2:$B$55,2,FALSE)) | BY24: =IFERROR(IF(COUNTIF(Saints!$C$2:$C$371,BU24)=0,"",INDEX(Saints!$D$2:$D$371,MATCH(BU24,Saints!$C$2:$C$371,0))),"") -> Elisabeth | BZ24: =IF(COUNTIF(Parametre!$C$27:$C$39,BU24)=0,"",INDEX(Parametre!$B$27:$B$39,MATCH(BU24,Parametre!$C$27:$C$39,0)))&""&IF(COUNTIF(Parametre!$I$45:$I$94,BU24)=0,"",INDEX(Parametre!$K$45:$K$94,MATCH(BU24,Parametre!$I$45:$I$94,0))) | CB24: =CB23+1 -> 44182 | CD24: =IF(WEEKDAY(CB24)=2,INT(MOD(INT((CB24-2)/7)+0.6,52+5/28))+1,"") | CE24: =IF(ISERROR(VLOOKUP(CB24,Lune!$A$2:$B$55,2,FALSE)),"",VLOOKUP(CB24,Lune!$A$2:$B$55,2,FALSE)) | CF24: =IFERROR(IF(COUNTIF(Saints!$C$2:$C$371,CB24)=0,"",INDEX(Saints!$D$2:$D$371,MATCH(CB24,Saints!$C$2:$C$371,0))),"") -> Gaël | CG24: =IF(COUNTIF(Parametre!$C$27:$C$39,CB24)=0,"",INDEX(Parametre!$B$27:$B$39,MATCH(CB24,Parametre!$C$27:$C$39,0)))&" "&IF(COUNTIF(Parametre!$I$45:$I$94,CB24)=0,"",INDEX(Parametre!$K$45:$K$94,MATCH(CB24,Parametre!$I$45:$I$94,0)))
B25: 18 | C25: =C24+1 -> 43848 | E25: =IF(WEEKDAY(C25)=2,INT(MOD(INT((C25-2)/7)+0.6,52+5/28))+1,"") | F25: =IF(ISERROR(VLOOKUP(C25,Lune!$A$2:$B$55,2,FALSE)),"",VLOOKUP(C25,Lune!$A$2:$B$55,2,FALSE)) | G25: =IFERROR(IF(COUNTIF(Saints!$C$2:$C$371,C25)=0,"",INDEX(Saints!$D$2:$D$371,MATCH(C25,Saints!$C$2:$C$371,0))),"") -> Prisca | H25: =IF(COUNTIF(Parametre!$C$27:$C$39,C25)=0,"",INDEX(Parametre!$B$27:$B$39,MATCH(C25,Parametre!$C$27:$C$39,0)))&""&IF(COUNTIF(Parametre!$I$45:$I$94,C25)=0,"",INDEX(Parametre!$K$45:$K$94,MATCH(C25,Parametre!$I$45:$I$94,0))) | J25: =J24+1 -> 43879 | L25: =IF(WEEKDAY(J25)=2,INT(MOD(INT((J25-2)/7)+0.6,52+5/28))+1,"") | M25: =IF(ISERROR(VLOOKUP(J25,Lune!$A$2:$B$55,2,FALSE)),"",VLOOKUP(J25,Lune!$A$2:$B$55,2,FALSE)) | N25: =IFERROR(IF(COUNTIF(Saints!$C$2:$C$371,J25)=0,"",INDEX(Saints!$D$2:$D$371,MATCH(J25,Saints!$C$2:$C$371,0))),"") -> Bernadette | O25: =IF(COUNTIF(Parametre!$C$27:$C$39,J25)=0,"",INDEX(Parametre!$B$27:$B$39,MATCH(J25,Parametre!$C$27:$C$39,0)))&""&IF(COUNTIF(Parametre!$I$45:$I$94,J25)=0,"",INDEX(Parametre!$K$45:$K$94,MATCH(J25,Parametre!$I$45:$I$94,0))) | Q25: =Q24+1 -> 43908 | S25: =IF(WEEKDAY(Q25)=2,INT(MOD(INT((Q25-2)/7)+0.6,52+5/28))+1,"") | T25: =IF(ISERROR(VLOOKUP(Q25,Lune!$A$2:$B$55,2,FALSE)),"",VLOOKUP(Q25,Lune!$A$2:$B$55,2,FALSE)) | U25: =IFERROR(IF(COUNTIF(Saints!$C$2:$C$371,Q25)=0,"",INDEX(Saints!$D$2:$D$371,MATCH(Q25,Saints!$C$2:$C$371,0))),"") -> Cyrille | V25: =IF(COUNTIF(Parametre!$C$27:$C$39,Q25)=0,"",INDEX(Parametre!$B$27:$B$39,MATCH(Q25,Parametre!$C$27:$C$39,0)))&""&IF(COUNTIF(Parametre!$I$45:$I$94,Q25)=0,"",INDEX(Parametre!$K$45:$K$94,MATCH(Q25,Parametre!$I$45:$I$94,0))) | X25: =X24+1 -> 43939 | Z25: =IF(WEEKDAY(X25)=2,INT(MOD(INT((X25-2)/7)+0.6,52+5/28))+1,"") | AA25: =IF(ISERROR(VLOOKUP(X25,Lune!$A$2:$B$55,2,FALSE)),"",VLOOKUP(X25,Lune!$A$2:$B$55,2,FALSE)) | AB25: =IFERROR(IF(COUNTIF(Saints!$C$2:$C$371,X25)=0,"",INDEX(Saints!$D$2:$D$371,MATCH(X25,Saints!$C$2:$C$371,0))),"") -> Parfait | AC25: =IF(COUNTIF(Parametre!$C$27:$C$39,X25)=0,"",INDEX(Parametre!$B$27:$B$39,MATCH(X25,Parametre!$C$27:$C$39,0)))&""&IF(COUNTIF(Parametre!$I$45:$I$94,X25)=0,"",INDEX(Parametre!$K$45:$K$94,MATCH(X25,Parametre!$I$45:$I$94,0))) | AE25: =AE24+1 -> 43969 | AG25: =IF(WEEKDAY(AE25)=2,INT(MOD(INT((AE25-2)/7)+0.6,52+5/28))+1,"") -> 21 | AH25: =IF(ISERROR(VLOOKUP(AE25,[1]Lune!$A$2:$B$55,2,FALSE)),"",VLOOKUP(AE25,[1]Lune!$A$2:$B$55,2,FALSE)) | AI25: =IFERROR(IF(COUNTIF(Saints!$C$2:$C$371,AE25)=0,"",INDEX(Saints!$D$2:$D$371,MATCH(AE25,Saints!$C$2:$C$371,0))),"") -> Eric | AJ25: =IF(COUNTIF(Parametre!$C$27:$C$39,AE25)=0,"",INDEX(Parametre!$B$27:$B$39,MATCH(AE25,Parametre!$C$27:$C$39,0)))&""&IF(COUNTIF(Parametre!$I$45:$I$94,AE25)=0,"",INDEX(Parametre!$K$45:$K$94,MATCH(AE25,Parametre!$I$45:$I$94,0))) | AL25: =AL24+1 -> 44000 | AN25: =IF(WEEKDAY(AL25)=2,INT(MOD(INT((AL25-2)/7)+0.6,52+5/28))+1,"") | AO25: =IF(ISERROR(VLOOKUP(AL25,Lune!$A$2:$B$55,2,FALSE)),"",VLOOKUP(AL25,Lune!$A$2:$B$55,2,FALSE)) | AP25: =IFERROR(IF(COUNTIF(Saints!$C$2:$C$371,AL25)=0,"",INDEX(Saints!$D$2:$D$371,MATCH(AL25,Saints!$C$2:$C$371,0))),"") -> Léonce | AQ25: =IF(COUNTIF(Parametre!$C$27:$C$39,AL25)=0,"",INDEX(Parametre!$B$27:$B$39,MATCH(AL25,Parametre!$C$27:$C$39,0)))&""&IF(COUNTIF(Parametre!$I$45:$I$94,AL25)=0,"",INDEX(Parametre!$K$45:$K$94,MATCH(AL25,Parametre!$I$45:$I$94,0))) | AS25: =AS24+1 -> 44030 | AU25: =IFERROR(IF(WEEKDAY(AS25)=2,INT(MOD(INT((AS25-2)/7)+0.6,52+5/28))+1,""),"") | AV25: =IF(ISERROR(VLOOKUP(AS25,Lune!$A$2:$B$55,2,FALSE)),"",VLOOKUP(AS25,Lune!$A$2:$B$55,2,FALSE)) | AW25: =IFERROR(IF(COUNTIF(Saints!$C$2:$C$371,AS25)=0,"",INDEX(Saints!$D$2:$D$371,MATCH(AS25,Saints!$C$2:$C$371,0))),"") -> Frédéric | AX25: =IF(COUNTIF(Parametre!$C$27:$C$39,AS25)=0,"",INDEX(Parametre!$B$27:$B$39,MATCH(AS25,Parametre!$C$27:$C$39,0)))&""&IF(COUNTIF(Parametre!$I$45:$I$94,AS25)=0,"",INDEX(Parametre!$K$45:$K$94,MATCH(AS25,Parametre!$I$45:$I$94,0))) | AZ25: =AZ24+1 -> 44061 | BB25: =IF(WEEKDAY(AZ25)=2,INT(MOD(INT((AZ25-2)/7)+0.6,52+5/28))+1,"") | BC25: =IF(ISERROR(VLOOKUP(AZ25,Lune!$A$2:$B$55,2,FALSE)),"",VLOOKUP(AZ25,Lune!$A$2:$B$55,2,FALSE)) | BD25: =IFERROR(IF(COUNTIF(Saints!$C$2:$C$371,AZ25)=0,"",INDEX(Saints!$D$2:$D$371,MATCH(AZ25,Saints!$C$2:$C$371,0))),"") -> Hélène | BE25: =IF(COUNTIF(Parametre!$C$27:$C$39,AZ25)=0,"",INDEX(Parametre!$B$27:$B$39,MATCH(AZ25,Parametre!$C$27:$C$39,0)))&""&IF(COUNTIF(Parametre!$I$45:$I$94,AZ25)=0,"",INDEX(Parametre!$K$45:$K$94,MATCH(AZ25,Parametre!$I$45:$I$94,0))) | BG25: =BG24+1 -> 44092 | BI25: =IF(WEEKDAY(BG25)=2,INT(MOD(INT((BG25-2)/7)+0.6,52+5/28))+1,"") | BJ25: =IF(ISERROR(VLOOKUP(BG25,Lune!$A$2:$B$55,2,FALSE)),"",VLOOKUP(BG25,Lune!$A$2:$B$55,2,FALSE)) | BK25: =IFERROR(IF(COUNTIF(Saints!$C$2:$C$371,BG25)=0,"",INDEX(Saints!$D$2:$D$371,MATCH(BG25,Saints!$C$2:$C$371,0))),"") -> Nadège | BL25: =IF(COUNTIF(Parametre!$C$27:$C$39,BG25)=0,"",INDEX(Parametre!$B$27:$B$39,MATCH(BG25,Parametre!$C$27:$C$39,0)))&""&IF(COUNTIF(Parametre!$I$45:$I$94,BG25)=0,"",INDEX(Parametre!$K$45:$K$94,MATCH(BG25,Parametre!$I$45:$I$94,0))) | BN25: =BN24+1 -> 44122 | BP25: =IF(WEEKDAY(BN25)=2,INT(MOD(INT((BN25-2)/7)+0.6,52+5/28))+1,"") | BQ25: =IF(ISERROR(VLOOKUP(BN25,Lune!$A$2:$B$55,2,FALSE)),"",VLOOKUP(BN25,Lune!$A$2:$B$55,2,FALSE)) | BR25: =IFERROR(IF(COUNTIF(Saints!$C$2:$C$371,BN25)=0,"",INDEX(Saints!$D$2:$D$371,MATCH(BN25,Saints!$C$2:$C$371,0))),"") -> Luc | BS25: =IF(COUNTIF(Parametre!$C$27:$C$39,BN25)=0,"",INDEX(Parametre!$B$27:$B$39,MATCH(BN25,Parametre!$C$27:$C$39,0)))&""&IF(COUNTIF(Parametre!$I$45:$I$94,BN25)=0,"",INDEX(Parametre!$K$45:$K$94,MATCH(BN25,Parametre!$I$45:$I$94,0))) | BU25: =BU24+1 -> 44153 | BW25: =IF(WEEKDAY(BU25)=2,INT(MOD(INT((BU25-2)/7)+0.6,52+5/28))+1,"") | BX25: =IF(ISERROR(VLOOKUP(BU25,Lune!$A$2:$B$55,2,FALSE)),"",VLOOKUP(BU25,Lune!$A$2:$B$55,2,FALSE)) | BY25: =IFERROR(IF(COUNTIF(Saints!$C$2:$C$371,BU25)=0,"",INDEX(Saints!$D$2:$D$371,MATCH(BU25,Saints!$C$2:$C$371,0))),"") -> Aude | BZ25: =IF(COUNTIF(Parametre!$C$27:$C$39,BU25)=0,"",INDEX(Parametre!$B$27:$B$39,MATCH(BU25,Parametre!$C$27:$C$39,0)))&""&IF(COUNTIF(Parametre!$I$45:$I$94,BU25)=0,"",INDEX(Parametre!$K$45:$K$94,MATCH(BU25,Parametre!$I$45:$I$94,0))) | CB25: =CB24+1 -> 44183 | CD25: =IF(WEEKDAY(CB25)=2,INT(MOD(INT((CB25-2)/7)+0.6,52+5/28))+1,"") | CE25: =IF(ISERROR(VLOOKUP(CB25,Lune!$A$2:$B$55,2,FALSE)),"",VLOOKUP(CB25,Lune!$A$2:$B$55,2,FALSE)) | CF25: =IFERROR(IF(COUNTIF(Saints!$C$2:$C$371,CB25)=0,"",INDEX(Saints!$D$2:$D$371,MATCH(CB25,Saints!$C$2:$C$371,0))),"") -> Gatien | CG25: =IF(COUNTIF(Parametre!$C$27:$C$39,CB25)=0,"",INDEX(Parametre!$B$27:$B$39,MATCH(CB25,Parametre!$C$27:$C$39,0)))&" "&IF(COUNTIF(Parametre!$I$45:$I$94,CB25)=0,"",INDEX(Parametre!$K$45:$K$94,MATCH(CB25,Parametre!$I$45:$I$94,0)))
B26: 19 | C26: =C25+1 -> 43849 | E26: =IF(WEEKDAY(C26)=2,INT(MOD(INT((C26-2)/7)+0.6,52+5/28))+1,"") | F26: =IF(ISERROR(VLOOKUP(C26,Lune!$A$2:$B$55,2,FALSE)),"",VLOOKUP(C26,Lune!$A$2:$B$55,2,FALSE)) | G26: =IFERROR(IF(COUNTIF(Saints!$C$2:$C$371,C26)=0,"",INDEX(Saints!$D$2:$D$371,MATCH(C26,Saints!$C$2:$C$371,0))),"") -> Marius | H26: =IF(COUNTIF(Parametre!$C$27:$C$39,C26)=0,"",INDEX(Parametre!$B$27:$B$39,MATCH(C26,Parametre!$C$27:$C$39,0)))&""&IF(COUNTIF(Parametre!$I$45:$I$94,C26)=0,"",INDEX(Parametre!$K$45:$K$94,MATCH(C26,Parametre!$I$45:$I$94,0))) | J26: =J25+1 -> 43880 | L26: =IF(WEEKDAY(J26)=2,INT(MOD(INT((J26-2)/7)+0.6,52+5/28))+1,"") | M26: =IF(ISERROR(VLOOKUP(J26,Lune!$A$2:$B$55,2,FALSE)),"",VLOOKUP(J26,Lune!$A$2:$B$55,2,FALSE)) | N26: =IFERROR(IF(COUNTIF(Saints!$C$2:$C$371,J26)=0,"",INDEX(Saints!$D$2:$D$371,MATCH(J26,Saints!$C$2:$C$371,0))),"") -> Gabin | O26: =IF(COUNTIF(Parametre!$C$27:$C$39,J26)=0,"",INDEX(Parametre!$B$27:$B$39,MATCH(J26,Parametre!$C$27:$C$39,0)))&""&IF(COUNTIF(Parametre!$I$45:$I$94,J26)=0,"",INDEX(Parametre!$K$45:$K$94,MATCH(J26,Parametre!$I$45:$I$94,0))) | Q26: =Q25+1 -> 43909 | S26: =IF(WEEKDAY(Q26)=2,INT(MOD(INT((Q26-2)/7)+0.6,52+5/28))+1,"") | T26: =IF(ISERROR(VLOOKUP(Q26,Lune!$A$2:$B$55,2,FALSE)),"",VLOOKUP(Q26,Lune!$A$2:$B$55,2,FALSE)) | U26: =IFERROR(IF(COUNTIF(Saints!$C$2:$C$371,Q26)=0,"",INDEX(Saints!$D$2:$D$371,MATCH(Q26,Saints!$C$2:$C$371,0))),"") -> Joseph | V26: =IF(COUNTIF(Parametre!$C$27:$C$39,Q26)=0,"",INDEX(Parametre!$B$27:$B$39,MATCH(Q26,Parametre!$C$27:$C$39,0)))&""&IF(COUNTIF(Parametre!$I$45:$I$94,Q26)=0,"",INDEX(Parametre!$K$45:$K$94,MATCH(Q26,Parametre!$I$45:$I$94,0))) -> 17 an Rémi | X26: =X25+1 -> 43940 | Z26: =IF(WEEKDAY(X26)=2,INT(MOD(INT((X26-2)/7)+0.6,52+5/28))+1,"") | AA26: =IF(ISERROR(VLOOKUP(X26,Lune!$A$2:$B$55,2,FALSE)),"",VLOOKUP(X26,Lune!$A$2:$B$55,2,FALSE)) | AB26: =IFERROR(IF(COUNTIF(Saints!$C$2:$C$371,X26)=0,"",INDEX(Saints!$D$2:$D$371,MATCH(X26,Saints!$C$2:$C$371,0))),"") -> Emma | AC26: =IF(COUNTIF(Parametre!$C$27:$C$39,X26)=0,"",INDEX(Parametre!$B$27:$B$39,MATCH(X26,Parametre!$C$27:$C$39,0)))&""&IF(COUNTIF(Parametre!$I$45:$I$94,X26)=0,"",INDEX(Parametre!$K$45:$K$94,MATCH(X26,Parametre!$I$45:$I$94,0))) | AE26: =AE25+1 -> 43970 | AG26: =IF(WEEKDAY(AE26)=2,INT(MOD(INT((AE26-2)/7)+0.6,52+5/28))+1,"") | AH26: =IF(ISERROR(VLOOKUP(AE26,[1]Lune!$A$2:$B$55,2,FALSE)),"",VLOOKUP(AE26,[1]Lune!$A$2:$B$55,2,FALSE)) | AI26: =IFERROR(IF(COUNTIF(Saints!$C$2:$C$371,AE26)=0,"",INDEX(Saints!$D$2:$D$371,MATCH(AE26,Saints!$C$2:$C$371,0))),"") -> Yves | AJ26: =IF(COUNTIF(Parametre!$C$27:$C$39,AE26)=0,"",INDEX(Parametre!$B$27:$B$39,MATCH(AE26,Parametre!$C$27:$C$39,0)))&""&IF(COUNTIF(Parametre!$I$45:$I$94,AE26)=0,"",INDEX(Parametre!$K$45:$K$94,MATCH(AE26,Parametre!$I$45:$I$94,0))) -> 21 an Émilie | AL26: =AL25+1 -> 44001 | AN26: =IFERROR(IF(WEEKDAY(AL26)=2,INT(MOD(INT((AL26-2)/7)+0.6,52+5/28))+1,""),"") | AO26: =IF(ISERROR(VLOOKUP(AL26,Lune!$A$2:$B$55,2,FALSE)),"",VLOOKUP(AL26,Lune!$A$2:$B$55,2,FALSE)) | AP26: =IFERROR(IF(COUNTIF(Saints!$C$2:$C$371,AL26)=0,"",INDEX(Saints!$D$2:$D$371,MATCH(AL26,Saints!$C$2:$C$371,0))),"") -> Romuald | AQ26: =IF(COUNTIF(Parametre!$C$27:$C$39,AL26)=0,"",INDEX(Parametre!$B$27:$B$39,MATCH(AL26,Parametre!$C$27:$C$39,0)))&""&IF(COUNTIF(Parametre!$I$45:$I$94,AL26)=0,"",INDEX(Parametre!$K$45:$K$94,MATCH(AL26,Parametre!$I$45:$I$94,0))) | AS26: =AS25+1 -> 44031 | AU26: =IF(WEEKDAY(AS26)=2,INT(MOD(INT((AS26-2)/7)+0.6,52+5/28))+1,"") | AV26: =IF(ISERROR(VLOOKUP(AS26,Lune!$A$2:$B$55,2,FALSE)),"",VLOOKUP(AS26,Lune!$A$2:$B$55,2,FALSE)) | AW26: =IFERROR(IF(COUNTIF(Saints!$C$2:$C$371,AS26)=0,"",INDEX(Saints!$D$2:$D$371,MATCH(AS26,Saints!$C$2:$C$371,0))),"") -> Arsène | AX26: =IF(COUNTIF(Parametre!$C$27:$C$39,AS26)=0,"",INDEX(Parametre!$B$27:$B$39,MATCH(AS26,Parametre!$C$27:$C$39,0)))&""&IF(COUNTIF(Parametre!$I$45:$I$94,AS26)=0,"",INDEX(Parametre!$K$45:$K$94,MATCH(AS26,Parametre!$I$45:$I$94,0))) | AZ26: =AZ25+1 -> 44062 | BB26: =IF(WEEKDAY(AZ26)=2,INT(MOD(INT((AZ26-2)/7)+0.6,52+5/28))+1,"") | BC26: =IF(ISERROR(VLOOKUP(AZ26,Lune!$A$2:$B$55,2,FALSE)),"",VLOOKUP(AZ26,Lune!$A$2:$B$55,2,FALSE)) ->  | BD26: =IFERROR(IF(COUNTIF(Saints!$C$2:$C$371,AZ26)=0,"",INDEX(Saints!$D$2:$D$371,MATCH(AZ26,Saints!$C$2:$C$371,0))),"") -> Mylène | BE26: =IF(COUNTIF(Parametre!$C$27:$C$39,AZ26)=0,"",INDEX(Parametre!$B$27:$B$39,MATCH(AZ26,Parametre!$C$27:$C$39,0)))&""&IF(COUNTIF(Parametre!$I$45:$I$94,AZ26)=0,"",INDEX(Parametre!$K$45:$K$94,MATCH(AZ26,Parametre!$I$45:$I$94,0))) | BG26: =BG25+1 -> 44093 | BI26: =IF(WEEKDAY(BG26)=2,INT(MOD(INT((BG26-2)/7)+0.6,52+5/28))+1,"") | BJ26: =IF(ISERROR(VLOOKUP(BG26,Lune!$A$2:$B$55,2,FALSE)),"",VLOOKUP(BG26,Lune!$A$2:$B$55,2,FALSE)) | BK26: =IFERROR(IF(COUNTIF(Saints!$C$2:$C$371,BG26)=0,"",INDEX(Saints!$D$2:$D$371,MATCH(BG26,Saints!$C$2:$C$371,0))),"") -> Emilie | BL26: =IF(COUNTIF(Parametre!$C$27:$C$39,BG26)=0,"",INDEX(Parametre!$B$27:$B$39,MATCH(BG26,Parametre!$C$27:$C$39,0)))&""&IF(COUNTIF(Parametre!$I$45:$I$94,BG26)=0,"",INDEX(Parametre!$K$45:$K$94,MATCH(BG26,Parametre!$I$45:$I$94,0))) | BN26: =BN25+1 -> 44123 | BP26: =IF(WEEKDAY(BN26)=2,INT(MOD(INT((BN26-2)/7)+0.6,52+5/28))+1,"") -> 43 | BQ26: =IF(ISERROR(VLOOKUP(BN26,Lune!$A$2:$B$55,2,FALSE)),"",VLOOKUP(BN26,Lune!$A$2:$B$55,2,FALSE)) | BR26: =IFERROR(IF(COUNTIF(Saints!$C$2:$C$371,BN26)=0,"",INDEX(Saints!$D$2:$D$371,MATCH(BN26,Saints!$C$2:$C$371,0))),"") -> René | BS26: =IF(COUNTIF(Parametre!$C$27:$C$39,BN26)=0,"",INDEX(Parametre!$B$27:$B$39,MATCH(BN26,Parametre!$C$27:$C$39,0)))&""&IF(COUNTIF(Parametre!$I$45:$I$94,BN26)=0,"",INDEX(Parametre!$K$45:$K$94,MATCH(BN26,Parametre!$I$45:$I$94,0))) | BU26: =BU25+1 -> 44154 | BW26: =IF(WEEKDAY(BU26)=2,INT(MOD(INT((BU26-2)/7)+0.6,52+5/28))+1,"") | BX26: =IF(ISERROR(VLOOKUP(BU26,Lune!$A$2:$B$55,2,FALSE)),"",VLOOKUP(BU26,Lune!$A$2:$B$55,2,FALSE)) | BY26: =IFERROR(IF(COUNTIF(Saints!$C$2:$C$371,BU26)=0,"",INDEX(Saints!$D$2:$D$371,MATCH(BU26,Saints!$C$2:$C$371,0))),"") -> Tanguy | BZ26: =IF(COUNTIF(Parametre!$C$27:$C$39,BU26)=0,"",INDEX(Parametre!$B$27:$B$39,MATCH(BU26,Parametre!$C$27:$C$39,0)))&""&IF(COUNTIF(Parametre!$I$45:$I$94,BU26)=0,"",INDEX(Parametre!$K$45:$K$94,MATCH(BU26,Parametre!$I$45:$I$94,0))) | CB26: =CB25+1 -> 44184 | CD26: =IF(WEEKDAY(CB26)=2,INT(MOD(INT((CB26-2)/7)+0.6,52+5/28))+1,"") | CE26: =IF(ISERROR(VLOOKUP(CB26,Lune!$A$2:$B$55,2,FALSE)),"",VLOOKUP(CB26,Lune!$A$2:$B$55,2,FALSE)) | CF26: =IFERROR(IF(COUNTIF(Saints!$C$2:$C$371,CB26)=0,"",INDEX(Saints!$D$2:$D$371,MATCH(CB26,Saints!$C$2:$C$371,0))),"") -> Urbain | CG26: =IF(COUNTIF(Parametre!$C$27:$C$39,CB26)=0,"",INDEX(Parametre!$B$27:$B$39,MATCH(CB26,Parametre!$C$27:$C$39,0)))&" "&IF(COUNTIF(Parametre!$I$45:$I$94,CB26)=0,"",INDEX(Parametre!$K$45:$K$94,MATCH(CB26,Parametre!$I$45:$I$94,0)))
B27: 20 | C27: =C26+1 -> 43850 | E27: =IF(WEEKDAY(C27)=2,INT(MOD(INT((C27-2)/7)+0.6,52+5/28))+1,"") -> 4 | F27: =IF(ISERROR(VLOOKUP(C27,Lune!$A$2:$B$55,2,FALSE)),"",VLOOKUP(C27,Lune!$A$2:$B$55,2,FALSE)) | G27: =IFERROR(IF(COUNTIF(Saints!$C$2:$C$371,C27)=0,"",INDEX(Saints!$D$2:$D$371,MATCH(C27,Saints!$C$2:$C$371,0))),"") -> Sébastien | H27: =IF(COUNTIF(Parametre!$C$27:$C$39,C27)=0,"",INDEX(Parametre!$B$27:$B$39,MATCH(C27,Parametre!$C$27:$C$39,0)))&""&IF(COUNTIF(Parametre!$I$45:$I$94,C27)=0,"",INDEX(Parametre!$K$45:$K$94,MATCH(C27,Parametre!$I$45:$I$94,0))) | J27: =J26+1 -> 43881 | L27: =IF(WEEKDAY(J27)=2,INT(MOD(INT((J27-2)/7)+0.6,52+5/28))+1,"") | M27: =IF(ISERROR(VLOOKUP(J27,Lune!$A$2:$B$55,2,FALSE)),"",VLOOKUP(J27,Lune!$A$2:$B$55,2,FALSE)) | N27: =IFERROR(IF(COUNTIF(Saints!$C$2:$C$371,J27)=0,"",INDEX(Saints!$D$2:$D$371,MATCH(J27,Saints!$C$2:$C$371,0))),"") -> Aimée | O27: =IF(COUNTIF(Parametre!$C$27:$C$39,J27)=0,"",INDEX(Parametre!$B$27:$B$39,MATCH(J27,Parametre!$C$27:$C$39,0)))&""&IF(COUNTIF(Parametre!$I$45:$I$94,J27)=0,"",INDEX(Parametre!$K$45:$K$94,MATCH(J27,Parametre!$I$45:$I$94,0))) | Q27: =Q26+1 -> 43910 | S27: =IF(WEEKDAY(Q27)=2,INT(MOD(INT((Q27-2)/7)+0.6,52+5/28))+1,"") | T27: =IF(ISERROR(VLOOKUP(Q27,Lune!$A$2:$B$55,2,FALSE)),"",VLOOKUP(Q27,Lune!$A$2:$B$55,2,FALSE)) | U27: =IFERROR(IF(COUNTIF(Saints!$C$2:$C$371,Q27)=0,"",INDEX(Saints!$D$2:$D$371,MATCH(Q27,Saints!$C$2:$C$371,0))),"") -> Herbert | V27: =IF(COUNTIF(Parametre!$C$27:$C$39,Q27)=0,"",INDEX(Parametre!$B$27:$B$39,MATCH(Q27,Parametre!$C$27:$C$39,0)))&""&IF(COUNTIF(Parametre!$I$45:$I$94,Q27)=0,"",INDEX(Parametre!$K$45:$K$94,MATCH(Q27,Parametre!$I$45:$I$94,0))) -> Printemps | X27: =X26+1 -> 43941 | Z27: =IF(WEEKDAY(X27)=2,INT(MOD(INT((X27-2)/7)+0.6,52+5/28))+1,"") -> 17 | AA27: =IF(ISERROR(VLOOKUP(X27,Lune!$A$2:$B$55,2,FALSE)),"",VLOOKUP(X27,Lune!$A$2:$B$55,2,FALSE)) | AB27: =IFERROR(IF(COUNTIF(Saints!$C$2:$C$371,X27)=0,"",INDEX(Saints!$D$2:$D$371,MATCH(X27,Saints!$C$2:$C$371,0))),"") -> Odette | AC27: =IF(COUNTIF(Parametre!$C$27:$C$39,X27)=0,"",INDEX(Parametre!$B$27:$B$39,MATCH(X27,Parametre!$C$27:$C$39,0)))&""&IF(COUNTIF(Parametre!$I$45:$I$94,X27)=0,"",INDEX(Parametre!$K$45:$K$94,MATCH(X27,Parametre!$I$45:$I$94,0))) | AE27: =AE26+1 -> 43971 | AG27: =IF(WEEKDAY(AE27)=2,INT(MOD(INT((AE27-2)/7)+0.6,52+5/28))+1,"") | AH27: =IF(ISERROR(VLOOKUP(AE27,[1]Lune!$A$2:$B$55,2,FALSE)),"",VLOOKUP(AE27,[1]Lune!$A$2:$B$55,2,FALSE)) | AI27: =IFERROR(IF(COUNTIF(Saints!$C$2:$C$371,AE27)=0,"",INDEX(Saints!$D$2:$D$371,MATCH(AE27,Saints!$C$2:$C$371,0))),"") -> Bernardin | AJ27: =IF(COUNTIF(Parametre!$C$27:$C$39,AE27)=0,"",INDEX(Parametre!$B$27:$B$39,MATCH(AE27,Parametre!$C$27:$C$39,0)))&""&IF(COUNTIF(Parametre!$I$45:$I$94,AE27)=0,"",INDEX(Parametre!$K$45:$K$94,MATCH(AE27,Parametre!$I$45:$I$94,0))) | AL27: =AL26+1 -> 44002 | AN27: =IF(WEEKDAY(AL27)=2,INT(MOD(INT((AL27-2)/7)+0.6,52+5/28))+1,"") | AO27: =IF(ISERROR(VLOOKUP(AL27,Lune!$A$2:$B$55,2,FALSE)),"",VLOOKUP(AL27,Lune!$A$2:$B$55,2,FALSE)) | AP27: =IFERROR(IF(COUNTIF(Saints!$C$2:$C$371,AL27)=0,"",INDEX(Saints!$D$2:$D$371,MATCH(AL27,Saints!$C$2:$C$371,0))),"") -> Silvère | AQ27: =IF(COUNTIF(Parametre!$C$27:$C$39,AL27)=0,"",INDEX(Parametre!$B$27:$B$39,MATCH(AL27,Parametre!$C$27:$C$39,0)))&""&IF(COUNTIF(Parametre!$I$45:$I$94,AL27)=0,"",INDEX(Parametre!$K$45:$K$94,MATCH(AL27,Parametre!$I$45:$I$94,0))) -> Été | AS27: =AS26+1 -> 44032 | AU27: =IFERROR(IF(WEEKDAY(AS27)=2,INT(MOD(INT((AS27-2)/7)+0.6,52+5/28))+1,""),"") -> 30 | AV27: =IF(ISERROR(VLOOKUP(AS27,Lune!$A$2:$B$55,2,FALSE)),"",VLOOKUP(AS27,Lune!$A$2:$B$55,2,FALSE)) ->  | AW27: =IFERROR(IF(COUNTIF(Saints!$C$2:$C$371,AS27)=0,"",INDEX(Saints!$D$2:$D$371,MATCH(AS27,Saints!$C$2:$C$371,0))),"") -> Marina | AX27: =IF(COUNTIF(Parametre!$C$27:$C$39,AS27)=0,"",INDEX(Parametre!$B$27:$B$39,MATCH(AS27,Parametre!$C$27:$C$39,0)))&""&IF(COUNTIF(Parametre!$I$45:$I$94,AS27)=0,"",INDEX(Parametre!$K$45:$K$94,MATCH(AS27,Parametre!$I$45:$I$94,0))) | AZ27: =AZ26+1 -> 44063 | BB27: =IF(WEEKDAY(AZ27)=2,INT(MOD(INT((AZ27-2)/7)+0.6,52+5/28))+1,"") | BC27: =IF(ISERROR(VLOOKUP(AZ27,Lune!$A$2:$B$55,2,FALSE)),"",VLOOKUP(AZ27,Lune!$A$2:$B$55,2,FALSE)) | BD27: =IFERROR(IF(COUNTIF(Saints!$C$2:$C$371,AZ27)=0,"",INDEX(Saints!$D$2:$D$371,MATCH(AZ27,Saints!$C$2:$C$371,0))),"") -> Bernard | BE27: =IF(COUNTIF(Parametre!$C$27:$C$39,AZ27)=0,"",INDEX(Parametre!$B$27:$B$39,MATCH(AZ27,Parametre!$C$27:$C$39,0)))&""&IF(COUNTIF(Parametre!$I$45:$I$94,AZ27)=0,"",INDEX(Parametre!$K$45:$K$94,MATCH(AZ27,Parametre!$I$45:$I$94,0))) | BG27: =BG26+1 -> 44094 | BI27: =IF(WEEKDAY(BG27)=2,INT(MOD(INT((BG27-2)/7)+0.6,52+5/28))+1,"") | BJ27: =IF(ISERROR(VLOOKUP(BG27,Lune!$A$2:$B$55,2,FALSE)),"",VLOOKUP(BG27,Lune!$A$2:$B$55,2,FALSE)) | BK27: =IFERROR(IF(COUNTIF(Saints!$C$2:$C$371,BG27)=0,"",INDEX(Saints!$D$2:$D$371,MATCH(BG27,Saints!$C$2:$C$371,0))),"") -> Davy | BL27: =IF(COUNTIF(Parametre!$C$27:$C$39,BG27)=0,"",INDEX(Parametre!$B$27:$B$39,MATCH(BG27,Parametre!$C$27:$C$39,0)))&""&IF(COUNTIF(Parametre!$I$45:$I$94,BG27)=0,"",INDEX(Parametre!$K$45:$K$94,MATCH(BG27,Parametre!$I$45:$I$94,0))) | BN27: =BN26+1 -> 44124 | BP27: =IF(WEEKDAY(BN27)=2,INT(MOD(INT((BN27-2)/7)+0.6,52+5/28))+1,"") | BQ27: =IF(ISERROR(VLOOKUP(BN27,Lune!$A$2:$B$55,2,FALSE)),"",VLOOKUP(BN27,Lune!$A$2:$B$55,2,FALSE)) | BR27: =IFERROR(IF(COUNTIF(Saints!$C$2:$C$371,BN27)=0,"",INDEX(Saints!$D$2:$D$371,MATCH(BN27,Saints!$C$2:$C$371,0))),"") -> Adeline | BS27: =IF(COUNTIF(Parametre!$C$27:$C$39,BN27)=0,"",INDEX(Parametre!$B$27:$B$39,MATCH(BN27,Parametre!$C$27:$C$39,0)))&""&IF(COUNTIF(Parametre!$I$45:$I$94,BN27)=0,"",INDEX(Parametre!$K$45:$K$94,MATCH(BN27,Parametre!$I$45:$I$94,0))) -> 67 an Didier | BU27: =BU26+1 -> 44155 | BW27: =IF(WEEKDAY(BU27)=2,INT(MOD(INT((BU27-2)/7)+0.6,52+5/28))+1,"") | BX27: =IF(ISERROR(VLOOKUP(BU27,Lune!$A$2:$B$55,2,FALSE)),"",VLOOKUP(BU27,Lune!$A$2:$B$55,2,FALSE)) | BY27: =IFERROR(IF(COUNTIF(Saints!$C$2:$C$371,BU27)=0,"",INDEX(Saints!$D$2:$D$371,MATCH(BU27,Saints!$C$2:$C$371,0))),"") -> Edmond | BZ27: =IF(COUNTIF(Parametre!$C$27:$C$39,BU27)=0,"",INDEX(Parametre!$B$27:$B$39,MATCH(BU27,Parametre!$C$27:$C$39,0)))&""&IF(COUNTIF(Parametre!$I$45:$I$94,BU27)=0,"",INDEX(Parametre!$K$45:$K$94,MATCH(BU27,Parametre!$I$45:$I$94,0))) | CB27: =CB26+1 -> 44185 | CD27: =IF(WEEKDAY(CB27)=2,INT(MOD(INT((CB27-2)/7)+0.6,52+5/28))+1,"") | CE27: =IF(ISERROR(VLOOKUP(CB27,Lune!$A$2:$B$55,2,FALSE)),"",VLOOKUP(CB27,Lune!$A$2:$B$55,2,FALSE)) | CF27: =IFERROR(IF(COUNTIF(Saints!$C$2:$C$371,CB27)=0,"",INDEX(Saints!$D$2:$D$371,MATCH(CB27,Saints!$C$2:$C$371,0))),"") -> Abraham | CG27: =IF(COUNTIF(Parametre!$C$27:$C$39,CB27)=0,"",INDEX(Parametre!$B$27:$B$39,MATCH(CB27,Parametre!$C$27:$C$39,0)))&" "&IF(COUNTIF(Parametre!$I$45:$I$94,CB27)=0,"",INDEX(Parametre!$K$45:$K$94,MATCH(CB27,Parametre!$I$45:$I$94,0)))
B28: 21 | C28: =C27+1 -> 43851 | E28: =IF(WEEKDAY(C28)=2,INT(MOD(INT((C28-2)/7)+0.6,52+5/28))+1,"") | F28: =IF(ISERROR(VLOOKUP(C28,Lune!$A$2:$B$55,2,FALSE)),"",VLOOKUP(C28,Lune!$A$2:$B$55,2,FALSE)) | G28: =IFERROR(IF(COUNTIF(Saints!$C$2:$C$371,C28)=0,"",INDEX(Saints!$D$2:$D$371,MATCH(C28,Saints!$C$2:$C$371,0))),"") -> Agnès | H28: =IF(COUNTIF(Parametre!$C$27:$C$39,C28)=0,"",INDEX(Parametre!$B$27:$B$39,MATCH(C28,Parametre!$C$27:$C$39,0)))&""&IF(COUNTIF(Parametre!$I$45:$I$94,C28)=0,"",INDEX(Parametre!$K$45:$K$94,MATCH(C28,Parametre!$I$45:$I$94,0))) | J28: =J27+1 -> 43882 | L28: =IF(WEEKDAY(J28)=2,INT(MOD(INT((J28-2)/7)+0.6,52+5/28))+1,"") | M28: =IF(ISERROR(VLOOKUP(J28,Lune!$A$2:$B$55,2,FALSE)),"",VLOOKUP(J28,Lune!$A$2:$B$55,2,FALSE)) | N28: =IFERROR(IF(COUNTIF(Saints!$C$2:$C$371,J28)=0,"",INDEX(Saints!$D$2:$D$371,MATCH(J28,Saints!$C$2:$C$371,0))),"") -> Damien | O28: =IF(COUNTIF(Parametre!$C$27:$C$39,J28)=0,"",INDEX(Parametre!$B$27:$B$39,MATCH(J28,Parametre!$C$27:$C$39,0)))&""&IF(COUNTIF(Parametre!$I$45:$I$94,J28)=0,"",INDEX(Parametre!$K$45:$K$94,MATCH(J28,Parametre!$I$45:$I$94,0))) | Q28: =Q27+1 -> 43911 | S28: =IF(WEEKDAY(Q28)=2,INT(MOD(INT((Q28-2)/7)+0.6,52+5/28))+1,"") | T28: =IF(ISERROR(VLOOKUP(Q28,Lune!$A$2:$B$55,2,FALSE)),"",VLOOKUP(Q28,Lune!$A$2:$B$55,2,FALSE)) | U28: =IFERROR(IF(COUNTIF(Saints!$C$2:$C$371,Q28)=0,"",INDEX(Saints!$D$2:$D$371,MATCH(Q28,Saints!$C$2:$C$371,0))),"") -> Clémence | V28: =IF(COUNTIF(Parametre!$C$27:$C$39,Q28)=0,"",INDEX(Parametre!$B$27:$B$39,MATCH(Q28,Parametre!$C$27:$C$39,0)))&""&IF(COUNTIF(Parametre!$I$45:$I$94,Q28)=0,"",INDEX(Parametre!$K$45:$K$94,MATCH(Q28,Parametre!$I$45:$I$94,0))) | X28: =X27+1 -> 43942 | Z28: =IF(WEEKDAY(X28)=2,INT(MOD(INT((X28-2)/7)+0.6,52+5/28))+1,"") | AA28: =IF(ISERROR(VLOOKUP(X28,Lune!$A$2:$B$55,2,FALSE)),"",VLOOKUP(X28,Lune!$A$2:$B$55,2,FALSE)) | AB28: =IFERROR(IF(COUNTIF(Saints!$C$2:$C$371,X28)=0,"",INDEX(Saints!$D$2:$D$371,MATCH(X28,Saints!$C$2:$C$371,0))),"") -> Anselme | AC28: =IF(COUNTIF(Parametre!$C$27:$C$39,X28)=0,"",INDEX(Parametre!$B$27:$B$39,MATCH(X28,Parametre!$C$27:$C$39,0)))&""&IF(COUNTIF(Parametre!$I$45:$I$94,X28)=0,"",INDEX(Parametre!$K$45:$K$94,MATCH(X28,Parametre!$I$45:$I$94,0))) -> 35 an Orane | AE28: =AE27+1 -> 43972 | AG28: =IF(WEEKDAY(AE28)=2,INT(MOD(INT((AE28-2)/7)+0.6,52+5/28))+1,"") | AH28: =IF(ISERROR(VLOOKUP(AE28,[1]Lune!$A$2:$B$55,2,FALSE)),"",VLOOKUP(AE28,[1]Lune!$A$2:$B$55,2,FALSE)) | AI28: =IFERROR(IF(COUNTIF(Saints!$C$2:$C$371,AE28)=0,"",INDEX(Saints!$D$2:$D$371,MATCH(AE28,Saints!$C$2:$C$371,0))),"") -> Constantin | AJ28: =IF(COUNTIF(Parametre!$C$27:$C$39,AE28)=0,"",INDEX(Parametre!$B$27:$B$39,MATCH(AE28,Parametre!$C$27:$C$39,0)))&""&IF(COUNTIF(Parametre!$I$45:$I$94,AE28)=0,"",INDEX(Parametre!$K$45:$K$94,MATCH(AE28,Parametre!$I$45:$I$94,0))) -> Ascension | AL28: =AL27+1 -> 44003 | AN28: =IFERROR(IF(WEEKDAY(AL28)=2,INT(MOD(INT((AL28-2)/7)+0.6,52+5/28))+1,""),"") | AO28: =IF(ISERROR(VLOOKUP(AL28,Lune!$A$2:$B$55,2,FALSE)),"",VLOOKUP(AL28,Lune!$A$2:$B$55,2,FALSE)) ->  | AP28: =IFERROR(IF(COUNTIF(Saints!$C$2:$C$371,AL28)=0,"",INDEX(Saints!$D$2:$D$371,MATCH(AL28,Saints!$C$2:$C$371,0))),"") -> Gonzague | AQ28: =IF(COUNTIF(Parametre!$C$27:$C$39,AL28)=0,"",INDEX(Parametre!$B$27:$B$39,MATCH(AL28,Parametre!$C$27:$C$39,0)))&""&IF(COUNTIF(Parametre!$I$45:$I$94,AL28)=0,"",INDEX(Parametre!$K$45:$K$94,MATCH(AL28,Parametre!$I$45:$I$94,0))) -> F. des pères | AS28: =AS27+1 -> 44033 | AU28: =IF(WEEKDAY(AS28)=2,INT(MOD(INT((AS28-2)/7)+0.6,52+5/28))+1,"") | AV28: =IF(ISERROR(VLOOKUP(AS28,Lune!$A$2:$B$55,2,FALSE)),"",VLOOKUP(AS28,Lune!$A$2:$B$55,2,FALSE)) | AW28: =IFERROR(IF(COUNTIF(Saints!$C$2:$C$371,AS28)=0,"",INDEX(Saints!$D$2:$D$371,MATCH(AS28,Saints!$C$2:$C$371,0))),"") -> Victor | AX28: =IF(COUNTIF(Parametre!$C$27:$C$39,AS28)=0,"",INDEX(Parametre!$B$27:$B$39,MATCH(AS28,Parametre!$C$27:$C$39,0)))&""&IF(COUNTIF(Parametre!$I$45:$I$94,AS28)=0,"",INDEX(Parametre!$K$45:$K$94,MATCH(AS28,Parametre!$I$45:$I$94,0))) | AZ28: =AZ27+1 -> 44064 | BB28: =IF(WEEKDAY(AZ28)=2,INT(MOD(INT((AZ28-2)/7)+0.6,52+5/28))+1,"") | BC28: =IF(ISERROR(VLOOKUP(AZ28,Lune!$A$2:$B$55,2,FALSE)),"",VLOOKUP(AZ28,Lune!$A$2:$B$55,2,FALSE)) | BD28: =IFERROR(IF(COUNTIF(Saints!$C$2:$C$371,AZ28)=0,"",INDEX(Saints!$D$2:$D$371,MATCH(AZ28,Saints!$C$2:$C$371,0))),"") -> Christophe | BE28: =IF(COUNTIF(Parametre!$C$27:$C$39,AZ28)=0,"",INDEX(Parametre!$B$27:$B$39,MATCH(AZ28,Parametre!$C$27:$C$39,0)))&""&IF(COUNTIF(Parametre!$I$45:$I$94,AZ28)=0,"",INDEX(Parametre!$K$45:$K$94,MATCH(AZ28,Parametre!$I$45:$I$94,0))) | BG28: =BG27+1 -> 44095 | BI28: =IF(WEEKDAY(BG28)=2,INT(MOD(INT((BG28-2)/7)+0.6,52+5/28))+1,"") -> 39 | BJ28: =IF(ISERROR(VLOOKUP(BG28,Lune!$A$2:$B$55,2,FALSE)),"",VLOOKUP(BG28,Lune!$A$2:$B$55,2,FALSE)) | BK28: =IFERROR(IF(COUNTIF(Saints!$C$2:$C$371,BG28)=0,"",INDEX(Saints!$D$2:$D$371,MATCH(BG28,Saints!$C$2:$C$371,0))),"") -> Matthieu | BL28: =IF(COUNTIF(Parametre!$C$27:$C$39,BG28)=0,"",INDEX(Parametre!$B$27:$B$39,MATCH(BG28,Parametre!$C$27:$C$39,0)))&""&IF(COUNTIF(Parametre!$I$45:$I$94,BG28)=0,"",INDEX(Parametre!$K$45:$K$94,MATCH(BG28,Parametre!$I$45:$I$94,0))) | BN28: =BN27+1 -> 44125 | BP28: =IF(WEEKDAY(BN28)=2,INT(MOD(INT((BN28-2)/7)+0.6,52+5/28))+1,"") | BQ28: =IF(ISERROR(VLOOKUP(BN28,Lune!$A$2:$B$55,2,FALSE)),"",VLOOKUP(BN28,Lune!$A$2:$B$55,2,FALSE)) | BR28: =IFERROR(IF(COUNTIF(Saints!$C$2:$C$371,BN28)=0,"",INDEX(Saints!$D$2:$D$371,MATCH(BN28,Saints!$C$2:$C$371,0))),"") -> Céline | BS28: =IF(COUNTIF(Parametre!$C$27:$C$39,BN28)=0,"",INDEX(Parametre!$B$27:$B$39,MATCH(BN28,Parametre!$C$27:$C$39,0)))&""&IF(COUNTIF(Parametre!$I$45:$I$94,BN28)=0,"",INDEX(Parametre!$K$45:$K$94,MATCH(BN28,Parametre!$I$45:$I$94,0))) | BU28: =BU27+1 -> 44156 | BW28: =IF(WEEKDAY(BU28)=2,INT(MOD(INT((BU28-2)/7)+0.6,52+5/28))+1,"") | BX28: =IF(ISERROR(VLOOKUP(BU28,Lune!$A$2:$B$55,2,FALSE)),"",VLOOKUP(BU28,Lune!$A$2:$B$55,2,FALSE)) | BY28: =IFERROR(IF(COUNTIF(Saints!$C$2:$C$371,BU28)=0,"",INDEX(Saints!$D$2:$D$371,MATCH(BU28,Saints!$C$2:$C$371,0))),"") -> Gélase | BZ28: =IF(COUNTIF(Parametre!$C$27:$C$39,BU28)=0,"",INDEX(Parametre!$B$27:$B$39,MATCH(BU28,Parametre!$C$27:$C$39,0)))&""&IF(COUNTIF(Parametre!$I$45:$I$94,BU28)=0,"",INDEX(Parametre!$K$45:$K$94,MATCH(BU28,Parametre!$I$45:$I$94,0))) | CB28: =CB27+1 -> 44186 | CD28: =IF(WEEKDAY(CB28)=2,INT(MOD(INT((CB28-2)/7)+0.6,52+5/28))+1,"") -> 52 | CE28: =IF(ISERROR(VLOOKUP(CB28,Lune!$A$2:$B$55,2,FALSE)),"",VLOOKUP(CB28,Lune!$A$2:$B$55,2,FALSE)) | CF28: =IFERROR(IF(COUNTIF(Saints!$C$2:$C$371,CB28)=0,"",INDEX(Saints!$D$2:$D$371,MATCH(CB28,Saints!$C$2:$C$371,0))),"") -> Hiver | CG28: =IF(COUNTIF(Parametre!$C$27:$C$39,CB28)=0,"",INDEX(Parametre!$B$27:$B$39,MATCH(CB28,Parametre!$C$27:$C$39,0)))&" "&IF(COUNTIF(Parametre!$I$45:$I$94,CB28)=0,"",INDEX(Parametre!$K$45:$K$94,MATCH(CB28,Parametre!$I$45:$I$94,0))) -> Hiver
B29: 22 | C29: =C28+1 -> 43852 | E29: =IF(WEEKDAY(C29)=2,INT(MOD(INT((C29-2)/7)+0.6,52+5/28))+1,"") | F29: =IF(ISERROR(VLOOKUP(C29,Lune!$A$2:$B$55,2,FALSE)),"",VLOOKUP(C29,Lune!$A$2:$B$55,2,FALSE)) | G29: =IFERROR(IF(COUNTIF(Saints!$C$2:$C$371,C29)=0,"",INDEX(Saints!$D$2:$D$371,MATCH(C29,Saints!$C$2:$C$371,0))),"") -> Vincent | H29: =IF(COUNTIF(Parametre!$C$27:$C$39,C29)=0,"",INDEX(Parametre!$B$27:$B$39,MATCH(C29,Parametre!$C$27:$C$39,0)))&""&IF(COUNTIF(Parametre!$I$45:$I$94,C29)=0,"",INDEX(Parametre!$K$45:$K$94,MATCH(C29,Parametre!$I$45:$I$94,0))) | J29: =J28+1 -> 43883 | L29: =IF(WEEKDAY(J29)=2,INT(MOD(INT((J29-2)/7)+0.6,52+5/28))+1,"") | M29: =IF(ISERROR(VLOOKUP(J29,Lune!$A$2:$B$55,2,FALSE)),"",VLOOKUP(J29,Lune!$A$2:$B$55,2,FALSE)) | N29: =IFERROR(IF(COUNTIF(Saints!$C$2:$C$371,J29)=0,"",INDEX(Saints!$D$2:$D$371,MATCH(J29,Saints!$C$2:$C$371,0))),"") -> Isabelle | O29: =IF(COUNTIF(Parametre!$C$27:$C$39,J29)=0,"",INDEX(Parametre!$B$27:$B$39,MATCH(J29,Parametre!$C$27:$C$39,0)))&""&IF(COUNTIF(Parametre!$I$45:$I$94,J29)=0,"",INDEX(Parametre!$K$45:$K$94,MATCH(J29,Parametre!$I$45:$I$94,0))) | Q29: =Q28+1 -> 43912 | S29: =IF(WEEKDAY(Q29)=2,INT(MOD(INT((Q29-2)/7)+0.6,52+5/28))+1,"") | T29: =IF(ISERROR(VLOOKUP(Q29,Lune!$A$2:$B$55,2,FALSE)),"",VLOOKUP(Q29,Lune!$A$2:$B$55,2,FALSE)) | U29: =IFERROR(IF(COUNTIF(Saints!$C$2:$C$371,Q29)=0,"",INDEX(Saints!$D$2:$D$371,MATCH(Q29,Saints!$C$2:$C$371,0))),"") -> Léa | V29: =IF(COUNTIF(Parametre!$C$27:$C$39,Q29)=0,"",INDEX(Parametre!$B$27:$B$39,MATCH(Q29,Parametre!$C$27:$C$39,0)))&""&IF(COUNTIF(Parametre!$I$45:$I$94,Q29)=0,"",INDEX(Parametre!$K$45:$K$94,MATCH(Q29,Parametre!$I$45:$I$94,0))) | X29: =X28+1 -> 43943 | Z29: =IF(WEEKDAY(X29)=2,INT(MOD(INT((X29-2)/7)+0.6,52+5/28))+1,"") | AA29: =IF(ISERROR(VLOOKUP(X29,Lune!$A$2:$B$55,2,FALSE)),"",VLOOKUP(X29,Lune!$A$2:$B$55,2,FALSE)) | AB29: =IFERROR(IF(COUNTIF(Saints!$C$2:$C$371,X29)=0,"",INDEX(Saints!$D$2:$D$371,MATCH(X29,Saints!$C$2:$C$371,0))),"") -> Alexandre | AC29: =IF(COUNTIF(Parametre!$C$27:$C$39,X29)=0,"",INDEX(Parametre!$B$27:$B$39,MATCH(X29,Parametre!$C$27:$C$39,0)))&""&IF(COUNTIF(Parametre!$I$45:$I$94,X29)=0,"",INDEX(Parametre!$K$45:$K$94,MATCH(X29,Parametre!$I$45:$I$94,0))) | AE29: =AE28+1 -> 43973 | AG29: =IF(WEEKDAY(AE29)=2,INT(MOD(INT((AE29-2)/7)+0.6,52+5/28))+1,"") | AH29: =IF(ISERROR(VLOOKUP(AE29,[1]Lune!$A$2:$B$55,2,FALSE)),"",VLOOKUP(AE29,[1]Lune!$A$2:$B$55,2,FALSE)) ->  | AI29: =IFERROR(IF(COUNTIF(Saints!$C$2:$C$371,AE29)=0,"",INDEX(Saints!$D$2:$D$371,MATCH(AE29,Saints!$C$2:$C$371,0))),"") -> Emilie | AJ29: =IF(COUNTIF(Parametre!$C$27:$C$39,AE29)=0,"",INDEX(Parametre!$B$27:$B$39,MATCH(AE29,Parametre!$C$27:$C$39,0)))&""&IF(COUNTIF(Parametre!$I$45:$I$94,AE29)=0,"",INDEX(Parametre!$K$45:$K$94,MATCH(AE29,Parametre!$I$45:$I$94,0))) | AL29: =AL28+1 -> 44004 | AN29: =IFERROR(IF(WEEKDAY(AL29)=2,INT(MOD(INT((AL29-2)/7)+0.6,52+5/28))+1,""),"") -> 26 | AO29: =IF(ISERROR(VLOOKUP(AL29,Lune!$A$2:$B$55,2,FALSE)),"",VLOOKUP(AL29,Lune!$A$2:$B$55,2,FALSE)) | AP29: =IFERROR(IF(COUNTIF(Saints!$C$2:$C$371,AL29)=0,"",INDEX(Saints!$D$2:$D$371,MATCH(AL29,Saints!$C$2:$C$371,0))),"") -> Alban | AQ29: =IF(COUNTIF(Parametre!$C$27:$C$39,AL29)=0,"",INDEX(Parametre!$B$27:$B$39,MATCH(AL29,Parametre!$C$27:$C$39,0)))&""&IF(COUNTIF(Parametre!$I$45:$I$94,AL29)=0,"",INDEX(Parametre!$K$45:$K$94,MATCH(AL29,Parametre!$I$45:$I$94,0))) | AS29: =AS28+1 -> 44034 | AU29: =IFERROR(IF(WEEKDAY(AS29)=2,INT(MOD(INT((AS29-2)/7)+0.6,52+5/28))+1,""),"") | AV29: =IF(ISERROR(VLOOKUP(AS29,Lune!$A$2:$B$55,2,FALSE)),"",VLOOKUP(AS29,Lune!$A$2:$B$55,2,FALSE)) | AW29: =IFERROR(IF(COUNTIF(Saints!$C$2:$C$371,AS29)=0,"",INDEX(Saints!$D$2:$D$371,MATCH(AS29,Saints!$C$2:$C$371,0))),"") -> Marie Madeleine | AX29: =IF(COUNTIF(Parametre!$C$27:$C$39,AS29)=0,"",INDEX(Parametre!$B$27:$B$39,MATCH(AS29,Parametre!$C$27:$C$39,0)))&""&IF(COUNTIF(Parametre!$I$45:$I$94,AS29)=0,"",INDEX(Parametre!$K$45:$K$94,MATCH(AS29,Parametre!$I$45:$I$94,0))) | AZ29: =AZ28+1 -> 44065 | BB29: =IF(WEEKDAY(AZ29)=2,INT(MOD(INT((AZ29-2)/7)+0.6,52+5/28))+1,"") | BC29: =IF(ISERROR(VLOOKUP(AZ29,Lune!$A$2:$B$55,2,FALSE)),"",VLOOKUP(AZ29,Lune!$A$2:$B$55,2,FALSE)) | BD29: =IFERROR(IF(COUNTIF(Saints!$C$2:$C$371,AZ29)=0,"",INDEX(Saints!$D$2:$D$371,MATCH(AZ29,Saints!$C$2:$C$371,0))),"") -> Fabrice | BE29: =IF(COUNTIF(Parametre!$C$27:$C$39,AZ29)=0,"",INDEX(Parametre!$B$27:$B$39,MATCH(AZ29,Parametre!$C$27:$C$39,0)))&""&IF(COUNTIF(Parametre!$I$45:$I$94,AZ29)=0,"",INDEX(Parametre!$K$45:$K$94,MATCH(AZ29,Parametre!$I$45:$I$94,0))) | BG29: =BG28+1 -> 44096 | BI29: =IF(WEEKDAY(BG29)=2,INT(MOD(INT((BG29-2)/7)+0.6,52+5/28))+1,"") | BJ29: =IF(ISERROR(VLOOKUP(BG29,Lune!$A$2:$B$55,2,FALSE)),"",VLOOKUP(BG29,Lune!$A$2:$B$55,2,FALSE)) | BK29: =IFERROR(IF(COUNTIF(Saints!$C$2:$C$371,BG29)=0,"",INDEX(Saints!$D$2:$D$371,MATCH(BG29,Saints!$C$2:$C$371,0))),"") -> Maurice | BL29: =IF(COUNTIF(Parametre!$C$27:$C$39,BG29)=0,"",INDEX(Parametre!$B$27:$B$39,MATCH(BG29,Parametre!$C$27:$C$39,0)))&""&IF(COUNTIF(Parametre!$I$45:$I$94,BG29)=0,"",INDEX(Parametre!$K$45:$K$94,MATCH(BG29,Parametre!$I$45:$I$94,0))) -> Automne | BN29: =BN28+1 -> 44126 | BP29: =IF(WEEKDAY(BN29)=2,INT(MOD(INT((BN29-2)/7)+0.6,52+5/28))+1,"") | BQ29: =IF(ISERROR(VLOOKUP(BN29,Lune!$A$2:$B$55,2,FALSE)),"",VLOOKUP(BN29,Lune!$A$2:$B$55,2,FALSE)) | BR29: =IFERROR(IF(COUNTIF(Saints!$C$2:$C$371,BN29)=0,"",INDEX(Saints!$D$2:$D$371,MATCH(BN29,Saints!$C$2:$C$371,0))),"") -> Elodie | BS29: =IF(COUNTIF(Parametre!$C$27:$C$39,BN29)=0,"",INDEX(Parametre!$B$27:$B$39,MATCH(BN29,Parametre!$C$27:$C$39,0)))&""&IF(COUNTIF(Parametre!$I$45:$I$94,BN29)=0,"",INDEX(Parametre!$K$45:$K$94,MATCH(BN29,Parametre!$I$45:$I$94,0))) | BU29: =BU28+1 -> 44157 | BW29: =IF(WEEKDAY(BU29)=2,INT(MOD(INT((BU29-2)/7)+0.6,52+5/28))+1,"") | BX29: =IF(ISERROR(VLOOKUP(BU29,Lune!$A$2:$B$55,2,FALSE)),"",VLOOKUP(BU29,Lune!$A$2:$B$55,2,FALSE)) ->  | BY29: =IFERROR(IF(COUNTIF(Saints!$C$2:$C$371,BU29)=0,"",INDEX(Saints!$D$2:$D$371,MATCH(BU29,Saints!$C$2:$C$371,0))),"") -> Cécile | BZ29: =IF(COUNTIF(Parametre!$C$27:$C$39,BU29)=0,"",INDEX(Parametre!$B$27:$B$39,MATCH(BU29,Parametre!$C$27:$C$39,0)))&""&IF(COUNTIF(Parametre!$I$45:$I$94,BU29)=0,"",INDEX(Parametre!$K$45:$K$94,MATCH(BU29,Parametre!$I$45:$I$94,0))) | CB29: =CB28+1 -> 44187 | CD29: =IF(WEEKDAY(CB29)=2,INT(MOD(INT((CB29-2)/7)+0.6,52+5/28))+1,"") | CE29: =IF(ISERROR(VLOOKUP(CB29,Lune!$A$2:$B$55,2,FALSE)),"",VLOOKUP(CB29,Lune!$A$2:$B$55,2,FALSE)) ->  | CF29: =IFERROR(IF(COUNTIF(Saints!$C$2:$C$371,CB29)=0,"",INDEX(Saints!$D$2:$D$371,MATCH(CB29,Saints!$C$2:$C$371,0))),"") -> Xavière | CG29: =IF(COUNTIF(Parametre!$C$27:$C$39,CB29)=0,"",INDEX(Parametre!$B$27:$B$39,MATCH(CB29,Parametre!$C$27:$C$39,0)))&" "&IF(COUNTIF(Parametre!$I$45:$I$94,CB29)=0,"",INDEX(Parametre!$K$45:$K$94,MATCH(CB29,Parametre!$I$45:$I$94,0)))
B30: 23 | C30: =C29+1 -> 43853 | E30: =IF(WEEKDAY(C30)=2,INT(MOD(INT((C30-2)/7)+0.6,52+5/28))+1,"") | F30: =IF(ISERROR(VLOOKUP(C30,Lune!$A$2:$B$55,2,FALSE)),"",VLOOKUP(C30,Lune!$A$2:$B$55,2,FALSE)) | G30: =IFERROR(IF(COUNTIF(Saints!$C$2:$C$371,C30)=0,"",INDEX(Saints!$D$2:$D$371,MATCH(C30,Saints!$C$2:$C$371,0))),"") -> Barnard | H30: =IF(COUNTIF(Parametre!$C$27:$C$39,C30)=0,"",INDEX(Parametre!$B$27:$B$39,MATCH(C30,Parametre!$C$27:$C$39,0)))&""&IF(COUNTIF(Parametre!$I$45:$I$94,C30)=0,"",INDEX(Parametre!$K$45:$K$94,MATCH(C30,Parametre!$I$45:$I$94,0))) | J30: =J29+1 -> 43884 | L30: =IF(WEEKDAY(J30)=2,INT(MOD(INT((J30-2)/7)+0.6,52+5/28))+1,"") | M30: =IF(ISERROR(VLOOKUP(J30,Lune!$A$2:$B$55,2,FALSE)),"",VLOOKUP(J30,Lune!$A$2:$B$55,2,FALSE)) ->  | N30: =IFERROR(IF(COUNTIF(Saints!$C$2:$C$371,J30)=0,"",INDEX(Saints!$D$2:$D$371,MATCH(J30,Saints!$C$2:$C$371,0))),"") -> Lazare | O30: =IF(COUNTIF(Parametre!$C$27:$C$39,J30)=0,"",INDEX(Parametre!$B$27:$B$39,MATCH(J30,Parametre!$C$27:$C$39,0)))&""&IF(COUNTIF(Parametre!$I$45:$I$94,J30)=0,"",INDEX(Parametre!$K$45:$K$94,MATCH(J30,Parametre!$I$45:$I$94,0))) | Q30: =Q29+1 -> 43913 | S30: =IF(WEEKDAY(Q30)=2,INT(MOD(INT((Q30-2)/7)+0.6,52+5/28))+1,"") -> 13 | T30: =IF(ISERROR(VLOOKUP(Q30,Lune!$A$2:$B$55,2,FALSE)),"",VLOOKUP(Q30,Lune!$A$2:$B$55,2,FALSE)) | U30: =IFERROR(IF(COUNTIF(Saints!$C$2:$C$371,Q30)=0,"",INDEX(Saints!$D$2:$D$371,MATCH(Q30,Saints!$C$2:$C$371,0))),"") -> Victoria | V30: =IF(COUNTIF(Parametre!$C$27:$C$39,Q30)=0,"",INDEX(Parametre!$B$27:$B$39,MATCH(Q30,Parametre!$C$27:$C$39,0)))&""&IF(COUNTIF(Parametre!$I$45:$I$94,Q30)=0,"",INDEX(Parametre!$K$45:$K$94,MATCH(Q30,Parametre!$I$45:$I$94,0))) | X30: =X29+1 -> 43944 | Z30: =IF(WEEKDAY(X30)=2,INT(MOD(INT((X30-2)/7)+0.6,52+5/28))+1,"") | AA30: =IF(ISERROR(VLOOKUP(X30,Lune!$A$2:$B$55,2,FALSE)),"",VLOOKUP(X30,Lune!$A$2:$B$55,2,FALSE)) ->  | AB30: =IFERROR(IF(COUNTIF(Saints!$C$2:$C$371,X30)=0,"",INDEX(Saints!$D$2:$D$371,MATCH(X30,Saints!$C$2:$C$371,0))),"") -> Georges | AC30: =IF(COUNTIF(Parametre!$C$27:$C$39,X30)=0,"",INDEX(Parametre!$B$27:$B$39,MATCH(X30,Parametre!$C$27:$C$39,0)))&""&IF(COUNTIF(Parametre!$I$45:$I$94,X30)=0,"",INDEX(Parametre!$K$45:$K$94,MATCH(X30,Parametre!$I$45:$I$94,0))) -> 12 an Émma | AE30: =AE29+1 -> 43974 | AG30: =IF(WEEKDAY(AE30)=2,INT(MOD(INT((AE30-2)/7)+0.6,52+5/28))+1,"") | AH30: =IF(ISERROR(VLOOKUP(AE30,[1]Lune!$A$2:$B$55,2,FALSE)),"",VLOOKUP(AE30,[1]Lune!$A$2:$B$55,2,FALSE)) | AI30: =IFERROR(IF(COUNTIF(Saints!$C$2:$C$371,AE30)=0,"",INDEX(Saints!$D$2:$D$371,MATCH(AE30,Saints!$C$2:$C$371,0))),"") -> Didier | AJ30: =IF(COUNTIF(Parametre!$C$27:$C$39,AE30)=0,"",INDEX(Parametre!$B$27:$B$39,MATCH(AE30,Parametre!$C$27:$C$39,0)))&""&IF(COUNTIF(Parametre!$I$45:$I$94,AE30)=0,"",INDEX(Parametre!$K$45:$K$94,MATCH(AE30,Parametre!$I$45:$I$94,0))) | AL30: =AL29+1 -> 44005 | AN30: =IFERROR(IF(WEEKDAY(AL30)=2,INT(MOD(INT((AL30-2)/7)+0.6,52+5/28))+1,""),"") | AO30: =IF(ISERROR(VLOOKUP(AL30,Lune!$A$2:$B$55,2,FALSE)),"",VLOOKUP(AL30,Lune!$A$2:$B$55,2,FALSE)) | AP30: =IFERROR(IF(COUNTIF(Saints!$C$2:$C$371,AL30)=0,"",INDEX(Saints!$D$2:$D$371,MATCH(AL30,Saints!$C$2:$C$371,0))),"") -> Audrey | AQ30: =IF(COUNTIF(Parametre!$C$27:$C$39,AL30)=0,"",INDEX(Parametre!$B$27:$B$39,MATCH(AL30,Parametre!$C$27:$C$39,0)))&""&IF(COUNTIF(Parametre!$I$45:$I$94,AL30)=0,"",INDEX(Parametre!$K$45:$K$94,MATCH(AL30,Parametre!$I$45:$I$94,0))) | AS30: =AS29+1 -> 44035 | AU30: =IFERROR(IF(WEEKDAY(AS30)=2,INT(MOD(INT((AS30-2)/7)+0.6,52+5/28))+1,""),"") | AV30: =IF(ISERROR(VLOOKUP(AS30,Lune!$A$2:$B$55,2,FALSE)),"",VLOOKUP(AS30,Lune!$A$2:$B$55,2,FALSE)) | AW30: =IFERROR(IF(COUNTIF(Saints!$C$2:$C$371,AS30)=0,"",INDEX(Saints!$D$2:$D$371,MATCH(AS30,Saints!$C$2:$C$371,0))),"") -> Brigitte | AX30: =IF(COUNTIF(Parametre!$C$27:$C$39,AS30)=0,"",INDEX(Parametre!$B$27:$B$39,MATCH(AS30,Parametre!$C$27:$C$39,0)))&""&IF(COUNTIF(Parametre!$I$45:$I$94,AS30)=0,"",INDEX(Parametre!$K$45:$K$94,MATCH(AS30,Parametre!$I$45:$I$94,0))) | AZ30: =AZ29+1 -> 44066 | BB30: =IF(WEEKDAY(AZ30)=2,INT(MOD(INT((AZ30-2)/7)+0.6,52+5/28))+1,"") | BC30: =IF(ISERROR(VLOOKUP(AZ30,Lune!$A$2:$B$55,2,FALSE)),"",VLOOKUP(AZ30,Lune!$A$2:$B$55,2,FALSE)) | BD30: =IFERROR(IF(COUNTIF(Saints!$C$2:$C$371,AZ30)=0,"",INDEX(Saints!$D$2:$D$371,MATCH(AZ30,Saints!$C$2:$C$371,0))),"") -> Rose | BE30: =IF(COUNTIF(Parametre!$C$27:$C$39,AZ30)=0,"",INDEX(Parametre!$B$27:$B$39,MATCH(AZ30,Parametre!$C$27:$C$39,0)))&""&IF(COUNTIF(Parametre!$I$45:$I$94,AZ30)=0,"",INDEX(Parametre!$K$45:$K$94,MATCH(AZ30,Parametre!$I$45:$I$94,0))) | BG30: =BG29+1 -> 44097 | BI30: =IF(WEEKDAY(BG30)=2,INT(MOD(INT((BG30-2)/7)+0.6,52+5/28))+1,"") | BJ30: =IF(ISERROR(VLOOKUP(BG30,Lune!$A$2:$B$55,2,FALSE)),"",VLOOKUP(BG30,Lune!$A$2:$B$55,2,FALSE)) | BK30: =IFERROR(IF(COUNTIF(Saints!$C$2:$C$371,BG30)=0,"",INDEX(Saints!$D$2:$D$371,MATCH(BG30,Saints!$C$2:$C$371,0))),"") -> Constant | BL30: =IF(COUNTIF(Parametre!$C$27:$C$39,BG30)=0,"",INDEX(Parametre!$B$27:$B$39,MATCH(BG30,Parametre!$C$27:$C$39,0)))&""&IF(COUNTIF(Parametre!$I$45:$I$94,BG30)=0,"",INDEX(Parametre!$K$45:$K$94,MATCH(BG30,Parametre!$I$45:$I$94,0))) | BN30: =BN29+1 -> 44127 | BP30: =IF(WEEKDAY(BN30)=2,INT(MOD(INT((BN30-2)/7)+0.6,52+5/28))+1,"") | BQ30: =IF(ISERROR(VLOOKUP(BN30,Lune!$A$2:$B$55,2,FALSE)),"",VLOOKUP(BN30,Lune!$A$2:$B$55,2,FALSE)) ->  | BR30: =IFERROR(IF(COUNTIF(Saints!$C$2:$C$371,BN30)=0,"",INDEX(Saints!$D$2:$D$371,MATCH(BN30,Saints!$C$2:$C$371,0))),"") -> Jean de Cap. | BS30: =IF(COUNTIF(Parametre!$C$27:$C$39,BN30)=0,"",INDEX(Parametre!$B$27:$B$39,MATCH(BN30,Parametre!$C$27:$C$39,0)))&""&IF(COUNTIF(Parametre!$I$45:$I$94,BN30)=0,"",INDEX(Parametre!$K$45:$K$94,MATCH(BN30,Parametre!$I$45:$I$94,0))) | BU30: =BU29+1 -> 44158 | BW30: =IF(WEEKDAY(BU30)=2,INT(MOD(INT((BU30-2)/7)+0.6,52+5/28))+1,"") -> 48 | BX30: =IF(ISERROR(VLOOKUP(BU30,Lune!$A$2:$B$55,2,FALSE)),"",VLOOKUP(BU30,Lune!$A$2:$B$55,2,FALSE)) | BY30: =IFERROR(IF(COUNTIF(Saints!$C$2:$C$371,BU30)=0,"",INDEX(Saints!$D$2:$D$371,MATCH(BU30,Saints!$C$2:$C$371,0))),"") -> Clément | BZ30: =IF(COUNTIF(Parametre!$C$27:$C$39,BU30)=0,"",INDEX(Parametre!$B$27:$B$39,MATCH(BU30,Parametre!$C$27:$C$39,0)))&""&IF(COUNTIF(Parametre!$I$45:$I$94,BU30)=0,"",INDEX(Parametre!$K$45:$K$94,MATCH(BU30,Parametre!$I$45:$I$94,0))) | CB30: =CB29+1 -> 44188 | CD30: =IF(WEEKDAY(CB30)=2,INT(MOD(INT((CB30-2)/7)+0.6,52+5/28))+1,"") | CE30: =IF(ISERROR(VLOOKUP(CB30,Lune!$A$2:$B$55,2,FALSE)),"",VLOOKUP(CB30,Lune!$A$2:$B$55,2,FALSE)) | CF30: =IFERROR(IF(COUNTIF(Saints!$C$2:$C$371,CB30)=0,"",INDEX(Saints!$D$2:$D$371,MATCH(CB30,Saints!$C$2:$C$371,0))),"") -> Armand | CG30: =IF(COUNTIF(Parametre!$C$27:$C$39,CB30)=0,"",INDEX(Parametre!$B$27:$B$39,MATCH(CB30,Parametre!$C$27:$C$39,0)))&" "&IF(COUNTIF(Parametre!$I$45:$I$94,CB30)=0,"",INDEX(Parametre!$K$45:$K$94,MATCH(CB30,Parametre!$I$45:$I$94,0)))
B31: 24 | C31: =C30+1 -> 43854 | E31: =IF(WEEKDAY(C31)=2,INT(MOD(INT((C31-2)/7)+0.6,52+5/28))+1,"") | F31: =IF(ISERROR(VLOOKUP(C31,Lune!$A$2:$B$55,2,FALSE)),"",VLOOKUP(C31,Lune!$A$2:$B$55,2,FALSE)) ->  | G31: =IFERROR(IF(COUNTIF(Saints!$C$2:$C$371,C31)=0,"",INDEX(Saints!$D$2:$D$371,MATCH(C31,Saints!$C$2:$C$371,0))),"") -> Paco | H31: =IF(COUNTIF(Parametre!$C$27:$C$39,C31)=0,"",INDEX(Parametre!$B$27:$B$39,MATCH(C31,Parametre!$C$27:$C$39,0)))&""&IF(COUNTIF(Parametre!$I$45:$I$94,C31)=0,"",INDEX(Parametre!$K$45:$K$94,MATCH(C31,Parametre!$I$45:$I$94,0))) | J31: =J30+1 -> 43885 | L31: =IF(WEEKDAY(J31)=2,INT(MOD(INT((J31-2)/7)+0.6,52+5/28))+1,"") -> 9 | M31: =IF(ISERROR(VLOOKUP(J31,Lune!$A$2:$B$55,2,FALSE)),"",VLOOKUP(J31,Lune!$A$2:$B$55,2,FALSE)) | N31: =IFERROR(IF(COUNTIF(Saints!$C$2:$C$371,J31)=0,"",INDEX(Saints!$D$2:$D$371,MATCH(J31,Saints!$C$2:$C$371,0))),"") -> Modeste | O31: =IF(COUNTIF(Parametre!$C$27:$C$39,J31)=0,"",INDEX(Parametre!$B$27:$B$39,MATCH(J31,Parametre!$C$27:$C$39,0)))&""&IF(COUNTIF(Parametre!$I$45:$I$94,J31)=0,"",INDEX(Parametre!$K$45:$K$94,MATCH(J31,Parametre!$I$45:$I$94,0))) | Q31: =Q30+1 -> 43914 | S31: =IF(WEEKDAY(Q31)=2,INT(MOD(INT((Q31-2)/7)+0.6,52+5/28))+1,"") | T31: =IF(ISERROR(VLOOKUP(Q31,Lune!$A$2:$B$55,2,FALSE)),"",VLOOKUP(Q31,Lune!$A$2:$B$55,2,FALSE)) ->  | U31: =IFERROR(IF(COUNTIF(Saints!$C$2:$C$371,Q31)=0,"",INDEX(Saints!$D$2:$D$371,MATCH(Q31,Saints!$C$2:$C$371,0))),"") -> Kathy | V31: =IF(COUNTIF(Parametre!$C$27:$C$39,Q31)=0,"",INDEX(Parametre!$B$27:$B$39,MATCH(Q31,Parametre!$C$27:$C$39,0)))&""&IF(COUNTIF(Parametre!$I$45:$I$94,Q31)=0,"",INDEX(Parametre!$K$45:$K$94,MATCH(Q31,Parametre!$I$45:$I$94,0))) | X31: =X30+1 -> 43945 | Z31: =IF(WEEKDAY(X31)=2,INT(MOD(INT((X31-2)/7)+0.6,52+5/28))+1,"") | AA31: =IF(ISERROR(VLOOKUP(X31,Lune!$A$2:$B$55,2,FALSE)),"",VLOOKUP(X31,Lune!$A$2:$B$55,2,FALSE)) | AB31: =IFERROR(IF(COUNTIF(Saints!$C$2:$C$371,X31)=0,"",INDEX(Saints!$D$2:$D$371,MATCH(X31,Saints!$C$2:$C$371,0))),"") -> Fidèle | AC31: =IF(COUNTIF(Parametre!$C$27:$C$39,X31)=0,"",INDEX(Parametre!$B$27:$B$39,MATCH(X31,Parametre!$C$27:$C$39,0)))&""&IF(COUNTIF(Parametre!$I$45:$I$94,X31)=0,"",INDEX(Parametre!$K$45:$K$94,MATCH(X31,Parametre!$I$45:$I$94,0))) | AE31: =AE30+1 -> 43975 | AG31: =IF(WEEKDAY(AE31)=2,INT(MOD(INT((AE31-2)/7)+0.6,52+5/28))+1,"") | AH31: =IF(ISERROR(VLOOKUP(AE31,[1]Lune!$A$2:$B$55,2,FALSE)),"",VLOOKUP(AE31,[1]Lune!$A$2:$B$55,2,FALSE)) | AI31: =IFERROR(IF(COUNTIF(Saints!$C$2:$C$371,AE31)=0,"",INDEX(Saints!$D$2:$D$371,MATCH(AE31,Saints!$C$2:$C$371,0))),"") -> Donatien | AJ31: =IF(COUNTIF(Parametre!$C$27:$C$39,AE31)=0,"",INDEX(Parametre!$B$27:$B$39,MATCH(AE31,Parametre!$C$27:$C$39,0)))&""&IF(COUNTIF(Parametre!$I$45:$I$94,AE31)=0,"",INDEX(Parametre!$K$45:$K$94,MATCH(AE31,Parametre!$I$45:$I$94,0))) | AL31: =AL30+1 -> 44006 | AN31: =IFERROR(IF(WEEKDAY(AL31)=2,INT(MOD(INT((AL31-2)/7)+0.6,52+5/28))+1,""),"") | AO31: =IF(ISERROR(VLOOKUP(AL31,Lune!$A$2:$B$55,2,FALSE)),"",VLOOKUP(AL31,Lune!$A$2:$B$55,2,FALSE)) | AP31: =IFERROR(IF(COUNTIF(Saints!$C$2:$C$371,AL31)=0,"",INDEX(Saints!$D$2:$D$371,MATCH(AL31,Saints!$C$2:$C$371,0))),"") -> Jean-Baptiste | AQ31: =IF(COUNTIF(Parametre!$C$27:$C$39,AL31)=0,"",INDEX(Parametre!$B$27:$B$39,MATCH(AL31,Parametre!$C$27:$C$39,0)))&""&IF(COUNTIF(Parametre!$I$45:$I$94,AL31)=0,"",INDEX(Parametre!$K$45:$K$94,MATCH(AL31,Parametre!$I$45:$I$94,0))) | AS31: =AS30+1 -> 44036 | AU31: =IFERROR(IF(WEEKDAY(AS31)=2,INT(MOD(INT((AS31-2)/7)+0.6,52+5/28))+1,""),"") | AV31: =IF(ISERROR(VLOOKUP(AS31,Lune!$A$2:$B$55,2,FALSE)),"",VLOOKUP(AS31,Lune!$A$2:$B$55,2,FALSE)) | AW31: =IFERROR(IF(COUNTIF(Saints!$C$2:$C$371,AS31)=0,"",INDEX(Saints!$D$2:$D$371,MATCH(AS31,Saints!$C$2:$C$371,0))),"") -> Christine | AX31: =IF(COUNTIF(Parametre!$C$27:$C$39,AS31)=0,"",INDEX(Parametre!$B$27:$B$39,MATCH(AS31,Parametre!$C$27:$C$39,0)))&""&IF(COUNTIF(Parametre!$I$45:$I$94,AS31)=0,"",INDEX(Parametre!$K$45:$K$94,MATCH(AS31,Parametre!$I$45:$I$94,0))) | AZ31: =AZ30+1 -> 44067 | BB31: =IF(WEEKDAY(AZ31)=2,INT(MOD(INT((AZ31-2)/7)+0.6,52+5/28))+1,"") -> 35 | BC31: =IF(ISERROR(VLOOKUP(AZ31,Lune!$A$2:$B$55,2,FALSE)),"",VLOOKUP(AZ31,Lune!$A$2:$B$55,2,FALSE)) | BD31: =IFERROR(IF(COUNTIF(Saints!$C$2:$C$371,AZ31)=0,"",INDEX(Saints!$D$2:$D$371,MATCH(AZ31,Saints!$C$2:$C$371,0))),"") -> Barthélémy | BE31: =IF(COUNTIF(Parametre!$C$27:$C$39,AZ31)=0,"",INDEX(Parametre!$B$27:$B$39,MATCH(AZ31,Parametre!$C$27:$C$39,0)))&""&IF(COUNTIF(Parametre!$I$45:$I$94,AZ31)=0,"",INDEX(Parametre!$K$45:$K$94,MATCH(AZ31,Parametre!$I$45:$I$94,0))) | BG31: =BG30+1 -> 44098 | BI31: =IF(WEEKDAY(BG31)=2,INT(MOD(INT((BG31-2)/7)+0.6,52+5/28))+1,"") | BJ31: =IF(ISERROR(VLOOKUP(BG31,Lune!$A$2:$B$55,2,FALSE)),"",VLOOKUP(BG31,Lune!$A$2:$B$55,2,FALSE)) ->  | BK31: =IFERROR(IF(COUNTIF(Saints!$C$2:$C$371,BG31)=0,"",INDEX(Saints!$D$2:$D$371,MATCH(BG31,Saints!$C$2:$C$371,0))),"") -> Thècle | BL31: =IF(COUNTIF(Parametre!$C$27:$C$39,BG31)=0,"",INDEX(Parametre!$B$27:$B$39,MATCH(BG31,Parametre!$C$27:$C$39,0)))&""&IF(COUNTIF(Parametre!$I$45:$I$94,BG31)=0,"",INDEX(Parametre!$K$45:$K$94,MATCH(BG31,Parametre!$I$45:$I$94,0))) | BN31: =BN30+1 -> 44128 | BP31: =IF(WEEKDAY(BN31)=2,INT(MOD(INT((BN31-2)/7)+0.6,52+5/28))+1,"") | BQ31: =IF(ISERROR(VLOOKUP(BN31,Lune!$A$2:$B$55,2,FALSE)),"",VLOOKUP(BN31,Lune!$A$2:$B$55,2,FALSE)) | BR31: =IFERROR(IF(COUNTIF(Saints!$C$2:$C$371,BN31)=0,"",INDEX(Saints!$D$2:$D$371,MATCH(BN31,Saints!$C$2:$C$371,0))),"") -> Florentin | BS31: =IF(COUNTIF(Parametre!$C$27:$C$39,BN31)=0,"",INDEX(Parametre!$B$27:$B$39,MATCH(BN31,Parametre!$C$27:$C$39,0)))&""&IF(COUNTIF(Parametre!$I$45:$I$94,BN31)=0,"",INDEX(Parametre!$K$45:$K$94,MATCH(BN31,Parametre!$I$45:$I$94,0))) | BU31: =BU30+1 -> 44159 | BW31: =IF(WEEKDAY(BU31)=2,INT(MOD(INT((BU31-2)/7)+0.6,52+5/28))+1,"") | BX31: =IF(ISERROR(VLOOKUP(BU31,Lune!$A$2:$B$55,2,FALSE)),"",VLOOKUP(BU31,Lune!$A$2:$B$55,2,FALSE)) | BY31: =IFERROR(IF(COUNTIF(Saints!$C$2:$C$371,BU31)=0,"",INDEX(Saints!$D$2:$D$371,MATCH(BU31,Saints!$C$2:$C$371,0))),"") -> Flora | BZ31: =IF(COUNTIF(Parametre!$C$27:$C$39,BU31)=0,"",INDEX(Parametre!$B$27:$B$39,MATCH(BU31,Parametre!$C$27:$C$39,0)))&""&IF(COUNTIF(Parametre!$I$45:$I$94,BU31)=0,"",INDEX(Parametre!$K$45:$K$94,MATCH(BU31,Parametre!$I$45:$I$94,0))) | CB31: =CB30+1 -> 44189 | CD31: =IF(WEEKDAY(CB31)=2,INT(MOD(INT((CB31-2)/7)+0.6,52+5/28))+1,"") | CE31: =IF(ISERROR(VLOOKUP(CB31,Lune!$A$2:$B$55,2,FALSE)),"",VLOOKUP(CB31,Lune!$A$2:$B$55,2,FALSE)) | CF31: =IFERROR(IF(COUNTIF(Saints!$C$2:$C$371,CB31)=0,"",INDEX(Saints!$D$2:$D$371,MATCH(CB31,Saints!$C$2:$C$371,0))),"") -> Adèle | CG31: =IF(COUNTIF(Parametre!$C$27:$C$39,CB31)=0,"",INDEX(Parametre!$B$27:$B$39,MATCH(CB31,Parametre!$C$27:$C$39,0)))&" "&IF(COUNTIF(Parametre!$I$45:$I$94,CB31)=0,"",INDEX(Parametre!$K$45:$K$94,MATCH(CB31,Parametre!$I$45:$I$94,0)))
