Workbook

Sheet Données
E1: Dimanche de Pâques
E2: =ROUND(DATE('Mois en cours'!B2,4,MOD(234-11*MOD('Mois en cours'!B2,19),30))/7,0)*7-6 -> 46117
A3: Mois | C3: Année | H3: Date | I3: Jours fériés | K3: =COUNTIF(_xlfn.ANCHORARRAY('Mois en cours'!$I$6),Données!H4)>0 -> FALSE
A4: Janvier | C4: 2026 | E4: Noms | H4: =DATE('Mois en cours'!B2,1,1) -> 46023 | I4: Jour de l'An | K4: =COUNTIF(_xlfn.ANCHORARRAY('Mois en cours'!$I$6),Données!H5)>0 -> FALSE
A5: Février | C5: 2027 | H5: =E2+1 -> 46118 | I5: Lundi de Pâques | K5: =COUNTIF(_xlfn.ANCHORARRAY('Mois en cours'!$I$6),Données!H6)>0 -> FALSE
A6: Mars | C6: 2028 | H6: =DATE('Mois en cours'!$B$2,5,1) -> 46143 | I6: Fête du Travail | K6: =COUNTIF(_xlfn.ANCHORARRAY('Mois en cours'!$I$6),Données!H7)>0 -> FALSE
A7: Avril | C7: 2029 | H7: =DATE('Mois en cours'!$B$2,5,8) -> 46150 | I7: Armistice 1945 | K7: =COUNTIF(_xlfn.ANCHORARRAY('Mois en cours'!$I$6),Données!H8)>0 -> FALSE
A8: Mai | C8: 2030 | H8: =E2+39 -> 46156 | I8: Ascension | K8: =COUNTIF(_xlfn.ANCHORARRAY('Mois en cours'!$I$6),Données!H9)>0 -> FALSE
A9: Juin | C9: 2031 | H9: =E2+49 -> 46166 | I9: Pentecôte | K9: =COUNTIF(_xlfn.ANCHORARRAY('Mois en cours'!$I$6),Données!H10)>0 -> FALSE
A10: Juillet | C10: 2032 | H10: =E2+50 -> 46167 | I10: lundi de Pentecôte | K10: =COUNTIF(_xlfn.ANCHORARRAY('Mois en cours'!$I$6),Données!H11)>0 -> FALSE
A11: Aoput | C11: 2033 | H11: =DATE('Mois en cours'!$B$2,7,14) -> 46217 | I11: Fête Nationale | K11: =COUNTIF(_xlfn.ANCHORARRAY('Mois en cours'!$I$6),Données!H12)>0 -> FALSE
A12: Septembre | C12: 2034 | H12: =DATE('Mois en cours'!$B$2,8,15) -> 46249 | I12: Assomption | K12: =COUNTIF(_xlfn.ANCHORARRAY('Mois en cours'!$I$6),Données!H13)>0 -> TRUE
A13: Octobre | C13: 2035 | H13: =DATE('Mois en cours'!$B$2,11,1) -> 46327 | I13: Toussaint | K13: =COUNTIF(_xlfn.ANCHORARRAY('Mois en cours'!$I$6),Données!H14)>0 -> TRUE
A14: Novembre | C14: 2036 | H14: =DATE('Mois en cours'!$B$2,11,11) -> 46337 | I14: Armistice 1918 | K14: =COUNTIF(_xlfn.ANCHORARRAY('Mois en cours'!$I$6),Données!H15)>0 -> FALSE
A15: Décembre | C15: 2037 | H15: =DATE('Mois en cours'!$B$2,12,25) -> 46381 | I15: Noël | K15: =COUNTIF(_xlfn.ANCHORARRAY('Mois en cours'!$I$6),Données!H16)>0 -> FALSE

Sheet Mois en cours
A1: Mois | B1: Novembre
A2: Année | B2: 2026
A3: Date de début | B3: =DATE(B2, MONTH(B1&1),1) -> 46327
A4: Date de fin | B4: =EOMONTH(B3,0) -> 46356
A6: Equipe | C6: E | I6: {=TRANSPOSE($B$3+ROW(INDIRECT("1:"&DAY($B$4)))-1)} -> 46327 | J6: 46328 | K6: 46329 | L6: 46330 | M6: 46331 | N6: 46332 | O6: 46333 | P6: 46334 | Q6: 46335 | R6: 46336 | S6: 46337 | T6: 46338 | U6: 46339 | V6: 46340 | W6: 46341 | X6: 46342 | Y6: 46343 | Z6: 46344 | AA6: 46345 | AB6: 46346 | AC6: 46347 | AD6: 46348 | AE6: 46349 | AF6: 46350 | AG6: 46351 | AH6: 46352 | AI6: 46353 | AJ6: 46354 | AK6: 46355 | AL6: 46356
C7: CP | D7: CS | E7: CM | F7: AN | G7: F | H7: P | I7: =IF(ISBLANK(I$6),"",PROPER(TEXT(I$6,"jjj"))) -> Dim | J7: =IF(ISBLANK(J$6),"",PROPER(TEXT(J$6,"jjj"))) -> Lun | K7: =IF(ISBLANK(K$6),"",PROPER(TEXT(K$6,"jjj"))) -> Mar | L7: =IF(ISBLANK(L$6),"",PROPER(TEXT(L$6,"jjj"))) -> Mer | M7: =IF(ISBLANK(M$6),"",PROPER(TEXT(M$6,"jjj"))) -> Jeu | N7: =IF(ISBLANK(N$6),"",PROPER(TEXT(N$6,"jjj"))) -> Ven | O7: =IF(ISBLANK(O$6),"",PROPER(TEXT(O$6,"jjj"))) -> Sam | P7: =IF(ISBLANK(P$6),"",PROPER(TEXT(P$6,"jjj"))) -> Dim | ... AM7: =IF(ISBLANK(AM$6),"",PROPER(TEXT(AM$6,"jjj")))
AO26: Nbre h contrat | AP26: Nbre h - F | AQ26: Nbre -CP | AT26: Pourcentage présentiel
I27: =OR(I7="mer",I7="jeu",I7="ven") -> FALSE | J27: =OR(J7="mer",J7="jeu",J7="ven") -> FALSE | K27: =OR(K7="mer",K7="jeu",K7="ven") -> FALSE | L27: =OR(L7="mer",L7="jeu",L7="ven") -> TRUE | M27: =OR(M7="mer",M7="jeu",M7="ven") -> TRUE | N27: =OR(N7="mer",N7="jeu",N7="ven") -> TRUE | O27: =OR(O7="mer",O7="jeu",O7="ven") -> FALSE | P27: =OR(P7="mer",P7="jeu",P7="ven") -> FALSE | ... AM27: =OR(AM7="mer",AM7="jeu",AM7="ven") -> FALSE | AO27: =COUNTIF(I27:AM27,"VRAI")*7 -> 84 | AP27: =(COUNTIF(I27:AM27,"VRAI")-COUNTIF(Données!K3:K15,"VRAI"))*7 -> 70
