Workbook

Sheet Mois en cours
A1: Mois | B1: Janvier
A2: Année | B2: 2026
A3: Date de début | B3: =DATE(B2, MONTH(B1&1),1) -> 46023
A4: Date de fin | B4: =EOMONTH(B3,0) -> 46053
A6: Equipe | I6: {=TRANSPOSE($B$3+ROW(INDIRECT("1:"&DAY($B$4)))-1)} -> 46023 | J6: 46024 | K6: 46025 | L6: 46026 | M6: 46027 | N6: 46028 | O6: 46029 | P6: 46030 | Q6: 46031 | R6: 46032 | S6: 46033 | T6: 46034 | U6: 46035 | V6: 46036 | W6: 46037 | X6: 46038 | Y6: 46039 | Z6: 46040 | AA6: 46041 | AB6: 46042 | AC6: 46043 | AD6: 46044 | AE6: 46045 | AF6: 46046 | AG6: 46047 | AH6: 46048 | AI6: 46049 | AJ6: 46050 | AK6: 46051 | AL6: 46052 | AM6: 46053
C7: Présence % | D7: A | E7: M | F7: E | G7: V | H7: P | I7: =IF(ISBLANK(I$6),"",PROPER(TEXT(I$6,"jjj"))) -> Jeu | J7: =IF(ISBLANK(J$6),"",PROPER(TEXT(J$6,"jjj"))) -> Ven | K7: =IF(ISBLANK(K$6),"",PROPER(TEXT(K$6,"jjj"))) -> Sam | L7: =IF(ISBLANK(L$6),"",PROPER(TEXT(L$6,"jjj"))) -> Dim | M7: =IF(ISBLANK(M$6),"",PROPER(TEXT(M$6,"jjj"))) -> Lun | N7: =IF(ISBLANK(N$6),"",PROPER(TEXT(N$6,"jjj"))) -> Mar | O7: =IF(ISBLANK(O$6),"",PROPER(TEXT(O$6,"jjj"))) -> Mer | P7: =IF(ISBLANK(P$6),"",PROPER(TEXT(P$6,"jjj"))) -> Jeu | ... AM7: =IF(ISBLANK(AM$6),"",PROPER(TEXT(AM$6,"jjj"))) -> Sam
A8: B | B8: M
A9: B | B9: A
A10: B | B10: T
A11: B | B11: J
A12: DSS | B12: C
A13: D | B13: B
A14: F | B14: L
A15: L | B15: L
A16: N | B16: AS
A17: N | B17: G
A18: P | B18: O

Sheet Données
A3: Mois | C3: Année | E3: Noms | G3: Date | H3: Jours fériés | J3: Dimanche de Pâques
A4: Janvier | C4: 2026 | E4: BARBECOMTE Maëlle | G4: =DATE('Mois en cours'!B2,1,1) -> 46023 | H4: Jour de l'An | J4: =ROUND(DATE('Mois en cours'!B2,4,MOD(234-11*MOD('Mois en cours'!B2,19),30))/7,0)*7-6 -> 46117
A5: Février | C5: 2027 | E5: BAZIN Aliénor | G5: =J4+1 -> 46118 | H5: Lundi de Pâques
A6: Mars | C6: 2028 | E6: BELLEIL Thomas | G6: =DATE('Mois en cours'!$B$2,5,1) -> 46143 | H6: Fête du Travail
A7: Avril | C7: 2029 | E7: BROCAS Julie | G7: =DATE('Mois en cours'!$B$2,5,8) -> 46150 | H7: Armistice 1945
A8: Mai | C8: 2030 | E8: De ST-SALVY Caroline | G8: =J4+39 -> 46156 | H8: Ascension
A9: Juin | C9: 2031 | E9: DUFOUR Blanche | G9: =J4+49 -> 46166 | H9: Pentecôte
A10: Juillet | C10: 2032 | E10: FREMONT Loïc | G10: =J4+50 -> 46167 | H10: lundi de Pentecôte
A11: Aoput | C11: 2033 | E11: LAGARDE Louis | G11: =DATE('Mois en cours'!$B$2,7,14) -> 46217 | H11: Fête Nationale
A12: Septembre | C12: 2034 | E12: NIMSER Anne-Stylite | G12: =DATE('Mois en cours'!$B$2,8,15) -> 46249 | H12: Assomption
A13: Octobre | C13: 2035 | E13: NIMSER Geneviève | G13: =DATE('Mois en cours'!$B$2,11,1) -> 46327 | H13: Toussaint
A14: Novembre | C14: 2036 | E14: PICART Ombeline | G14: =DATE('Mois en cours'!$B$2,11,11) -> 46337 | H14: Armistice 1918
A15: Décembre | C15: 2037 | G15: =DATE('Mois en cours'!$B$2,12,25) -> 46381 | H15: Noël
