Workbook
Name capaciter: 'liste des camion'!#REF!
Name destinations: 'Destination & Tari'!$A$3:$B$48
Name listeBL: ' livraison'!$B$2:$B$1290
Name listecamions: 'liste des camion'!$B$2:$B$4
Name Listeclients: 'Liste des clients'!$A$2:$H$48
Name livraison: ' livraison'!$A$2:$O$5332
Name nfacture: ' livraison'!$P:$P
Name nomchauff: 'Liste des chauffeurs'!$A$2:$A$3
Name Nomclients: 'Liste des clients'!$A$2:$A$48
Name tarif15: 'Destination & Tari'!$A$3:$H$48
Name tarif25: 'Destination & Tari'!$A$3:$K$48
Name typemarchandise: 'Type de marchandise'!$A$2:$A$3

Sheet Liste des clients
A1: Nom client | B1: N client | C1: Province | D1: Type de client | E1: Adresse | F1: Nom du responsable | G1: Email | H1: Telephone | I1: Caracteristique
A2: 6po,industrie | B2: C1002 | C2: Ain atiq | D2: Entreprise
A3: A,D, PLAST | B3: C1041 | C3: Sbitte | D3: =D2 -> Entreprise
A4: Artenius | B4: C1020 | C4: El jadida | D4: =D3 -> Entreprise
A5: Attaghlif | B5: C1013 | C5: Berrechid | D5: =D4 -> Entreprise
A6: Aymane tube | B6: C1032 | C6: Rt Mediouna | D6: =D5 -> Entreprise
A7: Azbane | B7: C1027 | C7: Lissasfa | D7: =D6 -> Entreprise
A8: C,M,B, | B8: C1037 | C8: S,Bernoussi | D8: =D7 -> Entreprise
A9: China plast | B9: C1023 | C9: had soualem | D9: =D8 -> Entreprise
A10: contact unio | B10: C1006 | C10: Ain sebaa | D10: =D9 -> Entreprise
A11: Ctc maroc | B11: C1001 | C11: Ouled saleh | D11: =D10 -> Entreprise
A12: Enov plast | B12: C1045 | C12: Tit mellil | D12: =D11 -> Entreprise

Sheet Liste des chauffeurs
A1: Nom | B1: Prenom | C1: Date de naissance | D1: Lieux de naissance | E1: CNSS | F1: Adresse | G1: Date entrée | H1: N permis de conduire | I1: delivree le | J1: Telephone | K1: Observation
A2: Brahim | B2: bourich | C2: 29518 | D2: Casablanca | E2: 553688724 | F2: 12, rue du douar | G2: 39995 | H2: 66687479r | I2: 38886 | J2: 0663400313
A3: Jamal | B3: mhamed | C3: 29292 | D3: Casablanca | E3: 662784898 | F3: 12, rue des angenivier | G3: 40360 | H3: 7889294rt | I3: 38519 | J3: 0658535129
A4: Mounjim | B4: Karin | C4: 28957 | D4: casablanca | E4: 848594966 | F4: 13,rue de la croix | G4: 40725 | H4: 7388385ut | I4: 38788 | J4: 0652882843

Sheet liste des camion
A1: Nom camion | B1: Capaciter | C1: capaciter palette | D1: Matricule | E1: Numero ass | F1: Date effet | G1: Date expiration | H1: Exp control tech | I1: Exp vignette
A2: Daf123-d-6 | B2: 25 | C2: 8 | D2: 123-d-6 | E2: 127488334 | F2: 40544 | G2: 40891 | H2: 40862 | I2: 40862
A3: Daf2232-d-6 | B3: 25 | C3: 8 | D3: 2232-d-6 | E3: 778944353 | F3: 40695 | G3: 40878 | H3: 40878 | I3: 40940
A4: Isuzu1132d-11 | B4: 15 | C4: 4 | D4: 1132d-11 | E4: 999009054 | F4: 40756 | G4: 40907 | H4: 40878 | I4: 40940

Sheet Type de marchandise
A1: Type de marchandise | B1: Caracteristique
A2: LINEAIRE LDPE REF M500026
A3: PET AP0076

Sheet affectation
A1: N mission | B1: Etat BL | C1: Chauffeur | D1: Camion | E1: plein | F1: Nombre de litre | G1: Objectif | H1: km parcourue | I1: Km au depart | J1: Km arriver
A2: d00001 | B2: ok | C2: Brahim | D2: =IF(A2="","",VLOOKUP(A2,livraison,6,FALSE)) -> 50 | E2: 123000 | F2: 125 | G2: =(F2*100)/33 -> 378.78788 | H2: =J2-I2 -> 100 | I2: 125000 | J2: 125100 | L2: consomation | M2: 33 | N2: l/100
A3: d00002 | B3: ok | C3: Jamal | D3: =IF(A3="","",VLOOKUP(A3,livraison,6,FALSE)) -> 15 | E3: 120000 | I3: 120200 | J3: 120300 | M3: 125
A4: d00003 | B4: a Recuperer | C4: Brahim | D4: =IF(A4="","",VLOOKUP(A4,livraison,6,FALSE)) -> 15 | E4: 123000 | F4: 125 | G4: =G2-H2 -> 278.78788 | H4: =J4-I4 -> 200 | I4: 125100 | J4: 125300
G5: =G3-H3 -> 0

Sheet  livraison
A1: N mission | B1: N BL | C1: Date BL | D1: Date de livraison | E1: Type de camion | F1: NB T | G1: Nb C | H1: Type de marchandise | I1: Client emeteur | J1: Client recepteur | K1: Depart | L1: Destination | M1: km a parc | N1: Prix HT | O1: Status | P1: Numero de facture
A2: d00001 | B2: 12342hr | C2: 40859 | D2: 40860 | E2: 25 | F2: 50 | G2: =50/25 -> 2 | H2: PET AP0076 | I2: Ctc maroc | J2: Azbane | K2: =IF(I2="","",VLOOKUP(I2,Listeclients,3,FALSE)) -> Ouled saleh | L2: =IF(J2="","",VLOOKUP(J2,Listeclients,3,FALSE)) -> Lissasfa | M2: =IF(J2="","",VLOOKUP(L2,destinations,2,FALSE)) -> 90 | N2: =IF(E2=25,VLOOKUP(L2,tarif25,9,FALSE),VLOOKUP(L2,tarif15,6,FALSE)) -> 1250 | O2: a facturer | P2: f00001
A3: d00002 | B3: 12344hr | C3: 40859 | D3: 40860 | E3: 25 | F3: 15 | G3: 1 | H3: LINEAIRE LDPE REF M500026 | I3: Enov plast | J3: contact unio | K3: =IF(I3="","",VLOOKUP(I3,Listeclients,3,FALSE)) -> Tit mellil | L3: =IF(J3="","",VLOOKUP(J3,Listeclients,3,FALSE)) -> Ain sebaa | M3: =IF(J3="","",VLOOKUP(L3,destinations,2,FALSE)) -> 90 | N3: =IF(E3=25,VLOOKUP(L3,tarif25,9,FALSE),VLOOKUP(L3,tarif15,6,FALSE)) -> 1250 | O3: a facturer | P3: f00001
A4: d00003 | B4: 12345hr | C4: 40859 | D4: 40860 | E4: 25 | F4: 15 | G4: 1 | H4: PET AP0076 | I4: Enov plast | J4: C,M,B, | K4: =IF(I4="","",VLOOKUP(I4,Listeclients,3,FALSE)) -> Tit mellil | L4: =IF(J4="","",VLOOKUP(J4,Listeclients,3,FALSE)) -> S,Bernoussi | M4: =IF(J4="","",VLOOKUP(L4,destinations,2,FALSE)) -> 90 | N4: =IF(E4=25,VLOOKUP(L4,tarif25,9,FALSE),VLOOKUP(L4,tarif15,6,FALSE)) -> 1250 | O4: a facturer | P4: f00001
A5: d00004 | B5: 12365hf | C5: 40860 | D5: 40861 | E5: 25 | F5: 23 | G5: 1 | H5: PET AP0076 | I5: Aymane tube | J5: Aymane tube | K5: =IF(I5="","",VLOOKUP(I5,Listeclients,3,FALSE)) -> Rt Mediouna | L5: =IF(J5="","",VLOOKUP(J5,Listeclients,3,FALSE)) -> Rt Mediouna | M5: =IF(J5="","",VLOOKUP(L5,destinations,2,FALSE)) -> 90 | N5: =IF(E5=25,VLOOKUP(L5,tarif25,9,FALSE),VLOOKUP(L5,tarif15,6,FALSE)) -> 1250 | O5: a factuer | P5: f00001
A6: d00005 | B6: 1288994hf | C6: 40863 | D6: 40862 | E6: 15 | F6: 14 | G6: 1 | H6: LINEAIRE LDPE REF M500026 | I6: C,M,B, | J6: Aymane tube | K6: =IF(I6="","",VLOOKUP(I6,Listeclients,3,FALSE)) -> S,Bernoussi | L6: =IF(J6="","",VLOOKUP(J6,Listeclients,3,FALSE)) -> Rt Mediouna | M6: =IF(J6="","",VLOOKUP(L6,destinations,2,FALSE)) -> 90 | N6: =IF(E6=25,VLOOKUP(L6,tarif25,9,FALSE),VLOOKUP(L6,tarif15,6,FALSE)) -> 1166 | O6: a factuer | P6: f00002
A7: d00006 | B7: 8458395jrf | C7: 40861 | D7: 40861 | E7: 15 | F7: 14 | G7: 1 | H7: PET AP0076 | I7: Artenius | J7: 6po,industrie | K7: =IF(I7="","",VLOOKUP(I7,Listeclients,3,FALSE)) -> El jadida | L7: =IF(J7="","",VLOOKUP(J7,Listeclients,3,FALSE)) -> Ain atiq | M7: =IF(J7="","",VLOOKUP(L7,destinations,2,FALSE)) -> 0 | N7: =IF(M7="","",IF(E7=25,VLOOKUP(L7,tarif25,11,FALSE),VLOOKUP(L7,tarif15,8,FALSE))) -> 0 | O7: a facturer | P7: f00003
K8: =IF(I8="","",VLOOKUP(I8,Listeclients,3,FALSE)) | L8: =IF(J8="","",VLOOKUP(J8,Listeclients,3,FALSE)) | M8: =IF(J8="","",VLOOKUP(L8,destinations,2,FALSE)) | N8: =IF(M8="","",IF(E8=25,VLOOKUP(L8,tarif25,11,FALSE),VLOOKUP(L8,tarif15,8,FALSE)))
K9: =IF(I9="","",VLOOKUP(I9,Listeclients,3,FALSE)) | L9: =IF(J9="","",VLOOKUP(J9,Listeclients,3,FALSE)) | M9: =IF(J9="","",VLOOKUP(L9,destinations,2,FALSE)) | N9: =IF(M9="","",IF(E9=25,VLOOKUP(L9,tarif25,11,FALSE),VLOOKUP(L9,tarif15,8,FALSE)))
K10: =IF(I10="","",VLOOKUP(I10,Listeclients,3,FALSE)) | L10: =IF(J10="","",VLOOKUP(J10,Listeclients,3,FALSE)) | M10: =IF(J10="","",VLOOKUP(L10,destinations,2,FALSE)) | N10: =IF(M10="","",IF(E10=25,VLOOKUP(L10,tarif25,11,FALSE),VLOOKUP(L10,tarif15,8,FALSE)))
K11: =IF(I11="","",VLOOKUP(I11,Listeclients,3,FALSE)) | L11: =IF(J11="","",VLOOKUP(J11,Listeclients,3,FALSE)) | M11: =IF(J11="","",VLOOKUP(L11,destinations,2,FALSE)) | N11: =IF(M11="","",IF(E11=25,VLOOKUP(L11,tarif25,11,FALSE),VLOOKUP(L11,tarif15,8,FALSE)))
K12: =IF(I12="","",VLOOKUP(I12,Listeclients,3,FALSE)) | L12: =IF(J12="","",VLOOKUP(J12,Listeclients,3,FALSE)) | M12: =IF(J12="","",VLOOKUP(L12,destinations,2,FALSE)) | N12: =IF(M12="","",IF(E12=25,VLOOKUP(L12,tarif25,11,FALSE),VLOOKUP(L12,tarif15,8,FALSE)))
K13: =IF(I13="","",VLOOKUP(I13,Listeclients,3,FALSE)) | L13: =IF(J13="","",VLOOKUP(J13,Listeclients,3,FALSE)) | M13: =IF(J13="","",VLOOKUP(L13,destinations,2,FALSE)) | N13: =IF(M13="","",IF(E13=25,VLOOKUP(L13,tarif25,11,FALSE),VLOOKUP(L13,tarif15,8,FALSE)))
K14: =IF(I14="","",VLOOKUP(I14,Listeclients,3,FALSE)) | L14: =IF(J14="","",VLOOKUP(J14,Listeclients,3,FALSE)) | M14: =IF(J14="","",VLOOKUP(L14,destinations,2,FALSE)) | N14: =IF(M14="","",IF(E14=25,VLOOKUP(L14,tarif25,11,FALSE),VLOOKUP(L14,tarif15,8,FALSE)))
K15: =IF(I15="","",VLOOKUP(I15,Listeclients,3,FALSE)) | L15: =IF(J15="","",VLOOKUP(J15,Listeclients,3,FALSE)) | M15: =IF(J15="","",VLOOKUP(L15,destinations,2,FALSE)) | N15: =IF(M15="","",IF(E15=25,VLOOKUP(L15,tarif25,11,FALSE),VLOOKUP(L15,tarif15,8,FALSE)))
K16: =IF(I16="","",VLOOKUP(I16,Listeclients,3,FALSE)) | L16: =IF(J16="","",VLOOKUP(J16,Listeclients,3,FALSE)) | M16: =IF(J16="","",VLOOKUP(L16,destinations,2,FALSE)) | N16: =IF(M16="","",IF(E16=25,VLOOKUP(L16,tarif25,11,FALSE),VLOOKUP(L16,tarif15,8,FALSE)))
K17: =IF(I17="","",VLOOKUP(I17,Listeclients,3,FALSE)) | L17: =IF(J17="","",VLOOKUP(J17,Listeclients,3,FALSE)) | M17: =IF(J17="","",VLOOKUP(L17,destinations,2,FALSE)) | N17: =IF(M17="","",IF(E17=25,VLOOKUP(L17,tarif25,11,FALSE),VLOOKUP(L17,tarif15,8,FALSE)))
K18: =IF(I18="","",VLOOKUP(I18,Listeclients,3,FALSE)) | L18: =IF(J18="","",VLOOKUP(J18,Listeclients,3,FALSE)) | M18: =IF(J18="","",VLOOKUP(L18,destinations,2,FALSE)) | N18: =IF(M18="","",IF(E18=25,VLOOKUP(L18,tarif25,11,FALSE),VLOOKUP(L18,tarif15,8,FALSE)))
K19: =IF(I19="","",VLOOKUP(I19,Listeclients,3,FALSE)) | L19: =IF(J19="","",VLOOKUP(J19,Listeclients,3,FALSE)) | M19: =IF(J19="","",VLOOKUP(L19,destinations,2,FALSE)) | N19: =IF(M19="","",IF(E19=25,VLOOKUP(L19,tarif25,11,FALSE),VLOOKUP(L19,tarif15,8,FALSE)))
... K122: =IF(I122="","",VLOOKUP(I122,Listeclients,3,FALSE)) | L122: =IF(J122="","",VLOOKUP(J122,Listeclients,3,FALSE)) | M122: =IF(J122="","",VLOOKUP(L122,destinations,2,FALSE)) | N122: =IF(M122="","",IF(E122=25,VLOOKUP(L122,tarif25,11,FALSE),VLOOKUP(L122,tarif15,8,FALSE)))
K123: =IF(I123="","",VLOOKUP(I123,Listeclients,3,FALSE)) | L123: =IF(J123="","",VLOOKUP(J123,Listeclients,3,FALSE)) | N123: =IF(M123="","",IF(E123=25,VLOOKUP(L123,tarif25,11,FALSE),VLOOKUP(L123,tarif15,8,FALSE)))
K124: =IF(I124="","",VLOOKUP(I124,Listeclients,3,FALSE)) | L124: =IF(J124="","",VLOOKUP(J124,Listeclients,3,FALSE)) | N124: =IF(M124="","",IF(E124=25,VLOOKUP(L124,tarif25,11,FALSE),VLOOKUP(L124,tarif15,8,FALSE)))
K125: =IF(I125="","",VLOOKUP(I125,Listeclients,3,FALSE)) | L125: =IF(J125="","",VLOOKUP(J125,Listeclients,3,FALSE)) | N125: =IF(M125="","",IF(E125=25,VLOOKUP(L125,tarif25,11,FALSE),VLOOKUP(L125,tarif15,8,FALSE)))
K126: =IF(I126="","",VLOOKUP(I126,Listeclients,3,FALSE)) | L126: =IF(J126="","",VLOOKUP(J126,Listeclients,3,FALSE)) | N126: =IF(M126="","",IF(E126=25,VLOOKUP(L126,tarif25,11,FALSE),VLOOKUP(L126,tarif15,8,FALSE)))
K127: =IF(I127="","",VLOOKUP(I127,Listeclients,3,FALSE)) | L127: =IF(J127="","",VLOOKUP(J127,Listeclients,3,FALSE)) | N127: =IF(M127="","",IF(E127=25,VLOOKUP(L127,tarif25,11,FALSE),VLOOKUP(L127,tarif15,8,FALSE)))
K128: =IF(I128="","",VLOOKUP(I128,Listeclients,3,FALSE)) | L128: =IF(J128="","",VLOOKUP(J128,Listeclients,3,FALSE)) | N128: =IF(M128="","",IF(E128=25,VLOOKUP(L128,tarif25,11,FALSE),VLOOKUP(L128,tarif15,8,FALSE)))
K129: =IF(I129="","",VLOOKUP(I129,Listeclients,3,FALSE)) | L129: =IF(J129="","",VLOOKUP(J129,Listeclients,3,FALSE)) | N129: =IF(M129="","",IF(E129=25,VLOOKUP(L129,tarif25,11,FALSE),VLOOKUP(L129,tarif15,8,FALSE)))
K130: =IF(I130="","",VLOOKUP(I130,Listeclients,3,FALSE)) | L130: =IF(J130="","",VLOOKUP(J130,Listeclients,3,FALSE)) | N130: =IF(M130="","",IF(E130=25,VLOOKUP(L130,tarif25,11,FALSE),VLOOKUP(L130,tarif15,8,FALSE)))
K131: =IF(I131="","",VLOOKUP(I131,Listeclients,3,FALSE)) | L131: =IF(J131="","",VLOOKUP(J131,Listeclients,3,FALSE)) | N131: =IF(M131="","",IF(E131=25,VLOOKUP(L131,tarif25,11,FALSE),VLOOKUP(L131,tarif15,8,FALSE)))
K132: =IF(I132="","",VLOOKUP(I132,Listeclients,3,FALSE)) | L132: =IF(J132="","",VLOOKUP(J132,Listeclients,3,FALSE)) | N132: =IF(M132="","",IF(E132=25,VLOOKUP(L132,tarif25,11,FALSE),VLOOKUP(L132,tarif15,8,FALSE)))
K133: =IF(I133="","",VLOOKUP(I133,Listeclients,3,FALSE)) | L133: =IF(J133="","",VLOOKUP(J133,Listeclients,3,FALSE)) | N133: =IF(M133="","",IF(E133=25,VLOOKUP(L133,tarif25,11,FALSE),VLOOKUP(L133,tarif15,8,FALSE)))
K134: =IF(I134="","",VLOOKUP(I134,Listeclients,3,FALSE)) | L134: =IF(J134="","",VLOOKUP(J134,Listeclients,3,FALSE)) | N134: =IF(M134="","",IF(E134=25,VLOOKUP(L134,tarif25,11,FALSE),VLOOKUP(L134,tarif15,8,FALSE)))
... K373: =IF(I373="","",VLOOKUP(I373,Listeclients,3,FALSE)) | L373: =IF(J373="","",VLOOKUP(J373,Listeclients,3,FALSE)) | N373: =IF(M373="","",IF(E373=25,VLOOKUP(L373,tarif25,11,FALSE),VLOOKUP(L373,tarif15,8,FALSE)))
K374: =IF(I374="","",VLOOKUP(I374,Listeclients,3,FALSE)) | L374: =IF(J374="","",VLOOKUP(J374,'Liste des clients'!$A$2:$C$48,2,FALSE)) | N374: =IF(M374="","",IF(E374=25,VLOOKUP(L374,tarif25,11,FALSE),VLOOKUP(L374,tarif15,8,FALSE)))
K375: =IF(I375="","",VLOOKUP(I375,Listeclients,3,FALSE)) | L375: =IF(J375="","",VLOOKUP(J375,'Liste des clients'!$A$2:$C$48,2,FALSE)) | N375: =IF(M375="","",IF(E375=25,VLOOKUP(L375,tarif25,11,FALSE),VLOOKUP(L375,tarif15,8,FALSE)))
K376: =IF(I376="","",VLOOKUP(I376,Listeclients,3,FALSE)) | L376: =IF(J376="","",VLOOKUP(J376,'Liste des clients'!$A$2:$C$48,2,FALSE)) | N376: =IF(M376="","",IF(E376=25,VLOOKUP(L376,tarif25,11,FALSE),VLOOKUP(L376,tarif15,8,FALSE)))
K377: =IF(I377="","",VLOOKUP(I377,Listeclients,3,FALSE)) | L377: =IF(J377="","",VLOOKUP(J377,'Liste des clients'!$A$2:$C$48,2,FALSE)) | N377: =IF(M377="","",IF(E377=25,VLOOKUP(L377,tarif25,11,FALSE),VLOOKUP(L377,tarif15,8,FALSE)))
K378: =IF(I378="","",VLOOKUP(I378,Listeclients,3,FALSE)) | L378: =IF(J378="","",VLOOKUP(J378,'Liste des clients'!$A$2:$C$48,2,FALSE)) | N378: =IF(M378="","",IF(E378=25,VLOOKUP(L378,tarif25,11,FALSE),VLOOKUP(L378,tarif15,8,FALSE)))
K379: =IF(I379="","",VLOOKUP(I379,Listeclients,3,FALSE)) | L379: =IF(J379="","",VLOOKUP(J379,'Liste des clients'!$A$2:$C$48,2,FALSE)) | N379: =IF(M379="","",IF(E379=25,VLOOKUP(L379,tarif25,11,FALSE),VLOOKUP(L379,tarif15,8,FALSE)))
K380: =IF(I380="","",VLOOKUP(I380,Listeclients,3,FALSE)) | L380: =IF(J380="","",VLOOKUP(J380,'Liste des clients'!$A$2:$C$48,2,FALSE)) | N380: =IF(M380="","",IF(E380=25,VLOOKUP(L380,tarif25,11,FALSE),VLOOKUP(L380,tarif15,8,FALSE)))
K381: =IF(I381="","",VLOOKUP(I381,Listeclients,3,FALSE)) | L381: =IF(J381="","",VLOOKUP(J381,'Liste des clients'!$A$2:$C$48,2,FALSE)) | N381: =IF(M381="","",IF(E381=25,VLOOKUP(L381,tarif25,11,FALSE),VLOOKUP(L381,tarif15,8,FALSE)))
K382: =IF(I382="","",VLOOKUP(I382,Listeclients,3,FALSE)) | L382: =IF(J382="","",VLOOKUP(J382,'Liste des clients'!$A$2:$C$48,2,FALSE)) | N382: =IF(M382="","",IF(E382=25,VLOOKUP(L382,tarif25,11,FALSE),VLOOKUP(L382,tarif15,8,FALSE)))
K383: =IF(I383="","",VLOOKUP(I383,Listeclients,3,FALSE)) | L383: =IF(J383="","",VLOOKUP(J383,'Liste des clients'!$A$2:$C$48,2,FALSE)) | N383: =IF(M383="","",IF(E383=25,VLOOKUP(L383,tarif25,11,FALSE),VLOOKUP(L383,tarif15,8,FALSE)))
K384: =IF(I384="","",VLOOKUP(I384,Listeclients,3,FALSE)) | L384: =IF(J384="","",VLOOKUP(J384,'Liste des clients'!$A$2:$C$48,2,FALSE)) | N384: =IF(M384="","",IF(E384=25,VLOOKUP(L384,tarif25,11,FALSE),VLOOKUP(L384,tarif15,8,FALSE)))
K385: =IF(I385="","",VLOOKUP(I385,Listeclients,3,FALSE)) | L385: =IF(J385="","",VLOOKUP(J385,'Liste des clients'!$A$2:$C$48,2,FALSE)) | N385: =IF(M385="","",IF(E385=25,VLOOKUP(L385,tarif25,11,FALSE),VLOOKUP(L385,tarif15,8,FALSE)))
... K395: =IF(I395="","",VLOOKUP(I395,Listeclients,3,FALSE)) | L395: =IF(J395="","",VLOOKUP(J395,'Liste des clients'!$A$2:$C$48,2,FALSE)) | N395: =IF(M395="","",IF(E395=25,VLOOKUP(L395,tarif25,11,FALSE),VLOOKUP(L395,tarif15,8,FALSE)))
K396: =IF(I396="","",VLOOKUP(I396,Listeclients,3,FALSE)) | L396: =IF(J396="","",VLOOKUP(J396,'Liste des clients'!$A$2:$C$48,2,FALSE))
K397: =IF(I397="","",VLOOKUP(I397,Listeclients,3,FALSE)) | L397: =IF(J397="","",VLOOKUP(J397,'Liste des clients'!$A$2:$C$48,2,FALSE))
K398: =IF(I398="","",VLOOKUP(I398,Listeclients,3,FALSE)) | L398: =IF(J398="","",VLOOKUP(J398,'Liste des clients'!$A$2:$C$48,2,FALSE))
K399: =IF(I399="","",VLOOKUP(I399,Listeclients,3,FALSE)) | L399: =IF(J399="","",VLOOKUP(J399,'Liste des clients'!$A$2:$C$48,2,FALSE))
K400: =IF(I400="","",VLOOKUP(I400,Listeclients,3,FALSE)) | L400: =IF(J400="","",VLOOKUP(J400,'Liste des clients'!$A$2:$C$48,2,FALSE))
K401: =IF(I401="","",VLOOKUP(I401,Listeclients,3,FALSE)) | L401: =IF(J401="","",VLOOKUP(J401,'Liste des clients'!$A$2:$C$48,2,FALSE))
K402: =IF(I402="","",VLOOKUP(I402,Listeclients,3,FALSE)) | L402: =IF(J402="","",VLOOKUP(J402,'Liste des clients'!$A$2:$C$48,2,FALSE))
K403: =IF(I403="","",VLOOKUP(I403,Listeclients,3,FALSE)) | L403: =IF(J403="","",VLOOKUP(J403,'Liste des clients'!$A$2:$C$48,2,FALSE))
K404: =IF(I404="","",VLOOKUP(I404,Listeclients,3,FALSE)) | L404: =IF(J404="","",VLOOKUP(J404,'Liste des clients'!$A$2:$C$48,2,FALSE))
K405: =IF(I405="","",VLOOKUP(I405,Listeclients,3,FALSE)) | L405: =IF(J405="","",VLOOKUP(J405,'Liste des clients'!$A$2:$C$48,2,FALSE))
K406: =IF(I406="","",VLOOKUP(I406,Listeclients,3,FALSE)) | L406: =IF(J406="","",VLOOKUP(J406,'Liste des clients'!$A$2:$C$48,2,FALSE))
K407: =IF(I407="","",VLOOKUP(I407,Listeclients,3,FALSE)) | L407: =IF(J407="","",VLOOKUP(J407,'Liste des clients'!$A$2:$C$48,2,FALSE))
... K613: =IF(I613="","",VLOOKUP(I613,Listeclients,3,FALSE)) | L613: =IF(J613="","",VLOOKUP(J613,'Liste des clients'!$A$2:$C$48,2,FALSE))
K614: =IF(I614="","",VLOOKUP(I614,Listeclients,3,FALSE))
K615: =IF(I615="","",VLOOKUP(I615,Listeclients,3,FALSE))
K616: =IF(I616="","",VLOOKUP(I616,Listeclients,3,FALSE))

Sheet Destination & Tari
A1: Destination | B1: Nombre de kilometre | C1: 5 tonnes | F1: 15 tonnes | I1: 25 tonnes
C2: Prix H.T | D2: TVA | E2: TTC | F2: =C2 -> Prix H.T | G2: =D2 -> TVA | H2: =E2 -> TTC | I2: =C2 -> Prix H.T | J2: =D2 -> TVA | K2: =E2 -> TTC | M2: Taux de tva | N2: 0.14
A3: Agadir | B3: 1022 | C3: 4281 | D3: =C3*$N$2 -> 599.34 | E3: =C3+D3 -> 4880.34 | F3: 4400 | G3: =F3*$N$2 -> 616 | H3: =F3+G3 -> 5016 | I3: 5603 | J3: =I3*$N$2 -> 784.42 | K3: =I3+J3 -> 6387.42
A4: Ain atiq | B4: 0 | C4: 0 | D4: =C4*$N$2 -> 0 | E4: =C4+D4 -> 0 | F4: 0 | G4: =F4*$N$2 -> 0 | H4: =F4+G4 -> 0 | I4: 0 | J4: =I4*$N$2 -> 0 | K4: =I4+J4 -> 0
A5: Ain harrouda | B5: 90 | C5: 730 | D5: =C5*$N$2 -> 102.2 | E5: =C5+D5 -> 832.2 | F5: 1000 | G5: =F5*$N$2 -> 140 | H5: =F5+G5 -> 1140 | I5: 1250 | J5: =I5*$N$2 -> 175 | K5: =I5+J5 -> 1425
A6: Ain sebaa | B6: 90 | C6: 730 | D6: =C6*$N$2 -> 102.2 | E6: =C6+D6 -> 832.2 | F6: 1000 | G6: =F6*$N$2 -> 140 | H6: =F6+G6 -> 1140 | I6: 1250 | J6: =I6*$N$2 -> 175 | K6: =I6+J6 -> 1425
A7: AL Hoceima | B7: 1072 | C7: 5200 | D7: =C7*$N$2 -> 728 | E7: =C7+D7 -> 5928 | F7: 4605 | G7: =F7*$N$2 -> 644.7 | H7: =F7+G7 -> 5249.7 | I7: 5780 | J7: =I7*$N$2 -> 809.2 | K7: =I7+J7 -> 6589.2
A8: Azilal | B8: 550 | C8: 3600 | D8: =C8*$N$2 -> 504 | E8: =C8+D8 -> 4104 | F8: 2940 | G8: =F8*$N$2 -> 411.6 | H8: =F8+G8 -> 3351.6 | I8: 3826 | J8: =I8*$N$2 -> 535.64 | K8: =I8+J8 -> 4361.64
A9: Berrechid | B9: 200 | C9: 1100 | D9: =C9*$N$2 -> 154 | E9: =C9+D9 -> 1254 | F9: 1130 | G9: =F9*$N$2 -> 158.2 | H9: =F9+G9 -> 1288.2 | I9: 1538 | J9: =I9*$N$2 -> 215.32 | K9: =I9+J9 -> 1753.32
A10: Bouskoura | B10: 90 | C10: 730 | D10: =C10*$N$2 -> 102.2 | E10: =C10+D10 -> 832.2 | F10: 1000 | G10: =F10*$N$2 -> 140 | H10: =F10+G10 -> 1140 | I10: 1250 | J10: =I10*$N$2 -> 175 | K10: =I10+J10 -> 1425
A11: Bouznika | B11: 150 | C11: 1000 | D11: =C11*$N$2 -> 140 | E11: =C11+D11 -> 1140 | F11: 1300 | G11: =F11*$N$2 -> 182 | H11: =F11+G11 -> 1482 | I11: 1565.79 | J11: =I11*$N$2 -> 219.2106 | K11: =I11+J11 -> 1785.0006
A12: Casablanca | B12: 90 | C12: 730 | D12: =C12*$N$2 -> 102.2 | E12: =C12+D12 -> 832.2 | F12: 1000 | G12: =F12*$N$2 -> 140 | H12: =F12+G12 -> 1140 | I12: 1250 | J12: =I12*$N$2 -> 175 | K12: =I12+J12 -> 1425
A13: casaport | B13: 95 | C13: - | D13: - | E13: - | F13: - | G13: - | H13: - | I13: 1100 | J13: =I13*$N$2 -> 154 | K13: =I13+J13 -> 1254
A14: CHEFCHAOUEN | B14: 660 | C14: 3000 | D14: =C14*$N$2 -> 420 | E14: =C14+D14 -> 3420 | F14: 3200 | G14: =F14*$N$2 -> 448 | H14: =F14+G14 -> 3648 | I14: 3400 | J14: =I14*$N$2 -> 476 | K14: =I14+J14 -> 3876
A15: El jadida | B15: 225 | C15: 1500 | D15: =C15*$N$2 -> 210 | E15: =C15+D15 -> 1710 | F15: 1660 | G15: =F15*$N$2 -> 232.4 | H15: =F15+G15 -> 1892.4 | I15: 1934 | J15: =I15*$N$2 -> 270.76 | K15: =I15+J15 -> 2204.76
A16: Errachidia | B16: 1090 | C16: 5300 | D16: =C16*$N$2 -> 742 | E16: =C16+D16 -> 6042 | F16: 4600 | G16: =F16*$N$2 -> 644 | H16: =F16+G16 -> 5244 | I16: 5820 | J16: =I16*$N$2 -> 814.8 | K16: =I16+J16 -> 6634.8
A17: Essaouira | B17: 702 | C17: 3300 | D17: =C17*$N$2 -> 462 | E17: =C17+D17 -> 3762 | F17: 3400 | G17: =F17*$N$2 -> 476 | H17: =F17+G17 -> 3876 | I17: 4414 | J17: =I17*$N$2 -> 617.96 | K17: =I17+J17 -> 5031.96
A18: Fes | B18: 650 | C18: 2800 | D18: =C18*$N$2 -> 392 | E18: =C18+D18 -> 3192 | F18: 3125 | G18: =F18*$N$2 -> 437.5 | H18: =F18+G18 -> 3562.5 | I18: 3570 | J18: =I18*$N$2 -> 499.8 | K18: =I18+J18 -> 4069.8
A19: H,Mohamadi | B19: 90 | C19: 730 | D19: =C19*$N$2 -> 102.2 | E19: =C19+D19 -> 832.2 | F19: 1000 | G19: =F19*$N$2 -> 140 | H19: =F19+G19 -> 1140 | I19: 1250 | J19: =I19*$N$2 -> 175 | K19: =I19+J19 -> 1425
A20: had soualem | B20: 90 | C20: 730 | D20: =C20*$N$2 -> 102.2 | E20: =C20+D20 -> 832.2 | F20: 1000 | G20: =F20*$N$2 -> 140 | H20: =F20+G20 -> 1140 | I20: 1250 | J20: =I20*$N$2 -> 175 | K20: =I20+J20 -> 1425
A21: Inara | B21: 500 | C21: 2300 | D21: =C21*$N$2 -> 322 | E21: =C21+D21 -> 2622 | F21: 2681 | G21: =F21*$N$2 -> 375.34 | H21: =F21+G21 -> 3056.34 | I21: 3540 | J21: =I21*$N$2 -> 495.6 | K21: =I21+J21 -> 4035.6
A22: Kenitra | B22: 330 | C22: 1700 | D22: =C22*$N$2 -> 238 | E22: =C22+D22 -> 1938 | F22: 2010 | G22: =F22*$N$2 -> 281.4 | H22: =F22+G22 -> 2291.4 | I22: 2625.44 | J22: =I22*$N$2 -> 367.5616 | K22: =I22+J22 -> 2993.0016
A23: Khouribga | B23: 240 | C23: 1700 | D23: =C23*$N$2 -> 238 | E23: =C23+D23 -> 1938 | F23: 1830 | G23: =F23*$N$2 -> 256.2 | H23: =F23+G23 -> 2086.2 | I23: 2550 | J23: =I23*$N$2 -> 357 | K23: =I23+J23 -> 2907
A24: Laayoun | B24: 2320 | C24: 9400 | D24: =C24*$N$2 -> 1316 | E24: =C24+D24 -> 10716 | F24: 9300 | G24: =F24*$N$2 -> 1302 | H24: =F24+G24 -> 10602 | I24: 11800 | J24: =I24*$N$2 -> 1652 | K24: =I24+J24 -> 13452
A25: Lissasfa | B25: 90 | C25: 730 | D25: =C25*$N$2 -> 102.2 | E25: =C25+D25 -> 832.2 | F25: 1000 | G25: =F25*$N$2 -> 140 | H25: =F25+G25 -> 1140 | I25: 1250 | J25: =I25*$N$2 -> 175 | K25: =I25+J25 -> 1425
... A39: SAFI | B39: 512 | C39: 3400 | D39: =C39*$N$2 -> 476 | E39: =C39+D39 -> 3876 | F39: 2700 | G39: =F39*$N$2 -> 378 | H39: =F39+G39 -> 3078 | I39: 3588 | J39: =I39*$N$2 -> 502.32 | K39: =I39+J39 -> 4090.32
A40: sale | B40: =B36 -> 200 | C40: 1100 | D40: =C40*$N$2 -> 154 | E40: =C40+D40 -> 1254 | F40: 1800 | G40: =F40*$N$2 -> 252 | H40: =F40+G40 -> 2052 | I40: 2300 | J40: =I40*$N$2 -> 322 | K40: =I40+J40 -> 2622
A41: Sbitte | B41: 0 | C41: 0 | D41: =C41*$N$2 -> 0 | E41: =C41+D41 -> 0 | F41: 0 | G41: =F41*$N$2 -> 0 | H41: =F41+G41 -> 0 | I41: 0 | J41: =I41*$N$2 -> 0 | K41: =I41+J41 -> 0
A42: settat | B42: 180 | C42: 1500 | D42: =C42*$N$2 -> 210 | E42: =C42+D42 -> 1710 | F42: 1500 | G42: =F42*$N$2 -> 210 | H42: =F42+G42 -> 1710 | I42: 2196 | J42: =I42*$N$2 -> 307.44 | K42: =I42+J42 -> 2503.44
A43: sidi hajaj | B43: 200 | C43: 1100 | D43: =C43*$N$2 -> 154 | E43: =C43+D43 -> 1254 | F43: 1130 | G43: =F43*$N$2 -> 158.2 | H43: =F43+G43 -> 1288.2 | I43: 1400 | J43: =I43*$N$2 -> 196 | K43: =I43+J43 -> 1596
A44: Tanger | B44: 750 | C44: 3400 | D44: =C44*$N$2 -> 476 | E44: =C44+D44 -> 3876 | F44: 3300 | G44: =F44*$N$2 -> 462 | H44: =F44+G44 -> 3762 | I44: 4725.44 | J44: =I44*$N$2 -> 661.5616 | K44: =I44+J44 -> 5387.0016
A45: TAN-TAN | B45: 1684 | C45: 7400 | D45: =C45*$N$2 -> 1036 | E45: =C45+D45 -> 8436 | F45: 7300 | G45: =F45*$N$2 -> 1022 | H45: =F45+G45 -> 8322 | I45: 9500 | J45: =I45*$N$2 -> 1330 | K45: =I45+J45 -> 10830
A46: TAZA | B46: 818 | C46: 4400 | D46: =C46*$N$2 -> 616 | E46: =C46+D46 -> 5016 | F46: 3600 | G46: =F46*$N$2 -> 504 | H46: =F46+G46 -> 4104 | I46: 4845 | J46: =I46*$N$2 -> 678.3 | K46: =I46+J46 -> 5523.3
A47: TETOUAN | B47: 770 | C47: 4300 | D47: =C47*$N$2 -> 602 | E47: =C47+D47 -> 4902 | F47: 3400 | G47: =F47*$N$2 -> 476 | H47: =F47+G47 -> 3876 | I47: 4667 | J47: =I47*$N$2 -> 653.38 | K47: =I47+J47 -> 5320.38
A48: Tit mellil | B48: 90 | C48: 770 | D48: 0 | E48: =C48+D48 -> 770 | F48: 1000 | G48: =F48*$N$2 -> 140 | H48: =F48+G48 -> 1140 | I48: 1250 | J48: =I48*$N$2 -> 175 | K48: =I48+J48 -> 1425

Sheet Facturation
B9: Numéro client | C9: =IF(F9="","",VLOOKUP(F9,Listeclients,2)) -> C1045 | E9: Facture n° | F9: f00001
B10: Nom | C10: =IF(F9="","",INDEX(' livraison'!$A$2:$O$19,MATCH($F$9,' livraison'!$P$2:$P$21,0),9)) -> Ctc maroc | E10: Date | F10: =TODAY() -> 40862
B11: Adresse | C11: =IF(F9="","",INDEX(' livraison'!$A$2:$O$19,MATCH($F$9,' livraison'!$P$2:$P$21,0),11)) -> Ouled saleh
B12: Type | C12: =IF(C10="","",VLOOKUP(C10,Listeclients,4,FALSE)) -> Entreprise
B13: liste BL
B19: DESIGNATION | D19: P.U. (H.T) | E19: QUANTITE | F19: MONTANT (H.T)
B20: Marchandise | C20: =IF($C$13="","",INDEX(' livraison'!$A$2:$O$19,MATCH($C$13,' livraison'!$B$2:$B$20,0),8)) | D20: =IF(C13="","",INDEX(' livraison'!$A$2:$O$19,MATCH($C$13,' livraison'!$B$2:$B$20,0),14)) | E20: 1 | F20: =D20*E20 -> #VALUE!
B21: Client | C21: =IF(C13="","",INDEX(' livraison'!$A$2:$O$19,MATCH($C$13,' livraison'!$B$2:$B$20,0),10))
B22: N BL | C22: =IF(C13="","",INDEX(' livraison'!$A$2:$O$19,MATCH($C$13,' livraison'!$B$2:$B$20,0),2))
B23: Date BL | C23: =IF(C13="","",INDEX(' livraison'!$A$2:$O$19,MATCH($C$13,' livraison'!$B$2:$B$20,0),3))
B24: Depart | C24: =IF(C13="","",INDEX(' livraison'!$A$2:$O$19,MATCH($C$13,' livraison'!$B$2:$B$20,0),11))
B25: Arriver | C25: =IF(C13="","",INDEX(' livraison'!$A$2:$O$19,MATCH($C$13,' livraison'!$B$2:$B$20,0),12))
B26: Marchandise | C26: =IF($C$14="","",INDEX(' livraison'!$A$2:$O$19,MATCH($C$14,' livraison'!$B$2:$B$20,0),8)) | D26: =IF(C14="","",INDEX(' livraison'!$A$2:$O$19,MATCH($C$14,' livraison'!$B$2:$B$20,0),14)) | E26: 1 | F26: =D26*E26 -> #VALUE!
B27: Client | C27: =IF($C$14="","",INDEX(' livraison'!$A$2:$O$19,MATCH($C$14,' livraison'!$B$2:$B$20,0),10))
B28: N BL | C28: =IF($C$14="","",INDEX(' livraison'!$A$2:$O$19,MATCH($C$14,' livraison'!$B$2:$B$20,0),2))
B29: Date BL | C29: =IF($C$14="","",INDEX(' livraison'!$A$2:$O$19,MATCH($C$14,' livraison'!$B$2:$B$20,0),3))
B30: Depart | C30: =IF($C$14="","",INDEX(' livraison'!$A$2:$O$19,MATCH($C$14,' livraison'!$B$2:$B$20,0),11))
B31: Arriver | C31: =IF($C$14="","",INDEX(' livraison'!$A$2:$O$19,MATCH($C$14,' livraison'!$B$2:$B$20,0),12))
B32: Marchandise | C32: =IF($C$15="","",INDEX(' livraison'!$A$2:$O$19,MATCH($C$15,' livraison'!$B$2:$B$20,0),8)) | D32: =IF(C15="","",INDEX(' livraison'!$A$2:$O$19,MATCH($C$15,' livraison'!$B$2:$B$20,0),14)) | E32: 1 | F32: =D32*E32 -> #VALUE!
B33: Client | C33: =IF($C$15="","",INDEX(' livraison'!$A$2:$O$19,MATCH($C$15,' livraison'!$B$2:$B$20,0),10))
B34: N BL | C34: =IF($C$15="","",INDEX(' livraison'!$A$2:$O$19,MATCH($C$15,' livraison'!$B$2:$B$20,0),2))
B35: Date BL | C35: =IF($C$15="","",INDEX(' livraison'!$A$2:$O$19,MATCH($C$15,' livraison'!$B$2:$B$20,0),3))
B36: Depart | C36: =IF($C$15="","",INDEX(' livraison'!$A$2:$O$19,MATCH($C$15,' livraison'!$B$2:$B$20,0),11))
B37: Arriver | C37: =IF($C$15="","",INDEX(' livraison'!$A$2:$O$19,MATCH($C$15,' livraison'!$B$2:$B$20,0),12))
C40: Total facture H.T | D40: T.V.A 19.6% | E40: Total Facture TTC
C41: =SUM(F20:F37) -> #VALUE! | D41: =C41*19.6% -> #VALUE! | E41: =D41+C41 -> #VALUE!
