Workbook
Name Pseudo: 'Tournoi jeudi'!$A$3:$A$66

Sheet Classement
A3: NB Joueurs | B3: Table 1 | D3: Table 2 | F3: Table 3 | H3: Table 4
B4: 8 | C4: Pts | D4: 8 | E4: Pts | F4: 8 | G4: Pts | H4: 9 | J4: Pts
A5: 1er | B5: Adrien | C5: 25 | D5: Bons34 | E5: 25 | F5: Popol | G5: 25 | H5: Thomas | J5: 25
A6: 2ème | B6: Fab | C6: 18 | D6: Patrice | E6: 18 | F6: Survivor | G6: 18 | H6: Florian | J6: 18
A7: 3ème | B7: Boris | C7: 13 | D7: Mickael | E7: 13 | F7: Manu | G7: 13 | H7: Adeline | J7: 13
I9: Jeudi 11 Avril 2013
D10: Pseudo | F10: Points | H10: Progression
A11: 1 | C11: 1 | D11: {=INDEX('Tournoi jeudi'!A$1:A$64,MAX(IF('Tournoi jeudi'!B$3:B$64+ROW('Tournoi jeudi'!B$3:B$64)/10^3=LARGE('Tournoi jeudi'!B$3:B$64+ROW('Tournoi jeudi'!B$3:B$64)/10^3,ROWS(N$2:N2)),ROW('Tournoi jeudi'!A$3:A$64))))} -> Patrick | F11: =LARGE('Tournoi jeudi'!B$3:B$64,ROWS(N$2:N2)) -> 50 | H11: =K11-A11 -> 0 | I11: =IF(H11=-1,"Place",M11) -> Place | J11: =IF(H11=0,"è",P11) -> è | K11: 1 | M11: =IF(H11=1,"Place",N11) -> Place | N11: =IF(H11=0,"Place","Places") -> Place | P11: =IF(H11>0,"é","ê") -> ê
A12: 2 | C12: 2 | D12: {=INDEX('Tournoi jeudi'!A$1:A$64,MAX(IF('Tournoi jeudi'!B$3:B$64+ROW('Tournoi jeudi'!B$3:B$64)/10^3=LARGE('Tournoi jeudi'!B$3:B$64+ROW('Tournoi jeudi'!B$3:B$64)/10^3,ROWS(N$2:N3)),ROW('Tournoi jeudi'!A$3:A$64))))} -> Boris | F12: =LARGE('Tournoi jeudi'!B$3:B$64,ROWS(N$2:N3)) -> 36 | H12: =K12-A12 -> 2 | I12: =IF(H12=-1,"Place",M12) -> Places | J12: =IF(H12=0,"è",P12) -> é | K12: 4 | M12: =IF(H12=1,"Place",N12) -> Places | N12: =IF(H12=0,"Place","Places") -> Places | P12: =IF(H12>0,"é","ê") -> é
A13: 3 | C13: 3 | D13: {=INDEX('Tournoi jeudi'!A$1:A$64,MAX(IF('Tournoi jeudi'!B$3:B$64+ROW('Tournoi jeudi'!B$3:B$64)/10^3=LARGE('Tournoi jeudi'!B$3:B$64+ROW('Tournoi jeudi'!B$3:B$64)/10^3,ROWS(N$2:N4)),ROW('Tournoi jeudi'!A$3:A$64))))} -> Chat des Bois | F13: =LARGE('Tournoi jeudi'!B$3:B$64,ROWS(N$2:N4)) -> 34 | H13: =K13-A13 -> 7 | I13: =IF(H13=-1,"Place",M13) -> Places | J13: =IF(H13=0,"è",P13) -> é | K13: 10 | M13: =IF(H13=1,"Place",N13) -> Places | N13: =IF(H13=0,"Place","Places") -> Places | P13: =IF(H13>0,"é","ê") -> é
A14: 4 | C14: 4 | D14: {=INDEX('Tournoi jeudi'!A$1:A$64,MAX(IF('Tournoi jeudi'!B$3:B$64+ROW('Tournoi jeudi'!B$3:B$64)/10^3=LARGE('Tournoi jeudi'!B$3:B$64+ROW('Tournoi jeudi'!B$3:B$64)/10^3,ROWS(N$2:N5)),ROW('Tournoi jeudi'!A$3:A$64))))} -> Stéphane | F14: =LARGE('Tournoi jeudi'!B$3:B$64,ROWS(N$2:N5)) -> 31 | H14: =K14-A14 -> -3 | I14: =IF(H14=-1,"Place",M14) -> Places | J14: =IF(H14=0,"è",P14) -> ê | K14: 1 | M14: =IF(H14=1,"Place",N14) -> Places | N14: =IF(H14=0,"Place","Places") -> Places | P14: =IF(H14>0,"é","ê") -> ê
A15: 5 | C15: 5 | D15: {=INDEX('Tournoi jeudi'!A$1:A$64,MAX(IF('Tournoi jeudi'!B$3:B$64+ROW('Tournoi jeudi'!B$3:B$64)/10^3=LARGE('Tournoi jeudi'!B$3:B$64+ROW('Tournoi jeudi'!B$3:B$64)/10^3,ROWS(N$2:N6)),ROW('Tournoi jeudi'!A$3:A$64))))} -> Gérald | F15: =LARGE('Tournoi jeudi'!B$3:B$64,ROWS(N$2:N6)) -> 29 | H15: =K15-A15 -> -4 | I15: =IF(H15=-1,"Place",M15) -> Places | J15: =IF(H15=0,"è",P15) -> ê | K15: 1 | M15: =IF(H15=1,"Place",N15) -> Places | N15: =IF(H15=0,"Place","Places") -> Places | P15: =IF(H15>0,"é","ê") -> ê
A16: 6 | C16: 6 | D16: {=INDEX('Tournoi jeudi'!A$1:A$64,MAX(IF('Tournoi jeudi'!B$3:B$64+ROW('Tournoi jeudi'!B$3:B$64)/10^3=LARGE('Tournoi jeudi'!B$3:B$64+ROW('Tournoi jeudi'!B$3:B$64)/10^3,ROWS(N$2:N7)),ROW('Tournoi jeudi'!A$3:A$64))))} -> Denoe | F16: =LARGE('Tournoi jeudi'!B$3:B$64,ROWS(N$2:N7)) -> 27 | H16: =K16-A16 -> -2 | I16: =IF(H16=-1,"Place",M16) -> Places | J16: =IF(H16=0,"è",P16) -> ê | K16: 4 | M16: =IF(H16=1,"Place",N16) -> Places | N16: =IF(H16=0,"Place","Places") -> Places | P16: =IF(H16>0,"é","ê") -> ê
A17: 7 | C17: 7 | D17: {=INDEX('Tournoi jeudi'!A$1:A$64,MAX(IF('Tournoi jeudi'!B$3:B$64+ROW('Tournoi jeudi'!B$3:B$64)/10^3=LARGE('Tournoi jeudi'!B$3:B$64+ROW('Tournoi jeudi'!B$3:B$64)/10^3,ROWS(N$2:N8)),ROW('Tournoi jeudi'!A$3:A$64))))} -> Jimmy | F17: =LARGE('Tournoi jeudi'!B$3:B$64,ROWS(N$2:N8)) -> 25 | I17: Entrée | M17: =IF(H17=1,"Place",N17) -> Place | N17: =IF(H17=0,"Place","Places") -> Place | P17: =IF(H17>0,"é","ê") -> ê
A18: 8 | C18: 8 | D18: {=INDEX('Tournoi jeudi'!A$1:A$64,MAX(IF('Tournoi jeudi'!B$3:B$64+ROW('Tournoi jeudi'!B$3:B$64)/10^3=LARGE('Tournoi jeudi'!B$3:B$64+ROW('Tournoi jeudi'!B$3:B$64)/10^3,ROWS(N$2:N9)),ROW('Tournoi jeudi'!A$3:A$64))))} -> Bons34 | F18: =LARGE('Tournoi jeudi'!B$3:B$64,ROWS(N$2:N9)) -> 22 | H18: =K18-A18 -> 8 | I18: =IF(H18=-1,"Place",M18) -> Places | J18: =IF(H18=0,"è",P18) -> é | K18: 16 | M18: =IF(H18=1,"Place",N18) -> Places | N18: =IF(H18=0,"Place","Places") -> Places | P18: =IF(H18>0,"é","ê") -> é
A19: 8 | C19: 8 | D19: {=INDEX('Tournoi jeudi'!A$1:A$64,MAX(IF('Tournoi jeudi'!B$3:B$64+ROW('Tournoi jeudi'!B$3:B$64)/10^3=LARGE('Tournoi jeudi'!B$3:B$64+ROW('Tournoi jeudi'!B$3:B$64)/10^3,ROWS(N$2:N10)),ROW('Tournoi jeudi'!A$3:A$64))))} -> Ginz | F19: =LARGE('Tournoi jeudi'!B$3:B$64,ROWS(N$2:N10)) -> 22 | H19: =K19-A19 -> 2 | I19: =IF(H19=-1,"Place",M19) -> Places | J19: =IF(H19=0,"è",P19) -> é | K19: 10 | M19: =IF(H19=1,"Place",N19) -> Places | N19: =IF(H19=0,"Place","Places") -> Places | P19: =IF(H19>0,"é","ê") -> é
A20: 10 | C20: 10 | D20: {=INDEX('Tournoi jeudi'!A$1:A$64,MAX(IF('Tournoi jeudi'!B$3:B$64+ROW('Tournoi jeudi'!B$3:B$64)/10^3=LARGE('Tournoi jeudi'!B$3:B$64+ROW('Tournoi jeudi'!B$3:B$64)/10^3,ROWS(N$2:N11)),ROW('Tournoi jeudi'!A$3:A$64))))} -> Darboul | F20: =LARGE('Tournoi jeudi'!B$3:B$64,ROWS(N$2:N11)) -> 19 | H20: =K20-A20 -> -3 | I20: =IF(H20=-1,"Place",M20) -> Places | J20: =IF(H20=0,"è",P20) -> ê | K20: 7 | M20: =IF(H20=1,"Place",N20) -> Places | N20: =IF(H20=0,"Place","Places") -> Places | P20: =IF(H20>0,"é","ê") -> ê
A21: 10 | C21: 10 | D21: {=INDEX('Tournoi jeudi'!A$1:A$64,MAX(IF('Tournoi jeudi'!B$3:B$64+ROW('Tournoi jeudi'!B$3:B$64)/10^3=LARGE('Tournoi jeudi'!B$3:B$64+ROW('Tournoi jeudi'!B$3:B$64)/10^3,ROWS(N$2:N12)),ROW('Tournoi jeudi'!A$3:A$64))))} -> Thomas | F21: =LARGE('Tournoi jeudi'!B$3:B$64,ROWS(N$2:N12)) -> 19 | H21: =K21-A21 -> -6 | I21: =IF(H21=-1,"Place",M21) -> Places | J21: =IF(H21=0,"è",P21) -> ê | K21: 4 | M21: =IF(H21=1,"Place",N21) -> Places | N21: =IF(H21=0,"Place","Places") -> Places | P21: =IF(H21>0,"é","ê") -> ê
A22: 10 | C22: 10 | D22: {=INDEX('Tournoi jeudi'!A$1:A$64,MAX(IF('Tournoi jeudi'!B$3:B$64+ROW('Tournoi jeudi'!B$3:B$64)/10^3=LARGE('Tournoi jeudi'!B$3:B$64+ROW('Tournoi jeudi'!B$3:B$64)/10^3,ROWS(N$2:N13)),ROW('Tournoi jeudi'!A$3:A$64))))} -> Treabice | F22: =LARGE('Tournoi jeudi'!B$3:B$64,ROWS(N$2:N13)) -> 19 | H22: =K22-A22 -> 12 | I22: =IF(H22=-1,"Place",M22) -> Places | J22: =IF(H22=0,"è",P22) -> é | K22: 22 | M22: =IF(H22=1,"Place",N22) -> Places | N22: =IF(H22=0,"Place","Places") -> Places | P22: =IF(H22>0,"é","ê") -> é
A23: 13 | C23: 13 | D23: {=INDEX('Tournoi jeudi'!A$1:A$64,MAX(IF('Tournoi jeudi'!B$3:B$64+ROW('Tournoi jeudi'!B$3:B$64)/10^3=LARGE('Tournoi jeudi'!B$3:B$64+ROW('Tournoi jeudi'!B$3:B$64)/10^3,ROWS(N$2:N14)),ROW('Tournoi jeudi'!A$3:A$64))))} -> Robin-HG | F23: =LARGE('Tournoi jeudi'!B$3:B$64,ROWS(N$2:N14)) -> 14 | H23: =K23-A23 -> 9 | I23: =IF(H23=-1,"Place",M23) -> Places | J23: =IF(H23=0,"è",P23) -> é | K23: 22 | M23: =IF(H23=1,"Place",N23) -> Places | N23: =IF(H23=0,"Place","Places") -> Places | P23: =IF(H23>0,"é","ê") -> é
A24: 14 | C24: 14 | D24: {=INDEX('Tournoi jeudi'!A$1:A$64,MAX(IF('Tournoi jeudi'!B$3:B$64+ROW('Tournoi jeudi'!B$3:B$64)/10^3=LARGE('Tournoi jeudi'!B$3:B$64+ROW('Tournoi jeudi'!B$3:B$64)/10^3,ROWS(N$2:N15)),ROW('Tournoi jeudi'!A$3:A$64))))} -> Emmanuel | F24: =LARGE('Tournoi jeudi'!B$3:B$64,ROWS(N$2:N15)) -> 13 | I24: Entrée | M24: =IF(H24=1,"Place",N24) -> Place | N24: =IF(H24=0,"Place","Places") -> Place | P24: =IF(H24>0,"é","ê") -> ê
A25: 14 | C25: 14 | D25: {=INDEX('Tournoi jeudi'!A$1:A$64,MAX(IF('Tournoi jeudi'!B$3:B$64+ROW('Tournoi jeudi'!B$3:B$64)/10^3=LARGE('Tournoi jeudi'!B$3:B$64+ROW('Tournoi jeudi'!B$3:B$64)/10^3,ROWS(N$2:N16)),ROW('Tournoi jeudi'!A$3:A$64))))} -> Fab | F25: =LARGE('Tournoi jeudi'!B$3:B$64,ROWS(N$2:N16)) -> 13 | H25: =K25-A25 -> -7 | I25: =IF(H25=-1,"Place",M25) -> Places | J25: =IF(H25=0,"è",P25) -> ê | K25: 7 | M25: =IF(H25=1,"Place",N25) -> Places | N25: =IF(H25=0,"Place","Places") -> Places | P25: =IF(H25>0,"é","ê") -> ê
A26: 14 | C26: 14 | D26: {=INDEX('Tournoi jeudi'!A$1:A$64,MAX(IF('Tournoi jeudi'!B$3:B$64+ROW('Tournoi jeudi'!B$3:B$64)/10^3=LARGE('Tournoi jeudi'!B$3:B$64+ROW('Tournoi jeudi'!B$3:B$64)/10^3,ROWS(N$2:N17)),ROW('Tournoi jeudi'!A$3:A$64))))} -> Popol | F26: =LARGE('Tournoi jeudi'!B$3:B$64,ROWS(N$2:N17)) -> 13 | H26: =K26-A26 -> -7 | I26: =IF(H26=-1,"Place",M26) -> Places | J26: =IF(H26=0,"è",P26) -> ê | K26: 7 | M26: =IF(H26=1,"Place",N26) -> Places | N26: =IF(H26=0,"Place","Places") -> Places | P26: =IF(H26>0,"é","ê") -> ê
A27: 17 | C27: 17 | D27: {=INDEX('Tournoi jeudi'!A$1:A$64,MAX(IF('Tournoi jeudi'!B$3:B$64+ROW('Tournoi jeudi'!B$3:B$64)/10^3=LARGE('Tournoi jeudi'!B$3:B$64+ROW('Tournoi jeudi'!B$3:B$64)/10^3,ROWS(N$2:N18)),ROW('Tournoi jeudi'!A$3:A$64))))} -> Florian | F27: =LARGE('Tournoi jeudi'!B$3:B$64,ROWS(N$2:N18)) -> 11 | H27: =K27-A27 -> 2 | I27: =IF(H27=-1,"Place",M27) -> Places | J27: =IF(H27=0,"è",P27) -> é | K27: 19 | M27: =IF(H27=1,"Place",N27) -> Places | N27: =IF(H27=0,"Place","Places") -> Places | P27: =IF(H27>0,"é","ê") -> é
A28: 18 | C28: 18 | D28: {=INDEX('Tournoi jeudi'!A$1:A$64,MAX(IF('Tournoi jeudi'!B$3:B$64+ROW('Tournoi jeudi'!B$3:B$64)/10^3=LARGE('Tournoi jeudi'!B$3:B$64+ROW('Tournoi jeudi'!B$3:B$64)/10^3,ROWS(N$2:N19)),ROW('Tournoi jeudi'!A$3:A$64))))} -> Ced de Viuz | F28: =LARGE('Tournoi jeudi'!B$3:B$64,ROWS(N$2:N19)) -> 10 | H28: =K28-A28 -> -5 | I28: =IF(H28=-1,"Place",M28) -> Places | J28: =IF(H28=0,"è",P28) -> ê | K28: 13 | M28: =IF(H28=1,"Place",N28) -> Places | N28: =IF(H28=0,"Place","Places") -> Places | P28: =IF(H28>0,"é","ê") -> ê
A29: 19 | C29: 19 | D29: {=INDEX('Tournoi jeudi'!A$1:A$64,MAX(IF('Tournoi jeudi'!B$3:B$64+ROW('Tournoi jeudi'!B$3:B$64)/10^3=LARGE('Tournoi jeudi'!B$3:B$64+ROW('Tournoi jeudi'!B$3:B$64)/10^3,ROWS(N$2:N20)),ROW('Tournoi jeudi'!A$3:A$64))))} -> Guillaume | F29: =LARGE('Tournoi jeudi'!B$3:B$64,ROWS(N$2:N20)) -> 9 | I29: Entrée | M29: =IF(H29=1,"Place",N29) -> Place | N29: =IF(H29=0,"Place","Places") -> Place | P29: =IF(H29>0,"é","ê") -> ê
A30: 19 | C30: 19 | D30: {=INDEX('Tournoi jeudi'!A$1:A$64,MAX(IF('Tournoi jeudi'!B$3:B$64+ROW('Tournoi jeudi'!B$3:B$64)/10^3=LARGE('Tournoi jeudi'!B$3:B$64+ROW('Tournoi jeudi'!B$3:B$64)/10^3,ROWS(N$2:N21)),ROW('Tournoi jeudi'!A$3:A$64))))} -> Patrice | F30: =LARGE('Tournoi jeudi'!B$3:B$64,ROWS(N$2:N21)) -> 9 | H30: =K30-A30 -> -9 | I30: =IF(H30=-1,"Place",M30) -> Places | J30: =IF(H30=0,"è",P30) -> ê | K30: 10 | M30: =IF(H30=1,"Place",N30) -> Places | N30: =IF(H30=0,"Place","Places") -> Places | P30: =IF(H30>0,"é","ê") -> ê
A31: 21 | C31: 21 | D31: {=INDEX('Tournoi jeudi'!A$1:A$64,MAX(IF('Tournoi jeudi'!B$3:B$64+ROW('Tournoi jeudi'!B$3:B$64)/10^3=LARGE('Tournoi jeudi'!B$3:B$64+ROW('Tournoi jeudi'!B$3:B$64)/10^3,ROWS(N$2:N22)),ROW('Tournoi jeudi'!A$3:A$64))))} -> Deladje | F31: =LARGE('Tournoi jeudi'!B$3:B$64,ROWS(N$2:N22)) -> 8 | H31: =K31-A31 -> -8 | I31: =IF(H31=-1,"Place",M31) -> Places | J31: =IF(H31=0,"è",P31) -> ê | K31: 13 | M31: =IF(H31=1,"Place",N31) -> Places | N31: =IF(H31=0,"Place","Places") -> Places | P31: =IF(H31>0,"é","ê") -> ê
A32: 21 | C32: 21 | D32: {=INDEX('Tournoi jeudi'!A$1:A$64,MAX(IF('Tournoi jeudi'!B$3:B$64+ROW('Tournoi jeudi'!B$3:B$64)/10^3=LARGE('Tournoi jeudi'!B$3:B$64+ROW('Tournoi jeudi'!B$3:B$64)/10^3,ROWS(N$2:N23)),ROW('Tournoi jeudi'!A$3:A$64))))} -> ReptPyt | F32: =LARGE('Tournoi jeudi'!B$3:B$64,ROWS(N$2:N23)) -> 8 | H32: =K32-A32 -> -8 | I32: =IF(H32=-1,"Place",M32) -> Places | J32: =IF(H32=0,"è",P32) -> ê | K32: 13 | M32: =IF(H32=1,"Place",N32) -> Places | N32: =IF(H32=0,"Place","Places") -> Places | P32: =IF(H32>0,"é","ê") -> ê
A33: 23 | C33: 23 | D33: {=INDEX('Tournoi jeudi'!A$1:A$64,MAX(IF('Tournoi jeudi'!B$3:B$64+ROW('Tournoi jeudi'!B$3:B$64)/10^3=LARGE('Tournoi jeudi'!B$3:B$64+ROW('Tournoi jeudi'!B$3:B$64)/10^3,ROWS(N$2:N24)),ROW('Tournoi jeudi'!A$3:A$64))))} -> Mickael | F33: =LARGE('Tournoi jeudi'!B$3:B$64,ROWS(N$2:N24)) -> 6 | I33: Entrée | M33: =IF(H33=1,"Place",N33) -> Place | N33: =IF(H33=0,"Place","Places") -> Place | P33: =IF(H33>0,"é","ê") -> ê
A34: 24 | C34: 24 | D34: {=INDEX('Tournoi jeudi'!A$1:A$64,MAX(IF('Tournoi jeudi'!B$3:B$64+ROW('Tournoi jeudi'!B$3:B$64)/10^3=LARGE('Tournoi jeudi'!B$3:B$64+ROW('Tournoi jeudi'!B$3:B$64)/10^3,ROWS(N$2:N25)),ROW('Tournoi jeudi'!A$3:A$64))))} -> Adrien | F34: =LARGE('Tournoi jeudi'!B$3:B$64,ROWS(N$2:N25)) -> 5 | H34: =K34-A34 -> -8 | I34: =IF(H34=-1,"Place",M34) -> Places | J34: =IF(H34=0,"è",P34) -> ê | K34: 16 | M34: =IF(H34=1,"Place",N34) -> Places | N34: =IF(H34=0,"Place","Places") -> Places | P34: =IF(H34>0,"é","ê") -> ê
A35: 24 | C35: 24 | D35: {=INDEX('Tournoi jeudi'!A$1:A$64,MAX(IF('Tournoi jeudi'!B$3:B$64+ROW('Tournoi jeudi'!B$3:B$64)/10^3=LARGE('Tournoi jeudi'!B$3:B$64+ROW('Tournoi jeudi'!B$3:B$64)/10^3,ROWS(N$2:N26)),ROW('Tournoi jeudi'!A$3:A$64))))} -> Chti74 | F35: =LARGE('Tournoi jeudi'!B$3:B$64,ROWS(N$2:N26)) -> 5 | H35: =K35-A35 -> -8 | I35: =IF(H35=-1,"Place",M35) -> Places | J35: =IF(H35=0,"è",P35) -> ê | K35: 16 | M35: =IF(H35=1,"Place",N35) -> Places | N35: =IF(H35=0,"Place","Places") -> Places | P35: =IF(H35>0,"é","ê") -> ê
A36: 24 | C36: 24 | D36: {=INDEX('Tournoi jeudi'!A$1:A$64,MAX(IF('Tournoi jeudi'!B$3:B$64+ROW('Tournoi jeudi'!B$3:B$64)/10^3=LARGE('Tournoi jeudi'!B$3:B$64+ROW('Tournoi jeudi'!B$3:B$64)/10^3,ROWS(N$2:N27)),ROW('Tournoi jeudi'!A$3:A$64))))} -> Eric | F36: =LARGE('Tournoi jeudi'!B$3:B$64,ROWS(N$2:N27)) -> 5 | H36: =K36-A36 -> -2 | I36: =IF(H36=-1,"Place",M36) -> Places | J36: =IF(H36=0,"è",P36) -> ê | K36: 22 | M36: =IF(H36=1,"Place",N36) -> Places | N36: =IF(H36=0,"Place","Places") -> Places | P36: =IF(H36>0,"é","ê") -> ê
A37: 27 | C37: 27 | D37: {=INDEX('Tournoi jeudi'!A$1:A$64,MAX(IF('Tournoi jeudi'!B$3:B$64+ROW('Tournoi jeudi'!B$3:B$64)/10^3=LARGE('Tournoi jeudi'!B$3:B$64+ROW('Tournoi jeudi'!B$3:B$64)/10^3,ROWS(N$2:N28)),ROW('Tournoi jeudi'!A$3:A$64))))} -> Paddy | F37: =LARGE('Tournoi jeudi'!B$3:B$64,ROWS(N$2:N28)) -> 3 | H37: =K37-A37 -> -8 | I37: =IF(H37=-1,"Place",M37) -> Places | J37: =IF(H37=0,"è",P37) -> ê | K37: 19 | M37: =IF(H37=1,"Place",N37) -> Places | N37: =IF(H37=0,"Place","Places") -> Places | P37: =IF(H37>0,"é","ê") -> ê
A38: 27 | C38: 27 | D38: {=INDEX('Tournoi jeudi'!A$1:A$64,MAX(IF('Tournoi jeudi'!B$3:B$64+ROW('Tournoi jeudi'!B$3:B$64)/10^3=LARGE('Tournoi jeudi'!B$3:B$64+ROW('Tournoi jeudi'!B$3:B$64)/10^3,ROWS(N$2:N29)),ROW('Tournoi jeudi'!A$3:A$64))))} -> Survivor | F38: =LARGE('Tournoi jeudi'!B$3:B$64,ROWS(N$2:N29)) -> 3 | H38: =K38-A38 -> -8 | I38: =IF(H38=-1,"Place",M38) -> Places | J38: =IF(H38=0,"è",P38) -> ê | K38: 19 | M38: =IF(H38=1,"Place",N38) -> Places | N38: =IF(H38=0,"Place","Places") -> Places | P38: =IF(H38>0,"é","ê") -> ê
A39: 29 | C39: 29 | D39: {=INDEX('Tournoi jeudi'!A$1:A$64,MAX(IF('Tournoi jeudi'!B$3:B$64+ROW('Tournoi jeudi'!B$3:B$64)/10^3=LARGE('Tournoi jeudi'!B$3:B$64+ROW('Tournoi jeudi'!B$3:B$64)/10^3,ROWS(N$2:N30)),ROW('Tournoi jeudi'!A$3:A$64))))} -> Byno | F39: =LARGE('Tournoi jeudi'!B$3:B$64,ROWS(N$2:N30)) -> 2 | I39: Entrée | M39: =IF(H39=1,"Place",N39) -> Place | N39: =IF(H39=0,"Place","Places") -> Place | P39: =IF(H39>0,"é","ê") -> ê
A40: 29 | C40: 29 | D40: {=INDEX('Tournoi jeudi'!A$1:A$64,MAX(IF('Tournoi jeudi'!B$3:B$64+ROW('Tournoi jeudi'!B$3:B$64)/10^3=LARGE('Tournoi jeudi'!B$3:B$64+ROW('Tournoi jeudi'!B$3:B$64)/10^3,ROWS(N$2:N31)),ROW('Tournoi jeudi'!A$3:A$64))))} -> DgéDgé | F40: =LARGE('Tournoi jeudi'!B$3:B$64,ROWS(N$2:N31)) -> 2 | H40: =K40-A40 -> -7 | I40: =IF(H40=-1,"Place",M40) -> Places | J40: =IF(H40=0,"è",P40) -> ê | K40: 22 | M40: =IF(H40=1,"Place",N40) -> Places | N40: =IF(H40=0,"Place","Places") -> Places | P40: =IF(H40>0,"é","ê") -> ê
A41: 31 | C41: 31 | D41: {=INDEX('Tournoi jeudi'!A$1:A$64,MAX(IF('Tournoi jeudi'!B$3:B$64+ROW('Tournoi jeudi'!B$3:B$64)/10^3=LARGE('Tournoi jeudi'!B$3:B$64+ROW('Tournoi jeudi'!B$3:B$64)/10^3,ROWS(N$2:N32)),ROW('Tournoi jeudi'!A$3:A$64))))} -> Adeline | F41: =LARGE('Tournoi jeudi'!B$3:B$64,ROWS(N$2:N32)) -> 1 | I41: Entrée | M41: =IF(H41=1,"Place",N41) -> Place | N41: =IF(H41=0,"Place","Places") -> Place | P41: =IF(H41>0,"é","ê") -> ê
A42: 31 | C42: 31 | D42: {=INDEX('Tournoi jeudi'!A$1:A$64,MAX(IF('Tournoi jeudi'!B$3:B$64+ROW('Tournoi jeudi'!B$3:B$64)/10^3=LARGE('Tournoi jeudi'!B$3:B$64+ROW('Tournoi jeudi'!B$3:B$64)/10^3,ROWS(N$2:N33)),ROW('Tournoi jeudi'!A$3:A$64))))} -> Claude | F42: =LARGE('Tournoi jeudi'!B$3:B$64,ROWS(N$2:N33)) -> 1 | H42: =K42-A42 -> -9 | I42: =IF(H42=-1,"Place",M42) -> Places | J42: =IF(H42=0,"è",P42) -> ê | K42: 22 | M42: =IF(H42=1,"Place",N42) -> Places | N42: =IF(H42=0,"Place","Places") -> Places | P42: =IF(H42>0,"é","ê") -> ê
A43: 31 | C43: 31 | D43: {=INDEX('Tournoi jeudi'!A$1:A$64,MAX(IF('Tournoi jeudi'!B$3:B$64+ROW('Tournoi jeudi'!B$3:B$64)/10^3=LARGE('Tournoi jeudi'!B$3:B$64+ROW('Tournoi jeudi'!B$3:B$64)/10^3,ROWS(N$2:N34)),ROW('Tournoi jeudi'!A$3:A$64))))} -> Cristiano | F43: =LARGE('Tournoi jeudi'!B$3:B$64,ROWS(N$2:N34)) -> 1 | I43: Entrée | M43: =IF(H43=1,"Place",N43) -> Place | N43: =IF(H43=0,"Place","Places") -> Place | P43: =IF(H43>0,"é","ê") -> ê
A44: 33 | C44: 34 | D44: {=INDEX('Tournoi jeudi'!A$1:A$64,MAX(IF('Tournoi jeudi'!B$3:B$64+ROW('Tournoi jeudi'!B$3:B$64)/10^3=LARGE('Tournoi jeudi'!B$3:B$64+ROW('Tournoi jeudi'!B$3:B$64)/10^3,ROWS(N$2:N35)),ROW('Tournoi jeudi'!A$3:A$64))))} -> Audrey | F44: =LARGE('Tournoi jeudi'!B$3:B$64,ROWS(N$2:N35)) -> 0 | I44: Entrée | M44: =IF(H44=1,"Place",N44) -> Place | N44: =IF(H44=0,"Place","Places") -> Place | P44: =IF(H44>0,"é","ê") -> ê
A45: 35 | C45: 35 | D45: {=INDEX('Tournoi jeudi'!A$1:A$64,MAX(IF('Tournoi jeudi'!B$3:B$64+ROW('Tournoi jeudi'!B$3:B$64)/10^3=LARGE('Tournoi jeudi'!B$3:B$64+ROW('Tournoi jeudi'!B$3:B$64)/10^3,ROWS(N$2:N36)),ROW('Tournoi jeudi'!A$3:A$64))))} -> Alex | F45: =LARGE('Tournoi jeudi'!B$3:B$64,ROWS(N$2:N36)) -> 0 | M45: =IF(H45=1,"Place",N45) -> Place | N45: =IF(H45=0,"Place","Places") -> Place | P45: =IF(H45>0,"é","ê") -> ê
A46: 36 | C46: 36 | D46: {=INDEX('Tournoi jeudi'!A$1:A$64,MAX(IF('Tournoi jeudi'!B$3:B$64+ROW('Tournoi jeudi'!B$3:B$64)/10^3=LARGE('Tournoi jeudi'!B$3:B$64+ROW('Tournoi jeudi'!B$3:B$64)/10^3,ROWS(N$2:N37)),ROW('Tournoi jeudi'!A$3:A$64))))} -> Angélique | F46: =LARGE('Tournoi jeudi'!B$3:B$64,ROWS(N$2:N37)) -> 0 | M46: =IF(H46=1,"Place",N46) -> Place | N46: =IF(H46=0,"Place","Places") -> Place | P46: =IF(H46>0,"é","ê") -> ê
A47: 37 | C47: 37 | D47: {=INDEX('Tournoi jeudi'!A$1:A$64,MAX(IF('Tournoi jeudi'!B$3:B$64+ROW('Tournoi jeudi'!B$3:B$64)/10^3=LARGE('Tournoi jeudi'!B$3:B$64+ROW('Tournoi jeudi'!B$3:B$64)/10^3,ROWS(N$2:N38)),ROW('Tournoi jeudi'!A$3:A$64))))} -> Bérangère | F47: =LARGE('Tournoi jeudi'!B$3:B$64,ROWS(N$2:N38)) -> 0 | M47: =IF(H47=1,"Place",N47) -> Place | N47: =IF(H47=0,"Place","Places") -> Place | P47: =IF(H47>0,"é","ê") -> ê
A48: 38 | C48: 38 | D48: {=INDEX('Tournoi jeudi'!A$1:A$64,MAX(IF('Tournoi jeudi'!B$3:B$64+ROW('Tournoi jeudi'!B$3:B$64)/10^3=LARGE('Tournoi jeudi'!B$3:B$64+ROW('Tournoi jeudi'!B$3:B$64)/10^3,ROWS(N$2:N39)),ROW('Tournoi jeudi'!A$3:A$64))))} -> Bibi | F48: =LARGE('Tournoi jeudi'!B$3:B$64,ROWS(N$2:N39)) -> 0 | M48: =IF(H48=1,"Place",N48) -> Place | N48: =IF(H48=0,"Place","Places") -> Place | P48: =IF(H48>0,"é","ê") -> ê
A49: 38 | C49: 39 | D49: {=INDEX('Tournoi jeudi'!A$1:A$64,MAX(IF('Tournoi jeudi'!B$3:B$64+ROW('Tournoi jeudi'!B$3:B$64)/10^3=LARGE('Tournoi jeudi'!B$3:B$64+ROW('Tournoi jeudi'!B$3:B$64)/10^3,ROWS(N$2:N40)),ROW('Tournoi jeudi'!A$3:A$64))))} -> Bruno | F49: =LARGE('Tournoi jeudi'!B$3:B$64,ROWS(N$2:N40)) -> 0 | M49: =IF(H49=1,"Place",N49) -> Place | N49: =IF(H49=0,"Place","Places") -> Place | P49: =IF(H49>0,"é","ê") -> ê
A50: 40 | C50: 40 | D50: {=INDEX('Tournoi jeudi'!A$1:A$64,MAX(IF('Tournoi jeudi'!B$3:B$64+ROW('Tournoi jeudi'!B$3:B$64)/10^3=LARGE('Tournoi jeudi'!B$3:B$64+ROW('Tournoi jeudi'!B$3:B$64)/10^3,ROWS(N$2:N41)),ROW('Tournoi jeudi'!A$3:A$64))))} -> Christian | F50: =LARGE('Tournoi jeudi'!B$3:B$64,ROWS(N$2:N41)) -> 0 | M50: =IF(H50=1,"Place",N50) -> Place | N50: =IF(H50=0,"Place","Places") -> Place | P50: =IF(H50>0,"é","ê") -> ê
A51: 41 | C51: 41 | D51: {=INDEX('Tournoi jeudi'!A$1:A$64,MAX(IF('Tournoi jeudi'!B$3:B$64+ROW('Tournoi jeudi'!B$3:B$64)/10^3=LARGE('Tournoi jeudi'!B$3:B$64+ROW('Tournoi jeudi'!B$3:B$64)/10^3,ROWS(N$2:N42)),ROW('Tournoi jeudi'!A$3:A$64))))} -> Cousin | F51: =LARGE('Tournoi jeudi'!B$3:B$64,ROWS(N$2:N42)) -> 0 | M51: =IF(H51=1,"Place",N51) -> Place | N51: =IF(H51=0,"Place","Places") -> Place | P51: =IF(H51>0,"é","ê") -> ê
A52: 41 | C52: 42 | D52: {=INDEX('Tournoi jeudi'!A$1:A$64,MAX(IF('Tournoi jeudi'!B$3:B$64+ROW('Tournoi jeudi'!B$3:B$64)/10^3=LARGE('Tournoi jeudi'!B$3:B$64+ROW('Tournoi jeudi'!B$3:B$64)/10^3,ROWS(N$2:N43)),ROW('Tournoi jeudi'!A$3:A$64))))} -> Damien | F52: =LARGE('Tournoi jeudi'!B$3:B$64,ROWS(N$2:N43)) -> 0 | M52: =IF(H52=1,"Place",N52) -> Place | N52: =IF(H52=0,"Place","Places") -> Place | P52: =IF(H52>0,"é","ê") -> ê
A53: 41 | C53: 43 | D53: {=INDEX('Tournoi jeudi'!A$1:A$64,MAX(IF('Tournoi jeudi'!B$3:B$64+ROW('Tournoi jeudi'!B$3:B$64)/10^3=LARGE('Tournoi jeudi'!B$3:B$64+ROW('Tournoi jeudi'!B$3:B$64)/10^3,ROWS(N$2:N44)),ROW('Tournoi jeudi'!A$3:A$64))))} -> Dylan | F53: =LARGE('Tournoi jeudi'!B$3:B$64,ROWS(N$2:N44)) -> 0 | M53: =IF(H53=1,"Place",N53) -> Place | N53: =IF(H53=0,"Place","Places") -> Place | P53: =IF(H53>0,"é","ê") -> ê
A54: 44 | C54: 44 | D54: {=INDEX('Tournoi jeudi'!A$1:A$64,MAX(IF('Tournoi jeudi'!B$3:B$64+ROW('Tournoi jeudi'!B$3:B$64)/10^3=LARGE('Tournoi jeudi'!B$3:B$64+ROW('Tournoi jeudi'!B$3:B$64)/10^3,ROWS(N$2:N45)),ROW('Tournoi jeudi'!A$3:A$64))))} -> Franck | F54: =LARGE('Tournoi jeudi'!B$3:B$64,ROWS(N$2:N45)) -> 0 | M54: =IF(H54=1,"Place",N54) -> Place | N54: =IF(H54=0,"Place","Places") -> Place | P54: =IF(H54>0,"é","ê") -> ê
A55: 44 | C55: 45 | D55: {=INDEX('Tournoi jeudi'!A$1:A$64,MAX(IF('Tournoi jeudi'!B$3:B$64+ROW('Tournoi jeudi'!B$3:B$64)/10^3=LARGE('Tournoi jeudi'!B$3:B$64+ROW('Tournoi jeudi'!B$3:B$64)/10^3,ROWS(N$2:N46)),ROW('Tournoi jeudi'!A$3:A$64))))} -> Indy180 | F55: =LARGE('Tournoi jeudi'!B$3:B$64,ROWS(N$2:N46)) -> 0 | M55: =IF(H55=1,"Place",N55) -> Place | N55: =IF(H55=0,"Place","Places") -> Place | P55: =IF(H55>0,"é","ê") -> ê
A56: 46 | C56: 46 | D56: {=INDEX('Tournoi jeudi'!A$1:A$64,MAX(IF('Tournoi jeudi'!B$3:B$64+ROW('Tournoi jeudi'!B$3:B$64)/10^3=LARGE('Tournoi jeudi'!B$3:B$64+ROW('Tournoi jeudi'!B$3:B$64)/10^3,ROWS(N$2:N47)),ROW('Tournoi jeudi'!A$3:A$64))))} -> KG | F56: =LARGE('Tournoi jeudi'!B$3:B$64,ROWS(N$2:N47)) -> 0 | M56: =IF(H56=1,"Place",N56) -> Place | N56: =IF(H56=0,"Place","Places") -> Place | P56: =IF(H56>0,"é","ê") -> ê
... A69: 54 | C69: 59 | D69: {=INDEX('Tournoi jeudi'!A$1:A$64,MAX(IF('Tournoi jeudi'!B$3:B$64+ROW('Tournoi jeudi'!B$3:B$64)/10^3=LARGE('Tournoi jeudi'!B$3:B$64+ROW('Tournoi jeudi'!B$3:B$64)/10^3,ROWS(N$2:N60)),ROW('Tournoi jeudi'!A$3:A$64))))} -> Seb375 | F69: =LARGE('Tournoi jeudi'!B$3:B$64,ROWS(N$2:N60)) -> 0 | M69: =IF(H69=1,"Place",N69) -> Place | N69: =IF(H69=0,"Place","Places") -> Place | P69: =IF(H69>0,"é","ê") -> ê
C70: 60 | D70: {=INDEX('Tournoi jeudi'!A$1:A$64,MAX(IF('Tournoi jeudi'!B$3:B$64+ROW('Tournoi jeudi'!B$3:B$64)/10^3=LARGE('Tournoi jeudi'!B$3:B$64+ROW('Tournoi jeudi'!B$3:B$64)/10^3,ROWS(N$2:N61)),ROW('Tournoi jeudi'!A$3:A$64))))} -> Soso | F70: =LARGE('Tournoi jeudi'!B$3:B$64,ROWS(N$2:N61)) -> 0 | H70: =K70-A70 -> 0 | I70: =IF(H70=-1,"Place",M70) -> Place | J70: =IF(H70=0,"è",P70) -> è | M70: =IF(H70=1,"Place",N70) -> Place | N70: =IF(H70=0,"Place","Places") -> Place | P70: =IF(H70>0,"é","ê") -> ê
C71: 61 | D71: {=INDEX('Tournoi jeudi'!A$1:A$64,MAX(IF('Tournoi jeudi'!B$3:B$64+ROW('Tournoi jeudi'!B$3:B$64)/10^3=LARGE('Tournoi jeudi'!B$3:B$64+ROW('Tournoi jeudi'!B$3:B$64)/10^3,ROWS(N$2:N62)),ROW('Tournoi jeudi'!A$3:A$64))))} -> Stéphanie | F71: =LARGE('Tournoi jeudi'!B$3:B$64,ROWS(N$2:N62)) -> 0 | H71: =K71-A71 -> 0 | I71: =IF(H71=-1,"Place",M71) -> Place | J71: =IF(H71=0,"è",P71) -> è | M71: =IF(H71=1,"Place",N71) -> Place | N71: =IF(H71=0,"Place","Places") -> Place | P71: =IF(H71>0,"é","ê") -> ê
C72: 62 | D72: {=INDEX('Tournoi jeudi'!A$1:A$64,MAX(IF('Tournoi jeudi'!B$3:B$64+ROW('Tournoi jeudi'!B$3:B$64)/10^3=LARGE('Tournoi jeudi'!B$3:B$64+ROW('Tournoi jeudi'!B$3:B$64)/10^3,ROWS(N$2:N63)),ROW('Tournoi jeudi'!A$3:A$64))))} -> Yann | F72: =LARGE('Tournoi jeudi'!B$3:B$64,ROWS(N$2:N62)) -> 0 | H72: =K72-A72 -> 0 | I72: =IF(H72=-1,"Place",M72) -> Place | J72: =IF(H72=0,"è",P72) -> è | M72: =IF(H72=1,"Place",N72) -> Place | N72: =IF(H72=0,"Place","Places") -> Place | P72: =IF(H72>0,"é","ê") -> ê
C73: 63 | D73: {=INDEX('Tournoi jeudi'!A$1:A$64,MAX(IF('Tournoi jeudi'!B$3:B$64+ROW('Tournoi jeudi'!B$3:B$64)/10^3=LARGE('Tournoi jeudi'!B$3:B$64+ROW('Tournoi jeudi'!B$3:B$64)/10^3,ROWS(N$2:N64)),ROW('Tournoi jeudi'!A$3:A$64))))} -> #NUM! | F73: =LARGE('Tournoi jeudi'!B$3:B$64,ROWS(N$2:N63)) -> 0 | H73: =K73-A73 -> 0 | I73: =IF(H73=-1,"Place",M73) -> Place | J73: =IF(H73=0,"è",P73) -> è | M73: =IF(H73=1,"Place",N73) -> Place | N73: =IF(H73=0,"Place","Places") -> Place | P73: =IF(H73>0,"é","ê") -> ê
C74: 64 | D74: {=INDEX('Tournoi jeudi'!A$1:A$64,MAX(IF('Tournoi jeudi'!B$3:B$64+ROW('Tournoi jeudi'!B$3:B$64)/10^3=LARGE('Tournoi jeudi'!B$3:B$64+ROW('Tournoi jeudi'!B$3:B$64)/10^3,ROWS(N$2:N65)),ROW('Tournoi jeudi'!A$3:A$64))))} -> #NUM! | F74: =LARGE('Tournoi jeudi'!B$3:B$64,ROWS(N$2:N64)) -> #NUM! | H74: =K74-A74 -> 0 | I74: =IF(H74=-1,"Place",M74) -> Place | J74: =IF(H74=0,"è",P74) -> è | M74: =IF(H74=1,"Place",N74) -> Place | N74: =IF(H74=0,"Place","Places") -> Place | P74: =IF(H74>0,"é","ê") -> ê
C75: 65 | D75: {=INDEX('Tournoi jeudi'!A$1:A$64,MAX(IF('Tournoi jeudi'!B$3:B$64+ROW('Tournoi jeudi'!B$3:B$64)/10^3=LARGE('Tournoi jeudi'!B$3:B$64+ROW('Tournoi jeudi'!B$3:B$64)/10^3,ROWS(N$2:N66)),ROW('Tournoi jeudi'!A$3:A$64))))} -> #NUM! | F75: =LARGE('Tournoi jeudi'!B$3:B$64,ROWS(B$2:B66)) -> #NUM! | H75: =K75-A75 -> 0 | I75: =IF(H75=-1,"Place",M75) -> Place | J75: =IF(H75=0,"è",P75) -> è | M75: =IF(H75=1,"Place",N75) -> Place | N75: =IF(H75=0,"Place","Places") -> Place | P75: =IF(H75>0,"é","ê") -> ê
C76: 66 | D76: {=INDEX('Tournoi jeudi'!A$1:A$64,MAX(IF('Tournoi jeudi'!B$3:B$64+ROW('Tournoi jeudi'!B$3:B$64)/10^3=LARGE('Tournoi jeudi'!B$3:B$64+ROW('Tournoi jeudi'!B$3:B$64)/10^3,ROWS(N$2:N67)),ROW('Tournoi jeudi'!A$3:A$64))))} -> #NUM! | F76: =LARGE('Tournoi jeudi'!B$3:B$64,ROWS(B$2:B67)) -> #NUM! | J76: =IF(H76=0,"è",P76) -> è | M76: =IF(H76=1,"Place",N76) -> Place | N76: =IF(H76=0,"Place","Places") -> Place | P76: =IF(H76>0,"é","ê") -> ê
C77: 67 | D77: {=INDEX('Tournoi jeudi'!A$1:A$64,MAX(IF('Tournoi jeudi'!B$3:B$64+ROW('Tournoi jeudi'!B$3:B$64)/10^3=LARGE('Tournoi jeudi'!B$3:B$64+ROW('Tournoi jeudi'!B$3:B$64)/10^3,ROWS(N$2:N68)),ROW('Tournoi jeudi'!A$3:A$64))))} -> #NUM! | F77: =LARGE('Tournoi jeudi'!B$3:B$64,ROWS(B$2:B68)) -> #NUM! | M77: =IF(H77=1,"Place",N77) -> Place | N77: =IF(H77=0,"Place","Places") -> Place | P77: =IF(H77>0,"é","ê") -> ê
C78: 68 | D78: {=INDEX('Tournoi jeudi'!A$1:A$64,MAX(IF('Tournoi jeudi'!B$3:B$64+ROW('Tournoi jeudi'!B$3:B$64)/10^3=LARGE('Tournoi jeudi'!B$3:B$64+ROW('Tournoi jeudi'!B$3:B$64)/10^3,ROWS(N$2:N69)),ROW('Tournoi jeudi'!A$3:A$64))))} -> #NUM! | F78: =LARGE('Tournoi jeudi'!B$3:B$64,ROWS(B$2:B69)) -> #NUM! | I78: Entrée | M78: =IF(H78=1,"Place",N78) -> Place | N78: =IF(H78=0,"Place","Places") -> Place | P78: =IF(H78>0,"é","ê") -> ê
C79: 69 | D79: {=INDEX('Tournoi jeudi'!A$1:A$64,MAX(IF('Tournoi jeudi'!B$3:B$64+ROW('Tournoi jeudi'!B$3:B$64)/10^3=LARGE('Tournoi jeudi'!B$3:B$64+ROW('Tournoi jeudi'!B$3:B$64)/10^3,ROWS(N$2:N70)),ROW('Tournoi jeudi'!A$3:A$64))))} -> #NUM! | F79: =LARGE('Tournoi jeudi'!B$3:B$64,ROWS(B$2:B70)) -> #NUM! | M79: =IF(H79=1,"Place",N79) -> Place | N79: =IF(H79=0,"Place","Places") -> Place | P79: =IF(H79>0,"é","ê") -> ê
C80: 70 | D80: {=INDEX('Tournoi jeudi'!A$1:A$64,MAX(IF('Tournoi jeudi'!B$3:B$64+ROW('Tournoi jeudi'!B$3:B$64)/10^3=LARGE('Tournoi jeudi'!B$3:B$64+ROW('Tournoi jeudi'!B$3:B$64)/10^3,ROWS(N$2:N71)),ROW('Tournoi jeudi'!A$3:A$64))))} -> #NUM! | F80: =LARGE('Tournoi jeudi'!B$3:B$64,ROWS(B$2:B71)) -> #NUM! | M80: =IF(H80=1,"Place",N80) -> Place | N80: =IF(H80=0,"Place","Places") -> Place | P80: =IF(H80>0,"é","ê") -> ê
C81: 71 | D81: {=INDEX('Tournoi jeudi'!A$1:A$64,MAX(IF('Tournoi jeudi'!B$3:B$64+ROW('Tournoi jeudi'!B$3:B$64)/10^3=LARGE('Tournoi jeudi'!B$3:B$64+ROW('Tournoi jeudi'!B$3:B$64)/10^3,ROWS(N$2:N72)),ROW('Tournoi jeudi'!A$3:A$64))))} -> #NUM! | F81: =LARGE('Tournoi jeudi'!B$3:B$64,ROWS(B$2:B72)) -> #NUM! | M81: =IF(H81=1,"Place",N81) -> Place | N81: =IF(H81=0,"Place","Places") -> Place | P81: =IF(H81>0,"é","ê") -> ê
C82: 72 | D82: {=INDEX('Tournoi jeudi'!A$1:A$64,MAX(IF('Tournoi jeudi'!B$3:B$64+ROW('Tournoi jeudi'!B$3:B$64)/10^3=LARGE('Tournoi jeudi'!B$3:B$64+ROW('Tournoi jeudi'!B$3:B$64)/10^3,ROWS(N$2:N73)),ROW('Tournoi jeudi'!A$3:A$64))))} -> #NUM! | F82: =LARGE('Tournoi jeudi'!B$3:B$64,ROWS(B$2:B73)) -> #NUM! | M82: =IF(H82=1,"Place",N82) -> Place | N82: =IF(H82=0,"Place","Places") -> Place | P82: =IF(H82>0,"é","ê") -> ê
C83: 73 | D83: {=INDEX('Tournoi jeudi'!A$1:A$64,MAX(IF('Tournoi jeudi'!B$3:B$64+ROW('Tournoi jeudi'!B$3:B$64)/10^3=LARGE('Tournoi jeudi'!B$3:B$64+ROW('Tournoi jeudi'!B$3:B$64)/10^3,ROWS(N$2:N73)),ROW('Tournoi jeudi'!A$3:A$64))))} -> #NUM! | F83: =LARGE('Tournoi jeudi'!B$3:B$64,ROWS(B$2:B74)) -> #NUM! | M83: =IF(H83=1,"Place",N83) -> Place | N83: =IF(H83=0,"Place","Places") -> Place | P83: =IF(H83>0,"é","ê") -> ê
C84: 74 | D84: {=INDEX('Tournoi jeudi'!A$1:A$64,MAX(IF('Tournoi jeudi'!B$3:B$64+ROW('Tournoi jeudi'!B$3:B$64)/10^3=LARGE('Tournoi jeudi'!B$3:B$64+ROW('Tournoi jeudi'!B$3:B$64)/10^3,ROWS(N$2:N74)),ROW('Tournoi jeudi'!A$3:A$64))))} -> #NUM! | F84: =LARGE('Tournoi jeudi'!B$3:B$64,ROWS(B$2:B75)) -> #NUM! | M84: =IF(H84=1,"Place",N84) -> Place | N84: =IF(H84=0,"Place","Places") -> Place | P84: =IF(H84>0,"é","ê") -> ê
C85: 75 | D85: {=INDEX('Tournoi jeudi'!A$1:A$64,MAX(IF('Tournoi jeudi'!B$3:B$64+ROW('Tournoi jeudi'!B$3:B$64)/10^3=LARGE('Tournoi jeudi'!B$3:B$64+ROW('Tournoi jeudi'!B$3:B$64)/10^3,ROWS(N$2:N75)),ROW('Tournoi jeudi'!A$3:A$64))))} -> #NUM! | F85: =LARGE('Tournoi jeudi'!B$3:B$64,ROWS(B$2:B76)) -> #NUM! | M85: =IF(H85=1,"Place",N85) -> Place | N85: =IF(H85=0,"Place","Places") -> Place | P85: =IF(H85>0,"é","ê") -> ê
C86: 76 | D86: {=INDEX('Tournoi jeudi'!A$1:A$64,MAX(IF('Tournoi jeudi'!B$3:B$64+ROW('Tournoi jeudi'!B$3:B$64)/10^3=LARGE('Tournoi jeudi'!B$3:B$64+ROW('Tournoi jeudi'!B$3:B$64)/10^3,ROWS(N$2:N76)),ROW('Tournoi jeudi'!A$3:A$64))))} -> #NUM! | F86: =LARGE('Tournoi jeudi'!B$3:B$64,ROWS(B$2:B77)) -> #NUM! | M86: =IF(H86=1,"Place",N86) -> Place | N86: =IF(H86=0,"Place","Places") -> Place | P86: =IF(H86>0,"é","ê") -> ê
C87: 77 | D87: {=INDEX('Tournoi jeudi'!A$1:A$64,MAX(IF('Tournoi jeudi'!B$3:B$64+ROW('Tournoi jeudi'!B$3:B$64)/10^3=LARGE('Tournoi jeudi'!B$3:B$64+ROW('Tournoi jeudi'!B$3:B$64)/10^3,ROWS(B$2:B78)),ROW('Tournoi jeudi'!A$3:A$64))))} -> #NUM! | F87: =LARGE('Tournoi jeudi'!B$3:B$64,ROWS(B$2:B78)) -> #NUM! | M87: =IF(H87=1,"Place",N87) -> Place | N87: =IF(H87=0,"Place","Places") -> Place | P87: =IF(H87>0,"é","ê") -> ê
C88: 78 | D88: {=INDEX('Tournoi jeudi'!A$1:A$64,MAX(IF('Tournoi jeudi'!B$3:B$64+ROW('Tournoi jeudi'!B$3:B$64)/10^3=LARGE('Tournoi jeudi'!B$3:B$64+ROW('Tournoi jeudi'!B$3:B$64)/10^3,ROWS(B$2:B79)),ROW('Tournoi jeudi'!A$3:A$64))))} -> #NUM! | F88: =LARGE('Tournoi jeudi'!B$3:B$64,ROWS(B$2:B79)) -> #NUM! | M88: =IF(H88=1,"Place",N88) -> Place | N88: =IF(H88=0,"Place","Places") -> Place | P88: =IF(H88>0,"é","ê") -> ê
C89: 79 | D89: {=INDEX('Tournoi jeudi'!A$1:A$64,MAX(IF('Tournoi jeudi'!B$3:B$64+ROW('Tournoi jeudi'!B$3:B$64)/10^3=LARGE('Tournoi jeudi'!B$3:B$64+ROW('Tournoi jeudi'!B$3:B$64)/10^3,ROWS(B$2:B80)),ROW('Tournoi jeudi'!A$3:A$64))))} -> #NUM! | F89: =LARGE('Tournoi jeudi'!B$3:B$64,ROWS(B$2:B80)) -> #NUM! | M89: =IF(H89=1,"Place",N89) -> Place | N89: =IF(H89=0,"Place","Places") -> Place | P89: =IF(H89>0,"é","ê") -> ê
C90: 80 | D90: {=INDEX('Tournoi jeudi'!A$1:A$64,MAX(IF('Tournoi jeudi'!B$3:B$64+ROW('Tournoi jeudi'!B$3:B$64)/10^3=LARGE('Tournoi jeudi'!B$3:B$64+ROW('Tournoi jeudi'!B$3:B$64)/10^3,ROWS(B$2:B81)),ROW('Tournoi jeudi'!A$3:A$64))))} -> #NUM! | F90: =LARGE('Tournoi jeudi'!B$3:B$64,ROWS(B$2:B81)) -> #NUM! | M90: =IF(H90=1,"Place",N90) -> Place | N90: =IF(H90=0,"Place","Places") -> Place | P90: =IF(H90>0,"é","ê") -> ê
C91: 81 | D91: {=INDEX('Tournoi jeudi'!A$1:A$64,MAX(IF('Tournoi jeudi'!B$3:B$64+ROW('Tournoi jeudi'!B$3:B$64)/10^3=LARGE('Tournoi jeudi'!B$3:B$64+ROW('Tournoi jeudi'!B$3:B$64)/10^3,ROWS(B$2:B82)),ROW('Tournoi jeudi'!A$3:A$64))))} -> #NUM! | F91: =LARGE('Tournoi jeudi'!B$3:B$64,ROWS(B$2:B82)) -> #NUM! | M91: =IF(H91=1,"Place",N91) -> Place | N91: =IF(H91=0,"Place","Places") -> Place | P91: =IF(H91>0,"é","ê") -> ê
C92: 82 | D92: {=INDEX('Tournoi jeudi'!A$1:A$64,MAX(IF('Tournoi jeudi'!B$3:B$64+ROW('Tournoi jeudi'!B$3:B$64)/10^3=LARGE('Tournoi jeudi'!B$3:B$64+ROW('Tournoi jeudi'!B$3:B$64)/10^3,ROWS(B$2:B83)),ROW('Tournoi jeudi'!A$3:A$64))))} -> #NUM! | F92: =LARGE('Tournoi jeudi'!B$3:B$64,ROWS(B$2:B83)) -> #NUM! | M92: =IF(H92=1,"Place",N92) -> Place | N92: =IF(H92=0,"Place","Places") -> Place | P92: =IF(H92>0,"é","ê") -> ê
D93: {=INDEX('Tournoi jeudi'!A$1:A$64,MAX(IF('Tournoi jeudi'!B$3:B$64+ROW('Tournoi jeudi'!B$3:B$64)/10^3=LARGE('Tournoi jeudi'!B$3:B$64+ROW('Tournoi jeudi'!B$3:B$64)/10^3,ROWS(B$2:B84)),ROW('Tournoi jeudi'!A$3:A$64))))} -> #NUM! | F93: =LARGE('Tournoi jeudi'!B$3:B$64,ROWS(B$2:B84)) -> #NUM! | M93: =IF(H93=1,"Place",N93) -> Place | N93: =IF(H93=0,"Place","Places") -> Place | P93: =IF(H93>0,"é","ê") -> ê
D94: {=INDEX('Tournoi jeudi'!A$1:A$64,MAX(IF('Tournoi jeudi'!B$3:B$64+ROW('Tournoi jeudi'!B$3:B$64)/10^3=LARGE('Tournoi jeudi'!B$3:B$64+ROW('Tournoi jeudi'!B$3:B$64)/10^3,ROWS(B$2:B85)),ROW('Tournoi jeudi'!A$3:A$64))))} -> #NUM! | F94: =LARGE('Tournoi jeudi'!B$3:B$64,ROWS(B$2:B85)) -> #NUM! | M94: =IF(H94=1,"Place",N94) -> Place | N94: =IF(H94=0,"Place","Places") -> Place | P94: =IF(H94>0,"é","ê") -> ê
D95: {=INDEX('Tournoi jeudi'!A$1:A$64,MAX(IF('Tournoi jeudi'!B$3:B$64+ROW('Tournoi jeudi'!B$3:B$64)/10^3=LARGE('Tournoi jeudi'!B$3:B$64+ROW('Tournoi jeudi'!B$3:B$64)/10^3,ROWS(B$2:B86)),ROW('Tournoi jeudi'!A$3:A$64))))} -> #NUM! | F95: =LARGE('Tournoi jeudi'!B$3:B$64,ROWS(B$2:B86)) -> #NUM! | M95: =IF(H95=1,"Place",N95) -> Place | N95: =IF(H95=0,"Place","Places") -> Place | P95: =IF(H95>0,"é","ê") -> ê
D96: {=INDEX('Tournoi jeudi'!A$1:A$64,MAX(IF('Tournoi jeudi'!B$3:B$64+ROW('Tournoi jeudi'!B$3:B$64)/10^3=LARGE('Tournoi jeudi'!B$3:B$64+ROW('Tournoi jeudi'!B$3:B$64)/10^3,ROWS(B$2:B87)),ROW('Tournoi jeudi'!A$3:A$64))))} -> #NUM! | F96: =LARGE('Tournoi jeudi'!B$3:B$64,ROWS(B$2:B87)) -> #NUM! | M96: =IF(H96=1,"Place",N96) -> Place | N96: =IF(H96=0,"Place","Places") -> Place | P96: =IF(H96>0,"é","ê") -> ê
D97: {=INDEX('Tournoi jeudi'!A$1:A$64,MAX(IF('Tournoi jeudi'!B$3:B$64+ROW('Tournoi jeudi'!B$3:B$64)/10^3=LARGE('Tournoi jeudi'!B$3:B$64+ROW('Tournoi jeudi'!B$3:B$64)/10^3,ROWS(B$2:B88)),ROW('Tournoi jeudi'!A$3:A$64))))} -> #NUM! | F97: =LARGE('Tournoi jeudi'!B$3:B$64,ROWS(B$2:B88)) -> #NUM! | M97: =IF(H97=1,"Place",N97) -> Place | N97: =IF(H97=0,"Place","Places") -> Place | P97: =IF(H97>0,"é","ê") -> ê
D98: {=INDEX('Tournoi jeudi'!A$1:A$64,MAX(IF('Tournoi jeudi'!B$3:B$64+ROW('Tournoi jeudi'!B$3:B$64)/10^3=LARGE('Tournoi jeudi'!B$3:B$64+ROW('Tournoi jeudi'!B$3:B$64)/10^3,ROWS(B$2:B89)),ROW('Tournoi jeudi'!A$3:A$64))))} -> #NUM! | F98: =LARGE('Tournoi jeudi'!B$3:B$64,ROWS(B$2:B89)) -> #NUM! | M98: =IF(H98=1,"Place",N98) -> Place | N98: =IF(H98=0,"Place","Places") -> Place | P98: =IF(H98>0,"é","ê") -> ê
D99: {=INDEX('Tournoi jeudi'!A$1:A$64,MAX(IF('Tournoi jeudi'!B$3:B$64+ROW('Tournoi jeudi'!B$3:B$64)/10^3=LARGE('Tournoi jeudi'!B$3:B$64+ROW('Tournoi jeudi'!B$3:B$64)/10^3,ROWS(B$2:B90)),ROW('Tournoi jeudi'!A$3:A$64))))} -> #NUM! | F99: =LARGE('Tournoi jeudi'!B$3:B$64,ROWS(B$2:B90)) -> #NUM! | M99: =IF(H99=1,"Place",N99) -> Place | N99: =IF(H99=0,"Place","Places") -> Place | P99: =IF(H99>0,"é","ê") -> ê
D100: {=INDEX('Tournoi jeudi'!A$1:A$64,MAX(IF('Tournoi jeudi'!B$3:B$64+ROW('Tournoi jeudi'!B$3:B$64)/10^3=LARGE('Tournoi jeudi'!B$3:B$64+ROW('Tournoi jeudi'!B$3:B$64)/10^3,ROWS(B$2:B91)),ROW('Tournoi jeudi'!A$3:A$64))))} -> #NUM! | F100: =LARGE('Tournoi jeudi'!B$3:B$64,ROWS(B$2:B91)) -> #NUM!
D101: {=INDEX('Tournoi jeudi'!A$1:A$64,MAX(IF('Tournoi jeudi'!B$3:B$64+ROW('Tournoi jeudi'!B$3:B$64)/10^3=LARGE('Tournoi jeudi'!B$3:B$64+ROW('Tournoi jeudi'!B$3:B$64)/10^3,ROWS(B$2:B92)),ROW('Tournoi jeudi'!A$3:A$64))))} -> #NUM! | F101: =LARGE('Tournoi jeudi'!B$3:B$64,ROWS(B$2:B92)) -> #NUM!
D102: {=INDEX('Tournoi jeudi'!A$1:A$64,MAX(IF('Tournoi jeudi'!B$3:B$64+ROW('Tournoi jeudi'!B$3:B$64)/10^3=LARGE('Tournoi jeudi'!B$3:B$64+ROW('Tournoi jeudi'!B$3:B$64)/10^3,ROWS(B$2:B93)),ROW('Tournoi jeudi'!A$3:A$64))))} -> #NUM! | F102: =LARGE('Tournoi jeudi'!B$3:B$64,ROWS(B$2:B93)) -> #NUM!
D103: {=INDEX('Tournoi jeudi'!A$1:A$64,MAX(IF('Tournoi jeudi'!B$3:B$64+ROW('Tournoi jeudi'!B$3:B$64)/10^3=LARGE('Tournoi jeudi'!B$3:B$64+ROW('Tournoi jeudi'!B$3:B$64)/10^3,ROWS(B$2:B94)),ROW('Tournoi jeudi'!A$3:A$64))))} -> #NUM! | F103: =LARGE('Tournoi jeudi'!B$3:B$64,ROWS(B$2:B94)) -> #NUM!
D104: {=INDEX('Tournoi jeudi'!A$1:A$64,MAX(IF('Tournoi jeudi'!B$3:B$64+ROW('Tournoi jeudi'!B$3:B$64)/10^3=LARGE('Tournoi jeudi'!B$3:B$64+ROW('Tournoi jeudi'!B$3:B$64)/10^3,ROWS(B$2:B95)),ROW('Tournoi jeudi'!A$3:A$64))))} -> #NUM! | F104: =LARGE('Tournoi jeudi'!B$3:B$64,ROWS(B$2:B95)) -> #NUM!
D105: {=INDEX('Tournoi jeudi'!A$1:A$64,MAX(IF('Tournoi jeudi'!B$3:B$64+ROW('Tournoi jeudi'!B$3:B$64)/10^3=LARGE('Tournoi jeudi'!B$3:B$64+ROW('Tournoi jeudi'!B$3:B$64)/10^3,ROWS(B$2:B96)),ROW('Tournoi jeudi'!A$3:A$64))))} -> #NUM! | F105: =LARGE('Tournoi jeudi'!B$3:B$64,ROWS(B$2:B96)) -> #NUM!
D106: {=INDEX('Tournoi jeudi'!A$1:A$64,MAX(IF('Tournoi jeudi'!B$3:B$64+ROW('Tournoi jeudi'!B$3:B$64)/10^3=LARGE('Tournoi jeudi'!B$3:B$64+ROW('Tournoi jeudi'!B$3:B$64)/10^3,ROWS(B$2:B97)),ROW('Tournoi jeudi'!A$3:A$64))))} -> #NUM! | F106: =LARGE('Tournoi jeudi'!B$3:B$64,ROWS(B$2:B97)) -> #NUM!
D107: {=INDEX('Tournoi jeudi'!A$1:A$64,MAX(IF('Tournoi jeudi'!B$3:B$64+ROW('Tournoi jeudi'!B$3:B$64)/10^3=LARGE('Tournoi jeudi'!B$3:B$64+ROW('Tournoi jeudi'!B$3:B$64)/10^3,ROWS(B$2:B98)),ROW('Tournoi jeudi'!A$3:A$64))))} -> #NUM! | F107: =LARGE('Tournoi jeudi'!B$3:B$64,ROWS(B$2:B98)) -> #NUM!
D108: {=INDEX('Tournoi jeudi'!A$1:A$64,MAX(IF('Tournoi jeudi'!B$3:B$64+ROW('Tournoi jeudi'!B$3:B$64)/10^3=LARGE('Tournoi jeudi'!B$3:B$64+ROW('Tournoi jeudi'!B$3:B$64)/10^3,ROWS(B$2:B99)),ROW('Tournoi jeudi'!A$3:A$64))))} -> #NUM! | F108: =LARGE('Tournoi jeudi'!B$3:B$64,ROWS(B$2:B99)) -> #NUM!
D109: {=INDEX('Tournoi jeudi'!A$1:A$64,MAX(IF('Tournoi jeudi'!B$3:B$64+ROW('Tournoi jeudi'!B$3:B$64)/10^3=LARGE('Tournoi jeudi'!B$3:B$64+ROW('Tournoi jeudi'!B$3:B$64)/10^3,ROWS(B$2:B100)),ROW('Tournoi jeudi'!A$3:A$64))))} -> #NUM! | F109: =LARGE('Tournoi jeudi'!B$3:B$64,ROWS(B$2:B100)) -> #NUM!
D110: {=INDEX('Tournoi jeudi'!A$1:A$64,MAX(IF('Tournoi jeudi'!B$3:B$64+ROW('Tournoi jeudi'!B$3:B$64)/10^3=LARGE('Tournoi jeudi'!B$3:B$64+ROW('Tournoi jeudi'!B$3:B$64)/10^3,ROWS(B$2:B101)),ROW('Tournoi jeudi'!A$3:A$64))))} -> #NUM! | F110: =LARGE('Tournoi jeudi'!B$3:B$64,ROWS(B$2:B101)) -> #NUM!
D111: {=INDEX('Tournoi jeudi'!A$1:A$64,MAX(IF('Tournoi jeudi'!B$3:B$64+ROW('Tournoi jeudi'!B$3:B$64)/10^3=LARGE('Tournoi jeudi'!B$3:B$64+ROW('Tournoi jeudi'!B$3:B$64)/10^3,ROWS(B$2:B102)),ROW('Tournoi jeudi'!A$3:A$64))))} -> #NUM! | F111: =LARGE('Tournoi jeudi'!B$3:B$64,ROWS(B$2:B102)) -> #NUM!
... D124: {=INDEX('Tournoi jeudi'!A$1:A$64,MAX(IF('Tournoi jeudi'!B$3:B$64+ROW('Tournoi jeudi'!B$3:B$64)/10^3=LARGE('Tournoi jeudi'!B$3:B$64+ROW('Tournoi jeudi'!B$3:B$64)/10^3,ROWS(B$2:B115)),ROW('Tournoi jeudi'!A$3:A$64))))} -> #NUM! | F124: =LARGE('Tournoi jeudi'!B$3:B$64,ROWS(B$2:B115)) -> #NUM!

Sheet Tournoi jeudi
A1: Total auto | B1: =SUM(B3:B64) -> 475 | D1: total = | E1: =475+78+78+78+79 -> 788 | R1: =25+18+13+9+6+4+2+1 -> 78
A2: Pseudo | B2: Points | C2: 41368 | D2: 41375 | E2: 41382 | F2: 41389 | G2: 41396 | H2: 41403 | I2: 41410 | J2: 41417 | K2: 41424 | L2: 41431 | M2: 41438 | N2: 41445 | O2: 41452
A3: Yann | B3: =SUM(C3:O3) -> 0 | C3: 0 | D3: 0 | E3: 0 | F3: 0 | G3: 0 | H3: 0 | I3: 0 | J3: 0 | K3: 0 | L3: 0 | M3: 0 | N3: 0 | O3: 0
A4: Treabice | B4: =SUM(C4:O4) -> 19 | C4: 1 | D4: 18 | E4: 0 | F4: 0 | G4: 0 | H4: 0 | I4: 0 | J4: 0 | K4: 0 | L4: 0 | M4: 0 | N4: 0 | O4: 0
A5: Thomas | B5: =SUM(C5:O5) -> 19 | C5: 18 | D5: 1 | E5: 0 | F5: 0 | G5: 0 | H5: 0 | I5: 0 | J5: 0 | K5: 0 | L5: 0 | M5: 0 | N5: 0 | O5: 0
A6: Survivor | B6: =SUM(C6:O6) -> 3 | C6: 2 | D6: 1 | E6: 0 | F6: 0 | G6: 0 | H6: 0 | I6: 0 | J6: 0 | K6: 0 | L6: 0 | M6: 0 | N6: 0 | O6: 0
A7: Stéphanie | B7: =SUM(C7:O7) -> 0 | C7: 0 | D7: 0 | E7: 0 | F7: 0 | G7: 0 | H7: 0 | I7: 0 | J7: 0 | K7: 0 | L7: 0 | M7: 0 | N7: 0 | O7: 0
A8: Stéphane | B8: =SUM(C8:O8) -> 31 | C8: 25 | D8: 6 | E8: 0 | F8: 0 | G8: 0 | H8: 0 | I8: 0 | J8: 0 | K8: 0 | L8: 0 | M8: 0 | N8: 0 | O8: 0
A9: Soso | B9: =SUM(C9:O9) -> 0 | C9: 0 | D9: 0 | E9: 0 | F9: 0 | G9: 0 | H9: 0 | I9: 0 | J9: 0 | K9: 0 | L9: 0 | M9: 0 | N9: 0 | O9: 0
A10: Seb375 | B10: =SUM(C10:O10) -> 0 | C10: 0 | D10: 0 | E10: 0 | F10: 0 | G10: 0 | H10: 0 | I10: 0 | J10: 0 | K10: 0 | L10: 0 | M10: 0 | N10: 0 | O10: 0
A11: Scalp74 | B11: =SUM(C11:O11) -> 0 | C11: 0 | D11: 0 | E11: 0 | F11: 0 | G11: 0 | H11: 0 | I11: 0 | J11: 0 | K11: 0 | L11: 0 | M11: 0 | N11: 0 | O11: 0
A12: Romu | B12: =SUM(C12:O12) -> 0 | C12: 0 | D12: 0 | E12: 0 | F12: 0 | G12: 0 | H12: 0 | I12: 0 | J12: 0 | K12: 0 | L12: 0 | M12: 0 | N12: 0 | O12: 0
A13: Romain | B13: =SUM(C13:O13) -> 0 | C13: 0 | D13: 0 | E13: 0 | F13: 0 | G13: 0 | H13: 0 | I13: 0 | J13: 0 | K13: 0 | L13: 0 | M13: 0 | N13: 0 | O13: 0
A14: Robin-HG | B14: =SUM(C14:O14) -> 14 | C14: 1 | D14: 13 | E14: 0 | F14: 0 | G14: 0 | H14: 0 | I14: 0 | J14: 0 | K14: 0 | L14: 0 | M14: 0 | N14: 0 | O14: 0
... A64: Adeline | B64: =SUM(C64:O64) -> 1 | C64: 0 | D64: 1 | E64: 0 | F64: 0 | G64: 0 | H64: 0 | I64: 0 | J64: 0 | K64: 0 | L64: 0 | M64: 0 | N64: 0 | O64: 0

Sheet 18 Avril
A1: Table 1 | C1: Table 2 | E1: Table 3 | G1: Table 4
B2: 25 | D2: 25 | F2: 25 | H2: 25
B3: 18 | D3: 18 | F3: 18 | H3: 18
B4: 13 | D4: 13 | F4: 13 | H4: 13
B5: 9 | D5: 9 | F5: 9 | H5: 9
B6: 6 | D6: 6 | F6: 6 | H6: 6
B7: 4 | D7: 4 | F7: 4 | H7: 4
B8: 2 | D8: 2 | F8: 2 | H8: 2
B9: 1 | D9: 1 | F9: 1 | H9: 1
B10: 1 | D10: 1 | F10: 1 | H10: 1
B11: 1 | D11: 1 | F11: 1 | H11: 1
