Workbook
Name Africains: Paramètres!$H$2
Name Dafrik: Paramètres!$H$3:$H$62
Name Deurop: Paramètres!$I$3:$I$62
Name Entrées: Paramètres!$G$3:$G$62
Name Européens: Paramètres!$I$2

Sheet Paramètres
G1: Listes des plats
A2: Liste du personnel | G2: Entrées | H2: Africains | I2: Européens
A3: Nom1 | G3: PE1 | H3: PA1 | I3: PEu1
A4: Nom2 | G4: PE2 | H4: PA2 | I4: PEu2
A5: Nom3 | G5: PE3 | H5: PA3 | I5: PEu3
A6: Nom4 | G6: PE4 | H6: PA4 | I6: PEu4
A7: Nom5 | G7: PE5 | H7: PA5 | I7: PEu5
A8: Nom6 | G8: PE6 | H8: PA6 | I8: PEu6
A9: Nom7 | G9: PE7 | H9: PA7 | I9: PEu7
A10: Nom8 | G10: PE8 | H10: PA8 | I10: PEu8
A11: Nom9 | G11: PE9 | H11: PA9 | I11: PEu9
A12: Nom10 | G12: PE10 | H12: PA10 | I12: PEu10
A13: Nom11 | G13: PE11 | H13: PA11 | I13: PEu11
... A62: Nom60 | G62: PE60 | H62: PA60 | I62: PEu60
A63: Nom61

Sheet Enregistrements
B2: Nom du plat | E2: Quantités
A3: Liste du personnel | B3: Entrées | C3: Africains | D3: Européens | E3: Entrées | F3: Africains | G3: Européens
A4: =Paramètres!A3 -> Nom1 | E4: =0 -> 0 | F4: =0 -> 0 | G4: =0 -> 0
A5: =Paramètres!A4 -> Nom2 | E5: =0 -> 0 | F5: =0 -> 0 | G5: =0 -> 0
A6: =Paramètres!A5 -> Nom3 | E6: =0 -> 0 | F6: =0 -> 0 | G6: =0 -> 0
A7: =Paramètres!A6 -> Nom4 | E7: =0 -> 0 | F7: =0 -> 0 | G7: =0 -> 0
A8: =Paramètres!A7 -> Nom5 | E8: =0 -> 0 | F8: =0 -> 0 | G8: =0 -> 0
A9: =Paramètres!A8 -> Nom6 | E9: =0 -> 0 | F9: =0 -> 0 | G9: =0 -> 0
A10: =Paramètres!A9 -> Nom7 | E10: =0 -> 0 | F10: =0 -> 0 | G10: =0 -> 0
A11: =Paramètres!A10 -> Nom8 | E11: =0 -> 0 | F11: =0 -> 0 | G11: =0 -> 0
A12: =Paramètres!A11 -> Nom9 | E12: =0 -> 0 | F12: =0 -> 0 | G12: =0 -> 0
A13: =Paramètres!A12 -> Nom10 | E13: =0 -> 0 | F13: =0 -> 0 | G13: =0 -> 0
A14: =Paramètres!A13 -> Nom11 | E14: =0 -> 0 | F14: =0 -> 0 | G14: =0 -> 0
A15: =Paramètres!A14 -> Nom12 | E15: =0 -> 0 | F15: =0 -> 0 | G15: =0 -> 0
... A64: =Paramètres!A63 -> Nom61 | E64: =0 -> 0 | F64: =0 -> 0 | G64: =0 -> 0
A66: Date d'enregistrement ® | B66: 42195

Sheet Suivi conso
A1: Personnel | B1: Plats | C1: Jours | D1: Quantités | E1: Coût | F1: Total/Coût | G1: Jours | H1: Quantités | I1: Coût | J1: Total/Coût | K1: Jours | L1: Quantités | M1: Coût | N1: Total/Coût | O1: Jours | P1: Quantités | Q1: Coût | R1: Total/Coût | S1: Jours | T1: Quantités | U1: Coût | V1: Total/Coût | W1: Jours | X1: Quantités | Y1: Coût | Z1: Total/Coût | AA1: Jours | AB1: Quantités | AC1: Coût | AD1: Total/Coût | AE1: Jours | AF1: Quantités | AG1: Coût | AH1: Total/Coût | AI1: Jours | AJ1: Quantités | AK1: Coût | AL1: Total/Coût | AM1: Jours | AN1: Quantités | AO1: Coût | AP1: Total/Coût | AQ1: Jours | AR1: Quantités | AS1: Coût | AT1: Total/Coût | AU1: Jours | AV1: Quantités | AW1: Coût | AX1: Total/Coût | AY1: Jours | AZ1: Quantités | BA1: Coût | BB1: Total/Coût | BC1: Jours | BD1: Quantités | BE1: Coût | BF1: Total/Coût | BG1: Jours | BH1: Quantités | BI1: Coût | BJ1: Total/Coût | BK1: Jours | BL1: Quantités | BM1: Coût | BN1: Total/Coût | BO1: Jours | BP1: Quantités | BQ1: Coût | BR1: Total/Coût | BS1: Jours | BT1: Quantités | BU1: Coût | BV1: Total/Coût | BW1: Jours | BX1: Quantités | BY1: Coût | BZ1: Total/Coût | CA1: Jours | CB1: Quantités | CC1: Coût | CD1: Total/Coût | CE1: Jours | CF1: Quantités | CG1: Coût | CH1: Total/Coût | CI1: Jours | CJ1: Quantités | CK1: Coût | CL1: Total/Coût | CM1: Jours | CN1: Quantités | CO1: Coût | CP1: Total/Coût | CQ1: Jours | CR1: Quantités | CS1: Coût | CT1: Total/Coût | CU1: Jours | CV1: Quantités | CW1: Coût | CX1: Total/Coût | CY1: Jours | CZ1: Quantités | DA1: Coût | DB1: Total/Coût | DC1: Jours | DD1: Quantités | DE1: Coût | DF1: Total/Coût | DG1: Jours | DH1: Quantités | DI1: Coût | DJ1: Total/Coût | DK1: Jours | DL1: Quantités | DM1: Coût | DN1: Total/Coût | DO1: Jours | DP1: Quantités | DQ1: Coût | DR1: Total/Coût | DS1: Jours | DT1: Quantités | DU1: Coût | DV1: Total/Coût | DW1: Total mensuel au : | DX1: Quantités | DY1: Coût | DZ1: Total/Coût
A2: =Versements!A3 -> Nom1 | B2: Entrée(s) | C2: 42186 | D2: 0 | E2: =D2*2000 -> 0 | F2: =SUM(E2,E3,E4) -> 0 | G2: 42187 | H2: 0 | I2: =H2*2000 -> 0 | J2: =SUM(I2,I3,I4) -> 0 | K2: 42188 | L2: 0 | M2: =L2*2000 -> 0 | N2: =SUM(M2,M3,M4) -> 0 | O2: 42189 | P2: 0 | Q2: =P2*2000 -> 0 | R2: =SUM(Q2,Q3,Q4) -> 0 | S2: 42190 | T2: 0 | U2: =T2*2000 -> 0 | V2: =SUM(U2,U3,U4) -> 0 | W2: 42191 | X2: 0 | Y2: =X2*2000 -> 0 | Z2: =SUM(Y2,Y3,Y4) -> 0 | AA2: 42192 | AB2: 0 | AC2: =AB2*2000 -> 0 | AD2: =SUM(AC2,AC3,AC4) -> 0 | AE2: 42193 | AF2: 0 | AG2: =AF2*2000 -> 0 | AH2: =SUM(AG2,AG3,AG4) -> 0 | AI2: 42194 | AJ2: 0 | AK2: =AJ2*2000 -> 0 | AL2: =SUM(AK2,AK3,AK4) -> 0 | AM2: 42195 | AN2: 0 | AO2: =AN2*2000 -> 0 | AP2: =SUM(AO2,AO3,AO4) -> 0 | AQ2: 42196 | AR2: 0 | AS2: =AR2*2000 -> 0 | AT2: =SUM(AS2,AS3,AS4) -> 0 | AU2: 42197 | AV2: 0 | AW2: =AV2*2000 -> 0 | AX2: =SUM(AW2,AW3,AW4) -> 0 | AY2: 42198 | AZ2: 0 | BA2: =AZ2*2000 -> 0 | BB2: =SUM(BA2,BA3,BA4) -> 0 | BC2: 42199 | BD2: 0 | BE2: =BD2*2000 -> 0 | BF2: =SUM(BE2,BE3,BE4) -> 0 | BG2: 42200 | BH2: 0 | BI2: =BH2*2000 -> 0 | BJ2: =SUM(BI2,BI3,BI4) -> 0 | BK2: 42201 | BL2: 0 | BM2: =BL2*2000 -> 0 | BN2: =SUM(BM2,BM3,BM4) -> 0 | BO2: 42202 | BP2: 0 | BQ2: =BP2*2000 -> 0 | BR2: =SUM(BQ2,BQ3,BQ4) -> 0 | BS2: 42203 | BT2: 0 | BU2: =BT2*2000 -> 0 | BV2: =SUM(BU2,BU3,BU4) -> 0 | BW2: 42204 | BX2: 0 | BY2: =BX2*2000 -> 0 | BZ2: =SUM(BY2,BY3,BY4) -> 0 | CA2: 42205 | CB2: 0 | CC2: =CB2*2000 -> 0 | CD2: =SUM(CC2,CC3,CC4) -> 0 | CE2: 42206 | CF2: 0 | CG2: =CF2*2000 -> 0 | CH2: =SUM(CG2,CG3,CG4) -> 0 | CI2: 42207 | CJ2: 0 | CK2: =CJ2*2000 -> 0 | CL2: =SUM(CK2,CK3,CK4) -> 0 | CM2: 42208 | CN2: 0 | CO2: =CN2*2000 -> 0 | CP2: =SUM(CO2,CO3,CO4) -> 0 | CQ2: 42209 | CR2: 0 | CS2: =CR2*2000 -> 0 | CT2: =SUM(CS2,CS3,CS4) -> 0 | CU2: 42210 | CV2: 0 | CW2: =CV2*2000 -> 0 | CX2: =SUM(CW2,CW3,CW4) -> 0 | CY2: 42211 | CZ2: 0 | DA2: =CZ2*2000 -> 0 | DB2: =SUM(DA2,DA3,DA4) -> 0 | DC2: 42212 | DD2: 0 | DE2: =DD2*2000 -> 0 | DF2: =SUM(DE2,DE3,DE4) -> 0 | DG2: 42213 | DH2: 0 | DI2: =DH2*2000 -> 0 | DJ2: =SUM(DI2,DI3,DI4) -> 0 | DK2: 42214 | DL2: 0 | DM2: =DL2*2000 -> 0 | DN2: =SUM(DM2,DM3,DM4) -> 0 | DO2: 42215 | DP2: 0 | DQ2: =DP2*2000 -> 0 | DR2: =SUM(DQ2,DQ3,DQ4) -> 0 | DS2: 42216 | DT2: 0 | DU2: =DT2*2000 -> 0 | DV2: =SUM(DU2,DU3,DU4) -> 0 | DW2: 42216 | DX2: =SUM(D2,H2,L2,P2,T2,X2,AB2,AF2,AJ2,AN2,AR2,AV2,AZ2,BD2,BH2,BL2,BP2,BT2,BX2,CB2,CF2,CJ2,CN2,CR2,CV2,CZ2,DD2,DH2,DL2,DP2,DT2) -> 0 | DY2: =DX2*2000 -> 0 | DZ2: =SUM(DY2,DY3,DY4) -> 0
B3: Plat(s) Européen | D3: 0 | E3: =D3*2000 -> 0 | H3: 0 | I3: =H3*2000 -> 0 | L3: 0 | M3: =L3*2000 -> 0 | P3: 0 | Q3: =P3*2000 -> 0 | T3: 0 | U3: =T3*2000 -> 0 | X3: 0 | Y3: =X3*2000 -> 0 | AB3: 0 | AC3: =AB3*2000 -> 0 | AF3: 0 | AG3: =AF3*2000 -> 0 | AJ3: 0 | AK3: =AJ3*2000 -> 0 | AN3: 0 | AO3: =AN3*2000 -> 0 | AR3: 0 | AS3: =AR3*2000 -> 0 | AV3: 0 | AW3: =AV3*2000 -> 0 | AZ3: 0 | BA3: =AZ3*2000 -> 0 | BD3: 0 | BE3: =BD3*2000 -> 0 | BH3: 0 | BI3: =BH3*2000 -> 0 | BL3: 0 | BM3: =BL3*2000 -> 0 | BP3: 0 | BQ3: =BP3*2000 -> 0 | BT3: 0 | BU3: =BT3*2000 -> 0 | BX3: 0 | BY3: =BX3*2000 -> 0 | CB3: 0 | CC3: =CB3*2000 -> 0 | CF3: 0 | CG3: =CF3*2000 -> 0 | CJ3: 0 | CK3: =CJ3*2000 -> 0 | CN3: 0 | CO3: =CN3*2000 -> 0 | CR3: 0 | CS3: =CR3*2000 -> 0 | CV3: 0 | CW3: =CV3*2000 -> 0 | CZ3: 0 | DA3: =CZ3*2000 -> 0 | DD3: 0 | DE3: =DD3*2000 -> 0 | DH3: 0 | DI3: =DH3*2000 -> 0 | DL3: 0 | DM3: =DL3*2000 -> 0 | DP3: 0 | DQ3: =DP3*2000 -> 0 | DT3: 0 | DU3: =DT3*2000 -> 0 | DX3: =SUM(D3,H3,L3,P3,T3,X3,AB3,AF3,AJ3,AN3,AR3,AV3,AZ3,BD3,BH3,BL3,BP3,BT3,BX3,CB3,CF3,CJ3,CN3,CR3,CV3,CZ3,DD3,DH3,DL3,DP3,DT3) -> 0 | DY3: =DX3*2000 -> 0
B4: Plat(s) Africain | D4: 0 | E4: =D4*1750 -> 0 | H4: 0 | I4: =H4*1750 -> 0 | L4: 0 | M4: =L4*1750 -> 0 | P4: 0 | Q4: =P4*1750 -> 0 | T4: 0 | U4: =T4*1750 -> 0 | X4: 0 | Y4: =X4*1750 -> 0 | AB4: 0 | AC4: =AB4*1750 -> 0 | AF4: 0 | AG4: =AF4*1750 -> 0 | AJ4: 0 | AK4: =AJ4*1750 -> 0 | AN4: 0 | AO4: =AN4*1750 -> 0 | AR4: 0 | AS4: =AR4*1750 -> 0 | AV4: 0 | AW4: =AV4*1750 -> 0 | AZ4: 0 | BA4: =AZ4*1750 -> 0 | BD4: 0 | BE4: =BD4*1750 -> 0 | BH4: 0 | BI4: =BH4*1750 -> 0 | BL4: 0 | BM4: =BL4*1750 -> 0 | BP4: 0 | BQ4: =BP4*1750 -> 0 | BT4: 0 | BU4: =BT4*1750 -> 0 | BX4: 0 | BY4: =BX4*1750 -> 0 | CB4: 0 | CC4: =CB4*1750 -> 0 | CF4: 0 | CG4: =CF4*1750 -> 0 | CJ4: 0 | CK4: =CJ4*1750 -> 0 | CN4: 0 | CO4: =CN4*1750 -> 0 | CR4: 0 | CS4: =CR4*1750 -> 0 | CV4: 0 | CW4: =CV4*1750 -> 0 | CZ4: 0 | DA4: =CZ4*1750 -> 0 | DD4: 0 | DE4: =DD4*1750 -> 0 | DH4: 0 | DI4: =DH4*1750 -> 0 | DL4: 0 | DM4: =DL4*1750 -> 0 | DP4: 0 | DQ4: =DP4*1750 -> 0 | DT4: 0 | DU4: =DT4*1750 -> 0 | DX4: =SUM(D4,H4,L4,P4,T4,X4,AB4,AF4,AJ4,AN4,AR4,AV4,AZ4,BD4,BH4,BL4,BP4,BT4,BX4,CB4,CF4,CJ4,CN4,CR4,CV4,CZ4,DD4,DH4,DL4,DP4,DT4) -> 0 | DY4: =DX4*1750 -> 0
A5: =Versements!A4 -> Nom2 | B5: Entrée(s) | C5: 42186 | D5: 0 | E5: =D5*2000 -> 0 | F5: =SUM(E5,E6,E7) -> 0 | G5: 42187 | H5: 0 | I5: =H5*2000 -> 0 | J5: =SUM(I5,I6,I7) -> 0 | K5: 42188 | L5: 0 | M5: =L5*2000 -> 0 | N5: =SUM(M5,M6,M7) -> 0 | O5: 42189 | P5: 0 | Q5: =P5*2000 -> 0 | R5: =SUM(Q5,Q6,Q7) -> 0 | S5: 42190 | T5: 0 | U5: =T5*2000 -> 0 | V5: =SUM(U5,U6,U7) -> 0 | W5: 42191 | X5: 0 | Y5: =X5*2000 -> 0 | Z5: =SUM(Y5,Y6,Y7) -> 0 | AA5: 42192 | AB5: 0 | AC5: =AB5*2000 -> 0 | AD5: =SUM(AC5,AC6,AC7) -> 0 | AE5: 42193 | AF5: 0 | AG5: =AF5*2000 -> 0 | AH5: =SUM(AG5,AG6,AG7) -> 0 | AI5: 42194 | AJ5: 0 | AK5: =AJ5*2000 -> 0 | AL5: =SUM(AK5,AK6,AK7) -> 0 | AM5: 42195 | AN5: 0 | AO5: =AN5*2000 -> 0 | AP5: =SUM(AO5,AO6,AO7) -> 0 | AQ5: 42196 | AR5: 0 | AS5: =AR5*2000 -> 0 | AT5: =SUM(AS5,AS6,AS7) -> 0 | AU5: 42197 | AV5: 0 | AW5: =AV5*2000 -> 0 | AX5: =SUM(AW5,AW6,AW7) -> 0 | AY5: 42198 | AZ5: 0 | BA5: =AZ5*2000 -> 0 | BB5: =SUM(BA5,BA6,BA7) -> 0 | BC5: 42199 | BD5: 0 | BE5: =BD5*2000 -> 0 | BF5: =SUM(BE5,BE6,BE7) -> 0 | BG5: 42200 | BH5: 0 | BI5: =BH5*2000 -> 0 | BJ5: =SUM(BI5,BI6,BI7) -> 0 | BK5: 42201 | BL5: 0 | BM5: =BL5*2000 -> 0 | BN5: =SUM(BM5,BM6,BM7) -> 0 | BO5: 42202 | BP5: 0 | BQ5: =BP5*2000 -> 0 | BR5: =SUM(BQ5,BQ6,BQ7) -> 0 | BS5: 42203 | BT5: 0 | BU5: =BT5*2000 -> 0 | BV5: =SUM(BU5,BU6,BU7) -> 0 | BW5: 42204 | BX5: 0 | BY5: =BX5*2000 -> 0 | BZ5: =SUM(BY5,BY6,BY7) -> 0 | CA5: 42205 | CB5: 0 | CC5: =CB5*2000 -> 0 | CD5: =SUM(CC5,CC6,CC7) -> 0 | CE5: 42206 | CF5: 0 | CG5: =CF5*2000 -> 0 | CH5: =SUM(CG5,CG6,CG7) -> 0 | CI5: 42207 | CJ5: 0 | CK5: =CJ5*2000 -> 0 | CL5: =SUM(CK5,CK6,CK7) -> 0 | CM5: 42208 | CN5: 0 | CO5: =CN5*2000 -> 0 | CP5: =SUM(CO5,CO6,CO7) -> 0 | CQ5: 42209 | CR5: 0 | CS5: =CR5*2000 -> 0 | CT5: =SUM(CS5,CS6,CS7) -> 0 | CU5: 42210 | CV5: 0 | CW5: =CV5*2000 -> 0 | CX5: =SUM(CW5,CW6,CW7) -> 0 | CY5: 42211 | CZ5: 0 | DA5: =CZ5*2000 -> 0 | DB5: =SUM(DA5,DA6,DA7) -> 0 | DC5: 42212 | DD5: 0 | DE5: =DD5*2000 -> 0 | DF5: =SUM(DE5,DE6,DE7) -> 0 | DG5: 42213 | DH5: 0 | DI5: =DH5*2000 -> 0 | DJ5: =SUM(DI5,DI6,DI7) -> 0 | DK5: 42214 | DL5: 0 | DM5: =DL5*2000 -> 0 | DN5: =SUM(DM5,DM6,DM7) -> 0 | DO5: 42215 | DP5: 0 | DQ5: =DP5*2000 -> 0 | DR5: =SUM(DQ5,DQ6,DQ7) -> 0 | DS5: 42216 | DT5: 0 | DU5: =DT5*2000 -> 0 | DV5: =SUM(DU5,DU6,DU7) -> 0 | DW5: 42216 | DX5: =SUM(D5,H5,L5,P5,T5,X5,AB5,AF5,AJ5,AN5,AR5,AV5,AZ5,BD5,BH5,BL5,BP5,BT5,BX5,CB5,CF5,CJ5,CN5,CR5,CV5,CZ5,DD5,DH5,DL5,DP5,DT5) -> 0 | DY5: =DX5*2000 -> 0 | DZ5: =SUM(DY5,DY6,DY7) -> 0
B6: Plat(s) Européen | D6: 0 | E6: =D6*2000 -> 0 | H6: 0 | I6: =H6*2000 -> 0 | L6: 0 | M6: =L6*2000 -> 0 | P6: 0 | Q6: =P6*2000 -> 0 | T6: 0 | U6: =T6*2000 -> 0 | X6: 0 | Y6: =X6*2000 -> 0 | AB6: 0 | AC6: =AB6*2000 -> 0 | AF6: 0 | AG6: =AF6*2000 -> 0 | AJ6: 0 | AK6: =AJ6*2000 -> 0 | AN6: 0 | AO6: =AN6*2000 -> 0 | AR6: 0 | AS6: =AR6*2000 -> 0 | AV6: 0 | AW6: =AV6*2000 -> 0 | AZ6: 0 | BA6: =AZ6*2000 -> 0 | BD6: 0 | BE6: =BD6*2000 -> 0 | BH6: 0 | BI6: =BH6*2000 -> 0 | BL6: 0 | BM6: =BL6*2000 -> 0 | BP6: 0 | BQ6: =BP6*2000 -> 0 | BT6: 0 | BU6: =BT6*2000 -> 0 | BX6: 0 | BY6: =BX6*2000 -> 0 | CB6: 0 | CC6: =CB6*2000 -> 0 | CF6: 0 | CG6: =CF6*2000 -> 0 | CJ6: 0 | CK6: =CJ6*2000 -> 0 | CN6: 0 | CO6: =CN6*2000 -> 0 | CR6: 0 | CS6: =CR6*2000 -> 0 | CV6: 0 | CW6: =CV6*2000 -> 0 | CZ6: 0 | DA6: =CZ6*2000 -> 0 | DD6: 0 | DE6: =DD6*2000 -> 0 | DH6: 0 | DI6: =DH6*2000 -> 0 | DL6: 0 | DM6: =DL6*2000 -> 0 | DP6: 0 | DQ6: =DP6*2000 -> 0 | DT6: 0 | DU6: =DT6*2000 -> 0 | DX6: =SUM(D6,H6,L6,P6,T6,X6,AB6,AF6,AJ6,AN6,AR6,AV6,AZ6,BD6,BH6,BL6,BP6,BT6,BX6,CB6,CF6,CJ6,CN6,CR6,CV6,CZ6,DD6,DH6,DL6,DP6,DT6) -> 0 | DY6: =DX6*2000 -> 0
B7: Plat(s) Africain | D7: 0 | E7: =D7*1750 -> 0 | H7: 0 | I7: =H7*1750 -> 0 | L7: 0 | M7: =L7*1750 -> 0 | P7: 0 | Q7: =P7*1750 -> 0 | T7: 0 | U7: =T7*1750 -> 0 | X7: 0 | Y7: =X7*1750 -> 0 | AB7: 0 | AC7: =AB7*1750 -> 0 | AF7: 0 | AG7: =AF7*1750 -> 0 | AJ7: 0 | AK7: =AJ7*1750 -> 0 | AN7: 0 | AO7: =AN7*1750 -> 0 | AR7: 0 | AS7: =AR7*1750 -> 0 | AV7: 0 | AW7: =AV7*1750 -> 0 | AZ7: 0 | BA7: =AZ7*1750 -> 0 | BD7: 0 | BE7: =BD7*1750 -> 0 | BH7: 0 | BI7: =BH7*1750 -> 0 | BL7: 0 | BM7: =BL7*1750 -> 0 | BP7: 0 | BQ7: =BP7*1750 -> 0 | BT7: 0 | BU7: =BT7*1750 -> 0 | BX7: 0 | BY7: =BX7*1750 -> 0 | CB7: 0 | CC7: =CB7*1750 -> 0 | CF7: 0 | CG7: =CF7*1750 -> 0 | CJ7: 0 | CK7: =CJ7*1750 -> 0 | CN7: 0 | CO7: =CN7*1750 -> 0 | CR7: 0 | CS7: =CR7*1750 -> 0 | CV7: 0 | CW7: =CV7*1750 -> 0 | CZ7: 0 | DA7: =CZ7*1750 -> 0 | DD7: 0 | DE7: =DD7*1750 -> 0 | DH7: 0 | DI7: =DH7*1750 -> 0 | DL7: 0 | DM7: =DL7*1750 -> 0 | DP7: 0 | DQ7: =DP7*1750 -> 0 | DT7: 0 | DU7: =DT7*1750 -> 0 | DX7: =SUM(D7,H7,L7,P7,T7,X7,AB7,AF7,AJ7,AN7,AR7,AV7,AZ7,BD7,BH7,BL7,BP7,BT7,BX7,CB7,CF7,CJ7,CN7,CR7,CV7,CZ7,DD7,DH7,DL7,DP7,DT7) -> 0 | DY7: =DX7*1750 -> 0
A8: =Versements!A5 -> Nom3 | B8: Entrée(s) | C8: 42186 | D8: 0 | E8: =D8*2000 -> 0 | F8: =SUM(E8,E9,E10) -> 0 | G8: 42187 | H8: 0 | I8: =H8*2000 -> 0 | J8: =SUM(I8,I9,I10) -> 0 | K8: 42188 | L8: 0 | M8: =L8*2000 -> 0 | N8: =SUM(M8,M9,M10) -> 0 | O8: 42189 | P8: 0 | Q8: =P8*2000 -> 0 | R8: =SUM(Q8,Q9,Q10) -> 0 | S8: 42190 | T8: 0 | U8: =T8*2000 -> 0 | V8: =SUM(U8,U9,U10) -> 0 | W8: 42191 | X8: 0 | Y8: =X8*2000 -> 0 | Z8: =SUM(Y8,Y9,Y10) -> 0 | AA8: 42192 | AB8: 0 | AC8: =AB8*2000 -> 0 | AD8: =SUM(AC8,AC9,AC10) -> 0 | AE8: 42193 | AF8: 0 | AG8: =AF8*2000 -> 0 | AH8: =SUM(AG8,AG9,AG10) -> 0 | AI8: 42194 | AJ8: 0 | AK8: =AJ8*2000 -> 0 | AL8: =SUM(AK8,AK9,AK10) -> 0 | AM8: 42195 | AN8: 0 | AO8: =AN8*2000 -> 0 | AP8: =SUM(AO8,AO9,AO10) -> 0 | AQ8: 42196 | AR8: 0 | AS8: =AR8*2000 -> 0 | AT8: =SUM(AS8,AS9,AS10) -> 0 | AU8: 42197 | AV8: 0 | AW8: =AV8*2000 -> 0 | AX8: =SUM(AW8,AW9,AW10) -> 0 | AY8: 42198 | AZ8: 0 | BA8: =AZ8*2000 -> 0 | BB8: =SUM(BA8,BA9,BA10) -> 0 | BC8: 42199 | BD8: 0 | BE8: =BD8*2000 -> 0 | BF8: =SUM(BE8,BE9,BE10) -> 0 | BG8: 42200 | BH8: 0 | BI8: =BH8*2000 -> 0 | BJ8: =SUM(BI8,BI9,BI10) -> 0 | BK8: 42201 | BL8: 0 | BM8: =BL8*2000 -> 0 | BN8: =SUM(BM8,BM9,BM10) -> 0 | BO8: 42202 | BP8: 0 | BQ8: =BP8*2000 -> 0 | BR8: =SUM(BQ8,BQ9,BQ10) -> 0 | BS8: 42203 | BT8: 0 | BU8: =BT8*2000 -> 0 | BV8: =SUM(BU8,BU9,BU10) -> 0 | BW8: 42204 | BX8: 0 | BY8: =BX8*2000 -> 0 | BZ8: =SUM(BY8,BY9,BY10) -> 0 | CA8: 42205 | CB8: 0 | CC8: =CB8*2000 -> 0 | CD8: =SUM(CC8,CC9,CC10) -> 0 | CE8: 42206 | CF8: 0 | CG8: =CF8*2000 -> 0 | CH8: =SUM(CG8,CG9,CG10) -> 0 | CI8: 42207 | CJ8: 0 | CK8: =CJ8*2000 -> 0 | CL8: =SUM(CK8,CK9,CK10) -> 0 | CM8: 42208 | CN8: 0 | CO8: =CN8*2000 -> 0 | CP8: =SUM(CO8,CO9,CO10) -> 0 | CQ8: 42209 | CR8: 0 | CS8: =CR8*2000 -> 0 | CT8: =SUM(CS8,CS9,CS10) -> 0 | CU8: 42210 | CV8: 0 | CW8: =CV8*2000 -> 0 | CX8: =SUM(CW8,CW9,CW10) -> 0 | CY8: 42211 | CZ8: 0 | DA8: =CZ8*2000 -> 0 | DB8: =SUM(DA8,DA9,DA10) -> 0 | DC8: 42212 | DD8: 0 | DE8: =DD8*2000 -> 0 | DF8: =SUM(DE8,DE9,DE10) -> 0 | DG8: 42213 | DH8: 0 | DI8: =DH8*2000 -> 0 | DJ8: =SUM(DI8,DI9,DI10) -> 0 | DK8: 42214 | DL8: 0 | DM8: =DL8*2000 -> 0 | DN8: =SUM(DM8,DM9,DM10) -> 0 | DO8: 42215 | DP8: 0 | DQ8: =DP8*2000 -> 0 | DR8: =SUM(DQ8,DQ9,DQ10) -> 0 | DS8: 42216 | DT8: 0 | DU8: =DT8*2000 -> 0 | DV8: =SUM(DU8,DU9,DU10) -> 0 | DW8: 42216 | DX8: =SUM(D8,H8,L8,P8,T8,X8,AB8,AF8,AJ8,AN8,AR8,AV8,AZ8,BD8,BH8,BL8,BP8,BT8,BX8,CB8,CF8,CJ8,CN8,CR8,CV8,CZ8,DD8,DH8,DL8,DP8,DT8) -> 0 | DY8: =DX8*2000 -> 0 | DZ8: =SUM(DY8,DY9,DY10) -> 0
B9: Plat(s) Européen | D9: 0 | E9: =D9*2000 -> 0 | H9: 0 | I9: =H9*2000 -> 0 | L9: 0 | M9: =L9*2000 -> 0 | P9: 0 | Q9: =P9*2000 -> 0 | T9: 0 | U9: =T9*2000 -> 0 | X9: 0 | Y9: =X9*2000 -> 0 | AB9: 0 | AC9: =AB9*2000 -> 0 | AF9: 0 | AG9: =AF9*2000 -> 0 | AJ9: 0 | AK9: =AJ9*2000 -> 0 | AN9: 0 | AO9: =AN9*2000 -> 0 | AR9: 0 | AS9: =AR9*2000 -> 0 | AV9: 0 | AW9: =AV9*2000 -> 0 | AZ9: 0 | BA9: =AZ9*2000 -> 0 | BD9: 0 | BE9: =BD9*2000 -> 0 | BH9: 0 | BI9: =BH9*2000 -> 0 | BL9: 0 | BM9: =BL9*2000 -> 0 | BP9: 0 | BQ9: =BP9*2000 -> 0 | BT9: 0 | BU9: =BT9*2000 -> 0 | BX9: 0 | BY9: =BX9*2000 -> 0 | CB9: 0 | CC9: =CB9*2000 -> 0 | CF9: 0 | CG9: =CF9*2000 -> 0 | CJ9: 0 | CK9: =CJ9*2000 -> 0 | CN9: 0 | CO9: =CN9*2000 -> 0 | CR9: 0 | CS9: =CR9*2000 -> 0 | CV9: 0 | CW9: =CV9*2000 -> 0 | CZ9: 0 | DA9: =CZ9*2000 -> 0 | DD9: 0 | DE9: =DD9*2000 -> 0 | DH9: 0 | DI9: =DH9*2000 -> 0 | DL9: 0 | DM9: =DL9*2000 -> 0 | DP9: 0 | DQ9: =DP9*2000 -> 0 | DT9: 0 | DU9: =DT9*2000 -> 0 | DX9: =SUM(D9,H9,L9,P9,T9,X9,AB9,AF9,AJ9,AN9,AR9,AV9,AZ9,BD9,BH9,BL9,BP9,BT9,BX9,CB9,CF9,CJ9,CN9,CR9,CV9,CZ9,DD9,DH9,DL9,DP9,DT9) -> 0 | DY9: =DX9*2000 -> 0
B10: Plat(s) Africain | D10: 0 | E10: =D10*1750 -> 0 | H10: 0 | I10: =H10*1750 -> 0 | L10: 0 | M10: =L10*1750 -> 0 | P10: 0 | Q10: =P10*1750 -> 0 | T10: 0 | U10: =T10*1750 -> 0 | X10: 0 | Y10: =X10*1750 -> 0 | AB10: 0 | AC10: =AB10*1750 -> 0 | AF10: 0 | AG10: =AF10*1750 -> 0 | AJ10: 0 | AK10: =AJ10*1750 -> 0 | AN10: 0 | AO10: =AN10*1750 -> 0 | AR10: 0 | AS10: =AR10*1750 -> 0 | AV10: 0 | AW10: =AV10*1750 -> 0 | AZ10: 0 | BA10: =AZ10*1750 -> 0 | BD10: 0 | BE10: =BD10*1750 -> 0 | BH10: 0 | BI10: =BH10*1750 -> 0 | BL10: 0 | BM10: =BL10*1750 -> 0 | BP10: 0 | BQ10: =BP10*1750 -> 0 | BT10: 0 | BU10: =BT10*1750 -> 0 | BX10: 0 | BY10: =BX10*1750 -> 0 | CB10: 0 | CC10: =CB10*1750 -> 0 | CF10: 0 | CG10: =CF10*1750 -> 0 | CJ10: 0 | CK10: =CJ10*1750 -> 0 | CN10: 0 | CO10: =CN10*1750 -> 0 | CR10: 0 | CS10: =CR10*1750 -> 0 | CV10: 0 | CW10: =CV10*1750 -> 0 | CZ10: 0 | DA10: =CZ10*1750 -> 0 | DD10: 0 | DE10: =DD10*1750 -> 0 | DH10: 0 | DI10: =DH10*1750 -> 0 | DL10: 0 | DM10: =DL10*1750 -> 0 | DP10: 0 | DQ10: =DP10*1750 -> 0 | DT10: 0 | DU10: =DT10*1750 -> 0 | DX10: =SUM(D10,H10,L10,P10,T10,X10,AB10,AF10,AJ10,AN10,AR10,AV10,AZ10,BD10,BH10,BL10,BP10,BT10,BX10,CB10,CF10,CJ10,CN10,CR10,CV10,CZ10,DD10,DH10,DL10,DP10,DT10) -> 0 | DY10: =DX10*1750 -> 0
A11: =Versements!A6 -> Nom4 | B11: Entrée(s) | C11: 42186 | D11: 0 | E11: =D11*2000 -> 0 | F11: =SUM(E11,E12,E13) -> 0 | G11: 42187 | H11: 0 | I11: =H11*2000 -> 0 | J11: =SUM(I11,I12,I13) -> 0 | K11: 42188 | L11: 0 | M11: =L11*2000 -> 0 | N11: =SUM(M11,M12,M13) -> 0 | O11: 42189 | P11: 0 | Q11: =P11*2000 -> 0 | R11: =SUM(Q11,Q12,Q13) -> 0 | S11: 42190 | T11: 0 | U11: =T11*2000 -> 0 | V11: =SUM(U11,U12,U13) -> 0 | W11: 42191 | X11: 0 | Y11: =X11*2000 -> 0 | Z11: =SUM(Y11,Y12,Y13) -> 0 | AA11: 42192 | AB11: 0 | AC11: =AB11*2000 -> 0 | AD11: =SUM(AC11,AC12,AC13) -> 0 | AE11: 42193 | AF11: 0 | AG11: =AF11*2000 -> 0 | AH11: =SUM(AG11,AG12,AG13) -> 0 | AI11: 42194 | AJ11: 0 | AK11: =AJ11*2000 -> 0 | AL11: =SUM(AK11,AK12,AK13) -> 0 | AM11: 42195 | AN11: 0 | AO11: =AN11*2000 -> 0 | AP11: =SUM(AO11,AO12,AO13) -> 0 | AQ11: 42196 | AR11: 0 | AS11: =AR11*2000 -> 0 | AT11: =SUM(AS11,AS12,AS13) -> 0 | AU11: 42197 | AV11: 0 | AW11: =AV11*2000 -> 0 | AX11: =SUM(AW11,AW12,AW13) -> 0 | AY11: 42198 | AZ11: 0 | BA11: =AZ11*2000 -> 0 | BB11: =SUM(BA11,BA12,BA13) -> 0 | BC11: 42199 | BD11: 0 | BE11: =BD11*2000 -> 0 | BF11: =SUM(BE11,BE12,BE13) -> 0 | BG11: 42200 | BH11: 0 | BI11: =BH11*2000 -> 0 | BJ11: =SUM(BI11,BI12,BI13) -> 0 | BK11: 42201 | BL11: 0 | BM11: =BL11*2000 -> 0 | BN11: =SUM(BM11,BM12,BM13) -> 0 | BO11: 42202 | BP11: 0 | BQ11: =BP11*2000 -> 0 | BR11: =SUM(BQ11,BQ12,BQ13) -> 0 | BS11: 42203 | BT11: 0 | BU11: =BT11*2000 -> 0 | BV11: =SUM(BU11,BU12,BU13) -> 0 | BW11: 42204 | BX11: 0 | BY11: =BX11*2000 -> 0 | BZ11: =SUM(BY11,BY12,BY13) -> 0 | CA11: 42205 | CB11: 0 | CC11: =CB11*2000 -> 0 | CD11: =SUM(CC11,CC12,CC13) -> 0 | CE11: 42206 | CF11: 0 | CG11: =CF11*2000 -> 0 | CH11: =SUM(CG11,CG12,CG13) -> 0 | CI11: 42207 | CJ11: 0 | CK11: =CJ11*2000 -> 0 | CL11: =SUM(CK11,CK12,CK13) -> 0 | CM11: 42208 | CN11: 0 | CO11: =CN11*2000 -> 0 | CP11: =SUM(CO11,CO12,CO13) -> 0 | CQ11: 42209 | CR11: 0 | CS11: =CR11*2000 -> 0 | CT11: =SUM(CS11,CS12,CS13) -> 0 | CU11: 42210 | CV11: 0 | CW11: =CV11*2000 -> 0 | CX11: =SUM(CW11,CW12,CW13) -> 0 | CY11: 42211 | CZ11: 0 | DA11: =CZ11*2000 -> 0 | DB11: =SUM(DA11,DA12,DA13) -> 0 | DC11: 42212 | DD11: 0 | DE11: =DD11*2000 -> 0 | DF11: =SUM(DE11,DE12,DE13) -> 0 | DG11: 42213 | DH11: 0 | DI11: =DH11*2000 -> 0 | DJ11: =SUM(DI11,DI12,DI13) -> 0 | DK11: 42214 | DL11: 0 | DM11: =DL11*2000 -> 0 | DN11: =SUM(DM11,DM12,DM13) -> 0 | DO11: 42215 | DP11: 0 | DQ11: =DP11*2000 -> 0 | DR11: =SUM(DQ11,DQ12,DQ13) -> 0 | DS11: 42216 | DT11: 0 | DU11: =DT11*2000 -> 0 | DV11: =SUM(DU11,DU12,DU13) -> 0 | DW11: 42216 | DX11: =SUM(D11,H11,L11,P11,T11,X11,AB11,AF11,AJ11,AN11,AR11,AV11,AZ11,BD11,BH11,BL11,BP11,BT11,BX11,CB11,CF11,CJ11,CN11,CR11,CV11,CZ11,DD11,DH11,DL11,DP11,DT11) -> 0 | DY11: =DX11*2000 -> 0 | DZ11: =SUM(DY11,DY12,DY13) -> 0
B12: Plat(s) Européen | D12: 0 | E12: =D12*2000 -> 0 | H12: 0 | I12: =H12*2000 -> 0 | L12: 0 | M12: =L12*2000 -> 0 | P12: 0 | Q12: =P12*2000 -> 0 | T12: 0 | U12: =T12*2000 -> 0 | X12: 0 | Y12: =X12*2000 -> 0 | AB12: 0 | AC12: =AB12*2000 -> 0 | AF12: 0 | AG12: =AF12*2000 -> 0 | AJ12: 0 | AK12: =AJ12*2000 -> 0 | AN12: 0 | AO12: =AN12*2000 -> 0 | AR12: 0 | AS12: =AR12*2000 -> 0 | AV12: 0 | AW12: =AV12*2000 -> 0 | AZ12: 0 | BA12: =AZ12*2000 -> 0 | BD12: 0 | BE12: =BD12*2000 -> 0 | BH12: 0 | BI12: =BH12*2000 -> 0 | BL12: 0 | BM12: =BL12*2000 -> 0 | BP12: 0 | BQ12: =BP12*2000 -> 0 | BT12: 0 | BU12: =BT12*2000 -> 0 | BX12: 0 | BY12: =BX12*2000 -> 0 | CB12: 0 | CC12: =CB12*2000 -> 0 | CF12: 0 | CG12: =CF12*2000 -> 0 | CJ12: 0 | CK12: =CJ12*2000 -> 0 | CN12: 0 | CO12: =CN12*2000 -> 0 | CR12: 0 | CS12: =CR12*2000 -> 0 | CV12: 0 | CW12: =CV12*2000 -> 0 | CZ12: 0 | DA12: =CZ12*2000 -> 0 | DD12: 0 | DE12: =DD12*2000 -> 0 | DH12: 0 | DI12: =DH12*2000 -> 0 | DL12: 0 | DM12: =DL12*2000 -> 0 | DP12: 0 | DQ12: =DP12*2000 -> 0 | DT12: 0 | DU12: =DT12*2000 -> 0 | DX12: =SUM(D12,H12,L12,P12,T12,X12,AB12,AF12,AJ12,AN12,AR12,AV12,AZ12,BD12,BH12,BL12,BP12,BT12,BX12,CB12,CF12,CJ12,CN12,CR12,CV12,CZ12,DD12,DH12,DL12,DP12,DT12) -> 0 | DY12: =DX12*2000 -> 0
B13: Plat(s) Africain | D13: 0 | E13: =D13*1750 -> 0 | H13: 0 | I13: =H13*1750 -> 0 | L13: 0 | M13: =L13*1750 -> 0 | P13: 0 | Q13: =P13*1750 -> 0 | T13: 0 | U13: =T13*1750 -> 0 | X13: 0 | Y13: =X13*1750 -> 0 | AB13: 0 | AC13: =AB13*1750 -> 0 | AF13: 0 | AG13: =AF13*1750 -> 0 | AJ13: 0 | AK13: =AJ13*1750 -> 0 | AN13: 0 | AO13: =AN13*1750 -> 0 | AR13: 0 | AS13: =AR13*1750 -> 0 | AV13: 0 | AW13: =AV13*1750 -> 0 | AZ13: 0 | BA13: =AZ13*1750 -> 0 | BD13: 0 | BE13: =BD13*1750 -> 0 | BH13: 0 | BI13: =BH13*1750 -> 0 | BL13: 0 | BM13: =BL13*1750 -> 0 | BP13: 0 | BQ13: =BP13*1750 -> 0 | BT13: 0 | BU13: =BT13*1750 -> 0 | BX13: 0 | BY13: =BX13*1750 -> 0 | CB13: 0 | CC13: =CB13*1750 -> 0 | CF13: 0 | CG13: =CF13*1750 -> 0 | CJ13: 0 | CK13: =CJ13*1750 -> 0 | CN13: 0 | CO13: =CN13*1750 -> 0 | CR13: 0 | CS13: =CR13*1750 -> 0 | CV13: 0 | CW13: =CV13*1750 -> 0 | CZ13: 0 | DA13: =CZ13*1750 -> 0 | DD13: 0 | DE13: =DD13*1750 -> 0 | DH13: 0 | DI13: =DH13*1750 -> 0 | DL13: 0 | DM13: =DL13*1750 -> 0 | DP13: 0 | DQ13: =DP13*1750 -> 0 | DT13: 0 | DU13: =DT13*1750 -> 0 | DX13: =SUM(D13,H13,L13,P13,T13,X13,AB13,AF13,AJ13,AN13,AR13,AV13,AZ13,BD13,BH13,BL13,BP13,BT13,BX13,CB13,CF13,CJ13,CN13,CR13,CV13,CZ13,DD13,DH13,DL13,DP13,DT13) -> 0 | DY13: =DX13*1750 -> 0
A14: =Versements!A7 -> Nom5 | B14: Entrée(s) | C14: 42186 | D14: 0 | E14: =D14*2000 -> 0 | F14: =SUM(E14,E15,E16) -> 0 | G14: 42187 | H14: 0 | I14: =H14*2000 -> 0 | J14: =SUM(I14,I15,I16) -> 0 | K14: 42188 | L14: 0 | M14: =L14*2000 -> 0 | N14: =SUM(M14,M15,M16) -> 0 | O14: 42189 | P14: 0 | Q14: =P14*2000 -> 0 | R14: =SUM(Q14,Q15,Q16) -> 0 | S14: 42190 | T14: 0 | U14: =T14*2000 -> 0 | V14: =SUM(U14,U15,U16) -> 0 | W14: 42191 | X14: 0 | Y14: =X14*2000 -> 0 | Z14: =SUM(Y14,Y15,Y16) -> 0 | AA14: 42192 | AB14: 0 | AC14: =AB14*2000 -> 0 | AD14: =SUM(AC14,AC15,AC16) -> 0 | AE14: 42193 | AF14: 0 | AG14: =AF14*2000 -> 0 | AH14: =SUM(AG14,AG15,AG16) -> 0 | AI14: 42194 | AJ14: 0 | AK14: =AJ14*2000 -> 0 | AL14: =SUM(AK14,AK15,AK16) -> 0 | AM14: 42195 | AN14: 0 | AO14: =AN14*2000 -> 0 | AP14: =SUM(AO14,AO15,AO16) -> 0 | AQ14: 42196 | AR14: 0 | AS14: =AR14*2000 -> 0 | AT14: =SUM(AS14,AS15,AS16) -> 0 | AU14: 42197 | AV14: 0 | AW14: =AV14*2000 -> 0 | AX14: =SUM(AW14,AW15,AW16) -> 0 | AY14: 42198 | AZ14: 0 | BA14: =AZ14*2000 -> 0 | BB14: =SUM(BA14,BA15,BA16) -> 0 | BC14: 42199 | BD14: 0 | BE14: =BD14*2000 -> 0 | BF14: =SUM(BE14,BE15,BE16) -> 0 | BG14: 42200 | BH14: 0 | BI14: =BH14*2000 -> 0 | BJ14: =SUM(BI14,BI15,BI16) -> 0 | BK14: 42201 | BL14: 0 | BM14: =BL14*2000 -> 0 | BN14: =SUM(BM14,BM15,BM16) -> 0 | BO14: 42202 | BP14: 0 | BQ14: =BP14*2000 -> 0 | BR14: =SUM(BQ14,BQ15,BQ16) -> 0 | BS14: 42203 | BT14: 0 | BU14: =BT14*2000 -> 0 | BV14: =SUM(BU14,BU15,BU16) -> 0 | BW14: 42204 | BX14: 0 | BY14: =BX14*2000 -> 0 | BZ14: =SUM(BY14,BY15,BY16) -> 0 | CA14: 42205 | CB14: 0 | CC14: =CB14*2000 -> 0 | CD14: =SUM(CC14,CC15,CC16) -> 0 | CE14: 42206 | CF14: 0 | CG14: =CF14*2000 -> 0 | CH14: =SUM(CG14,CG15,CG16) -> 0 | CI14: 42207 | CJ14: 0 | CK14: =CJ14*2000 -> 0 | CL14: =SUM(CK14,CK15,CK16) -> 0 | CM14: 42208 | CN14: 0 | CO14: =CN14*2000 -> 0 | CP14: =SUM(CO14,CO15,CO16) -> 0 | CQ14: 42209 | CR14: 0 | CS14: =CR14*2000 -> 0 | CT14: =SUM(CS14,CS15,CS16) -> 0 | CU14: 42210 | CV14: 0 | CW14: =CV14*2000 -> 0 | CX14: =SUM(CW14,CW15,CW16) -> 0 | CY14: 42211 | CZ14: 0 | DA14: =CZ14*2000 -> 0 | DB14: =SUM(DA14,DA15,DA16) -> 0 | DC14: 42212 | DD14: 0 | DE14: =DD14*2000 -> 0 | DF14: =SUM(DE14,DE15,DE16) -> 0 | DG14: 42213 | DH14: 0 | DI14: =DH14*2000 -> 0 | DJ14: =SUM(DI14,DI15,DI16) -> 0 | DK14: 42214 | DL14: 0 | DM14: =DL14*2000 -> 0 | DN14: =SUM(DM14,DM15,DM16) -> 0 | DO14: 42215 | DP14: 0 | DQ14: =DP14*2000 -> 0 | DR14: =SUM(DQ14,DQ15,DQ16) -> 0 | DS14: 42216 | DT14: 0 | DU14: =DT14*2000 -> 0 | DV14: =SUM(DU14,DU15,DU16) -> 0 | DW14: 42216 | DX14: =SUM(D14,H14,L14,P14,T14,X14,AB14,AF14,AJ14,AN14,AR14,AV14,AZ14,BD14,BH14,BL14,BP14,BT14,BX14,CB14,CF14,CJ14,CN14,CR14,CV14,CZ14,DD14,DH14,DL14,DP14,DT14) -> 0 | DY14: =DX14*2000 -> 0 | DZ14: =SUM(DY14,DY15,DY16) -> 0
B15: Plat(s) Européen | D15: 0 | E15: =D15*2000 -> 0 | H15: 0 | I15: =H15*2000 -> 0 | L15: 0 | M15: =L15*2000 -> 0 | P15: 0 | Q15: =P15*2000 -> 0 | T15: 0 | U15: =T15*2000 -> 0 | X15: 0 | Y15: =X15*2000 -> 0 | AB15: 0 | AC15: =AB15*2000 -> 0 | AF15: 0 | AG15: =AF15*2000 -> 0 | AJ15: 0 | AK15: =AJ15*2000 -> 0 | AN15: 0 | AO15: =AN15*2000 -> 0 | AR15: 0 | AS15: =AR15*2000 -> 0 | AV15: 0 | AW15: =AV15*2000 -> 0 | AZ15: 0 | BA15: =AZ15*2000 -> 0 | BD15: 0 | BE15: =BD15*2000 -> 0 | BH15: 0 | BI15: =BH15*2000 -> 0 | BL15: 0 | BM15: =BL15*2000 -> 0 | BP15: 0 | BQ15: =BP15*2000 -> 0 | BT15: 0 | BU15: =BT15*2000 -> 0 | BX15: 0 | BY15: =BX15*2000 -> 0 | CB15: 0 | CC15: =CB15*2000 -> 0 | CF15: 0 | CG15: =CF15*2000 -> 0 | CJ15: 0 | CK15: =CJ15*2000 -> 0 | CN15: 0 | CO15: =CN15*2000 -> 0 | CR15: 0 | CS15: =CR15*2000 -> 0 | CV15: 0 | CW15: =CV15*2000 -> 0 | CZ15: 0 | DA15: =CZ15*2000 -> 0 | DD15: 0 | DE15: =DD15*2000 -> 0 | DH15: 0 | DI15: =DH15*2000 -> 0 | DL15: 0 | DM15: =DL15*2000 -> 0 | DP15: 0 | DQ15: =DP15*2000 -> 0 | DT15: 0 | DU15: =DT15*2000 -> 0 | DX15: =SUM(D15,H15,L15,P15,T15,X15,AB15,AF15,AJ15,AN15,AR15,AV15,AZ15,BD15,BH15,BL15,BP15,BT15,BX15,CB15,CF15,CJ15,CN15,CR15,CV15,CZ15,DD15,DH15,DL15,DP15,DT15) -> 0 | DY15: =DX15*2000 -> 0
B16: Plat(s) Africain | D16: 0 | E16: =D16*1750 -> 0 | H16: 0 | I16: =H16*1750 -> 0 | L16: 0 | M16: =L16*1750 -> 0 | P16: 0 | Q16: =P16*1750 -> 0 | T16: 0 | U16: =T16*1750 -> 0 | X16: 0 | Y16: =X16*1750 -> 0 | AB16: 0 | AC16: =AB16*1750 -> 0 | AF16: 0 | AG16: =AF16*1750 -> 0 | AJ16: 0 | AK16: =AJ16*1750 -> 0 | AN16: 0 | AO16: =AN16*1750 -> 0 | AR16: 0 | AS16: =AR16*1750 -> 0 | AV16: 0 | AW16: =AV16*1750 -> 0 | AZ16: 0 | BA16: =AZ16*1750 -> 0 | BD16: 0 | BE16: =BD16*1750 -> 0 | BH16: 0 | BI16: =BH16*1750 -> 0 | BL16: 0 | BM16: =BL16*1750 -> 0 | BP16: 0 | BQ16: =BP16*1750 -> 0 | BT16: 0 | BU16: =BT16*1750 -> 0 | BX16: 0 | BY16: =BX16*1750 -> 0 | CB16: 0 | CC16: =CB16*1750 -> 0 | CF16: 0 | CG16: =CF16*1750 -> 0 | CJ16: 0 | CK16: =CJ16*1750 -> 0 | CN16: 0 | CO16: =CN16*1750 -> 0 | CR16: 0 | CS16: =CR16*1750 -> 0 | CV16: 0 | CW16: =CV16*1750 -> 0 | CZ16: 0 | DA16: =CZ16*1750 -> 0 | DD16: 0 | DE16: =DD16*1750 -> 0 | DH16: 0 | DI16: =DH16*1750 -> 0 | DL16: 0 | DM16: =DL16*1750 -> 0 | DP16: 0 | DQ16: =DP16*1750 -> 0 | DT16: 0 | DU16: =DT16*1750 -> 0 | DX16: =SUM(D16,H16,L16,P16,T16,X16,AB16,AF16,AJ16,AN16,AR16,AV16,AZ16,BD16,BH16,BL16,BP16,BT16,BX16,CB16,CF16,CJ16,CN16,CR16,CV16,CZ16,DD16,DH16,DL16,DP16,DT16) -> 0 | DY16: =DX16*1750 -> 0
A17: =Versements!A8 -> Nom6 | B17: Entrée(s) | C17: 42186 | D17: 0 | E17: =D17*2000 -> 0 | F17: =SUM(E17,E18,E19) -> 0 | G17: 42187 | H17: 0 | I17: =H17*2000 -> 0 | J17: =SUM(I17,I18,I19) -> 0 | K17: 42188 | L17: 0 | M17: =L17*2000 -> 0 | N17: =SUM(M17,M18,M19) -> 0 | O17: 42189 | P17: 0 | Q17: =P17*2000 -> 0 | R17: =SUM(Q17,Q18,Q19) -> 0 | S17: 42190 | T17: 0 | U17: =T17*2000 -> 0 | V17: =SUM(U17,U18,U19) -> 0 | W17: 42191 | X17: 0 | Y17: =X17*2000 -> 0 | Z17: =SUM(Y17,Y18,Y19) -> 0 | AA17: 42192 | AB17: 0 | AC17: =AB17*2000 -> 0 | AD17: =SUM(AC17,AC18,AC19) -> 0 | AE17: 42193 | AF17: 0 | AG17: =AF17*2000 -> 0 | AH17: =SUM(AG17,AG18,AG19) -> 0 | AI17: 42194 | AJ17: 0 | AK17: =AJ17*2000 -> 0 | AL17: =SUM(AK17,AK18,AK19) -> 0 | AM17: 42195 | AN17: 0 | AO17: =AN17*2000 -> 0 | AP17: =SUM(AO17,AO18,AO19) -> 0 | AQ17: 42196 | AR17: 0 | AS17: =AR17*2000 -> 0 | AT17: =SUM(AS17,AS18,AS19) -> 0 | AU17: 42197 | AV17: 0 | AW17: =AV17*2000 -> 0 | AX17: =SUM(AW17,AW18,AW19) -> 0 | AY17: 42198 | AZ17: 0 | BA17: =AZ17*2000 -> 0 | BB17: =SUM(BA17,BA18,BA19) -> 0 | BC17: 42199 | BD17: 0 | BE17: =BD17*2000 -> 0 | BF17: =SUM(BE17,BE18,BE19) -> 0 | BG17: 42200 | BH17: 0 | BI17: =BH17*2000 -> 0 | BJ17: =SUM(BI17,BI18,BI19) -> 0 | BK17: 42201 | BL17: 0 | BM17: =BL17*2000 -> 0 | BN17: =SUM(BM17,BM18,BM19) -> 0 | BO17: 42202 | BP17: 0 | BQ17: =BP17*2000 -> 0 | BR17: =SUM(BQ17,BQ18,BQ19) -> 0 | BS17: 42203 | BT17: 0 | BU17: =BT17*2000 -> 0 | BV17: =SUM(BU17,BU18,BU19) -> 0 | BW17: 42204 | BX17: 0 | BY17: =BX17*2000 -> 0 | BZ17: =SUM(BY17,BY18,BY19) -> 0 | CA17: 42205 | CB17: 0 | CC17: =CB17*2000 -> 0 | CD17: =SUM(CC17,CC18,CC19) -> 0 | CE17: 42206 | CF17: 0 | CG17: =CF17*2000 -> 0 | CH17: =SUM(CG17,CG18,CG19) -> 0 | CI17: 42207 | CJ17: 0 | CK17: =CJ17*2000 -> 0 | CL17: =SUM(CK17,CK18,CK19) -> 0 | CM17: 42208 | CN17: 0 | CO17: =CN17*2000 -> 0 | CP17: =SUM(CO17,CO18,CO19) -> 0 | CQ17: 42209 | CR17: 0 | CS17: =CR17*2000 -> 0 | CT17: =SUM(CS17,CS18,CS19) -> 0 | CU17: 42210 | CV17: 0 | CW17: =CV17*2000 -> 0 | CX17: =SUM(CW17,CW18,CW19) -> 0 | CY17: 42211 | CZ17: 0 | DA17: =CZ17*2000 -> 0 | DB17: =SUM(DA17,DA18,DA19) -> 0 | DC17: 42212 | DD17: 0 | DE17: =DD17*2000 -> 0 | DF17: =SUM(DE17,DE18,DE19) -> 0 | DG17: 42213 | DH17: 0 | DI17: =DH17*2000 -> 0 | DJ17: =SUM(DI17,DI18,DI19) -> 0 | DK17: 42214 | DL17: 0 | DM17: =DL17*2000 -> 0 | DN17: =SUM(DM17,DM18,DM19) -> 0 | DO17: 42215 | DP17: 0 | DQ17: =DP17*2000 -> 0 | DR17: =SUM(DQ17,DQ18,DQ19) -> 0 | DS17: 42216 | DT17: 0 | DU17: =DT17*2000 -> 0 | DV17: =SUM(DU17,DU18,DU19) -> 0 | DW17: 42216 | DX17: =SUM(D17,H17,L17,P17,T17,X17,AB17,AF17,AJ17,AN17,AR17,AV17,AZ17,BD17,BH17,BL17,BP17,BT17,BX17,CB17,CF17,CJ17,CN17,CR17,CV17,CZ17,DD17,DH17,DL17,DP17,DT17) -> 0 | DY17: =DX17*2000 -> 0 | DZ17: =SUM(DY17,DY18,DY19) -> 0
B18: Plat(s) Européen | D18: 0 | E18: =D18*2000 -> 0 | H18: 0 | I18: =H18*2000 -> 0 | L18: 0 | M18: =L18*2000 -> 0 | P18: 0 | Q18: =P18*2000 -> 0 | T18: 0 | U18: =T18*2000 -> 0 | X18: 0 | Y18: =X18*2000 -> 0 | AB18: 0 | AC18: =AB18*2000 -> 0 | AF18: 0 | AG18: =AF18*2000 -> 0 | AJ18: 0 | AK18: =AJ18*2000 -> 0 | AN18: 0 | AO18: =AN18*2000 -> 0 | AR18: 0 | AS18: =AR18*2000 -> 0 | AV18: 0 | AW18: =AV18*2000 -> 0 | AZ18: 0 | BA18: =AZ18*2000 -> 0 | BD18: 0 | BE18: =BD18*2000 -> 0 | BH18: 0 | BI18: =BH18*2000 -> 0 | BL18: 0 | BM18: =BL18*2000 -> 0 | BP18: 0 | BQ18: =BP18*2000 -> 0 | BT18: 0 | BU18: =BT18*2000 -> 0 | BX18: 0 | BY18: =BX18*2000 -> 0 | CB18: 0 | CC18: =CB18*2000 -> 0 | CF18: 0 | CG18: =CF18*2000 -> 0 | CJ18: 0 | CK18: =CJ18*2000 -> 0 | CN18: 0 | CO18: =CN18*2000 -> 0 | CR18: 0 | CS18: =CR18*2000 -> 0 | CV18: 0 | CW18: =CV18*2000 -> 0 | CZ18: 0 | DA18: =CZ18*2000 -> 0 | DD18: 0 | DE18: =DD18*2000 -> 0 | DH18: 0 | DI18: =DH18*2000 -> 0 | DL18: 0 | DM18: =DL18*2000 -> 0 | DP18: 0 | DQ18: =DP18*2000 -> 0 | DT18: 0 | DU18: =DT18*2000 -> 0 | DX18: =SUM(D18,H18,L18,P18,T18,X18,AB18,AF18,AJ18,AN18,AR18,AV18,AZ18,BD18,BH18,BL18,BP18,BT18,BX18,CB18,CF18,CJ18,CN18,CR18,CV18,CZ18,DD18,DH18,DL18,DP18,DT18) -> 0 | DY18: =DX18*2000 -> 0
B19: Plat(s) Africain | D19: 0 | E19: =D19*1750 -> 0 | H19: 0 | I19: =H19*1750 -> 0 | L19: 0 | M19: =L19*1750 -> 0 | P19: 0 | Q19: =P19*1750 -> 0 | T19: 0 | U19: =T19*1750 -> 0 | X19: 0 | Y19: =X19*1750 -> 0 | AB19: 0 | AC19: =AB19*1750 -> 0 | AF19: 0 | AG19: =AF19*1750 -> 0 | AJ19: 0 | AK19: =AJ19*1750 -> 0 | AN19: 0 | AO19: =AN19*1750 -> 0 | AR19: 0 | AS19: =AR19*1750 -> 0 | AV19: 0 | AW19: =AV19*1750 -> 0 | AZ19: 0 | BA19: =AZ19*1750 -> 0 | BD19: 0 | BE19: =BD19*1750 -> 0 | BH19: 0 | BI19: =BH19*1750 -> 0 | BL19: 0 | BM19: =BL19*1750 -> 0 | BP19: 0 | BQ19: =BP19*1750 -> 0 | BT19: 0 | BU19: =BT19*1750 -> 0 | BX19: 0 | BY19: =BX19*1750 -> 0 | CB19: 0 | CC19: =CB19*1750 -> 0 | CF19: 0 | CG19: =CF19*1750 -> 0 | CJ19: 0 | CK19: =CJ19*1750 -> 0 | CN19: 0 | CO19: =CN19*1750 -> 0 | CR19: 0 | CS19: =CR19*1750 -> 0 | CV19: 0 | CW19: =CV19*1750 -> 0 | CZ19: 0 | DA19: =CZ19*1750 -> 0 | DD19: 0 | DE19: =DD19*1750 -> 0 | DH19: 0 | DI19: =DH19*1750 -> 0 | DL19: 0 | DM19: =DL19*1750 -> 0 | DP19: 0 | DQ19: =DP19*1750 -> 0 | DT19: 0 | DU19: =DT19*1750 -> 0 | DX19: =SUM(D19,H19,L19,P19,T19,X19,AB19,AF19,AJ19,AN19,AR19,AV19,AZ19,BD19,BH19,BL19,BP19,BT19,BX19,CB19,CF19,CJ19,CN19,CR19,CV19,CZ19,DD19,DH19,DL19,DP19,DT19) -> 0 | DY19: =DX19*1750 -> 0
A20: =Versements!A9 -> Nom7 | B20: Entrée(s) | C20: 42186 | D20: 0 | E20: =D20*2000 -> 0 | F20: =SUM(E20,E21,E22) -> 0 | G20: 42187 | H20: 0 | I20: =H20*2000 -> 0 | J20: =SUM(I20,I21,I22) -> 0 | K20: 42188 | L20: 0 | M20: =L20*2000 -> 0 | N20: =SUM(M20,M21,M22) -> 0 | O20: 42189 | P20: 0 | Q20: =P20*2000 -> 0 | R20: =SUM(Q20,Q21,Q22) -> 0 | S20: 42190 | T20: 0 | U20: =T20*2000 -> 0 | V20: =SUM(U20,U21,U22) -> 0 | W20: 42191 | X20: 0 | Y20: =X20*2000 -> 0 | Z20: =SUM(Y20,Y21,Y22) -> 0 | AA20: 42192 | AB20: 0 | AC20: =AB20*2000 -> 0 | AD20: =SUM(AC20,AC21,AC22) -> 0 | AE20: 42193 | AF20: 0 | AG20: =AF20*2000 -> 0 | AH20: =SUM(AG20,AG21,AG22) -> 0 | AI20: 42194 | AJ20: 0 | AK20: =AJ20*2000 -> 0 | AL20: =SUM(AK20,AK21,AK22) -> 0 | AM20: 42195 | AN20: 0 | AO20: =AN20*2000 -> 0 | AP20: =SUM(AO20,AO21,AO22) -> 0 | AQ20: 42196 | AR20: 0 | AS20: =AR20*2000 -> 0 | AT20: =SUM(AS20,AS21,AS22) -> 0 | AU20: 42197 | AV20: 0 | AW20: =AV20*2000 -> 0 | AX20: =SUM(AW20,AW21,AW22) -> 0 | AY20: 42198 | AZ20: 0 | BA20: =AZ20*2000 -> 0 | BB20: =SUM(BA20,BA21,BA22) -> 0 | BC20: 42199 | BD20: 0 | BE20: =BD20*2000 -> 0 | BF20: =SUM(BE20,BE21,BE22) -> 0 | BG20: 42200 | BH20: 0 | BI20: =BH20*2000 -> 0 | BJ20: =SUM(BI20,BI21,BI22) -> 0 | BK20: 42201 | BL20: 0 | BM20: =BL20*2000 -> 0 | BN20: =SUM(BM20,BM21,BM22) -> 0 | BO20: 42202 | BP20: 0 | BQ20: =BP20*2000 -> 0 | BR20: =SUM(BQ20,BQ21,BQ22) -> 0 | BS20: 42203 | BT20: 0 | BU20: =BT20*2000 -> 0 | BV20: =SUM(BU20,BU21,BU22) -> 0 | BW20: 42204 | BX20: 0 | BY20: =BX20*2000 -> 0 | BZ20: =SUM(BY20,BY21,BY22) -> 0 | CA20: 42205 | CB20: 0 | CC20: =CB20*2000 -> 0 | CD20: =SUM(CC20,CC21,CC22) -> 0 | CE20: 42206 | CF20: 0 | CG20: =CF20*2000 -> 0 | CH20: =SUM(CG20,CG21,CG22) -> 0 | CI20: 42207 | CJ20: 0 | CK20: =CJ20*2000 -> 0 | CL20: =SUM(CK20,CK21,CK22) -> 0 | CM20: 42208 | CN20: 0 | CO20: =CN20*2000 -> 0 | CP20: =SUM(CO20,CO21,CO22) -> 0 | CQ20: 42209 | CR20: 0 | CS20: =CR20*2000 -> 0 | CT20: =SUM(CS20,CS21,CS22) -> 0 | CU20: 42210 | CV20: 0 | CW20: =CV20*2000 -> 0 | CX20: =SUM(CW20,CW21,CW22) -> 0 | CY20: 42211 | CZ20: 0 | DA20: =CZ20*2000 -> 0 | DB20: =SUM(DA20,DA21,DA22) -> 0 | DC20: 42212 | DD20: 0 | DE20: =DD20*2000 -> 0 | DF20: =SUM(DE20,DE21,DE22) -> 0 | DG20: 42213 | DH20: 0 | DI20: =DH20*2000 -> 0 | DJ20: =SUM(DI20,DI21,DI22) -> 0 | DK20: 42214 | DL20: 0 | DM20: =DL20*2000 -> 0 | DN20: =SUM(DM20,DM21,DM22) -> 0 | DO20: 42215 | DP20: 0 | DQ20: =DP20*2000 -> 0 | DR20: =SUM(DQ20,DQ21,DQ22) -> 0 | DS20: 42216 | DT20: 0 | DU20: =DT20*2000 -> 0 | DV20: =SUM(DU20,DU21,DU22) -> 0 | DW20: 42216 | DX20: =SUM(D20,H20,L20,P20,T20,X20,AB20,AF20,AJ20,AN20,AR20,AV20,AZ20,BD20,BH20,BL20,BP20,BT20,BX20,CB20,CF20,CJ20,CN20,CR20,CV20,CZ20,DD20,DH20,DL20,DP20,DT20) -> 0 | DY20: =DX20*2000 -> 0 | DZ20: =SUM(DY20,DY21,DY22) -> 0
B21: Plat(s) Européen | D21: 0 | E21: =D21*2000 -> 0 | H21: 0 | I21: =H21*2000 -> 0 | L21: 0 | M21: =L21*2000 -> 0 | P21: 0 | Q21: =P21*2000 -> 0 | T21: 0 | U21: =T21*2000 -> 0 | X21: 0 | Y21: =X21*2000 -> 0 | AB21: 0 | AC21: =AB21*2000 -> 0 | AF21: 0 | AG21: =AF21*2000 -> 0 | AJ21: 0 | AK21: =AJ21*2000 -> 0 | AN21: 0 | AO21: =AN21*2000 -> 0 | AR21: 0 | AS21: =AR21*2000 -> 0 | AV21: 0 | AW21: =AV21*2000 -> 0 | AZ21: 0 | BA21: =AZ21*2000 -> 0 | BD21: 0 | BE21: =BD21*2000 -> 0 | BH21: 0 | BI21: =BH21*2000 -> 0 | BL21: 0 | BM21: =BL21*2000 -> 0 | BP21: 0 | BQ21: =BP21*2000 -> 0 | BT21: 0 | BU21: =BT21*2000 -> 0 | BX21: 0 | BY21: =BX21*2000 -> 0 | CB21: 0 | CC21: =CB21*2000 -> 0 | CF21: 0 | CG21: =CF21*2000 -> 0 | CJ21: 0 | CK21: =CJ21*2000 -> 0 | CN21: 0 | CO21: =CN21*2000 -> 0 | CR21: 0 | CS21: =CR21*2000 -> 0 | CV21: 0 | CW21: =CV21*2000 -> 0 | CZ21: 0 | DA21: =CZ21*2000 -> 0 | DD21: 0 | DE21: =DD21*2000 -> 0 | DH21: 0 | DI21: =DH21*2000 -> 0 | DL21: 0 | DM21: =DL21*2000 -> 0 | DP21: 0 | DQ21: =DP21*2000 -> 0 | DT21: 0 | DU21: =DT21*2000 -> 0 | DX21: =SUM(D21,H21,L21,P21,T21,X21,AB21,AF21,AJ21,AN21,AR21,AV21,AZ21,BD21,BH21,BL21,BP21,BT21,BX21,CB21,CF21,CJ21,CN21,CR21,CV21,CZ21,DD21,DH21,DL21,DP21,DT21) -> 0 | DY21: =DX21*2000 -> 0
B22: Plat(s) Africain | D22: 0 | E22: =D22*1750 -> 0 | H22: 0 | I22: =H22*1750 -> 0 | L22: 0 | M22: =L22*1750 -> 0 | P22: 0 | Q22: =P22*1750 -> 0 | T22: 0 | U22: =T22*1750 -> 0 | X22: 0 | Y22: =X22*1750 -> 0 | AB22: 0 | AC22: =AB22*1750 -> 0 | AF22: 0 | AG22: =AF22*1750 -> 0 | AJ22: 0 | AK22: =AJ22*1750 -> 0 | AN22: 0 | AO22: =AN22*1750 -> 0 | AR22: 0 | AS22: =AR22*1750 -> 0 | AV22: 0 | AW22: =AV22*1750 -> 0 | AZ22: 0 | BA22: =AZ22*1750 -> 0 | BD22: 0 | BE22: =BD22*1750 -> 0 | BH22: 0 | BI22: =BH22*1750 -> 0 | BL22: 0 | BM22: =BL22*1750 -> 0 | BP22: 0 | BQ22: =BP22*1750 -> 0 | BT22: 0 | BU22: =BT22*1750 -> 0 | BX22: 0 | BY22: =BX22*1750 -> 0 | CB22: 0 | CC22: =CB22*1750 -> 0 | CF22: 0 | CG22: =CF22*1750 -> 0 | CJ22: 0 | CK22: =CJ22*1750 -> 0 | CN22: 0 | CO22: =CN22*1750 -> 0 | CR22: 0 | CS22: =CR22*1750 -> 0 | CV22: 0 | CW22: =CV22*1750 -> 0 | CZ22: 0 | DA22: =CZ22*1750 -> 0 | DD22: 0 | DE22: =DD22*1750 -> 0 | DH22: 0 | DI22: =DH22*1750 -> 0 | DL22: 0 | DM22: =DL22*1750 -> 0 | DP22: 0 | DQ22: =DP22*1750 -> 0 | DT22: 0 | DU22: =DT22*1750 -> 0 | DX22: =SUM(D22,H22,L22,P22,T22,X22,AB22,AF22,AJ22,AN22,AR22,AV22,AZ22,BD22,BH22,BL22,BP22,BT22,BX22,CB22,CF22,CJ22,CN22,CR22,CV22,CZ22,DD22,DH22,DL22,DP22,DT22) -> 0 | DY22: =DX22*1750 -> 0
A23: =Versements!A10 -> Nom8 | B23: Entrée(s) | C23: 42186 | D23: 0 | E23: =D23*2000 -> 0 | F23: =SUM(E23,E24,E25) -> 0 | G23: 42187 | H23: 0 | I23: =H23*2000 -> 0 | J23: =SUM(I23,I24,I25) -> 0 | K23: 42188 | L23: 0 | M23: =L23*2000 -> 0 | N23: =SUM(M23,M24,M25) -> 0 | O23: 42189 | P23: 0 | Q23: =P23*2000 -> 0 | R23: =SUM(Q23,Q24,Q25) -> 0 | S23: 42190 | T23: 0 | U23: =T23*2000 -> 0 | V23: =SUM(U23,U24,U25) -> 0 | W23: 42191 | X23: 0 | Y23: =X23*2000 -> 0 | Z23: =SUM(Y23,Y24,Y25) -> 0 | AA23: 42192 | AB23: 0 | AC23: =AB23*2000 -> 0 | AD23: =SUM(AC23,AC24,AC25) -> 0 | AE23: 42193 | AF23: 0 | AG23: =AF23*2000 -> 0 | AH23: =SUM(AG23,AG24,AG25) -> 0 | AI23: 42194 | AJ23: 0 | AK23: =AJ23*2000 -> 0 | AL23: =SUM(AK23,AK24,AK25) -> 0 | AM23: 42195 | AN23: 0 | AO23: =AN23*2000 -> 0 | AP23: =SUM(AO23,AO24,AO25) -> 0 | AQ23: 42196 | AR23: 0 | AS23: =AR23*2000 -> 0 | AT23: =SUM(AS23,AS24,AS25) -> 0 | AU23: 42197 | AV23: 0 | AW23: =AV23*2000 -> 0 | AX23: =SUM(AW23,AW24,AW25) -> 0 | AY23: 42198 | AZ23: 0 | BA23: =AZ23*2000 -> 0 | BB23: =SUM(BA23,BA24,BA25) -> 0 | BC23: 42199 | BD23: 0 | BE23: =BD23*2000 -> 0 | BF23: =SUM(BE23,BE24,BE25) -> 0 | BG23: 42200 | BH23: 0 | BI23: =BH23*2000 -> 0 | BJ23: =SUM(BI23,BI24,BI25) -> 2000 | BK23: 42201 | BL23: 0 | BM23: =BL23*2000 -> 0 | BN23: =SUM(BM23,BM24,BM25) -> 0 | BO23: 42202 | BP23: 0 | BQ23: =BP23*2000 -> 0 | BR23: =SUM(BQ23,BQ24,BQ25) -> 0 | BS23: 42203 | BT23: 0 | BU23: =BT23*2000 -> 0 | BV23: =SUM(BU23,BU24,BU25) -> 0 | BW23: 42204 | BX23: 0 | BY23: =BX23*2000 -> 0 | BZ23: =SUM(BY23,BY24,BY25) -> 0 | CA23: 42205 | CB23: 0 | CC23: =CB23*2000 -> 0 | CD23: =SUM(CC23,CC24,CC25) -> 0 | CE23: 42206 | CF23: 0 | CG23: =CF23*2000 -> 0 | CH23: =SUM(CG23,CG24,CG25) -> 0 | CI23: 42207 | CJ23: 0 | CK23: =CJ23*2000 -> 0 | CL23: =SUM(CK23,CK24,CK25) -> 0 | CM23: 42208 | CN23: 0 | CO23: =CN23*2000 -> 0 | CP23: =SUM(CO23,CO24,CO25) -> 0 | CQ23: 42209 | CR23: 0 | CS23: =CR23*2000 -> 0 | CT23: =SUM(CS23,CS24,CS25) -> 0 | CU23: 42210 | CV23: 0 | CW23: =CV23*2000 -> 0 | CX23: =SUM(CW23,CW24,CW25) -> 0 | CY23: 42211 | CZ23: 0 | DA23: =CZ23*2000 -> 0 | DB23: =SUM(DA23,DA24,DA25) -> 0 | DC23: 42212 | DD23: 0 | DE23: =DD23*2000 -> 0 | DF23: =SUM(DE23,DE24,DE25) -> 0 | DG23: 42213 | DH23: 0 | DI23: =DH23*2000 -> 0 | DJ23: =SUM(DI23,DI24,DI25) -> 0 | DK23: 42214 | DL23: 0 | DM23: =DL23*2000 -> 0 | DN23: =SUM(DM23,DM24,DM25) -> 0 | DO23: 42215 | DP23: 0 | DQ23: =DP23*2000 -> 0 | DR23: =SUM(DQ23,DQ24,DQ25) -> 0 | DS23: 42216 | DT23: 0 | DU23: =DT23*2000 -> 0 | DV23: =SUM(DU23,DU24,DU25) -> 0 | DW23: 42216 | DX23: =SUM(D23,H23,L23,P23,T23,X23,AB23,AF23,AJ23,AN23,AR23,AV23,AZ23,BD23,BH23,BL23,BP23,BT23,BX23,CB23,CF23,CJ23,CN23,CR23,CV23,CZ23,DD23,DH23,DL23,DP23,DT23) -> 0 | DY23: =DX23*2000 -> 0 | DZ23: =SUM(DY23,DY24,DY25) -> 2000
B24: Plat(s) Européen | D24: 0 | E24: =D24*2000 -> 0 | H24: 0 | I24: =H24*2000 -> 0 | L24: 0 | M24: =L24*2000 -> 0 | P24: 0 | Q24: =P24*2000 -> 0 | T24: 0 | U24: =T24*2000 -> 0 | X24: 0 | Y24: =X24*2000 -> 0 | AB24: 0 | AC24: =AB24*2000 -> 0 | AF24: 0 | AG24: =AF24*2000 -> 0 | AJ24: 0 | AK24: =AJ24*2000 -> 0 | AN24: 0 | AO24: =AN24*2000 -> 0 | AR24: 0 | AS24: =AR24*2000 -> 0 | AV24: 0 | AW24: =AV24*2000 -> 0 | AZ24: 0 | BA24: =AZ24*2000 -> 0 | BD24: 0 | BE24: =BD24*2000 -> 0 | BH24: 1 | BI24: =BH24*2000 -> 2000 | BL24: 0 | BM24: =BL24*2000 -> 0 | BP24: 0 | BQ24: =BP24*2000 -> 0 | BT24: 0 | BU24: =BT24*2000 -> 0 | BX24: 0 | BY24: =BX24*2000 -> 0 | CB24: 0 | CC24: =CB24*2000 -> 0 | CF24: 0 | CG24: =CF24*2000 -> 0 | CJ24: 0 | CK24: =CJ24*2000 -> 0 | CN24: 0 | CO24: =CN24*2000 -> 0 | CR24: 0 | CS24: =CR24*2000 -> 0 | CV24: 0 | CW24: =CV24*2000 -> 0 | CZ24: 0 | DA24: =CZ24*2000 -> 0 | DD24: 0 | DE24: =DD24*2000 -> 0 | DH24: 0 | DI24: =DH24*2000 -> 0 | DL24: 0 | DM24: =DL24*2000 -> 0 | DP24: 0 | DQ24: =DP24*2000 -> 0 | DT24: 0 | DU24: =DT24*2000 -> 0 | DX24: =SUM(D24,H24,L24,P24,T24,X24,AB24,AF24,AJ24,AN24,AR24,AV24,AZ24,BD24,BH24,BL24,BP24,BT24,BX24,CB24,CF24,CJ24,CN24,CR24,CV24,CZ24,DD24,DH24,DL24,DP24,DT24) -> 1 | DY24: =DX24*2000 -> 2000
B25: Plat(s) Africain | D25: 0 | E25: =D25*1750 -> 0 | H25: 0 | I25: =H25*1750 -> 0 | L25: 0 | M25: =L25*1750 -> 0 | P25: 0 | Q25: =P25*1750 -> 0 | T25: 0 | U25: =T25*1750 -> 0 | X25: 0 | Y25: =X25*1750 -> 0 | AB25: 0 | AC25: =AB25*1750 -> 0 | AF25: 0 | AG25: =AF25*1750 -> 0 | AJ25: 0 | AK25: =AJ25*1750 -> 0 | AN25: 0 | AO25: =AN25*1750 -> 0 | AR25: 0 | AS25: =AR25*1750 -> 0 | AV25: 0 | AW25: =AV25*1750 -> 0 | AZ25: 0 | BA25: =AZ25*1750 -> 0 | BD25: 0 | BE25: =BD25*1750 -> 0 | BH25: 0 | BI25: =BH25*1750 -> 0 | BL25: 0 | BM25: =BL25*1750 -> 0 | BP25: 0 | BQ25: =BP25*1750 -> 0 | BT25: 0 | BU25: =BT25*1750 -> 0 | BX25: 0 | BY25: =BX25*1750 -> 0 | CB25: 0 | CC25: =CB25*1750 -> 0 | CF25: 0 | CG25: =CF25*1750 -> 0 | CJ25: 0 | CK25: =CJ25*1750 -> 0 | CN25: 0 | CO25: =CN25*1750 -> 0 | CR25: 0 | CS25: =CR25*1750 -> 0 | CV25: 0 | CW25: =CV25*1750 -> 0 | CZ25: 0 | DA25: =CZ25*1750 -> 0 | DD25: 0 | DE25: =DD25*1750 -> 0 | DH25: 0 | DI25: =DH25*1750 -> 0 | DL25: 0 | DM25: =DL25*1750 -> 0 | DP25: 0 | DQ25: =DP25*1750 -> 0 | DT25: 0 | DU25: =DT25*1750 -> 0 | DX25: =SUM(D25,H25,L25,P25,T25,X25,AB25,AF25,AJ25,AN25,AR25,AV25,AZ25,BD25,BH25,BL25,BP25,BT25,BX25,CB25,CF25,CJ25,CN25,CR25,CV25,CZ25,DD25,DH25,DL25,DP25,DT25) -> 0 | DY25: =DX25*1750 -> 0
A26: =Versements!A11 -> Nom9 | B26: Entrée(s) | C26: 42186 | D26: 0 | E26: =D26*2000 -> 0 | F26: =SUM(E26,E27,E28) -> 0 | G26: 42187 | H26: 0 | I26: =H26*2000 -> 0 | J26: =SUM(I26,I27,I28) -> 0 | K26: 42188 | L26: 0 | M26: =L26*2000 -> 0 | N26: =SUM(M26,M27,M28) -> 0 | O26: 42189 | P26: 0 | Q26: =P26*2000 -> 0 | R26: =SUM(Q26,Q27,Q28) -> 0 | S26: 42190 | T26: 0 | U26: =T26*2000 -> 0 | V26: =SUM(U26,U27,U28) -> 0 | W26: 42191 | X26: 0 | Y26: =X26*2000 -> 0 | Z26: =SUM(Y26,Y27,Y28) -> 0 | AA26: 42192 | AB26: 0 | AC26: =AB26*2000 -> 0 | AD26: =SUM(AC26,AC27,AC28) -> 0 | AE26: 42193 | AF26: 0 | AG26: =AF26*2000 -> 0 | AH26: =SUM(AG26,AG27,AG28) -> 0 | AI26: 42194 | AJ26: 0 | AK26: =AJ26*2000 -> 0 | AL26: =SUM(AK26,AK27,AK28) -> 0 | AM26: 42195 | AN26: 0 | AO26: =AN26*2000 -> 0 | AP26: =SUM(AO26,AO27,AO28) -> 0 | AQ26: 42196 | AR26: 0 | AS26: =AR26*2000 -> 0 | AT26: =SUM(AS26,AS27,AS28) -> 0 | AU26: 42197 | AV26: 0 | AW26: =AV26*2000 -> 0 | AX26: =SUM(AW26,AW27,AW28) -> 0 | AY26: 42198 | AZ26: 0 | BA26: =AZ26*2000 -> 0 | BB26: =SUM(BA26,BA27,BA28) -> 0 | BC26: 42199 | BD26: 0 | BE26: =BD26*2000 -> 0 | BF26: =SUM(BE26,BE27,BE28) -> 2000 | BG26: 42200 | BH26: 0 | BI26: =BH26*2000 -> 0 | BJ26: =SUM(BI26,BI27,BI28) -> 0 | BK26: 42201 | BL26: 0 | BM26: =BL26*2000 -> 0 | BN26: =SUM(BM26,BM27,BM28) -> 0 | BO26: 42202 | BP26: 0 | BQ26: =BP26*2000 -> 0 | BR26: =SUM(BQ26,BQ27,BQ28) -> 2000 | BS26: 42203 | BT26: 0 | BU26: =BT26*2000 -> 0 | BV26: =SUM(BU26,BU27,BU28) -> 0 | BW26: 42204 | BX26: 0 | BY26: =BX26*2000 -> 0 | BZ26: =SUM(BY26,BY27,BY28) -> 0 | CA26: 42205 | CB26: 0 | CC26: =CB26*2000 -> 0 | CD26: =SUM(CC26,CC27,CC28) -> 0 | CE26: 42206 | CF26: 0 | CG26: =CF26*2000 -> 0 | CH26: =SUM(CG26,CG27,CG28) -> 0 | CI26: 42207 | CJ26: 0 | CK26: =CJ26*2000 -> 0 | CL26: =SUM(CK26,CK27,CK28) -> 0 | CM26: 42208 | CN26: 0 | CO26: =CN26*2000 -> 0 | CP26: =SUM(CO26,CO27,CO28) -> 0 | CQ26: 42209 | CR26: 0 | CS26: =CR26*2000 -> 0 | CT26: =SUM(CS26,CS27,CS28) -> 0 | CU26: 42210 | CV26: 0 | CW26: =CV26*2000 -> 0 | CX26: =SUM(CW26,CW27,CW28) -> 0 | CY26: 42211 | CZ26: 0 | DA26: =CZ26*2000 -> 0 | DB26: =SUM(DA26,DA27,DA28) -> 0 | DC26: 42212 | DD26: 0 | DE26: =DD26*2000 -> 0 | DF26: =SUM(DE26,DE27,DE28) -> 0 | DG26: 42213 | DH26: 0 | DI26: =DH26*2000 -> 0 | DJ26: =SUM(DI26,DI27,DI28) -> 0 | DK26: 42214 | DL26: 0 | DM26: =DL26*2000 -> 0 | DN26: =SUM(DM26,DM27,DM28) -> 0 | DO26: 42215 | DP26: 0 | DQ26: =DP26*2000 -> 0 | DR26: =SUM(DQ26,DQ27,DQ28) -> 0 | DS26: 42216 | DT26: 0 | DU26: =DT26*2000 -> 0 | DV26: =SUM(DU26,DU27,DU28) -> 0 | DW26: 42216 | DX26: =SUM(D26,H26,L26,P26,T26,X26,AB26,AF26,AJ26,AN26,AR26,AV26,AZ26,BD26,BH26,BL26,BP26,BT26,BX26,CB26,CF26,CJ26,CN26,CR26,CV26,CZ26,DD26,DH26,DL26,DP26,DT26) -> 0 | DY26: =DX26*2000 -> 0 | DZ26: =SUM(DY26,DY27,DY28) -> 4000
B27: Plat(s) Européen | D27: 0 | E27: =D27*2000 -> 0 | H27: 0 | I27: =H27*2000 -> 0 | L27: 0 | M27: =L27*2000 -> 0 | P27: 0 | Q27: =P27*2000 -> 0 | T27: 0 | U27: =T27*2000 -> 0 | X27: 0 | Y27: =X27*2000 -> 0 | AB27: 0 | AC27: =AB27*2000 -> 0 | AF27: 0 | AG27: =AF27*2000 -> 0 | AJ27: 0 | AK27: =AJ27*2000 -> 0 | AN27: 0 | AO27: =AN27*2000 -> 0 | AR27: 0 | AS27: =AR27*2000 -> 0 | AV27: 0 | AW27: =AV27*2000 -> 0 | AZ27: 0 | BA27: =AZ27*2000 -> 0 | BD27: 1 | BE27: =BD27*2000 -> 2000 | BH27: 0 | BI27: =BH27*2000 -> 0 | BL27: 0 | BM27: =BL27*2000 -> 0 | BP27: 1 | BQ27: =BP27*2000 -> 2000 | BT27: 0 | BU27: =BT27*2000 -> 0 | BX27: 0 | BY27: =BX27*2000 -> 0 | CB27: 0 | CC27: =CB27*2000 -> 0 | CF27: 0 | CG27: =CF27*2000 -> 0 | CJ27: 0 | CK27: =CJ27*2000 -> 0 | CN27: 0 | CO27: =CN27*2000 -> 0 | CR27: 0 | CS27: =CR27*2000 -> 0 | CV27: 0 | CW27: =CV27*2000 -> 0 | CZ27: 0 | DA27: =CZ27*2000 -> 0 | DD27: 0 | DE27: =DD27*2000 -> 0 | DH27: 0 | DI27: =DH27*2000 -> 0 | DL27: 0 | DM27: =DL27*2000 -> 0 | DP27: 0 | DQ27: =DP27*2000 -> 0 | DT27: 0 | DU27: =DT27*2000 -> 0 | DX27: =SUM(D27,H27,L27,P27,T27,X27,AB27,AF27,AJ27,AN27,AR27,AV27,AZ27,BD27,BH27,BL27,BP27,BT27,BX27,CB27,CF27,CJ27,CN27,CR27,CV27,CZ27,DD27,DH27,DL27,DP27,DT27) -> 2 | DY27: =DX27*2000 -> 4000
B28: Plat(s) Africain | D28: 0 | E28: =D28*1750 -> 0 | H28: 0 | I28: =H28*1750 -> 0 | L28: 0 | M28: =L28*1750 -> 0 | P28: 0 | Q28: =P28*1750 -> 0 | T28: 0 | U28: =T28*1750 -> 0 | X28: 0 | Y28: =X28*1750 -> 0 | AB28: 0 | AC28: =AB28*1750 -> 0 | AF28: 0 | AG28: =AF28*1750 -> 0 | AJ28: 0 | AK28: =AJ28*1750 -> 0 | AN28: 0 | AO28: =AN28*1750 -> 0 | AR28: 0 | AS28: =AR28*1750 -> 0 | AV28: 0 | AW28: =AV28*1750 -> 0 | AZ28: 0 | BA28: =AZ28*1750 -> 0 | BD28: 0 | BE28: =BD28*1750 -> 0 | BH28: 0 | BI28: =BH28*1750 -> 0 | BL28: 0 | BM28: =BL28*1750 -> 0 | BP28: 0 | BQ28: =BP28*1750 -> 0 | BT28: 0 | BU28: =BT28*1750 -> 0 | BX28: 0 | BY28: =BX28*1750 -> 0 | CB28: 0 | CC28: =CB28*1750 -> 0 | CF28: 0 | CG28: =CF28*1750 -> 0 | CJ28: 0 | CK28: =CJ28*1750 -> 0 | CN28: 0 | CO28: =CN28*1750 -> 0 | CR28: 0 | CS28: =CR28*1750 -> 0 | CV28: 0 | CW28: =CV28*1750 -> 0 | CZ28: 0 | DA28: =CZ28*1750 -> 0 | DD28: 0 | DE28: =DD28*1750 -> 0 | DH28: 0 | DI28: =DH28*1750 -> 0 | DL28: 0 | DM28: =DL28*1750 -> 0 | DP28: 0 | DQ28: =DP28*1750 -> 0 | DT28: 0 | DU28: =DT28*1750 -> 0 | DX28: =SUM(D28,H28,L28,P28,T28,X28,AB28,AF28,AJ28,AN28,AR28,AV28,AZ28,BD28,BH28,BL28,BP28,BT28,BX28,CB28,CF28,CJ28,CN28,CR28,CV28,CZ28,DD28,DH28,DL28,DP28,DT28) -> 0 | DY28: =DX28*1750 -> 0
A29: =Versements!A12 -> Nom10 | B29: Entrée(s) | C29: 42186 | D29: 0 | E29: =D29*2000 -> 0 | F29: =SUM(E29,E30,E31) -> 0 | G29: 42187 | H29: 0 | I29: =H29*2000 -> 0 | J29: =SUM(I29,I30,I31) -> 0 | K29: 42188 | L29: 0 | M29: =L29*2000 -> 0 | N29: =SUM(M29,M30,M31) -> 0 | O29: 42189 | P29: 0 | Q29: =P29*2000 -> 0 | R29: =SUM(Q29,Q30,Q31) -> 0 | S29: 42190 | T29: 0 | U29: =T29*2000 -> 0 | V29: =SUM(U29,U30,U31) -> 0 | W29: 42191 | X29: 0 | Y29: =X29*2000 -> 0 | Z29: =SUM(Y29,Y30,Y31) -> 0 | AA29: 42192 | AB29: 0 | AC29: =AB29*2000 -> 0 | AD29: =SUM(AC29,AC30,AC31) -> 0 | AE29: 42193 | AF29: 0 | AG29: =AF29*2000 -> 0 | AH29: =SUM(AG29,AG30,AG31) -> 0 | AI29: 42194 | AJ29: 0 | AK29: =AJ29*2000 -> 0 | AL29: =SUM(AK29,AK30,AK31) -> 0 | AM29: 42195 | AN29: 0 | AO29: =AN29*2000 -> 0 | AP29: =SUM(AO29,AO30,AO31) -> 0 | AQ29: 42196 | AR29: 0 | AS29: =AR29*2000 -> 0 | AT29: =SUM(AS29,AS30,AS31) -> 0 | AU29: 42197 | AV29: 0 | AW29: =AV29*2000 -> 0 | AX29: =SUM(AW29,AW30,AW31) -> 0 | AY29: 42198 | AZ29: 0 | BA29: =AZ29*2000 -> 0 | BB29: =SUM(BA29,BA30,BA31) -> 0 | BC29: 42199 | BD29: 0 | BE29: =BD29*2000 -> 0 | BF29: =SUM(BE29,BE30,BE31) -> 0 | BG29: 42200 | BH29: 0 | BI29: =BH29*2000 -> 0 | BJ29: =SUM(BI29,BI30,BI31) -> 0 | BK29: 42201 | BL29: 0 | BM29: =BL29*2000 -> 0 | BN29: =SUM(BM29,BM30,BM31) -> 0 | BO29: 42202 | BP29: 0 | BQ29: =BP29*2000 -> 0 | BR29: =SUM(BQ29,BQ30,BQ31) -> 0 | BS29: 42203 | BT29: 0 | BU29: =BT29*2000 -> 0 | BV29: =SUM(BU29,BU30,BU31) -> 0 | BW29: 42204 | BX29: 0 | BY29: =BX29*2000 -> 0 | BZ29: =SUM(BY29,BY30,BY31) -> 0 | CA29: 42205 | CB29: 0 | CC29: =CB29*2000 -> 0 | CD29: =SUM(CC29,CC30,CC31) -> 0 | CE29: 42206 | CF29: 0 | CG29: =CF29*2000 -> 0 | CH29: =SUM(CG29,CG30,CG31) -> 0 | CI29: 42207 | CJ29: 0 | CK29: =CJ29*2000 -> 0 | CL29: =SUM(CK29,CK30,CK31) -> 0 | CM29: 42208 | CN29: 0 | CO29: =CN29*2000 -> 0 | CP29: =SUM(CO29,CO30,CO31) -> 0 | CQ29: 42209 | CR29: 0 | CS29: =CR29*2000 -> 0 | CT29: =SUM(CS29,CS30,CS31) -> 0 | CU29: 42210 | CV29: 0 | CW29: =CV29*2000 -> 0 | CX29: =SUM(CW29,CW30,CW31) -> 0 | CY29: 42211 | CZ29: 0 | DA29: =CZ29*2000 -> 0 | DB29: =SUM(DA29,DA30,DA31) -> 0 | DC29: 42212 | DD29: 0 | DE29: =DD29*2000 -> 0 | DF29: =SUM(DE29,DE30,DE31) -> 0 | DG29: 42213 | DH29: 0 | DI29: =DH29*2000 -> 0 | DJ29: =SUM(DI29,DI30,DI31) -> 0 | DK29: 42214 | DL29: 0 | DM29: =DL29*2000 -> 0 | DN29: =SUM(DM29,DM30,DM31) -> 0 | DO29: 42215 | DP29: 0 | DQ29: =DP29*2000 -> 0 | DR29: =SUM(DQ29,DQ30,DQ31) -> 0 | DS29: 42216 | DT29: 0 | DU29: =DT29*2000 -> 0 | DV29: =SUM(DU29,DU30,DU31) -> 0 | DW29: 42216 | DX29: =SUM(D29,H29,L29,P29,T29,X29,AB29,AF29,AJ29,AN29,AR29,AV29,AZ29,BD29,BH29,BL29,BP29,BT29,BX29,CB29,CF29,CJ29,CN29,CR29,CV29,CZ29,DD29,DH29,DL29,DP29,DT29) -> 0 | DY29: =DX29*2000 -> 0 | DZ29: =SUM(DY29,DY30,DY31) -> 0
B30: Plat(s) Européen | D30: 0 | E30: =D30*2000 -> 0 | H30: 0 | I30: =H30*2000 -> 0 | L30: 0 | M30: =L30*2000 -> 0 | P30: 0 | Q30: =P30*2000 -> 0 | T30: 0 | U30: =T30*2000 -> 0 | X30: 0 | Y30: =X30*2000 -> 0 | AB30: 0 | AC30: =AB30*2000 -> 0 | AF30: 0 | AG30: =AF30*2000 -> 0 | AJ30: 0 | AK30: =AJ30*2000 -> 0 | AN30: 0 | AO30: =AN30*2000 -> 0 | AR30: 0 | AS30: =AR30*2000 -> 0 | AV30: 0 | AW30: =AV30*2000 -> 0 | AZ30: 0 | BA30: =AZ30*2000 -> 0 | BD30: 0 | BE30: =BD30*2000 -> 0 | BH30: 0 | BI30: =BH30*2000 -> 0 | BL30: 0 | BM30: =BL30*2000 -> 0 | BP30: 0 | BQ30: =BP30*2000 -> 0 | BT30: 0 | BU30: =BT30*2000 -> 0 | BX30: 0 | BY30: =BX30*2000 -> 0 | CB30: 0 | CC30: =CB30*2000 -> 0 | CF30: 0 | CG30: =CF30*2000 -> 0 | CJ30: 0 | CK30: =CJ30*2000 -> 0 | CN30: 0 | CO30: =CN30*2000 -> 0 | CR30: 0 | CS30: =CR30*2000 -> 0 | CV30: 0 | CW30: =CV30*2000 -> 0 | CZ30: 0 | DA30: =CZ30*2000 -> 0 | DD30: 0 | DE30: =DD30*2000 -> 0 | DH30: 0 | DI30: =DH30*2000 -> 0 | DL30: 0 | DM30: =DL30*2000 -> 0 | DP30: 0 | DQ30: =DP30*2000 -> 0 | DT30: 0 | DU30: =DT30*2000 -> 0 | DX30: =SUM(D30,H30,L30,P30,T30,X30,AB30,AF30,AJ30,AN30,AR30,AV30,AZ30,BD30,BH30,BL30,BP30,BT30,BX30,CB30,CF30,CJ30,CN30,CR30,CV30,CZ30,DD30,DH30,DL30,DP30,DT30) -> 0 | DY30: =DX30*2000 -> 0
B31: Plat(s) Africain | D31: 0 | E31: =D31*1750 -> 0 | H31: 0 | I31: =H31*1750 -> 0 | L31: 0 | M31: =L31*1750 -> 0 | P31: 0 | Q31: =P31*1750 -> 0 | T31: 0 | U31: =T31*1750 -> 0 | X31: 0 | Y31: =X31*1750 -> 0 | AB31: 0 | AC31: =AB31*1750 -> 0 | AF31: 0 | AG31: =AF31*1750 -> 0 | AJ31: 0 | AK31: =AJ31*1750 -> 0 | AN31: 0 | AO31: =AN31*1750 -> 0 | AR31: 0 | AS31: =AR31*1750 -> 0 | AV31: 0 | AW31: =AV31*1750 -> 0 | AZ31: 0 | BA31: =AZ31*1750 -> 0 | BD31: 0 | BE31: =BD31*1750 -> 0 | BH31: 0 | BI31: =BH31*1750 -> 0 | BL31: 0 | BM31: =BL31*1750 -> 0 | BP31: 0 | BQ31: =BP31*1750 -> 0 | BT31: 0 | BU31: =BT31*1750 -> 0 | BX31: 0 | BY31: =BX31*1750 -> 0 | CB31: 0 | CC31: =CB31*1750 -> 0 | CF31: 0 | CG31: =CF31*1750 -> 0 | CJ31: 0 | CK31: =CJ31*1750 -> 0 | CN31: 0 | CO31: =CN31*1750 -> 0 | CR31: 0 | CS31: =CR31*1750 -> 0 | CV31: 0 | CW31: =CV31*1750 -> 0 | CZ31: 0 | DA31: =CZ31*1750 -> 0 | DD31: 0 | DE31: =DD31*1750 -> 0 | DH31: 0 | DI31: =DH31*1750 -> 0 | DL31: 0 | DM31: =DL31*1750 -> 0 | DP31: 0 | DQ31: =DP31*1750 -> 0 | DT31: 0 | DU31: =DT31*1750 -> 0 | DX31: =SUM(D31,H31,L31,P31,T31,X31,AB31,AF31,AJ31,AN31,AR31,AV31,AZ31,BD31,BH31,BL31,BP31,BT31,BX31,CB31,CF31,CJ31,CN31,CR31,CV31,CZ31,DD31,DH31,DL31,DP31,DT31) -> 0 | DY31: =DX31*1750 -> 0
A32: =Versements!A13 -> Nom11 | B32: Entrée(s) | C32: 42186 | D32: 0 | E32: =D32*2000 -> 0 | F32: =SUM(E32,E33,E34) -> 0 | G32: 42187 | H32: 0 | I32: =H32*2000 -> 0 | J32: =SUM(I32,I33,I34) -> 0 | K32: 42188 | L32: 0 | M32: =L32*2000 -> 0 | N32: =SUM(M32,M33,M34) -> 0 | O32: 42189 | P32: 0 | Q32: =P32*2000 -> 0 | R32: =SUM(Q32,Q33,Q34) -> 0 | S32: 42190 | T32: 0 | U32: =T32*2000 -> 0 | V32: =SUM(U32,U33,U34) -> 0 | W32: 42191 | X32: 0 | Y32: =X32*2000 -> 0 | Z32: =SUM(Y32,Y33,Y34) -> 0 | AA32: 42192 | AB32: 0 | AC32: =AB32*2000 -> 0 | AD32: =SUM(AC32,AC33,AC34) -> 0 | AE32: 42193 | AF32: 0 | AG32: =AF32*2000 -> 0 | AH32: =SUM(AG32,AG33,AG34) -> 0 | AI32: 42194 | AJ32: 0 | AK32: =AJ32*2000 -> 0 | AL32: =SUM(AK32,AK33,AK34) -> 0 | AM32: 42195 | AN32: 0 | AO32: =AN32*2000 -> 0 | AP32: =SUM(AO32,AO33,AO34) -> 0 | AQ32: 42196 | AR32: 0 | AS32: =AR32*2000 -> 0 | AT32: =SUM(AS32,AS33,AS34) -> 0 | AU32: 42197 | AV32: 0 | AW32: =AV32*2000 -> 0 | AX32: =SUM(AW32,AW33,AW34) -> 0 | AY32: 42198 | AZ32: 0 | BA32: =AZ32*2000 -> 0 | BB32: =SUM(BA32,BA33,BA34) -> 0 | BC32: 42199 | BD32: 0 | BE32: =BD32*2000 -> 0 | BF32: =SUM(BE32,BE33,BE34) -> 0 | BG32: 42200 | BH32: 0 | BI32: =BH32*2000 -> 0 | BJ32: =SUM(BI32,BI33,BI34) -> 0 | BK32: 42201 | BL32: 0 | BM32: =BL32*2000 -> 0 | BN32: =SUM(BM32,BM33,BM34) -> 0 | BO32: 42202 | BP32: 0 | BQ32: =BP32*2000 -> 0 | BR32: =SUM(BQ32,BQ33,BQ34) -> 0 | BS32: 42203 | BT32: 0 | BU32: =BT32*2000 -> 0 | BV32: =SUM(BU32,BU33,BU34) -> 0 | BW32: 42204 | BX32: 0 | BY32: =BX32*2000 -> 0 | BZ32: =SUM(BY32,BY33,BY34) -> 0 | CA32: 42205 | CB32: 0 | CC32: =CB32*2000 -> 0 | CD32: =SUM(CC32,CC33,CC34) -> 0 | CE32: 42206 | CF32: 0 | CG32: =CF32*2000 -> 0 | CH32: =SUM(CG32,CG33,CG34) -> 0 | CI32: 42207 | CJ32: 0 | CK32: =CJ32*2000 -> 0 | CL32: =SUM(CK32,CK33,CK34) -> 0 | CM32: 42208 | CN32: 0 | CO32: =CN32*2000 -> 0 | CP32: =SUM(CO32,CO33,CO34) -> 0 | CQ32: 42209 | CR32: 0 | CS32: =CR32*2000 -> 0 | CT32: =SUM(CS32,CS33,CS34) -> 0 | CU32: 42210 | CV32: 0 | CW32: =CV32*2000 -> 0 | CX32: =SUM(CW32,CW33,CW34) -> 0 | CY32: 42211 | CZ32: 0 | DA32: =CZ32*2000 -> 0 | DB32: =SUM(DA32,DA33,DA34) -> 0 | DC32: 42212 | DD32: 0 | DE32: =DD32*2000 -> 0 | DF32: =SUM(DE32,DE33,DE34) -> 0 | DG32: 42213 | DH32: 0 | DI32: =DH32*2000 -> 0 | DJ32: =SUM(DI32,DI33,DI34) -> 0 | DK32: 42214 | DL32: 0 | DM32: =DL32*2000 -> 0 | DN32: =SUM(DM32,DM33,DM34) -> 0 | DO32: 42215 | DP32: 0 | DQ32: =DP32*2000 -> 0 | DR32: =SUM(DQ32,DQ33,DQ34) -> 0 | DS32: 42216 | DT32: 0 | DU32: =DT32*2000 -> 0 | DV32: =SUM(DU32,DU33,DU34) -> 0 | DW32: 42216 | DX32: =SUM(D32,H32,L32,P32,T32,X32,AB32,AF32,AJ32,AN32,AR32,AV32,AZ32,BD32,BH32,BL32,BP32,BT32,BX32,CB32,CF32,CJ32,CN32,CR32,CV32,CZ32,DD32,DH32,DL32,DP32,DT32) -> 0 | DY32: =DX32*2000 -> 0 | DZ32: =SUM(DY32,DY33,DY34) -> 0
B33: Plat(s) Européen | D33: 0 | E33: =D33*2000 -> 0 | H33: 0 | I33: =H33*2000 -> 0 | L33: 0 | M33: =L33*2000 -> 0 | P33: 0 | Q33: =P33*2000 -> 0 | T33: 0 | U33: =T33*2000 -> 0 | X33: 0 | Y33: =X33*2000 -> 0 | AB33: 0 | AC33: =AB33*2000 -> 0 | AF33: 0 | AG33: =AF33*2000 -> 0 | AJ33: 0 | AK33: =AJ33*2000 -> 0 | AN33: 0 | AO33: =AN33*2000 -> 0 | AR33: 0 | AS33: =AR33*2000 -> 0 | AV33: 0 | AW33: =AV33*2000 -> 0 | AZ33: 0 | BA33: =AZ33*2000 -> 0 | BD33: 0 | BE33: =BD33*2000 -> 0 | BH33: 0 | BI33: =BH33*2000 -> 0 | BL33: 0 | BM33: =BL33*2000 -> 0 | BP33: 0 | BQ33: =BP33*2000 -> 0 | BT33: 0 | BU33: =BT33*2000 -> 0 | BX33: 0 | BY33: =BX33*2000 -> 0 | CB33: 0 | CC33: =CB33*2000 -> 0 | CF33: 0 | CG33: =CF33*2000 -> 0 | CJ33: 0 | CK33: =CJ33*2000 -> 0 | CN33: 0 | CO33: =CN33*2000 -> 0 | CR33: 0 | CS33: =CR33*2000 -> 0 | CV33: 0 | CW33: =CV33*2000 -> 0 | CZ33: 0 | DA33: =CZ33*2000 -> 0 | DD33: 0 | DE33: =DD33*2000 -> 0 | DH33: 0 | DI33: =DH33*2000 -> 0 | DL33: 0 | DM33: =DL33*2000 -> 0 | DP33: 0 | DQ33: =DP33*2000 -> 0 | DT33: 0 | DU33: =DT33*2000 -> 0 | DX33: =SUM(D33,H33,L33,P33,T33,X33,AB33,AF33,AJ33,AN33,AR33,AV33,AZ33,BD33,BH33,BL33,BP33,BT33,BX33,CB33,CF33,CJ33,CN33,CR33,CV33,CZ33,DD33,DH33,DL33,DP33,DT33) -> 0 | DY33: =DX33*2000 -> 0
