Workbook
Name Africains: Paramètres!$H$2
Name Dafrik: Paramètres!$H$3:$H$62
Name Deurop: Paramètres!$I$3:$I$62
Name Entrées: Paramètres!$G$3:$G$62
Name Européens: Paramètres!$I$2

Sheet Paramètres
G1: Listes des plats
A2: Liste du personnel | G2: Entrées | H2: Africains | I2: Européens
A3: Nom1 | G3: PE1 | H3: PA1 | I3: PEu1
A4: Nom2 | G4: PE2 | H4: PA2 | I4: PEu2
A5: Nom3 | G5: PE3 | H5: PA3 | I5: PEu3
A6: Nom4 | G6: PE4 | H6: PA4 | I6: PEu4
A7: Nom5 | G7: PE5 | H7: PA5 | I7: PEu5
A8: Nom6 | G8: PE6 | H8: PA6 | I8: PEu6
A9: Nom7 | G9: PE7 | H9: PA7 | I9: PEu7
A10: Nom8 | G10: PE8 | H10: PA8 | I10: PEu8
A11: Nom9 | G11: PE9 | H11: PA9 | I11: PEu9
A12: Nom10 | G12: PE10 | H12: PA10 | I12: PEu10
A13: Nom11 | G13: PE11 | H13: PA11 | I13: PEu11
... A62: Nom60 | G62: PE60 | H62: PA60 | I62: PEu60
A63: Nom61

Sheet Enregistrements
B2: Nom du plat | E2: Quantités
A3: Liste du personnel | B3: Entrées | C3: Africains | D3: Européens | E3: Entrées | F3: Africains | G3: Européens
A4: =Paramètres!A3 -> Nom1 | E4: =0 -> 0 | F4: =0 -> 0 | G4: =0 -> 0
A5: =Paramètres!A4 -> Nom2 | E5: =0 -> 0 | F5: =0 -> 0 | G5: =0 -> 0
A6: =Paramètres!A5 -> Nom3 | E6: =0 -> 0 | F6: =0 -> 0 | G6: =0 -> 0
A7: =Paramètres!A6 -> Nom4 | E7: =0 -> 0 | F7: =0 -> 0 | G7: =0 -> 0
A8: =Paramètres!A7 -> Nom5 | E8: =0 -> 0 | F8: =0 -> 0 | G8: =0 -> 0
A9: =Paramètres!A8 -> Nom6 | E9: =0 -> 0 | F9: =0 -> 0 | G9: =0 -> 0
A10: =Paramètres!A9 -> Nom7 | E10: =0 -> 0 | F10: =0 -> 0 | G10: =0 -> 0
A11: =Paramètres!A10 -> Nom8 | E11: =0 -> 0 | F11: =0 -> 0 | G11: =0 -> 0
A12: =Paramètres!A11 -> Nom9 | E12: =0 -> 0 | F12: =0 -> 0 | G12: =0 -> 0
A13: =Paramètres!A12 -> Nom10 | E13: =0 -> 0 | F13: =0 -> 0 | G13: =0 -> 0
A14: =Paramètres!A13 -> Nom11 | E14: =0 -> 0 | F14: =0 -> 0 | G14: =0 -> 0
A15: =Paramètres!A14 -> Nom12 | E15: =0 -> 0 | F15: =0 -> 0 | G15: =0 -> 0
... A64: =Paramètres!A63 -> Nom61 | E64: =0 -> 0 | F64: =0 -> 0 | G64: =0 -> 0
A66: Date d'enregistrement ® | B66: 42195

Sheet Suivi conso
A1: Personnel | B1: Plats | C1: Jours | D1: Quantités | E1: Coût | F1: Total/Coût | G1: Jours | H1: Quantités | I1: Coût | J1: Total/Coût | K1: Jours | L1: Quantités | M1: Coût | N1: Total/Coût | O1: Jours | P1: Quantités | Q1: Coût | R1: Total/Coût | S1: Jours | T1: Quantités | U1: Coût | V1: Total/Coût | W1: Jours | X1: Quantités | Y1: Coût | Z1: Total/Coût | AA1: Jours | AB1: Quantités | AC1: Coût | AD1: Total/Coût | AE1: Jours | AF1: Quantités | AG1: Coût | AH1: Total/Coût | AI1: Jours | AJ1: Quantités | AK1: Coût | AL1: Total/Coût | AM1: Jours | AN1: Quantités | AO1: Coût | AP1: Total/Coût | AQ1: Jours | AR1: Quantités | AS1: Coût | AT1: Total/Coût | AU1: Jours | AV1: Quantités | AW1: Coût | AX1: Total/Coût | AY1: Jours | AZ1: Quantités | BA1: Coût | BB1: Total/Coût | BC1: Jours | BD1: Quantités | BE1: Coût | BF1: Total/Coût | BG1: Jours | BH1: Quantités | BI1: Coût | BJ1: Total/Coût | BK1: Jours | BL1: Quantités | BM1: Coût | BN1: Total/Coût | BO1: Jours | BP1: Quantités | BQ1: Coût | BR1: Total/Coût | BS1: Jours | BT1: Quantités | BU1: Coût | BV1: Total/Coût | BW1: Jours | BX1: Quantités | BY1: Coût | BZ1: Total/Coût | CA1: Jours | CB1: Quantités | CC1: Coût | CD1: Total/Coût | CE1: Jours | CF1: Quantités | CG1: Coût | CH1: Total/Coût | CI1: Jours | CJ1: Quantités | CK1: Coût | CL1: Total/Coût | CM1: Jours | CN1: Quantités | CO1: Coût | CP1: Total/Coût | CQ1: Jours | CR1: Quantités | CS1: Coût | CT1: Total/Coût | CU1: Jours | CV1: Quantités | CW1: Coût | CX1: Total/Coût | CY1: Jours | CZ1: Quantités | DA1: Coût | DB1: Total/Coût | DC1: Jours | DD1: Quantités | DE1: Coût | DF1: Total/Coût | DG1: Jours | DH1: Quantités | DI1: Coût | DJ1: Total/Coût | DK1: Jours | DL1: Quantités | DM1: Coût | DN1: Total/Coût | DO1: Jours | DP1: Quantités | DQ1: Coût | DR1: Total/Coût | DS1: Jours | DT1: Quantités | DU1: Coût | DV1: Total/Coût | DW1: Total mensuel au : | DX1: Quantités | DY1: Coût | DZ1: Total/Coût
A2: =Versements!A3 -> Nom1 | B2: Entrée(s) | C2: 42186 | D2: 0 | E2: =D2*2000 -> 0 | F2: =SUM(E2,E3,E4) -> 0 | G2: 42187 | H2: 0 | I2: =H2*2000 -> 0 | J2: =SUM(I2,I3,I4) -> 0 | K2: 42188 | L2: 0 | M2: =L2*2000 -> 0 | N2: =SUM(M2,M3,M4) -> 0 | O2: 42189 | P2: 0 | Q2: =P2*2000 -> 0 | R2: =SUM(Q2,Q3,Q4) -> 0 | S2: 42190 | T2: 0 | U2: =T2*2000 -> 0 | V2: =SUM(U2,U3,U4) -> 0 | W2: 42191 | X2: 0 | Y2: =X2*2000 -> 0 | Z2: =SUM(Y2,Y3,Y4) -> 0 | AA2: 42192 | AB2: 0 | AC2: =AB2*2000 -> 0 | AD2: =SUM(AC2,AC3,AC4) -> 0 | AE2: 42193 | AF2: 0 | AG2: =AF2*2000 -> 0 | AH2: =SUM(AG2,AG3,AG4) -> 0 | AI2: 42194 | AJ2: 0 | AK2: =AJ2*2000 -> 0 | AL2: =SUM(AK2,AK3,AK4) -> 0 | AM2: 42195 | AN2: 0 | AO2: =AN2*2000 -> 0 | AP2: =SUM(AO2,AO3,AO4) -> 0 | AQ2: 42196 | AR2: 0 | AS2: =AR2*2000 -> 0 | AT2: =SUM(AS2,AS3,AS4) -> 0 | AU2: 42197 | AV2: 0 | AW2: =AV2*2000 -> 0 | AX2: =SUM(AW2,AW3,AW4) -> 0 | AY2: 42198 | AZ2: 0 | BA2: =AZ2*2000 -> 0 | BB2: =SUM(BA2,BA3,BA4) -> 0 | BC2: 42199 | BD2: 0 | BE2: =BD2*2000 -> 0 | BF2: =SUM(BE2,BE3,BE4) -> 0 | BG2: 42200 | BH2: 0 | BI2: =BH2*2000 -> 0 | BJ2: =SUM(BI2,BI3,BI4) -> 0 | BK2: 42201 | BL2: 0 | BM2: =BL2*2000 -> 0 | BN2: =SUM(BM2,BM3,BM4) -> 0 | BO2: 42202 | BP2: 0 | BQ2: =BP2*2000 -> 0 | BR2: =SUM(BQ2,BQ3,BQ4) -> 0 | BS2: 42203 | BT2: 0 | BU2: =BT2*2000 -> 0 | BV2: =SUM(BU2,BU3,BU4) -> 0 | BW2: 42204 | BX2: 0 | BY2: =BX2*2000 -> 0 | BZ2: =SUM(BY2,BY3,BY4) -> 0 | CA2: 42205 | CB2: 0 | CC2: =CB2*2000 -> 0 | CD2: =SUM(CC2,CC3,CC4) -> 0 | CE2: 42206 | CF2: 0 | CG2: =CF2*2000 -> 0 | CH2: =SUM(CG2,CG3,CG4) -> 0 | CI2: 42207 | CJ2: 0 | CK2: =CJ2*2000 -> 0 | CL2: =SUM(CK2,CK3,CK4) -> 0 | CM2: 42208 | CN2: 0 | CO2: =CN2*2000 -> 0 | CP2: =SUM(CO2,CO3,CO4) -> 0 | CQ2: 42209 | CR2: 0 | CS2: =CR2*2000 -> 0 | CT2: =SUM(CS2,CS3,CS4) -> 0 | CU2: 42210 | CV2: 0 | CW2: =CV2*2000 -> 0 | CX2: =SUM(CW2,CW3,CW4) -> 0 | CY2: 42211 | CZ2: 0 | DA2: =CZ2*2000 -> 0 | DB2: =SUM(DA2,DA3,DA4) -> 0 | DC2: 42212 | DD2: 0 | DE2: =DD2*2000 -> 0 | DF2: =SUM(DE2,DE3,DE4) -> 0 | DG2: 42213 | DH2: 0 | DI2: =DH2*2000 -> 0 | DJ2: =SUM(DI2,DI3,DI4) -> 0 | DK2: 42214 | DL2: 0 | DM2: =DL2*2000 -> 0 | DN2: =SUM(DM2,DM3,DM4) -> 0 | DO2: 42215 | DP2: 0 | DQ2: =DP2*2000 -> 0 | DR2: =SUM(DQ2,DQ3,DQ4) -> 0 | DS2: 42216 | DT2: 0 | DU2: =DT2*2000 -> 0 | DV2: =SUM(DU2,DU3,DU4) -> 0 | DW2: 42216 | DX2: =SUM(D2,H2,L2,P2,T2,X2,AB2,AF2,AJ2,AN2,AR2,AV2,AZ2,BD2,BH2,BL2,BP2,BT2,BX2,CB2,CF2,CJ2,CN2,CR2,CV2,CZ2,DD2,DH2,DL2,DP2,DT2) -> 0 | DY2: =DX2*2000 -> 0 | DZ2: =SUM(DY2,DY3,DY4) -> 0
B3: Plat(s) Européen | D3: 0 | E3: =D3*2000 -> 0 | H3: 0 | I3: =H3*2000 -> 0 | L3: 0 | M3: =L3*2000 -> 0 | P3: 0 | Q3: =P3*2000 -> 0 | T3: 0 | U3: =T3*2000 -> 0 | X3: 0 | Y3: =X3*2000 -> 0 | AB3: 0 | AC3: =AB3*2000 -> 0 | AF3: 0 | AG3: =AF3*2000 -> 0 | AJ3: 0 | AK3: =AJ3*2000 -> 0 | AN3: 0 | AO3: =AN3*2000 -> 0 | AR3: 0 | AS3: =AR3*2000 -> 0 | AV3: 0 | AW3: =AV3*2000 -> 0 | AZ3: 0 | BA3: =AZ3*2000 -> 0 | BD3: 0 | BE3: =BD3*2000 -> 0 | BH3: 0 | BI3: =BH3*2000 -> 0 | BL3: 0 | BM3: =BL3*2000 -> 0 | BP3: 0 | BQ3: =BP3*2000 -> 0 | BT3: 0 | BU3: =BT3*2000 -> 0 | BX3: 0 | BY3: =BX3*2000 -> 0 | CB3: 0 | CC3: =CB3*2000 -> 0 | CF3: 0 | CG3: =CF3*2000 -> 0 | CJ3: 0 | CK3: =CJ3*2000 -> 0 | CN3: 0 | CO3: =CN3*2000 -> 0 | CR3: 0 | CS3: =CR3*2000 -> 0 | CV3: 0 | CW3: =CV3*2000 -> 0 | CZ3: 0 | DA3: =CZ3*2000 -> 0 | DD3: 0 | DE3: =DD3*2000 -> 0 | DH3: 0 | DI3: =DH3*2000 -> 0 | DL3: 0 | DM3: =DL3*2000 -> 0 | DP3: 0 | DQ3: =DP3*2000 -> 0 | DT3: 0 | DU3: =DT3*2000 -> 0 | DX3: =SUM(D3,H3,L3,P3,T3,X3,AB3,AF3,AJ3,AN3,AR3,AV3,AZ3,BD3,BH3,BL3,BP3,BT3,BX3,CB3,CF3,CJ3,CN3,CR3,CV3,CZ3,DD3,DH3,DL3,DP3,DT3) -> 0 | DY3: =DX3*2000 -> 0
B4: Plat(s) Africain | D4: 0 | E4: =D4*1750 -> 0 | H4: 0 | I4: =H4*1750 -> 0 | L4: 0 | M4: =L4*1750 -> 0 | P4: 0 | Q4: =P4*1750 -> 0 | T4: 0 | U4: =T4*1750 -> 0 | X4: 0 | Y4: =X4*1750 -> 0 | AB4: 0 | AC4: =AB4*1750 -> 0 | AF4: 0 | AG4: =AF4*1750 -> 0 | AJ4: 0 | AK4: =AJ4*1750 -> 0 | AN4: 0 | AO4: =AN4*1750 -> 0 | AR4: 0 | AS4: =AR4*1750 -> 0 | AV4: 0 | AW4: =AV4*1750 -> 0 | AZ4: 0 | BA4: =AZ4*1750 -> 0 | BD4: 0 | BE4: =BD4*1750 -> 0 | BH4: 0 | BI4: =BH4*1750 -> 0 | BL4: 0 | BM4: =BL4*1750 -> 0 | BP4: 0 | BQ4: =BP4*1750 -> 0 | BT4: 0 | BU4: =BT4*1750 -> 0 | BX4: 0 | BY4: =BX4*1750 -> 0 | CB4: 0 | CC4: =CB4*1750 -> 0 | CF4: 0 | CG4: =CF4*1750 -> 0 | CJ4: 0 | CK4: =CJ4*1750 -> 0 | CN4: 0 | CO4: =CN4*1750 -> 0 | CR4: 0 | CS4: =CR4*1750 -> 0 | CV4: 0 | CW4: =CV4*1750 -> 0 | CZ4: 0 | DA4: =CZ4*1750 -> 0 | DD4: 0 | DE4: =DD4*1750 -> 0 | DH4: 0 | DI4: =DH4*1750 -> 0 | DL4: 0 | DM4: =DL4*1750 -> 0 | DP4: 0 | DQ4: =DP4*1750 -> 0 | DT4: 0 | DU4: =DT4*1750 -> 0 | DX4: =SUM(D4,H4,L4,P4,T4,X4,AB4,AF4,AJ4,AN4,AR4,AV4,AZ4,BD4,BH4,BL4,BP4,BT4,BX4,CB4,CF4,CJ4,CN4,CR4,CV4,CZ4,DD4,DH4,DL4,DP4,DT4) -> 0 | DY4: =DX4*1750 -> 0
A5: =Versements!A4 -> Nom2 | B5: Entrée(s) | C5: 42186 | D5: 0 | E5: =D5*2000 -> 0 | F5: =SUM(E5,E6,E7) -> 0 | G5: 42187 | H5: 0 | I5: =H5*2000 -> 0 | J5: =SUM(I5,I6,I7) -> 0 | K5: 42188 | L5: 0 | M5: =L5*2000 -> 0 | N5: =SUM(M5,M6,M7) -> 0 | O5: 42189 | P5: 0 | Q5: =P5*2000 -> 0 | R5: =SUM(Q5,Q6,Q7) -> 0 | S5: 42190 | T5: 0 | U5: =T5*2000 -> 0 | V5: =SUM(U5,U6,U7) -> 0 | W5: 42191 | X5: 0 | Y5: =X5*2000 -> 0 | Z5: =SUM(Y5,Y6,Y7) -> 0 | AA5: 42192 | AB5: 0 | AC5: =AB5*2000 -> 0 | AD5: =SUM(AC5,AC6,AC7) -> 0 | AE5: 42193 | AF5: 0 | AG5: =AF5*2000 -> 0 | AH5: =SUM(AG5,AG6,AG7) -> 0 | AI5: 42194 | AJ5: 0 | AK5: =AJ5*2000 -> 0 | AL5: =SUM(AK5,AK6,AK7) -> 0 | AM5: 42195 | AN5: 0 | AO5: =AN5*2000 -> 0 | AP5: =SUM(AO5,AO6,AO7) -> 0 | AQ5: 42196 | AR5: 0 | AS5: =AR5*2000 -> 0 | AT5: =SUM(AS5,AS6,AS7) -> 0 | AU5: 42197 | AV5: 0 | AW5: =AV5*2000 -> 0 | AX5: =SUM(AW5,AW6,AW7) -> 0 | AY5: 42198 | AZ5: 0 | BA5: =AZ5*2000 -> 0 | BB5: =SUM(BA5,BA6,BA7) -> 0 | BC5: 42199 | BD5: 0 | BE5: =BD5*2000 -> 0 | BF5: =SUM(BE5,BE6,BE7) -> 0 | BG5: 42200 | BH5: 0 | BI5: =BH5*2000 -> 0 | BJ5: =SUM(BI5,BI6,BI7) -> 0 | BK5: 42201 | BL5: 0 | BM5: =BL5*2000 -> 0 | BN5: =SUM(BM5,BM6,BM7) -> 0 | BO5: 42202 | BP5: 0 | BQ5: =BP5*2000 -> 0 | BR5: =SUM(BQ5,BQ6,BQ7) -> 0 | BS5: 42203 | BT5: 0 | BU5: =BT5*2000 -> 0 | BV5: =SUM(BU5,BU6,BU7) -> 0 | BW5: 42204 | BX5: 0 | BY5: =BX5*2000 -> 0 | BZ5: =SUM(BY5,BY6,BY7) -> 0 | CA5: 42205 | CB5: 0 | CC5: =CB5*2000 -> 0 | CD5: =SUM(CC5,CC6,CC7) -> 0 | CE5: 42206 | CF5: 0 | CG5: =CF5*2000 -> 0 | CH5: =SUM(CG5,CG6,CG7) -> 0 | CI5: 42207 | CJ5: 0 | CK5: =CJ5*2000 -> 0 | CL5: =SUM(CK5,CK6,CK7) -> 0 | CM5: 42208 | CN5: 0 | CO5: =CN5*2000 -> 0 | CP5: =SUM(CO5,CO6,CO7) -> 0 | CQ5: 42209 | CR5: 0 | CS5: =CR5*2000 -> 0 | CT5: =SUM(CS5,CS6,CS7) -> 0 | CU5: 42210 | CV5: 0 | CW5: =CV5*2000 -> 0 | CX5: =SUM(CW5,CW6,CW7) -> 0 | CY5: 42211 | CZ5: 0 | DA5: =CZ5*2000 -> 0 | DB5: =SUM(DA5,DA6,DA7) -> 0 | DC5: 42212 | DD5: 0 | DE5: =DD5*2000 -> 0 | DF5: =SUM(DE5,DE6,DE7) -> 0 | DG5: 42213 | DH5: 0 | DI5: =DH5*2000 -> 0 | DJ5: =SUM(DI5,DI6,DI7) -> 0 | DK5: 42214 | DL5: 0 | DM5: =DL5*2000 -> 0 | DN5: =SUM(DM5,DM6,DM7) -> 0 | DO5: 42215 | DP5: 0 | DQ5: =DP5*2000 -> 0 | DR5: =SUM(DQ5,DQ6,DQ7) -> 0 | DS5: 42216 | DT5: 0 | DU5: =DT5*2000 -> 0 | DV5: =SUM(DU5,DU6,DU7) -> 0 | DW5: 42216 | DX5: =SUM(D5,H5,L5,P5,T5,X5,AB5,AF5,AJ5,AN5,AR5,AV5,AZ5,BD5,BH5,BL5,BP5,BT5,BX5,CB5,CF5,CJ5,CN5,CR5,CV5,CZ5,DD5,DH5,DL5,DP5,DT5) -> 0 | DY5: =DX5*2000 -> 0 | DZ5: =SUM(DY5,DY6,DY7) -> 0
B6: Plat(s) Européen | D6: 0 | E6: =D6*2000 -> 0 | H6: 0 | I6: =H6*2000 -> 0 | L6: 0 | M6: =L6*2000 -> 0 | P6: 0 | Q6: =P6*2000 -> 0 | T6: 0 | U6: =T6*2000 -> 0 | X6: 0 | Y6: =X6*2000 -> 0 | AB6: 0 | AC6: =AB6*2000 -> 0 | AF6: 0 | AG6: =AF6*2000 -> 0 | AJ6: 0 | AK6: =AJ6*2000 -> 0 | AN6: 0 | AO6: =AN6*2000 -> 0 | AR6: 0 | AS6: =AR6*2000 -> 0 | AV6: 0 | AW6: =AV6*2000 -> 0 | AZ6: 0 | BA6: =AZ6*2000 -> 0 | BD6: 0 | BE6: =BD6*2000 -> 0 | BH6: 0 | BI6: =BH6*2000 -> 0 | BL6: 0 | BM6: =BL6*2000 -> 0 | BP6: 0 | BQ6: =BP6*2000 -> 0 | BT6: 0 | BU6: =BT6*2000 -> 0 | BX6: 0 | BY6: =BX6*2000 -> 0 | CB6: 0 | CC6: =CB6*2000 -> 0 | CF6: 0 | CG6: =CF6*2000 -> 0 | CJ6: 0 | CK6: =CJ6*2000 -> 0 | CN6: 0 | CO6: =CN6*2000 -> 0 | CR6: 0 | CS6: =CR6*2000 -> 0 | CV6: 0 | CW6: =CV6*2000 -> 0 | CZ6: 0 | DA6: =CZ6*2000 -> 0 | DD6: 0 | DE6: =DD6*2000 -> 0 | DH6: 0 | DI6: =DH6*2000 -> 0 | DL6: 0 | DM6: =DL6*2000 -> 0 | DP6: 0 | DQ6: =DP6*2000 -> 0 | DT6: 0 | DU6: =DT6*2000 -> 0 | DX6: =SUM(D6,H6,L6,P6,T6,X6,AB6,AF6,AJ6,AN6,AR6,AV6,AZ6,BD6,BH6,BL6,BP6,BT6,BX6,CB6,CF6,CJ6,CN6,CR6,CV6,CZ6,DD6,DH6,DL6,DP6,DT6) -> 0 | DY6: =DX6*2000 -> 0
B7: Plat(s) Africain | D7: 0 | E7: =D7*1750 -> 0 | H7: 0 | I7: =H7*1750 -> 0 | L7: 0 | M7: =L7*1750 -> 0 | P7: 0 | Q7: =P7*1750 -> 0 | T7: 0 | U7: =T7*1750 -> 0 | X7: 0 | Y7: =X7*1750 -> 0 | AB7: 0 | AC7: =AB7*1750 -> 0 | AF7: 0 | AG7: =AF7*1750 -> 0 | AJ7: 0 | AK7: =AJ7*1750 -> 0 | AN7: 0 | AO7: =AN7*1750 -> 0 | AR7: 0 | AS7: =AR7*1750 -> 0 | AV7: 0 | AW7: =AV7*1750 -> 0 | AZ7: 0 | BA7: =AZ7*1750 -> 0 | BD7: 0 | BE7: =BD7*1750 -> 0 | BH7: 0 | BI7: =BH7*1750 -> 0 | BL7: 0 | BM7: =BL7*1750 -> 0 | BP7: 0 | BQ7: =BP7*1750 -> 0 | BT7: 0 | BU7: =BT7*1750 -> 0 | BX7: 0 | BY7: =BX7*1750 -> 0 | CB7: 0 | CC7: =CB7*1750 -> 0 | CF7: 0 | CG7: =CF7*1750 -> 0 | CJ7: 0 | CK7: =CJ7*1750 -> 0 | CN7: 0 | CO7: =CN7*1750 -> 0 | CR7: 0 | CS7: =CR7*1750 -> 0 | CV7: 0 | CW7: =CV7*1750 -> 0 | CZ7: 0 | DA7: =CZ7*1750 -> 0 | DD7: 0 | DE7: =DD7*1750 -> 0 | DH7: 0 | DI7: =DH7*1750 -> 0 | DL7: 0 | DM7: =DL7*1750 -> 0 | DP7: 0 | DQ7: =DP7*1750 -> 0 | DT7: 0 | DU7: =DT7*1750 -> 0 | DX7: =SUM(D7,H7,L7,P7,T7,X7,AB7,AF7,AJ7,AN7,AR7,AV7,AZ7,BD7,BH7,BL7,BP7,BT7,BX7,CB7,CF7,CJ7,CN7,CR7,CV7,CZ7,DD7,DH7,DL7,DP7,DT7) -> 0 | DY7: =DX7*1750 -> 0
A8: =Versements!A5 -> Nom3 | B8: Entrée(s) | C8: 42186 | D8: 0 | E8: =D8*2000 -> 0 | F8: =SUM(E8,E9,E10) -> 0 | G8: 42187 | H8: 0 | I8: =H8*2000 -> 0 | J8: =SUM(I8,I9,I10) -> 0 | K8: 42188 | L8: 0 | M8: =L8*2000 -> 0 | N8: =SUM(M8,M9,M10) -> 0 | O8: 42189 | P8: 0 | Q8: =P8*2000 -> 0 | R8: =SUM(Q8,Q9,Q10) -> 0 | S8: 42190 | T8: 0 | U8: =T8*2000 -> 0 | V8: =SUM(U8,U9,U10) -> 0 | W8: 42191 | X8: 0 | Y8: =X8*2000 -> 0 | Z8: =SUM(Y8,Y9,Y10) -> 0 | AA8: 42192 | AB8: 0 | AC8: =AB8*2000 -> 0 | AD8: =SUM(AC8,AC9,AC10) -> 0 | AE8: 42193 | AF8: 0 | AG8: =AF8*2000 -> 0 | AH8: =SUM(AG8,AG9,AG10) -> 0 | AI8: 42194 | AJ8: 0 | AK8: =AJ8*2000 -> 0 | AL8: =SUM(AK8,AK9,AK10) -> 0 | AM8: 42195 | AN8: 0 | AO8: =AN8*2000 -> 0 | AP8: =SUM(AO8,AO9,AO10) -> 0 | AQ8: 42196 | AR8: 0 | AS8: =AR8*2000 -> 0 | AT8: =SUM(AS8,AS9,AS10) -> 0 | AU8: 42197 | AV8: 0 | AW8: =AV8*2000 -> 0 | AX8: =SUM(AW8,AW9,AW10) -> 0 | AY8: 42198 | AZ8: 0 | BA8: =AZ8*2000 -> 0 | BB8: =SUM(BA8,BA9,BA10) -> 0 | BC8: 42199 | BD8: 0 | BE8: =BD8*2000 -> 0 | BF8: =SUM(BE8,BE9,BE10) -> 0 | BG8: 42200 | BH8: 0 | BI8: =BH8*2000 -> 0 | BJ8: =SUM(BI8,BI9,BI10) -> 0 | BK8: 42201 | BL8: 0 | BM8: =BL8*2000 -> 0 | BN8: =SUM(BM8,BM9,BM10) -> 0 | BO8: 42202 | BP8: 0 | BQ8: =BP8*2000 -> 0 | BR8: =SUM(BQ8,BQ9,BQ10) -> 0 | BS8: 42203 | BT8: 0 | BU8: =BT8*2000 -> 0 | BV8: =SUM(BU8,BU9,BU10) -> 0 | BW8: 42204 | BX8: 0 | BY8: =BX8*2000 -> 0 | BZ8: =SUM(BY8,BY9,BY10) -> 0 | CA8: 42205 | CB8: 0 | CC8: =CB8*2000 -> 0 | CD8: =SUM(CC8,CC9,CC10) -> 0 | CE8: 42206 | CF8: 0 | CG8: =CF8*2000 -> 0 | CH8: =SUM(CG8,CG9,CG10) -> 0 | CI8: 42207 | CJ8: 0 | CK8: =CJ8*2000 -> 0 | CL8: =SUM(CK8,CK9,CK10) -> 0 | CM8: 42208 | CN8: 0 | CO8: =CN8*2000 -> 0 | CP8: =SUM(CO8,CO9,CO10) -> 0 | CQ8: 42209 | CR8: 0 | CS8: =CR8*2000 -> 0 | CT8: =SUM(CS8,CS9,CS10) -> 0 | CU8: 42210 | CV8: 0 | CW8: =CV8*2000 -> 0 | CX8: =SUM(CW8,CW9,CW10) -> 0 | CY8: 42211 | CZ8: 0 | DA8: =CZ8*2000 -> 0 | DB8: =SUM(DA8,DA9,DA10) -> 0 | DC8: 42212 | DD8: 0 | DE8: =DD8*2000 -> 0 | DF8: =SUM(DE8,DE9,DE10) -> 0 | DG8: 42213 | DH8: 0 | DI8: =DH8*2000 -> 0 | DJ8: =SUM(DI8,DI9,DI10) -> 0 | DK8: 42214 | DL8: 0 | DM8: =DL8*2000 -> 0 | DN8: =SUM(DM8,DM9,DM10) -> 0 | DO8: 42215 | DP8: 0 | DQ8: =DP8*2000 -> 0 | DR8: =SUM(DQ8,DQ9,DQ10) -> 0 | DS8: 42216 | DT8: 0 | DU8: =DT8*2000 -> 0 | DV8: =SUM(DU8,DU9,DU10) -> 0 | DW8: 42216 | DX8: =SUM(D8,H8,L8,P8,T8,X8,AB8,AF8,AJ8,AN8,AR8,AV8,AZ8,BD8,BH8,BL8,BP8,BT8,BX8,CB8,CF8,CJ8,CN8,CR8,CV8,CZ8,DD8,DH8,DL8,DP8,DT8) -> 0 | DY8: =DX8*2000 -> 0 | DZ8: =SUM(DY8,DY9,DY10) -> 0
B9: Plat(s) Européen | D9: 0 | E9: =D9*2000 -> 0 | H9: 0 | I9: =H9*2000 -> 0 | L9: 0 | M9: =L9*2000 -> 0 | P9: 0 | Q9: =P9*2000 -> 0 | T9: 0 | U9: =T9*2000 -> 0 | X9: 0 | Y9: =X9*2000 -> 0 | AB9: 0 | AC9: =AB9*2000 -> 0 | AF9: 0 | AG9: =AF9*2000 -> 0 | AJ9: 0 | AK9: =AJ9*2000 -> 0 | AN9: 0 | AO9: =AN9*2000 -> 0 | AR9: 0 | AS9: =AR9*2000 -> 0 | AV9: 0 | AW9: =AV9*2000 -> 0 | AZ9: 0 | BA9: =AZ9*2000 -> 0 | BD9: 0 | BE9: =BD9*2000 -> 0 | BH9: 0 | BI9: =BH9*2000 -> 0 | BL9: 0 | BM9: =BL9*2000 -> 0 | BP9: 0 | BQ9: =BP9*2000 -> 0 | BT9: 0 | BU9: =BT9*2000 -> 0 | BX9: 0 | BY9: =BX9*2000 -> 0 | CB9: 0 | CC9: =CB9*2000 -> 0 | CF9: 0 | CG9: =CF9*2000 -> 0 | CJ9: 0 | CK9: =CJ9*2000 -> 0 | CN9: 0 | CO9: =CN9*2000 -> 0 | CR9: 0 | CS9: =CR9*2000 -> 0 | CV9: 0 | CW9: =CV9*2000 -> 0 | CZ9: 0 | DA9: =CZ9*2000 -> 0 | DD9: 0 | DE9: =DD9*2000 -> 0 | DH9: 0 | DI9: =DH9*2000 -> 0 | DL9: 0 | DM9: =DL9*2000 -> 0 | DP9: 0 | DQ9: =DP9*2000 -> 0 | DT9: 0 | DU9: =DT9*2000 -> 0 | DX9: =SUM(D9,H9,L9,P9,T9,X9,AB9,AF9,AJ9,AN9,AR9,AV9,AZ9,BD9,BH9,BL9,BP9,BT9,BX9,CB9,CF9,CJ9,CN9,CR9,CV9,CZ9,DD9,DH9,DL9,DP9,DT9) -> 0 | DY9: =DX9*2000 -> 0
B10: Plat(s) Africain | D10: 0 | E10: =D10*1750 -> 0 | H10: 0 | I10: =H10*1750 -> 0 | L10: 0 | M10: =L10*1750 -> 0 | P10: 0 | Q10: =P10*1750 -> 0 | T10: 0 | U10: =T10*1750 -> 0 | X10: 0 | Y10: =X10*1750 -> 0 | AB10: 0 | AC10: =AB10*1750 -> 0 | AF10: 0 | AG10: =AF10*1750 -> 0 | AJ10: 0 | AK10: =AJ10*1750 -> 0 | AN10: 0 | AO10: =AN10*1750 -> 0 | AR10: 0 | AS10: =AR10*1750 -> 0 | AV10: 0 | AW10: =AV10*1750 -> 0 | AZ10: 0 | BA10: =AZ10*1750 -> 0 | BD10: 0 | BE10: =BD10*1750 -> 0 | BH10: 0 | BI10: =BH10*1750 -> 0 | BL10: 0 | BM10: =BL10*1750 -> 0 | BP10: 0 | BQ10: =BP10*1750 -> 0 | BT10: 0 | BU10: =BT10*1750 -> 0 | BX10: 0 | BY10: =BX10*1750 -> 0 | CB10: 0 | CC10: =CB10*1750 -> 0 | CF10: 0 | CG10: =CF10*1750 -> 0 | CJ10: 0 | CK10: =CJ10*1750 -> 0 | CN10: 0 | CO10: =CN10*1750 -> 0 | CR10: 0 | CS10: =CR10*1750 -> 0 | CV10: 0 | CW10: =CV10*1750 -> 0 | CZ10: 0 | DA10: =CZ10*1750 -> 0 | DD10: 0 | DE10: =DD10*1750 -> 0 | DH10: 0 | DI10: =DH10*1750 -> 0 | DL10: 0 | DM10: =DL10*1750 -> 0 | DP10: 0 | DQ10: =DP10*1750 -> 0 | DT10: 0 | DU10: =DT10*1750 -> 0 | DX10: =SUM(D10,H10,L10,P10,T10,X10,AB10,AF10,AJ10,AN10,AR10,AV10,AZ10,BD10,BH10,BL10,BP10,BT10,BX10,CB10,CF10,CJ10,CN10,CR10,CV10,CZ10,DD10,DH10,DL10,DP10,DT10) -> 0 | DY10: =DX10*1750 -> 0
A11: =Versements!A6 -> Nom4 | B11: Entrée(s) | C11: 42186 | D11: 0 | E11: =D11*2000 -> 0 | F11: =SUM(E11,E12,E13) -> 0 | G11: 42187 | H11: 0 | I11: =H11*2000 -> 0 | J11: =SUM(I11,I12,I13) -> 0 | K11: 42188 | L11: 0 | M11: =L11*2000 -> 0 | N11: =SUM(M11,M12,M13) -> 0 | O11: 42189 | P11: 0 | Q11: =P11*2000 -> 0 | R11: =SUM(Q11,Q12,Q13) -> 0 | S11: 42190 | T11: 0 | U11: =T11*2000 -> 0 | V11: =SUM(U11,U12,U13) -> 0 | W11: 42191 | X11: 0 | Y11: =X11*2000 -> 0 | Z11: =SUM(Y11,Y12,Y13) -> 0 | AA11: 42192 | AB11: 0 | AC11: =AB11*2000 -> 0 | AD11: =SUM(AC11,AC12,AC13) -> 0 | AE11: 42193 | AF11: 0 | AG11: =AF11*2000 -> 0 | AH11: =SUM(AG11,AG12,AG13) -> 0 | AI11: 42194 | AJ11: 0 | AK11: =AJ11*2000 -> 0 | AL11: =SUM(AK11,AK12,AK13) -> 0 | AM11: 42195 | AN11: 0 | AO11: =AN11*2000 -> 0 | AP11: =SUM(AO11,AO12,AO13) -> 0 | AQ11: 42196 | AR11: 0 | AS11: =AR11*2000 -> 0 | AT11: =SUM(AS11,AS12,AS13) -> 0 | AU11: 42197 | AV11: 0 | AW11: =AV11*2000 -> 0 | AX11: =SUM(AW11,AW12,AW13) -> 0 | AY11: 42198 | AZ11: 0 | BA11: =AZ11*2000 -> 0 | BB11: =SUM(BA11,BA12,BA13) -> 0 | BC11: 42199 | BD11: 0 | BE11: =BD11*2000 -> 0 | BF11: =SUM(BE11,BE12,BE13) -> 0 | BG11: 42200 | BH11: 0 | BI11: =BH11*2000 -> 0 | BJ11: =SUM(BI11,BI12,BI13) -> 0 | BK11: 42201 | BL11: 0 | BM11: =BL11*2000 -> 0 | BN11: =SUM(BM11,BM12,BM13) -> 0 | BO11: 42202 | BP11: 0 | BQ11: =BP11*2000 -> 0 | BR11: =SUM(BQ11,BQ12,BQ13) -> 0 | BS11: 42203 | BT11: 0 | BU11: =BT11*2000 -> 0 | BV11: =SUM(BU11,BU12,BU13) -> 0 | BW11: 42204 | BX11: 0 | BY11: =BX11*2000 -> 0 | BZ11: =SUM(BY11,BY12,BY13) -> 0 | CA11: 42205 | CB11: 0 | CC11: =CB11*2000 -> 0 | CD11: =SUM(CC11,CC12,CC13) -> 0 | CE11: 42206 | CF11: 0 | CG11: =CF11*2000 -> 0 | CH11: =SUM(CG11,CG12,CG13) -> 0 | CI11: 42207 | CJ11: 0 | CK11: =CJ11*2000 -> 0 | CL11: =SUM(CK11,CK12,CK13) -> 0 | CM11: 42208 | CN11: 0 | CO11: =CN11*2000 -> 0 | CP11: =SUM(CO11,CO12,CO13) -> 0 | CQ11: 42209 | CR11: 0 | CS11: =CR11*2000 -> 0 | CT11: =SUM(CS11,CS12,CS13) -> 0 | CU11: 42210 | CV11: 0 | CW11: =CV11*2000 -> 0 | CX11: =SUM(CW11,CW12,CW13) -> 0 | CY11: 42211 | CZ11: 0 | DA11: =CZ11*2000 -> 0 | DB11: =SUM(DA11,DA12,DA13) -> 0 | DC11: 42212 | DD11: 0 | DE11: =DD11*2000 -> 0 | DF11: =SUM(DE11,DE12,DE13) -> 0 | DG11: 42213 | DH11: 0 | DI11: =DH11*2000 -> 0 | DJ11: =SUM(DI11,DI12,DI13) -> 0 | DK11: 42214 | DL11: 0 | DM11: =DL11*2000 -> 0 | DN11: =SUM(DM11,DM12,DM13) -> 0 | DO11: 42215 | DP11: 0 | DQ11: =DP11*2000 -> 0 | DR11: =SUM(DQ11,DQ12,DQ13) -> 0 | DS11: 42216 | DT11: 0 | DU11: =DT11*2000 -> 0 | DV11: =SUM(DU11,DU12,DU13) -> 0 | DW11: 42216 | DX11: =SUM(D11,H11,L11,P11,T11,X11,AB11,AF11,AJ11,AN11,AR11,AV11,AZ11,BD11,BH11,BL11,BP11,BT11,BX11,CB11,CF11,CJ11,CN11,CR11,CV11,CZ11,DD11,DH11,DL11,DP11,DT11) -> 0 | DY11: =DX11*2000 -> 0 | DZ11: =SUM(DY11,DY12,DY13) -> 0
B12: Plat(s) Européen | D12: 0 | E12: =D12*2000 -> 0 | H12: 0 | I12: =H12*2000 -> 0 | L12: 0 | M12: =L12*2000 -> 0 | P12: 0 | Q12: =P12*2000 -> 0 | T12: 0 | U12: =T12*2000 -> 0 | X12: 0 | Y12: =X12*2000 -> 0 | AB12: 0 | AC12: =AB12*2000 -> 0 | AF12: 0 | AG12: =AF12*2000 -> 0 | AJ12: 0 | AK12: =AJ12*2000 -> 0 | AN12: 0 | AO12: =AN12*2000 -> 0 | AR12: 0 | AS12: =AR12*2000 -> 0 | AV12: 0 | AW12: =AV12*2000 -> 0 | AZ12: 0 | BA12: =AZ12*2000 -> 0 | BD12: 0 | BE12: =BD12*2000 -> 0 | BH12: 0 | BI12: =BH12*2000 -> 0 | BL12: 0 | BM12: =BL12*2000 -> 0 | BP12: 0 | BQ12: =BP12*2000 -> 0 | BT12: 0 | BU12: =BT12*2000 -> 0 | BX12: 0 | BY12: =BX12*2000 -> 0 | CB12: 0 | CC12: =CB12*2000 -> 0 | CF12: 0 | CG12: =CF12*2000 -> 0 | CJ12: 0 | CK12: =CJ12*2000 -> 0 | CN12: 0 | CO12: =CN12*2000 -> 0 | CR12: 0 | CS12: =CR12*2000 -> 0 | CV12: 0 | CW12: =CV12*2000 -> 0 | CZ12: 0 | DA12: =CZ12*2000 -> 0 | DD12: 0 | DE12: =DD12*2000 -> 0 | DH12: 0 | DI12: =DH12*2000 -> 0 | DL12: 0 | DM12: =DL12*2000 -> 0 | DP12: 0 | DQ12: =DP12*2000 -> 0 | DT12: 0 | DU12: =DT12*2000 -> 0 | DX12: =SUM(D12,H12,L12,P12,T12,X12,AB12,AF12,AJ12,AN12,AR12,AV12,AZ12,BD12,BH12,BL12,BP12,BT12,BX12,CB12,CF12,CJ12,CN12,CR12,CV12,CZ12,DD12,DH12,DL12,DP12,DT12) -> 0 | DY12: =DX12*2000 -> 0
B13: Plat(s) Africain | D13: 0 | E13: =D13*1750 -> 0 | H13: 0 | I13: =H13*1750 -> 0 | L13: 0 | M13: =L13*1750 -> 0 | P13: 0 | Q13: =P13*1750 -> 0 | T13: 0 | U13: =T13*1750 -> 0 | X13: 0 | Y13: =X13*1750 -> 0 | AB13: 0 | AC13: =AB13*1750 -> 0 | AF13: 0 | AG13: =AF13*1750 -> 0 | AJ13: 0 | AK13: =AJ13*1750 -> 0 | AN13: 0 | AO13: =AN13*1750 -> 0 | AR13: 0 | AS13: =AR13*1750 -> 0 | AV13: 0 | AW13: =AV13*1750 -> 0 | AZ13: 0 | BA13: =AZ13*1750 -> 0 | BD13: 0 | BE13: =BD13*1750 -> 0 | BH13: 0 | BI13: =BH13*1750 -> 0 | BL13: 0 | BM13: =BL13*1750 -> 0 | BP13: 0 | BQ13: =BP13*1750 -> 0 | BT13: 0 | BU13: =BT13*1750 -> 0 | BX13: 0 | BY13: =BX13*1750 -> 0 | CB13: 0 | CC13: =CB13*1750 -> 0 | CF13: 0 | CG13: =CF13*1750 -> 0 | CJ13: 0 | CK13: =CJ13*1750 -> 0 | CN13: 0 | CO13: =CN13*1750 -> 0 | CR13: 0 | CS13: =CR13*1750 -> 0 | CV13: 0 | CW13: =CV13*1750 -> 0 | CZ13: 0 | DA13: =CZ13*1750 -> 0 | DD13: 0 | DE13: =DD13*1750 -> 0 | DH13: 0 | DI13: =DH13*1750 -> 0 | DL13: 0 | DM13: =DL13*1750 -> 0 | DP13: 0 | DQ13: =DP13*1750 -> 0 | DT13: 0 | DU13: =DT13*1750 -> 0 | DX13: =SUM(D13,H13,L13,P13,T13,X13,AB13,AF13,AJ13,AN13,AR13,AV13,AZ13,BD13,BH13,BL13,BP13,BT13,BX13,CB13,CF13,CJ13,CN13,CR13,CV13,CZ13,DD13,DH13,DL13,DP13,DT13) -> 0 | DY13: =DX13*1750 -> 0
A14: =Versements!A7 -> Nom5 | B14: Entrée(s) | C14: 42186 | D14: 0 | E14: =D14*2000 -> 0 | F14: =SUM(E14,E15,E16) -> 0 | G14: 42187 | H14: 0 | I14: =H14*2000 -> 0 | J14: =SUM(I14,I15,I16) -> 0 | K14: 42188 | L14: 0 | M14: =L14*2000 -> 0 | N14: =SUM(M14,M15,M16) -> 0 | O14: 42189 | P14: 0 | Q14: =P14*2000 -> 0 | R14: =SUM(Q14,Q15,Q16) -> 0 | S14: 42190 | T14: 0 | U14: =T14*2000 -> 0 | V14: =SUM(U14,U15,U16) -> 0 | W14: 42191 | X14: 0 | Y14: =X14*2000 -> 0 | Z14: =SUM(Y14,Y15,Y16) -> 0 | AA14: 42192 | AB14: 0 | AC14: =AB14*2000 -> 0 | AD14: =SUM(AC14,AC15,AC16) -> 0 | AE14: 42193 | AF14: 0 | AG14: =AF14*2000 -> 0 | AH14: =SUM(AG14,AG15,AG16) -> 0 | AI14: 42194 | AJ14: 0 | AK14: =AJ14*2000 -> 0 | AL14: =SUM(AK14,AK15,AK16) -> 0 | AM14: 42195 | AN14: 0 | AO14: =AN14*2000 -> 0 | AP14: =SUM(AO14,AO15,AO16) -> 0 | AQ14: 42196 | AR14: 0 | AS14: =AR14*2000 -> 0 | AT14: =SUM(AS14,AS15,AS16) -> 0 | AU14: 42197 | AV14: 0 | AW14: =AV14*2000 -> 0 | AX14: =SUM(AW14,AW15,AW16) -> 0 | AY14: 42198 | AZ14: 0 | BA14: =AZ14*2000 -> 0 | BB14: =SUM(BA14,BA15,BA16) -> 0 | BC14: 42199 | BD14: 0 | BE14: =BD14*2000 -> 0 | BF14: =SUM(BE14,BE15,BE16) -> 0 | BG14: 42200 | BH14: 0 | BI14: =BH14*2000 -> 0 | BJ14: =SUM(BI14,BI15,BI16) -> 0 | BK14: 42201 | BL14: 0 | BM14: =BL14*2000 -> 0 | BN14: =SUM(BM14,BM15,BM16) -> 0 | BO14: 42202 | BP14: 0 | BQ14: =BP14*2000 -> 0 | BR14: =SUM(BQ14,BQ15,BQ16) -> 0 | BS14: 42203 | BT14: 0 | BU14: =BT14*2000 -> 0 | BV14: =SUM(BU14,BU15,BU16) -> 0 | BW14: 42204 | BX14: 0 | BY14: =BX14*2000 -> 0 | BZ14: =SUM(BY14,BY15,BY16) -> 0 | CA14: 42205 | CB14: 0 | CC14: =CB14*2000 -> 0 | CD14: =SUM(CC14,CC15,CC16) -> 0 | CE14: 42206 | CF14: 0 | CG14: =CF14*2000 -> 0 | CH14: =SUM(CG14,CG15,CG16) -> 0 | CI14: 42207 | CJ14: 0 | CK14: =CJ14*2000 -> 0 | CL14: =SUM(CK14,CK15,CK16) -> 0 | CM14: 42208 | CN14: 0 | CO14: =CN14*2000 -> 0 | CP14: =SUM(CO14,CO15,CO16) -> 0 | CQ14: 42209 | CR14: 0 | CS14: =CR14*2000 -> 0 | CT14: =SUM(CS14,CS15,CS16) -> 0 | CU14: 42210 | CV14: 0 | CW14: =CV14*2000 -> 0 | CX14: =SUM(CW14,CW15,CW16) -> 0 | CY14: 42211 | CZ14: 0 | DA14: =CZ14*2000 -> 0 | DB14: =SUM(DA14,DA15,DA16) -> 0 | DC14: 42212 | DD14: 0 | DE14: =DD14*2000 -> 0 | DF14: =SUM(DE14,DE15,DE16) -> 0 | DG14: 42213 | DH14: 0 | DI14: =DH14*2000 -> 0 | DJ14: =SUM(DI14,DI15,DI16) -> 0 | DK14: 42214 | DL14: 0 | DM14: =DL14*2000 -> 0 | DN14: =SUM(DM14,DM15,DM16) -> 0 | DO14: 42215 | DP14: 0 | DQ14: =DP14*2000 -> 0 | DR14: =SUM(DQ14,DQ15,DQ16) -> 0 | DS14: 42216 | DT14: 0 | DU14: =DT14*2000 -> 0 | DV14: =SUM(DU14,DU15,DU16) -> 0 | DW14: 42216 | DX14: =SUM(D14,H14,L14,P14,T14,X14,AB14,AF14,AJ14,AN14,AR14,AV14,AZ14,BD14,BH14,BL14,BP14,BT14,BX14,CB14,CF14,CJ14,CN14,CR14,CV14,CZ14,DD14,DH14,DL14,DP14,DT14) -> 0 | DY14: =DX14*2000 -> 0 | DZ14: =SUM(DY14,DY15,DY16) -> 0
B15: Plat(s) Européen | D15: 0 | E15: =D15*2000 -> 0 | H15: 0 | I15: =H15*2000 -> 0 | L15: 0 | M15: =L15*2000 -> 0 | P15: 0 | Q15: =P15*2000 -> 0 | T15: 0 | U15: =T15*2000 -> 0 | X15: 0 | Y15: =X15*2000 -> 0 | AB15: 0 | AC15: =AB15*2000 -> 0 | AF15: 0 | AG15: =AF15*2000 -> 0 | AJ15: 0 | AK15: =AJ15*2000 -> 0 | AN15: 0 | AO15: =AN15*2000 -> 0 | AR15: 0 | AS15: =AR15*2000 -> 0 | AV15: 0 | AW15: =AV15*2000 -> 0 | AZ15: 0 | BA15: =AZ15*2000 -> 0 | BD15: 0 | BE15: =BD15*2000 -> 0 | BH15: 0 | BI15: =BH15*2000 -> 0 | BL15: 0 | BM15: =BL15*2000 -> 0 | BP15: 0 | BQ15: =BP15*2000 -> 0 | BT15: 0 | BU15: =BT15*2000 -> 0 | BX15: 0 | BY15: =BX15*2000 -> 0 | CB15: 0 | CC15: =CB15*2000 -> 0 | CF15: 0 | CG15: =CF15*2000 -> 0 | CJ15: 0 | CK15: =CJ15*2000 -> 0 | CN15: 0 | CO15: =CN15*2000 -> 0 | CR15: 0 | CS15: =CR15*2000 -> 0 | CV15: 0 | CW15: =CV15*2000 -> 0 | CZ15: 0 | DA15: =CZ15*2000 -> 0 | DD15: 0 | DE15: =DD15*2000 -> 0 | DH15: 0 | DI15: =DH15*2000 -> 0 | DL15: 0 | DM15: =DL15*2000 -> 0 | DP15: 0 | DQ15: =DP15*2000 -> 0 | DT15: 0 | DU15: =DT15*2000 -> 0 | DX15: =SUM(D15,H15,L15,P15,T15,X15,AB15,AF15,AJ15,AN15,AR15,AV15,AZ15,BD15,BH15,BL15,BP15,BT15,BX15,CB15,CF15,CJ15,CN15,CR15,CV15,CZ15,DD15,DH15,DL15,DP15,DT15) -> 0 | DY15: =DX15*2000 -> 0
B16: Plat(s) Africain | D16: 0 | E16: =D16*1750 -> 0 | H16: 0 | I16: =H16*1750 -> 0 | L16: 0 | M16: =L16*1750 -> 0 | P16: 0 | Q16: =P16*1750 -> 0 | T16: 0 | U16: =T16*1750 -> 0 | X16: 0 | Y16: =X16*1750 -> 0 | AB16: 0 | AC16: =AB16*1750 -> 0 | AF16: 0 | AG16: =AF16*1750 -> 0 | AJ16: 0 | AK16: =AJ16*1750 -> 0 | AN16: 0 | AO16: =AN16*1750 -> 0 | AR16: 0 | AS16: =AR16*1750 -> 0 | AV16: 0 | AW16: =AV16*1750 -> 0 | AZ16: 0 | BA16: =AZ16*1750 -> 0 | BD16: 0 | BE16: =BD16*1750 -> 0 | BH16: 0 | BI16: =BH16*1750 -> 0 | BL16: 0 | BM16: =BL16*1750 -> 0 | BP16: 0 | BQ16: =BP16*1750 -> 0 | BT16: 0 | BU16: =BT16*1750 -> 0 | BX16: 0 | BY16: =BX16*1750 -> 0 | CB16: 0 | CC16: =CB16*1750 -> 0 | CF16: 0 | CG16: =CF16*1750 -> 0 | CJ16: 0 | CK16: =CJ16*1750 -> 0 | CN16: 0 | CO16: =CN16*1750 -> 0 | CR16: 0 | CS16: =CR16*1750 -> 0 | CV16: 0 | CW16: =CV16*1750 -> 0 | CZ16: 0 | DA16: =CZ16*1750 -> 0 | DD16: 0 | DE16: =DD16*1750 -> 0 | DH16: 0 | DI16: =DH16*1750 -> 0 | DL16: 0 | DM16: =DL16*1750 -> 0 | DP16: 0 | DQ16: =DP16*1750 -> 0 | DT16: 0 | DU16: =DT16*1750 -> 0 | DX16: =SUM(D16,H16,L16,P16,T16,X16,AB16,AF16,AJ16,AN16,AR16,AV16,AZ16,BD16,BH16,BL16,BP16,BT16,BX16,CB16,CF16,CJ16,CN16,CR16,CV16,CZ16,DD16,DH16,DL16,DP16,DT16) -> 0 | DY16: =DX16*1750 -> 0
A17: =Versements!A8 -> Nom6 | B17: Entrée(s) | C17: 42186 | D17: 0 | E17: =D17*2000 -> 0 | F17: =SUM(E17,E18,E19) -> 0 | G17: 42187 | H17: 0 | I17: =H17*2000 -> 0 | J17: =SUM(I17,I18,I19) -> 0 | K17: 42188 | L17: 0 | M17: =L17*2000 -> 0 | N17: =SUM(M17,M18,M19) -> 0 | O17: 42189 | P17: 0 | Q17: =P17*2000 -> 0 | R17: =SUM(Q17,Q18,Q19) -> 0 | S17: 42190 | T17: 0 | U17: =T17*2000 -> 0 | V17: =SUM(U17,U18,U19) -> 0 | W17: 42191 | X17: 0 | Y17: =X17*2000 -> 0 | Z17: =SUM(Y17,Y18,Y19) -> 0 | AA17: 42192 | AB17: 0 | AC17: =AB17*2000 -> 0 | AD17: =SUM(AC17,AC18,AC19) -> 0 | AE17: 42193 | AF17: 0 | AG17: =AF17*2000 -> 0 | AH17: =SUM(AG17,AG18,AG19) -> 0 | AI17: 42194 | AJ17: 0 | AK17: =AJ17*2000 -> 0 | AL17: =SUM(AK17,AK18,AK19) -> 0 | AM17: 42195 | AN17: 0 | AO17: =AN17*2000 -> 0 | AP17: =SUM(AO17,AO18,AO19) -> 0 | AQ17: 42196 | AR17: 0 | AS17: =AR17*2000 -> 0 | AT17: =SUM(AS17,AS18,AS19) -> 0 | AU17: 42197 | AV17: 0 | AW17: =AV17*2000 -> 0 | AX17: =SUM(AW17,AW18,AW19) -> 0 | AY17: 42198 | AZ17: 0 | BA17: =AZ17*2000 -> 0 | BB17: =SUM(BA17,BA18,BA19) -> 0 | BC17: 42199 | BD17: 0 | BE17: =BD17*2000 -> 0 | BF17: =SUM(BE17,BE18,BE19) -> 0 | BG17: 42200 | BH17: 0 | BI17: =BH17*2000 -> 0 | BJ17: =SUM(BI17,BI18,BI19) -> 0 | BK17: 42201 | BL17: 0 | BM17: =BL17*2000 -> 0 | BN17: =SUM(BM17,BM18,BM19) -> 0 | BO17: 42202 | BP17: 0 | BQ17: =BP17*2000 -> 0 | BR17: =SUM(BQ17,BQ18,BQ19) -> 0 | BS17: 42203 | BT17: 0 | BU17: =BT17*2000 -> 0 | BV17: =SUM(BU17,BU18,BU19) -> 0 | BW17: 42204 | BX17: 0 | BY17: =BX17*2000 -> 0 | BZ17: =SUM(BY17,BY18,BY19) -> 0 | CA17: 42205 | CB17: 0 | CC17: =CB17*2000 -> 0 | CD17: =SUM(CC17,CC18,CC19) -> 0 | CE17: 42206 | CF17: 0 | CG17: =CF17*2000 -> 0 | CH17: =SUM(CG17,CG18,CG19) -> 0 | CI17: 42207 | CJ17: 0 | CK17: =CJ17*2000 -> 0 | CL17: =SUM(CK17,CK18,CK19) -> 0 | CM17: 42208 | CN17: 0 | CO17: =CN17*2000 -> 0 | CP17: =SUM(CO17,CO18,CO19) -> 0 | CQ17: 42209 | CR17: 0 | CS17: =CR17*2000 -> 0 | CT17: =SUM(CS17,CS18,CS19) -> 0 | CU17: 42210 | CV17: 0 | CW17: =CV17*2000 -> 0 | CX17: =SUM(CW17,CW18,CW19) -> 0 | CY17: 42211 | CZ17: 0 | DA17: =CZ17*2000 -> 0 | DB17: =SUM(DA17,DA18,DA19) -> 0 | DC17: 42212 | DD17: 0 | DE17: =DD17*2000 -> 0 | DF17: =SUM(DE17,DE18,DE19) -> 0 | DG17: 42213 | DH17: 0 | DI17: =DH17*2000 -> 0 | DJ17: =SUM(DI17,DI18,DI19) -> 0 | DK17: 42214 | DL17: 0 | DM17: =DL17*2000 -> 0 | DN17: =SUM(DM17,DM18,DM19) -> 0 | DO17: 42215 | DP17: 0 | DQ17: =DP17*2000 -> 0 | DR17: =SUM(DQ17,DQ18,DQ19) -> 0 | DS17: 42216 | DT17: 0 | DU17: =DT17*2000 -> 0 | DV17: =SUM(DU17,DU18,DU19) -> 0 | DW17: 42216 | DX17: =SUM(D17,H17,L17,P17,T17,X17,AB17,AF17,AJ17,AN17,AR17,AV17,AZ17,BD17,BH17,BL17,BP17,BT17,BX17,CB17,CF17,CJ17,CN17,CR17,CV17,CZ17,DD17,DH17,DL17,DP17,DT17) -> 0 | DY17: =DX17*2000 -> 0 | DZ17: =SUM(DY17,DY18,DY19) -> 0
B18: Plat(s) Européen | D18: 0 | E18: =D18*2000 -> 0 | H18: 0 | I18: =H18*2000 -> 0 | L18: 0 | M18: =L18*2000 -> 0 | P18: 0 | Q18: =P18*2000 -> 0 | T18: 0 | U18: =T18*2000 -> 0 | X18: 0 | Y18: =X18*2000 -> 0 | AB18: 0 | AC18: =AB18*2000 -> 0 | AF18: 0 | AG18: =AF18*2000 -> 0 | AJ18: 0 | AK18: =AJ18*2000 -> 0 | AN18: 0 | AO18: =AN18*2000 -> 0 | AR18: 0 | AS18: =AR18*2000 -> 0 | AV18: 0 | AW18: =AV18*2000 -> 0 | AZ18: 0 | BA18: =AZ18*2000 -> 0 | BD18: 0 | BE18: =BD18*2000 -> 0 | BH18: 0 | BI18: =BH18*2000 -> 0 | BL18: 0 | BM18: =BL18*2000 -> 0 | BP18: 0 | BQ18: =BP18*2000 -> 0 | BT18: 0 | BU18: =BT18*2000 -> 0 | BX18: 0 | BY18: =BX18*2000 -> 0 | CB18: 0 | CC18: =CB18*2000 -> 0 | CF18: 0 | CG18: =CF18*2000 -> 0 | CJ18: 0 | CK18: =CJ18*2000 -> 0 | CN18: 0 | CO18: =CN18*2000 -> 0 | CR18: 0 | CS18: =CR18*2000 -> 0 | CV18: 0 | CW18: =CV18*2000 -> 0 | CZ18: 0 | DA18: =CZ18*2000 -> 0 | DD18: 0 | DE18: =DD18*2000 -> 0 | DH18: 0 | DI18: =DH18*2000 -> 0 | DL18: 0 | DM18: =DL18*2000 -> 0 | DP18: 0 | DQ18: =DP18*2000 -> 0 | DT18: 0 | DU18: =DT18*2000 -> 0 | DX18: =SUM(D18,H18,L18,P18,T18,X18,AB18,AF18,AJ18,AN18,AR18,AV18,AZ18,BD18,BH18,BL18,BP18,BT18,BX18,CB18,CF18,CJ18,CN18,CR18,CV18,CZ18,DD18,DH18,DL18,DP18,DT18) -> 0 | DY18: =DX18*2000 -> 0
B19: Plat(s) Africain | D19: 0 | E19: =D19*1750 -> 0 | H19: 0 | I19: =H19*1750 -> 0 | L19: 0 | M19: =L19*1750 -> 0 | P19: 0 | Q19: =P19*1750 -> 0 | T19: 0 | U19: =T19*1750 -> 0 | X19: 0 | Y19: =X19*1750 -> 0 | AB19: 0 | AC19: =AB19*1750 -> 0 | AF19: 0 | AG19: =AF19*1750 -> 0 | AJ19: 0 | AK19: =AJ19*1750 -> 0 | AN19: 0 | AO19: =AN19*1750 -> 0 | AR19: 0 | AS19: =AR19*1750 -> 0 | AV19: 0 | AW19: =AV19*1750 -> 0 | AZ19: 0 | BA19: =AZ19*1750 -> 0 | BD19: 0 | BE19: =BD19*1750 -> 0 | BH19: 0 | BI19: =BH19*1750 -> 0 | BL19: 0 | BM19: =BL19*1750 -> 0 | BP19: 0 | BQ19: =BP19*1750 -> 0 | BT19: 0 | BU19: =BT19*1750 -> 0 | BX19: 0 | BY19: =BX19*1750 -> 0 | CB19: 0 | CC19: =CB19*1750 -> 0 | CF19: 0 | CG19: =CF19*1750 -> 0 | CJ19: 0 | CK19: =CJ19*1750 -> 0 | CN19: 0 | CO19: =CN19*1750 -> 0 | CR19: 0 | CS19: =CR19*1750 -> 0 | CV19: 0 | CW19: =CV19*1750 -> 0 | CZ19: 0 | DA19: =CZ19*1750 -> 0 | DD19: 0 | DE19: =DD19*1750 -> 0 | DH19: 0 | DI19: =DH19*1750 -> 0 | DL19: 0 | DM19: =DL19*1750 -> 0 | DP19: 0 | DQ19: =DP19*1750 -> 0 | DT19: 0 | DU19: =DT19*1750 -> 0 | DX19: =SUM(D19,H19,L19,P19,T19,X19,AB19,AF19,AJ19,AN19,AR19,AV19,AZ19,BD19,BH19,BL19,BP19,BT19,BX19,CB19,CF19,CJ19,CN19,CR19,CV19,CZ19,DD19,DH19,DL19,DP19,DT19) -> 0 | DY19: =DX19*1750 -> 0
A20: =Versements!A9 -> Nom7 | B20: Entrée(s) | C20: 42186 | D20: 0 | E20: =D20*2000 -> 0 | F20: =SUM(E20,E21,E22) -> 0 | G20: 42187 | H20: 0 | I20: =H20*2000 -> 0 | J20: =SUM(I20,I21,I22) -> 0 | K20: 42188 | L20: 0 | M20: =L20*2000 -> 0 | N20: =SUM(M20,M21,M22) -> 0 | O20: 42189 | P20: 0 | Q20: =P20*2000 -> 0 | R20: =SUM(Q20,Q21,Q22) -> 0 | S20: 42190 | T20: 0 | U20: =T20*2000 -> 0 | V20: =SUM(U20,U21,U22) -> 0 | W20: 42191 | X20: 0 | Y20: =X20*2000 -> 0 | Z20: =SUM(Y20,Y21,Y22) -> 0 | AA20: 42192 | AB20: 0 | AC20: =AB20*2000 -> 0 | AD20: =SUM(AC20,AC21,AC22) -> 0 | AE20: 42193 | AF20: 0 | AG20: =AF20*2000 -> 0 | AH20: =SUM(AG20,AG21,AG22) -> 0 | AI20: 42194 | AJ20: 0 | AK20: =AJ20*2000 -> 0 | AL20: =SUM(AK20,AK21,AK22) -> 0 | AM20: 42195 | AN20: 0 | AO20: =AN20*2000 -> 0 | AP20: =SUM(AO20,AO21,AO22) -> 0 | AQ20: 42196 | AR20: 0 | AS20: =AR20*2000 -> 0 | AT20: =SUM(AS20,AS21,AS22) -> 0 | AU20: 42197 | AV20: 0 | AW20: =AV20*2000 -> 0 | AX20: =SUM(AW20,AW21,AW22) -> 0 | AY20: 42198 | AZ20: 0 | BA20: =AZ20*2000 -> 0 | BB20: =SUM(BA20,BA21,BA22) -> 0 | BC20: 42199 | BD20: 0 | BE20: =BD20*2000 -> 0 | BF20: =SUM(BE20,BE21,BE22) -> 0 | BG20: 42200 | BH20: 0 | BI20: =BH20*2000 -> 0 | BJ20: =SUM(BI20,BI21,BI22) -> 0 | BK20: 42201 | BL20: 0 | BM20: =BL20*2000 -> 0 | BN20: =SUM(BM20,BM21,BM22) -> 0 | BO20: 42202 | BP20: 0 | BQ20: =BP20*2000 -> 0 | BR20: =SUM(BQ20,BQ21,BQ22) -> 0 | BS20: 42203 | BT20: 0 | BU20: =BT20*2000 -> 0 | BV20: =SUM(BU20,BU21,BU22) -> 0 | BW20: 42204 | BX20: 0 | BY20: =BX20*2000 -> 0 | BZ20: =SUM(BY20,BY21,BY22) -> 0 | CA20: 42205 | CB20: 0 | CC20: =CB20*2000 -> 0 | CD20: =SUM(CC20,CC21,CC22) -> 0 | CE20: 42206 | CF20: 0 | CG20: =CF20*2000 -> 0 | CH20: =SUM(CG20,CG21,CG22) -> 0 | CI20: 42207 | CJ20: 0 | CK20: =CJ20*2000 -> 0 | CL20: =SUM(CK20,CK21,CK22) -> 0 | CM20: 42208 | CN20: 0 | CO20: =CN20*2000 -> 0 | CP20: =SUM(CO20,CO21,CO22) -> 0 | CQ20: 42209 | CR20: 0 | CS20: =CR20*2000 -> 0 | CT20: =SUM(CS20,CS21,CS22) -> 0 | CU20: 42210 | CV20: 0 | CW20: =CV20*2000 -> 0 | CX20: =SUM(CW20,CW21,CW22) -> 0 | CY20: 42211 | CZ20: 0 | DA20: =CZ20*2000 -> 0 | DB20: =SUM(DA20,DA21,DA22) -> 0 | DC20: 42212 | DD20: 0 | DE20: =DD20*2000 -> 0 | DF20: =SUM(DE20,DE21,DE22) -> 0 | DG20: 42213 | DH20: 0 | DI20: =DH20*2000 -> 0 | DJ20: =SUM(DI20,DI21,DI22) -> 0 | DK20: 42214 | DL20: 0 | DM20: =DL20*2000 -> 0 | DN20: =SUM(DM20,DM21,DM22) -> 0 | DO20: 42215 | DP20: 0 | DQ20: =DP20*2000 -> 0 | DR20: =SUM(DQ20,DQ21,DQ22) -> 0 | DS20: 42216 | DT20: 0 | DU20: =DT20*2000 -> 0 | DV20: =SUM(DU20,DU21,DU22) -> 0 | DW20: 42216 | DX20: =SUM(D20,H20,L20,P20,T20,X20,AB20,AF20,AJ20,AN20,AR20,AV20,AZ20,BD20,BH20,BL20,BP20,BT20,BX20,CB20,CF20,CJ20,CN20,CR20,CV20,CZ20,DD20,DH20,DL20,DP20,DT20) -> 0 | DY20: =DX20*2000 -> 0 | DZ20: =SUM(DY20,DY21,DY22) -> 0
B21: Plat(s) Européen | D21: 0 | E21: =D21*2000 -> 0 | H21: 0 | I21: =H21*2000 -> 0 | L21: 0 | M21: =L21*2000 -> 0 | P21: 0 | Q21: =P21*2000 -> 0 | T21: 0 | U21: =T21*2000 -> 0 | X21: 0 | Y21: =X21*2000 -> 0 | AB21: 0 | AC21: =AB21*2000 -> 0 | AF21: 0 | AG21: =AF21*2000 -> 0 | AJ21: 0 | AK21: =AJ21*2000 -> 0 | AN21: 0 | AO21: =AN21*2000 -> 0 | AR21: 0 | AS21: =AR21*2000 -> 0 | AV21: 0 | AW21: =AV21*2000 -> 0 | AZ21: 0 | BA21: =AZ21*2000 -> 0 | BD21: 0 | BE21: =BD21*2000 -> 0 | BH21: 0 | BI21: =BH21*2000 -> 0 | BL21: 0 | BM21: =BL21*2000 -> 0 | BP21: 0 | BQ21: =BP21*2000 -> 0 | BT21: 0 | BU21: =BT21*2000 -> 0 | BX21: 0 | BY21: =BX21*2000 -> 0 | CB21: 0 | CC21: =CB21*2000 -> 0 | CF21: 0 | CG21: =CF21*2000 -> 0 | CJ21: 0 | CK21: =CJ21*2000 -> 0 | CN21: 0 | CO21: =CN21*2000 -> 0 | CR21: 0 | CS21: =CR21*2000 -> 0 | CV21: 0 | CW21: =CV21*2000 -> 0 | CZ21: 0 | DA21: =CZ21*2000 -> 0 | DD21: 0 | DE21: =DD21*2000 -> 0 | DH21: 0 | DI21: =DH21*2000 -> 0 | DL21: 0 | DM21: =DL21*2000 -> 0 | DP21: 0 | DQ21: =DP21*2000 -> 0 | DT21: 0 | DU21: =DT21*2000 -> 0 | DX21: =SUM(D21,H21,L21,P21,T21,X21,AB21,AF21,AJ21,AN21,AR21,AV21,AZ21,BD21,BH21,BL21,BP21,BT21,BX21,CB21,CF21,CJ21,CN21,CR21,CV21,CZ21,DD21,DH21,DL21,DP21,DT21) -> 0 | DY21: =DX21*2000 -> 0
B22: Plat(s) Africain | D22: 0 | E22: =D22*1750 -> 0 | H22: 0 | I22: =H22*1750 -> 0 | L22: 0 | M22: =L22*1750 -> 0 | P22: 0 | Q22: =P22*1750 -> 0 | T22: 0 | U22: =T22*1750 -> 0 | X22: 0 | Y22: =X22*1750 -> 0 | AB22: 0 | AC22: =AB22*1750 -> 0 | AF22: 0 | AG22: =AF22*1750 -> 0 | AJ22: 0 | AK22: =AJ22*1750 -> 0 | AN22: 0 | AO22: =AN22*1750 -> 0 | AR22: 0 | AS22: =AR22*1750 -> 0 | AV22: 0 | AW22: =AV22*1750 -> 0 | AZ22: 0 | BA22: =AZ22*1750 -> 0 | BD22: 0 | BE22: =BD22*1750 -> 0 | BH22: 0 | BI22: =BH22*1750 -> 0 | BL22: 0 | BM22: =BL22*1750 -> 0 | BP22: 0 | BQ22: =BP22*1750 -> 0 | BT22: 0 | BU22: =BT22*1750 -> 0 | BX22: 0 | BY22: =BX22*1750 -> 0 | CB22: 0 | CC22: =CB22*1750 -> 0 | CF22: 0 | CG22: =CF22*1750 -> 0 | CJ22: 0 | CK22: =CJ22*1750 -> 0 | CN22: 0 | CO22: =CN22*1750 -> 0 | CR22: 0 | CS22: =CR22*1750 -> 0 | CV22: 0 | CW22: =CV22*1750 -> 0 | CZ22: 0 | DA22: =CZ22*1750 -> 0 | DD22: 0 | DE22: =DD22*1750 -> 0 | DH22: 0 | DI22: =DH22*1750 -> 0 | DL22: 0 | DM22: =DL22*1750 -> 0 | DP22: 0 | DQ22: =DP22*1750 -> 0 | DT22: 0 | DU22: =DT22*1750 -> 0 | DX22: =SUM(D22,H22,L22,P22,T22,X22,AB22,AF22,AJ22,AN22,AR22,AV22,AZ22,BD22,BH22,BL22,BP22,BT22,BX22,CB22,CF22,CJ22,CN22,CR22,CV22,CZ22,DD22,DH22,DL22,DP22,DT22) -> 0 | DY22: =DX22*1750 -> 0
A23: =Versements!A10 -> Nom8 | B23: Entrée(s) | C23: 42186 | D23: 0 | E23: =D23*2000 -> 0 | F23: =SUM(E23,E24,E25) -> 0 | G23: 42187 | H23: 0 | I23: =H23*2000 -> 0 | J23: =SUM(I23,I24,I25) -> 0 | K23: 42188 | L23: 0 | M23: =L23*2000 -> 0 | N23: =SUM(M23,M24,M25) -> 0 | O23: 42189 | P23: 0 | Q23: =P23*2000 -> 0 | R23: =SUM(Q23,Q24,Q25) -> 0 | S23: 42190 | T23: 0 | U23: =T23*2000 -> 0 | V23: =SUM(U23,U24,U25) -> 0 | W23: 42191 | X23: 0 | Y23: =X23*2000 -> 0 | Z23: =SUM(Y23,Y24,Y25) -> 0 | AA23: 42192 | AB23: 0 | AC23: =AB23*2000 -> 0 | AD23: =SUM(AC23,AC24,AC25) -> 0 | AE23: 42193 | AF23: 0 | AG23: =AF23*2000 -> 0 | AH23: =SUM(AG23,AG24,AG25) -> 0 | AI23: 42194 | AJ23: 0 | AK23: =AJ23*2000 -> 0 | AL23: =SUM(AK23,AK24,AK25) -> 0 | AM23: 42195 | AN23: 0 | AO23: =AN23*2000 -> 0 | AP23: =SUM(AO23,AO24,AO25) -> 0 | AQ23: 42196 | AR23: 0 | AS23: =AR23*2000 -> 0 | AT23: =SUM(AS23,AS24,AS25) -> 0 | AU23: 42197 | AV23: 0 | AW23: =AV23*2000 -> 0 | AX23: =SUM(AW23,AW24,AW25) -> 0 | AY23: 42198 | AZ23: 0 | BA23: =AZ23*2000 -> 0 | BB23: =SUM(BA23,BA24,BA25) -> 0 | BC23: 42199 | BD23: 0 | BE23: =BD23*2000 -> 0 | BF23: =SUM(BE23,BE24,BE25) -> 0 | BG23: 42200 | BH23: 0 | BI23: =BH23*2000 -> 0 | BJ23: =SUM(BI23,BI24,BI25) -> 2000 | BK23: 42201 | BL23: 0 | BM23: =BL23*2000 -> 0 | BN23: =SUM(BM23,BM24,BM25) -> 0 | BO23: 42202 | BP23: 0 | BQ23: =BP23*2000 -> 0 | BR23: =SUM(BQ23,BQ24,BQ25) -> 0 | BS23: 42203 | BT23: 0 | BU23: =BT23*2000 -> 0 | BV23: =SUM(BU23,BU24,BU25) -> 0 | BW23: 42204 | BX23: 0 | BY23: =BX23*2000 -> 0 | BZ23: =SUM(BY23,BY24,BY25) -> 0 | CA23: 42205 | CB23: 0 | CC23: =CB23*2000 -> 0 | CD23: =SUM(CC23,CC24,CC25) -> 0 | CE23: 42206 | CF23: 0 | CG23: =CF23*2000 -> 0 | CH23: =SUM(CG23,CG24,CG25) -> 0 | CI23: 42207 | CJ23: 0 | CK23: =CJ23*2000 -> 0 | CL23: =SUM(CK23,CK24,CK25) -> 0 | CM23: 42208 | CN23: 0 | CO23: =CN23*2000 -> 0 | CP23: =SUM(CO23,CO24,CO25) -> 0 | CQ23: 42209 | CR23: 0 | CS23: =CR23*2000 -> 0 | CT23: =SUM(CS23,CS24,CS25) -> 0 | CU23: 42210 | CV23: 0 | CW23: =CV23*2000 -> 0 | CX23: =SUM(CW23,CW24,CW25) -> 0 | CY23: 42211 | CZ23: 0 | DA23: =CZ23*2000 -> 0 | DB23: =SUM(DA23,DA24,DA25) -> 0 | DC23: 42212 | DD23: 0 | DE23: =DD23*2000 -> 0 | DF23: =SUM(DE23,DE24,DE25) -> 0 | DG23: 42213 | DH23: 0 | DI23: =DH23*2000 -> 0 | DJ23: =SUM(DI23,DI24,DI25) -> 0 | DK23: 42214 | DL23: 0 | DM23: =DL23*2000 -> 0 | DN23: =SUM(DM23,DM24,DM25) -> 0 | DO23: 42215 | DP23: 0 | DQ23: =DP23*2000 -> 0 | DR23: =SUM(DQ23,DQ24,DQ25) -> 0 | DS23: 42216 | DT23: 0 | DU23: =DT23*2000 -> 0 | DV23: =SUM(DU23,DU24,DU25) -> 0 | DW23: 42216 | DX23: =SUM(D23,H23,L23,P23,T23,X23,AB23,AF23,AJ23,AN23,AR23,AV23,AZ23,BD23,BH23,BL23,BP23,BT23,BX23,CB23,CF23,CJ23,CN23,CR23,CV23,CZ23,DD23,DH23,DL23,DP23,DT23) -> 0 | DY23: =DX23*2000 -> 0 | DZ23: =SUM(DY23,DY24,DY25) -> 2000
B24: Plat(s) Européen | D24: 0 | E24: =D24*2000 -> 0 | H24: 0 | I24: =H24*2000 -> 0 | L24: 0 | M24: =L24*2000 -> 0 | P24: 0 | Q24: =P24*2000 -> 0 | T24: 0 | U24: =T24*2000 -> 0 | X24: 0 | Y24: =X24*2000 -> 0 | AB24: 0 | AC24: =AB24*2000 -> 0 | AF24: 0 | AG24: =AF24*2000 -> 0 | AJ24: 0 | AK24: =AJ24*2000 -> 0 | AN24: 0 | AO24: =AN24*2000 -> 0 | AR24: 0 | AS24: =AR24*2000 -> 0 | AV24: 0 | AW24: =AV24*2000 -> 0 | AZ24: 0 | BA24: =AZ24*2000 -> 0 | BD24: 0 | BE24: =BD24*2000 -> 0 | BH24: 1 | BI24: =BH24*2000 -> 2000 | BL24: 0 | BM24: =BL24*2000 -> 0 | BP24: 0 | BQ24: =BP24*2000 -> 0 | BT24: 0 | BU24: =BT24*2000 -> 0 | BX24: 0 | BY24: =BX24*2000 -> 0 | CB24: 0 | CC24: =CB24*2000 -> 0 | CF24: 0 | CG24: =CF24*2000 -> 0 | CJ24: 0 | CK24: =CJ24*2000 -> 0 | CN24: 0 | CO24: =CN24*2000 -> 0 | CR24: 0 | CS24: =CR24*2000 -> 0 | CV24: 0 | CW24: =CV24*2000 -> 0 | CZ24: 0 | DA24: =CZ24*2000 -> 0 | DD24: 0 | DE24: =DD24*2000 -> 0 | DH24: 0 | DI24: =DH24*2000 -> 0 | DL24: 0 | DM24: =DL24*2000 -> 0 | DP24: 0 | DQ24: =DP24*2000 -> 0 | DT24: 0 | DU24: =DT24*2000 -> 0 | DX24: =SUM(D24,H24,L24,P24,T24,X24,AB24,AF24,AJ24,AN24,AR24,AV24,AZ24,BD24,BH24,BL24,BP24,BT24,BX24,CB24,CF24,CJ24,CN24,CR24,CV24,CZ24,DD24,DH24,DL24,DP24,DT24) -> 1 | DY24: =DX24*2000 -> 2000
B25: Plat(s) Africain | D25: 0 | E25: =D25*1750 -> 0 | H25: 0 | I25: =H25*1750 -> 0 | L25: 0 | M25: =L25*1750 -> 0 | P25: 0 | Q25: =P25*1750 -> 0 | T25: 0 | U25: =T25*1750 -> 0 | X25: 0 | Y25: =X25*1750 -> 0 | AB25: 0 | AC25: =AB25*1750 -> 0 | AF25: 0 | AG25: =AF25*1750 -> 0 | AJ25: 0 | AK25: =AJ25*1750 -> 0 | AN25: 0 | AO25: =AN25*1750 -> 0 | AR25: 0 | AS25: =AR25*1750 -> 0 | AV25: 0 | AW25: =AV25*1750 -> 0 | AZ25: 0 | BA25: =AZ25*1750 -> 0 | BD25: 0 | BE25: =BD25*1750 -> 0 | BH25: 0 | BI25: =BH25*1750 -> 0 | BL25: 0 | BM25: =BL25*1750 -> 0 | BP25: 0 | BQ25: =BP25*1750 -> 0 | BT25: 0 | BU25: =BT25*1750 -> 0 | BX25: 0 | BY25: =BX25*1750 -> 0 | CB25: 0 | CC25: =CB25*1750 -> 0 | CF25: 0 | CG25: =CF25*1750 -> 0 | CJ25: 0 | CK25: =CJ25*1750 -> 0 | CN25: 0 | CO25: =CN25*1750 -> 0 | CR25: 0 | CS25: =CR25*1750 -> 0 | CV25: 0 | CW25: =CV25*1750 -> 0 | CZ25: 0 | DA25: =CZ25*1750 -> 0 | DD25: 0 | DE25: =DD25*1750 -> 0 | DH25: 0 | DI25: =DH25*1750 -> 0 | DL25: 0 | DM25: =DL25*1750 -> 0 | DP25: 0 | DQ25: =DP25*1750 -> 0 | DT25: 0 | DU25: =DT25*1750 -> 0 | DX25: =SUM(D25,H25,L25,P25,T25,X25,AB25,AF25,AJ25,AN25,AR25,AV25,AZ25,BD25,BH25,BL25,BP25,BT25,BX25,CB25,CF25,CJ25,CN25,CR25,CV25,CZ25,DD25,DH25,DL25,DP25,DT25) -> 0 | DY25: =DX25*1750 -> 0
A26: =Versements!A11 -> Nom9 | B26: Entrée(s) | C26: 42186 | D26: 0 | E26: =D26*2000 -> 0 | F26: =SUM(E26,E27,E28) -> 0 | G26: 42187 | H26: 0 | I26: =H26*2000 -> 0 | J26: =SUM(I26,I27,I28) -> 0 | K26: 42188 | L26: 0 | M26: =L26*2000 -> 0 | N26: =SUM(M26,M27,M28) -> 0 | O26: 42189 | P26: 0 | Q26: =P26*2000 -> 0 | R26: =SUM(Q26,Q27,Q28) -> 0 | S26: 42190 | T26: 0 | U26: =T26*2000 -> 0 | V26: =SUM(U26,U27,U28) -> 0 | W26: 42191 | X26: 0 | Y26: =X26*2000 -> 0 | Z26: =SUM(Y26,Y27,Y28) -> 0 | AA26: 42192 | AB26: 0 | AC26: =AB26*2000 -> 0 | AD26: =SUM(AC26,AC27,AC28) -> 0 | AE26: 42193 | AF26: 0 | AG26: =AF26*2000 -> 0 | AH26: =SUM(AG26,AG27,AG28) -> 0 | AI26: 42194 | AJ26: 0 | AK26: =AJ26*2000 -> 0 | AL26: =SUM(AK26,AK27,AK28) -> 0 | AM26: 42195 | AN26: 0 | AO26: =AN26*2000 -> 0 | AP26: =SUM(AO26,AO27,AO28) -> 0 | AQ26: 42196 | AR26: 0 | AS26: =AR26*2000 -> 0 | AT26: =SUM(AS26,AS27,AS28) -> 0 | AU26: 42197 | AV26: 0 | AW26: =AV26*2000 -> 0 | AX26: =SUM(AW26,AW27,AW28) -> 0 | AY26: 42198 | AZ26: 0 | BA26: =AZ26*2000 -> 0 | BB26: =SUM(BA26,BA27,BA28) -> 0 | BC26: 42199 | BD26: 0 | BE26: =BD26*2000 -> 0 | BF26: =SUM(BE26,BE27,BE28) -> 2000 | BG26: 42200 | BH26: 0 | BI26: =BH26*2000 -> 0 | BJ26: =SUM(BI26,BI27,BI28) -> 0 | BK26: 42201 | BL26: 0 | BM26: =BL26*2000 -> 0 | BN26: =SUM(BM26,BM27,BM28) -> 0 | BO26: 42202 | BP26: 0 | BQ26: =BP26*2000 -> 0 | BR26: =SUM(BQ26,BQ27,BQ28) -> 2000 | BS26: 42203 | BT26: 0 | BU26: =BT26*2000 -> 0 | BV26: =SUM(BU26,BU27,BU28) -> 0 | BW26: 42204 | BX26: 0 | BY26: =BX26*2000 -> 0 | BZ26: =SUM(BY26,BY27,BY28) -> 0 | CA26: 42205 | CB26: 0 | CC26: =CB26*2000 -> 0 | CD26: =SUM(CC26,CC27,CC28) -> 0 | CE26: 42206 | CF26: 0 | CG26: =CF26*2000 -> 0 | CH26: =SUM(CG26,CG27,CG28) -> 0 | CI26: 42207 | CJ26: 0 | CK26: =CJ26*2000 -> 0 | CL26: =SUM(CK26,CK27,CK28) -> 0 | CM26: 42208 | CN26: 0 | CO26: =CN26*2000 -> 0 | CP26: =SUM(CO26,CO27,CO28) -> 0 | CQ26: 42209 | CR26: 0 | CS26: =CR26*2000 -> 0 | CT26: =SUM(CS26,CS27,CS28) -> 0 | CU26: 42210 | CV26: 0 | CW26: =CV26*2000 -> 0 | CX26: =SUM(CW26,CW27,CW28) -> 0 | CY26: 42211 | CZ26: 0 | DA26: =CZ26*2000 -> 0 | DB26: =SUM(DA26,DA27,DA28) -> 0 | DC26: 42212 | DD26: 0 | DE26: =DD26*2000 -> 0 | DF26: =SUM(DE26,DE27,DE28) -> 0 | DG26: 42213 | DH26: 0 | DI26: =DH26*2000 -> 0 | DJ26: =SUM(DI26,DI27,DI28) -> 0 | DK26: 42214 | DL26: 0 | DM26: =DL26*2000 -> 0 | DN26: =SUM(DM26,DM27,DM28) -> 0 | DO26: 42215 | DP26: 0 | DQ26: =DP26*2000 -> 0 | DR26: =SUM(DQ26,DQ27,DQ28) -> 0 | DS26: 42216 | DT26: 0 | DU26: =DT26*2000 -> 0 | DV26: =SUM(DU26,DU27,DU28) -> 0 | DW26: 42216 | DX26: =SUM(D26,H26,L26,P26,T26,X26,AB26,AF26,AJ26,AN26,AR26,AV26,AZ26,BD26,BH26,BL26,BP26,BT26,BX26,CB26,CF26,CJ26,CN26,CR26,CV26,CZ26,DD26,DH26,DL26,DP26,DT26) -> 0 | DY26: =DX26*2000 -> 0 | DZ26: =SUM(DY26,DY27,DY28) -> 4000
B27: Plat(s) Européen | D27: 0 | E27: =D27*2000 -> 0 | H27: 0 | I27: =H27*2000 -> 0 | L27: 0 | M27: =L27*2000 -> 0 | P27: 0 | Q27: =P27*2000 -> 0 | T27: 0 | U27: =T27*2000 -> 0 | X27: 0 | Y27: =X27*2000 -> 0 | AB27: 0 | AC27: =AB27*2000 -> 0 | AF27: 0 | AG27: =AF27*2000 -> 0 | AJ27: 0 | AK27: =AJ27*2000 -> 0 | AN27: 0 | AO27: =AN27*2000 -> 0 | AR27: 0 | AS27: =AR27*2000 -> 0 | AV27: 0 | AW27: =AV27*2000 -> 0 | AZ27: 0 | BA27: =AZ27*2000 -> 0 | BD27: 1 | BE27: =BD27*2000 -> 2000 | BH27: 0 | BI27: =BH27*2000 -> 0 | BL27: 0 | BM27: =BL27*2000 -> 0 | BP27: 1 | BQ27: =BP27*2000 -> 2000 | BT27: 0 | BU27: =BT27*2000 -> 0 | BX27: 0 | BY27: =BX27*2000 -> 0 | CB27: 0 | CC27: =CB27*2000 -> 0 | CF27: 0 | CG27: =CF27*2000 -> 0 | CJ27: 0 | CK27: =CJ27*2000 -> 0 | CN27: 0 | CO27: =CN27*2000 -> 0 | CR27: 0 | CS27: =CR27*2000 -> 0 | CV27: 0 | CW27: =CV27*2000 -> 0 | CZ27: 0 | DA27: =CZ27*2000 -> 0 | DD27: 0 | DE27: =DD27*2000 -> 0 | DH27: 0 | DI27: =DH27*2000 -> 0 | DL27: 0 | DM27: =DL27*2000 -> 0 | DP27: 0 | DQ27: =DP27*2000 -> 0 | DT27: 0 | DU27: =DT27*2000 -> 0 | DX27: =SUM(D27,H27,L27,P27,T27,X27,AB27,AF27,AJ27,AN27,AR27,AV27,AZ27,BD27,BH27,BL27,BP27,BT27,BX27,CB27,CF27,CJ27,CN27,CR27,CV27,CZ27,DD27,DH27,DL27,DP27,DT27) -> 2 | DY27: =DX27*2000 -> 4000
B28: Plat(s) Africain | D28: 0 | E28: =D28*1750 -> 0 | H28: 0 | I28: =H28*1750 -> 0 | L28: 0 | M28: =L28*1750 -> 0 | P28: 0 | Q28: =P28*1750 -> 0 | T28: 0 | U28: =T28*1750 -> 0 | X28: 0 | Y28: =X28*1750 -> 0 | AB28: 0 | AC28: =AB28*1750 -> 0 | AF28: 0 | AG28: =AF28*1750 -> 0 | AJ28: 0 | AK28: =AJ28*1750 -> 0 | AN28: 0 | AO28: =AN28*1750 -> 0 | AR28: 0 | AS28: =AR28*1750 -> 0 | AV28: 0 | AW28: =AV28*1750 -> 0 | AZ28: 0 | BA28: =AZ28*1750 -> 0 | BD28: 0 | BE28: =BD28*1750 -> 0 | BH28: 0 | BI28: =BH28*1750 -> 0 | BL28: 0 | BM28: =BL28*1750 -> 0 | BP28: 0 | BQ28: =BP28*1750 -> 0 | BT28: 0 | BU28: =BT28*1750 -> 0 | BX28: 0 | BY28: =BX28*1750 -> 0 | CB28: 0 | CC28: =CB28*1750 -> 0 | CF28: 0 | CG28: =CF28*1750 -> 0 | CJ28: 0 | CK28: =CJ28*1750 -> 0 | CN28: 0 | CO28: =CN28*1750 -> 0 | CR28: 0 | CS28: =CR28*1750 -> 0 | CV28: 0 | CW28: =CV28*1750 -> 0 | CZ28: 0 | DA28: =CZ28*1750 -> 0 | DD28: 0 | DE28: =DD28*1750 -> 0 | DH28: 0 | DI28: =DH28*1750 -> 0 | DL28: 0 | DM28: =DL28*1750 -> 0 | DP28: 0 | DQ28: =DP28*1750 -> 0 | DT28: 0 | DU28: =DT28*1750 -> 0 | DX28: =SUM(D28,H28,L28,P28,T28,X28,AB28,AF28,AJ28,AN28,AR28,AV28,AZ28,BD28,BH28,BL28,BP28,BT28,BX28,CB28,CF28,CJ28,CN28,CR28,CV28,CZ28,DD28,DH28,DL28,DP28,DT28) -> 0 | DY28: =DX28*1750 -> 0
A29: =Versements!A12 -> Nom10 | B29: Entrée(s) | C29: 42186 | D29: 0 | E29: =D29*2000 -> 0 | F29: =SUM(E29,E30,E31) -> 0 | G29: 42187 | H29: 0 | I29: =H29*2000 -> 0 | J29: =SUM(I29,I30,I31) -> 0 | K29: 42188 | L29: 0 | M29: =L29*2000 -> 0 | N29: =SUM(M29,M30,M31) -> 0 | O29: 42189 | P29: 0 | Q29: =P29*2000 -> 0 | R29: =SUM(Q29,Q30,Q31) -> 0 | S29: 42190 | T29: 0 | U29: =T29*2000 -> 0 | V29: =SUM(U29,U30,U31) -> 0 | W29: 42191 | X29: 0 | Y29: =X29*2000 -> 0 | Z29: =SUM(Y29,Y30,Y31) -> 0 | AA29: 42192 | AB29: 0 | AC29: =AB29*2000 -> 0 | AD29: =SUM(AC29,AC30,AC31) -> 0 | AE29: 42193 | AF29: 0 | AG29: =AF29*2000 -> 0 | AH29: =SUM(AG29,AG30,AG31) -> 0 | AI29: 42194 | AJ29: 0 | AK29: =AJ29*2000 -> 0 | AL29: =SUM(AK29,AK30,AK31) -> 0 | AM29: 42195 | AN29: 0 | AO29: =AN29*2000 -> 0 | AP29: =SUM(AO29,AO30,AO31) -> 0 | AQ29: 42196 | AR29: 0 | AS29: =AR29*2000 -> 0 | AT29: =SUM(AS29,AS30,AS31) -> 0 | AU29: 42197 | AV29: 0 | AW29: =AV29*2000 -> 0 | AX29: =SUM(AW29,AW30,AW31) -> 0 | AY29: 42198 | AZ29: 0 | BA29: =AZ29*2000 -> 0 | BB29: =SUM(BA29,BA30,BA31) -> 0 | BC29: 42199 | BD29: 0 | BE29: =BD29*2000 -> 0 | BF29: =SUM(BE29,BE30,BE31) -> 0 | BG29: 42200 | BH29: 0 | BI29: =BH29*2000 -> 0 | BJ29: =SUM(BI29,BI30,BI31) -> 0 | BK29: 42201 | BL29: 0 | BM29: =BL29*2000 -> 0 | BN29: =SUM(BM29,BM30,BM31) -> 0 | BO29: 42202 | BP29: 0 | BQ29: =BP29*2000 -> 0 | BR29: =SUM(BQ29,BQ30,BQ31) -> 0 | BS29: 42203 | BT29: 0 | BU29: =BT29*2000 -> 0 | BV29: =SUM(BU29,BU30,BU31) -> 0 | BW29: 42204 | BX29: 0 | BY29: =BX29*2000 -> 0 | BZ29: =SUM(BY29,BY30,BY31) -> 0 | CA29: 42205 | CB29: 0 | CC29: =CB29*2000 -> 0 | CD29: =SUM(CC29,CC30,CC31) -> 0 | CE29: 42206 | CF29: 0 | CG29: =CF29*2000 -> 0 | CH29: =SUM(CG29,CG30,CG31) -> 0 | CI29: 42207 | CJ29: 0 | CK29: =CJ29*2000 -> 0 | CL29: =SUM(CK29,CK30,CK31) -> 0 | CM29: 42208 | CN29: 0 | CO29: =CN29*2000 -> 0 | CP29: =SUM(CO29,CO30,CO31) -> 0 | CQ29: 42209 | CR29: 0 | CS29: =CR29*2000 -> 0 | CT29: =SUM(CS29,CS30,CS31) -> 0 | CU29: 42210 | CV29: 0 | CW29: =CV29*2000 -> 0 | CX29: =SUM(CW29,CW30,CW31) -> 0 | CY29: 42211 | CZ29: 0 | DA29: =CZ29*2000 -> 0 | DB29: =SUM(DA29,DA30,DA31) -> 0 | DC29: 42212 | DD29: 0 | DE29: =DD29*2000 -> 0 | DF29: =SUM(DE29,DE30,DE31) -> 0 | DG29: 42213 | DH29: 0 | DI29: =DH29*2000 -> 0 | DJ29: =SUM(DI29,DI30,DI31) -> 0 | DK29: 42214 | DL29: 0 | DM29: =DL29*2000 -> 0 | DN29: =SUM(DM29,DM30,DM31) -> 0 | DO29: 42215 | DP29: 0 | DQ29: =DP29*2000 -> 0 | DR29: =SUM(DQ29,DQ30,DQ31) -> 0 | DS29: 42216 | DT29: 0 | DU29: =DT29*2000 -> 0 | DV29: =SUM(DU29,DU30,DU31) -> 0 | DW29: 42216 | DX29: =SUM(D29,H29,L29,P29,T29,X29,AB29,AF29,AJ29,AN29,AR29,AV29,AZ29,BD29,BH29,BL29,BP29,BT29,BX29,CB29,CF29,CJ29,CN29,CR29,CV29,CZ29,DD29,DH29,DL29,DP29,DT29) -> 0 | DY29: =DX29*2000 -> 0 | DZ29: =SUM(DY29,DY30,DY31) -> 0
B30: Plat(s) Européen | D30: 0 | E30: =D30*2000 -> 0 | H30: 0 | I30: =H30*2000 -> 0 | L30: 0 | M30: =L30*2000 -> 0 | P30: 0 | Q30: =P30*2000 -> 0 | T30: 0 | U30: =T30*2000 -> 0 | X30: 0 | Y30: =X30*2000 -> 0 | AB30: 0 | AC30: =AB30*2000 -> 0 | AF30: 0 | AG30: =AF30*2000 -> 0 | AJ30: 0 | AK30: =AJ30*2000 -> 0 | AN30: 0 | AO30: =AN30*2000 -> 0 | AR30: 0 | AS30: =AR30*2000 -> 0 | AV30: 0 | AW30: =AV30*2000 -> 0 | AZ30: 0 | BA30: =AZ30*2000 -> 0 | BD30: 0 | BE30: =BD30*2000 -> 0 | BH30: 0 | BI30: =BH30*2000 -> 0 | BL30: 0 | BM30: =BL30*2000 -> 0 | BP30: 0 | BQ30: =BP30*2000 -> 0 | BT30: 0 | BU30: =BT30*2000 -> 0 | BX30: 0 | BY30: =BX30*2000 -> 0 | CB30: 0 | CC30: =CB30*2000 -> 0 | CF30: 0 | CG30: =CF30*2000 -> 0 | CJ30: 0 | CK30: =CJ30*2000 -> 0 | CN30: 0 | CO30: =CN30*2000 -> 0 | CR30: 0 | CS30: =CR30*2000 -> 0 | CV30: 0 | CW30: =CV30*2000 -> 0 | CZ30: 0 | DA30: =CZ30*2000 -> 0 | DD30: 0 | DE30: =DD30*2000 -> 0 | DH30: 0 | DI30: =DH30*2000 -> 0 | DL30: 0 | DM30: =DL30*2000 -> 0 | DP30: 0 | DQ30: =DP30*2000 -> 0 | DT30: 0 | DU30: =DT30*2000 -> 0 | DX30: =SUM(D30,H30,L30,P30,T30,X30,AB30,AF30,AJ30,AN30,AR30,AV30,AZ30,BD30,BH30,BL30,BP30,BT30,BX30,CB30,CF30,CJ30,CN30,CR30,CV30,CZ30,DD30,DH30,DL30,DP30,DT30) -> 0 | DY30: =DX30*2000 -> 0
B31: Plat(s) Africain | D31: 0 | E31: =D31*1750 -> 0 | H31: 0 | I31: =H31*1750 -> 0 | L31: 0 | M31: =L31*1750 -> 0 | P31: 0 | Q31: =P31*1750 -> 0 | T31: 0 | U31: =T31*1750 -> 0 | X31: 0 | Y31: =X31*1750 -> 0 | AB31: 0 | AC31: =AB31*1750 -> 0 | AF31: 0 | AG31: =AF31*1750 -> 0 | AJ31: 0 | AK31: =AJ31*1750 -> 0 | AN31: 0 | AO31: =AN31*1750 -> 0 | AR31: 0 | AS31: =AR31*1750 -> 0 | AV31: 0 | AW31: =AV31*1750 -> 0 | AZ31: 0 | BA31: =AZ31*1750 -> 0 | BD31: 0 | BE31: =BD31*1750 -> 0 | BH31: 0 | BI31: =BH31*1750 -> 0 | BL31: 0 | BM31: =BL31*1750 -> 0 | BP31: 0 | BQ31: =BP31*1750 -> 0 | BT31: 0 | BU31: =BT31*1750 -> 0 | BX31: 0 | BY31: =BX31*1750 -> 0 | CB31: 0 | CC31: =CB31*1750 -> 0 | CF31: 0 | CG31: =CF31*1750 -> 0 | CJ31: 0 | CK31: =CJ31*1750 -> 0 | CN31: 0 | CO31: =CN31*1750 -> 0 | CR31: 0 | CS31: =CR31*1750 -> 0 | CV31: 0 | CW31: =CV31*1750 -> 0 | CZ31: 0 | DA31: =CZ31*1750 -> 0 | DD31: 0 | DE31: =DD31*1750 -> 0 | DH31: 0 | DI31: =DH31*1750 -> 0 | DL31: 0 | DM31: =DL31*1750 -> 0 | DP31: 0 | DQ31: =DP31*1750 -> 0 | DT31: 0 | DU31: =DT31*1750 -> 0 | DX31: =SUM(D31,H31,L31,P31,T31,X31,AB31,AF31,AJ31,AN31,AR31,AV31,AZ31,BD31,BH31,BL31,BP31,BT31,BX31,CB31,CF31,CJ31,CN31,CR31,CV31,CZ31,DD31,DH31,DL31,DP31,DT31) -> 0 | DY31: =DX31*1750 -> 0
A32: =Versements!A13 -> Nom11 | B32: Entrée(s) | C32: 42186 | D32: 0 | E32: =D32*2000 -> 0 | F32: =SUM(E32,E33,E34) -> 0 | G32: 42187 | H32: 0 | I32: =H32*2000 -> 0 | J32: =SUM(I32,I33,I34) -> 0 | K32: 42188 | L32: 0 | M32: =L32*2000 -> 0 | N32: =SUM(M32,M33,M34) -> 0 | O32: 42189 | P32: 0 | Q32: =P32*2000 -> 0 | R32: =SUM(Q32,Q33,Q34) -> 0 | S32: 42190 | T32: 0 | U32: =T32*2000 -> 0 | V32: =SUM(U32,U33,U34) -> 0 | W32: 42191 | X32: 0 | Y32: =X32*2000 -> 0 | Z32: =SUM(Y32,Y33,Y34) -> 0 | AA32: 42192 | AB32: 0 | AC32: =AB32*2000 -> 0 | AD32: =SUM(AC32,AC33,AC34) -> 0 | AE32: 42193 | AF32: 0 | AG32: =AF32*2000 -> 0 | AH32: =SUM(AG32,AG33,AG34) -> 0 | AI32: 42194 | AJ32: 0 | AK32: =AJ32*2000 -> 0 | AL32: =SUM(AK32,AK33,AK34) -> 0 | AM32: 42195 | AN32: 0 | AO32: =AN32*2000 -> 0 | AP32: =SUM(AO32,AO33,AO34) -> 0 | AQ32: 42196 | AR32: 0 | AS32: =AR32*2000 -> 0 | AT32: =SUM(AS32,AS33,AS34) -> 0 | AU32: 42197 | AV32: 0 | AW32: =AV32*2000 -> 0 | AX32: =SUM(AW32,AW33,AW34) -> 0 | AY32: 42198 | AZ32: 0 | BA32: =AZ32*2000 -> 0 | BB32: =SUM(BA32,BA33,BA34) -> 0 | BC32: 42199 | BD32: 0 | BE32: =BD32*2000 -> 0 | BF32: =SUM(BE32,BE33,BE34) -> 0 | BG32: 42200 | BH32: 0 | BI32: =BH32*2000 -> 0 | BJ32: =SUM(BI32,BI33,BI34) -> 0 | BK32: 42201 | BL32: 0 | BM32: =BL32*2000 -> 0 | BN32: =SUM(BM32,BM33,BM34) -> 0 | BO32: 42202 | BP32: 0 | BQ32: =BP32*2000 -> 0 | BR32: =SUM(BQ32,BQ33,BQ34) -> 0 | BS32: 42203 | BT32: 0 | BU32: =BT32*2000 -> 0 | BV32: =SUM(BU32,BU33,BU34) -> 0 | BW32: 42204 | BX32: 0 | BY32: =BX32*2000 -> 0 | BZ32: =SUM(BY32,BY33,BY34) -> 0 | CA32: 42205 | CB32: 0 | CC32: =CB32*2000 -> 0 | CD32: =SUM(CC32,CC33,CC34) -> 0 | CE32: 42206 | CF32: 0 | CG32: =CF32*2000 -> 0 | CH32: =SUM(CG32,CG33,CG34) -> 0 | CI32: 42207 | CJ32: 0 | CK32: =CJ32*2000 -> 0 | CL32: =SUM(CK32,CK33,CK34) -> 0 | CM32: 42208 | CN32: 0 | CO32: =CN32*2000 -> 0 | CP32: =SUM(CO32,CO33,CO34) -> 0 | CQ32: 42209 | CR32: 0 | CS32: =CR32*2000 -> 0 | CT32: =SUM(CS32,CS33,CS34) -> 0 | CU32: 42210 | CV32: 0 | CW32: =CV32*2000 -> 0 | CX32: =SUM(CW32,CW33,CW34) -> 0 | CY32: 42211 | CZ32: 0 | DA32: =CZ32*2000 -> 0 | DB32: =SUM(DA32,DA33,DA34) -> 0 | DC32: 42212 | DD32: 0 | DE32: =DD32*2000 -> 0 | DF32: =SUM(DE32,DE33,DE34) -> 0 | DG32: 42213 | DH32: 0 | DI32: =DH32*2000 -> 0 | DJ32: =SUM(DI32,DI33,DI34) -> 0 | DK32: 42214 | DL32: 0 | DM32: =DL32*2000 -> 0 | DN32: =SUM(DM32,DM33,DM34) -> 0 | DO32: 42215 | DP32: 0 | DQ32: =DP32*2000 -> 0 | DR32: =SUM(DQ32,DQ33,DQ34) -> 0 | DS32: 42216 | DT32: 0 | DU32: =DT32*2000 -> 0 | DV32: =SUM(DU32,DU33,DU34) -> 0 | DW32: 42216 | DX32: =SUM(D32,H32,L32,P32,T32,X32,AB32,AF32,AJ32,AN32,AR32,AV32,AZ32,BD32,BH32,BL32,BP32,BT32,BX32,CB32,CF32,CJ32,CN32,CR32,CV32,CZ32,DD32,DH32,DL32,DP32,DT32) -> 0 | DY32: =DX32*2000 -> 0 | DZ32: =SUM(DY32,DY33,DY34) -> 0
B33: Plat(s) Européen | D33: 0 | E33: =D33*2000 -> 0 | H33: 0 | I33: =H33*2000 -> 0 | L33: 0 | M33: =L33*2000 -> 0 | P33: 0 | Q33: =P33*2000 -> 0 | T33: 0 | U33: =T33*2000 -> 0 | X33: 0 | Y33: =X33*2000 -> 0 | AB33: 0 | AC33: =AB33*2000 -> 0 | AF33: 0 | AG33: =AF33*2000 -> 0 | AJ33: 0 | AK33: =AJ33*2000 -> 0 | AN33: 0 | AO33: =AN33*2000 -> 0 | AR33: 0 | AS33: =AR33*2000 -> 0 | AV33: 0 | AW33: =AV33*2000 -> 0 | AZ33: 0 | BA33: =AZ33*2000 -> 0 | BD33: 0 | BE33: =BD33*2000 -> 0 | BH33: 0 | BI33: =BH33*2000 -> 0 | BL33: 0 | BM33: =BL33*2000 -> 0 | BP33: 0 | BQ33: =BP33*2000 -> 0 | BT33: 0 | BU33: =BT33*2000 -> 0 | BX33: 0 | BY33: =BX33*2000 -> 0 | CB33: 0 | CC33: =CB33*2000 -> 0 | CF33: 0 | CG33: =CF33*2000 -> 0 | CJ33: 0 | CK33: =CJ33*2000 -> 0 | CN33: 0 | CO33: =CN33*2000 -> 0 | CR33: 0 | CS33: =CR33*2000 -> 0 | CV33: 0 | CW33: =CV33*2000 -> 0 | CZ33: 0 | DA33: =CZ33*2000 -> 0 | DD33: 0 | DE33: =DD33*2000 -> 0 | DH33: 0 | DI33: =DH33*2000 -> 0 | DL33: 0 | DM33: =DL33*2000 -> 0 | DP33: 0 | DQ33: =DP33*2000 -> 0 | DT33: 0 | DU33: =DT33*2000 -> 0 | DX33: =SUM(D33,H33,L33,P33,T33,X33,AB33,AF33,AJ33,AN33,AR33,AV33,AZ33,BD33,BH33,BL33,BP33,BT33,BX33,CB33,CF33,CJ33,CN33,CR33,CV33,CZ33,DD33,DH33,DL33,DP33,DT33) -> 0 | DY33: =DX33*2000 -> 0
B34: Plat(s) Africain | D34: 0 | E34: =D34*1750 -> 0 | H34: 0 | I34: =H34*1750 -> 0 | L34: 0 | M34: =L34*1750 -> 0 | P34: 0 | Q34: =P34*1750 -> 0 | T34: 0 | U34: =T34*1750 -> 0 | X34: 0 | Y34: =X34*1750 -> 0 | AB34: 0 | AC34: =AB34*1750 -> 0 | AF34: 0 | AG34: =AF34*1750 -> 0 | AJ34: 0 | AK34: =AJ34*1750 -> 0 | AN34: 0 | AO34: =AN34*1750 -> 0 | AR34: 0 | AS34: =AR34*1750 -> 0 | AV34: 0 | AW34: =AV34*1750 -> 0 | AZ34: 0 | BA34: =AZ34*1750 -> 0 | BD34: 0 | BE34: =BD34*1750 -> 0 | BH34: 0 | BI34: =BH34*1750 -> 0 | BL34: 0 | BM34: =BL34*1750 -> 0 | BP34: 0 | BQ34: =BP34*1750 -> 0 | BT34: 0 | BU34: =BT34*1750 -> 0 | BX34: 0 | BY34: =BX34*1750 -> 0 | CB34: 0 | CC34: =CB34*1750 -> 0 | CF34: 0 | CG34: =CF34*1750 -> 0 | CJ34: 0 | CK34: =CJ34*1750 -> 0 | CN34: 0 | CO34: =CN34*1750 -> 0 | CR34: 0 | CS34: =CR34*1750 -> 0 | CV34: 0 | CW34: =CV34*1750 -> 0 | CZ34: 0 | DA34: =CZ34*1750 -> 0 | DD34: 0 | DE34: =DD34*1750 -> 0 | DH34: 0 | DI34: =DH34*1750 -> 0 | DL34: 0 | DM34: =DL34*1750 -> 0 | DP34: 0 | DQ34: =DP34*1750 -> 0 | DT34: 0 | DU34: =DT34*1750 -> 0 | DX34: =SUM(D34,H34,L34,P34,T34,X34,AB34,AF34,AJ34,AN34,AR34,AV34,AZ34,BD34,BH34,BL34,BP34,BT34,BX34,CB34,CF34,CJ34,CN34,CR34,CV34,CZ34,DD34,DH34,DL34,DP34,DT34) -> 0 | DY34: =DX34*1750 -> 0
A35: =Versements!A14 -> Nom12 | B35: Entrée(s) | C35: 42186 | D35: 0 | E35: =D35*2000 -> 0 | F35: =SUM(E35,E36,E37) -> 0 | G35: 42187 | H35: 0 | I35: =H35*2000 -> 0 | J35: =SUM(I35,I36,I37) -> 0 | K35: 42188 | L35: 0 | M35: =L35*2000 -> 0 | N35: =SUM(M35,M36,M37) -> 0 | O35: 42189 | P35: 0 | Q35: =P35*2000 -> 0 | R35: =SUM(Q35,Q36,Q37) -> 0 | S35: 42190 | T35: 0 | U35: =T35*2000 -> 0 | V35: =SUM(U35,U36,U37) -> 0 | W35: 42191 | X35: 0 | Y35: =X35*2000 -> 0 | Z35: =SUM(Y35,Y36,Y37) -> 0 | AA35: 42192 | AB35: 0 | AC35: =AB35*2000 -> 0 | AD35: =SUM(AC35,AC36,AC37) -> 0 | AE35: 42193 | AF35: 0 | AG35: =AF35*2000 -> 0 | AH35: =SUM(AG35,AG36,AG37) -> 0 | AI35: 42194 | AJ35: 0 | AK35: =AJ35*2000 -> 0 | AL35: =SUM(AK35,AK36,AK37) -> 0 | AM35: 42195 | AN35: 0 | AO35: =AN35*2000 -> 0 | AP35: =SUM(AO35,AO36,AO37) -> 0 | AQ35: 42196 | AR35: 0 | AS35: =AR35*2000 -> 0 | AT35: =SUM(AS35,AS36,AS37) -> 0 | AU35: 42197 | AV35: 0 | AW35: =AV35*2000 -> 0 | AX35: =SUM(AW35,AW36,AW37) -> 0 | AY35: 42198 | AZ35: 0 | BA35: =AZ35*2000 -> 0 | BB35: =SUM(BA35,BA36,BA37) -> 0 | BC35: 42199 | BD35: 0 | BE35: =BD35*2000 -> 0 | BF35: =SUM(BE35,BE36,BE37) -> 0 | BG35: 42200 | BH35: 0 | BI35: =BH35*2000 -> 0 | BJ35: =SUM(BI35,BI36,BI37) -> 0 | BK35: 42201 | BL35: 0 | BM35: =BL35*2000 -> 0 | BN35: =SUM(BM35,BM36,BM37) -> 0 | BO35: 42202 | BP35: 0 | BQ35: =BP35*2000 -> 0 | BR35: =SUM(BQ35,BQ36,BQ37) -> 0 | BS35: 42203 | BT35: 0 | BU35: =BT35*2000 -> 0 | BV35: =SUM(BU35,BU36,BU37) -> 0 | BW35: 42204 | BX35: 0 | BY35: =BX35*2000 -> 0 | BZ35: =SUM(BY35,BY36,BY37) -> 0 | CA35: 42205 | CB35: 0 | CC35: =CB35*2000 -> 0 | CD35: =SUM(CC35,CC36,CC37) -> 0 | CE35: 42206 | CF35: 0 | CG35: =CF35*2000 -> 0 | CH35: =SUM(CG35,CG36,CG37) -> 0 | CI35: 42207 | CJ35: 0 | CK35: =CJ35*2000 -> 0 | CL35: =SUM(CK35,CK36,CK37) -> 0 | CM35: 42208 | CN35: 0 | CO35: =CN35*2000 -> 0 | CP35: =SUM(CO35,CO36,CO37) -> 0 | CQ35: 42209 | CR35: 0 | CS35: =CR35*2000 -> 0 | CT35: =SUM(CS35,CS36,CS37) -> 0 | CU35: 42210 | CV35: 0 | CW35: =CV35*2000 -> 0 | CX35: =SUM(CW35,CW36,CW37) -> 0 | CY35: 42211 | CZ35: 0 | DA35: =CZ35*2000 -> 0 | DB35: =SUM(DA35,DA36,DA37) -> 0 | DC35: 42212 | DD35: 0 | DE35: =DD35*2000 -> 0 | DF35: =SUM(DE35,DE36,DE37) -> 0 | DG35: 42213 | DH35: 0 | DI35: =DH35*2000 -> 0 | DJ35: =SUM(DI35,DI36,DI37) -> 0 | DK35: 42214 | DL35: 0 | DM35: =DL35*2000 -> 0 | DN35: =SUM(DM35,DM36,DM37) -> 0 | DO35: 42215 | DP35: 0 | DQ35: =DP35*2000 -> 0 | DR35: =SUM(DQ35,DQ36,DQ37) -> 0 | DS35: 42216 | DT35: 0 | DU35: =DT35*2000 -> 0 | DV35: =SUM(DU35,DU36,DU37) -> 0 | DW35: 42216 | DX35: =SUM(D35,H35,L35,P35,T35,X35,AB35,AF35,AJ35,AN35,AR35,AV35,AZ35,BD35,BH35,BL35,BP35,BT35,BX35,CB35,CF35,CJ35,CN35,CR35,CV35,CZ35,DD35,DH35,DL35,DP35,DT35) -> 0 | DY35: =DX35*2000 -> 0 | DZ35: =SUM(DY35,DY36,DY37) -> 0
B36: Plat(s) Européen | D36: 0 | E36: =D36*2000 -> 0 | H36: 0 | I36: =H36*2000 -> 0 | L36: 0 | M36: =L36*2000 -> 0 | P36: 0 | Q36: =P36*2000 -> 0 | T36: 0 | U36: =T36*2000 -> 0 | X36: 0 | Y36: =X36*2000 -> 0 | AB36: 0 | AC36: =AB36*2000 -> 0 | AF36: 0 | AG36: =AF36*2000 -> 0 | AJ36: 0 | AK36: =AJ36*2000 -> 0 | AN36: 0 | AO36: =AN36*2000 -> 0 | AR36: 0 | AS36: =AR36*2000 -> 0 | AV36: 0 | AW36: =AV36*2000 -> 0 | AZ36: 0 | BA36: =AZ36*2000 -> 0 | BD36: 0 | BE36: =BD36*2000 -> 0 | BH36: 0 | BI36: =BH36*2000 -> 0 | BL36: 0 | BM36: =BL36*2000 -> 0 | BP36: 0 | BQ36: =BP36*2000 -> 0 | BT36: 0 | BU36: =BT36*2000 -> 0 | BX36: 0 | BY36: =BX36*2000 -> 0 | CB36: 0 | CC36: =CB36*2000 -> 0 | CF36: 0 | CG36: =CF36*2000 -> 0 | CJ36: 0 | CK36: =CJ36*2000 -> 0 | CN36: 0 | CO36: =CN36*2000 -> 0 | CR36: 0 | CS36: =CR36*2000 -> 0 | CV36: 0 | CW36: =CV36*2000 -> 0 | CZ36: 0 | DA36: =CZ36*2000 -> 0 | DD36: 0 | DE36: =DD36*2000 -> 0 | DH36: 0 | DI36: =DH36*2000 -> 0 | DL36: 0 | DM36: =DL36*2000 -> 0 | DP36: 0 | DQ36: =DP36*2000 -> 0 | DT36: 0 | DU36: =DT36*2000 -> 0 | DX36: =SUM(D36,H36,L36,P36,T36,X36,AB36,AF36,AJ36,AN36,AR36,AV36,AZ36,BD36,BH36,BL36,BP36,BT36,BX36,CB36,CF36,CJ36,CN36,CR36,CV36,CZ36,DD36,DH36,DL36,DP36,DT36) -> 0 | DY36: =DX36*2000 -> 0
B37: Plat(s) Africain | D37: 0 | E37: =D37*1750 -> 0 | H37: 0 | I37: =H37*1750 -> 0 | L37: 0 | M37: =L37*1750 -> 0 | P37: 0 | Q37: =P37*1750 -> 0 | T37: 0 | U37: =T37*1750 -> 0 | X37: 0 | Y37: =X37*1750 -> 0 | AB37: 0 | AC37: =AB37*1750 -> 0 | AF37: 0 | AG37: =AF37*1750 -> 0 | AJ37: 0 | AK37: =AJ37*1750 -> 0 | AN37: 0 | AO37: =AN37*1750 -> 0 | AR37: 0 | AS37: =AR37*1750 -> 0 | AV37: 0 | AW37: =AV37*1750 -> 0 | AZ37: 0 | BA37: =AZ37*1750 -> 0 | BD37: 0 | BE37: =BD37*1750 -> 0 | BH37: 0 | BI37: =BH37*1750 -> 0 | BL37: 0 | BM37: =BL37*1750 -> 0 | BP37: 0 | BQ37: =BP37*1750 -> 0 | BT37: 0 | BU37: =BT37*1750 -> 0 | BX37: 0 | BY37: =BX37*1750 -> 0 | CB37: 0 | CC37: =CB37*1750 -> 0 | CF37: 0 | CG37: =CF37*1750 -> 0 | CJ37: 0 | CK37: =CJ37*1750 -> 0 | CN37: 0 | CO37: =CN37*1750 -> 0 | CR37: 0 | CS37: =CR37*1750 -> 0 | CV37: 0 | CW37: =CV37*1750 -> 0 | CZ37: 0 | DA37: =CZ37*1750 -> 0 | DD37: 0 | DE37: =DD37*1750 -> 0 | DH37: 0 | DI37: =DH37*1750 -> 0 | DL37: 0 | DM37: =DL37*1750 -> 0 | DP37: 0 | DQ37: =DP37*1750 -> 0 | DT37: 0 | DU37: =DT37*1750 -> 0 | DX37: =SUM(D37,H37,L37,P37,T37,X37,AB37,AF37,AJ37,AN37,AR37,AV37,AZ37,BD37,BH37,BL37,BP37,BT37,BX37,CB37,CF37,CJ37,CN37,CR37,CV37,CZ37,DD37,DH37,DL37,DP37,DT37) -> 0 | DY37: =DX37*1750 -> 0
A38: =Versements!A15 -> Nom13 | B38: Entrée(s) | C38: 42186 | D38: 0 | E38: =D38*2000 -> 0 | F38: =SUM(E38,E39,E40) -> 0 | G38: 42187 | H38: 0 | I38: =H38*2000 -> 0 | J38: =SUM(I38,I39,I40) -> 0 | K38: 42188 | L38: 0 | M38: =L38*2000 -> 0 | N38: =SUM(M38,M39,M40) -> 0 | O38: 42189 | P38: 0 | Q38: =P38*2000 -> 0 | R38: =SUM(Q38,Q39,Q40) -> 0 | S38: 42190 | T38: 0 | U38: =T38*2000 -> 0 | V38: =SUM(U38,U39,U40) -> 0 | W38: 42191 | X38: 0 | Y38: =X38*2000 -> 0 | Z38: =SUM(Y38,Y39,Y40) -> 0 | AA38: 42192 | AB38: 0 | AC38: =AB38*2000 -> 0 | AD38: =SUM(AC38,AC39,AC40) -> 0 | AE38: 42193 | AF38: 0 | AG38: =AF38*2000 -> 0 | AH38: =SUM(AG38,AG39,AG40) -> 0 | AI38: 42194 | AJ38: 0 | AK38: =AJ38*2000 -> 0 | AL38: =SUM(AK38,AK39,AK40) -> 0 | AM38: 42195 | AN38: 0 | AO38: =AN38*2000 -> 0 | AP38: =SUM(AO38,AO39,AO40) -> 0 | AQ38: 42196 | AR38: 0 | AS38: =AR38*2000 -> 0 | AT38: =SUM(AS38,AS39,AS40) -> 0 | AU38: 42197 | AV38: 0 | AW38: =AV38*2000 -> 0 | AX38: =SUM(AW38,AW39,AW40) -> 0 | AY38: 42198 | AZ38: 0 | BA38: =AZ38*2000 -> 0 | BB38: =SUM(BA38,BA39,BA40) -> 0 | BC38: 42199 | BD38: 0 | BE38: =BD38*2000 -> 0 | BF38: =SUM(BE38,BE39,BE40) -> 0 | BG38: 42200 | BH38: 0 | BI38: =BH38*2000 -> 0 | BJ38: =SUM(BI38,BI39,BI40) -> 0 | BK38: 42201 | BL38: 0 | BM38: =BL38*2000 -> 0 | BN38: =SUM(BM38,BM39,BM40) -> 0 | BO38: 42202 | BP38: 0 | BQ38: =BP38*2000 -> 0 | BR38: =SUM(BQ38,BQ39,BQ40) -> 0 | BS38: 42203 | BT38: 0 | BU38: =BT38*2000 -> 0 | BV38: =SUM(BU38,BU39,BU40) -> 0 | BW38: 42204 | BX38: 0 | BY38: =BX38*2000 -> 0 | BZ38: =SUM(BY38,BY39,BY40) -> 0 | CA38: 42205 | CB38: 0 | CC38: =CB38*2000 -> 0 | CD38: =SUM(CC38,CC39,CC40) -> 0 | CE38: 42206 | CF38: 0 | CG38: =CF38*2000 -> 0 | CH38: =SUM(CG38,CG39,CG40) -> 0 | CI38: 42207 | CJ38: 0 | CK38: =CJ38*2000 -> 0 | CL38: =SUM(CK38,CK39,CK40) -> 0 | CM38: 42208 | CN38: 0 | CO38: =CN38*2000 -> 0 | CP38: =SUM(CO38,CO39,CO40) -> 0 | CQ38: 42209 | CR38: 0 | CS38: =CR38*2000 -> 0 | CT38: =SUM(CS38,CS39,CS40) -> 0 | CU38: 42210 | CV38: 0 | CW38: =CV38*2000 -> 0 | CX38: =SUM(CW38,CW39,CW40) -> 0 | CY38: 42211 | CZ38: 0 | DA38: =CZ38*2000 -> 0 | DB38: =SUM(DA38,DA39,DA40) -> 0 | DC38: 42212 | DD38: 0 | DE38: =DD38*2000 -> 0 | DF38: =SUM(DE38,DE39,DE40) -> 0 | DG38: 42213 | DH38: 0 | DI38: =DH38*2000 -> 0 | DJ38: =SUM(DI38,DI39,DI40) -> 0 | DK38: 42214 | DL38: 0 | DM38: =DL38*2000 -> 0 | DN38: =SUM(DM38,DM39,DM40) -> 0 | DO38: 42215 | DP38: 0 | DQ38: =DP38*2000 -> 0 | DR38: =SUM(DQ38,DQ39,DQ40) -> 0 | DS38: 42216 | DT38: 0 | DU38: =DT38*2000 -> 0 | DV38: =SUM(DU38,DU39,DU40) -> 0 | DW38: 42216 | DX38: =SUM(D38,H38,L38,P38,T38,X38,AB38,AF38,AJ38,AN38,AR38,AV38,AZ38,BD38,BH38,BL38,BP38,BT38,BX38,CB38,CF38,CJ38,CN38,CR38,CV38,CZ38,DD38,DH38,DL38,DP38,DT38) -> 0 | DY38: =DX38*2000 -> 0 | DZ38: =SUM(DY38,DY39,DY40) -> 0
B39: Plat(s) Européen | D39: 0 | E39: =D39*2000 -> 0 | H39: 0 | I39: =H39*2000 -> 0 | L39: 0 | M39: =L39*2000 -> 0 | P39: 0 | Q39: =P39*2000 -> 0 | T39: 0 | U39: =T39*2000 -> 0 | X39: 0 | Y39: =X39*2000 -> 0 | AB39: 0 | AC39: =AB39*2000 -> 0 | AF39: 0 | AG39: =AF39*2000 -> 0 | AJ39: 0 | AK39: =AJ39*2000 -> 0 | AN39: 0 | AO39: =AN39*2000 -> 0 | AR39: 0 | AS39: =AR39*2000 -> 0 | AV39: 0 | AW39: =AV39*2000 -> 0 | AZ39: 0 | BA39: =AZ39*2000 -> 0 | BD39: 0 | BE39: =BD39*2000 -> 0 | BH39: 0 | BI39: =BH39*2000 -> 0 | BL39: 0 | BM39: =BL39*2000 -> 0 | BP39: 0 | BQ39: =BP39*2000 -> 0 | BT39: 0 | BU39: =BT39*2000 -> 0 | BX39: 0 | BY39: =BX39*2000 -> 0 | CB39: 0 | CC39: =CB39*2000 -> 0 | CF39: 0 | CG39: =CF39*2000 -> 0 | CJ39: 0 | CK39: =CJ39*2000 -> 0 | CN39: 0 | CO39: =CN39*2000 -> 0 | CR39: 0 | CS39: =CR39*2000 -> 0 | CV39: 0 | CW39: =CV39*2000 -> 0 | CZ39: 0 | DA39: =CZ39*2000 -> 0 | DD39: 0 | DE39: =DD39*2000 -> 0 | DH39: 0 | DI39: =DH39*2000 -> 0 | DL39: 0 | DM39: =DL39*2000 -> 0 | DP39: 0 | DQ39: =DP39*2000 -> 0 | DT39: 0 | DU39: =DT39*2000 -> 0 | DX39: =SUM(D39,H39,L39,P39,T39,X39,AB39,AF39,AJ39,AN39,AR39,AV39,AZ39,BD39,BH39,BL39,BP39,BT39,BX39,CB39,CF39,CJ39,CN39,CR39,CV39,CZ39,DD39,DH39,DL39,DP39,DT39) -> 0 | DY39: =DX39*2000 -> 0
B40: Plat(s) Africain | D40: 0 | E40: =D40*1750 -> 0 | H40: 0 | I40: =H40*1750 -> 0 | L40: 0 | M40: =L40*1750 -> 0 | P40: 0 | Q40: =P40*1750 -> 0 | T40: 0 | U40: =T40*1750 -> 0 | X40: 0 | Y40: =X40*1750 -> 0 | AB40: 0 | AC40: =AB40*1750 -> 0 | AF40: 0 | AG40: =AF40*1750 -> 0 | AJ40: 0 | AK40: =AJ40*1750 -> 0 | AN40: 0 | AO40: =AN40*1750 -> 0 | AR40: 0 | AS40: =AR40*1750 -> 0 | AV40: 0 | AW40: =AV40*1750 -> 0 | AZ40: 0 | BA40: =AZ40*1750 -> 0 | BD40: 0 | BE40: =BD40*1750 -> 0 | BH40: 0 | BI40: =BH40*1750 -> 0 | BL40: 0 | BM40: =BL40*1750 -> 0 | BP40: 0 | BQ40: =BP40*1750 -> 0 | BT40: 0 | BU40: =BT40*1750 -> 0 | BX40: 0 | BY40: =BX40*1750 -> 0 | CB40: 0 | CC40: =CB40*1750 -> 0 | CF40: 0 | CG40: =CF40*1750 -> 0 | CJ40: 0 | CK40: =CJ40*1750 -> 0 | CN40: 0 | CO40: =CN40*1750 -> 0 | CR40: 0 | CS40: =CR40*1750 -> 0 | CV40: 0 | CW40: =CV40*1750 -> 0 | CZ40: 0 | DA40: =CZ40*1750 -> 0 | DD40: 0 | DE40: =DD40*1750 -> 0 | DH40: 0 | DI40: =DH40*1750 -> 0 | DL40: 0 | DM40: =DL40*1750 -> 0 | DP40: 0 | DQ40: =DP40*1750 -> 0 | DT40: 0 | DU40: =DT40*1750 -> 0 | DX40: =SUM(D40,H40,L40,P40,T40,X40,AB40,AF40,AJ40,AN40,AR40,AV40,AZ40,BD40,BH40,BL40,BP40,BT40,BX40,CB40,CF40,CJ40,CN40,CR40,CV40,CZ40,DD40,DH40,DL40,DP40,DT40) -> 0 | DY40: =DX40*1750 -> 0
A41: =Versements!A16 -> Nom14 | B41: Entrée(s) | C41: 42186 | D41: 0 | E41: =D41*2000 -> 0 | F41: =SUM(E41,E42,E43) -> 0 | G41: 42187 | H41: 0 | I41: =H41*2000 -> 0 | J41: =SUM(I41,I42,I43) -> 0 | K41: 42188 | L41: 0 | M41: =L41*2000 -> 0 | N41: =SUM(M41,M42,M43) -> 0 | O41: 42189 | P41: 0 | Q41: =P41*2000 -> 0 | R41: =SUM(Q41,Q42,Q43) -> 0 | S41: 42190 | T41: 0 | U41: =T41*2000 -> 0 | V41: =SUM(U41,U42,U43) -> 0 | W41: 42191 | X41: 0 | Y41: =X41*2000 -> 0 | Z41: =SUM(Y41,Y42,Y43) -> 0 | AA41: 42192 | AB41: 0 | AC41: =AB41*2000 -> 0 | AD41: =SUM(AC41,AC42,AC43) -> 0 | AE41: 42193 | AF41: 0 | AG41: =AF41*2000 -> 0 | AH41: =SUM(AG41,AG42,AG43) -> 0 | AI41: 42194 | AJ41: 0 | AK41: =AJ41*2000 -> 0 | AL41: =SUM(AK41,AK42,AK43) -> 0 | AM41: 42195 | AN41: 0 | AO41: =AN41*2000 -> 0 | AP41: =SUM(AO41,AO42,AO43) -> 0 | AQ41: 42196 | AR41: 0 | AS41: =AR41*2000 -> 0 | AT41: =SUM(AS41,AS42,AS43) -> 0 | AU41: 42197 | AV41: 0 | AW41: =AV41*2000 -> 0 | AX41: =SUM(AW41,AW42,AW43) -> 0 | AY41: 42198 | AZ41: 0 | BA41: =AZ41*2000 -> 0 | BB41: =SUM(BA41,BA42,BA43) -> 0 | BC41: 42199 | BD41: 0 | BE41: =BD41*2000 -> 0 | BF41: =SUM(BE41,BE42,BE43) -> 0 | BG41: 42200 | BH41: 0 | BI41: =BH41*2000 -> 0 | BJ41: =SUM(BI41,BI42,BI43) -> 0 | BK41: 42201 | BL41: 0 | BM41: =BL41*2000 -> 0 | BN41: =SUM(BM41,BM42,BM43) -> 0 | BO41: 42202 | BP41: 0 | BQ41: =BP41*2000 -> 0 | BR41: =SUM(BQ41,BQ42,BQ43) -> 0 | BS41: 42203 | BT41: 0 | BU41: =BT41*2000 -> 0 | BV41: =SUM(BU41,BU42,BU43) -> 0 | BW41: 42204 | BX41: 0 | BY41: =BX41*2000 -> 0 | BZ41: =SUM(BY41,BY42,BY43) -> 0 | CA41: 42205 | CB41: 0 | CC41: =CB41*2000 -> 0 | CD41: =SUM(CC41,CC42,CC43) -> 0 | CE41: 42206 | CF41: 0 | CG41: =CF41*2000 -> 0 | CH41: =SUM(CG41,CG42,CG43) -> 0 | CI41: 42207 | CJ41: 0 | CK41: =CJ41*2000 -> 0 | CL41: =SUM(CK41,CK42,CK43) -> 0 | CM41: 42208 | CN41: 0 | CO41: =CN41*2000 -> 0 | CP41: =SUM(CO41,CO42,CO43) -> 0 | CQ41: 42209 | CR41: 0 | CS41: =CR41*2000 -> 0 | CT41: =SUM(CS41,CS42,CS43) -> 0 | CU41: 42210 | CV41: 0 | CW41: =CV41*2000 -> 0 | CX41: =SUM(CW41,CW42,CW43) -> 0 | CY41: 42211 | CZ41: 0 | DA41: =CZ41*2000 -> 0 | DB41: =SUM(DA41,DA42,DA43) -> 0 | DC41: 42212 | DD41: 0 | DE41: =DD41*2000 -> 0 | DF41: =SUM(DE41,DE42,DE43) -> 0 | DG41: 42213 | DH41: 0 | DI41: =DH41*2000 -> 0 | DJ41: =SUM(DI41,DI42,DI43) -> 0 | DK41: 42214 | DL41: 0 | DM41: =DL41*2000 -> 0 | DN41: =SUM(DM41,DM42,DM43) -> 0 | DO41: 42215 | DP41: 0 | DQ41: =DP41*2000 -> 0 | DR41: =SUM(DQ41,DQ42,DQ43) -> 0 | DS41: 42216 | DT41: 0 | DU41: =DT41*2000 -> 0 | DV41: =SUM(DU41,DU42,DU43) -> 0 | DW41: 42216 | DX41: =SUM(D41,H41,L41,P41,T41,X41,AB41,AF41,AJ41,AN41,AR41,AV41,AZ41,BD41,BH41,BL41,BP41,BT41,BX41,CB41,CF41,CJ41,CN41,CR41,CV41,CZ41,DD41,DH41,DL41,DP41,DT41) -> 0 | DY41: =DX41*2000 -> 0 | DZ41: =SUM(DY41,DY42,DY43) -> 0
B42: Plat(s) Européen | D42: 0 | E42: =D42*2000 -> 0 | H42: 0 | I42: =H42*2000 -> 0 | L42: 0 | M42: =L42*2000 -> 0 | P42: 0 | Q42: =P42*2000 -> 0 | T42: 0 | U42: =T42*2000 -> 0 | X42: 0 | Y42: =X42*2000 -> 0 | AB42: 0 | AC42: =AB42*2000 -> 0 | AF42: 0 | AG42: =AF42*2000 -> 0 | AJ42: 0 | AK42: =AJ42*2000 -> 0 | AN42: 0 | AO42: =AN42*2000 -> 0 | AR42: 0 | AS42: =AR42*2000 -> 0 | AV42: 0 | AW42: =AV42*2000 -> 0 | AZ42: 0 | BA42: =AZ42*2000 -> 0 | BD42: 0 | BE42: =BD42*2000 -> 0 | BH42: 0 | BI42: =BH42*2000 -> 0 | BL42: 0 | BM42: =BL42*2000 -> 0 | BP42: 0 | BQ42: =BP42*2000 -> 0 | BT42: 0 | BU42: =BT42*2000 -> 0 | BX42: 0 | BY42: =BX42*2000 -> 0 | CB42: 0 | CC42: =CB42*2000 -> 0 | CF42: 0 | CG42: =CF42*2000 -> 0 | CJ42: 0 | CK42: =CJ42*2000 -> 0 | CN42: 0 | CO42: =CN42*2000 -> 0 | CR42: 0 | CS42: =CR42*2000 -> 0 | CV42: 0 | CW42: =CV42*2000 -> 0 | CZ42: 0 | DA42: =CZ42*2000 -> 0 | DD42: 0 | DE42: =DD42*2000 -> 0 | DH42: 0 | DI42: =DH42*2000 -> 0 | DL42: 0 | DM42: =DL42*2000 -> 0 | DP42: 0 | DQ42: =DP42*2000 -> 0 | DT42: 0 | DU42: =DT42*2000 -> 0 | DX42: =SUM(D42,H42,L42,P42,T42,X42,AB42,AF42,AJ42,AN42,AR42,AV42,AZ42,BD42,BH42,BL42,BP42,BT42,BX42,CB42,CF42,CJ42,CN42,CR42,CV42,CZ42,DD42,DH42,DL42,DP42,DT42) -> 0 | DY42: =DX42*2000 -> 0
B43: Plat(s) Africain | D43: 0 | E43: =D43*1750 -> 0 | H43: 0 | I43: =H43*1750 -> 0 | L43: 0 | M43: =L43*1750 -> 0 | P43: 0 | Q43: =P43*1750 -> 0 | T43: 0 | U43: =T43*1750 -> 0 | X43: 0 | Y43: =X43*1750 -> 0 | AB43: 0 | AC43: =AB43*1750 -> 0 | AF43: 0 | AG43: =AF43*1750 -> 0 | AJ43: 0 | AK43: =AJ43*1750 -> 0 | AN43: 0 | AO43: =AN43*1750 -> 0 | AR43: 0 | AS43: =AR43*1750 -> 0 | AV43: 0 | AW43: =AV43*1750 -> 0 | AZ43: 0 | BA43: =AZ43*1750 -> 0 | BD43: 0 | BE43: =BD43*1750 -> 0 | BH43: 0 | BI43: =BH43*1750 -> 0 | BL43: 0 | BM43: =BL43*1750 -> 0 | BP43: 0 | BQ43: =BP43*1750 -> 0 | BT43: 0 | BU43: =BT43*1750 -> 0 | BX43: 0 | BY43: =BX43*1750 -> 0 | CB43: 0 | CC43: =CB43*1750 -> 0 | CF43: 0 | CG43: =CF43*1750 -> 0 | CJ43: 0 | CK43: =CJ43*1750 -> 0 | CN43: 0 | CO43: =CN43*1750 -> 0 | CR43: 0 | CS43: =CR43*1750 -> 0 | CV43: 0 | CW43: =CV43*1750 -> 0 | CZ43: 0 | DA43: =CZ43*1750 -> 0 | DD43: 0 | DE43: =DD43*1750 -> 0 | DH43: 0 | DI43: =DH43*1750 -> 0 | DL43: 0 | DM43: =DL43*1750 -> 0 | DP43: 0 | DQ43: =DP43*1750 -> 0 | DT43: 0 | DU43: =DT43*1750 -> 0 | DX43: =SUM(D43,H43,L43,P43,T43,X43,AB43,AF43,AJ43,AN43,AR43,AV43,AZ43,BD43,BH43,BL43,BP43,BT43,BX43,CB43,CF43,CJ43,CN43,CR43,CV43,CZ43,DD43,DH43,DL43,DP43,DT43) -> 0 | DY43: =DX43*1750 -> 0
A44: =Versements!A17 -> Nom15 | B44: Entrée(s) | C44: 42186 | D44: 0 | E44: =D44*2000 -> 0 | F44: =SUM(E44,E45,E46) -> 0 | G44: 42187 | H44: 0 | I44: =H44*2000 -> 0 | J44: =SUM(I44,I45,I46) -> 0 | K44: 42188 | L44: 0 | M44: =L44*2000 -> 0 | N44: =SUM(M44,M45,M46) -> 0 | O44: 42189 | P44: 0 | Q44: =P44*2000 -> 0 | R44: =SUM(Q44,Q45,Q46) -> 0 | S44: 42190 | T44: 0 | U44: =T44*2000 -> 0 | V44: =SUM(U44,U45,U46) -> 0 | W44: 42191 | X44: 0 | Y44: =X44*2000 -> 0 | Z44: =SUM(Y44,Y45,Y46) -> 0 | AA44: 42192 | AB44: 0 | AC44: =AB44*2000 -> 0 | AD44: =SUM(AC44,AC45,AC46) -> 0 | AE44: 42193 | AF44: 0 | AG44: =AF44*2000 -> 0 | AH44: =SUM(AG44,AG45,AG46) -> 0 | AI44: 42194 | AJ44: 0 | AK44: =AJ44*2000 -> 0 | AL44: =SUM(AK44,AK45,AK46) -> 0 | AM44: 42195 | AN44: 0 | AO44: =AN44*2000 -> 0 | AP44: =SUM(AO44,AO45,AO46) -> 0 | AQ44: 42196 | AR44: 0 | AS44: =AR44*2000 -> 0 | AT44: =SUM(AS44,AS45,AS46) -> 0 | AU44: 42197 | AV44: 0 | AW44: =AV44*2000 -> 0 | AX44: =SUM(AW44,AW45,AW46) -> 0 | AY44: 42198 | AZ44: 0 | BA44: =AZ44*2000 -> 0 | BB44: =SUM(BA44,BA45,BA46) -> 1750 | BC44: 42199 | BD44: 0 | BE44: =BD44*2000 -> 0 | BF44: =SUM(BE44,BE45,BE46) -> 1750 | BG44: 42200 | BH44: 0 | BI44: =BH44*2000 -> 0 | BJ44: =SUM(BI44,BI45,BI46) -> 2000 | BK44: 42201 | BL44: 0 | BM44: =BL44*2000 -> 0 | BN44: =SUM(BM44,BM45,BM46) -> 1750 | BO44: 42202 | BP44: 0 | BQ44: =BP44*2000 -> 0 | BR44: =SUM(BQ44,BQ45,BQ46) -> 2000 | BS44: 42203 | BT44: 0 | BU44: =BT44*2000 -> 0 | BV44: =SUM(BU44,BU45,BU46) -> 0 | BW44: 42204 | BX44: 0 | BY44: =BX44*2000 -> 0 | BZ44: =SUM(BY44,BY45,BY46) -> 0 | CA44: 42205 | CB44: 0 | CC44: =CB44*2000 -> 0 | CD44: =SUM(CC44,CC45,CC46) -> 0 | CE44: 42206 | CF44: 0 | CG44: =CF44*2000 -> 0 | CH44: =SUM(CG44,CG45,CG46) -> 0 | CI44: 42207 | CJ44: 0 | CK44: =CJ44*2000 -> 0 | CL44: =SUM(CK44,CK45,CK46) -> 0 | CM44: 42208 | CN44: 0 | CO44: =CN44*2000 -> 0 | CP44: =SUM(CO44,CO45,CO46) -> 0 | CQ44: 42209 | CR44: 0 | CS44: =CR44*2000 -> 0 | CT44: =SUM(CS44,CS45,CS46) -> 0 | CU44: 42210 | CV44: 0 | CW44: =CV44*2000 -> 0 | CX44: =SUM(CW44,CW45,CW46) -> 0 | CY44: 42211 | CZ44: 0 | DA44: =CZ44*2000 -> 0 | DB44: =SUM(DA44,DA45,DA46) -> 0 | DC44: 42212 | DD44: 0 | DE44: =DD44*2000 -> 0 | DF44: =SUM(DE44,DE45,DE46) -> 0 | DG44: 42213 | DH44: 0 | DI44: =DH44*2000 -> 0 | DJ44: =SUM(DI44,DI45,DI46) -> 0 | DK44: 42214 | DL44: 0 | DM44: =DL44*2000 -> 0 | DN44: =SUM(DM44,DM45,DM46) -> 0 | DO44: 42215 | DP44: 0 | DQ44: =DP44*2000 -> 0 | DR44: =SUM(DQ44,DQ45,DQ46) -> 0 | DS44: 42216 | DT44: 0 | DU44: =DT44*2000 -> 0 | DV44: =SUM(DU44,DU45,DU46) -> 0 | DW44: 42216 | DX44: =SUM(D44,H44,L44,P44,T44,X44,AB44,AF44,AJ44,AN44,AR44,AV44,AZ44,BD44,BH44,BL44,BP44,BT44,BX44,CB44,CF44,CJ44,CN44,CR44,CV44,CZ44,DD44,DH44,DL44,DP44,DT44) -> 0 | DY44: =DX44*2000 -> 0 | DZ44: =SUM(DY44,DY45,DY46) -> 9250
B45: Plat(s) Européen | D45: 0 | E45: =D45*2000 -> 0 | H45: 0 | I45: =H45*2000 -> 0 | L45: 0 | M45: =L45*2000 -> 0 | P45: 0 | Q45: =P45*2000 -> 0 | T45: 0 | U45: =T45*2000 -> 0 | X45: 0 | Y45: =X45*2000 -> 0 | AB45: 0 | AC45: =AB45*2000 -> 0 | AF45: 0 | AG45: =AF45*2000 -> 0 | AJ45: 0 | AK45: =AJ45*2000 -> 0 | AN45: 0 | AO45: =AN45*2000 -> 0 | AR45: 0 | AS45: =AR45*2000 -> 0 | AV45: 0 | AW45: =AV45*2000 -> 0 | AZ45: 0 | BA45: =AZ45*2000 -> 0 | BD45: 0 | BE45: =BD45*2000 -> 0 | BH45: 1 | BI45: =BH45*2000 -> 2000 | BL45: 0 | BM45: =BL45*2000 -> 0 | BP45: 1 | BQ45: =BP45*2000 -> 2000 | BT45: 0 | BU45: =BT45*2000 -> 0 | BX45: 0 | BY45: =BX45*2000 -> 0 | CB45: 0 | CC45: =CB45*2000 -> 0 | CF45: 0 | CG45: =CF45*2000 -> 0 | CJ45: 0 | CK45: =CJ45*2000 -> 0 | CN45: 0 | CO45: =CN45*2000 -> 0 | CR45: 0 | CS45: =CR45*2000 -> 0 | CV45: 0 | CW45: =CV45*2000 -> 0 | CZ45: 0 | DA45: =CZ45*2000 -> 0 | DD45: 0 | DE45: =DD45*2000 -> 0 | DH45: 0 | DI45: =DH45*2000 -> 0 | DL45: 0 | DM45: =DL45*2000 -> 0 | DP45: 0 | DQ45: =DP45*2000 -> 0 | DT45: 0 | DU45: =DT45*2000 -> 0 | DX45: =SUM(D45,H45,L45,P45,T45,X45,AB45,AF45,AJ45,AN45,AR45,AV45,AZ45,BD45,BH45,BL45,BP45,BT45,BX45,CB45,CF45,CJ45,CN45,CR45,CV45,CZ45,DD45,DH45,DL45,DP45,DT45) -> 2 | DY45: =DX45*2000 -> 4000
B46: Plat(s) Africain | D46: 0 | E46: =D46*1750 -> 0 | H46: 0 | I46: =H46*1750 -> 0 | L46: 0 | M46: =L46*1750 -> 0 | P46: 0 | Q46: =P46*1750 -> 0 | T46: 0 | U46: =T46*1750 -> 0 | X46: 0 | Y46: =X46*1750 -> 0 | AB46: 0 | AC46: =AB46*1750 -> 0 | AF46: 0 | AG46: =AF46*1750 -> 0 | AJ46: 0 | AK46: =AJ46*1750 -> 0 | AN46: 0 | AO46: =AN46*1750 -> 0 | AR46: 0 | AS46: =AR46*1750 -> 0 | AV46: 0 | AW46: =AV46*1750 -> 0 | AZ46: 1 | BA46: =AZ46*1750 -> 1750 | BD46: 1 | BE46: =BD46*1750 -> 1750 | BI46: =BH46*1750 -> 0 | BL46: 1 | BM46: =BL46*1750 -> 1750 | BP46: 0 | BQ46: =BP46*1750 -> 0 | BT46: 0 | BU46: =BT46*1750 -> 0 | BX46: 0 | BY46: =BX46*1750 -> 0 | CB46: 0 | CC46: =CB46*1750 -> 0 | CF46: 0 | CG46: =CF46*1750 -> 0 | CJ46: 0 | CK46: =CJ46*1750 -> 0 | CN46: 0 | CO46: =CN46*1750 -> 0 | CR46: 0 | CS46: =CR46*1750 -> 0 | CV46: 0 | CW46: =CV46*1750 -> 0 | CZ46: 0 | DA46: =CZ46*1750 -> 0 | DD46: 0 | DE46: =DD46*1750 -> 0 | DH46: 0 | DI46: =DH46*1750 -> 0 | DL46: 0 | DM46: =DL46*1750 -> 0 | DP46: 0 | DQ46: =DP46*1750 -> 0 | DT46: 0 | DU46: =DT46*1750 -> 0 | DX46: =SUM(D46,H46,L46,P46,T46,X46,AB46,AF46,AJ46,AN46,AR46,AV46,AZ46,BD46,BH46,BL46,BP46,BT46,BX46,CB46,CF46,CJ46,CN46,CR46,CV46,CZ46,DD46,DH46,DL46,DP46,DT46) -> 3 | DY46: =DX46*1750 -> 5250
A47: =Versements!A18 -> Nom16 | B47: Entrée(s) | C47: 42186 | D47: 0 | E47: =D47*2000 -> 0 | F47: =SUM(E47,E48,E49) -> 0 | G47: 42187 | H47: 0 | I47: =H47*2000 -> 0 | J47: =SUM(I47,I48,I49) -> 0 | K47: 42188 | L47: 0 | M47: =L47*2000 -> 0 | N47: =SUM(M47,M48,M49) -> 0 | O47: 42189 | P47: 0 | Q47: =P47*2000 -> 0 | R47: =SUM(Q47,Q48,Q49) -> 0 | S47: 42190 | T47: 0 | U47: =T47*2000 -> 0 | V47: =SUM(U47,U48,U49) -> 0 | W47: 42191 | X47: 0 | Y47: =X47*2000 -> 0 | Z47: =SUM(Y47,Y48,Y49) -> 0 | AA47: 42192 | AB47: 0 | AC47: =AB47*2000 -> 0 | AD47: =SUM(AC47,AC48,AC49) -> 0 | AE47: 42193 | AF47: 0 | AG47: =AF47*2000 -> 0 | AH47: =SUM(AG47,AG48,AG49) -> 0 | AI47: 42194 | AJ47: 0 | AK47: =AJ47*2000 -> 0 | AL47: =SUM(AK47,AK48,AK49) -> 0 | AM47: 42195 | AN47: 0 | AO47: =AN47*2000 -> 0 | AP47: =SUM(AO47,AO48,AO49) -> 0 | AQ47: 42196 | AR47: 0 | AS47: =AR47*2000 -> 0 | AT47: =SUM(AS47,AS48,AS49) -> 0 | AU47: 42197 | AV47: 0 | AW47: =AV47*2000 -> 0 | AX47: =SUM(AW47,AW48,AW49) -> 0 | AY47: 42198 | AZ47: 0 | BA47: =AZ47*2000 -> 0 | BB47: =SUM(BA47,BA48,BA49) -> 0 | BC47: 42199 | BD47: 0 | BE47: =BD47*2000 -> 0 | BF47: =SUM(BE47,BE48,BE49) -> 0 | BG47: 42200 | BH47: 0 | BI47: =BH47*2000 -> 0 | BJ47: =SUM(BI47,BI48,BI49) -> 0 | BK47: 42201 | BL47: 0 | BM47: =BL47*2000 -> 0 | BN47: =SUM(BM47,BM48,BM49) -> 0 | BO47: 42202 | BP47: 0 | BQ47: =BP47*2000 -> 0 | BR47: =SUM(BQ47,BQ48,BQ49) -> 0 | BS47: 42203 | BT47: 0 | BU47: =BT47*2000 -> 0 | BV47: =SUM(BU47,BU48,BU49) -> 0 | BW47: 42204 | BX47: 0 | BY47: =BX47*2000 -> 0 | BZ47: =SUM(BY47,BY48,BY49) -> 0 | CA47: 42205 | CB47: 0 | CC47: =CB47*2000 -> 0 | CD47: =SUM(CC47,CC48,CC49) -> 0 | CE47: 42206 | CF47: 0 | CG47: =CF47*2000 -> 0 | CH47: =SUM(CG47,CG48,CG49) -> 0 | CI47: 42207 | CJ47: 0 | CK47: =CJ47*2000 -> 0 | CL47: =SUM(CK47,CK48,CK49) -> 0 | CM47: 42208 | CN47: 0 | CO47: =CN47*2000 -> 0 | CP47: =SUM(CO47,CO48,CO49) -> 0 | CQ47: 42209 | CR47: 0 | CS47: =CR47*2000 -> 0 | CT47: =SUM(CS47,CS48,CS49) -> 0 | CU47: 42210 | CV47: 0 | CW47: =CV47*2000 -> 0 | CX47: =SUM(CW47,CW48,CW49) -> 0 | CY47: 42211 | CZ47: 0 | DA47: =CZ47*2000 -> 0 | DB47: =SUM(DA47,DA48,DA49) -> 0 | DC47: 42212 | DD47: 0 | DE47: =DD47*2000 -> 0 | DF47: =SUM(DE47,DE48,DE49) -> 0 | DG47: 42213 | DH47: 0 | DI47: =DH47*2000 -> 0 | DJ47: =SUM(DI47,DI48,DI49) -> 0 | DK47: 42214 | DL47: 0 | DM47: =DL47*2000 -> 0 | DN47: =SUM(DM47,DM48,DM49) -> 0 | DO47: 42215 | DP47: 0 | DQ47: =DP47*2000 -> 0 | DR47: =SUM(DQ47,DQ48,DQ49) -> 0 | DS47: 42216 | DT47: 0 | DU47: =DT47*2000 -> 0 | DV47: =SUM(DU47,DU48,DU49) -> 0 | DW47: 42216 | DX47: =SUM(D47,H47,L47,P47,T47,X47,AB47,AF47,AJ47,AN47,AR47,AV47,AZ47,BD47,BH47,BL47,BP47,BT47,BX47,CB47,CF47,CJ47,CN47,CR47,CV47,CZ47,DD47,DH47,DL47,DP47,DT47) -> 0 | DY47: =DX47*2000 -> 0 | DZ47: =SUM(DY47,DY48,DY49) -> 0
B48: Plat(s) Européen | D48: 0 | E48: =D48*2000 -> 0 | H48: 0 | I48: =H48*2000 -> 0 | L48: 0 | M48: =L48*2000 -> 0 | P48: 0 | Q48: =P48*2000 -> 0 | T48: 0 | U48: =T48*2000 -> 0 | X48: 0 | Y48: =X48*2000 -> 0 | AB48: 0 | AC48: =AB48*2000 -> 0 | AF48: 0 | AG48: =AF48*2000 -> 0 | AJ48: 0 | AK48: =AJ48*2000 -> 0 | AN48: 0 | AO48: =AN48*2000 -> 0 | AR48: 0 | AS48: =AR48*2000 -> 0 | AV48: 0 | AW48: =AV48*2000 -> 0 | AZ48: 0 | BA48: =AZ48*2000 -> 0 | BD48: 0 | BE48: =BD48*2000 -> 0 | BH48: 0 | BI48: =BH48*2000 -> 0 | BL48: 0 | BM48: =BL48*2000 -> 0 | BP48: 0 | BQ48: =BP48*2000 -> 0 | BT48: 0 | BU48: =BT48*2000 -> 0 | BX48: 0 | BY48: =BX48*2000 -> 0 | CB48: 0 | CC48: =CB48*2000 -> 0 | CF48: 0 | CG48: =CF48*2000 -> 0 | CJ48: 0 | CK48: =CJ48*2000 -> 0 | CN48: 0 | CO48: =CN48*2000 -> 0 | CR48: 0 | CS48: =CR48*2000 -> 0 | CV48: 0 | CW48: =CV48*2000 -> 0 | CZ48: 0 | DA48: =CZ48*2000 -> 0 | DD48: 0 | DE48: =DD48*2000 -> 0 | DH48: 0 | DI48: =DH48*2000 -> 0 | DL48: 0 | DM48: =DL48*2000 -> 0 | DP48: 0 | DQ48: =DP48*2000 -> 0 | DT48: 0 | DU48: =DT48*2000 -> 0 | DX48: =SUM(D48,H48,L48,P48,T48,X48,AB48,AF48,AJ48,AN48,AR48,AV48,AZ48,BD48,BH48,BL48,BP48,BT48,BX48,CB48,CF48,CJ48,CN48,CR48,CV48,CZ48,DD48,DH48,DL48,DP48,DT48) -> 0 | DY48: =DX48*2000 -> 0
B49: Plat(s) Africain | D49: 0 | E49: =D49*1750 -> 0 | H49: 0 | I49: =H49*1750 -> 0 | L49: 0 | M49: =L49*1750 -> 0 | P49: 0 | Q49: =P49*1750 -> 0 | T49: 0 | U49: =T49*1750 -> 0 | X49: 0 | Y49: =X49*1750 -> 0 | AB49: 0 | AC49: =AB49*1750 -> 0 | AF49: 0 | AG49: =AF49*1750 -> 0 | AJ49: 0 | AK49: =AJ49*1750 -> 0 | AN49: 0 | AO49: =AN49*1750 -> 0 | AR49: 0 | AS49: =AR49*1750 -> 0 | AV49: 0 | AW49: =AV49*1750 -> 0 | AZ49: 0 | BA49: =AZ49*1750 -> 0 | BD49: 0 | BE49: =BD49*1750 -> 0 | BH49: 0 | BI49: =BH49*1750 -> 0 | BL49: 0 | BM49: =BL49*1750 -> 0 | BP49: 0 | BQ49: =BP49*1750 -> 0 | BT49: 0 | BU49: =BT49*1750 -> 0 | BX49: 0 | BY49: =BX49*1750 -> 0 | CB49: 0 | CC49: =CB49*1750 -> 0 | CF49: 0 | CG49: =CF49*1750 -> 0 | CJ49: 0 | CK49: =CJ49*1750 -> 0 | CN49: 0 | CO49: =CN49*1750 -> 0 | CR49: 0 | CS49: =CR49*1750 -> 0 | CV49: 0 | CW49: =CV49*1750 -> 0 | CZ49: 0 | DA49: =CZ49*1750 -> 0 | DD49: 0 | DE49: =DD49*1750 -> 0 | DH49: 0 | DI49: =DH49*1750 -> 0 | DL49: 0 | DM49: =DL49*1750 -> 0 | DP49: 0 | DQ49: =DP49*1750 -> 0 | DT49: 0 | DU49: =DT49*1750 -> 0 | DX49: =SUM(D49,H49,L49,P49,T49,X49,AB49,AF49,AJ49,AN49,AR49,AV49,AZ49,BD49,BH49,BL49,BP49,BT49,BX49,CB49,CF49,CJ49,CN49,CR49,CV49,CZ49,DD49,DH49,DL49,DP49,DT49) -> 0 | DY49: =DX49*1750 -> 0
A50: =Versements!A19 -> Nom17 | B50: Entrée(s) | C50: 42186 | D50: 0 | E50: =D50*2000 -> 0 | F50: =SUM(E50,E51,E52) -> 0 | G50: 42187 | H50: 0 | I50: =H50*2000 -> 0 | J50: =SUM(I50,I51,I52) -> 0 | K50: 42188 | L50: 0 | M50: =L50*2000 -> 0 | N50: =SUM(M50,M51,M52) -> 0 | O50: 42189 | P50: 0 | Q50: =P50*2000 -> 0 | R50: =SUM(Q50,Q51,Q52) -> 0 | S50: 42190 | T50: 0 | U50: =T50*2000 -> 0 | V50: =SUM(U50,U51,U52) -> 0 | W50: 42191 | X50: 0 | Y50: =X50*2000 -> 0 | Z50: =SUM(Y50,Y51,Y52) -> 0 | AA50: 42192 | AB50: 0 | AC50: =AB50*2000 -> 0 | AD50: =SUM(AC50,AC51,AC52) -> 0 | AE50: 42193 | AF50: 0 | AG50: =AF50*2000 -> 0 | AH50: =SUM(AG50,AG51,AG52) -> 0 | AI50: 42194 | AJ50: 0 | AK50: =AJ50*2000 -> 0 | AL50: =SUM(AK50,AK51,AK52) -> 0 | AM50: 42195 | AN50: 0 | AO50: =AN50*2000 -> 0 | AP50: =SUM(AO50,AO51,AO52) -> 0 | AQ50: 42196 | AR50: 0 | AS50: =AR50*2000 -> 0 | AT50: =SUM(AS50,AS51,AS52) -> 0 | AU50: 42197 | AV50: 0 | AW50: =AV50*2000 -> 0 | AX50: =SUM(AW50,AW51,AW52) -> 0 | AY50: 42198 | AZ50: 0 | BA50: =AZ50*2000 -> 0 | BB50: =SUM(BA50,BA51,BA52) -> 0 | BC50: 42199 | BD50: 0 | BE50: =BD50*2000 -> 0 | BF50: =SUM(BE50,BE51,BE52) -> 0 | BG50: 42200 | BH50: 0 | BI50: =BH50*2000 -> 0 | BJ50: =SUM(BI50,BI51,BI52) -> 0 | BK50: 42201 | BL50: 0 | BM50: =BL50*2000 -> 0 | BN50: =SUM(BM50,BM51,BM52) -> 0 | BO50: 42202 | BP50: 0 | BQ50: =BP50*2000 -> 0 | BR50: =SUM(BQ50,BQ51,BQ52) -> 0 | BS50: 42203 | BT50: 0 | BU50: =BT50*2000 -> 0 | BV50: =SUM(BU50,BU51,BU52) -> 0 | BW50: 42204 | BX50: 0 | BY50: =BX50*2000 -> 0 | BZ50: =SUM(BY50,BY51,BY52) -> 0 | CA50: 42205 | CB50: 0 | CC50: =CB50*2000 -> 0 | CD50: =SUM(CC50,CC51,CC52) -> 0 | CE50: 42206 | CF50: 0 | CG50: =CF50*2000 -> 0 | CH50: =SUM(CG50,CG51,CG52) -> 0 | CI50: 42207 | CJ50: 0 | CK50: =CJ50*2000 -> 0 | CL50: =SUM(CK50,CK51,CK52) -> 0 | CM50: 42208 | CN50: 0 | CO50: =CN50*2000 -> 0 | CP50: =SUM(CO50,CO51,CO52) -> 0 | CQ50: 42209 | CR50: 0 | CS50: =CR50*2000 -> 0 | CT50: =SUM(CS50,CS51,CS52) -> 0 | CU50: 42210 | CV50: 0 | CW50: =CV50*2000 -> 0 | CX50: =SUM(CW50,CW51,CW52) -> 0 | CY50: 42211 | CZ50: 0 | DA50: =CZ50*2000 -> 0 | DB50: =SUM(DA50,DA51,DA52) -> 0 | DC50: 42212 | DD50: 0 | DE50: =DD50*2000 -> 0 | DF50: =SUM(DE50,DE51,DE52) -> 0 | DG50: 42213 | DH50: 0 | DI50: =DH50*2000 -> 0 | DJ50: =SUM(DI50,DI51,DI52) -> 0 | DK50: 42214 | DL50: 0 | DM50: =DL50*2000 -> 0 | DN50: =SUM(DM50,DM51,DM52) -> 0 | DO50: 42215 | DP50: 0 | DQ50: =DP50*2000 -> 0 | DR50: =SUM(DQ50,DQ51,DQ52) -> 0 | DS50: 42216 | DT50: 0 | DU50: =DT50*2000 -> 0 | DV50: =SUM(DU50,DU51,DU52) -> 0 | DW50: 42216 | DX50: =SUM(D50,H50,L50,P50,T50,X50,AB50,AF50,AJ50,AN50,AR50,AV50,AZ50,BD50,BH50,BL50,BP50,BT50,BX50,CB50,CF50,CJ50,CN50,CR50,CV50,CZ50,DD50,DH50,DL50,DP50,DT50) -> 0 | DY50: =DX50*2000 -> 0 | DZ50: =SUM(DY50,DY51,DY52) -> 0
B51: Plat(s) Européen | D51: 0 | E51: =D51*2000 -> 0 | H51: 0 | I51: =H51*2000 -> 0 | L51: 0 | M51: =L51*2000 -> 0 | P51: 0 | Q51: =P51*2000 -> 0 | T51: 0 | U51: =T51*2000 -> 0 | X51: 0 | Y51: =X51*2000 -> 0 | AB51: 0 | AC51: =AB51*2000 -> 0 | AF51: 0 | AG51: =AF51*2000 -> 0 | AJ51: 0 | AK51: =AJ51*2000 -> 0 | AN51: 0 | AO51: =AN51*2000 -> 0 | AR51: 0 | AS51: =AR51*2000 -> 0 | AV51: 0 | AW51: =AV51*2000 -> 0 | AZ51: 0 | BA51: =AZ51*2000 -> 0 | BD51: 0 | BE51: =BD51*2000 -> 0 | BH51: 0 | BI51: =BH51*2000 -> 0 | BL51: 0 | BM51: =BL51*2000 -> 0 | BP51: 0 | BQ51: =BP51*2000 -> 0 | BT51: 0 | BU51: =BT51*2000 -> 0 | BX51: 0 | BY51: =BX51*2000 -> 0 | CB51: 0 | CC51: =CB51*2000 -> 0 | CF51: 0 | CG51: =CF51*2000 -> 0 | CJ51: 0 | CK51: =CJ51*2000 -> 0 | CN51: 0 | CO51: =CN51*2000 -> 0 | CR51: 0 | CS51: =CR51*2000 -> 0 | CV51: 0 | CW51: =CV51*2000 -> 0 | CZ51: 0 | DA51: =CZ51*2000 -> 0 | DD51: 0 | DE51: =DD51*2000 -> 0 | DH51: 0 | DI51: =DH51*2000 -> 0 | DL51: 0 | DM51: =DL51*2000 -> 0 | DP51: 0 | DQ51: =DP51*2000 -> 0 | DT51: 0 | DU51: =DT51*2000 -> 0 | DX51: =SUM(D51,H51,L51,P51,T51,X51,AB51,AF51,AJ51,AN51,AR51,AV51,AZ51,BD51,BH51,BL51,BP51,BT51,BX51,CB51,CF51,CJ51,CN51,CR51,CV51,CZ51,DD51,DH51,DL51,DP51,DT51) -> 0 | DY51: =DX51*2000 -> 0
B52: Plat(s) Africain | D52: 0 | E52: =D52*1750 -> 0 | H52: 0 | I52: =H52*1750 -> 0 | L52: 0 | M52: =L52*1750 -> 0 | P52: 0 | Q52: =P52*1750 -> 0 | T52: 0 | U52: =T52*1750 -> 0 | X52: 0 | Y52: =X52*1750 -> 0 | AB52: 0 | AC52: =AB52*1750 -> 0 | AF52: 0 | AG52: =AF52*1750 -> 0 | AJ52: 0 | AK52: =AJ52*1750 -> 0 | AN52: 0 | AO52: =AN52*1750 -> 0 | AR52: 0 | AS52: =AR52*1750 -> 0 | AV52: 0 | AW52: =AV52*1750 -> 0 | AZ52: 0 | BA52: =AZ52*1750 -> 0 | BD52: 0 | BE52: =BD52*1750 -> 0 | BH52: 0 | BI52: =BH52*1750 -> 0 | BL52: 0 | BM52: =BL52*1750 -> 0 | BP52: 0 | BQ52: =BP52*1750 -> 0 | BT52: 0 | BU52: =BT52*1750 -> 0 | BX52: 0 | BY52: =BX52*1750 -> 0 | CB52: 0 | CC52: =CB52*1750 -> 0 | CF52: 0 | CG52: =CF52*1750 -> 0 | CJ52: 0 | CK52: =CJ52*1750 -> 0 | CN52: 0 | CO52: =CN52*1750 -> 0 | CR52: 0 | CS52: =CR52*1750 -> 0 | CV52: 0 | CW52: =CV52*1750 -> 0 | CZ52: 0 | DA52: =CZ52*1750 -> 0 | DD52: 0 | DE52: =DD52*1750 -> 0 | DH52: 0 | DI52: =DH52*1750 -> 0 | DL52: 0 | DM52: =DL52*1750 -> 0 | DP52: 0 | DQ52: =DP52*1750 -> 0 | DT52: 0 | DU52: =DT52*1750 -> 0 | DX52: =SUM(D52,H52,L52,P52,T52,X52,AB52,AF52,AJ52,AN52,AR52,AV52,AZ52,BD52,BH52,BL52,BP52,BT52,BX52,CB52,CF52,CJ52,CN52,CR52,CV52,CZ52,DD52,DH52,DL52,DP52,DT52) -> 0 | DY52: =DX52*1750 -> 0
A53: =Versements!A20 -> Nom18 | B53: Entrée(s) | C53: 42186 | D53: 0 | E53: =D53*2000 -> 0 | F53: =SUM(E53,E54,E55) -> 0 | G53: 42187 | H53: 0 | I53: =H53*2000 -> 0 | J53: =SUM(I53,I54,I55) -> 0 | K53: 42188 | L53: 0 | M53: =L53*2000 -> 0 | N53: =SUM(M53,M54,M55) -> 0 | O53: 42189 | P53: 0 | Q53: =P53*2000 -> 0 | R53: =SUM(Q53,Q54,Q55) -> 0 | S53: 42190 | T53: 0 | U53: =T53*2000 -> 0 | V53: =SUM(U53,U54,U55) -> 0 | W53: 42191 | X53: 0 | Y53: =X53*2000 -> 0 | Z53: =SUM(Y53,Y54,Y55) -> 0 | AA53: 42192 | AB53: 0 | AC53: =AB53*2000 -> 0 | AD53: =SUM(AC53,AC54,AC55) -> 0 | AE53: 42193 | AF53: 0 | AG53: =AF53*2000 -> 0 | AH53: =SUM(AG53,AG54,AG55) -> 0 | AI53: 42194 | AJ53: 0 | AK53: =AJ53*2000 -> 0 | AL53: =SUM(AK53,AK54,AK55) -> 0 | AM53: 42195 | AN53: 0 | AO53: =AN53*2000 -> 0 | AP53: =SUM(AO53,AO54,AO55) -> 0 | AQ53: 42196 | AR53: 0 | AS53: =AR53*2000 -> 0 | AT53: =SUM(AS53,AS54,AS55) -> 0 | AU53: 42197 | AV53: 0 | AW53: =AV53*2000 -> 0 | AX53: =SUM(AW53,AW54,AW55) -> 0 | AY53: 42198 | AZ53: 0 | BA53: =AZ53*2000 -> 0 | BB53: =SUM(BA53,BA54,BA55) -> 2000 | BC53: 42199 | BD53: 0 | BE53: =BD53*2000 -> 0 | BF53: =SUM(BE53,BE54,BE55) -> 2000 | BG53: 42200 | BH53: 0 | BI53: =BH53*2000 -> 0 | BJ53: =SUM(BI53,BI54,BI55) -> 2000 | BK53: 42201 | BL53: 0 | BM53: =BL53*2000 -> 0 | BN53: =SUM(BM53,BM54,BM55) -> 0 | BO53: 42202 | BP53: 0 | BQ53: =BP53*2000 -> 0 | BR53: =SUM(BQ53,BQ54,BQ55) -> 4000 | BS53: 42203 | BT53: 0 | BU53: =BT53*2000 -> 0 | BV53: =SUM(BU53,BU54,BU55) -> 0 | BW53: 42204 | BX53: 0 | BY53: =BX53*2000 -> 0 | BZ53: =SUM(BY53,BY54,BY55) -> 0 | CA53: 42205 | CB53: 0 | CC53: =CB53*2000 -> 0 | CD53: =SUM(CC53,CC54,CC55) -> 0 | CE53: 42206 | CF53: 0 | CG53: =CF53*2000 -> 0 | CH53: =SUM(CG53,CG54,CG55) -> 0 | CI53: 42207 | CJ53: 0 | CK53: =CJ53*2000 -> 0 | CL53: =SUM(CK53,CK54,CK55) -> 0 | CM53: 42208 | CN53: 0 | CO53: =CN53*2000 -> 0 | CP53: =SUM(CO53,CO54,CO55) -> 0 | CQ53: 42209 | CR53: 0 | CS53: =CR53*2000 -> 0 | CT53: =SUM(CS53,CS54,CS55) -> 0 | CU53: 42210 | CV53: 0 | CW53: =CV53*2000 -> 0 | CX53: =SUM(CW53,CW54,CW55) -> 0 | CY53: 42211 | CZ53: 0 | DA53: =CZ53*2000 -> 0 | DB53: =SUM(DA53,DA54,DA55) -> 0 | DC53: 42212 | DD53: 0 | DE53: =DD53*2000 -> 0 | DF53: =SUM(DE53,DE54,DE55) -> 0 | DG53: 42213 | DH53: 0 | DI53: =DH53*2000 -> 0 | DJ53: =SUM(DI53,DI54,DI55) -> 0 | DK53: 42214 | DL53: 0 | DM53: =DL53*2000 -> 0 | DN53: =SUM(DM53,DM54,DM55) -> 0 | DO53: 42215 | DP53: 0 | DQ53: =DP53*2000 -> 0 | DR53: =SUM(DQ53,DQ54,DQ55) -> 0 | DS53: 42216 | DT53: 0 | DU53: =DT53*2000 -> 0 | DV53: =SUM(DU53,DU54,DU55) -> 0 | DW53: 42216 | DX53: =SUM(D53,H53,L53,P53,T53,X53,AB53,AF53,AJ53,AN53,AR53,AV53,AZ53,BD53,BH53,BL53,BP53,BT53,BX53,CB53,CF53,CJ53,CN53,CR53,CV53,CZ53,DD53,DH53,DL53,DP53,DT53) -> 0 | DY53: =DX53*2000 -> 0 | DZ53: =SUM(DY53,DY54,DY55) -> 10000
B54: Plat(s) Européen | D54: 0 | E54: =D54*2000 -> 0 | H54: 0 | I54: =H54*2000 -> 0 | L54: 0 | M54: =L54*2000 -> 0 | P54: 0 | Q54: =P54*2000 -> 0 | T54: 0 | U54: =T54*2000 -> 0 | X54: 0 | Y54: =X54*2000 -> 0 | AB54: 0 | AC54: =AB54*2000 -> 0 | AF54: 0 | AG54: =AF54*2000 -> 0 | AJ54: 0 | AK54: =AJ54*2000 -> 0 | AN54: 0 | AO54: =AN54*2000 -> 0 | AR54: 0 | AS54: =AR54*2000 -> 0 | AV54: 0 | AW54: =AV54*2000 -> 0 | AZ54: 1 | BA54: =AZ54*2000 -> 2000 | BD54: 1 | BE54: =BD54*2000 -> 2000 | BH54: 1 | BI54: =BH54*2000 -> 2000 | BL54: 0 | BM54: =BL54*2000 -> 0 | BP54: 2 | BQ54: =BP54*2000 -> 4000 | BT54: 0 | BU54: =BT54*2000 -> 0 | BX54: 0 | BY54: =BX54*2000 -> 0 | CB54: 0 | CC54: =CB54*2000 -> 0 | CF54: 0 | CG54: =CF54*2000 -> 0 | CJ54: 0 | CK54: =CJ54*2000 -> 0 | CN54: 0 | CO54: =CN54*2000 -> 0 | CR54: 0 | CS54: =CR54*2000 -> 0 | CV54: 0 | CW54: =CV54*2000 -> 0 | CZ54: 0 | DA54: =CZ54*2000 -> 0 | DD54: 0 | DE54: =DD54*2000 -> 0 | DH54: 0 | DI54: =DH54*2000 -> 0 | DL54: 0 | DM54: =DL54*2000 -> 0 | DP54: 0 | DQ54: =DP54*2000 -> 0 | DT54: 0 | DU54: =DT54*2000 -> 0 | DX54: =SUM(D54,H54,L54,P54,T54,X54,AB54,AF54,AJ54,AN54,AR54,AV54,AZ54,BD54,BH54,BL54,BP54,BT54,BX54,CB54,CF54,CJ54,CN54,CR54,CV54,CZ54,DD54,DH54,DL54,DP54,DT54) -> 5 | DY54: =DX54*2000 -> 10000
B55: Plat(s) Africain | D55: 0 | E55: =D55*1750 -> 0 | H55: 0 | I55: =H55*1750 -> 0 | L55: 0 | M55: =L55*1750 -> 0 | P55: 0 | Q55: =P55*1750 -> 0 | T55: 0 | U55: =T55*1750 -> 0 | X55: 0 | Y55: =X55*1750 -> 0 | AB55: 0 | AC55: =AB55*1750 -> 0 | AF55: 0 | AG55: =AF55*1750 -> 0 | AJ55: 0 | AK55: =AJ55*1750 -> 0 | AN55: 0 | AO55: =AN55*1750 -> 0 | AR55: 0 | AS55: =AR55*1750 -> 0 | AV55: 0 | AW55: =AV55*1750 -> 0 | AZ55: 0 | BA55: =AZ55*1750 -> 0 | BD55: 0 | BE55: =BD55*1750 -> 0 | BH55: 0 | BI55: =BH55*1750 -> 0 | BL55: 0 | BM55: =BL55*1750 -> 0 | BP55: 0 | BQ55: =BP55*1750 -> 0 | BT55: 0 | BU55: =BT55*1750 -> 0 | BX55: 0 | BY55: =BX55*1750 -> 0 | CB55: 0 | CC55: =CB55*1750 -> 0 | CF55: 0 | CG55: =CF55*1750 -> 0 | CJ55: 0 | CK55: =CJ55*1750 -> 0 | CN55: 0 | CO55: =CN55*1750 -> 0 | CR55: 0 | CS55: =CR55*1750 -> 0 | CV55: 0 | CW55: =CV55*1750 -> 0 | CZ55: 0 | DA55: =CZ55*1750 -> 0 | DD55: 0 | DE55: =DD55*1750 -> 0 | DH55: 0 | DI55: =DH55*1750 -> 0 | DL55: 0 | DM55: =DL55*1750 -> 0 | DP55: 0 | DQ55: =DP55*1750 -> 0 | DT55: 0 | DU55: =DT55*1750 -> 0 | DX55: =SUM(D55,H55,L55,P55,T55,X55,AB55,AF55,AJ55,AN55,AR55,AV55,AZ55,BD55,BH55,BL55,BP55,BT55,BX55,CB55,CF55,CJ55,CN55,CR55,CV55,CZ55,DD55,DH55,DL55,DP55,DT55) -> 0 | DY55: =DX55*1750 -> 0
A56: =Versements!A21 -> Nom19 | B56: Entrée(s) | C56: 42186 | D56: 0 | E56: =D56*2000 -> 0 | F56: =SUM(E56,E57,E58) -> 0 | G56: 42187 | H56: 0 | I56: =H56*2000 -> 0 | J56: =SUM(I56,I57,I58) -> 0 | K56: 42188 | L56: 0 | M56: =L56*2000 -> 0 | N56: =SUM(M56,M57,M58) -> 0 | O56: 42189 | P56: 0 | Q56: =P56*2000 -> 0 | R56: =SUM(Q56,Q57,Q58) -> 0 | S56: 42190 | T56: 0 | U56: =T56*2000 -> 0 | V56: =SUM(U56,U57,U58) -> 0 | W56: 42191 | X56: 0 | Y56: =X56*2000 -> 0 | Z56: =SUM(Y56,Y57,Y58) -> 0 | AA56: 42192 | AB56: 0 | AC56: =AB56*2000 -> 0 | AD56: =SUM(AC56,AC57,AC58) -> 0 | AE56: 42193 | AF56: 0 | AG56: =AF56*2000 -> 0 | AH56: =SUM(AG56,AG57,AG58) -> 0 | AI56: 42194 | AJ56: 0 | AK56: =AJ56*2000 -> 0 | AL56: =SUM(AK56,AK57,AK58) -> 0 | AM56: 42195 | AN56: 0 | AO56: =AN56*2000 -> 0 | AP56: =SUM(AO56,AO57,AO58) -> 0 | AQ56: 42196 | AR56: 0 | AS56: =AR56*2000 -> 0 | AT56: =SUM(AS56,AS57,AS58) -> 0 | AU56: 42197 | AV56: 0 | AW56: =AV56*2000 -> 0 | AX56: =SUM(AW56,AW57,AW58) -> 0 | AY56: 42198 | AZ56: 0 | BA56: =AZ56*2000 -> 0 | BB56: =SUM(BA56,BA57,BA58) -> 0 | BC56: 42199 | BD56: 0 | BE56: =BD56*2000 -> 0 | BF56: =SUM(BE56,BE57,BE58) -> 0 | BG56: 42200 | BH56: 0 | BI56: =BH56*2000 -> 0 | BJ56: =SUM(BI56,BI57,BI58) -> 0 | BK56: 42201 | BL56: 0 | BM56: =BL56*2000 -> 0 | BN56: =SUM(BM56,BM57,BM58) -> 0 | BO56: 42202 | BP56: 0 | BQ56: =BP56*2000 -> 0 | BR56: =SUM(BQ56,BQ57,BQ58) -> 0 | BS56: 42203 | BT56: 0 | BU56: =BT56*2000 -> 0 | BV56: =SUM(BU56,BU57,BU58) -> 0 | BW56: 42204 | BX56: 0 | BY56: =BX56*2000 -> 0 | BZ56: =SUM(BY56,BY57,BY58) -> 0 | CA56: 42205 | CB56: 0 | CC56: =CB56*2000 -> 0 | CD56: =SUM(CC56,CC57,CC58) -> 0 | CE56: 42206 | CF56: 0 | CG56: =CF56*2000 -> 0 | CH56: =SUM(CG56,CG57,CG58) -> 0 | CI56: 42207 | CJ56: 0 | CK56: =CJ56*2000 -> 0 | CL56: =SUM(CK56,CK57,CK58) -> 0 | CM56: 42208 | CN56: 0 | CO56: =CN56*2000 -> 0 | CP56: =SUM(CO56,CO57,CO58) -> 0 | CQ56: 42209 | CR56: 0 | CS56: =CR56*2000 -> 0 | CT56: =SUM(CS56,CS57,CS58) -> 0 | CU56: 42210 | CV56: 0 | CW56: =CV56*2000 -> 0 | CX56: =SUM(CW56,CW57,CW58) -> 0 | CY56: 42211 | CZ56: 0 | DA56: =CZ56*2000 -> 0 | DB56: =SUM(DA56,DA57,DA58) -> 0 | DC56: 42212 | DD56: 0 | DE56: =DD56*2000 -> 0 | DF56: =SUM(DE56,DE57,DE58) -> 0 | DG56: 42213 | DH56: 0 | DI56: =DH56*2000 -> 0 | DJ56: =SUM(DI56,DI57,DI58) -> 0 | DK56: 42214 | DL56: 0 | DM56: =DL56*2000 -> 0 | DN56: =SUM(DM56,DM57,DM58) -> 0 | DO56: 42215 | DP56: 0 | DQ56: =DP56*2000 -> 0 | DR56: =SUM(DQ56,DQ57,DQ58) -> 0 | DS56: 42216 | DT56: 0 | DU56: =DT56*2000 -> 0 | DV56: =SUM(DU56,DU57,DU58) -> 0 | DW56: 42216 | DX56: =SUM(D56,H56,L56,P56,T56,X56,AB56,AF56,AJ56,AN56,AR56,AV56,AZ56,BD56,BH56,BL56,BP56,BT56,BX56,CB56,CF56,CJ56,CN56,CR56,CV56,CZ56,DD56,DH56,DL56,DP56,DT56) -> 0 | DY56: =DX56*2000 -> 0 | DZ56: =SUM(DY56,DY57,DY58) -> 0
B57: Plat(s) Européen | D57: 0 | E57: =D57*2000 -> 0 | H57: 0 | I57: =H57*2000 -> 0 | L57: 0 | M57: =L57*2000 -> 0 | P57: 0 | Q57: =P57*2000 -> 0 | T57: 0 | U57: =T57*2000 -> 0 | X57: 0 | Y57: =X57*2000 -> 0 | AB57: 0 | AC57: =AB57*2000 -> 0 | AF57: 0 | AG57: =AF57*2000 -> 0 | AJ57: 0 | AK57: =AJ57*2000 -> 0 | AN57: 0 | AO57: =AN57*2000 -> 0 | AR57: 0 | AS57: =AR57*2000 -> 0 | AV57: 0 | AW57: =AV57*2000 -> 0 | AZ57: 0 | BA57: =AZ57*2000 -> 0 | BD57: 0 | BE57: =BD57*2000 -> 0 | BH57: 0 | BI57: =BH57*2000 -> 0 | BL57: 0 | BM57: =BL57*2000 -> 0 | BP57: 0 | BQ57: =BP57*2000 -> 0 | BT57: 0 | BU57: =BT57*2000 -> 0 | BX57: 0 | BY57: =BX57*2000 -> 0 | CB57: 0 | CC57: =CB57*2000 -> 0 | CF57: 0 | CG57: =CF57*2000 -> 0 | CJ57: 0 | CK57: =CJ57*2000 -> 0 | CN57: 0 | CO57: =CN57*2000 -> 0 | CR57: 0 | CS57: =CR57*2000 -> 0 | CV57: 0 | CW57: =CV57*2000 -> 0 | CZ57: 0 | DA57: =CZ57*2000 -> 0 | DD57: 0 | DE57: =DD57*2000 -> 0 | DH57: 0 | DI57: =DH57*2000 -> 0 | DL57: 0 | DM57: =DL57*2000 -> 0 | DP57: 0 | DQ57: =DP57*2000 -> 0 | DT57: 0 | DU57: =DT57*2000 -> 0 | DX57: =SUM(D57,H57,L57,P57,T57,X57,AB57,AF57,AJ57,AN57,AR57,AV57,AZ57,BD57,BH57,BL57,BP57,BT57,BX57,CB57,CF57,CJ57,CN57,CR57,CV57,CZ57,DD57,DH57,DL57,DP57,DT57) -> 0 | DY57: =DX57*2000 -> 0
B58: Plat(s) Africain | D58: 0 | E58: =D58*1750 -> 0 | H58: 0 | I58: =H58*1750 -> 0 | L58: 0 | M58: =L58*1750 -> 0 | P58: 0 | Q58: =P58*1750 -> 0 | T58: 0 | U58: =T58*1750 -> 0 | X58: 0 | Y58: =X58*1750 -> 0 | AB58: 0 | AC58: =AB58*1750 -> 0 | AF58: 0 | AG58: =AF58*1750 -> 0 | AJ58: 0 | AK58: =AJ58*1750 -> 0 | AN58: 0 | AO58: =AN58*1750 -> 0 | AR58: 0 | AS58: =AR58*1750 -> 0 | AV58: 0 | AW58: =AV58*1750 -> 0 | AZ58: 0 | BA58: =AZ58*1750 -> 0 | BD58: 0 | BE58: =BD58*1750 -> 0 | BH58: 0 | BI58: =BH58*1750 -> 0 | BL58: 0 | BM58: =BL58*1750 -> 0 | BP58: 0 | BQ58: =BP58*1750 -> 0 | BT58: 0 | BU58: =BT58*1750 -> 0 | BX58: 0 | BY58: =BX58*1750 -> 0 | CB58: 0 | CC58: =CB58*1750 -> 0 | CF58: 0 | CG58: =CF58*1750 -> 0 | CJ58: 0 | CK58: =CJ58*1750 -> 0 | CN58: 0 | CO58: =CN58*1750 -> 0 | CR58: 0 | CS58: =CR58*1750 -> 0 | CV58: 0 | CW58: =CV58*1750 -> 0 | CZ58: 0 | DA58: =CZ58*1750 -> 0 | DD58: 0 | DE58: =DD58*1750 -> 0 | DH58: 0 | DI58: =DH58*1750 -> 0 | DL58: 0 | DM58: =DL58*1750 -> 0 | DP58: 0 | DQ58: =DP58*1750 -> 0 | DT58: 0 | DU58: =DT58*1750 -> 0 | DX58: =SUM(D58,H58,L58,P58,T58,X58,AB58,AF58,AJ58,AN58,AR58,AV58,AZ58,BD58,BH58,BL58,BP58,BT58,BX58,CB58,CF58,CJ58,CN58,CR58,CV58,CZ58,DD58,DH58,DL58,DP58,DT58) -> 0 | DY58: =DX58*1750 -> 0
A59: =Versements!A22 -> Nom20 | B59: Entrée(s) | C59: 42186 | D59: 0 | E59: =D59*2000 -> 0 | F59: =SUM(E59,E60,E61) -> 0 | G59: 42187 | H59: 0 | I59: =H59*2000 -> 0 | J59: =SUM(I59,I60,I61) -> 0 | K59: 42188 | L59: 0 | M59: =L59*2000 -> 0 | N59: =SUM(M59,M60,M61) -> 0 | O59: 42189 | P59: 0 | Q59: =P59*2000 -> 0 | R59: =SUM(Q59,Q60,Q61) -> 0 | S59: 42190 | T59: 0 | U59: =T59*2000 -> 0 | V59: =SUM(U59,U60,U61) -> 0 | W59: 42191 | X59: 0 | Y59: =X59*2000 -> 0 | Z59: =SUM(Y59,Y60,Y61) -> 0 | AA59: 42192 | AB59: 0 | AC59: =AB59*2000 -> 0 | AD59: =SUM(AC59,AC60,AC61) -> 0 | AE59: 42193 | AF59: 0 | AG59: =AF59*2000 -> 0 | AH59: =SUM(AG59,AG60,AG61) -> 0 | AI59: 42194 | AJ59: 0 | AK59: =AJ59*2000 -> 0 | AL59: =SUM(AK59,AK60,AK61) -> 0 | AM59: 42195 | AN59: 0 | AO59: =AN59*2000 -> 0 | AP59: =SUM(AO59,AO60,AO61) -> 0 | AQ59: 42196 | AR59: 0 | AS59: =AR59*2000 -> 0 | AT59: =SUM(AS59,AS60,AS61) -> 0 | AU59: 42197 | AV59: 0 | AW59: =AV59*2000 -> 0 | AX59: =SUM(AW59,AW60,AW61) -> 0 | AY59: 42198 | AZ59: 0 | BA59: =AZ59*2000 -> 0 | BB59: =SUM(BA59,BA60,BA61) -> 0 | BC59: 42199 | BD59: 0 | BE59: =BD59*2000 -> 0 | BF59: =SUM(BE59,BE60,BE61) -> 0 | BG59: 42200 | BH59: 0 | BI59: =BH59*2000 -> 0 | BJ59: =SUM(BI59,BI60,BI61) -> 0 | BK59: 42201 | BL59: 0 | BM59: =BL59*2000 -> 0 | BN59: =SUM(BM59,BM60,BM61) -> 0 | BO59: 42202 | BP59: 0 | BQ59: =BP59*2000 -> 0 | BR59: =SUM(BQ59,BQ60,BQ61) -> 0 | BS59: 42203 | BT59: 0 | BU59: =BT59*2000 -> 0 | BV59: =SUM(BU59,BU60,BU61) -> 0 | BW59: 42204 | BX59: 0 | BY59: =BX59*2000 -> 0 | BZ59: =SUM(BY59,BY60,BY61) -> 0 | CA59: 42205 | CB59: 0 | CC59: =CB59*2000 -> 0 | CD59: =SUM(CC59,CC60,CC61) -> 0 | CE59: 42206 | CF59: 0 | CG59: =CF59*2000 -> 0 | CH59: =SUM(CG59,CG60,CG61) -> 0 | CI59: 42207 | CJ59: 0 | CK59: =CJ59*2000 -> 0 | CL59: =SUM(CK59,CK60,CK61) -> 0 | CM59: 42208 | CN59: 0 | CO59: =CN59*2000 -> 0 | CP59: =SUM(CO59,CO60,CO61) -> 0 | CQ59: 42209 | CR59: 0 | CS59: =CR59*2000 -> 0 | CT59: =SUM(CS59,CS60,CS61) -> 0 | CU59: 42210 | CV59: 0 | CW59: =CV59*2000 -> 0 | CX59: =SUM(CW59,CW60,CW61) -> 0 | CY59: 42211 | CZ59: 0 | DA59: =CZ59*2000 -> 0 | DB59: =SUM(DA59,DA60,DA61) -> 0 | DC59: 42212 | DD59: 0 | DE59: =DD59*2000 -> 0 | DF59: =SUM(DE59,DE60,DE61) -> 0 | DG59: 42213 | DH59: 0 | DI59: =DH59*2000 -> 0 | DJ59: =SUM(DI59,DI60,DI61) -> 0 | DK59: 42214 | DL59: 0 | DM59: =DL59*2000 -> 0 | DN59: =SUM(DM59,DM60,DM61) -> 0 | DO59: 42215 | DP59: 0 | DQ59: =DP59*2000 -> 0 | DR59: =SUM(DQ59,DQ60,DQ61) -> 0 | DS59: 42216 | DT59: 0 | DU59: =DT59*2000 -> 0 | DV59: =SUM(DU59,DU60,DU61) -> 0 | DW59: 42216 | DX59: =SUM(D59,H59,L59,P59,T59,X59,AB59,AF59,AJ59,AN59,AR59,AV59,AZ59,BD59,BH59,BL59,BP59,BT59,BX59,CB59,CF59,CJ59,CN59,CR59,CV59,CZ59,DD59,DH59,DL59,DP59,DT59) -> 0 | DY59: =DX59*2000 -> 0 | DZ59: =SUM(DY59,DY60,DY61) -> 0
B60: Plat(s) Européen | D60: 0 | E60: =D60*2000 -> 0 | H60: 0 | I60: =H60*2000 -> 0 | L60: 0 | M60: =L60*2000 -> 0 | P60: 0 | Q60: =P60*2000 -> 0 | T60: 0 | U60: =T60*2000 -> 0 | X60: 0 | Y60: =X60*2000 -> 0 | AB60: 0 | AC60: =AB60*2000 -> 0 | AF60: 0 | AG60: =AF60*2000 -> 0 | AJ60: 0 | AK60: =AJ60*2000 -> 0 | AN60: 0 | AO60: =AN60*2000 -> 0 | AR60: 0 | AS60: =AR60*2000 -> 0 | AV60: 0 | AW60: =AV60*2000 -> 0 | AZ60: 0 | BA60: =AZ60*2000 -> 0 | BD60: 0 | BE60: =BD60*2000 -> 0 | BH60: 0 | BI60: =BH60*2000 -> 0 | BL60: 0 | BM60: =BL60*2000 -> 0 | BP60: 0 | BQ60: =BP60*2000 -> 0 | BT60: 0 | BU60: =BT60*2000 -> 0 | BX60: 0 | BY60: =BX60*2000 -> 0 | CB60: 0 | CC60: =CB60*2000 -> 0 | CF60: 0 | CG60: =CF60*2000 -> 0 | CJ60: 0 | CK60: =CJ60*2000 -> 0 | CN60: 0 | CO60: =CN60*2000 -> 0 | CR60: 0 | CS60: =CR60*2000 -> 0 | CV60: 0 | CW60: =CV60*2000 -> 0 | CZ60: 0 | DA60: =CZ60*2000 -> 0 | DD60: 0 | DE60: =DD60*2000 -> 0 | DH60: 0 | DI60: =DH60*2000 -> 0 | DL60: 0 | DM60: =DL60*2000 -> 0 | DP60: 0 | DQ60: =DP60*2000 -> 0 | DT60: 0 | DU60: =DT60*2000 -> 0 | DX60: =SUM(D60,H60,L60,P60,T60,X60,AB60,AF60,AJ60,AN60,AR60,AV60,AZ60,BD60,BH60,BL60,BP60,BT60,BX60,CB60,CF60,CJ60,CN60,CR60,CV60,CZ60,DD60,DH60,DL60,DP60,DT60) -> 0 | DY60: =DX60*2000 -> 0
B61: Plat(s) Africain | D61: 0 | E61: =D61*1750 -> 0 | H61: 0 | I61: =H61*1750 -> 0 | L61: 0 | M61: =L61*1750 -> 0 | P61: 0 | Q61: =P61*1750 -> 0 | T61: 0 | U61: =T61*1750 -> 0 | X61: 0 | Y61: =X61*1750 -> 0 | AB61: 0 | AC61: =AB61*1750 -> 0 | AF61: 0 | AG61: =AF61*1750 -> 0 | AJ61: 0 | AK61: =AJ61*1750 -> 0 | AN61: 0 | AO61: =AN61*1750 -> 0 | AR61: 0 | AS61: =AR61*1750 -> 0 | AV61: 0 | AW61: =AV61*1750 -> 0 | AZ61: 0 | BA61: =AZ61*1750 -> 0 | BD61: 0 | BE61: =BD61*1750 -> 0 | BH61: 0 | BI61: =BH61*1750 -> 0 | BL61: 0 | BM61: =BL61*1750 -> 0 | BP61: 0 | BQ61: =BP61*1750 -> 0 | BT61: 0 | BU61: =BT61*1750 -> 0 | BX61: 0 | BY61: =BX61*1750 -> 0 | CB61: 0 | CC61: =CB61*1750 -> 0 | CF61: 0 | CG61: =CF61*1750 -> 0 | CJ61: 0 | CK61: =CJ61*1750 -> 0 | CN61: 0 | CO61: =CN61*1750 -> 0 | CR61: 0 | CS61: =CR61*1750 -> 0 | CV61: 0 | CW61: =CV61*1750 -> 0 | CZ61: 0 | DA61: =CZ61*1750 -> 0 | DD61: 0 | DE61: =DD61*1750 -> 0 | DH61: 0 | DI61: =DH61*1750 -> 0 | DL61: 0 | DM61: =DL61*1750 -> 0 | DP61: 0 | DQ61: =DP61*1750 -> 0 | DT61: 0 | DU61: =DT61*1750 -> 0 | DX61: =SUM(D61,H61,L61,P61,T61,X61,AB61,AF61,AJ61,AN61,AR61,AV61,AZ61,BD61,BH61,BL61,BP61,BT61,BX61,CB61,CF61,CJ61,CN61,CR61,CV61,CZ61,DD61,DH61,DL61,DP61,DT61) -> 0 | DY61: =DX61*1750 -> 0
A62: =Versements!A23 -> Nom21 | B62: Entrée(s) | C62: 42186 | D62: 0 | E62: =D62*2000 -> 0 | F62: =SUM(E62,E63,E64) -> 0 | G62: 42187 | H62: 0 | I62: =H62*2000 -> 0 | J62: =SUM(I62,I63,I64) -> 0 | K62: 42188 | L62: 0 | M62: =L62*2000 -> 0 | N62: =SUM(M62,M63,M64) -> 0 | O62: 42189 | P62: 0 | Q62: =P62*2000 -> 0 | R62: =SUM(Q62,Q63,Q64) -> 0 | S62: 42190 | T62: 0 | U62: =T62*2000 -> 0 | V62: =SUM(U62,U63,U64) -> 0 | W62: 42191 | X62: 0 | Y62: =X62*2000 -> 0 | Z62: =SUM(Y62,Y63,Y64) -> 0 | AA62: 42192 | AB62: 0 | AC62: =AB62*2000 -> 0 | AD62: =SUM(AC62,AC63,AC64) -> 0 | AE62: 42193 | AF62: 0 | AG62: =AF62*2000 -> 0 | AH62: =SUM(AG62,AG63,AG64) -> 0 | AI62: 42194 | AJ62: 0 | AK62: =AJ62*2000 -> 0 | AL62: =SUM(AK62,AK63,AK64) -> 0 | AM62: 42195 | AN62: 0 | AO62: =AN62*2000 -> 0 | AP62: =SUM(AO62,AO63,AO64) -> 0 | AQ62: 42196 | AR62: 0 | AS62: =AR62*2000 -> 0 | AT62: =SUM(AS62,AS63,AS64) -> 0 | AU62: 42197 | AV62: 0 | AW62: =AV62*2000 -> 0 | AX62: =SUM(AW62,AW63,AW64) -> 0 | AY62: 42198 | AZ62: 0 | BA62: =AZ62*2000 -> 0 | BB62: =SUM(BA62,BA63,BA64) -> 0 | BC62: 42199 | BD62: 0 | BE62: =BD62*2000 -> 0 | BF62: =SUM(BE62,BE63,BE64) -> 0 | BG62: 42200 | BH62: 0 | BI62: =BH62*2000 -> 0 | BJ62: =SUM(BI62,BI63,BI64) -> 0 | BK62: 42201 | BL62: 0 | BM62: =BL62*2000 -> 0 | BN62: =SUM(BM62,BM63,BM64) -> 0 | BO62: 42202 | BP62: 0 | BQ62: =BP62*2000 -> 0 | BR62: =SUM(BQ62,BQ63,BQ64) -> 0 | BS62: 42203 | BT62: 0 | BU62: =BT62*2000 -> 0 | BV62: =SUM(BU62,BU63,BU64) -> 0 | BW62: 42204 | BX62: 0 | BY62: =BX62*2000 -> 0 | BZ62: =SUM(BY62,BY63,BY64) -> 0 | CA62: 42205 | CB62: 0 | CC62: =CB62*2000 -> 0 | CD62: =SUM(CC62,CC63,CC64) -> 0 | CE62: 42206 | CF62: 0 | CG62: =CF62*2000 -> 0 | CH62: =SUM(CG62,CG63,CG64) -> 0 | CI62: 42207 | CJ62: 0 | CK62: =CJ62*2000 -> 0 | CL62: =SUM(CK62,CK63,CK64) -> 0 | CM62: 42208 | CN62: 0 | CO62: =CN62*2000 -> 0 | CP62: =SUM(CO62,CO63,CO64) -> 0 | CQ62: 42209 | CR62: 0 | CS62: =CR62*2000 -> 0 | CT62: =SUM(CS62,CS63,CS64) -> 0 | CU62: 42210 | CV62: 0 | CW62: =CV62*2000 -> 0 | CX62: =SUM(CW62,CW63,CW64) -> 0 | CY62: 42211 | CZ62: 0 | DA62: =CZ62*2000 -> 0 | DB62: =SUM(DA62,DA63,DA64) -> 0 | DC62: 42212 | DD62: 0 | DE62: =DD62*2000 -> 0 | DF62: =SUM(DE62,DE63,DE64) -> 0 | DG62: 42213 | DH62: 0 | DI62: =DH62*2000 -> 0 | DJ62: =SUM(DI62,DI63,DI64) -> 0 | DK62: 42214 | DL62: 0 | DM62: =DL62*2000 -> 0 | DN62: =SUM(DM62,DM63,DM64) -> 0 | DO62: 42215 | DP62: 0 | DQ62: =DP62*2000 -> 0 | DR62: =SUM(DQ62,DQ63,DQ64) -> 0 | DS62: 42216 | DT62: 0 | DU62: =DT62*2000 -> 0 | DV62: =SUM(DU62,DU63,DU64) -> 0 | DW62: 42216 | DX62: =SUM(D62,H62,L62,P62,T62,X62,AB62,AF62,AJ62,AN62,AR62,AV62,AZ62,BD62,BH62,BL62,BP62,BT62,BX62,CB62,CF62,CJ62,CN62,CR62,CV62,CZ62,DD62,DH62,DL62,DP62,DT62) -> 0 | DY62: =DX62*2000 -> 0 | DZ62: =SUM(DY62,DY63,DY64) -> 0
B63: Plat(s) Européen | D63: 0 | E63: =D63*2000 -> 0 | H63: 0 | I63: =H63*2000 -> 0 | L63: 0 | M63: =L63*2000 -> 0 | P63: 0 | Q63: =P63*2000 -> 0 | T63: 0 | U63: =T63*2000 -> 0 | X63: 0 | Y63: =X63*2000 -> 0 | AB63: 0 | AC63: =AB63*2000 -> 0 | AF63: 0 | AG63: =AF63*2000 -> 0 | AJ63: 0 | AK63: =AJ63*2000 -> 0 | AN63: 0 | AO63: =AN63*2000 -> 0 | AR63: 0 | AS63: =AR63*2000 -> 0 | AV63: 0 | AW63: =AV63*2000 -> 0 | AZ63: 0 | BA63: =AZ63*2000 -> 0 | BD63: 0 | BE63: =BD63*2000 -> 0 | BH63: 0 | BI63: =BH63*2000 -> 0 | BL63: 0 | BM63: =BL63*2000 -> 0 | BP63: 0 | BQ63: =BP63*2000 -> 0 | BT63: 0 | BU63: =BT63*2000 -> 0 | BX63: 0 | BY63: =BX63*2000 -> 0 | CB63: 0 | CC63: =CB63*2000 -> 0 | CF63: 0 | CG63: =CF63*2000 -> 0 | CJ63: 0 | CK63: =CJ63*2000 -> 0 | CN63: 0 | CO63: =CN63*2000 -> 0 | CR63: 0 | CS63: =CR63*2000 -> 0 | CV63: 0 | CW63: =CV63*2000 -> 0 | CZ63: 0 | DA63: =CZ63*2000 -> 0 | DD63: 0 | DE63: =DD63*2000 -> 0 | DH63: 0 | DI63: =DH63*2000 -> 0 | DL63: 0 | DM63: =DL63*2000 -> 0 | DP63: 0 | DQ63: =DP63*2000 -> 0 | DT63: 0 | DU63: =DT63*2000 -> 0 | DX63: =SUM(D63,H63,L63,P63,T63,X63,AB63,AF63,AJ63,AN63,AR63,AV63,AZ63,BD63,BH63,BL63,BP63,BT63,BX63,CB63,CF63,CJ63,CN63,CR63,CV63,CZ63,DD63,DH63,DL63,DP63,DT63) -> 0 | DY63: =DX63*2000 -> 0
B64: Plat(s) Africain | D64: 0 | E64: =D64*1750 -> 0 | H64: 0 | I64: =H64*1750 -> 0 | L64: 0 | M64: =L64*1750 -> 0 | P64: 0 | Q64: =P64*1750 -> 0 | T64: 0 | U64: =T64*1750 -> 0 | X64: 0 | Y64: =X64*1750 -> 0 | AB64: 0 | AC64: =AB64*1750 -> 0 | AF64: 0 | AG64: =AF64*1750 -> 0 | AJ64: 0 | AK64: =AJ64*1750 -> 0 | AN64: 0 | AO64: =AN64*1750 -> 0 | AR64: 0 | AS64: =AR64*1750 -> 0 | AV64: 0 | AW64: =AV64*1750 -> 0 | AZ64: 0 | BA64: =AZ64*1750 -> 0 | BD64: 0 | BE64: =BD64*1750 -> 0 | BH64: 0 | BI64: =BH64*1750 -> 0 | BL64: 0 | BM64: =BL64*1750 -> 0 | BP64: 0 | BQ64: =BP64*1750 -> 0 | BT64: 0 | BU64: =BT64*1750 -> 0 | BX64: 0 | BY64: =BX64*1750 -> 0 | CB64: 0 | CC64: =CB64*1750 -> 0 | CF64: 0 | CG64: =CF64*1750 -> 0 | CJ64: 0 | CK64: =CJ64*1750 -> 0 | CN64: 0 | CO64: =CN64*1750 -> 0 | CR64: 0 | CS64: =CR64*1750 -> 0 | CV64: 0 | CW64: =CV64*1750 -> 0 | CZ64: 0 | DA64: =CZ64*1750 -> 0 | DD64: 0 | DE64: =DD64*1750 -> 0 | DH64: 0 | DI64: =DH64*1750 -> 0 | DL64: 0 | DM64: =DL64*1750 -> 0 | DP64: 0 | DQ64: =DP64*1750 -> 0 | DT64: 0 | DU64: =DT64*1750 -> 0 | DX64: =SUM(D64,H64,L64,P64,T64,X64,AB64,AF64,AJ64,AN64,AR64,AV64,AZ64,BD64,BH64,BL64,BP64,BT64,BX64,CB64,CF64,CJ64,CN64,CR64,CV64,CZ64,DD64,DH64,DL64,DP64,DT64) -> 0 | DY64: =DX64*1750 -> 0
A65: =Versements!A24 -> Nom22 | B65: Entrée(s) | C65: 42186 | D65: 0 | E65: =D65*2000 -> 0 | F65: =SUM(E65,E66,E67) -> 0 | G65: 42187 | H65: 0 | I65: =H65*2000 -> 0 | J65: =SUM(I65,I66,I67) -> 0 | K65: 42188 | L65: 0 | M65: =L65*2000 -> 0 | N65: =SUM(M65,M66,M67) -> 0 | O65: 42189 | P65: 0 | Q65: =P65*2000 -> 0 | R65: =SUM(Q65,Q66,Q67) -> 0 | S65: 42190 | T65: 0 | U65: =T65*2000 -> 0 | V65: =SUM(U65,U66,U67) -> 0 | W65: 42191 | X65: 0 | Y65: =X65*2000 -> 0 | Z65: =SUM(Y65,Y66,Y67) -> 0 | AA65: 42192 | AB65: 0 | AC65: =AB65*2000 -> 0 | AD65: =SUM(AC65,AC66,AC67) -> 0 | AE65: 42193 | AF65: 0 | AG65: =AF65*2000 -> 0 | AH65: =SUM(AG65,AG66,AG67) -> 0 | AI65: 42194 | AJ65: 0 | AK65: =AJ65*2000 -> 0 | AL65: =SUM(AK65,AK66,AK67) -> 0 | AM65: 42195 | AN65: 0 | AO65: =AN65*2000 -> 0 | AP65: =SUM(AO65,AO66,AO67) -> 0 | AQ65: 42196 | AR65: 0 | AS65: =AR65*2000 -> 0 | AT65: =SUM(AS65,AS66,AS67) -> 0 | AU65: 42197 | AV65: 0 | AW65: =AV65*2000 -> 0 | AX65: =SUM(AW65,AW66,AW67) -> 0 | AY65: 42198 | AZ65: 0 | BA65: =AZ65*2000 -> 0 | BB65: =SUM(BA65,BA66,BA67) -> 0 | BC65: 42199 | BD65: 0 | BE65: =BD65*2000 -> 0 | BF65: =SUM(BE65,BE66,BE67) -> 0 | BG65: 42200 | BH65: 0 | BI65: =BH65*2000 -> 0 | BJ65: =SUM(BI65,BI66,BI67) -> 0 | BK65: 42201 | BL65: 0 | BM65: =BL65*2000 -> 0 | BN65: =SUM(BM65,BM66,BM67) -> 2000 | BO65: 42202 | BP65: 0 | BQ65: =BP65*2000 -> 0 | BR65: =SUM(BQ65,BQ66,BQ67) -> 2000 | BS65: 42203 | BT65: 0 | BU65: =BT65*2000 -> 0 | BV65: =SUM(BU65,BU66,BU67) -> 0 | BW65: 42204 | BX65: 0 | BY65: =BX65*2000 -> 0 | BZ65: =SUM(BY65,BY66,BY67) -> 0 | CA65: 42205 | CB65: 0 | CC65: =CB65*2000 -> 0 | CD65: =SUM(CC65,CC66,CC67) -> 0 | CE65: 42206 | CF65: 0 | CG65: =CF65*2000 -> 0 | CH65: =SUM(CG65,CG66,CG67) -> 0 | CI65: 42207 | CJ65: 0 | CK65: =CJ65*2000 -> 0 | CL65: =SUM(CK65,CK66,CK67) -> 0 | CM65: 42208 | CN65: 0 | CO65: =CN65*2000 -> 0 | CP65: =SUM(CO65,CO66,CO67) -> 0 | CQ65: 42209 | CR65: 0 | CS65: =CR65*2000 -> 0 | CT65: =SUM(CS65,CS66,CS67) -> 0 | CU65: 42210 | CV65: 0 | CW65: =CV65*2000 -> 0 | CX65: =SUM(CW65,CW66,CW67) -> 0 | CY65: 42211 | CZ65: 0 | DA65: =CZ65*2000 -> 0 | DB65: =SUM(DA65,DA66,DA67) -> 0 | DC65: 42212 | DD65: 0 | DE65: =DD65*2000 -> 0 | DF65: =SUM(DE65,DE66,DE67) -> 0 | DG65: 42213 | DH65: 0 | DI65: =DH65*2000 -> 0 | DJ65: =SUM(DI65,DI66,DI67) -> 0 | DK65: 42214 | DL65: 0 | DM65: =DL65*2000 -> 0 | DN65: =SUM(DM65,DM66,DM67) -> 0 | DO65: 42215 | DP65: 0 | DQ65: =DP65*2000 -> 0 | DR65: =SUM(DQ65,DQ66,DQ67) -> 0 | DS65: 42216 | DT65: 0 | DU65: =DT65*2000 -> 0 | DV65: =SUM(DU65,DU66,DU67) -> 0 | DW65: 42216 | DX65: =SUM(D65,H65,L65,P65,T65,X65,AB65,AF65,AJ65,AN65,AR65,AV65,AZ65,BD65,BH65,BL65,BP65,BT65,BX65,CB65,CF65,CJ65,CN65,CR65,CV65,CZ65,DD65,DH65,DL65,DP65,DT65) -> 0 | DY65: =DX65*2000 -> 0 | DZ65: =SUM(DY65,DY66,DY67) -> 4000
B66: Plat(s) Européen | D66: 0 | E66: =D66*2000 -> 0 | H66: 0 | I66: =H66*2000 -> 0 | L66: 0 | M66: =L66*2000 -> 0 | P66: 0 | Q66: =P66*2000 -> 0 | T66: 0 | U66: =T66*2000 -> 0 | X66: 0 | Y66: =X66*2000 -> 0 | AB66: 0 | AC66: =AB66*2000 -> 0 | AF66: 0 | AG66: =AF66*2000 -> 0 | AJ66: 0 | AK66: =AJ66*2000 -> 0 | AN66: 0 | AO66: =AN66*2000 -> 0 | AR66: 0 | AS66: =AR66*2000 -> 0 | AV66: 0 | AW66: =AV66*2000 -> 0 | AZ66: 0 | BA66: =AZ66*2000 -> 0 | BD66: 0 | BE66: =BD66*2000 -> 0 | BH66: 0 | BI66: =BH66*2000 -> 0 | BL66: 1 | BM66: =BL66*2000 -> 2000 | BP66: 1 | BQ66: =BP66*2000 -> 2000 | BT66: 0 | BU66: =BT66*2000 -> 0 | BX66: 0 | BY66: =BX66*2000 -> 0 | CB66: 0 | CC66: =CB66*2000 -> 0 | CF66: 0 | CG66: =CF66*2000 -> 0 | CJ66: 0 | CK66: =CJ66*2000 -> 0 | CN66: 0 | CO66: =CN66*2000 -> 0 | CR66: 0 | CS66: =CR66*2000 -> 0 | CV66: 0 | CW66: =CV66*2000 -> 0 | CZ66: 0 | DA66: =CZ66*2000 -> 0 | DD66: 0 | DE66: =DD66*2000 -> 0 | DH66: 0 | DI66: =DH66*2000 -> 0 | DL66: 0 | DM66: =DL66*2000 -> 0 | DP66: 0 | DQ66: =DP66*2000 -> 0 | DT66: 0 | DU66: =DT66*2000 -> 0 | DX66: =SUM(D66,H66,L66,P66,T66,X66,AB66,AF66,AJ66,AN66,AR66,AV66,AZ66,BD66,BH66,BL66,BP66,BT66,BX66,CB66,CF66,CJ66,CN66,CR66,CV66,CZ66,DD66,DH66,DL66,DP66,DT66) -> 2 | DY66: =DX66*2000 -> 4000
B67: Plat(s) Africain | D67: 0 | E67: =D67*1750 -> 0 | H67: 0 | I67: =H67*1750 -> 0 | L67: 0 | M67: =L67*1750 -> 0 | P67: 0 | Q67: =P67*1750 -> 0 | T67: 0 | U67: =T67*1750 -> 0 | X67: 0 | Y67: =X67*1750 -> 0 | AB67: 0 | AC67: =AB67*1750 -> 0 | AF67: 0 | AG67: =AF67*1750 -> 0 | AJ67: 0 | AK67: =AJ67*1750 -> 0 | AN67: 0 | AO67: =AN67*1750 -> 0 | AR67: 0 | AS67: =AR67*1750 -> 0 | AV67: 0 | AW67: =AV67*1750 -> 0 | AZ67: 0 | BA67: =AZ67*1750 -> 0 | BD67: 0 | BE67: =BD67*1750 -> 0 | BH67: 0 | BI67: =BH67*1750 -> 0 | BL67: 0 | BM67: =BL67*1750 -> 0 | BP67: 0 | BQ67: =BP67*1750 -> 0 | BT67: 0 | BU67: =BT67*1750 -> 0 | BX67: 0 | BY67: =BX67*1750 -> 0 | CB67: 0 | CC67: =CB67*1750 -> 0 | CF67: 0 | CG67: =CF67*1750 -> 0 | CJ67: 0 | CK67: =CJ67*1750 -> 0 | CN67: 0 | CO67: =CN67*1750 -> 0 | CR67: 0 | CS67: =CR67*1750 -> 0 | CV67: 0 | CW67: =CV67*1750 -> 0 | CZ67: 0 | DA67: =CZ67*1750 -> 0 | DD67: 0 | DE67: =DD67*1750 -> 0 | DH67: 0 | DI67: =DH67*1750 -> 0 | DL67: 0 | DM67: =DL67*1750 -> 0 | DP67: 0 | DQ67: =DP67*1750 -> 0 | DT67: 0 | DU67: =DT67*1750 -> 0 | DX67: =SUM(D67,H67,L67,P67,T67,X67,AB67,AF67,AJ67,AN67,AR67,AV67,AZ67,BD67,BH67,BL67,BP67,BT67,BX67,CB67,CF67,CJ67,CN67,CR67,CV67,CZ67,DD67,DH67,DL67,DP67,DT67) -> 0 | DY67: =DX67*1750 -> 0
A68: =Versements!A25 -> Nom23 | B68: Entrée(s) | C68: 42186 | D68: 0 | E68: =D68*2000 -> 0 | F68: =SUM(E68,E69,E70) -> 0 | G68: 42187 | H68: 0 | I68: =H68*2000 -> 0 | J68: =SUM(I68,I69,I70) -> 0 | K68: 42188 | L68: 0 | M68: =L68*2000 -> 0 | N68: =SUM(M68,M69,M70) -> 0 | O68: 42189 | P68: 0 | Q68: =P68*2000 -> 0 | R68: =SUM(Q68,Q69,Q70) -> 0 | S68: 42190 | T68: 0 | U68: =T68*2000 -> 0 | V68: =SUM(U68,U69,U70) -> 0 | W68: 42191 | X68: 0 | Y68: =X68*2000 -> 0 | Z68: =SUM(Y68,Y69,Y70) -> 0 | AA68: 42192 | AB68: 0 | AC68: =AB68*2000 -> 0 | AD68: =SUM(AC68,AC69,AC70) -> 0 | AE68: 42193 | AF68: 0 | AG68: =AF68*2000 -> 0 | AH68: =SUM(AG68,AG69,AG70) -> 0 | AI68: 42194 | AJ68: 0 | AK68: =AJ68*2000 -> 0 | AL68: =SUM(AK68,AK69,AK70) -> 0 | AM68: 42195 | AN68: 0 | AO68: =AN68*2000 -> 0 | AP68: =SUM(AO68,AO69,AO70) -> 0 | AQ68: 42196 | AR68: 0 | AS68: =AR68*2000 -> 0 | AT68: =SUM(AS68,AS69,AS70) -> 0 | AU68: 42197 | AV68: 0 | AW68: =AV68*2000 -> 0 | AX68: =SUM(AW68,AW69,AW70) -> 0 | AY68: 42198 | AZ68: 0 | BA68: =AZ68*2000 -> 0 | BB68: =SUM(BA68,BA69,BA70) -> 2000 | BC68: 42199 | BD68: 0 | BE68: =BD68*2000 -> 0 | BF68: =SUM(BE68,BE69,BE70) -> 2000 | BG68: 42200 | BH68: 0 | BI68: =BH68*2000 -> 0 | BJ68: =SUM(BI68,BI69,BI70) -> 0 | BK68: 42201 | BL68: 0 | BM68: =BL68*2000 -> 0 | BN68: =SUM(BM68,BM69,BM70) -> 0 | BO68: 42202 | BP68: 0 | BQ68: =BP68*2000 -> 0 | BR68: =SUM(BQ68,BQ69,BQ70) -> 2000 | BS68: 42203 | BT68: 0 | BU68: =BT68*2000 -> 0 | BV68: =SUM(BU68,BU69,BU70) -> 0 | BW68: 42204 | BX68: 0 | BY68: =BX68*2000 -> 0 | BZ68: =SUM(BY68,BY69,BY70) -> 0 | CA68: 42205 | CB68: 0 | CC68: =CB68*2000 -> 0 | CD68: =SUM(CC68,CC69,CC70) -> 0 | CE68: 42206 | CF68: 0 | CG68: =CF68*2000 -> 0 | CH68: =SUM(CG68,CG69,CG70) -> 0 | CI68: 42207 | CJ68: 0 | CK68: =CJ68*2000 -> 0 | CL68: =SUM(CK68,CK69,CK70) -> 0 | CM68: 42208 | CN68: 0 | CO68: =CN68*2000 -> 0 | CP68: =SUM(CO68,CO69,CO70) -> 0 | CQ68: 42209 | CR68: 0 | CS68: =CR68*2000 -> 0 | CT68: =SUM(CS68,CS69,CS70) -> 0 | CU68: 42210 | CV68: 0 | CW68: =CV68*2000 -> 0 | CX68: =SUM(CW68,CW69,CW70) -> 0 | CY68: 42211 | CZ68: 0 | DA68: =CZ68*2000 -> 0 | DB68: =SUM(DA68,DA69,DA70) -> 0 | DC68: 42212 | DD68: 0 | DE68: =DD68*2000 -> 0 | DF68: =SUM(DE68,DE69,DE70) -> 0 | DG68: 42213 | DH68: 0 | DI68: =DH68*2000 -> 0 | DJ68: =SUM(DI68,DI69,DI70) -> 0 | DK68: 42214 | DL68: 0 | DM68: =DL68*2000 -> 0 | DN68: =SUM(DM68,DM69,DM70) -> 0 | DO68: 42215 | DP68: 0 | DQ68: =DP68*2000 -> 0 | DR68: =SUM(DQ68,DQ69,DQ70) -> 0 | DS68: 42216 | DT68: 0 | DU68: =DT68*2000 -> 0 | DV68: =SUM(DU68,DU69,DU70) -> 0 | DW68: 42216 | DX68: =SUM(D68,H68,L68,P68,T68,X68,AB68,AF68,AJ68,AN68,AR68,AV68,AZ68,BD68,BH68,BL68,BP68,BT68,BX68,CB68,CF68,CJ68,CN68,CR68,CV68,CZ68,DD68,DH68,DL68,DP68,DT68) -> 0 | DY68: =DX68*2000 -> 0 | DZ68: =SUM(DY68,DY69,DY70) -> 6000
B69: Plat(s) Européen | D69: 0 | E69: =D69*2000 -> 0 | H69: 0 | I69: =H69*2000 -> 0 | L69: 0 | M69: =L69*2000 -> 0 | P69: 0 | Q69: =P69*2000 -> 0 | T69: 0 | U69: =T69*2000 -> 0 | X69: 0 | Y69: =X69*2000 -> 0 | AB69: 0 | AC69: =AB69*2000 -> 0 | AF69: 0 | AG69: =AF69*2000 -> 0 | AJ69: 0 | AK69: =AJ69*2000 -> 0 | AN69: 0 | AO69: =AN69*2000 -> 0 | AR69: 0 | AS69: =AR69*2000 -> 0 | AV69: 0 | AW69: =AV69*2000 -> 0 | AZ69: 1 | BA69: =AZ69*2000 -> 2000 | BD69: 1 | BE69: =BD69*2000 -> 2000 | BH69: 0 | BI69: =BH69*2000 -> 0 | BL69: 0 | BM69: =BL69*2000 -> 0 | BP69: 1 | BQ69: =BP69*2000 -> 2000 | BT69: 0 | BU69: =BT69*2000 -> 0 | BX69: 0 | BY69: =BX69*2000 -> 0 | CB69: 0 | CC69: =CB69*2000 -> 0 | CF69: 0 | CG69: =CF69*2000 -> 0 | CJ69: 0 | CK69: =CJ69*2000 -> 0 | CN69: 0 | CO69: =CN69*2000 -> 0 | CR69: 0 | CS69: =CR69*2000 -> 0 | CV69: 0 | CW69: =CV69*2000 -> 0 | CZ69: 0 | DA69: =CZ69*2000 -> 0 | DD69: 0 | DE69: =DD69*2000 -> 0 | DH69: 0 | DI69: =DH69*2000 -> 0 | DL69: 0 | DM69: =DL69*2000 -> 0 | DP69: 0 | DQ69: =DP69*2000 -> 0 | DT69: 0 | DU69: =DT69*2000 -> 0 | DX69: =SUM(D69,H69,L69,P69,T69,X69,AB69,AF69,AJ69,AN69,AR69,AV69,AZ69,BD69,BH69,BL69,BP69,BT69,BX69,CB69,CF69,CJ69,CN69,CR69,CV69,CZ69,DD69,DH69,DL69,DP69,DT69) -> 3 | DY69: =DX69*2000 -> 6000
B70: Plat(s) Africain | D70: 0 | E70: =D70*1750 -> 0 | H70: 0 | I70: =H70*1750 -> 0 | L70: 0 | M70: =L70*1750 -> 0 | P70: 0 | Q70: =P70*1750 -> 0 | T70: 0 | U70: =T70*1750 -> 0 | X70: 0 | Y70: =X70*1750 -> 0 | AB70: 0 | AC70: =AB70*1750 -> 0 | AF70: 0 | AG70: =AF70*1750 -> 0 | AJ70: 0 | AK70: =AJ70*1750 -> 0 | AN70: 0 | AO70: =AN70*1750 -> 0 | AR70: 0 | AS70: =AR70*1750 -> 0 | AV70: 0 | AW70: =AV70*1750 -> 0 | AZ70: 0 | BA70: =AZ70*1750 -> 0 | BD70: 0 | BE70: =BD70*1750 -> 0 | BH70: 0 | BI70: =BH70*1750 -> 0 | BL70: 0 | BM70: =BL70*1750 -> 0 | BP70: 0 | BQ70: =BP70*1750 -> 0 | BT70: 0 | BU70: =BT70*1750 -> 0 | BX70: 0 | BY70: =BX70*1750 -> 0 | CB70: 0 | CC70: =CB70*1750 -> 0 | CF70: 0 | CG70: =CF70*1750 -> 0 | CJ70: 0 | CK70: =CJ70*1750 -> 0 | CN70: 0 | CO70: =CN70*1750 -> 0 | CR70: 0 | CS70: =CR70*1750 -> 0 | CV70: 0 | CW70: =CV70*1750 -> 0 | CZ70: 0 | DA70: =CZ70*1750 -> 0 | DD70: 0 | DE70: =DD70*1750 -> 0 | DH70: 0 | DI70: =DH70*1750 -> 0 | DL70: 0 | DM70: =DL70*1750 -> 0 | DP70: 0 | DQ70: =DP70*1750 -> 0 | DT70: 0 | DU70: =DT70*1750 -> 0 | DX70: =SUM(D70,H70,L70,P70,T70,X70,AB70,AF70,AJ70,AN70,AR70,AV70,AZ70,BD70,BH70,BL70,BP70,BT70,BX70,CB70,CF70,CJ70,CN70,CR70,CV70,CZ70,DD70,DH70,DL70,DP70,DT70) -> 0 | DY70: =DX70*1750 -> 0
A71: =Versements!A26 -> Nom24 | B71: Entrée(s) | C71: 42186 | D71: 0 | E71: =D71*2000 -> 0 | F71: =SUM(E71,E72,E73) -> 0 | G71: 42187 | H71: 0 | I71: =H71*2000 -> 0 | J71: =SUM(I71,I72,I73) -> 0 | K71: 42188 | L71: 0 | M71: =L71*2000 -> 0 | N71: =SUM(M71,M72,M73) -> 0 | O71: 42189 | P71: 0 | Q71: =P71*2000 -> 0 | R71: =SUM(Q71,Q72,Q73) -> 0 | S71: 42190 | T71: 0 | U71: =T71*2000 -> 0 | V71: =SUM(U71,U72,U73) -> 0 | W71: 42191 | X71: 0 | Y71: =X71*2000 -> 0 | Z71: =SUM(Y71,Y72,Y73) -> 0 | AA71: 42192 | AB71: 0 | AC71: =AB71*2000 -> 0 | AD71: =SUM(AC71,AC72,AC73) -> 0 | AE71: 42193 | AF71: 0 | AG71: =AF71*2000 -> 0 | AH71: =SUM(AG71,AG72,AG73) -> 0 | AI71: 42194 | AJ71: 0 | AK71: =AJ71*2000 -> 0 | AL71: =SUM(AK71,AK72,AK73) -> 0 | AM71: 42195 | AN71: 0 | AO71: =AN71*2000 -> 0 | AP71: =SUM(AO71,AO72,AO73) -> 0 | AQ71: 42196 | AR71: 0 | AS71: =AR71*2000 -> 0 | AT71: =SUM(AS71,AS72,AS73) -> 0 | AU71: 42197 | AV71: 0 | AW71: =AV71*2000 -> 0 | AX71: =SUM(AW71,AW72,AW73) -> 0 | AY71: 42198 | AZ71: 0 | BA71: =AZ71*2000 -> 0 | BB71: =SUM(BA71,BA72,BA73) -> 0 | BC71: 42199 | BD71: 0 | BE71: =BD71*2000 -> 0 | BF71: =SUM(BE71,BE72,BE73) -> 0 | BG71: 42200 | BH71: 0 | BI71: =BH71*2000 -> 0 | BJ71: =SUM(BI71,BI72,BI73) -> 0 | BK71: 42201 | BL71: 0 | BM71: =BL71*2000 -> 0 | BN71: =SUM(BM71,BM72,BM73) -> 0 | BO71: 42202 | BP71: 0 | BQ71: =BP71*2000 -> 0 | BR71: =SUM(BQ71,BQ72,BQ73) -> 0 | BS71: 42203 | BT71: 0 | BU71: =BT71*2000 -> 0 | BV71: =SUM(BU71,BU72,BU73) -> 0 | BW71: 42204 | BX71: 0 | BY71: =BX71*2000 -> 0 | BZ71: =SUM(BY71,BY72,BY73) -> 0 | CA71: 42205 | CB71: 0 | CC71: =CB71*2000 -> 0 | CD71: =SUM(CC71,CC72,CC73) -> 0 | CE71: 42206 | CF71: 0 | CG71: =CF71*2000 -> 0 | CH71: =SUM(CG71,CG72,CG73) -> 0 | CI71: 42207 | CJ71: 0 | CK71: =CJ71*2000 -> 0 | CL71: =SUM(CK71,CK72,CK73) -> 0 | CM71: 42208 | CN71: 0 | CO71: =CN71*2000 -> 0 | CP71: =SUM(CO71,CO72,CO73) -> 0 | CQ71: 42209 | CR71: 0 | CS71: =CR71*2000 -> 0 | CT71: =SUM(CS71,CS72,CS73) -> 0 | CU71: 42210 | CV71: 0 | CW71: =CV71*2000 -> 0 | CX71: =SUM(CW71,CW72,CW73) -> 0 | CY71: 42211 | CZ71: 0 | DA71: =CZ71*2000 -> 0 | DB71: =SUM(DA71,DA72,DA73) -> 0 | DC71: 42212 | DD71: 0 | DE71: =DD71*2000 -> 0 | DF71: =SUM(DE71,DE72,DE73) -> 0 | DG71: 42213 | DH71: 0 | DI71: =DH71*2000 -> 0 | DJ71: =SUM(DI71,DI72,DI73) -> 0 | DK71: 42214 | DL71: 0 | DM71: =DL71*2000 -> 0 | DN71: =SUM(DM71,DM72,DM73) -> 0 | DO71: 42215 | DP71: 0 | DQ71: =DP71*2000 -> 0 | DR71: =SUM(DQ71,DQ72,DQ73) -> 0 | DS71: 42216 | DT71: 0 | DU71: =DT71*2000 -> 0 | DV71: =SUM(DU71,DU72,DU73) -> 0 | DW71: 42216 | DX71: =SUM(D71,H71,L71,P71,T71,X71,AB71,AF71,AJ71,AN71,AR71,AV71,AZ71,BD71,BH71,BL71,BP71,BT71,BX71,CB71,CF71,CJ71,CN71,CR71,CV71,CZ71,DD71,DH71,DL71,DP71,DT71) -> 0 | DY71: =DX71*2000 -> 0 | DZ71: =SUM(DY71,DY72,DY73) -> 0
B72: Plat(s) Européen | D72: 0 | E72: =D72*2000 -> 0 | H72: 0 | I72: =H72*2000 -> 0 | L72: 0 | M72: =L72*2000 -> 0 | P72: 0 | Q72: =P72*2000 -> 0 | T72: 0 | U72: =T72*2000 -> 0 | X72: 0 | Y72: =X72*2000 -> 0 | AB72: 0 | AC72: =AB72*2000 -> 0 | AF72: 0 | AG72: =AF72*2000 -> 0 | AJ72: 0 | AK72: =AJ72*2000 -> 0 | AN72: 0 | AO72: =AN72*2000 -> 0 | AR72: 0 | AS72: =AR72*2000 -> 0 | AV72: 0 | AW72: =AV72*2000 -> 0 | AZ72: 0 | BA72: =AZ72*2000 -> 0 | BD72: 0 | BE72: =BD72*2000 -> 0 | BH72: 0 | BI72: =BH72*2000 -> 0 | BL72: 0 | BM72: =BL72*2000 -> 0 | BP72: 0 | BQ72: =BP72*2000 -> 0 | BT72: 0 | BU72: =BT72*2000 -> 0 | BX72: 0 | BY72: =BX72*2000 -> 0 | CB72: 0 | CC72: =CB72*2000 -> 0 | CF72: 0 | CG72: =CF72*2000 -> 0 | CJ72: 0 | CK72: =CJ72*2000 -> 0 | CN72: 0 | CO72: =CN72*2000 -> 0 | CR72: 0 | CS72: =CR72*2000 -> 0 | CV72: 0 | CW72: =CV72*2000 -> 0 | CZ72: 0 | DA72: =CZ72*2000 -> 0 | DD72: 0 | DE72: =DD72*2000 -> 0 | DH72: 0 | DI72: =DH72*2000 -> 0 | DL72: 0 | DM72: =DL72*2000 -> 0 | DP72: 0 | DQ72: =DP72*2000 -> 0 | DT72: 0 | DU72: =DT72*2000 -> 0 | DX72: =SUM(D72,H72,L72,P72,T72,X72,AB72,AF72,AJ72,AN72,AR72,AV72,AZ72,BD72,BH72,BL72,BP72,BT72,BX72,CB72,CF72,CJ72,CN72,CR72,CV72,CZ72,DD72,DH72,DL72,DP72,DT72) -> 0 | DY72: =DX72*2000 -> 0
B73: Plat(s) Africain | D73: 0 | E73: =D73*1750 -> 0 | H73: 0 | I73: =H73*1750 -> 0 | L73: 0 | M73: =L73*1750 -> 0 | P73: 0 | Q73: =P73*1750 -> 0 | T73: 0 | U73: =T73*1750 -> 0 | X73: 0 | Y73: =X73*1750 -> 0 | AB73: 0 | AC73: =AB73*1750 -> 0 | AF73: 0 | AG73: =AF73*1750 -> 0 | AJ73: 0 | AK73: =AJ73*1750 -> 0 | AN73: 0 | AO73: =AN73*1750 -> 0 | AR73: 0 | AS73: =AR73*1750 -> 0 | AV73: 0 | AW73: =AV73*1750 -> 0 | AZ73: 0 | BA73: =AZ73*1750 -> 0 | BD73: 0 | BE73: =BD73*1750 -> 0 | BH73: 0 | BI73: =BH73*1750 -> 0 | BL73: 0 | BM73: =BL73*1750 -> 0 | BP73: 0 | BQ73: =BP73*1750 -> 0 | BT73: 0 | BU73: =BT73*1750 -> 0 | BX73: 0 | BY73: =BX73*1750 -> 0 | CB73: 0 | CC73: =CB73*1750 -> 0 | CF73: 0 | CG73: =CF73*1750 -> 0 | CJ73: 0 | CK73: =CJ73*1750 -> 0 | CN73: 0 | CO73: =CN73*1750 -> 0 | CR73: 0 | CS73: =CR73*1750 -> 0 | CV73: 0 | CW73: =CV73*1750 -> 0 | CZ73: 0 | DA73: =CZ73*1750 -> 0 | DD73: 0 | DE73: =DD73*1750 -> 0 | DH73: 0 | DI73: =DH73*1750 -> 0 | DL73: 0 | DM73: =DL73*1750 -> 0 | DP73: 0 | DQ73: =DP73*1750 -> 0 | DT73: 0 | DU73: =DT73*1750 -> 0 | DX73: =SUM(D73,H73,L73,P73,T73,X73,AB73,AF73,AJ73,AN73,AR73,AV73,AZ73,BD73,BH73,BL73,BP73,BT73,BX73,CB73,CF73,CJ73,CN73,CR73,CV73,CZ73,DD73,DH73,DL73,DP73,DT73) -> 0 | DY73: =DX73*1750 -> 0
A74: =Versements!A27 -> Nom25 | B74: Entrée(s) | C74: 42186 | D74: 0 | E74: =D74*2000 -> 0 | F74: =SUM(E74,E75,E76) -> 0 | G74: 42187 | H74: 0 | I74: =H74*2000 -> 0 | J74: =SUM(I74,I75,I76) -> 0 | K74: 42188 | L74: 0 | M74: =L74*2000 -> 0 | N74: =SUM(M74,M75,M76) -> 0 | O74: 42189 | P74: 0 | Q74: =P74*2000 -> 0 | R74: =SUM(Q74,Q75,Q76) -> 0 | S74: 42190 | T74: 0 | U74: =T74*2000 -> 0 | V74: =SUM(U74,U75,U76) -> 0 | W74: 42191 | X74: 0 | Y74: =X74*2000 -> 0 | Z74: =SUM(Y74,Y75,Y76) -> 0 | AA74: 42192 | AB74: 0 | AC74: =AB74*2000 -> 0 | AD74: =SUM(AC74,AC75,AC76) -> 0 | AE74: 42193 | AF74: 0 | AG74: =AF74*2000 -> 0 | AH74: =SUM(AG74,AG75,AG76) -> 0 | AI74: 42194 | AJ74: 0 | AK74: =AJ74*2000 -> 0 | AL74: =SUM(AK74,AK75,AK76) -> 0 | AM74: 42195 | AN74: 0 | AO74: =AN74*2000 -> 0 | AP74: =SUM(AO74,AO75,AO76) -> 0 | AQ74: 42196 | AR74: 0 | AS74: =AR74*2000 -> 0 | AT74: =SUM(AS74,AS75,AS76) -> 0 | AU74: 42197 | AV74: 0 | AW74: =AV74*2000 -> 0 | AX74: =SUM(AW74,AW75,AW76) -> 0 | AY74: 42198 | AZ74: 0 | BA74: =AZ74*2000 -> 0 | BB74: =SUM(BA74,BA75,BA76) -> 0 | BC74: 42199 | BD74: 0 | BE74: =BD74*2000 -> 0 | BF74: =SUM(BE74,BE75,BE76) -> 0 | BG74: 42200 | BH74: 0 | BI74: =BH74*2000 -> 0 | BJ74: =SUM(BI74,BI75,BI76) -> 0 | BK74: 42201 | BL74: 0 | BM74: =BL74*2000 -> 0 | BN74: =SUM(BM74,BM75,BM76) -> 0 | BO74: 42202 | BP74: 0 | BQ74: =BP74*2000 -> 0 | BR74: =SUM(BQ74,BQ75,BQ76) -> 0 | BS74: 42203 | BT74: 0 | BU74: =BT74*2000 -> 0 | BV74: =SUM(BU74,BU75,BU76) -> 0 | BW74: 42204 | BX74: 0 | BY74: =BX74*2000 -> 0 | BZ74: =SUM(BY74,BY75,BY76) -> 0 | CA74: 42205 | CB74: 0 | CC74: =CB74*2000 -> 0 | CD74: =SUM(CC74,CC75,CC76) -> 0 | CE74: 42206 | CF74: 0 | CG74: =CF74*2000 -> 0 | CH74: =SUM(CG74,CG75,CG76) -> 0 | CI74: 42207 | CJ74: 0 | CK74: =CJ74*2000 -> 0 | CL74: =SUM(CK74,CK75,CK76) -> 0 | CM74: 42208 | CN74: 0 | CO74: =CN74*2000 -> 0 | CP74: =SUM(CO74,CO75,CO76) -> 0 | CQ74: 42209 | CR74: 0 | CS74: =CR74*2000 -> 0 | CT74: =SUM(CS74,CS75,CS76) -> 0 | CU74: 42210 | CV74: 0 | CW74: =CV74*2000 -> 0 | CX74: =SUM(CW74,CW75,CW76) -> 0 | CY74: 42211 | CZ74: 0 | DA74: =CZ74*2000 -> 0 | DB74: =SUM(DA74,DA75,DA76) -> 0 | DC74: 42212 | DD74: 0 | DE74: =DD74*2000 -> 0 | DF74: =SUM(DE74,DE75,DE76) -> 0 | DG74: 42213 | DH74: 0 | DI74: =DH74*2000 -> 0 | DJ74: =SUM(DI74,DI75,DI76) -> 0 | DK74: 42214 | DL74: 0 | DM74: =DL74*2000 -> 0 | DN74: =SUM(DM74,DM75,DM76) -> 0 | DO74: 42215 | DP74: 0 | DQ74: =DP74*2000 -> 0 | DR74: =SUM(DQ74,DQ75,DQ76) -> 0 | DS74: 42216 | DT74: 0 | DU74: =DT74*2000 -> 0 | DV74: =SUM(DU74,DU75,DU76) -> 0 | DW74: 42216 | DX74: =SUM(D74,H74,L74,P74,T74,X74,AB74,AF74,AJ74,AN74,AR74,AV74,AZ74,BD74,BH74,BL74,BP74,BT74,BX74,CB74,CF74,CJ74,CN74,CR74,CV74,CZ74,DD74,DH74,DL74,DP74,DT74) -> 0 | DY74: =DX74*2000 -> 0 | DZ74: =SUM(DY74,DY75,DY76) -> 0
B75: Plat(s) Européen | D75: 0 | E75: =D75*2000 -> 0 | H75: 0 | I75: =H75*2000 -> 0 | L75: 0 | M75: =L75*2000 -> 0 | P75: 0 | Q75: =P75*2000 -> 0 | T75: 0 | U75: =T75*2000 -> 0 | X75: 0 | Y75: =X75*2000 -> 0 | AB75: 0 | AC75: =AB75*2000 -> 0 | AF75: 0 | AG75: =AF75*2000 -> 0 | AJ75: 0 | AK75: =AJ75*2000 -> 0 | AN75: 0 | AO75: =AN75*2000 -> 0 | AR75: 0 | AS75: =AR75*2000 -> 0 | AV75: 0 | AW75: =AV75*2000 -> 0 | AZ75: 0 | BA75: =AZ75*2000 -> 0 | BD75: 0 | BE75: =BD75*2000 -> 0 | BH75: 0 | BI75: =BH75*2000 -> 0 | BL75: 0 | BM75: =BL75*2000 -> 0 | BP75: 0 | BQ75: =BP75*2000 -> 0 | BT75: 0 | BU75: =BT75*2000 -> 0 | BX75: 0 | BY75: =BX75*2000 -> 0 | CB75: 0 | CC75: =CB75*2000 -> 0 | CF75: 0 | CG75: =CF75*2000 -> 0 | CJ75: 0 | CK75: =CJ75*2000 -> 0 | CN75: 0 | CO75: =CN75*2000 -> 0 | CR75: 0 | CS75: =CR75*2000 -> 0 | CV75: 0 | CW75: =CV75*2000 -> 0 | CZ75: 0 | DA75: =CZ75*2000 -> 0 | DD75: 0 | DE75: =DD75*2000 -> 0 | DH75: 0 | DI75: =DH75*2000 -> 0 | DL75: 0 | DM75: =DL75*2000 -> 0 | DP75: 0 | DQ75: =DP75*2000 -> 0 | DT75: 0 | DU75: =DT75*2000 -> 0 | DX75: =SUM(D75,H75,L75,P75,T75,X75,AB75,AF75,AJ75,AN75,AR75,AV75,AZ75,BD75,BH75,BL75,BP75,BT75,BX75,CB75,CF75,CJ75,CN75,CR75,CV75,CZ75,DD75,DH75,DL75,DP75,DT75) -> 0 | DY75: =DX75*2000 -> 0
B76: Plat(s) Africain | D76: 0 | E76: =D76*1750 -> 0 | H76: 0 | I76: =H76*1750 -> 0 | L76: 0 | M76: =L76*1750 -> 0 | P76: 0 | Q76: =P76*1750 -> 0 | T76: 0 | U76: =T76*1750 -> 0 | X76: 0 | Y76: =X76*1750 -> 0 | AB76: 0 | AC76: =AB76*1750 -> 0 | AF76: 0 | AG76: =AF76*1750 -> 0 | AJ76: 0 | AK76: =AJ76*1750 -> 0 | AN76: 0 | AO76: =AN76*1750 -> 0 | AR76: 0 | AS76: =AR76*1750 -> 0 | AV76: 0 | AW76: =AV76*1750 -> 0 | AZ76: 0 | BA76: =AZ76*1750 -> 0 | BD76: 0 | BE76: =BD76*1750 -> 0 | BH76: 0 | BI76: =BH76*1750 -> 0 | BL76: 0 | BM76: =BL76*1750 -> 0 | BP76: 0 | BQ76: =BP76*1750 -> 0 | BT76: 0 | BU76: =BT76*1750 -> 0 | BX76: 0 | BY76: =BX76*1750 -> 0 | CB76: 0 | CC76: =CB76*1750 -> 0 | CF76: 0 | CG76: =CF76*1750 -> 0 | CJ76: 0 | CK76: =CJ76*1750 -> 0 | CN76: 0 | CO76: =CN76*1750 -> 0 | CR76: 0 | CS76: =CR76*1750 -> 0 | CV76: 0 | CW76: =CV76*1750 -> 0 | CZ76: 0 | DA76: =CZ76*1750 -> 0 | DD76: 0 | DE76: =DD76*1750 -> 0 | DH76: 0 | DI76: =DH76*1750 -> 0 | DL76: 0 | DM76: =DL76*1750 -> 0 | DP76: 0 | DQ76: =DP76*1750 -> 0 | DT76: 0 | DU76: =DT76*1750 -> 0 | DX76: =SUM(D76,H76,L76,P76,T76,X76,AB76,AF76,AJ76,AN76,AR76,AV76,AZ76,BD76,BH76,BL76,BP76,BT76,BX76,CB76,CF76,CJ76,CN76,CR76,CV76,CZ76,DD76,DH76,DL76,DP76,DT76) -> 0 | DY76: =DX76*1750 -> 0
A77: =Versements!A28 -> Nom26 | B77: Entrée(s) | C77: 42186 | D77: 0 | E77: =D77*2000 -> 0 | F77: =SUM(E77,E78,E79) -> 0 | G77: 42187 | H77: 0 | I77: =H77*2000 -> 0 | J77: =SUM(I77,I78,I79) -> 0 | K77: 42188 | L77: 0 | M77: =L77*2000 -> 0 | N77: =SUM(M77,M78,M79) -> 0 | O77: 42189 | P77: 0 | Q77: =P77*2000 -> 0 | R77: =SUM(Q77,Q78,Q79) -> 0 | S77: 42190 | T77: 0 | U77: =T77*2000 -> 0 | V77: =SUM(U77,U78,U79) -> 0 | W77: 42191 | X77: 0 | Y77: =X77*2000 -> 0 | Z77: =SUM(Y77,Y78,Y79) -> 0 | AA77: 42192 | AB77: 0 | AC77: =AB77*2000 -> 0 | AD77: =SUM(AC77,AC78,AC79) -> 0 | AE77: 42193 | AF77: 0 | AG77: =AF77*2000 -> 0 | AH77: =SUM(AG77,AG78,AG79) -> 0 | AI77: 42194 | AJ77: 0 | AK77: =AJ77*2000 -> 0 | AL77: =SUM(AK77,AK78,AK79) -> 0 | AM77: 42195 | AN77: 0 | AO77: =AN77*2000 -> 0 | AP77: =SUM(AO77,AO78,AO79) -> 0 | AQ77: 42196 | AR77: 0 | AS77: =AR77*2000 -> 0 | AT77: =SUM(AS77,AS78,AS79) -> 0 | AU77: 42197 | AV77: 0 | AW77: =AV77*2000 -> 0 | AX77: =SUM(AW77,AW78,AW79) -> 0 | AY77: 42198 | AZ77: 0 | BA77: =AZ77*2000 -> 0 | BB77: =SUM(BA77,BA78,BA79) -> 0 | BC77: 42199 | BD77: 0 | BE77: =BD77*2000 -> 0 | BF77: =SUM(BE77,BE78,BE79) -> 0 | BG77: 42200 | BH77: 0 | BI77: =BH77*2000 -> 0 | BJ77: =SUM(BI77,BI78,BI79) -> 0 | BK77: 42201 | BL77: 0 | BM77: =BL77*2000 -> 0 | BN77: =SUM(BM77,BM78,BM79) -> 0 | BO77: 42202 | BP77: 0 | BQ77: =BP77*2000 -> 0 | BR77: =SUM(BQ77,BQ78,BQ79) -> 0 | BS77: 42203 | BT77: 0 | BU77: =BT77*2000 -> 0 | BV77: =SUM(BU77,BU78,BU79) -> 0 | BW77: 42204 | BX77: 0 | BY77: =BX77*2000 -> 0 | BZ77: =SUM(BY77,BY78,BY79) -> 0 | CA77: 42205 | CB77: 0 | CC77: =CB77*2000 -> 0 | CD77: =SUM(CC77,CC78,CC79) -> 0 | CE77: 42206 | CF77: 0 | CG77: =CF77*2000 -> 0 | CH77: =SUM(CG77,CG78,CG79) -> 0 | CI77: 42207 | CJ77: 0 | CK77: =CJ77*2000 -> 0 | CL77: =SUM(CK77,CK78,CK79) -> 0 | CM77: 42208 | CN77: 0 | CO77: =CN77*2000 -> 0 | CP77: =SUM(CO77,CO78,CO79) -> 0 | CQ77: 42209 | CR77: 0 | CS77: =CR77*2000 -> 0 | CT77: =SUM(CS77,CS78,CS79) -> 0 | CU77: 42210 | CV77: 0 | CW77: =CV77*2000 -> 0 | CX77: =SUM(CW77,CW78,CW79) -> 0 | CY77: 42211 | CZ77: 0 | DA77: =CZ77*2000 -> 0 | DB77: =SUM(DA77,DA78,DA79) -> 0 | DC77: 42212 | DD77: 0 | DE77: =DD77*2000 -> 0 | DF77: =SUM(DE77,DE78,DE79) -> 0 | DG77: 42213 | DH77: 0 | DI77: =DH77*2000 -> 0 | DJ77: =SUM(DI77,DI78,DI79) -> 0 | DK77: 42214 | DL77: 0 | DM77: =DL77*2000 -> 0 | DN77: =SUM(DM77,DM78,DM79) -> 0 | DO77: 42215 | DP77: 0 | DQ77: =DP77*2000 -> 0 | DR77: =SUM(DQ77,DQ78,DQ79) -> 0 | DS77: 42216 | DT77: 0 | DU77: =DT77*2000 -> 0 | DV77: =SUM(DU77,DU78,DU79) -> 0 | DW77: 42216 | DX77: =SUM(D77,H77,L77,P77,T77,X77,AB77,AF77,AJ77,AN77,AR77,AV77,AZ77,BD77,BH77,BL77,BP77,BT77,BX77,CB77,CF77,CJ77,CN77,CR77,CV77,CZ77,DD77,DH77,DL77,DP77,DT77) -> 0 | DY77: =DX77*2000 -> 0 | DZ77: =SUM(DY77,DY78,DY79) -> 0
B78: Plat(s) Européen | D78: 0 | E78: =D78*2000 -> 0 | H78: 0 | I78: =H78*2000 -> 0 | L78: 0 | M78: =L78*2000 -> 0 | P78: 0 | Q78: =P78*2000 -> 0 | T78: 0 | U78: =T78*2000 -> 0 | X78: 0 | Y78: =X78*2000 -> 0 | AB78: 0 | AC78: =AB78*2000 -> 0 | AF78: 0 | AG78: =AF78*2000 -> 0 | AJ78: 0 | AK78: =AJ78*2000 -> 0 | AN78: 0 | AO78: =AN78*2000 -> 0 | AR78: 0 | AS78: =AR78*2000 -> 0 | AV78: 0 | AW78: =AV78*2000 -> 0 | AZ78: 0 | BA78: =AZ78*2000 -> 0 | BD78: 0 | BE78: =BD78*2000 -> 0 | BH78: 0 | BI78: =BH78*2000 -> 0 | BL78: 0 | BM78: =BL78*2000 -> 0 | BP78: 0 | BQ78: =BP78*2000 -> 0 | BT78: 0 | BU78: =BT78*2000 -> 0 | BX78: 0 | BY78: =BX78*2000 -> 0 | CB78: 0 | CC78: =CB78*2000 -> 0 | CF78: 0 | CG78: =CF78*2000 -> 0 | CJ78: 0 | CK78: =CJ78*2000 -> 0 | CN78: 0 | CO78: =CN78*2000 -> 0 | CR78: 0 | CS78: =CR78*2000 -> 0 | CV78: 0 | CW78: =CV78*2000 -> 0 | CZ78: 0 | DA78: =CZ78*2000 -> 0 | DD78: 0 | DE78: =DD78*2000 -> 0 | DH78: 0 | DI78: =DH78*2000 -> 0 | DL78: 0 | DM78: =DL78*2000 -> 0 | DP78: 0 | DQ78: =DP78*2000 -> 0 | DT78: 0 | DU78: =DT78*2000 -> 0 | DX78: =SUM(D78,H78,L78,P78,T78,X78,AB78,AF78,AJ78,AN78,AR78,AV78,AZ78,BD78,BH78,BL78,BP78,BT78,BX78,CB78,CF78,CJ78,CN78,CR78,CV78,CZ78,DD78,DH78,DL78,DP78,DT78) -> 0 | DY78: =DX78*2000 -> 0
B79: Plat(s) Africain | D79: 0 | E79: =D79*1750 -> 0 | H79: 0 | I79: =H79*1750 -> 0 | L79: 0 | M79: =L79*1750 -> 0 | P79: 0 | Q79: =P79*1750 -> 0 | T79: 0 | U79: =T79*1750 -> 0 | X79: 0 | Y79: =X79*1750 -> 0 | AB79: 0 | AC79: =AB79*1750 -> 0 | AF79: 0 | AG79: =AF79*1750 -> 0 | AJ79: 0 | AK79: =AJ79*1750 -> 0 | AN79: 0 | AO79: =AN79*1750 -> 0 | AR79: 0 | AS79: =AR79*1750 -> 0 | AV79: 0 | AW79: =AV79*1750 -> 0 | AZ79: 0 | BA79: =AZ79*1750 -> 0 | BD79: 0 | BE79: =BD79*1750 -> 0 | BH79: 0 | BI79: =BH79*1750 -> 0 | BL79: 0 | BM79: =BL79*1750 -> 0 | BP79: 0 | BQ79: =BP79*1750 -> 0 | BT79: 0 | BU79: =BT79*1750 -> 0 | BX79: 0 | BY79: =BX79*1750 -> 0 | CB79: 0 | CC79: =CB79*1750 -> 0 | CF79: 0 | CG79: =CF79*1750 -> 0 | CJ79: 0 | CK79: =CJ79*1750 -> 0 | CN79: 0 | CO79: =CN79*1750 -> 0 | CR79: 0 | CS79: =CR79*1750 -> 0 | CV79: 0 | CW79: =CV79*1750 -> 0 | CZ79: 0 | DA79: =CZ79*1750 -> 0 | DD79: 0 | DE79: =DD79*1750 -> 0 | DH79: 0 | DI79: =DH79*1750 -> 0 | DL79: 0 | DM79: =DL79*1750 -> 0 | DP79: 0 | DQ79: =DP79*1750 -> 0 | DT79: 0 | DU79: =DT79*1750 -> 0 | DX79: =SUM(D79,H79,L79,P79,T79,X79,AB79,AF79,AJ79,AN79,AR79,AV79,AZ79,BD79,BH79,BL79,BP79,BT79,BX79,CB79,CF79,CJ79,CN79,CR79,CV79,CZ79,DD79,DH79,DL79,DP79,DT79) -> 0 | DY79: =DX79*1750 -> 0
A80: =Versements!A29 -> Nom27 | B80: Entrée(s) | C80: 42186 | D80: 0 | E80: =D80*2000 -> 0 | F80: =SUM(E80,E81,E82) -> 0 | G80: 42187 | H80: 0 | I80: =H80*2000 -> 0 | J80: =SUM(I80,I81,I82) -> 0 | K80: 42188 | L80: 0 | M80: =L80*2000 -> 0 | N80: =SUM(M80,M81,M82) -> 0 | O80: 42189 | P80: 0 | Q80: =P80*2000 -> 0 | R80: =SUM(Q80,Q81,Q82) -> 0 | S80: 42190 | T80: 0 | U80: =T80*2000 -> 0 | V80: =SUM(U80,U81,U82) -> 0 | W80: 42191 | X80: 0 | Y80: =X80*2000 -> 0 | Z80: =SUM(Y80,Y81,Y82) -> 0 | AA80: 42192 | AB80: 0 | AC80: =AB80*2000 -> 0 | AD80: =SUM(AC80,AC81,AC82) -> 0 | AE80: 42193 | AF80: 0 | AG80: =AF80*2000 -> 0 | AH80: =SUM(AG80,AG81,AG82) -> 0 | AI80: 42194 | AJ80: 0 | AK80: =AJ80*2000 -> 0 | AL80: =SUM(AK80,AK81,AK82) -> 0 | AM80: 42195 | AN80: 0 | AO80: =AN80*2000 -> 0 | AP80: =SUM(AO80,AO81,AO82) -> 0 | AQ80: 42196 | AR80: 0 | AS80: =AR80*2000 -> 0 | AT80: =SUM(AS80,AS81,AS82) -> 0 | AU80: 42197 | AV80: 0 | AW80: =AV80*2000 -> 0 | AX80: =SUM(AW80,AW81,AW82) -> 0 | AY80: 42198 | AZ80: 0 | BA80: =AZ80*2000 -> 0 | BB80: =SUM(BA80,BA81,BA82) -> 0 | BC80: 42199 | BD80: 0 | BE80: =BD80*2000 -> 0 | BF80: =SUM(BE80,BE81,BE82) -> 1750 | BG80: 42200 | BH80: 0 | BI80: =BH80*2000 -> 0 | BJ80: =SUM(BI80,BI81,BI82) -> 0 | BK80: 42201 | BL80: 0 | BM80: =BL80*2000 -> 0 | BN80: =SUM(BM80,BM81,BM82) -> 1750 | BO80: 42202 | BP80: 0 | BQ80: =BP80*2000 -> 0 | BR80: =SUM(BQ80,BQ81,BQ82) -> 2000 | BS80: 42203 | BT80: 0 | BU80: =BT80*2000 -> 0 | BV80: =SUM(BU80,BU81,BU82) -> 0 | BW80: 42204 | BX80: 0 | BY80: =BX80*2000 -> 0 | BZ80: =SUM(BY80,BY81,BY82) -> 0 | CA80: 42205 | CB80: 0 | CC80: =CB80*2000 -> 0 | CD80: =SUM(CC80,CC81,CC82) -> 0 | CE80: 42206 | CF80: 0 | CG80: =CF80*2000 -> 0 | CH80: =SUM(CG80,CG81,CG82) -> 0 | CI80: 42207 | CJ80: 0 | CK80: =CJ80*2000 -> 0 | CL80: =SUM(CK80,CK81,CK82) -> 0 | CM80: 42208 | CN80: 0 | CO80: =CN80*2000 -> 0 | CP80: =SUM(CO80,CO81,CO82) -> 0 | CQ80: 42209 | CR80: 0 | CS80: =CR80*2000 -> 0 | CT80: =SUM(CS80,CS81,CS82) -> 0 | CU80: 42210 | CV80: 0 | CW80: =CV80*2000 -> 0 | CX80: =SUM(CW80,CW81,CW82) -> 0 | CY80: 42211 | CZ80: 0 | DA80: =CZ80*2000 -> 0 | DB80: =SUM(DA80,DA81,DA82) -> 0 | DC80: 42212 | DD80: 0 | DE80: =DD80*2000 -> 0 | DF80: =SUM(DE80,DE81,DE82) -> 0 | DG80: 42213 | DH80: 0 | DI80: =DH80*2000 -> 0 | DJ80: =SUM(DI80,DI81,DI82) -> 0 | DK80: 42214 | DL80: 0 | DM80: =DL80*2000 -> 0 | DN80: =SUM(DM80,DM81,DM82) -> 0 | DO80: 42215 | DP80: 0 | DQ80: =DP80*2000 -> 0 | DR80: =SUM(DQ80,DQ81,DQ82) -> 0 | DS80: 42216 | DT80: 0 | DU80: =DT80*2000 -> 0 | DV80: =SUM(DU80,DU81,DU82) -> 0 | DW80: 42216 | DX80: =SUM(D80,H80,L80,P80,T80,X80,AB80,AF80,AJ80,AN80,AR80,AV80,AZ80,BD80,BH80,BL80,BP80,BT80,BX80,CB80,CF80,CJ80,CN80,CR80,CV80,CZ80,DD80,DH80,DL80,DP80,DT80) -> 0 | DY80: =DX80*2000 -> 0 | DZ80: =SUM(DY80,DY81,DY82) -> 5500
B81: Plat(s) Européen | D81: 0 | E81: =D81*2000 -> 0 | H81: 0 | I81: =H81*2000 -> 0 | L81: 0 | M81: =L81*2000 -> 0 | P81: 0 | Q81: =P81*2000 -> 0 | T81: 0 | U81: =T81*2000 -> 0 | X81: 0 | Y81: =X81*2000 -> 0 | AB81: 0 | AC81: =AB81*2000 -> 0 | AF81: 0 | AG81: =AF81*2000 -> 0 | AJ81: 0 | AK81: =AJ81*2000 -> 0 | AN81: 0 | AO81: =AN81*2000 -> 0 | AR81: 0 | AS81: =AR81*2000 -> 0 | AV81: 0 | AW81: =AV81*2000 -> 0 | AZ81: 0 | BA81: =AZ81*2000 -> 0 | BD81: 0 | BE81: =BD81*2000 -> 0 | BH81: 0 | BI81: =BH81*2000 -> 0 | BL81: 0 | BM81: =BL81*2000 -> 0 | BP81: 1 | BQ81: =BP81*2000 -> 2000 | BT81: 0 | BU81: =BT81*2000 -> 0 | BX81: 0 | BY81: =BX81*2000 -> 0 | CB81: 0 | CC81: =CB81*2000 -> 0 | CF81: 0 | CG81: =CF81*2000 -> 0 | CJ81: 0 | CK81: =CJ81*2000 -> 0 | CN81: 0 | CO81: =CN81*2000 -> 0 | CR81: 0 | CS81: =CR81*2000 -> 0 | CV81: 0 | CW81: =CV81*2000 -> 0 | CZ81: 0 | DA81: =CZ81*2000 -> 0 | DD81: 0 | DE81: =DD81*2000 -> 0 | DH81: 0 | DI81: =DH81*2000 -> 0 | DL81: 0 | DM81: =DL81*2000 -> 0 | DP81: 0 | DQ81: =DP81*2000 -> 0 | DT81: 0 | DU81: =DT81*2000 -> 0 | DX81: =SUM(D81,H81,L81,P81,T81,X81,AB81,AF81,AJ81,AN81,AR81,AV81,AZ81,BD81,BH81,BL81,BP81,BT81,BX81,CB81,CF81,CJ81,CN81,CR81,CV81,CZ81,DD81,DH81,DL81,DP81,DT81) -> 1 | DY81: =DX81*2000 -> 2000
B82: Plat(s) Africain | D82: 0 | E82: =D82*1750 -> 0 | H82: 0 | I82: =H82*1750 -> 0 | L82: 0 | M82: =L82*1750 -> 0 | P82: 0 | Q82: =P82*1750 -> 0 | T82: 0 | U82: =T82*1750 -> 0 | X82: 0 | Y82: =X82*1750 -> 0 | AB82: 0 | AC82: =AB82*1750 -> 0 | AF82: 0 | AG82: =AF82*1750 -> 0 | AJ82: 0 | AK82: =AJ82*1750 -> 0 | AN82: 0 | AO82: =AN82*1750 -> 0 | AR82: 0 | AS82: =AR82*1750 -> 0 | AV82: 0 | AW82: =AV82*1750 -> 0 | AZ82: 0 | BA82: =AZ82*1750 -> 0 | BD82: 1 | BE82: =BD82*1750 -> 1750 | BH82: 0 | BI82: =BH82*1750 -> 0 | BL82: 1 | BM82: =BL82*1750 -> 1750 | BP82: 0 | BQ82: =BP82*1750 -> 0 | BT82: 0 | BU82: =BT82*1750 -> 0 | BX82: 0 | BY82: =BX82*1750 -> 0 | CB82: 0 | CC82: =CB82*1750 -> 0 | CF82: 0 | CG82: =CF82*1750 -> 0 | CJ82: 0 | CK82: =CJ82*1750 -> 0 | CN82: 0 | CO82: =CN82*1750 -> 0 | CR82: 0 | CS82: =CR82*1750 -> 0 | CV82: 0 | CW82: =CV82*1750 -> 0 | CZ82: 0 | DA82: =CZ82*1750 -> 0 | DD82: 0 | DE82: =DD82*1750 -> 0 | DH82: 0 | DI82: =DH82*1750 -> 0 | DL82: 0 | DM82: =DL82*1750 -> 0 | DP82: 0 | DQ82: =DP82*1750 -> 0 | DT82: 0 | DU82: =DT82*1750 -> 0 | DX82: =SUM(D82,H82,L82,P82,T82,X82,AB82,AF82,AJ82,AN82,AR82,AV82,AZ82,BD82,BH82,BL82,BP82,BT82,BX82,CB82,CF82,CJ82,CN82,CR82,CV82,CZ82,DD82,DH82,DL82,DP82,DT82) -> 2 | DY82: =DX82*1750 -> 3500
A83: =Versements!A30 -> Nom28 | B83: Entrée(s) | C83: 42186 | D83: 0 | E83: =D83*2000 -> 0 | F83: =SUM(E83,E84,E85) -> 0 | G83: 42187 | H83: 0 | I83: =H83*2000 -> 0 | J83: =SUM(I83,I84,I85) -> 0 | K83: 42188 | L83: 0 | M83: =L83*2000 -> 0 | N83: =SUM(M83,M84,M85) -> 0 | O83: 42189 | P83: 0 | Q83: =P83*2000 -> 0 | R83: =SUM(Q83,Q84,Q85) -> 0 | S83: 42190 | T83: 0 | U83: =T83*2000 -> 0 | V83: =SUM(U83,U84,U85) -> 0 | W83: 42191 | X83: 0 | Y83: =X83*2000 -> 0 | Z83: =SUM(Y83,Y84,Y85) -> 0 | AA83: 42192 | AB83: 0 | AC83: =AB83*2000 -> 0 | AD83: =SUM(AC83,AC84,AC85) -> 0 | AE83: 42193 | AF83: 0 | AG83: =AF83*2000 -> 0 | AH83: =SUM(AG83,AG84,AG85) -> 0 | AI83: 42194 | AJ83: 0 | AK83: =AJ83*2000 -> 0 | AL83: =SUM(AK83,AK84,AK85) -> 0 | AM83: 42195 | AN83: 0 | AO83: =AN83*2000 -> 0 | AP83: =SUM(AO83,AO84,AO85) -> 0 | AQ83: 42196 | AR83: 0 | AS83: =AR83*2000 -> 0 | AT83: =SUM(AS83,AS84,AS85) -> 0 | AU83: 42197 | AV83: 0 | AW83: =AV83*2000 -> 0 | AX83: =SUM(AW83,AW84,AW85) -> 0 | AY83: 42198 | AZ83: 0 | BA83: =AZ83*2000 -> 0 | BB83: =SUM(BA83,BA84,BA85) -> 0 | BC83: 42199 | BD83: 0 | BE83: =BD83*2000 -> 0 | BF83: =SUM(BE83,BE84,BE85) -> 2000 | BG83: 42200 | BH83: 0 | BI83: =BH83*2000 -> 0 | BJ83: =SUM(BI83,BI84,BI85) -> 2000 | BK83: 42201 | BL83: 0 | BM83: =BL83*2000 -> 0 | BN83: =SUM(BM83,BM84,BM85) -> 0 | BO83: 42202 | BP83: 0 | BQ83: =BP83*2000 -> 0 | BR83: =SUM(BQ83,BQ84,BQ85) -> 1750 | BS83: 42203 | BT83: 0 | BU83: =BT83*2000 -> 0 | BV83: =SUM(BU83,BU84,BU85) -> 0 | BW83: 42204 | BX83: 0 | BY83: =BX83*2000 -> 0 | BZ83: =SUM(BY83,BY84,BY85) -> 0 | CA83: 42205 | CB83: 0 | CC83: =CB83*2000 -> 0 | CD83: =SUM(CC83,CC84,CC85) -> 0 | CE83: 42206 | CF83: 0 | CG83: =CF83*2000 -> 0 | CH83: =SUM(CG83,CG84,CG85) -> 0 | CI83: 42207 | CJ83: 0 | CK83: =CJ83*2000 -> 0 | CL83: =SUM(CK83,CK84,CK85) -> 0 | CM83: 42208 | CN83: 0 | CO83: =CN83*2000 -> 0 | CP83: =SUM(CO83,CO84,CO85) -> 0 | CQ83: 42209 | CR83: 0 | CS83: =CR83*2000 -> 0 | CT83: =SUM(CS83,CS84,CS85) -> 0 | CU83: 42210 | CV83: 0 | CW83: =CV83*2000 -> 0 | CX83: =SUM(CW83,CW84,CW85) -> 0 | CY83: 42211 | CZ83: 0 | DA83: =CZ83*2000 -> 0 | DB83: =SUM(DA83,DA84,DA85) -> 0 | DC83: 42212 | DD83: 0 | DE83: =DD83*2000 -> 0 | DF83: =SUM(DE83,DE84,DE85) -> 0 | DG83: 42213 | DH83: 0 | DI83: =DH83*2000 -> 0 | DJ83: =SUM(DI83,DI84,DI85) -> 0 | DK83: 42214 | DL83: 0 | DM83: =DL83*2000 -> 0 | DN83: =SUM(DM83,DM84,DM85) -> 0 | DO83: 42215 | DP83: 0 | DQ83: =DP83*2000 -> 0 | DR83: =SUM(DQ83,DQ84,DQ85) -> 0 | DS83: 42216 | DT83: 0 | DU83: =DT83*2000 -> 0 | DV83: =SUM(DU83,DU84,DU85) -> 0 | DW83: 42216 | DX83: =SUM(D83,H83,L83,P83,T83,X83,AB83,AF83,AJ83,AN83,AR83,AV83,AZ83,BD83,BH83,BL83,BP83,BT83,BX83,CB83,CF83,CJ83,CN83,CR83,CV83,CZ83,DD83,DH83,DL83,DP83,DT83) -> 0 | DY83: =DX83*2000 -> 0 | DZ83: =SUM(DY83,DY84,DY85) -> 5750
B84: Plat(s) Européen | D84: 0 | E84: =D84*2000 -> 0 | H84: 0 | I84: =H84*2000 -> 0 | L84: 0 | M84: =L84*2000 -> 0 | P84: 0 | Q84: =P84*2000 -> 0 | T84: 0 | U84: =T84*2000 -> 0 | X84: 0 | Y84: =X84*2000 -> 0 | AB84: 0 | AC84: =AB84*2000 -> 0 | AF84: 0 | AG84: =AF84*2000 -> 0 | AJ84: 0 | AK84: =AJ84*2000 -> 0 | AN84: 0 | AO84: =AN84*2000 -> 0 | AR84: 0 | AS84: =AR84*2000 -> 0 | AV84: 0 | AW84: =AV84*2000 -> 0 | AZ84: 0 | BA84: =AZ84*2000 -> 0 | BD84: 1 | BE84: =BD84*2000 -> 2000 | BH84: 1 | BI84: =BH84*2000 -> 2000 | BL84: 0 | BM84: =BL84*2000 -> 0 | BP84: 0 | BQ84: =BP84*2000 -> 0 | BT84: 0 | BU84: =BT84*2000 -> 0 | BX84: 0 | BY84: =BX84*2000 -> 0 | CB84: 0 | CC84: =CB84*2000 -> 0 | CF84: 0 | CG84: =CF84*2000 -> 0 | CJ84: 0 | CK84: =CJ84*2000 -> 0 | CN84: 0 | CO84: =CN84*2000 -> 0 | CR84: 0 | CS84: =CR84*2000 -> 0 | CV84: 0 | CW84: =CV84*2000 -> 0 | CZ84: 0 | DA84: =CZ84*2000 -> 0 | DD84: 0 | DE84: =DD84*2000 -> 0 | DH84: 0 | DI84: =DH84*2000 -> 0 | DL84: 0 | DM84: =DL84*2000 -> 0 | DP84: 0 | DQ84: =DP84*2000 -> 0 | DT84: 0 | DU84: =DT84*2000 -> 0 | DX84: =SUM(D84,H84,L84,P84,T84,X84,AB84,AF84,AJ84,AN84,AR84,AV84,AZ84,BD84,BH84,BL84,BP84,BT84,BX84,CB84,CF84,CJ84,CN84,CR84,CV84,CZ84,DD84,DH84,DL84,DP84,DT84) -> 2 | DY84: =DX84*2000 -> 4000
B85: Plat(s) Africain | D85: 0 | E85: =D85*1750 -> 0 | H85: 0 | I85: =H85*1750 -> 0 | L85: 0 | M85: =L85*1750 -> 0 | P85: 0 | Q85: =P85*1750 -> 0 | T85: 0 | U85: =T85*1750 -> 0 | X85: 0 | Y85: =X85*1750 -> 0 | AB85: 0 | AC85: =AB85*1750 -> 0 | AF85: 0 | AG85: =AF85*1750 -> 0 | AJ85: 0 | AK85: =AJ85*1750 -> 0 | AN85: 0 | AO85: =AN85*1750 -> 0 | AR85: 0 | AS85: =AR85*1750 -> 0 | AV85: 0 | AW85: =AV85*1750 -> 0 | AZ85: 0 | BA85: =AZ85*1750 -> 0 | BD85: 0 | BE85: =BD85*1750 -> 0 | BH85: 0 | BI85: =BH85*1750 -> 0 | BL85: 0 | BM85: =BL85*1750 -> 0 | BP85: 1 | BQ85: =BP85*1750 -> 1750 | BT85: 0 | BU85: =BT85*1750 -> 0 | BX85: 0 | BY85: =BX85*1750 -> 0 | CB85: 0 | CC85: =CB85*1750 -> 0 | CF85: 0 | CG85: =CF85*1750 -> 0 | CJ85: 0 | CK85: =CJ85*1750 -> 0 | CN85: 0 | CO85: =CN85*1750 -> 0 | CR85: 0 | CS85: =CR85*1750 -> 0 | CV85: 0 | CW85: =CV85*1750 -> 0 | CZ85: 0 | DA85: =CZ85*1750 -> 0 | DD85: 0 | DE85: =DD85*1750 -> 0 | DH85: 0 | DI85: =DH85*1750 -> 0 | DL85: 0 | DM85: =DL85*1750 -> 0 | DP85: 0 | DQ85: =DP85*1750 -> 0 | DT85: 0 | DU85: =DT85*1750 -> 0 | DX85: =SUM(D85,H85,L85,P85,T85,X85,AB85,AF85,AJ85,AN85,AR85,AV85,AZ85,BD85,BH85,BL85,BP85,BT85,BX85,CB85,CF85,CJ85,CN85,CR85,CV85,CZ85,DD85,DH85,DL85,DP85,DT85) -> 1 | DY85: =DX85*1750 -> 1750
A86: =Versements!A31 -> Nom29 | B86: Entrée(s) | C86: 42186 | D86: 0 | E86: =D86*2000 -> 0 | F86: =SUM(E86,E87,E88) -> 0 | G86: 42187 | H86: 0 | I86: =H86*2000 -> 0 | J86: =SUM(I86,I87,I88) -> 0 | K86: 42188 | L86: 0 | M86: =L86*2000 -> 0 | N86: =SUM(M86,M87,M88) -> 0 | O86: 42189 | P86: 0 | Q86: =P86*2000 -> 0 | R86: =SUM(Q86,Q87,Q88) -> 0 | S86: 42190 | T86: 0 | U86: =T86*2000 -> 0 | V86: =SUM(U86,U87,U88) -> 0 | W86: 42191 | X86: 0 | Y86: =X86*2000 -> 0 | Z86: =SUM(Y86,Y87,Y88) -> 0 | AA86: 42192 | AB86: 0 | AC86: =AB86*2000 -> 0 | AD86: =SUM(AC86,AC87,AC88) -> 0 | AE86: 42193 | AF86: 0 | AG86: =AF86*2000 -> 0 | AH86: =SUM(AG86,AG87,AG88) -> 0 | AI86: 42194 | AJ86: 0 | AK86: =AJ86*2000 -> 0 | AL86: =SUM(AK86,AK87,AK88) -> 0 | AM86: 42195 | AN86: 0 | AO86: =AN86*2000 -> 0 | AP86: =SUM(AO86,AO87,AO88) -> 0 | AQ86: 42196 | AR86: 0 | AS86: =AR86*2000 -> 0 | AT86: =SUM(AS86,AS87,AS88) -> 0 | AU86: 42197 | AV86: 0 | AW86: =AV86*2000 -> 0 | AX86: =SUM(AW86,AW87,AW88) -> 0 | AY86: 42198 | AZ86: 0 | BA86: =AZ86*2000 -> 0 | BB86: =SUM(BA86,BA87,BA88) -> 0 | BC86: 42199 | BD86: 0 | BE86: =BD86*2000 -> 0 | BF86: =SUM(BE86,BE87,BE88) -> 0 | BG86: 42200 | BH86: 0 | BI86: =BH86*2000 -> 0 | BJ86: =SUM(BI86,BI87,BI88) -> 0 | BK86: 42201 | BL86: 0 | BM86: =BL86*2000 -> 0 | BN86: =SUM(BM86,BM87,BM88) -> 0 | BO86: 42202 | BP86: 0 | BQ86: =BP86*2000 -> 0 | BR86: =SUM(BQ86,BQ87,BQ88) -> 0 | BS86: 42203 | BT86: 0 | BU86: =BT86*2000 -> 0 | BV86: =SUM(BU86,BU87,BU88) -> 0 | BW86: 42204 | BX86: 0 | BY86: =BX86*2000 -> 0 | BZ86: =SUM(BY86,BY87,BY88) -> 0 | CA86: 42205 | CB86: 0 | CC86: =CB86*2000 -> 0 | CD86: =SUM(CC86,CC87,CC88) -> 0 | CE86: 42206 | CF86: 0 | CG86: =CF86*2000 -> 0 | CH86: =SUM(CG86,CG87,CG88) -> 0 | CI86: 42207 | CJ86: 0 | CK86: =CJ86*2000 -> 0 | CL86: =SUM(CK86,CK87,CK88) -> 0 | CM86: 42208 | CN86: 0 | CO86: =CN86*2000 -> 0 | CP86: =SUM(CO86,CO87,CO88) -> 0 | CQ86: 42209 | CR86: 0 | CS86: =CR86*2000 -> 0 | CT86: =SUM(CS86,CS87,CS88) -> 0 | CU86: 42210 | CV86: 0 | CW86: =CV86*2000 -> 0 | CX86: =SUM(CW86,CW87,CW88) -> 0 | CY86: 42211 | CZ86: 0 | DA86: =CZ86*2000 -> 0 | DB86: =SUM(DA86,DA87,DA88) -> 0 | DC86: 42212 | DD86: 0 | DE86: =DD86*2000 -> 0 | DF86: =SUM(DE86,DE87,DE88) -> 0 | DG86: 42213 | DH86: 0 | DI86: =DH86*2000 -> 0 | DJ86: =SUM(DI86,DI87,DI88) -> 0 | DK86: 42214 | DL86: 0 | DM86: =DL86*2000 -> 0 | DN86: =SUM(DM86,DM87,DM88) -> 0 | DO86: 42215 | DP86: 0 | DQ86: =DP86*2000 -> 0 | DR86: =SUM(DQ86,DQ87,DQ88) -> 0 | DS86: 42216 | DT86: 0 | DU86: =DT86*2000 -> 0 | DV86: =SUM(DU86,DU87,DU88) -> 0 | DW86: 42216 | DX86: =SUM(D86,H86,L86,P86,T86,X86,AB86,AF86,AJ86,AN86,AR86,AV86,AZ86,BD86,BH86,BL86,BP86,BT86,BX86,CB86,CF86,CJ86,CN86,CR86,CV86,CZ86,DD86,DH86,DL86,DP86,DT86) -> 0 | DY86: =DX86*2000 -> 0 | DZ86: =SUM(DY86,DY87,DY88) -> 0
B87: Plat(s) Européen | D87: 0 | E87: =D87*2000 -> 0 | H87: 0 | I87: =H87*2000 -> 0 | L87: 0 | M87: =L87*2000 -> 0 | P87: 0 | Q87: =P87*2000 -> 0 | T87: 0 | U87: =T87*2000 -> 0 | X87: 0 | Y87: =X87*2000 -> 0 | AB87: 0 | AC87: =AB87*2000 -> 0 | AF87: 0 | AG87: =AF87*2000 -> 0 | AJ87: 0 | AK87: =AJ87*2000 -> 0 | AN87: 0 | AO87: =AN87*2000 -> 0 | AR87: 0 | AS87: =AR87*2000 -> 0 | AV87: 0 | AW87: =AV87*2000 -> 0 | AZ87: 0 | BA87: =AZ87*2000 -> 0 | BD87: 0 | BE87: =BD87*2000 -> 0 | BH87: 0 | BI87: =BH87*2000 -> 0 | BL87: 0 | BM87: =BL87*2000 -> 0 | BP87: 0 | BQ87: =BP87*2000 -> 0 | BT87: 0 | BU87: =BT87*2000 -> 0 | BX87: 0 | BY87: =BX87*2000 -> 0 | CB87: 0 | CC87: =CB87*2000 -> 0 | CF87: 0 | CG87: =CF87*2000 -> 0 | CJ87: 0 | CK87: =CJ87*2000 -> 0 | CN87: 0 | CO87: =CN87*2000 -> 0 | CR87: 0 | CS87: =CR87*2000 -> 0 | CV87: 0 | CW87: =CV87*2000 -> 0 | CZ87: 0 | DA87: =CZ87*2000 -> 0 | DD87: 0 | DE87: =DD87*2000 -> 0 | DH87: 0 | DI87: =DH87*2000 -> 0 | DL87: 0 | DM87: =DL87*2000 -> 0 | DP87: 0 | DQ87: =DP87*2000 -> 0 | DT87: 0 | DU87: =DT87*2000 -> 0 | DX87: =SUM(D87,H87,L87,P87,T87,X87,AB87,AF87,AJ87,AN87,AR87,AV87,AZ87,BD87,BH87,BL87,BP87,BT87,BX87,CB87,CF87,CJ87,CN87,CR87,CV87,CZ87,DD87,DH87,DL87,DP87,DT87) -> 0 | DY87: =DX87*2000 -> 0
B88: Plat(s) Africain | D88: 0 | E88: =D88*1750 -> 0 | H88: 0 | I88: =H88*1750 -> 0 | L88: 0 | M88: =L88*1750 -> 0 | P88: 0 | Q88: =P88*1750 -> 0 | T88: 0 | U88: =T88*1750 -> 0 | X88: 0 | Y88: =X88*1750 -> 0 | AB88: 0 | AC88: =AB88*1750 -> 0 | AF88: 0 | AG88: =AF88*1750 -> 0 | AJ88: 0 | AK88: =AJ88*1750 -> 0 | AN88: 0 | AO88: =AN88*1750 -> 0 | AR88: 0 | AS88: =AR88*1750 -> 0 | AV88: 0 | AW88: =AV88*1750 -> 0 | AZ88: 0 | BA88: =AZ88*1750 -> 0 | BD88: 0 | BE88: =BD88*1750 -> 0 | BH88: 0 | BI88: =BH88*1750 -> 0 | BL88: 0 | BM88: =BL88*1750 -> 0 | BP88: 0 | BQ88: =BP88*1750 -> 0 | BT88: 0 | BU88: =BT88*1750 -> 0 | BX88: 0 | BY88: =BX88*1750 -> 0 | CB88: 0 | CC88: =CB88*1750 -> 0 | CF88: 0 | CG88: =CF88*1750 -> 0 | CJ88: 0 | CK88: =CJ88*1750 -> 0 | CN88: 0 | CO88: =CN88*1750 -> 0 | CR88: 0 | CS88: =CR88*1750 -> 0 | CV88: 0 | CW88: =CV88*1750 -> 0 | CZ88: 0 | DA88: =CZ88*1750 -> 0 | DD88: 0 | DE88: =DD88*1750 -> 0 | DH88: 0 | DI88: =DH88*1750 -> 0 | DL88: 0 | DM88: =DL88*1750 -> 0 | DP88: 0 | DQ88: =DP88*1750 -> 0 | DT88: 0 | DU88: =DT88*1750 -> 0 | DX88: =SUM(D88,H88,L88,P88,T88,X88,AB88,AF88,AJ88,AN88,AR88,AV88,AZ88,BD88,BH88,BL88,BP88,BT88,BX88,CB88,CF88,CJ88,CN88,CR88,CV88,CZ88,DD88,DH88,DL88,DP88,DT88) -> 0 | DY88: =DX88*1750 -> 0
A89: =Versements!A32 -> Nom30 | B89: Entrée(s) | C89: 42186 | D89: 0 | E89: =D89*2000 -> 0 | F89: =SUM(E89,E90,E91) -> 0 | G89: 42187 | H89: 0 | I89: =H89*2000 -> 0 | J89: =SUM(I89,I90,I91) -> 0 | K89: 42188 | L89: 0 | M89: =L89*2000 -> 0 | N89: =SUM(M89,M90,M91) -> 0 | O89: 42189 | P89: 0 | Q89: =P89*2000 -> 0 | R89: =SUM(Q89,Q90,Q91) -> 0 | S89: 42190 | T89: 0 | U89: =T89*2000 -> 0 | V89: =SUM(U89,U90,U91) -> 0 | W89: 42191 | X89: 0 | Y89: =X89*2000 -> 0 | Z89: =SUM(Y89,Y90,Y91) -> 0 | AA89: 42192 | AB89: 0 | AC89: =AB89*2000 -> 0 | AD89: =SUM(AC89,AC90,AC91) -> 0 | AE89: 42193 | AF89: 0 | AG89: =AF89*2000 -> 0 | AH89: =SUM(AG89,AG90,AG91) -> 0 | AI89: 42194 | AJ89: 0 | AK89: =AJ89*2000 -> 0 | AL89: =SUM(AK89,AK90,AK91) -> 0 | AM89: 42195 | AN89: 0 | AO89: =AN89*2000 -> 0 | AP89: =SUM(AO89,AO90,AO91) -> 0 | AQ89: 42196 | AR89: 0 | AS89: =AR89*2000 -> 0 | AT89: =SUM(AS89,AS90,AS91) -> 0 | AU89: 42197 | AV89: 0 | AW89: =AV89*2000 -> 0 | AX89: =SUM(AW89,AW90,AW91) -> 0 | AY89: 42198 | AZ89: 0 | BA89: =AZ89*2000 -> 0 | BB89: =SUM(BA89,BA90,BA91) -> 0 | BC89: 42199 | BD89: 0 | BE89: =BD89*2000 -> 0 | BF89: =SUM(BE89,BE90,BE91) -> 0 | BG89: 42200 | BH89: 0 | BI89: =BH89*2000 -> 0 | BJ89: =SUM(BI89,BI90,BI91) -> 0 | BK89: 42201 | BL89: 0 | BM89: =BL89*2000 -> 0 | BN89: =SUM(BM89,BM90,BM91) -> 0 | BO89: 42202 | BP89: 0 | BQ89: =BP89*2000 -> 0 | BR89: =SUM(BQ89,BQ90,BQ91) -> 0 | BS89: 42203 | BT89: 0 | BU89: =BT89*2000 -> 0 | BV89: =SUM(BU89,BU90,BU91) -> 0 | BW89: 42204 | BX89: 0 | BY89: =BX89*2000 -> 0 | BZ89: =SUM(BY89,BY90,BY91) -> 0 | CA89: 42205 | CB89: 0 | CC89: =CB89*2000 -> 0 | CD89: =SUM(CC89,CC90,CC91) -> 0 | CE89: 42206 | CF89: 0 | CG89: =CF89*2000 -> 0 | CH89: =SUM(CG89,CG90,CG91) -> 0 | CI89: 42207 | CJ89: 0 | CK89: =CJ89*2000 -> 0 | CL89: =SUM(CK89,CK90,CK91) -> 0 | CM89: 42208 | CN89: 0 | CO89: =CN89*2000 -> 0 | CP89: =SUM(CO89,CO90,CO91) -> 0 | CQ89: 42209 | CR89: 0 | CS89: =CR89*2000 -> 0 | CT89: =SUM(CS89,CS90,CS91) -> 0 | CU89: 42210 | CV89: 0 | CW89: =CV89*2000 -> 0 | CX89: =SUM(CW89,CW90,CW91) -> 0 | CY89: 42211 | CZ89: 0 | DA89: =CZ89*2000 -> 0 | DB89: =SUM(DA89,DA90,DA91) -> 0 | DC89: 42212 | DD89: 0 | DE89: =DD89*2000 -> 0 | DF89: =SUM(DE89,DE90,DE91) -> 0 | DG89: 42213 | DH89: 0 | DI89: =DH89*2000 -> 0 | DJ89: =SUM(DI89,DI90,DI91) -> 0 | DK89: 42214 | DL89: 0 | DM89: =DL89*2000 -> 0 | DN89: =SUM(DM89,DM90,DM91) -> 0 | DO89: 42215 | DP89: 0 | DQ89: =DP89*2000 -> 0 | DR89: =SUM(DQ89,DQ90,DQ91) -> 0 | DS89: 42216 | DT89: 0 | DU89: =DT89*2000 -> 0 | DV89: =SUM(DU89,DU90,DU91) -> 0 | DW89: 42216 | DX89: =SUM(D89,H89,L89,P89,T89,X89,AB89,AF89,AJ89,AN89,AR89,AV89,AZ89,BD89,BH89,BL89,BP89,BT89,BX89,CB89,CF89,CJ89,CN89,CR89,CV89,CZ89,DD89,DH89,DL89,DP89,DT89) -> 0 | DY89: =DX89*2000 -> 0 | DZ89: =SUM(DY89,DY90,DY91) -> 0
B90: Plat(s) Européen | D90: 0 | E90: =D90*2000 -> 0 | H90: 0 | I90: =H90*2000 -> 0 | L90: 0 | M90: =L90*2000 -> 0 | P90: 0 | Q90: =P90*2000 -> 0 | T90: 0 | U90: =T90*2000 -> 0 | X90: 0 | Y90: =X90*2000 -> 0 | AB90: 0 | AC90: =AB90*2000 -> 0 | AF90: 0 | AG90: =AF90*2000 -> 0 | AJ90: 0 | AK90: =AJ90*2000 -> 0 | AN90: 0 | AO90: =AN90*2000 -> 0 | AR90: 0 | AS90: =AR90*2000 -> 0 | AV90: 0 | AW90: =AV90*2000 -> 0 | AZ90: 0 | BA90: =AZ90*2000 -> 0 | BD90: 0 | BE90: =BD90*2000 -> 0 | BH90: 0 | BI90: =BH90*2000 -> 0 | BL90: 0 | BM90: =BL90*2000 -> 0 | BP90: 0 | BQ90: =BP90*2000 -> 0 | BT90: 0 | BU90: =BT90*2000 -> 0 | BX90: 0 | BY90: =BX90*2000 -> 0 | CB90: 0 | CC90: =CB90*2000 -> 0 | CF90: 0 | CG90: =CF90*2000 -> 0 | CJ90: 0 | CK90: =CJ90*2000 -> 0 | CN90: 0 | CO90: =CN90*2000 -> 0 | CR90: 0 | CS90: =CR90*2000 -> 0 | CV90: 0 | CW90: =CV90*2000 -> 0 | CZ90: 0 | DA90: =CZ90*2000 -> 0 | DD90: 0 | DE90: =DD90*2000 -> 0 | DH90: 0 | DI90: =DH90*2000 -> 0 | DL90: 0 | DM90: =DL90*2000 -> 0 | DP90: 0 | DQ90: =DP90*2000 -> 0 | DT90: 0 | DU90: =DT90*2000 -> 0 | DX90: =SUM(D90,H90,L90,P90,T90,X90,AB90,AF90,AJ90,AN90,AR90,AV90,AZ90,BD90,BH90,BL90,BP90,BT90,BX90,CB90,CF90,CJ90,CN90,CR90,CV90,CZ90,DD90,DH90,DL90,DP90,DT90) -> 0 | DY90: =DX90*2000 -> 0
B91: Plat(s) Africain | D91: 0 | E91: =D91*1750 -> 0 | H91: 0 | I91: =H91*1750 -> 0 | L91: 0 | M91: =L91*1750 -> 0 | P91: 0 | Q91: =P91*1750 -> 0 | T91: 0 | U91: =T91*1750 -> 0 | X91: 0 | Y91: =X91*1750 -> 0 | AB91: 0 | AC91: =AB91*1750 -> 0 | AF91: 0 | AG91: =AF91*1750 -> 0 | AJ91: 0 | AK91: =AJ91*1750 -> 0 | AN91: 0 | AO91: =AN91*1750 -> 0 | AR91: 0 | AS91: =AR91*1750 -> 0 | AV91: 0 | AW91: =AV91*1750 -> 0 | AZ91: 0 | BA91: =AZ91*1750 -> 0 | BD91: 0 | BE91: =BD91*1750 -> 0 | BH91: 0 | BI91: =BH91*1750 -> 0 | BL91: 0 | BM91: =BL91*1750 -> 0 | BP91: 0 | BQ91: =BP91*1750 -> 0 | BT91: 0 | BU91: =BT91*1750 -> 0 | BX91: 0 | BY91: =BX91*1750 -> 0 | CB91: 0 | CC91: =CB91*1750 -> 0 | CF91: 0 | CG91: =CF91*1750 -> 0 | CJ91: 0 | CK91: =CJ91*1750 -> 0 | CN91: 0 | CO91: =CN91*1750 -> 0 | CR91: 0 | CS91: =CR91*1750 -> 0 | CV91: 0 | CW91: =CV91*1750 -> 0 | CZ91: 0 | DA91: =CZ91*1750 -> 0 | DD91: 0 | DE91: =DD91*1750 -> 0 | DH91: 0 | DI91: =DH91*1750 -> 0 | DL91: 0 | DM91: =DL91*1750 -> 0 | DP91: 0 | DQ91: =DP91*1750 -> 0 | DT91: 0 | DU91: =DT91*1750 -> 0 | DX91: =SUM(D91,H91,L91,P91,T91,X91,AB91,AF91,AJ91,AN91,AR91,AV91,AZ91,BD91,BH91,BL91,BP91,BT91,BX91,CB91,CF91,CJ91,CN91,CR91,CV91,CZ91,DD91,DH91,DL91,DP91,DT91) -> 0 | DY91: =DX91*1750 -> 0
A92: =Versements!A33 -> Nom31 | B92: Entrée(s) | C92: 42186 | D92: 0 | E92: =D92*2000 -> 0 | F92: =SUM(E92,E93,E94) -> 0 | G92: 42187 | H92: 0 | I92: =H92*2000 -> 0 | J92: =SUM(I92,I93,I94) -> 0 | K92: 42188 | L92: 0 | M92: =L92*2000 -> 0 | N92: =SUM(M92,M93,M94) -> 0 | O92: 42189 | P92: 0 | Q92: =P92*2000 -> 0 | R92: =SUM(Q92,Q93,Q94) -> 0 | S92: 42190 | T92: 0 | U92: =T92*2000 -> 0 | V92: =SUM(U92,U93,U94) -> 0 | W92: 42191 | X92: 0 | Y92: =X92*2000 -> 0 | Z92: =SUM(Y92,Y93,Y94) -> 0 | AA92: 42192 | AB92: 0 | AC92: =AB92*2000 -> 0 | AD92: =SUM(AC92,AC93,AC94) -> 0 | AE92: 42193 | AF92: 0 | AG92: =AF92*2000 -> 0 | AH92: =SUM(AG92,AG93,AG94) -> 0 | AI92: 42194 | AJ92: 0 | AK92: =AJ92*2000 -> 0 | AL92: =SUM(AK92,AK93,AK94) -> 0 | AM92: 42195 | AN92: 0 | AO92: =AN92*2000 -> 0 | AP92: =SUM(AO92,AO93,AO94) -> 0 | AQ92: 42196 | AR92: 0 | AS92: =AR92*2000 -> 0 | AT92: =SUM(AS92,AS93,AS94) -> 0 | AU92: 42197 | AV92: 0 | AW92: =AV92*2000 -> 0 | AX92: =SUM(AW92,AW93,AW94) -> 0 | AY92: 42198 | AZ92: 0 | BA92: =AZ92*2000 -> 0 | BB92: =SUM(BA92,BA93,BA94) -> 0 | BC92: 42199 | BD92: 0 | BE92: =BD92*2000 -> 0 | BF92: =SUM(BE92,BE93,BE94) -> 0 | BG92: 42200 | BH92: 0 | BI92: =BH92*2000 -> 0 | BJ92: =SUM(BI92,BI93,BI94) -> 0 | BK92: 42201 | BL92: 0 | BM92: =BL92*2000 -> 0 | BN92: =SUM(BM92,BM93,BM94) -> 0 | BO92: 42202 | BP92: 0 | BQ92: =BP92*2000 -> 0 | BR92: =SUM(BQ92,BQ93,BQ94) -> 0 | BS92: 42203 | BT92: 0 | BU92: =BT92*2000 -> 0 | BV92: =SUM(BU92,BU93,BU94) -> 0 | BW92: 42204 | BX92: 0 | BY92: =BX92*2000 -> 0 | BZ92: =SUM(BY92,BY93,BY94) -> 0 | CA92: 42205 | CB92: 0 | CC92: =CB92*2000 -> 0 | CD92: =SUM(CC92,CC93,CC94) -> 0 | CE92: 42206 | CF92: 0 | CG92: =CF92*2000 -> 0 | CH92: =SUM(CG92,CG93,CG94) -> 0 | CI92: 42207 | CJ92: 0 | CK92: =CJ92*2000 -> 0 | CL92: =SUM(CK92,CK93,CK94) -> 0 | CM92: 42208 | CN92: 0 | CO92: =CN92*2000 -> 0 | CP92: =SUM(CO92,CO93,CO94) -> 0 | CQ92: 42209 | CR92: 0 | CS92: =CR92*2000 -> 0 | CT92: =SUM(CS92,CS93,CS94) -> 0 | CU92: 42210 | CV92: 0 | CW92: =CV92*2000 -> 0 | CX92: =SUM(CW92,CW93,CW94) -> 0 | CY92: 42211 | CZ92: 0 | DA92: =CZ92*2000 -> 0 | DB92: =SUM(DA92,DA93,DA94) -> 0 | DC92: 42212 | DD92: 0 | DE92: =DD92*2000 -> 0 | DF92: =SUM(DE92,DE93,DE94) -> 0 | DG92: 42213 | DH92: 0 | DI92: =DH92*2000 -> 0 | DJ92: =SUM(DI92,DI93,DI94) -> 0 | DK92: 42214 | DL92: 0 | DM92: =DL92*2000 -> 0 | DN92: =SUM(DM92,DM93,DM94) -> 0 | DO92: 42215 | DP92: 0 | DQ92: =DP92*2000 -> 0 | DR92: =SUM(DQ92,DQ93,DQ94) -> 0 | DS92: 42216 | DT92: 0 | DU92: =DT92*2000 -> 0 | DV92: =SUM(DU92,DU93,DU94) -> 0 | DW92: 42216 | DX92: =SUM(D92,H92,L92,P92,T92,X92,AB92,AF92,AJ92,AN92,AR92,AV92,AZ92,BD92,BH92,BL92,BP92,BT92,BX92,CB92,CF92,CJ92,CN92,CR92,CV92,CZ92,DD92,DH92,DL92,DP92,DT92) -> 0 | DY92: =DX92*2000 -> 0 | DZ92: =SUM(DY92,DY93,DY94) -> 0
B93: Plat(s) Européen | D93: 0 | E93: =D93*2000 -> 0 | H93: 0 | I93: =H93*2000 -> 0 | L93: 0 | M93: =L93*2000 -> 0 | P93: 0 | Q93: =P93*2000 -> 0 | T93: 0 | U93: =T93*2000 -> 0 | X93: 0 | Y93: =X93*2000 -> 0 | AB93: 0 | AC93: =AB93*2000 -> 0 | AF93: 0 | AG93: =AF93*2000 -> 0 | AJ93: 0 | AK93: =AJ93*2000 -> 0 | AN93: 0 | AO93: =AN93*2000 -> 0 | AR93: 0 | AS93: =AR93*2000 -> 0 | AV93: 0 | AW93: =AV93*2000 -> 0 | AZ93: 0 | BA93: =AZ93*2000 -> 0 | BD93: 0 | BE93: =BD93*2000 -> 0 | BH93: 0 | BI93: =BH93*2000 -> 0 | BL93: 0 | BM93: =BL93*2000 -> 0 | BP93: 0 | BQ93: =BP93*2000 -> 0 | BT93: 0 | BU93: =BT93*2000 -> 0 | BX93: 0 | BY93: =BX93*2000 -> 0 | CB93: 0 | CC93: =CB93*2000 -> 0 | CF93: 0 | CG93: =CF93*2000 -> 0 | CJ93: 0 | CK93: =CJ93*2000 -> 0 | CN93: 0 | CO93: =CN93*2000 -> 0 | CR93: 0 | CS93: =CR93*2000 -> 0 | CV93: 0 | CW93: =CV93*2000 -> 0 | CZ93: 0 | DA93: =CZ93*2000 -> 0 | DD93: 0 | DE93: =DD93*2000 -> 0 | DH93: 0 | DI93: =DH93*2000 -> 0 | DL93: 0 | DM93: =DL93*2000 -> 0 | DP93: 0 | DQ93: =DP93*2000 -> 0 | DT93: 0 | DU93: =DT93*2000 -> 0 | DX93: =SUM(D93,H93,L93,P93,T93,X93,AB93,AF93,AJ93,AN93,AR93,AV93,AZ93,BD93,BH93,BL93,BP93,BT93,BX93,CB93,CF93,CJ93,CN93,CR93,CV93,CZ93,DD93,DH93,DL93,DP93,DT93) -> 0 | DY93: =DX93*2000 -> 0
B94: Plat(s) Africain | D94: 0 | E94: =D94*1750 -> 0 | H94: 0 | I94: =H94*1750 -> 0 | L94: 0 | M94: =L94*1750 -> 0 | P94: 0 | Q94: =P94*1750 -> 0 | T94: 0 | U94: =T94*1750 -> 0 | X94: 0 | Y94: =X94*1750 -> 0 | AB94: 0 | AC94: =AB94*1750 -> 0 | AF94: 0 | AG94: =AF94*1750 -> 0 | AJ94: 0 | AK94: =AJ94*1750 -> 0 | AN94: 0 | AO94: =AN94*1750 -> 0 | AR94: 0 | AS94: =AR94*1750 -> 0 | AV94: 0 | AW94: =AV94*1750 -> 0 | AZ94: 0 | BA94: =AZ94*1750 -> 0 | BD94: 0 | BE94: =BD94*1750 -> 0 | BH94: 0 | BI94: =BH94*1750 -> 0 | BL94: 0 | BM94: =BL94*1750 -> 0 | BP94: 0 | BQ94: =BP94*1750 -> 0 | BT94: 0 | BU94: =BT94*1750 -> 0 | BX94: 0 | BY94: =BX94*1750 -> 0 | CB94: 0 | CC94: =CB94*1750 -> 0 | CF94: 0 | CG94: =CF94*1750 -> 0 | CJ94: 0 | CK94: =CJ94*1750 -> 0 | CN94: 0 | CO94: =CN94*1750 -> 0 | CR94: 0 | CS94: =CR94*1750 -> 0 | CV94: 0 | CW94: =CV94*1750 -> 0 | CZ94: 0 | DA94: =CZ94*1750 -> 0 | DD94: 0 | DE94: =DD94*1750 -> 0 | DH94: 0 | DI94: =DH94*1750 -> 0 | DL94: 0 | DM94: =DL94*1750 -> 0 | DP94: 0 | DQ94: =DP94*1750 -> 0 | DT94: 0 | DU94: =DT94*1750 -> 0 | DX94: =SUM(D94,H94,L94,P94,T94,X94,AB94,AF94,AJ94,AN94,AR94,AV94,AZ94,BD94,BH94,BL94,BP94,BT94,BX94,CB94,CF94,CJ94,CN94,CR94,CV94,CZ94,DD94,DH94,DL94,DP94,DT94) -> 0 | DY94: =DX94*1750 -> 0
A95: =Versements!A34 -> Nom32 | B95: Entrée(s) | C95: 42186 | D95: 0 | E95: =D95*2000 -> 0 | F95: =SUM(E95,E96,E97) -> 0 | G95: 42187 | H95: 0 | I95: =H95*2000 -> 0 | J95: =SUM(I95,I96,I97) -> 0 | K95: 42188 | L95: 0 | M95: =L95*2000 -> 0 | N95: =SUM(M95,M96,M97) -> 0 | O95: 42189 | P95: 0 | Q95: =P95*2000 -> 0 | R95: =SUM(Q95,Q96,Q97) -> 0 | S95: 42190 | T95: 0 | U95: =T95*2000 -> 0 | V95: =SUM(U95,U96,U97) -> 0 | W95: 42191 | X95: 0 | Y95: =X95*2000 -> 0 | Z95: =SUM(Y95,Y96,Y97) -> 0 | AA95: 42192 | AB95: 0 | AC95: =AB95*2000 -> 0 | AD95: =SUM(AC95,AC96,AC97) -> 0 | AE95: 42193 | AF95: 0 | AG95: =AF95*2000 -> 0 | AH95: =SUM(AG95,AG96,AG97) -> 0 | AI95: 42194 | AJ95: 0 | AK95: =AJ95*2000 -> 0 | AL95: =SUM(AK95,AK96,AK97) -> 0 | AM95: 42195 | AN95: 0 | AO95: =AN95*2000 -> 0 | AP95: =SUM(AO95,AO96,AO97) -> 0 | AQ95: 42196 | AR95: 0 | AS95: =AR95*2000 -> 0 | AT95: =SUM(AS95,AS96,AS97) -> 0 | AU95: 42197 | AV95: 0 | AW95: =AV95*2000 -> 0 | AX95: =SUM(AW95,AW96,AW97) -> 0 | AY95: 42198 | AZ95: 1 | BA95: =AZ95*2000 -> 2000 | BB95: =SUM(BA95,BA96,BA97) -> 2000 | BC95: 42199 | BD95: 0 | BE95: =BD95*2000 -> 0 | BF95: =SUM(BE95,BE96,BE97) -> 0 | BG95: 42200 | BH95: 0 | BI95: =BH95*2000 -> 0 | BJ95: =SUM(BI95,BI96,BI97) -> 0 | BK95: 42201 | BL95: 0 | BM95: =BL95*2000 -> 0 | BN95: =SUM(BM95,BM96,BM97) -> 0 | BO95: 42202 | BP95: 0 | BQ95: =BP95*2000 -> 0 | BR95: =SUM(BQ95,BQ96,BQ97) -> 0 | BS95: 42203 | BT95: 0 | BU95: =BT95*2000 -> 0 | BV95: =SUM(BU95,BU96,BU97) -> 0 | BW95: 42204 | BX95: 0 | BY95: =BX95*2000 -> 0 | BZ95: =SUM(BY95,BY96,BY97) -> 0 | CA95: 42205 | CB95: 0 | CC95: =CB95*2000 -> 0 | CD95: =SUM(CC95,CC96,CC97) -> 0 | CE95: 42206 | CF95: 0 | CG95: =CF95*2000 -> 0 | CH95: =SUM(CG95,CG96,CG97) -> 0 | CI95: 42207 | CJ95: 0 | CK95: =CJ95*2000 -> 0 | CL95: =SUM(CK95,CK96,CK97) -> 0 | CM95: 42208 | CN95: 0 | CO95: =CN95*2000 -> 0 | CP95: =SUM(CO95,CO96,CO97) -> 0 | CQ95: 42209 | CR95: 0 | CS95: =CR95*2000 -> 0 | CT95: =SUM(CS95,CS96,CS97) -> 0 | CU95: 42210 | CV95: 0 | CW95: =CV95*2000 -> 0 | CX95: =SUM(CW95,CW96,CW97) -> 0 | CY95: 42211 | CZ95: 0 | DA95: =CZ95*2000 -> 0 | DB95: =SUM(DA95,DA96,DA97) -> 0 | DC95: 42212 | DD95: 0 | DE95: =DD95*2000 -> 0 | DF95: =SUM(DE95,DE96,DE97) -> 0 | DG95: 42213 | DH95: 0 | DI95: =DH95*2000 -> 0 | DJ95: =SUM(DI95,DI96,DI97) -> 0 | DK95: 42214 | DL95: 0 | DM95: =DL95*2000 -> 0 | DN95: =SUM(DM95,DM96,DM97) -> 0 | DO95: 42215 | DP95: 0 | DQ95: =DP95*2000 -> 0 | DR95: =SUM(DQ95,DQ96,DQ97) -> 0 | DS95: 42216 | DT95: 0 | DU95: =DT95*2000 -> 0 | DV95: =SUM(DU95,DU96,DU97) -> 0 | DW95: 42216 | DX95: =SUM(D95,H95,L95,P95,T95,X95,AB95,AF95,AJ95,AN95,AR95,AV95,AZ95,BD95,BH95,BL95,BP95,BT95,BX95,CB95,CF95,CJ95,CN95,CR95,CV95,CZ95,DD95,DH95,DL95,DP95,DT95) -> 1 | DY95: =DX95*2000 -> 2000 | DZ95: =SUM(DY95,DY96,DY97) -> 2000
B96: Plat(s) Européen | D96: 0 | E96: =D96*2000 -> 0 | H96: 0 | I96: =H96*2000 -> 0 | L96: 0 | M96: =L96*2000 -> 0 | P96: 0 | Q96: =P96*2000 -> 0 | T96: 0 | U96: =T96*2000 -> 0 | X96: 0 | Y96: =X96*2000 -> 0 | AB96: 0 | AC96: =AB96*2000 -> 0 | AF96: 0 | AG96: =AF96*2000 -> 0 | AJ96: 0 | AK96: =AJ96*2000 -> 0 | AN96: 0 | AO96: =AN96*2000 -> 0 | AR96: 0 | AS96: =AR96*2000 -> 0 | AV96: 0 | AW96: =AV96*2000 -> 0 | AZ96: 0 | BA96: =AZ96*2000 -> 0 | BD96: 0 | BE96: =BD96*2000 -> 0 | BH96: 0 | BI96: =BH96*2000 -> 0 | BL96: 0 | BM96: =BL96*2000 -> 0 | BP96: 0 | BQ96: =BP96*2000 -> 0 | BT96: 0 | BU96: =BT96*2000 -> 0 | BX96: 0 | BY96: =BX96*2000 -> 0 | CB96: 0 | CC96: =CB96*2000 -> 0 | CF96: 0 | CG96: =CF96*2000 -> 0 | CJ96: 0 | CK96: =CJ96*2000 -> 0 | CN96: 0 | CO96: =CN96*2000 -> 0 | CR96: 0 | CS96: =CR96*2000 -> 0 | CV96: 0 | CW96: =CV96*2000 -> 0 | CZ96: 0 | DA96: =CZ96*2000 -> 0 | DD96: 0 | DE96: =DD96*2000 -> 0 | DH96: 0 | DI96: =DH96*2000 -> 0 | DL96: 0 | DM96: =DL96*2000 -> 0 | DP96: 0 | DQ96: =DP96*2000 -> 0 | DT96: 0 | DU96: =DT96*2000 -> 0 | DX96: =SUM(D96,H96,L96,P96,T96,X96,AB96,AF96,AJ96,AN96,AR96,AV96,AZ96,BD96,BH96,BL96,BP96,BT96,BX96,CB96,CF96,CJ96,CN96,CR96,CV96,CZ96,DD96,DH96,DL96,DP96,DT96) -> 0 | DY96: =DX96*2000 -> 0
B97: Plat(s) Africain | D97: 0 | E97: =D97*1750 -> 0 | H97: 0 | I97: =H97*1750 -> 0 | L97: 0 | M97: =L97*1750 -> 0 | P97: 0 | Q97: =P97*1750 -> 0 | T97: 0 | U97: =T97*1750 -> 0 | X97: 0 | Y97: =X97*1750 -> 0 | AB97: 0 | AC97: =AB97*1750 -> 0 | AF97: 0 | AG97: =AF97*1750 -> 0 | AJ97: 0 | AK97: =AJ97*1750 -> 0 | AN97: 0 | AO97: =AN97*1750 -> 0 | AR97: 0 | AS97: =AR97*1750 -> 0 | AV97: 0 | AW97: =AV97*1750 -> 0 | AZ97: 0 | BA97: =AZ97*1750 -> 0 | BD97: 0 | BE97: =BD97*1750 -> 0 | BH97: 0 | BI97: =BH97*1750 -> 0 | BL97: 0 | BM97: =BL97*1750 -> 0 | BP97: 0 | BQ97: =BP97*1750 -> 0 | BT97: 0 | BU97: =BT97*1750 -> 0 | BX97: 0 | BY97: =BX97*1750 -> 0 | CB97: 0 | CC97: =CB97*1750 -> 0 | CF97: 0 | CG97: =CF97*1750 -> 0 | CJ97: 0 | CK97: =CJ97*1750 -> 0 | CN97: 0 | CO97: =CN97*1750 -> 0 | CR97: 0 | CS97: =CR97*1750 -> 0 | CV97: 0 | CW97: =CV97*1750 -> 0 | CZ97: 0 | DA97: =CZ97*1750 -> 0 | DD97: 0 | DE97: =DD97*1750 -> 0 | DH97: 0 | DI97: =DH97*1750 -> 0 | DL97: 0 | DM97: =DL97*1750 -> 0 | DP97: 0 | DQ97: =DP97*1750 -> 0 | DT97: 0 | DU97: =DT97*1750 -> 0 | DX97: =SUM(D97,H97,L97,P97,T97,X97,AB97,AF97,AJ97,AN97,AR97,AV97,AZ97,BD97,BH97,BL97,BP97,BT97,BX97,CB97,CF97,CJ97,CN97,CR97,CV97,CZ97,DD97,DH97,DL97,DP97,DT97) -> 0 | DY97: =DX97*1750 -> 0
A98: =Versements!A35 -> Nom33 | B98: Entrée(s) | C98: 42186 | D98: 0 | E98: =D98*2000 -> 0 | F98: =SUM(E98,E99,E100) -> 0 | G98: 42187 | H98: 0 | I98: =H98*2000 -> 0 | J98: =SUM(I98,I99,I100) -> 0 | K98: 42188 | L98: 0 | M98: =L98*2000 -> 0 | N98: =SUM(M98,M99,M100) -> 0 | O98: 42189 | P98: 0 | Q98: =P98*2000 -> 0 | R98: =SUM(Q98,Q99,Q100) -> 0 | S98: 42190 | T98: 0 | U98: =T98*2000 -> 0 | V98: =SUM(U98,U99,U100) -> 0 | W98: 42191 | X98: 0 | Y98: =X98*2000 -> 0 | Z98: =SUM(Y98,Y99,Y100) -> 0 | AA98: 42192 | AB98: 0 | AC98: =AB98*2000 -> 0 | AD98: =SUM(AC98,AC99,AC100) -> 0 | AE98: 42193 | AF98: 0 | AG98: =AF98*2000 -> 0 | AH98: =SUM(AG98,AG99,AG100) -> 0 | AI98: 42194 | AJ98: 0 | AK98: =AJ98*2000 -> 0 | AL98: =SUM(AK98,AK99,AK100) -> 0 | AM98: 42195 | AN98: 0 | AO98: =AN98*2000 -> 0 | AP98: =SUM(AO98,AO99,AO100) -> 0 | AQ98: 42196 | AR98: 0 | AS98: =AR98*2000 -> 0 | AT98: =SUM(AS98,AS99,AS100) -> 0 | AU98: 42197 | AV98: 0 | AW98: =AV98*2000 -> 0 | AX98: =SUM(AW98,AW99,AW100) -> 0 | AY98: 42198 | AZ98: 0 | BA98: =AZ98*2000 -> 0 | BB98: =SUM(BA98,BA99,BA100) -> 0 | BC98: 42199 | BD98: 0 | BE98: =BD98*2000 -> 0 | BF98: =SUM(BE98,BE99,BE100) -> 0 | BG98: 42200 | BH98: 0 | BI98: =BH98*2000 -> 0 | BJ98: =SUM(BI98,BI99,BI100) -> 0 | BK98: 42201 | BL98: 0 | BM98: =BL98*2000 -> 0 | BN98: =SUM(BM98,BM99,BM100) -> 0 | BO98: 42202 | BP98: 0 | BQ98: =BP98*2000 -> 0 | BR98: =SUM(BQ98,BQ99,BQ100) -> 0 | BS98: 42203 | BT98: 0 | BU98: =BT98*2000 -> 0 | BV98: =SUM(BU98,BU99,BU100) -> 0 | BW98: 42204 | BX98: 0 | BY98: =BX98*2000 -> 0 | BZ98: =SUM(BY98,BY99,BY100) -> 0 | CA98: 42205 | CB98: 0 | CC98: =CB98*2000 -> 0 | CD98: =SUM(CC98,CC99,CC100) -> 0 | CE98: 42206 | CF98: 0 | CG98: =CF98*2000 -> 0 | CH98: =SUM(CG98,CG99,CG100) -> 0 | CI98: 42207 | CJ98: 0 | CK98: =CJ98*2000 -> 0 | CL98: =SUM(CK98,CK99,CK100) -> 0 | CM98: 42208 | CN98: 0 | CO98: =CN98*2000 -> 0 | CP98: =SUM(CO98,CO99,CO100) -> 0 | CQ98: 42209 | CR98: 0 | CS98: =CR98*2000 -> 0 | CT98: =SUM(CS98,CS99,CS100) -> 0 | CU98: 42210 | CV98: 0 | CW98: =CV98*2000 -> 0 | CX98: =SUM(CW98,CW99,CW100) -> 0 | CY98: 42211 | CZ98: 0 | DA98: =CZ98*2000 -> 0 | DB98: =SUM(DA98,DA99,DA100) -> 0 | DC98: 42212 | DD98: 0 | DE98: =DD98*2000 -> 0 | DF98: =SUM(DE98,DE99,DE100) -> 0 | DG98: 42213 | DH98: 0 | DI98: =DH98*2000 -> 0 | DJ98: =SUM(DI98,DI99,DI100) -> 0 | DK98: 42214 | DL98: 0 | DM98: =DL98*2000 -> 0 | DN98: =SUM(DM98,DM99,DM100) -> 0 | DO98: 42215 | DP98: 0 | DQ98: =DP98*2000 -> 0 | DR98: =SUM(DQ98,DQ99,DQ100) -> 0 | DS98: 42216 | DT98: 0 | DU98: =DT98*2000 -> 0 | DV98: =SUM(DU98,DU99,DU100) -> 0 | DW98: 42216 | DX98: =SUM(D98,H98,L98,P98,T98,X98,AB98,AF98,AJ98,AN98,AR98,AV98,AZ98,BD98,BH98,BL98,BP98,BT98,BX98,CB98,CF98,CJ98,CN98,CR98,CV98,CZ98,DD98,DH98,DL98,DP98,DT98) -> 0 | DY98: =DX98*2000 -> 0 | DZ98: =SUM(DY98,DY99,DY100) -> 0
B99: Plat(s) Européen | D99: 0 | E99: =D99*2000 -> 0 | H99: 0 | I99: =H99*2000 -> 0 | L99: 0 | M99: =L99*2000 -> 0 | P99: 0 | Q99: =P99*2000 -> 0 | T99: 0 | U99: =T99*2000 -> 0 | X99: 0 | Y99: =X99*2000 -> 0 | AB99: 0 | AC99: =AB99*2000 -> 0 | AF99: 0 | AG99: =AF99*2000 -> 0 | AJ99: 0 | AK99: =AJ99*2000 -> 0 | AN99: 0 | AO99: =AN99*2000 -> 0 | AR99: 0 | AS99: =AR99*2000 -> 0 | AV99: 0 | AW99: =AV99*2000 -> 0 | AZ99: 0 | BA99: =AZ99*2000 -> 0 | BD99: 0 | BE99: =BD99*2000 -> 0 | BH99: 0 | BI99: =BH99*2000 -> 0 | BL99: 0 | BM99: =BL99*2000 -> 0 | BP99: 0 | BQ99: =BP99*2000 -> 0 | BT99: 0 | BU99: =BT99*2000 -> 0 | BX99: 0 | BY99: =BX99*2000 -> 0 | CB99: 0 | CC99: =CB99*2000 -> 0 | CF99: 0 | CG99: =CF99*2000 -> 0 | CJ99: 0 | CK99: =CJ99*2000 -> 0 | CN99: 0 | CO99: =CN99*2000 -> 0 | CR99: 0 | CS99: =CR99*2000 -> 0 | CV99: 0 | CW99: =CV99*2000 -> 0 | CZ99: 0 | DA99: =CZ99*2000 -> 0 | DD99: 0 | DE99: =DD99*2000 -> 0 | DH99: 0 | DI99: =DH99*2000 -> 0 | DL99: 0 | DM99: =DL99*2000 -> 0 | DP99: 0 | DQ99: =DP99*2000 -> 0 | DT99: 0 | DU99: =DT99*2000 -> 0 | DX99: =SUM(D99,H99,L99,P99,T99,X99,AB99,AF99,AJ99,AN99,AR99,AV99,AZ99,BD99,BH99,BL99,BP99,BT99,BX99,CB99,CF99,CJ99,CN99,CR99,CV99,CZ99,DD99,DH99,DL99,DP99,DT99) -> 0 | DY99: =DX99*2000 -> 0
B100: Plat(s) Africain | D100: 0 | E100: =D100*1750 -> 0 | H100: 0 | I100: =H100*1750 -> 0 | L100: 0 | M100: =L100*1750 -> 0 | P100: 0 | Q100: =P100*1750 -> 0 | T100: 0 | U100: =T100*1750 -> 0 | X100: 0 | Y100: =X100*1750 -> 0 | AB100: 0 | AC100: =AB100*1750 -> 0 | AF100: 0 | AG100: =AF100*1750 -> 0 | AJ100: 0 | AK100: =AJ100*1750 -> 0 | AN100: 0 | AO100: =AN100*1750 -> 0 | AR100: 0 | AS100: =AR100*1750 -> 0 | AV100: 0 | AW100: =AV100*1750 -> 0 | AZ100: 0 | BA100: =AZ100*1750 -> 0 | BD100: 0 | BE100: =BD100*1750 -> 0 | BH100: 0 | BI100: =BH100*1750 -> 0 | BL100: 0 | BM100: =BL100*1750 -> 0 | BP100: 0 | BQ100: =BP100*1750 -> 0 | BT100: 0 | BU100: =BT100*1750 -> 0 | BX100: 0 | BY100: =BX100*1750 -> 0 | CB100: 0 | CC100: =CB100*1750 -> 0 | CF100: 0 | CG100: =CF100*1750 -> 0 | CJ100: 0 | CK100: =CJ100*1750 -> 0 | CN100: 0 | CO100: =CN100*1750 -> 0 | CR100: 0 | CS100: =CR100*1750 -> 0 | CV100: 0 | CW100: =CV100*1750 -> 0 | CZ100: 0 | DA100: =CZ100*1750 -> 0 | DD100: 0 | DE100: =DD100*1750 -> 0 | DH100: 0 | DI100: =DH100*1750 -> 0 | DL100: 0 | DM100: =DL100*1750 -> 0 | DP100: 0 | DQ100: =DP100*1750 -> 0 | DT100: 0 | DU100: =DT100*1750 -> 0 | DX100: =SUM(D100,H100,L100,P100,T100,X100,AB100,AF100,AJ100,AN100,AR100,AV100,AZ100,BD100,BH100,BL100,BP100,BT100,BX100,CB100,CF100,CJ100,CN100,CR100,CV100,CZ100,DD100,DH100,DL100,DP100,DT100) -> 0 | DY100: =DX100*1750 -> 0
...

Sheet Versements
A1: Mois de Juillet 2015 | F1: Dépassements
A2: Personnel | B2: Avance versée | C2: Consommé | D2: Restant | F2: ALERTE !!!
A3: =Paramètres!A3 -> Nom1 | B3: 0 | C3: =SUM('Suivi conso'!DY2:DY4) -> 0 | D3: =B3-C3 -> 0 | F3: =IF(C3>B3,"Dépassement de "&C3-B3,"")
A4: =Paramètres!A4 -> Nom2 | B4: 0 | C4: =SUM('Suivi conso'!DY5:DY7) -> 0 | D4: =B4-C4 -> 0 | F4: =IF(C4>B4,"Dépassement de "&C4-B4,"")
A5: =Paramètres!A5 -> Nom3 | B5: 0 | C5: =SUM('Suivi conso'!DY8:DY10) -> 0 | D5: =B5-C5 -> 0 | F5: =IF(C5>B5,"Dépassement de "&C5-B5,"")
A6: =Paramètres!A6 -> Nom4 | B6: 0 | C6: =SUM('Suivi conso'!DY11:DY13) -> 0 | D6: =B6-C6 -> 0 | F6: =IF(C6>B6,"Dépassement de "&C6-B6,"")
A7: =Paramètres!A7 -> Nom5 | B7: 0 | C7: =SUM('Suivi conso'!DY14:DY16) -> 0 | D7: =B7-C7 -> 0 | F7: =IF(C7>B7,"Dépassement de "&C7-B7,"")
A8: =Paramètres!A8 -> Nom6 | B8: 0 | C8: =SUM('Suivi conso'!DY17:DY19) -> 0 | D8: =B8-C8 -> 0 | F8: =IF(C8>B8,"Dépassement de "&C8-B8,"")
A9: =Paramètres!A9 -> Nom7 | B9: 0 | C9: =SUM('Suivi conso'!DY20:DY22) -> 0 | D9: =B9-C9 -> 0 | F9: =IF(C9>B9,"Dépassement de "&C9-B9,"")
A10: =Paramètres!A10 -> Nom8 | B10: 0 | C10: =SUM('Suivi conso'!DY23:DY25) -> 2000 | D10: =B10-C10 -> -2000 | F10: =IF(C10>B10,"Dépassement de "&C10-B10,"") -> Dépassement de 2000
A11: =Paramètres!A11 -> Nom9 | B11: 0 | C11: =SUM('Suivi conso'!DY26:DY28) -> 4000 | D11: =B11-C11 -> -4000 | F11: =IF(C11>B11,"Dépassement de "&C11-B11,"") -> Dépassement de 4000
A12: =Paramètres!A12 -> Nom10 | B12: 0 | C12: =SUM('Suivi conso'!DY29:DY31) -> 0 | D12: =B12-C12 -> 0 | F12: =IF(C12>B12,"Dépassement de "&C12-B12,"")
A13: =Paramètres!A13 -> Nom11 | B13: 0 | C13: =SUM('Suivi conso'!DY32:DY34) -> 0 | D13: =B13-C13 -> 0 | F13: =IF(C13>B13,"Dépassement de "&C13-B13,"")
A14: =Paramètres!A14 -> Nom12 | B14: 0 | C14: =SUM('Suivi conso'!DY35:DY37) -> 0 | D14: =B14-C14 -> 0 | F14: =IF(C14>B14,"Dépassement de "&C14-B14,"")
A15: =Paramètres!A15 -> Nom13 | B15: 0 | C15: =SUM('Suivi conso'!DY38:DY40) -> 0 | D15: =B15-C15 -> 0 | F15: =IF(C15>B15,"Dépassement de "&C15-B15,"")
A16: =Paramètres!A16 -> Nom14 | B16: 0 | C16: =SUM('Suivi conso'!DY41:DY43) -> 0 | D16: =B16-C16 -> 0 | F16: =IF(C16>B16,"Dépassement de "&C16-B16,"")
A17: =Paramètres!A17 -> Nom15 | B17: 0 | C17: =SUM('Suivi conso'!DY44:DY46) -> 9250 | D17: =B17-C17 -> -9250 | F17: =IF(C17>B17,"Dépassement de "&C17-B17,"") -> Dépassement de 9250
A18: =Paramètres!A18 -> Nom16 | B18: 0 | C18: =SUM('Suivi conso'!DY47:DY49) -> 0 | D18: =B18-C18 -> 0 | F18: =IF(C18>B18,"Dépassement de "&C18-B18,"")
A19: =Paramètres!A19 -> Nom17 | B19: 0 | C19: =SUM('Suivi conso'!DY50:DY52) -> 0 | D19: =B19-C19 -> 0 | F19: =IF(C19>B19,"Dépassement de "&C19-B19,"")
A20: =Paramètres!A20 -> Nom18 | B20: 10000 | C20: =SUM('Suivi conso'!DY53:DY55) -> 10000 | D20: =B20-C20 -> 0 | F20: =IF(C20>B20,"Dépassement de "&C20-B20,"")
A21: =Paramètres!A21 -> Nom19 | B21: 0 | C21: =SUM('Suivi conso'!DY56:DY58) -> 0 | D21: =B21-C21 -> 0 | F21: =IF(C21>B21,"Dépassement de "&C21-B21,"")
A22: =Paramètres!A22 -> Nom20 | B22: 0 | C22: =SUM('Suivi conso'!DY59:DY61) -> 0 | D22: =B22-C22 -> 0 | F22: =IF(C22>B22,"Dépassement de "&C22-B22,"")
A23: =Paramètres!A23 -> Nom21 | B23: 0 | C23: =SUM('Suivi conso'!DY62:DY64) -> 0 | D23: =B23-C23 -> 0 | F23: =IF(C23>B23,"Dépassement de "&C23-B23,"")
A24: =Paramètres!A24 -> Nom22 | B24: 0 | C24: =SUM('Suivi conso'!DY65:DY67) -> 4000 | D24: =B24-C24 -> -4000 | F24: =IF(C24>B24,"Dépassement de "&C24-B24,"") -> Dépassement de 4000
A25: =Paramètres!A25 -> Nom23 | B25: 6000 | C25: =SUM('Suivi conso'!DY68:DY70) -> 6000 | D25: =B25-C25 -> 0 | F25: =IF(C25>B25,"Dépassement de "&C25-B25,"")
A26: =Paramètres!A26 -> Nom24 | B26: 0 | C26: =SUM('Suivi conso'!DY71:DY73) -> 0 | D26: =B26-C26 -> 0 | F26: =IF(C26>B26,"Dépassement de "&C26-B26,"")
A27: =Paramètres!A27 -> Nom25 | B27: 0 | C27: =SUM('Suivi conso'!DY74:DY76) -> 0 | D27: =B27-C27 -> 0 | F27: =IF(C27>B27,"Dépassement de "&C27-B27,"")
A28: =Paramètres!A28 -> Nom26 | B28: 0 | C28: =SUM('Suivi conso'!DY77:DY79) -> 0 | D28: =B28-C28 -> 0 | F28: =IF(C28>B28,"Dépassement de "&C28-B28,"")
A29: =Paramètres!A29 -> Nom27 | B29: 10500 | C29: =SUM('Suivi conso'!DY80:DY82) -> 5500 | D29: =B29-C29 -> 5000 | F29: =IF(C29>B29,"Dépassement de "&C29-B29,"")
A30: =Paramètres!A30 -> Nom28 | B30: 1000 | C30: =SUM('Suivi conso'!DY83:DY85) -> 5750 | D30: =B30-C30 -> -4750 | F30: =IF(C30>B30,"Dépassement de "&C30-B30,"") -> Dépassement de 4750
A31: =Paramètres!A31 -> Nom29 | B31: 0 | C31: =SUM('Suivi conso'!DY86:DY88) -> 0 | D31: =B31-C31 -> 0 | F31: =IF(C31>B31,"Dépassement de "&C31-B31,"")
A32: =Paramètres!A32 -> Nom30 | B32: 0 | C32: =SUM('Suivi conso'!DY89:DY91) -> 0 | D32: =B32-C32 -> 0 | F32: =IF(C32>B32,"Dépassement de "&C32-B32,"")
A33: =Paramètres!A33 -> Nom31 | B33: 0 | C33: =SUM('Suivi conso'!DY92:DY94) -> 0 | D33: =B33-C33 -> 0 | F33: =IF(C33>B33,"Dépassement de "&C33-B33,"")
A34: =Paramètres!A34 -> Nom32 | B34: 2000 | C34: =SUM('Suivi conso'!DY95:DY97) -> 2000 | D34: =B34-C34 -> 0 | F34: =IF(C34>B34,"Dépassement de "&C34-B34,"")
A35: =Paramètres!A35 -> Nom33 | B35: 0 | C35: =SUM('Suivi conso'!DY98:DY100) -> 0 | D35: =B35-C35 -> 0 | F35: =IF(C35>B35,"Dépassement de "&C35-B35,"")
A36: =Paramètres!A36 -> Nom34 | B36: 6000 | C36: =SUM('Suivi conso'!DY101:DY103) -> 7750 | D36: =B36-C36 -> -1750 | F36: =IF(C36>B36,"Dépassement de "&C36-B36,"") -> Dépassement de 1750
A37: =Paramètres!A37 -> Nom35 | B37: 0 | C37: =SUM('Suivi conso'!DY104:DY106) -> 3750 | D37: =B37-C37 -> -3750 | F37: =IF(C37>B37,"Dépassement de "&C37-B37,"") -> Dépassement de 3750
A38: =Paramètres!A38 -> Nom36 | B38: 0 | C38: =SUM('Suivi conso'!DY107:DY109) -> 0 | D38: =B38-C38 -> 0 | F38: =IF(C38>B38,"Dépassement de "&C38-B38,"")
A39: =Paramètres!A39 -> Nom37 | B39: 18000 | C39: =SUM('Suivi conso'!DY110:DY112) -> 1500 | D39: =B39-C39 -> 16500 | F39: =IF(C39>B39,"Dépassement de "&C39-B39,"")
A40: =Paramètres!A40 -> Nom38 | B40: 0 | C40: =SUM('Suivi conso'!DY113:DY115) -> 0 | D40: =B40-C40 -> 0 | F40: =IF(C40>B40,"Dépassement de "&C40-B40,"")
A41: =Paramètres!A41 -> Nom39 | B41: 0 | C41: =SUM('Suivi conso'!DY116:DY118) -> 0 | D41: =B41-C41 -> 0 | F41: =IF(C41>B41,"Dépassement de "&C41-B41,"")
A42: =Paramètres!A42 -> Nom40 | B42: 0 | C42: =SUM('Suivi conso'!DY119:DY121) -> 0 | D42: =B42-C42 -> 0 | F42: =IF(C42>B42,"Dépassement de "&C42-B42,"")
A43: =Paramètres!A43 -> Nom41 | B43: 0 | C43: =SUM('Suivi conso'!DY122:DY124) -> 0 | D43: =B43-C43 -> 0 | F43: =IF(C43>B43,"Dépassement de "&C43-B43,"")
A44: =Paramètres!A44 -> Nom42 | B44: 0 | C44: =SUM('Suivi conso'!DY125:DY127) -> 4000 | D44: =B44-C44 -> -4000 | F44: =IF(C44>B44,"Dépassement de "&C44-B44,"") -> Dépassement de 4000
A45: =Paramètres!A45 -> Nom43 | B45: 0 | C45: =SUM('Suivi conso'!DY128:DY130) -> 0 | D45: =B45-C45 -> 0 | F45: =IF(C45>B45,"Dépassement de "&C45-B45,"")
A46: =Paramètres!A46 -> Nom44 | B46: 0 | C46: =SUM('Suivi conso'!DY131:DY133) -> 0 | D46: =B46-C46 -> 0 | F46: =IF(C46>B46,"Dépassement de "&C46-B46,"")
A47: =Paramètres!A47 -> Nom45 | B47: 0 | C47: =SUM('Suivi conso'!DY134:DY136) -> 0 | D47: =B47-C47 -> 0 | F47: =IF(C47>B47,"Dépassement de "&C47-B47,"")
A48: =Paramètres!A48 -> Nom46 | B48: 0 | C48: =SUM('Suivi conso'!DY137:DY139) -> 0 | D48: =B48-C48 -> 0 | F48: =IF(C48>B48,"Dépassement de "&C48-B48,"")
A49: =Paramètres!A49 -> Nom47 | B49: 0 | C49: =SUM('Suivi conso'!DY140:DY142) -> 0 | D49: =B49-C49 -> 0 | F49: =IF(C49>B49,"Dépassement de "&C49-B49,"")
A50: =Paramètres!A50 -> Nom48 | B50: 0 | C50: =SUM('Suivi conso'!DY143:DY145) -> 3500 | D50: =B50-C50 -> -3500 | F50: =IF(C50>B50,"Dépassement de "&C50-B50,"") -> Dépassement de 3500
A51: =Paramètres!A51 -> Nom49 | B51: 0 | C51: =SUM('Suivi conso'!DY146:DY148) -> 0 | D51: =B51-C51 -> 0 | F51: =IF(C51>B51,"Dépassement de "&C51-B51,"")
A52: =Paramètres!A52 -> Nom50 | B52: 0 | C52: =SUM('Suivi conso'!DY149:DY151) -> 3750 | D52: =B52-C52 -> -3750 | F52: =IF(C52>B52,"Dépassement de "&C52-B52,"") -> Dépassement de 3750
A53: =Paramètres!A53 -> Nom51 | B53: 16000 | C53: =SUM('Suivi conso'!DY152:DY154) -> 0 | D53: =B53-C53 -> 16000 | F53: =IF(C53>B53,"Dépassement de "&C53-B53,"")
A54: =Paramètres!A54 -> Nom52 | B54: 0 | C54: =SUM('Suivi conso'!DY155:DY157) -> 0 | D54: =B54-C54 -> 0 | F54: =IF(C54>B54,"Dépassement de "&C54-B54,"")
A55: =Paramètres!A55 -> Nom53 | B55: 0 | C55: =SUM('Suivi conso'!DY158:DY160) -> 0 | D55: =B55-C55 -> 0 | F55: =IF(C55>B55,"Dépassement de "&C55-B55,"")
A56: =Paramètres!A56 -> Nom54 | B56: 0 | C56: =SUM('Suivi conso'!DY161:DY163) -> 0 | D56: =B56-C56 -> 0 | F56: =IF(C56>B56,"Dépassement de "&C56-B56,"")
A57: =Paramètres!A57 -> Nom55 | B57: 0 | C57: =SUM('Suivi conso'!DY164:DY166) -> 0 | D57: =B57-C57 -> 0 | F57: =IF(C57>B57,"Dépassement de "&C57-B57,"")
A58: =Paramètres!A58 -> Nom56 | B58: 0 | C58: =SUM('Suivi conso'!DY167:DY169) -> 0 | D58: =B58-C58 -> 0 | F58: =IF(C58>B58,"Dépassement de "&C58-B58,"")
A59: =Paramètres!A59 -> Nom57 | B59: 0 | C59: =SUM('Suivi conso'!DY170:DY172) -> 0 | D59: =B59-C59 -> 0 | F59: =IF(C59>B59,"Dépassement de "&C59-B59,"")
A60: =Paramètres!A60 -> Nom58 | B60: 0 | C60: =SUM('Suivi conso'!DY173:DY175) -> 0 | D60: =B60-C60 -> 0 | F60: =IF(C60>B60,"Dépassement de "&C60-B60,"")
A61: =Paramètres!A61 -> Nom59 | B61: 0 | C61: =SUM('Suivi conso'!DY176:DY178) -> 0 | D61: =B61-C61 -> 0 | F61: =IF(C61>B61,"Dépassement de "&C61-B61,"")
A62: =Paramètres!A62 -> Nom60 | B62: 0 | C62: =SUM('Suivi conso'!DY179:DY181) -> 0 | D62: =B62-C62 -> 0 | F62: =IF(C62>B62,"Dépassement de "&C62-B62,"")
A63: =Paramètres!A63 -> Nom61 | B63: 0 | C63: =SUM('Suivi conso'!DY182:DY184) -> 0 | D63: =B63-C63 -> 0 | F63: =IF(C63>B63,"Dépassement de "&C63-B63,"")
A68: Total | B68: =SUM(B3:B67) -> 69500 | C68: =SUM(C3:C67) -> 72750 | D68: =SUM(D3:D67) -> -3250
