Workbook
Name anne_sem_theo: '[2]Datas SI2C'!$Z$6:$Z$65536
Name Année: '[2]Retour R'!#REF!
Name annee_reel: '[2]Retour R'!#REF!
Name annee_theo: '[2]Datas SI2C'!$W$6:$W$65536
Name Calcule_des_écarts: [2]Ecarts!$I$2
Name Client: '[2]Retour R'!#REF!
Name client_reel: '[2]Retour R'!#REF!
Name CM_Réponses: [3]CM_PM01!$D$8:$D$26,[3]CM_PM01!$D$28:$D$34,[3]CM_PM01!$D$36:$D$44,[3]CM_PM01!$D$46:$D$67,[3]CM_PM01!$D$69:$D$80
Name Code_Client: '[2]Saisie Des Retours'!$B$6:$M$6
Name Code_Emb: '[4]Masque de Saisie'!$A$8:$A$27
Name code_emb_theo: '[2]Datas SI2C'!$G$6:$G$65536
Name Code_emb_utilisé: '[2]Retour R'!#REF!
Name code_enm_reel: '[2]Retour R'!#REF!
Name col_annee_Rell: '[2]Retour R'!$A$6:$A$65181
Name col_cli_reel: '[2]Retour R'!$C$6:$C$65181
Name col_cli_theo: '[2]Datas SI2C'!$L$6:$L$65536
Name col_emb_reel: '[2]Retour R'!$D$6:$D$65181
Name col_nbr_reel: '[2]Retour R'!$E$6:$E$65181
Name col_sem_reel: '[2]Retour R'!$B$6:$B$65181
Name Février: [2]Ecarts!$IU$6
Name Nbr_emb: '[2]Retour R'!#REF!
Name nbr_ret_theo: '[2]Datas SI2C'!$H$6:$H$65536
Name Sem: '[2]Retour R'!#REF!
Name sem_reel: '[2]Retour R'!#REF!
Name sem_theo: '[2]Datas SI2C'!$X$6:$X$65536
Name TabQuestPilotage: #REF!
Name TabRepC: #REF!
Name TabRepCC: #REF!
Name TabRepCcType: #REF!
Name TabRepM: #REF!
Name TabRepMM: #REF!
Name TabRepMmType: #REF!
Name TabRepP: #REF!
Name TabRepPP: #REF!
Name TabRepPpType: #REF!
Name TopPilotage: #REF!
Name TopProjet: #REF!

Sheet Acc
F4: Indicateur d'incident
D10: il y 3 feuilles

Sheet Incident_Info
H2: Suivi des Incidents - FRX
A5: N° | B5: Numéro de la fiche incident | C5: Date JJ/MM | D5: Date - Mois | E5: Date jj/mm/aaaa | F5: Fournisseur | G5: Client | H5: Type | I5: Coût (€)
A6: 1 | B6: FRX MAX 192/2012 006 | C6: =MID(B6,9,8) -> 192/2012 | D6: =TEXT(E6,"mmmm") -> juillet | E6: =DATE(RIGHT(C6,4),1,1)+LEFT(C6,SEARCH("/",C6)-1)-1 -> 41100 | F6: =MID(B6,1,3) -> FRX | G6: =MID(B6,5,3) -> MAX | H6: A5 | I6: 600
A7: 2 | B7: FRX SAM 206/2012 007 | C7: =MID(B7,9,8) -> 206/2012 | D7: =TEXT(E7,"mmmm") -> juillet | E7: =DATE(RIGHT(C7,4),1,1)+LEFT(C7,SEARCH("/",C7)-1)-1 -> 41114 | F7: =MID(B7,1,3) -> FRX | G7: =MID(B7,5,3) -> SAM | H7: A1;A5 | I7: -
A8: 3 | B8: FRX BMW 269/2012 008 | C8: =MID(B8,9,8) -> 269/2012 | D8: =TEXT(E8,"mmmm") -> septembre | E8: =DATE(RIGHT(C8,4),1,1)+LEFT(C8,SEARCH("/",C8)-1)-1 -> 41177 | F8: =MID(B8,1,3) -> FRX | G8: =MID(B8,5,3) -> BMW | H8: B2 | I8: -
A9: 4 | B9: FRX SMS 121/2012 015 | C9: =MID(B9,9,8) -> 121/2012 | D9: =TEXT(E9,"mmmm") -> avril | E9: =DATE(RIGHT(C9,4),1,1)+LEFT(C9,SEARCH("/",C9)-1)-1 -> 41029 | F9: =MID(B9,1,3) -> FRX | G9: =MID(B9,5,3) -> SMS | H9: A1;A5 | I9: 490
A10: 5 | B10: FRX BMW 318/2012 012 | C10: =MID(B10,9,8) -> 318/2012 | D10: =TEXT(E10,"mmmm") -> novembre | E10: =DATE(RIGHT(C10,4),1,1)+LEFT(C10,SEARCH("/",C10)-1)-1 -> 41226 | F10: =MID(B10,1,3) -> FRX | G10: =MID(B10,5,3) -> BMW | H10: B2 | I10: -
A11: 6 | B11: FRX SAM 327/2012 018 | C11: =MID(B11,9,8) -> 327/2012 | D11: =TEXT(E11,"mmmm") -> novembre | E11: =DATE(RIGHT(C11,4),1,1)+LEFT(C11,SEARCH("/",C11)-1)-1 -> 41235 | F11: =MID(B11,1,3) -> FRX | G11: =MID(B11,5,3) -> SAM | H11: A1;A5 | I11: 135
A12: 7 | B12: FRX PGA 300/2012 014 | C12: =MID(B12,9,8) -> 300/2012 | D12: =TEXT(E12,"mmmm") -> octobre | E12: =DATE(RIGHT(C12,4),1,1)+LEFT(C12,SEARCH("/",C12)-1)-1 -> 41208 | F12: =MID(B12,1,3) -> FRX | G12: =MID(B12,5,3) -> PGA | H12: A1;A5;A6 | I12: 130
A13: 8 | B13: FRX RM1 63/2012 017 | C13: =MID(B13,9,8) -> 63/2012 | D13: =TEXT(E13,"mmmm") -> mars | E13: =DATE(RIGHT(C13,4),1,1)+LEFT(C13,SEARCH("/",C13)-1)-1 -> 4446 | F13: =MID(B13,1,3) -> FRX | G13: =MID(B13,5,3) -> RM1 | H13: B5 | I13: 180
A14: 9 | B14: FRX FOR 324/2012 016 | C14: =MID(B14,9,8) -> 324/2012 | D14: =TEXT(E14,"mmmm") -> novembre | E14: =DATE(RIGHT(C14,4),1,1)+LEFT(C14,SEARCH("/",C14)-1)-1 -> 41232 | F14: =MID(B14,1,3) -> FRX | G14: =MID(B14,5,3) -> FOR | H14: A1;A6 | I14: 10
A15: 10 | B15: FRX AMG 290/2012 007 | C15: =MID(B15,9,8) -> 290/2012 | D15: =TEXT(E15,"mmmm") -> octobre | E15: =DATE(RIGHT(C15,4),1,1)+LEFT(C15,SEARCH("/",C15)-1)-1 -> 41198 | F15: =MID(B15,1,3) -> FRX | G15: =MID(B15,5,3) -> AMG | H15: A1 | I15: 120
A16: 11 | B16: FRX AMG 99/2012 001 | C16: =MID(B16,9,8) -> 99/2012 | D16: =TEXT(E16,"mmmm") -> avril | E16: =DATE(RIGHT(C16,4),1,1)+LEFT(C16,SEARCH("/",C16)-1)-1 -> 4482 | F16: =MID(B16,1,3) -> FRX | G16: =MID(B16,5,3) -> AMG | H16: A5;A7 | I16: 200
A17: 12 | B17: FRX AMD 124/2012 016 | C17: =MID(B17,9,8) -> 124/2012 | D17: =TEXT(E17,"mmmm") -> mai | E17: =DATE(RIGHT(C17,4),1,1)+LEFT(C17,SEARCH("/",C17)-1)-1 -> 41032 | F17: =MID(B17,1,3) -> FRX | G17: =MID(B17,5,3) -> AMD | H17: A5;A8 | I17: 201
A18: 13 | C18: =MID(B18,9,8) | F18: =MID(B18,1,3) | G18: =MID(B18,5,3)
A19: 14 | C19: =MID(B19,9,8) | F19: =MID(B19,1,3) | G19: =MID(B19,5,3)
A20: 15 | C20: =MID(B20,9,8) | F20: =MID(B20,1,3) | G20: =MID(B20,5,3)
C21: =MID(B21,9,8) | F21: =MID(B21,1,3) | G21: =MID(B21,5,3)
C22: =MID(B22,9,8) | F22: =MID(B22,1,3) | G22: =MID(B22,5,3)
C23: =MID(B23,9,8) | F23: =MID(B23,1,3) | G23: =MID(B23,5,3)
C24: =MID(B24,9,8) | F24: =MID(B24,1,3) | G24: =MID(B24,5,3)
C25: =MID(B25,9,8) | F25: =MID(B25,1,3) | G25: =MID(B25,5,3)
C26: =MID(B26,9,8) | F26: =MID(B26,1,3) | G26: =MID(B26,5,3)
C27: =MID(B27,9,8) | F27: =MID(B27,1,3) | G27: =MID(B27,5,3)
C28: =MID(B28,9,8) | F28: =MID(B28,1,3) | G28: =MID(B28,5,3)
C29: =MID(B29,9,8) | F29: =MID(B29,1,3) | G29: =MID(B29,5,3)
C30: =MID(B30,9,8) | F30: =MID(B30,1,3) | G30: =MID(B30,5,3)
C31: =MID(B31,9,8) | F31: =MID(B31,1,3) | G31: =MID(B31,5,3)
C32: =MID(B32,9,8) | F32: =MID(B32,1,3) | G32: =MID(B32,5,3)
... C36: =MID(B36,9,8) | F36: =MID(B36,1,3) | G36: =MID(B36,5,3)

Sheet Incidentologie
B2: Nombre d'incidents émis par client & par mois en 2012 | P2: Répartition des incidents par typologie
C5: MAX | D5: SAM | E5: FOR | F5: RM1 | G5: SMS | H5: AMG | I5: BMW | J5: PGA | K5: AMD | L5: Total | P5: Type d'incident | Q5: Nombre
B6: Janvier | C6: =SUMPRODUCT((Incident_Info!$G$6:$G$14999=Incidentologie!C$5)*(Incident_Info!$D$6:$D$14999=Incidentologie!$B6)) -> 0 | D6: =SUMPRODUCT((Incident_Info!$G$6:$G$14999=Incidentologie!D$5)*(Incident_Info!$D$6:$D$14999=Incidentologie!$B6)) -> 0 | E6: =SUMPRODUCT((Incident_Info!$G$6:$G$14999=Incidentologie!E$5)*(Incident_Info!$D$6:$D$14999=Incidentologie!$B6)) -> 0 | F6: =SUMPRODUCT((Incident_Info!$G$6:$G$14999=Incidentologie!F$5)*(Incident_Info!$D$6:$D$14999=Incidentologie!$B6)) -> 0 | G6: =SUMPRODUCT((Incident_Info!$G$6:$G$14999=Incidentologie!G$5)*(Incident_Info!$D$6:$D$14999=Incidentologie!$B6)) -> 0 | H6: =SUMPRODUCT((Incident_Info!$G$6:$G$14999=Incidentologie!H$5)*(Incident_Info!$D$6:$D$14999=Incidentologie!$B6)) -> 0 | I6: =SUMPRODUCT((Incident_Info!$G$6:$G$14999=Incidentologie!I$5)*(Incident_Info!$D$6:$D$14999=Incidentologie!$B6)) -> 0 | J6: =SUMPRODUCT((Incident_Info!$G$6:$G$14999=Incidentologie!J$5)*(Incident_Info!$D$6:$D$14999=Incidentologie!$B6)) -> 0 | K6: =SUMPRODUCT((Incident_Info!$G$6:$G$14999=Incidentologie!K$5)*(Incident_Info!$D$6:$D$14999=Incidentologie!$B6)) -> 0 | L6: =SUM(C6:K6) -> 0 | O6: A1 | P6: Incident A1
B7: Février | C7: =SUMPRODUCT((Incident_Info!$G$6:$G$14999=Incidentologie!C$5)*(Incident_Info!$D$6:$D$14999=Incidentologie!$B7)) -> 0 | D7: =SUMPRODUCT((Incident_Info!$G$6:$G$14999=Incidentologie!D$5)*(Incident_Info!$D$6:$D$14999=Incidentologie!$B7)) -> 0 | E7: =SUMPRODUCT((Incident_Info!$G$6:$G$14999=Incidentologie!E$5)*(Incident_Info!$D$6:$D$14999=Incidentologie!$B7)) -> 0 | F7: =SUMPRODUCT((Incident_Info!$G$6:$G$14999=Incidentologie!F$5)*(Incident_Info!$D$6:$D$14999=Incidentologie!$B7)) -> 0 | G7: =SUMPRODUCT((Incident_Info!$G$6:$G$14999=Incidentologie!G$5)*(Incident_Info!$D$6:$D$14999=Incidentologie!$B7)) -> 0 | H7: =SUMPRODUCT((Incident_Info!$G$6:$G$14999=Incidentologie!H$5)*(Incident_Info!$D$6:$D$14999=Incidentologie!$B7)) -> 0 | I7: =SUMPRODUCT((Incident_Info!$G$6:$G$14999=Incidentologie!I$5)*(Incident_Info!$D$6:$D$14999=Incidentologie!$B7)) -> 0 | J7: =SUMPRODUCT((Incident_Info!$G$6:$G$14999=Incidentologie!J$5)*(Incident_Info!$D$6:$D$14999=Incidentologie!$B7)) -> 0 | K7: =SUMPRODUCT((Incident_Info!$G$6:$G$14999=Incidentologie!K$5)*(Incident_Info!$D$6:$D$14999=Incidentologie!$B7)) -> 0 | L7: =SUM(C7:K7) -> 0 | O7: A2 | P7: Incident A2
B8: Mars | C8: =SUMPRODUCT((Incident_Info!$G$6:$G$14999=Incidentologie!C$5)*(Incident_Info!$D$6:$D$14999=Incidentologie!$B8)) -> 0 | D8: =SUMPRODUCT((Incident_Info!$G$6:$G$14999=Incidentologie!D$5)*(Incident_Info!$D$6:$D$14999=Incidentologie!$B8)) -> 0 | E8: =SUMPRODUCT((Incident_Info!$G$6:$G$14999=Incidentologie!E$5)*(Incident_Info!$D$6:$D$14999=Incidentologie!$B8)) -> 0 | F8: =SUMPRODUCT((Incident_Info!$G$6:$G$14999=Incidentologie!F$5)*(Incident_Info!$D$6:$D$14999=Incidentologie!$B8)) -> 1 | G8: =SUMPRODUCT((Incident_Info!$G$6:$G$14999=Incidentologie!G$5)*(Incident_Info!$D$6:$D$14999=Incidentologie!$B8)) -> 0 | H8: =SUMPRODUCT((Incident_Info!$G$6:$G$14999=Incidentologie!H$5)*(Incident_Info!$D$6:$D$14999=Incidentologie!$B8)) -> 0 | I8: =SUMPRODUCT((Incident_Info!$G$6:$G$14999=Incidentologie!I$5)*(Incident_Info!$D$6:$D$14999=Incidentologie!$B8)) -> 0 | J8: =SUMPRODUCT((Incident_Info!$G$6:$G$14999=Incidentologie!J$5)*(Incident_Info!$D$6:$D$14999=Incidentologie!$B8)) -> 0 | K8: =SUMPRODUCT((Incident_Info!$G$6:$G$14999=Incidentologie!K$5)*(Incident_Info!$D$6:$D$14999=Incidentologie!$B8)) -> 0 | L8: =SUM(C8:K8) -> 1 | O8: A3 | P8: Incident A3
B9: Avril | C9: =SUMPRODUCT((Incident_Info!$G$6:$G$14999=Incidentologie!C$5)*(Incident_Info!$D$6:$D$14999=Incidentologie!$B9)) -> 0 | D9: =SUMPRODUCT((Incident_Info!$G$6:$G$14999=Incidentologie!D$5)*(Incident_Info!$D$6:$D$14999=Incidentologie!$B9)) -> 0 | E9: =SUMPRODUCT((Incident_Info!$G$6:$G$14999=Incidentologie!E$5)*(Incident_Info!$D$6:$D$14999=Incidentologie!$B9)) -> 0 | F9: =SUMPRODUCT((Incident_Info!$G$6:$G$14999=Incidentologie!F$5)*(Incident_Info!$D$6:$D$14999=Incidentologie!$B9)) -> 0 | G9: =SUMPRODUCT((Incident_Info!$G$6:$G$14999=Incidentologie!G$5)*(Incident_Info!$D$6:$D$14999=Incidentologie!$B9)) -> 1 | H9: =SUMPRODUCT((Incident_Info!$G$6:$G$14999=Incidentologie!H$5)*(Incident_Info!$D$6:$D$14999=Incidentologie!$B9)) -> 1 | I9: =SUMPRODUCT((Incident_Info!$G$6:$G$14999=Incidentologie!I$5)*(Incident_Info!$D$6:$D$14999=Incidentologie!$B9)) -> 0 | J9: =SUMPRODUCT((Incident_Info!$G$6:$G$14999=Incidentologie!J$5)*(Incident_Info!$D$6:$D$14999=Incidentologie!$B9)) -> 0 | K9: =SUMPRODUCT((Incident_Info!$G$6:$G$14999=Incidentologie!K$5)*(Incident_Info!$D$6:$D$14999=Incidentologie!$B9)) -> 0 | L9: =SUM(C9:K9) -> 2 | O9: A4 | P9: Incident A4
B10: Mai | C10: =SUMPRODUCT((Incident_Info!$G$6:$G$14999=Incidentologie!C$5)*(Incident_Info!$D$6:$D$14999=Incidentologie!$B10)) -> 0 | D10: =SUMPRODUCT((Incident_Info!$G$6:$G$14999=Incidentologie!D$5)*(Incident_Info!$D$6:$D$14999=Incidentologie!$B10)) -> 0 | E10: =SUMPRODUCT((Incident_Info!$G$6:$G$14999=Incidentologie!E$5)*(Incident_Info!$D$6:$D$14999=Incidentologie!$B10)) -> 0 | F10: =SUMPRODUCT((Incident_Info!$G$6:$G$14999=Incidentologie!F$5)*(Incident_Info!$D$6:$D$14999=Incidentologie!$B10)) -> 0 | G10: =SUMPRODUCT((Incident_Info!$G$6:$G$14999=Incidentologie!G$5)*(Incident_Info!$D$6:$D$14999=Incidentologie!$B10)) -> 0 | H10: =SUMPRODUCT((Incident_Info!$G$6:$G$14999=Incidentologie!H$5)*(Incident_Info!$D$6:$D$14999=Incidentologie!$B10)) -> 0 | I10: =SUMPRODUCT((Incident_Info!$G$6:$G$14999=Incidentologie!I$5)*(Incident_Info!$D$6:$D$14999=Incidentologie!$B10)) -> 0 | J10: =SUMPRODUCT((Incident_Info!$G$6:$G$14999=Incidentologie!J$5)*(Incident_Info!$D$6:$D$14999=Incidentologie!$B10)) -> 0 | K10: =SUMPRODUCT((Incident_Info!$G$6:$G$14999=Incidentologie!K$5)*(Incident_Info!$D$6:$D$14999=Incidentologie!$B10)) -> 1 | L10: =SUM(C10:K10) -> 1 | O10: A5 | P10: Incident A5 | Q10: 5
B11: Juin | C11: =SUMPRODUCT((Incident_Info!$G$6:$G$14999=Incidentologie!C$5)*(Incident_Info!$D$6:$D$14999=Incidentologie!$B11)) -> 0 | D11: =SUMPRODUCT((Incident_Info!$G$6:$G$14999=Incidentologie!D$5)*(Incident_Info!$D$6:$D$14999=Incidentologie!$B11)) -> 0 | E11: =SUMPRODUCT((Incident_Info!$G$6:$G$14999=Incidentologie!E$5)*(Incident_Info!$D$6:$D$14999=Incidentologie!$B11)) -> 0 | F11: =SUMPRODUCT((Incident_Info!$G$6:$G$14999=Incidentologie!F$5)*(Incident_Info!$D$6:$D$14999=Incidentologie!$B11)) -> 0 | G11: =SUMPRODUCT((Incident_Info!$G$6:$G$14999=Incidentologie!G$5)*(Incident_Info!$D$6:$D$14999=Incidentologie!$B11)) -> 0 | H11: =SUMPRODUCT((Incident_Info!$G$6:$G$14999=Incidentologie!H$5)*(Incident_Info!$D$6:$D$14999=Incidentologie!$B11)) -> 0 | I11: =SUMPRODUCT((Incident_Info!$G$6:$G$14999=Incidentologie!I$5)*(Incident_Info!$D$6:$D$14999=Incidentologie!$B11)) -> 0 | J11: =SUMPRODUCT((Incident_Info!$G$6:$G$14999=Incidentologie!J$5)*(Incident_Info!$D$6:$D$14999=Incidentologie!$B11)) -> 0 | K11: =SUMPRODUCT((Incident_Info!$G$6:$G$14999=Incidentologie!K$5)*(Incident_Info!$D$6:$D$14999=Incidentologie!$B11)) -> 0 | L11: =SUM(C11:K11) -> 0 | O11: B1 | P11: Incident B1
B12: Juillet | C12: =SUMPRODUCT((Incident_Info!$G$6:$G$14999=Incidentologie!C$5)*(Incident_Info!$D$6:$D$14999=Incidentologie!$B12)) -> 1 | D12: =SUMPRODUCT((Incident_Info!$G$6:$G$14999=Incidentologie!D$5)*(Incident_Info!$D$6:$D$14999=Incidentologie!$B12)) -> 1 | E12: =SUMPRODUCT((Incident_Info!$G$6:$G$14999=Incidentologie!E$5)*(Incident_Info!$D$6:$D$14999=Incidentologie!$B12)) -> 0 | F12: =SUMPRODUCT((Incident_Info!$G$6:$G$14999=Incidentologie!F$5)*(Incident_Info!$D$6:$D$14999=Incidentologie!$B12)) -> 0 | G12: =SUMPRODUCT((Incident_Info!$G$6:$G$14999=Incidentologie!G$5)*(Incident_Info!$D$6:$D$14999=Incidentologie!$B12)) -> 0 | H12: =SUMPRODUCT((Incident_Info!$G$6:$G$14999=Incidentologie!H$5)*(Incident_Info!$D$6:$D$14999=Incidentologie!$B12)) -> 0 | I12: =SUMPRODUCT((Incident_Info!$G$6:$G$14999=Incidentologie!I$5)*(Incident_Info!$D$6:$D$14999=Incidentologie!$B12)) -> 0 | J12: =SUMPRODUCT((Incident_Info!$G$6:$G$14999=Incidentologie!J$5)*(Incident_Info!$D$6:$D$14999=Incidentologie!$B12)) -> 0 | K12: =SUMPRODUCT((Incident_Info!$G$6:$G$14999=Incidentologie!K$5)*(Incident_Info!$D$6:$D$14999=Incidentologie!$B12)) -> 0 | L12: =SUM(C12:K12) -> 2 | O12: B2 | P12: Incident B2 | Q12: 2
B13: Août | C13: =SUMPRODUCT((Incident_Info!$G$6:$G$14999=Incidentologie!C$5)*(Incident_Info!$D$6:$D$14999=Incidentologie!$B13)) -> 0 | D13: =SUMPRODUCT((Incident_Info!$G$6:$G$14999=Incidentologie!D$5)*(Incident_Info!$D$6:$D$14999=Incidentologie!$B13)) -> 0 | E13: =SUMPRODUCT((Incident_Info!$G$6:$G$14999=Incidentologie!E$5)*(Incident_Info!$D$6:$D$14999=Incidentologie!$B13)) -> 0 | F13: =SUMPRODUCT((Incident_Info!$G$6:$G$14999=Incidentologie!F$5)*(Incident_Info!$D$6:$D$14999=Incidentologie!$B13)) -> 0 | G13: =SUMPRODUCT((Incident_Info!$G$6:$G$14999=Incidentologie!G$5)*(Incident_Info!$D$6:$D$14999=Incidentologie!$B13)) -> 0 | H13: =SUMPRODUCT((Incident_Info!$G$6:$G$14999=Incidentologie!H$5)*(Incident_Info!$D$6:$D$14999=Incidentologie!$B13)) -> 0 | I13: =SUMPRODUCT((Incident_Info!$G$6:$G$14999=Incidentologie!I$5)*(Incident_Info!$D$6:$D$14999=Incidentologie!$B13)) -> 0 | J13: =SUMPRODUCT((Incident_Info!$G$6:$G$14999=Incidentologie!J$5)*(Incident_Info!$D$6:$D$14999=Incidentologie!$B13)) -> 0 | K13: =SUMPRODUCT((Incident_Info!$G$6:$G$14999=Incidentologie!K$5)*(Incident_Info!$D$6:$D$14999=Incidentologie!$B13)) -> 0 | L13: =SUM(C13:K13) -> 0 | O13: B3 | P13: Incident B3
B14: Septembre | C14: =SUMPRODUCT((Incident_Info!$G$6:$G$14999=Incidentologie!C$5)*(Incident_Info!$D$6:$D$14999=Incidentologie!$B14)) -> 0 | D14: =SUMPRODUCT((Incident_Info!$G$6:$G$14999=Incidentologie!D$5)*(Incident_Info!$D$6:$D$14999=Incidentologie!$B14)) -> 0 | E14: =SUMPRODUCT((Incident_Info!$G$6:$G$14999=Incidentologie!E$5)*(Incident_Info!$D$6:$D$14999=Incidentologie!$B14)) -> 0 | F14: =SUMPRODUCT((Incident_Info!$G$6:$G$14999=Incidentologie!F$5)*(Incident_Info!$D$6:$D$14999=Incidentologie!$B14)) -> 0 | G14: =SUMPRODUCT((Incident_Info!$G$6:$G$14999=Incidentologie!G$5)*(Incident_Info!$D$6:$D$14999=Incidentologie!$B14)) -> 0 | H14: =SUMPRODUCT((Incident_Info!$G$6:$G$14999=Incidentologie!H$5)*(Incident_Info!$D$6:$D$14999=Incidentologie!$B14)) -> 0 | I14: =SUMPRODUCT((Incident_Info!$G$6:$G$14999=Incidentologie!I$5)*(Incident_Info!$D$6:$D$14999=Incidentologie!$B14)) -> 1 | J14: =SUMPRODUCT((Incident_Info!$G$6:$G$14999=Incidentologie!J$5)*(Incident_Info!$D$6:$D$14999=Incidentologie!$B14)) -> 0 | K14: =SUMPRODUCT((Incident_Info!$G$6:$G$14999=Incidentologie!K$5)*(Incident_Info!$D$6:$D$14999=Incidentologie!$B14)) -> 0 | L14: =SUM(C14:K14) -> 1 | O14: B4 | P14: Incident B4
B15: Octobre | C15: =SUMPRODUCT((Incident_Info!$G$6:$G$14999=Incidentologie!C$5)*(Incident_Info!$D$6:$D$14999=Incidentologie!$B15)) -> 0 | D15: =SUMPRODUCT((Incident_Info!$G$6:$G$14999=Incidentologie!D$5)*(Incident_Info!$D$6:$D$14999=Incidentologie!$B15)) -> 0 | E15: =SUMPRODUCT((Incident_Info!$G$6:$G$14999=Incidentologie!E$5)*(Incident_Info!$D$6:$D$14999=Incidentologie!$B15)) -> 0 | F15: =SUMPRODUCT((Incident_Info!$G$6:$G$14999=Incidentologie!F$5)*(Incident_Info!$D$6:$D$14999=Incidentologie!$B15)) -> 0 | G15: =SUMPRODUCT((Incident_Info!$G$6:$G$14999=Incidentologie!G$5)*(Incident_Info!$D$6:$D$14999=Incidentologie!$B15)) -> 0 | H15: =SUMPRODUCT((Incident_Info!$G$6:$G$14999=Incidentologie!H$5)*(Incident_Info!$D$6:$D$14999=Incidentologie!$B15)) -> 1 | I15: =SUMPRODUCT((Incident_Info!$G$6:$G$14999=Incidentologie!I$5)*(Incident_Info!$D$6:$D$14999=Incidentologie!$B15)) -> 0 | J15: =SUMPRODUCT((Incident_Info!$G$6:$G$14999=Incidentologie!J$5)*(Incident_Info!$D$6:$D$14999=Incidentologie!$B15)) -> 1 | K15: =SUMPRODUCT((Incident_Info!$G$6:$G$14999=Incidentologie!K$5)*(Incident_Info!$D$6:$D$14999=Incidentologie!$B15)) -> 0 | L15: =SUM(C15:K15) -> 2 | O15: B5 | P15: Incident B5 | Q15: 1
B16: Novembre | C16: =SUMPRODUCT((Incident_Info!$G$6:$G$14999=Incidentologie!C$5)*(Incident_Info!$D$6:$D$14999=Incidentologie!$B16)) -> 0 | D16: =SUMPRODUCT((Incident_Info!$G$6:$G$14999=Incidentologie!D$5)*(Incident_Info!$D$6:$D$14999=Incidentologie!$B16)) -> 1 | E16: =SUMPRODUCT((Incident_Info!$G$6:$G$14999=Incidentologie!E$5)*(Incident_Info!$D$6:$D$14999=Incidentologie!$B16)) -> 1 | F16: =SUMPRODUCT((Incident_Info!$G$6:$G$14999=Incidentologie!F$5)*(Incident_Info!$D$6:$D$14999=Incidentologie!$B16)) -> 0 | G16: =SUMPRODUCT((Incident_Info!$G$6:$G$14999=Incidentologie!G$5)*(Incident_Info!$D$6:$D$14999=Incidentologie!$B16)) -> 0 | H16: =SUMPRODUCT((Incident_Info!$G$6:$G$14999=Incidentologie!H$5)*(Incident_Info!$D$6:$D$14999=Incidentologie!$B16)) -> 0 | I16: =SUMPRODUCT((Incident_Info!$G$6:$G$14999=Incidentologie!I$5)*(Incident_Info!$D$6:$D$14999=Incidentologie!$B16)) -> 1 | J16: =SUMPRODUCT((Incident_Info!$G$6:$G$14999=Incidentologie!J$5)*(Incident_Info!$D$6:$D$14999=Incidentologie!$B16)) -> 0 | K16: =SUMPRODUCT((Incident_Info!$G$6:$G$14999=Incidentologie!K$5)*(Incident_Info!$D$6:$D$14999=Incidentologie!$B16)) -> 0 | L16: =SUM(C16:K16) -> 3 | O16: A6/B6 | P16: Incident A6 / B6 | Q16: 1
B17: Décembre | C17: =SUMPRODUCT((Incident_Info!$G$6:$G$14999=Incidentologie!C$5)*(Incident_Info!$D$6:$D$14999=Incidentologie!$B17)) -> 0 | D17: =SUMPRODUCT((Incident_Info!$G$6:$G$14999=Incidentologie!D$5)*(Incident_Info!$D$6:$D$14999=Incidentologie!$B17)) -> 0 | E17: =SUMPRODUCT((Incident_Info!$G$6:$G$14999=Incidentologie!E$5)*(Incident_Info!$D$6:$D$14999=Incidentologie!$B17)) -> 0 | F17: =SUMPRODUCT((Incident_Info!$G$6:$G$14999=Incidentologie!F$5)*(Incident_Info!$D$6:$D$14999=Incidentologie!$B17)) -> 0 | G17: =SUMPRODUCT((Incident_Info!$G$6:$G$14999=Incidentologie!G$5)*(Incident_Info!$D$6:$D$14999=Incidentologie!$B17)) -> 0 | H17: =SUMPRODUCT((Incident_Info!$G$6:$G$14999=Incidentologie!H$5)*(Incident_Info!$D$6:$D$14999=Incidentologie!$B17)) -> 0 | I17: =SUMPRODUCT((Incident_Info!$G$6:$G$14999=Incidentologie!I$5)*(Incident_Info!$D$6:$D$14999=Incidentologie!$B17)) -> 0 | J17: =SUMPRODUCT((Incident_Info!$G$6:$G$14999=Incidentologie!J$5)*(Incident_Info!$D$6:$D$14999=Incidentologie!$B17)) -> 0 | K17: =SUMPRODUCT((Incident_Info!$G$6:$G$14999=Incidentologie!K$5)*(Incident_Info!$D$6:$D$14999=Incidentologie!$B17)) -> 0 | L17: =SUM(C17:K17) -> 0
B18: Total | C18: =SUM(C6:C17) -> 1 | D18: =SUM(D6:D17) -> 2 | E18: =SUM(E6:E17) -> 1 | F18: =SUM(F6:F17) -> 1 | G18: =SUM(G6:G17) -> 1 | H18: =SUM(H6:H17) -> 2 | I18: =SUM(I6:I17) -> 2 | J18: =SUM(J6:J17) -> 1 | K18: =SUM(K6:K17) -> 1
B22: Coût de traitement des Incidents par mois en €.
C25: MAX | D25: SAM | E25: FOR | F25: RM1 | G25: SMS | H25: AMG | I25: BMW | J25: PGA | K25: AMD | L25: Total
B26: Janvier | L26: =SUM(C26:K26) -> 0
B27: Février | L27: =SUM(C27:K27) -> 0
B28: Mars | L28: =SUM(C28:K28) -> 0
B29: Avril | L29: =SUM(C29:K29) -> 0
B30: Mai | L30: =SUM(C30:K30) -> 0
B31: Juin | L31: =SUM(C31:K31) -> 0
B32: Juillet | L32: =SUM(C32:K32) -> 0
B33: Août | L33: =SUM(C33:K33) -> 0
B34: Septembre | L34: =SUM(C34:K34) -> 0
B35: Octobre | D35: 192 | G35: 70 | I35: 600 | J35: 96 | L35: =SUM(C35:K35) -> 958
B36: Novembre | C36: 122 | E36: 512 | G36: 231 | I36: 39 | L36: =SUM(C36:K36) -> 904
B37: Décembre | F37: 180 | G37: 428 | L37: =SUM(C37:K37) -> 608
B38: Total | C38: =SUM(C26:C37) -> 122 | D38: =SUM(D26:D37) -> 192 | E38: =SUM(E26:E37) -> 512 | F38: =SUM(F26:F37) -> 180 | G38: =SUM(G26:G37) -> 729 | H38: =SUM(H26:H37) -> 0 | I38: =SUM(I26:I37) -> 639 | J38: =SUM(J26:J37) -> 96 | K38: =SUM(K26:K37) -> 0

Sheet Indicateurs 2012
F4: Indicateurs
