Workbook

Sheet CP
A1: CP
A2: Société | B2: Etablissement | C2: Matricule | D2: NOM Prénom | E2: Référence Bulletin | F2: Période | J2: Nom prénom BIS | K2: Montant Prov CP | L2: Charges Prov CP | M2: Référence Bulletin | N2: Période | O2: NBRE J VALORISES CP
A3: 002 | B3: 241 | C3: 224180 | D3: Mr ABADAGAN BORIS | E3: 20110601620 | F3: 01-06 au 30-06 | G3: X | H3: ABADAGAN BORIS | I3: =IF(S3=H3,U3,0) -> 492.58 | J3: ABADAGAN BORIS | K3: 560.789 | L3: 157.02 | M3: 20110601620 | N3: 01-06 au 30-06 | O3: 13.08333 | Q3: ABADAGAN | R3: BORIS | S3: =Q3&" "&R3 -> ABADAGAN BORIS | U3: 492.58 | V3: =U3*0.34 -> 167.4772
A4: 002 | B4: 264 | C4: 223986 | D4: Mle ACIMI MYRIAM | E4: 20110601308 | F4: 01-06 au 30-06 | G4: X | H4: ACIMI MYRIAM | I4: =IF(S4=H4,U4,0) -> 2271.07 | J4: ACIMI MYRIAM | K4: 2574.917 | L4: 720.97 | M4: 20110601308 | N4: 01-06 au 30-06 | O4: 21.08333 | Q4: ACIMI | R4: MYRIAM | S4: =Q4&" "&R4 -> ACIMI MYRIAM | T4: 92 | U4: 2271.07 | V4: =U4*0.34 -> 772.1638
A5: 002 | B5: 241 | C5: 223924 | D5: Mr ADOLPHE LUDOVIC | E5: 20110601538 | F5: 01-06 au 30-06 | G5: X | H5: ADOLPHE LUDOVIC | I5: =IF(S5=H5,U5,0) -> 395.43 | J5: ADOLPHE LUDOVIC | K5: 395.43 | L5: 110.72 | M5: 20110601538 | N5: 01-06 au 30-06 | O5: 21 | Q5: ADOLPHE | R5: LUDOVIC | S5: =Q5&" "&R5 -> ADOLPHE LUDOVIC | U5: 395.43 | V5: =U5*0.34 -> 134.4462
A6: 002 | B6: 241 | C6: 224236 | D6: Mr ADOUA KENNY | E6: 20110601634 | F6: 01-06 au 30-06 | G6: X | H6: ADOUA KENNY | I6: =IF(S6=H6,U6,0) -> 243.45 | J6: ADOUA KENNY | K6: 290.848 | L6: 81.43 | M6: 20110601634 | N6: 01-06 au 30-06 | O6: 7.08333 | Q6: ADOUA | R6: KENNY | S6: =Q6&" "&R6 -> ADOUA KENNY | U6: 243.45 | V6: =U6*0.34 -> 82.773
A7: 002 | B7: 251 | C7: 223923 | D7: Mle AKOUCHE OIHIBA | E7: 20110601299 | F7: 01-06 au 30-06 | G7: X | I7: =IF(S7=H7,U7,0) -> 0 | J7: AKOUCHE OIHIBA | K7: 1793.116 | L7: 502.07 | M7: 20110601299 | N7: 01-06 au 30-06 | O7: 24.08333 | Q7: AL AKHRASS | R7: SARAH | S7: =Q7&" "&R7 -> AL AKHRASS SARAH | U7: 1529.22 | V7: =U7*0.34 -> 519.9348
A8: 002 | B8: 241 | C8: 120098 | D8: Mle AL AKHRASS SARAH | E8: 20110601571 | F8: 01-06 au 30-06 | G8: X | H8: AL AKHRASS SARAH | J8: AL AKHRASS SARAH | K8: 1788.231 | L8: 500.7 | M8: 20110601571 | N8: 01-06 au 30-06 | O8: 28.38462 | Q8: ANOTHO MBURU | R8: DIVA | S8: =Q8&" "&R8 -> ANOTHO MBURU DIVA | T8: 250624 | U8: 267.85 | V8: =U8*0.34 -> 91.069
A9: 002 | B9: 202 | C9: 223834 | D9: Mme ALITI SORAYA | E9: 20110601290 | F9: 01-06 au 30-06 | G9: X | I9: =IF(S9=H9,U9,0) -> 0 | J9: ALITI SORAYA | K9: 1662.351 | L9: 465.45 | M9: 20110601290 | N9: 01-06 au 30-06 | O9: 25.08333 | Q9: ARHIE | R9: CATHERINE | S9: =Q9&" "&R9 -> ARHIE CATHERINE | U9: 1469.43 | V9: =U9*0.34 -> 499.6062
A10: 002 | B10: 264 | C10: 224174 | D10: Mle ANOTHO MBURU DIVA | E10: 20110601456 | F10: 01-06 au 30-06 | G10: X | H10: ANOTHO MBURU DIVA | I10: =IF(S10=H10,U10,0) -> 0 | J10: ANOTHO MBURU DIVA | K10: 413.551 | L10: 115.79 | M10: 20110601456 | N10: 01-06 au 30-06 | O10: 6.93018 | Q10: AVICE | R10: SYLVIE | S10: =Q10&" "&R10 -> AVICE SYLVIE | T10: 110325 | U10: 2079.74 | V10: =U10*0.34 -> 707.1116
A11: 002 | B11: 241 | C11: 120080 | D11: Mle ARHIE CATHERINE | E11: 20110601559 | F11: 01-06 au 30-06 | G11: X | H11: ARHIE CATHERINE | J11: ARHIE CATHERINE | K11: 1984.5 | L11: 555.66 | M11: 20110601559 | N11: 01-06 au 30-06 | O11: 31.5 | Q11: BADJI | R11: KARIATOU | S11: =Q11&" "&R11 -> BADJI KARIATOU | U11: 179.29 | V11: =U11*0.34 -> 60.9586
A12: 002 | B12: 272 | C12: 628196 | D12: Mr AUZIZEAU YANNICK | E12: 20110800296 | F12: 01-08 au 31-08 | G12: X | J12: AUZIZEAU YANNICK | K12: 2456.449 | L12: 687.8 | O12: 29.15838 | Q12: BARAHAOUA | R12: NOUFISSA | S12: =Q12&" "&R12 -> BARAHAOUA NOUFISSA | T12: 250625 | U12: 1126.44 | V12: =U12*0.34 -> 382.9896
A13: 002 | B13: 264 | C13: 608333 | D13: Mme AVICE SYLVIE | E13: 20110601224 | F13: 01-06 au 30-06 | G13: X | H13: AVICE SYLVIE | J13: AVICE SYLVIE | K13: 2229.507 | L13: 624.26 | M13: 20110601224 | N13: 01-06 au 30-06 | O13: 28.08333 | Q13: BARBEDOR | R13: MARIE | S13: =Q13&" "&R13 -> BARBEDOR MARIE | U13: 402.35 | V13: =U13*0.34 -> 136.799
A14: 002 | B14: 241 | C14: 120099 | D14: Mle BADJI KARIATOU | E14: 20110601572 | F14: 01-06 au 30-06 | G14: X | H14: BADJI KARIATOU | J14: BADJI KARIATOU | K14: 521.1 | L14: 145.9 | M14: 20110601572 | N14: 01-06 au 30-06 | O14: 30 | Q14: BARBIER | R14: STEPHANIE | S14: =Q14&" "&R14 -> BARBIER STEPHANIE | U14: 525.6 | V14: =U14*0.34 -> 178.704
A15: 002 | B15: 264 | C15: 223988 | D15: Mme BARAHAOUA NOUFISSA | E15: 20110601310 | F15: 01-06 au 30-06 | G15: X | H15: BARAHAOUA NOUFISSA | J15: BARAHAOUA NOUFISSA | K15: 1170.693 | L15: 327.79 | M15: 20110601310 | N15: 01-06 au 30-06 | O15: 21.08333 | Q15: BARBOT | R15: STEPHANIE | S15: =Q15&" "&R15 -> BARBOT STEPHANIE | U15: 1116.84 | V15: =U15*0.34 -> 379.7256
A16: 002 | B16: 202 | C16: 20986 | D16: Mr BARAILLE ARNAUD | E16: 20110601263 | F16: 01-06 au 30-06 | G16: X | H16: BARAILLE Arnaud | J16: BARAILLE ARNAUD | K16: 2262.156 | L16: 633.4 | M16: 20110601263 | N16: 01-06 au 30-06 | O16: 29.08333 | Q16: BARRY | R16: KHADIDIATOU | S16: =Q16&" "&R16 -> BARRY KHADIDIATOU | U16: 1509.3 | V16: =U16*0.34 -> 513.162
A17: 002 | B17: 241 | C17: 224149 | D17: Mle BARBEDOR MARIE | E17: 20110601617 | F17: 01-06 au 30-06 | G17: X | H17: BARBEDOR MARIE | J17: BARBEDOR MARIE | K17: 444.985 | L17: 124.59 | M17: 20110601617 | N17: 01-06 au 30-06 | O17: 15.08333 | Q17: BEAUGENDRE | R17: CORINNE | S17: =Q17&" "&R17 -> BEAUGENDRE CORINNE | U17: 1326.5 | V17: =U17*0.34 -> 451.01
A18: 002 | B18: 206 | C18: 612423 | D18: Mle BARBIER STEPHANIE | E18: 20110601233 | F18: 01-06 au 30-06 | G18: X | H18: BARBIER STEPHANIE | J18: BARBIER STEPHANIE | K18: 666.471 | L18: 186.61 | M18: 20110601233 | N18: 01-06 au 30-06 | O18: 10.08333 | Q18: BELHADJ | R18: MAHDJOUBA | S18: =Q18&" "&R18 -> BELHADJ MAHDJOUBA | U18: 1550.04 | V18: =U18*0.34 -> 527.0136
A19: 002 | B19: 251 | C19: 224007 | D19: Mle BARBOT STEPHANIE | E19: 20110601385 | F19: 01-06 au 30-06 | G19: X | H19: BARBOT STEPHANIE | J19: BARBOT STEPHANIE | K19: 1272.606 | L19: 356.32 | M19: 20110601385 | N19: 01-06 au 30-06 | O19: 17.08333 | Q19: BELKAID | R19: LATIFA | S19: =Q19&" "&R19 -> BELKAID LATIFA | U19: 1430.73 | V19: =U19*0.34 -> 486.4482
A20: 002 | B20: 241 | C20: 120107 | D20: Mle BARRY KHADIDIATOU | E20: 20110601574 | F20: 01-06 au 30-06 | G20: X | H20: BARRY KHADIDIATOU | J20: BARRY KHADIDIATOU | K20: 2047.5 | L20: 573.3 | M20: 20110601574 | N20: 01-06 au 30-06 | O20: 32.5 | Q20: BELLABIOD | R20: YASMINA | S20: =Q20&" "&R20 -> BELLABIOD YASMINA | U20: 889.8 | V20: =U20*0.34 -> 302.532
C21: 637357 | D21: BAUDOIN Prisca | G21: X | J21: BAUDOIN PRISCA | K21: 1061.794 | L21: =K21*0.36 -> 382.24584 | Q21: BELLIARD | R21: MARINA | S21: =Q21&" "&R21 -> BELLIARD MARINA | U21: 274.15 | V21: =U21*0.34 -> 93.211
A22: 002 | B22: 216 | C22: 223104 | D22: Mme BEAUGENDRE CORINNE | E22: 20110601520 | F22: 01-06 au 30-06 | G22: X | H22: BEAUGENDRE CORINNE | J22: BEAUGENDRE CORINNE | K22: 1424.809 | L22: 398.94 | M22: 20110601520 | N22: 01-06 au 30-06 | O22: 27.08333 | Q22: BENAZIZI | R22: HASNA | S22: =Q22&" "&R22 -> BENAZIZI HASNA | T22: 190677 | U22: 1570.25 | V22: =U22*0.34 -> 533.885
A23: 002 | B23: 264 | C23: 173214 | D23: Mme BELGHERBI FATIHA | E23: 20110800310 | F23: 01-08 au 31-08 | G23: X | J23: BELGHERBI FATIHA | K23: 1194.88 | L23: 334.56 | O23: 14.16667 | P23: BETREMIEUX Stépahnie | Q23: BENEDETTO | R23: GAIETAN | S23: =Q23&" "&R23 -> BENEDETTO GAIETAN | U23: 413.16 | V23: =U23*0.34 -> 140.4744
A24: 002 | B24: 251 | C24: 223857 | D24: Mme BELHADJ MAHDJOUBA | E24: 20110601291 | F24: 01-06 au 30-06 | G24: X | H24: BELHADJ MAHDJOUBA | J24: BELHADJ MAHDJOUBA | K24: 1665.233 | L24: 466.26 | M24: 20110601291 | N24: 01-06 au 30-06 | O24: 24.80862 | Q24: BERREKIA | R24: ZOHRA | S24: =Q24&" "&R24 -> BERREKIA ZOHRA | U24: 1146.6 | V24: =U24*0.34 -> 389.844
A25: 002 | B25: 241 | C25: 120077 | D25: Mle BELKAID LATIFA | E25: 20110601557 | F25: 01-06 au 30-06 | G25: X | H25: BELKAID LATIFA | J25: BELKAID LATIFA | K25: 1984.5 | L25: 555.66 | M25: 20110601557 | N25: 01-06 au 30-06 | O25: 31.5 | Q25: BERTHELOOT | R25: ALYSSA | S25: =Q25&" "&R25 -> BERTHELOOT ALYSSA | T25: 250624 | U25: 200.8 | V25: =U25*0.34 -> 68.272
A26: 002 | B26: 241 | C26: 120114 | D26: Mle BELLABIOD YASMINA | E26: 20110601580 | F26: 01-06 au 30-06 | G26: X | H26: BELLABIOD YASMINA | J26: BELLABIOD YASMINA | K26: 1013.876 | L26: 283.88 | M26: 20110601580 | N26: 01-06 au 30-06 | O26: 32.5 | Q26: BESSE | R26: NORASINH | S26: =Q26&" "&R26 -> BESSE NORASINH | U26: 1480.2 | V26: =U26*0.34 -> 503.268
A27: 002 | B27: 272 | C27: 224260 | D27: Mle BELLIARD MARINA | E27: 20110601637 | F27: 01-06 au 30-06 | G27: X | H27: BELLIARD MARINA | J27: BELLIARD MARINA | K27: 334.472 | L27: 93.65 | M27: 20110601637 | N27: 01-06 au 30-06 | O27: 6.08333 | Q27: BIERCE | R27: JULIE | S27: =Q27&" "&R27 -> BIERCE JULIE | U27: 760.12 | V27: =U27*0.34 -> 258.4408
A28: 002 | B28: 264 | C28: 223209 | D28: Mme BENAZIZI HASNA | E28: 20110601660 | F28: 01-06 au 30-06 | G28: X | H28: BENAZIZI HASNA | J28: BENAZIZI HASNA | K28: 1764.134 | L28: 493.95 | M28: 20110601660 | N28: 01-06 au 30-06 | O28: 26.41714 | Q28: BIGAUD | R28: YVES | S28: =Q28&" "&R28 -> BIGAUD YVES | U28: 2188.62 | V28: =U28*0.34 -> 744.1308
A29: 002 | B29: 241 | C29: 223925 | D29: Mr BENEDETTO GAIETAN | E29: 20110601537 | F29: 01-06 au 30-06 | G29: X | H29: BENEDETTO GAIETAN | J29: BENEDETTO GAIETAN | K29: 461.147 | L29: 129.12 | M29: 20110601537 | N29: 01-06 au 30-06 | O29: 24.08333 | Q29: BIGOT | R29: KARELLE | S29: =Q29&" "&R29 -> BIGOT KARELLE | U29: 1288 | V29: =U29*0.34 -> 437.92
A30: 002 | B30: 202 | C30: 223155 | D30: Mle BERNICARD AURELIE | E30: 20110601248 | F30: 01-06 au 30-06 | G30: X | J30: BERNICARD AURELIE | K30: 1795.66 | L30: 502.78 | M30: 20110601248 | N30: 01-06 au 30-06 | O30: 26.08333 | Q30: BLUCHE ADAMS | R30: ISABELLE | S30: =Q30&" "&R30 -> BLUCHE ADAMS ISABELLE | U30: 930.48 | V30: =U30*0.34 -> 316.3632
A31: 002 | B31: 241 | C31: 120135 | D31: Mle BERREKIA ZOHRA | E31: 20110601592 | F31: 01-06 au 30-06 | G31: X | H31: BERREKIA ZOHRA | J31: BERREKIA ZOHRA | K31: 1215.081 | L31: 340.22 | M31: 20110601592 | N31: 01-06 au 30-06 | O31: 32.5 | Q31: BOUANANE | R31: HICHAM | S31: =Q31&" "&R31 -> BOUANANE HICHAM | U31: 1227.9 | V31: =U31*0.34 -> 417.486
A32: 002 | B32: 272 | C32: 224316 | D32: Mme BERTEL ISABELLE | E32: 20110601644 | F32: 01-06 au 30-06 | G32: X | J32: BERTEL ISABELLE | K32: 81.608 | L32: 22.85 | M32: 20110601644 | N32: 01-06 au 30-06 | O32: 2.08333 | Q32: BOUCHALA | R32: KENZA | S32: =Q32&" "&R32 -> BOUCHALA KENZA | T32: 110322 | U32: 486.64 | V32: =U32*0.34 -> 165.4576
A33: 002 | B33: 264 | C33: 224282 | D33: Mle BERTELOOT ALYSSA | E33: 20110601468 | F33: 01-06 au 30-06 | G33: X | H33: BERTHELOOT ALYSSA | J33: BERTELOOT ALYSSA | K33: 349.019 | L33: 97.72 | M33: 20110601468 | N33: 01-06 au 30-06 | O33: 5.08333 | Q33: BOUCHARD | R33: PRISCILLIA | S33: =Q33&" "&R33 -> BOUCHARD PRISCILLIA | U33: 619.68 | V33: =U33*0.34 -> 210.6912
A34: 002 | B34: 241 | C34: 120073 | D34: Mr BESSE NORASINH | E34: 20110601553 | F34: 01-06 au 30-06 | G34: X | H34: BESSE NORASINH | J34: BESSE NORASINH | K34: 2047.5 | L34: 573.3 | M34: 20110601553 | N34: 01-06 au 30-06 | O34: 32.5 | Q34: BOUKHEDDOUMA | R34: LOUISA | S34: =Q34&" "&R34 -> BOUKHEDDOUMA LOUISA | T34: 250624 | U34: 1530.24 | V34: =U34*0.34 -> 520.2816
A35: 002 | B35: 241 | C35: 120102 | D35: Mle BIERCE JULIE | E35: 20110601573 | F35: 01-06 au 30-06 | G35: X | H35: BIERCE JULIE | J35: BIERCE JULIE | K35: 789.583 | L35: 221.08 | M35: 20110601573 | N35: 01-06 au 30-06 | O35: 32.69624 | Q35: BOULERCHA | R35: NAIMA | S35: =Q35&" "&R35 -> BOULERCHA NAIMA | T35: 110324 | U35: 1475.5 | V35: =U35*0.34 -> 501.67
A36: 002 | B36: 274 | C36: 613758 | D36: Mr BIGAUD YVES | E36: 20110601527 | F36: 01-06 au 30-06 | G36: X | H36: BIGAUD YVES | J36: BIGAUD YVES | K36: 2346.294 | L36: 656.96 | M36: 20110601527 | N36: 01-06 au 30-06 | O36: 29.08333 | Q36: BOURGEOIS | R36: ISABELLE | S36: =Q36&" "&R36 -> BOURGEOIS ISABELLE | U36: 1478.7 | V36: =U36*0.34 -> 502.758
A37: 002 | B37: 216 | C37: 223105 | D37: Mle BIGOT KARELLE | E37: 20110601521 | F37: 01-06 au 30-06 | G37: X | H37: BIGOT KARELLE | J37: BIGOT KARELLE | K37: 1386.309 | L37: 388.16 | M37: 20110601521 | N37: 01-06 au 30-06 | O37: 27.08333 | Q37: BRANEYRE | R37: PATRICE | S37: =Q37&" "&R37 -> BRANEYRE PATRICE | T37: 110324 | U37: 2080.96 | V37: =U37*0.34 -> 707.5264
A38: 002 | B38: 242 | C38: 223875 | D38: Mle BINIASZ ALEXANDRA | E38: 20110601536 | F38: 01-06 au 30-06 | G38: X | J38: BINIASZ ALEXANDRA | K38: 810 | L38: 226.8 | M38: 20110601536 | N38: 01-06 au 30-06 | O38: 15 | Q38: BROCARD | R38: AURELIE | S38: =Q38&" "&R38 -> BROCARD AURELIE | U38: 162.4 | V38: =U38*0.34 -> 55.216
A39: 002 | B39: 251 | C39: 120040 | D39: Mme BLUCHE ADAMS ISABELLE | E39: 20110601384 | F39: 01-06 au 30-06 | G39: X | H39: BLUCHE ADAMS ISABELLE | J39: BLUCHE ADAMS ISABELLE | K39: 1276.34 | L39: 357.37 | M39: 20110601384 | N39: 01-06 au 30-06 | O39: 26.0381 | Q39: BROUILLARD | R39: FLORENT | S39: =Q39&" "&R39 -> BROUILLARD FLORENT | U39: 895.2 | V39: =U39*0.34 -> 304.368
A40: 002 | B40: 264 | C40: 224323 | D40: Mle BOISE HELOISE | E40: 20110601493 | F40: 14-06 au 30-06 | J40: BOISE HELOISE | K40: 82.874 | L40: 23.2 | M40: 20110601493 | N40: 14-06 au 30-06 | O40: 1.1905 | Q40: BULE | R40: FRANCISCA | S40: =Q40&" "&R40 -> BULE FRANCISCA | T40: 141091 | U40: 2129.25 | V40: =U40*0.34 -> 723.945
A41: 002 | B41: 275 | C41: 224274 | D41: Mle BORTAL RABIA | E41: 20110601467 | F41: 01-06 au 30-06 | G41: X | J41: BORTAL RABIA | K41: 308.646 | L41: 86.42 | M41: 20110601467 | N41: 01-06 au 30-06 | O41: 6.08333 | Q41: CALDERAN | R41: FRANCINE | S41: =Q41&" "&R41 -> CALDERAN FRANCINE | U41: 1791.25 | V41: =U41*0.34 -> 609.025
A42: 002 | B42: 241 | C42: 120120 | D42: Mr BOUANANE HICHAM | E42: 20110601584 | F42: 01-06 au 30-06 | G42: X | H42: BOUANANE HICHAM | J42: BOUANANE HICHAM | K42: 776.545 | L42: 217.43 | M42: 20110601584 | N42: 01-06 au 30-06 | O42: 19.5 | Q42: CAPUTO | R42: JEAN LOUIS | S42: =Q42&" "&R42 -> CAPUTO JEAN LOUIS | U42: 598.95 | V42: =U42*0.34 -> 203.643
A43: 002 | B43: 264 | C43: 224137 | D43: Mme BOUCHALA KENZA | E43: 20110601413 | F43: 01-06 au 30-06 | G43: X | H43: BOUCHALA KENZA | J43: BOUCHALA KENZA | K43: 583.58 | L43: 163.4 | M43: 20110601413 | N43: 01-06 au 30-06 | O43: 16.08333 | Q43: CARBILLET | R43: CINDY | S43: =Q43&" "&R43 -> CARBILLET CINDY | U43: 578.1 | V43: =U43*0.34 -> 196.554
A44: 002 | B44: 251 | C44: 224176 | D44: Mle BOUCHARD PRISCILLIA | E44: 20110601418 | F44: 01-06 au 30-06 | G44: X | H44: BOUCHARD PRISCILLIA | J44: BOUCHARD PRISCILLIA | K44: 766.8 | L44: 214.7 | M44: 20110601418 | N44: 01-06 au 30-06 | O44: 14.08333 | Q44: CASTALLIE | R44: CHRISLAINE | S44: =Q44&" "&R44 -> CASTALLIE CHRISLAINE | T44: 210393 | U44: 1414.75 | V44: =U44*0.34 -> 481.015
A45: 002 | B45: 264 | C45: 224305 | D45: Mle BOUHADJEB AICHA | E45: 20110601478 | F45: 01-06 au 30-06 | G45: X | J45: BOUHADJEB AICHA | K45: 109.075 | L45: 30.54 | M45: 20110601478 | N45: 01-06 au 30-06 | O45: 1.91843 | Q45: CASTERA | R45: CHARLENE | S45: =Q45&" "&R45 -> CASTERA CHARLENE | U45: 660 | V45: =U45*0.34 -> 224.4
A46: 002 | B46: 264 | C46: 223664 | D46: Mle BOUKHEDDOUMA LOUISA | E46: 20110601277 | F46: 01-06 au 30-06 | G46: X | H46: BOUKHEDDOUMA LOUISA | J46: BOUKHEDDOUMA LOUISA | K46: 1659.42 | L46: 464.63 | M46: 20110601277 | N46: 01-06 au 30-06 | O46: 25.93732 | Q46: CHAIN | R46: SEBASTIEN | S46: =Q46&" "&R46 -> CHAIN SEBASTIEN | U46: 913.38 | V46: =U46*0.34 -> 310.5492
A47: 002 | B47: 264 | C47: 120031 | D47: Mle BOULERCHA NAIMA | E47: 20110601402 | F47: 01-06 au 30-06 | G47: X | H47: BOULERCHA NAIMA | J47: BOULERCHA NAIMA | K47: 1755 | L47: 491.4 | M47: 20110601402 | N47: 01-06 au 30-06 | O47: 32.5 | Q47: CHAMBRION | R47: VERONIQUE | S47: =Q47&" "&R47 -> CHAMBRION VERONIQUE | U47: 647.4 | V47: =U47*0.34 -> 220.116
A48: 002 | B48: 241 | C48: 120079 | D48: Mle BOURGEOIS ISABELLE | E48: 20110601558 | F48: 01-06 au 30-06 | G48: X | H48: BOURGEOIS ISABELLE | J48: BOURGEOIS ISABELLE | K48: 2047.5 | L48: 573.3 | M48: 20110601558 | N48: 01-06 au 30-06 | O48: 32.5 | Q48: CHAUSSI | R48: EMILIE | S48: =Q48&" "&R48 -> CHAUSSI EMILIE | T48: 740159 | U48: 1899.5 | V48: =U48*0.34 -> 645.83
A49: 002 | B49: 264 | C49: 174589 | D49: Mr BRANEYRE PATRICE | E49: 20110601205 | F49: 01-06 au 30-06 | G49: X | H49: BRANEYRE PATRICE | J49: BRANEYRE PATRICE | K49: 2101.988 | L49: 588.55 | M49: 20110601205 | N49: 01-06 au 30-06 | O49: 28.08333 | Q49: CHEVALLEREAU | R49: JESSICA | S49: =Q49&" "&R49 -> CHEVALLEREAU JESSICA | U49: 448.16 | V49: =U49*0.34 -> 152.3744
A50: 002 | B50: 242 | C50: 629709 | D50: Mle BROCARD AURELIE | E50: 20110601662 | F50: 01-06 au 30-06 | G50: X | H50: BROCARD AURELIE | J50: BROCARD AURELIE | K50: 565.091 | L50: 158.22 | M50: 20110601662 | N50: 01-06 au 30-06 | O50: 5.08333 | Q50: CHHOEUN | R50: SONA | S50: =Q50&" "&R50 -> CHHOEUN SONA | U50: 625.2 | V50: =U50*0.34 -> 212.568
A51: 002 | B51: 224 | C51: 222049 | D51: Mr BRODIER DENIS | E51: 20110601204 | F51: 01-06 au 30-06 | G51: X | H51: BRODIER Denis | J51: BRODIER DENIS | K51: 3537.843 | L51: 990.59 | M51: 20110601204 | N51: 01-06 au 30-06 | O51: 27.08333 | Q51: CICERON | R51: LAURA | S51: =Q51&" "&R51 -> CICERON LAURA | T51: 250625 | U51: 722.54 | V51: =U51*0.34 -> 245.6636
A52: 002 | B52: 241 | C52: 120129 | D52: Mr BROUILLARD FLORENT | E52: 20110601589 | F52: 01-06 au 30-06 | G52: X | H52: BROUILLARD FLORENT | J52: BROUILLARD FLORENT | K52: 938.625 | L52: 262.81 | M52: 20110601589 | N52: 01-06 au 30-06 | O52: 32.5 | Q52: CLAUDOT | R52: NAJIA | S52: =Q52&" "&R52 -> CLAUDOT NAJIA | U52: 1051.96 | V52: =U52*0.34 -> 357.6664
A53: 002 | B53: 264 | C53: 222538 | D53: Mle BULE FRANCISCA | E53: 20110601228 | F53: 01-06 au 30-06 | G53: X | H53: BULE FRANCISCA | J53: BULE FRANCISCA | K53: 2346.699 | L53: 657.07 | M53: 20110601228 | N53: 01-06 au 30-06 | O53: 27.08333 | Q53: CLERC | R53: FRANCINE | S53: =Q53&" "&R53 -> CLERC FRANCINE | T53: 250627 | U53: 1697.28 | V53: =U53*0.34 -> 577.0752
A54: 002 | B54: 274 | C54: 222994 | D54: Mme CALDERAN FRANCINE | E54: 20110601519 | F54: 01-06 au 30-06 | G54: X | H54: CALDERAN FRANCINE | J54: CALDERAN FRANCINE | K54: 1931.696 | L54: 540.87 | M54: 20110601519 | N54: 01-06 au 30-06 | O54: 27.08333 | Q54: COLLET | R54: FLORENCE | S54: =Q54&" "&R54 -> COLLET FLORENCE | U54: 1396.8 | V54: =U54*0.34 -> 474.912
A55: 002 | B55: 251 | C55: 224222 | D55: Mr CAPUTO JEAN-LOUIS | E55: 20110601433 | F55: 01-06 au 30-06 | G55: X | H55: CAPUTO JEAN LOUIS | J55: CAPUTO JEAN-LOUIS | K55: 722.853 | L55: 202.39 | M55: 20110601433 | N55: 01-06 au 30-06 | O55: 10.89103 | Q55: CORBIN | R55: ADELINE | S55: =Q55&" "&R55 -> CORBIN ADELINE | U55: 142.8 | V55: =U55*0.34 -> 48.552
A56: 002 | B56: 241 | C56: 224185 | D56: Mle CARBILLET CINDY | E56: 20110601622 | F56: 01-06 au 30-06 | G56: X | H56: CARBILLET CINDY | J56: CARBILLET CINDY | K56: 649.987 | L56: 181.99 | M56: 20110601622 | N56: 01-06 au 30-06 | O56: 12.08333 | Q56: COULOMB | R56: STEPHANIE | S56: =Q56&" "&R56 -> COULOMB STEPHANIE | U56: 2043.77 | V56: =U56*0.34 -> 694.8818
A57: 001 | B57: 026 | C57: 611304 | D57: Mme CARON LUCINDA | G57: X | J57: CARON LUCINDA | K57: 2049.954 | L57: 737.98 | O57: 27.42175 | Q57: DAHMANI | R57: AMAL | S57: =Q57&" "&R57 -> DAHMANI AMAL | T57: 250625 | U57: 1576.68 | V57: =U57*0.34 -> 536.0712
A58: 002 | B58: 264 | C58: 222163 | D58: Mle CASTALLIE CHRISLAINE | E58: 20110601209 | F58: 01-06 au 30-06 | G58: X | H58: CASTALLIE CHRISLAINE | J58: CASTALLIE CHRISLAINE | K58: 1366.486 | L58: 382.61 | M58: 20110601209 | N58: 01-06 au 30-06 | O58: 24.08333 | Q58: DANIBERT | R58: ZAGIRET | S58: =Q58&" "&R58 -> DANIBERT ZAGIRET | U58: 686.28 | V58: =U58*0.34 -> 233.3352
A59: 002 | B59: 241 | C59: 120109 | D59: Mle CASTERA CHARLENE | E59: 20110601576 | F59: 01-06 au 30-06 | G59: X | H59: CASTERA CHARLENE | J59: CASTERA CHARLENE | K59: 703.425 | L59: 196.95 | M59: 20110601576 | N59: 01-06 au 30-06 | O59: 32.5 | Q59: DARGENT | R59: CHRISTINE | S59: =Q59&" "&R59 -> DARGENT CHRISTINE | U59: 1406.7 | V59: =U59*0.34 -> 478.278
A60: 002 | B60: 224 | C60: 224112 | D60: Mle CAUMARTIN ELODIE | E60: 20110601407 | F60: 01-06 au 30-06 | G60: X | J60: CAUMARTIN ELODIE | K60: 1048.836 | L60: 293.67 | M60: 20110601407 | N60: 01-06 au 30-06 | O60: 12.08333 | Q60: DAUSSE | R60: REBECCA | S60: =Q60&" "&R60 -> DAUSSE REBECCA | U60: 1410.4 | V60: =U60*0.34 -> 479.536
A61: 002 | B61: 241 | C61: 120141 | D61: Mr CHAIN SEBASTIEN | E61: 20110601597 | F61: 01-06 au 30-06 | G61: X | H61: CHAIN SEBASTIEN | J61: CHAIN SEBASTIEN | K61: 717.777 | L61: 200.97 | M61: 20110601597 | N61: 01-06 au 30-06 | O61: 22.5 | Q61: DE BADILHAC | R61: ALIETTE | S61: =Q61&" "&R61 -> DE BADILHAC ALIETTE | T61: 740159 | U61: 766.78 | V61: =U61*0.34 -> 260.7052
A62: 002 | B62: 273 | C62: 224182 | D62: Mme CHAMBRION VERONIQUE | E62: 20110601423 | F62: 01-06 au 30-06 | G62: X | H62: CHAMBRION VERONIQUE | J62: CHAMBRION VERONIQUE | K62: 751.14 | L62: 210.31 | M62: 20110601423 | N62: 01-06 au 30-06 | O62: 13 | Q62: DECROZANT | R62: FELICIA | S62: =Q62&" "&R62 -> DECROZANT FELICIA | U62: 1112.6 | V62: =U62*0.34 -> 378.284
A63: 002 | B63: 217 | C63: 638440 | D63: Mle CHATARD VIVIANE | E63: 20110800290 | F63: 01-08 au 31-08 | G63: X | H63: CHATARD Viviane | J63: CHATARD VIVIANE | K63: 913.509 | L63: 255.78 | O63: 14.25 | Q63: DELORME | R63: JESSICA | S63: =Q63&" "&R63 -> DELORME JESSICA | U63: 1056 | V63: =U63*0.34 -> 359.04
A64: 002 | B64: 264 | C64: 223089 | D64: Mle CHAUSSI EMILIE | E64: 20110601239 | F64: 01-06 au 30-06 | G64: X | H64: CHAUSSI EMILIE | J64: CHAUSSI EMILIE | K64: 1808.805 | L64: 506.46 | M64: 20110601239 | N64: 01-06 au 30-06 | O64: 24.08333 | Q64: DELPECH | R64: DAVID | S64: =Q64&" "&R64 -> DELPECH DAVID | U64: 194.94 | V64: =U64*0.34 -> 66.2796
A65: 002 | B65: 272 | C65: 224211 | D65: Mle CHEVALLEREAU JESSICA | E65: 20110601656 | F65: 01-06 au 30-06 | G65: X | H65: CHEVALLEREAU JESSICA | J65: CHEVALLEREAU JESSICA | K65: 501.34 | L65: 140.37 | M65: 20110601656 | N65: 01-06 au 30-06 | O65: 9.08333 | Q65: DENOLLY | R65: ESTELLE | S65: =Q65&" "&R65 -> DENOLLY ESTELLE | U65: 1175.1 | V65: =U65*0.34 -> 399.534
A66: 002 | B66: 241 | C66: 120086 | D66: Mle CHHOEUN SONA | E66: 20110601561 | F66: 01-06 au 30-06 | G66: X | H66: CHHOEUN SONA | J66: CHHOEUN SONA | K66: 668.625 | L66: 187.21 | M66: 20110601561 | N66: 01-06 au 30-06 | O66: 32.5 | Q66: DEPLECHIN | R66: NATHALIE | S66: =Q66&" "&R66 -> DEPLECHIN NATHALIE | U66: 1154.25 | V66: =U66*0.34 -> 392.445
A67: 002 | C67: 600872 | D67: CHRISTELLE BELLEC | J67: CHRISTELLE BELLEC | K67: 1374.958 | L67: 494.98488 | Q67: DESCHACHT | R67: STEPHANIE | S67: =Q67&" "&R67 -> DESCHACHT STEPHANIE | T67: 414290 | U67: 362.1 | V67: =U67*0.34 -> 123.114
A68: 002 | B68: 264 | C68: 224133 | D68: Mle CICERON LAURA | E68: 20110601667 | F68: 01-06 au 30-06 | G68: X | H68: CICERON LAURA | J68: CICERON LAURA | K68: 972.504 | L68: 272.3 | M68: 20110601667 | N68: 01-06 au 30-06 | O68: 15.08333 | Q68: DEVINEAU | R68: VIRGINIE | S68: =Q68&" "&R68 -> DEVINEAU VIRGINIE | U68: 1648.2 | V68: =U68*0.34 -> 560.388
A69: 002 | B69: 222 | C69: 120052 | D69: Mme CLAUDOT NADJIA | E69: 20110601319 | F69: 01-06 au 30-06 | G69: X | H69: CLAUDOT NAJIA | J69: CLAUDOT NADJIA | K69: 1348.23 | L69: 377.5 | M69: 20110601319 | N69: 01-06 au 30-06 | O69: 30.5 | Q69: DRIEF | R69: CHAHRAZADE | S69: =Q69&" "&R69 -> DRIEF CHAHRAZADE | U69: 1521.6 | V69: =U69*0.34 -> 517.344
A70: 002 | B70: 264 | C70: 174304 | D70: Mme CLERC FRANCINE | E70: 20110601217 | F70: 01-06 au 30-06 | G70: X | H70: CLERC FRANCINE | J70: CLERC FRANCINE | K70: 1186.79 | L70: 332.3 | M70: 20110601217 | N70: 01-06 au 30-06 | O70: 18.08333 | Q70: DUBOIS | R70: MARIE FRANCOISE | S70: =Q70&" "&R70 -> DUBOIS MARIE FRANCOISE | T70: 710300 | U70: 2006.37 | V70: =U70*0.34 -> 682.1658
A71: 002 | B71: 241 | C71: 120064 | D71: Mme COLLET FLORENCE | E71: 20110601545 | F71: 01-06 au 30-06 | G71: X | H71: COLLET FLORENCE | J71: COLLET FLORENCE | K71: 1617.525 | L71: 452.9 | M71: 20110601545 | N71: 01-06 au 30-06 | O71: 32.5 | Q71: DUMAITRE | R71: ALEXANDRA | S71: =Q71&" "&R71 -> DUMAITRE ALEXANDRA | U71: 1517.9 | V71: =U71*0.34 -> 516.086
A72: 002 | B72: 272 | C72: 224280 | D72: Mle CORBIN ADELINE | E72: 20110601639 | F72: 01-06 au 30-06 | G72: X | H72: CORBIN ADELINE | J72: CORBIN ADELINE | K72: 223.453 | L72: 62.56 | M72: 20110601639 | N72: 01-06 au 30-06 | O72: 5.99919 | Q72: DUMORA | R72: BEATRICE | S72: =Q72&" "&R72 -> DUMORA BEATRICE | U72: 1491 | V72: =U72*0.34 -> 506.94
A73: 002 | B73: 242 | C73: 632906 | D73: Mme COULOMB STEPHANIE | E73: 20110601531 | F73: 01-06 au 30-06 | G73: X | H73: COULOMB STEPHANIE | J73: COULOMB STEPHANIE | K73: 2097.288 | L73: 587.24 | M73: 20110601531 | N73: 01-06 au 30-06 | O73: 25.89103 | Q73: DUPONT | R73: GERALDINE | S73: =Q73&" "&R73 -> DUPONT GERALDINE | U73: 365.92 | V73: =U73*0.34 -> 124.4128
A74: 002 | B74: 264 | C74: 174591 | D74: Mr CZERNIAK ANDRE | E74: 20110601206 | F74: 01-06 au 30-06 | G74: X | H74: CZERNIAK Andre | J74: CZERNIAK ANDRE | K74: 3369.199 | L74: 943.37 | M74: 20110601206 | N74: 01-06 au 30-06 | O74: 31.08333 | Q74: DURAND | R74: NATHALIE | S74: =Q74&" "&R74 -> DURAND NATHALIE | U74: 1553.4 | V74: =U74*0.34 -> 528.156
A75: 002 | B75: 264 | C75: 223987 | D75: Mme DAHMANI AMAL | E75: 20110601309 | F75: 01-06 au 30-06 | G75: X | H75: DAHMANI AMAL | J75: DAHMANI AMAL | K75: 1829.707 | L75: 512.31 | M75: 20110601309 | N75: 01-06 au 30-06 | O75: 23.08333 | Q75: ELAOUNI | R75: YASRA | S75: =Q75&" "&R75 -> ELAOUNI YASRA | U75: 447.93 | V75: =U75*0.34 -> 152.2962
A76: 002 | B76: 272 | C76: 120013 | D76: Mme DANIBERT ZAGIRET | E76: 20110601606 | F76: 01-06 au 30-06 | G76: X | H76: DANIBERT ZAGIRET | J76: DANIBERT ZAGIRET | K76: 816.713 | L76: 228.67 | M76: 20110601606 | N76: 01-06 au 30-06 | O76: 24.59238 | Q76: ELLEINSTIEN | R76: LEA | S76: =Q76&" "&R76 -> ELLEINSTIEN LEA | U76: 100.08 | V76: =U76*0.34 -> 34.0272
A77: 002 | B77: 241 | C77: 120072 | D77: Mme DARGENT CHRISTINE | E77: 20110601552 | F77: 01-06 au 30-06 | G77: X | H77: DARGENT CHRISTINE | J77: DARGENT CHRISTINE | K77: 1617.525 | L77: 452.9 | M77: 20110601552 | N77: 01-06 au 30-06 | O77: 32.5 | Q77: FIALON | R77: VALERIE | S77: =Q77&" "&R77 -> FIALON VALERIE | U77: 1277.94 | V77: =U77*0.34 -> 434.4996
A78: 002 | B78: 276 | C78: 223193 | D78: Mle DAUSSE REBECCA | E78: 20110601257 | F78: 01-06 au 30-06 | G78: X | H78: DAUSSE REBECCA | J78: DAUSSE REBECCA | K78: 1471.548 | L78: 412.03 | M78: 20110601257 | N78: 01-06 au 30-06 | O78: 22.08333 | Q78: FICHOT | R78: BEATRICE | S78: =Q78&" "&R78 -> FICHOT BEATRICE | U78: 1459.8 | V78: =U78*0.34 -> 496.332
A79: 002 | B79: 264 | C79: 224122 | D79: Mle DE BADILHAC ALIETTE | E79: 20110601409 | F79: 01-06 au 30-06 | G79: X | H79: DE BADILHAC ALIETTE | J79: DE BADILHAC ALIETTE | K79: 885.431 | L79: 247.92 | M79: 20110601409 | N79: 01-06 au 30-06 | O79: 16.08333 | Q79: FOUBERT | R79: CAROLINE | S79: =Q79&" "&R79 -> FOUBERT CAROLINE | U79: 1863.25 | V79: =U79*0.34 -> 633.505
A80: 002 | B80: 272 | C80: 634139 | D80: Mle DE BOISSIER AURORE | E80: 20110800298 | F80: 01-08 au 31-08 | G80: X | H80: DE BOISSIER Aurore | J80: DE BOISSIER AURORE | K80: 1776.188 | L80: 497.33 | O80: 21.25 | Q80: FOUCHER | R80: SULLIVAN | S80: =Q80&" "&R80 -> FOUCHER SULLIVAN | U80: 968.4 | V80: =U80*0.34 -> 329.256
A81: 002 | B81: 275 | C81: 224270 | D81: Mle DE COSTA MARANHA ALEXANDRINE | E81: 20110601463 | F81: 01-06 au 30-06 | G81: X | J81: DE COSTA MARANHA ALEXANDRINE | K81: 392.103 | L81: 109.78 | M81: 20110601463 | N81: 01-06 au 30-06 | O81: 6.08333 | Q81: FRANCOIS | R81: MORGANE | S81: =Q81&" "&R81 -> FRANCOIS MORGANE | U81: 596.4 | V81: =U81*0.34 -> 202.776
A82: 002 | B82: 251 | C82: 223991 | D82: Mle DECROZANT FELICIA | E82: 20110601313 | F82: 01-06 au 30-06 | G82: X | H82: DECROZANT FELICIA | J82: DECROZANT FELICIA | K82: 1260.875 | L82: 353.04 | M82: 20110601313 | N82: 01-06 au 30-06 | O82: 22.08333 | Q82: FREUCHET | R82: SONIA | S82: =Q82&" "&R82 -> FREUCHET SONIA | U82: 369.71 | V82: =U82*0.34 -> 125.7014
A83: 002 | B83: 241 | C83: 120145 | D83: Mle DELORD CHRISTINE | E83: 20110601598 | F83: 01-06 au 30-06 | G83: X | J83: DELORD CHRISTINE | K83: 291.402 | L83: 81.59 | M83: 20110601598 | N83: 01-06 au 30-06 | O83: 14.5 | Q83: GALLIOT | R83: VANESSA | S83: =Q83&" "&R83 -> GALLIOT VANESSA | T83: 414288 | U83: 1777 | V83: =U83*0.34 -> 604.18
A84: 002 | B84: 241 | C84: 120115 | D84: Mle DELORME JESSICA | E84: 20110601581 | F84: 01-06 au 30-06 | G84: X | H84: DELORME JESSICA | J84: DELORME JESSICA | K84: 1617.525 | L84: 452.9 | M84: 20110601581 | N84: 01-06 au 30-06 | O84: 32.5 | Q84: GARDAIS | R84: CATHERINE | S84: =Q84&" "&R84 -> GARDAIS CATHERINE | U84: 359.1 | V84: =U84*0.34 -> 122.094
A85: 002 | B85: 241 | C85: 224287 | D85: Mr DELPECH DAVID | E85: 20110601641 | F85: 01-06 au 30-06 | G85: X | H85: DELPECH DAVID | J85: DELPECH DAVID | K85: 262.689 | L85: 73.55 | M85: 20110601641 | N85: 01-06 au 30-06 | O85: 5.08333 | Q85: GARNIER. | R85: MARIE | S85: =Q85&" "&R85 -> GARNIER. MARIE | T85: 250627 | U85: 1580.54 | V85: =U85*0.34 -> 537.3836
A86: 002 | B86: 222 | C86: 120051 | D86: Mme DENOLLY ESTELLE | E86: 20110601318 | F86: 01-06 au 30-06 | G86: X | H86: DENOLLY ESTELLE | J86: DENOLLY ESTELLE | K86: 1436.639 | L86: 402.25 | M86: 20110601318 | N86: 01-06 au 30-06 | O86: 32.5 | Q86: GASMAN | R86: ALAIN | S86: =Q86&" "&R86 -> GASMAN ALAIN | T86: 160375 | U86: 1411.75 | V86: =U86*0.34 -> 479.995
A87: 002 | B87: 216 | C87: 223438 | D87: Mle DEPLECHIN NATHALIE | E87: 20110601528 | F87: 01-06 au 30-06 | G87: X | H87: DEPLECHIN NATHALIE | J87: DEPLECHIN NATHALIE | K87: 1244.714 | L87: 348.51 | M87: 20110601528 | N87: 01-06 au 30-06 | O87: 27.08333 | Q87: GAVAUD | R87: DELPHINE | S87: =Q87&" "&R87 -> GAVAUD DELPHINE | U87: 724.8 | V87: =U87*0.34 -> 246.432
A88: 002 | B88: 264 | C88: 224312 | D88: Mle DERID AURORE | E88: 20110601473 | F88: 01-06 au 30-06 | G88: X | J88: DERID AURORE | K88: 256.099 | L88: 71.7 | M88: 20110601473 | N88: 01-06 au 30-06 | O88: 3.94707 | Q88: GELE | R88: MIGUEL | S88: =Q88&" "&R88 -> GELE MIGUEL | U88: 1001.16 | V88: =U88*0.34 -> 340.3944
A89: 002 | B89: 219 | C89: 224247 | D89: Mme DESCHACHT STEPHANIE | E89: 20110601447 | F89: 01-06 au 30-06 | G89: X | H89: DESCHACHT STEPHANIE | J89: DESCHACHT STEPHANIE | K89: 456.705 | L89: 127.87 | M89: 20110601447 | N89: 01-06 au 30-06 | O89: 7.08333 | Q89: GEORGES | R89: TATIA | S89: =Q89&" "&R89 -> GEORGES TATIA | U89: 500.37 | V89: =U89*0.34 -> 170.1258
A90: 002 | B90: 272 | C90: 120003 | D90: Mle DEVINEAU VIRGINIE | E90: 20110601603 | F90: 01-06 au 30-06 | G90: X | H90: DEVINEAU VIRGINIE | J90: DEVINEAU VIRGINIE | K90: 1719.26 | L90: 481.39 | M90: 20110601603 | N90: 01-06 au 30-06 | O90: 31.5 | Q90: GES | R90: MARYSE | S90: =Q90&" "&R90 -> GES MARYSE | U90: 1570.5 | V90: =U90*0.34 -> 533.97
A91: 002 | B91: 251 | C91: 223951 | D91: Mle DJIAR SIHEM | E91: 20110601306 | F91: 01-06 au 30-06 | G91: X | J91: DJIAR SIHEM | K91: 1005.003 | L91: 281.4 | M91: 20110601306 | N91: 01-06 au 30-06 | O91: 15.87729 | Q91: GILLIOZ MONTUPET | R91: ISABELLE | S91: =Q91&" "&R91 -> GILLIOZ MONTUPET ISABELLE | T91: 110321 | U91: 2007.04 | V91: =U91*0.34 -> 682.3936
A92: 002 | B92: 241 | C92: 224188 | D92: Mr DOTCHE KOMLAVI | E92: 20110601624 | F92: 01-06 au 30-06 | G92: X | J92: DOTCHE KOMLAVI | K92: 263.353 | L92: 73.73 | M92: 20110601624 | N92: 01-06 au 30-06 | O92: 12.08333 | Q92: GIUGA | R92: ANAELLE | S92: =Q92&" "&R92 -> GIUGA ANAELLE | U92: 443.44 | V92: =U92*0.34 -> 150.7696
A93: 002 | B93: 241 | C93: 120089 | D93: Mme DRIEF CHAHRAZADE | E93: 20110601564 | F93: 01-06 au 30-06 | G93: X | H93: DRIEF CHAHRAZADE | J93: DRIEF CHAHRAZADE | K93: 2047.5 | L93: 573.3 | M93: 20110601564 | N93: 01-06 au 30-06 | O93: 32.5 | Q93: GIVORD | R93: ANNE LAURE | S93: =Q93&" "&R93 -> GIVORD ANNE LAURE | U93: 350.28 | V93: =U93*0.34 -> 119.0952
A94: 002 | B94: 272 | C94: 120002 | D94: Mme DUBOIS LYDIE | E94: 20110601608 | F94: 01-06 au 30-06 | G94: X | J94: DUBOIS LYDIE | Q94: GLADEI | R94: MARIANA | S94: =Q94&" "&R94 -> GLADEI MARIANA | U94: 292.6 | V94: =U94*0.34 -> 99.484
A95: 002 | B95: 264 | C95: 174340 | D95: Mme DUBOIS MARIE-FRANCOISE | E95: 20110601212 | F95: 01-06 au 30-06 | G95: X | H95: DUBOIS MARIE FRANCOISE | J95: DUBOIS MARIE-FRANCOISE | K95: 2153.634 | L95: 603.01 | M95: 20110601212 | N95: 01-06 au 30-06 | O95: 29.08333 | Q95: GOBIN | R95: DELPHINE | S95: =Q95&" "&R95 -> GOBIN DELPHINE | T95: 710055 | U95: 504.48 | V95: =U95*0.34 -> 171.5232
A96: 002 | B96: 264 | C96: 222592 | D96: Mr DUCHEMIN XAVIER | E96: 20110601229 | F96: 01-06 au 30-06 | G96: X | H96: DUCHEMIN Xavier | J96: DUCHEMIN XAVIER | K96: 1694.763 | L96: 474.53 | M96: 20110601229 | N96: 01-06 au 30-06 | O96: 24.08333 | Q96: GODAILLER | R96: ELISABETH | S96: =Q96&" "&R96 -> GODAILLER ELISABETH | U96: 1518.3 | V96: =U96*0.34 -> 516.222
A97: 002 | B97: 242 | C97: 222470 | D97: Mle DUMAITRE ALEXANDRA | E97: 20110601517 | F97: 01-06 au 30-06 | G97: X | H97: DUMAITRE ALEXANDRA | J97: DUMAITRE ALEXANDRA | K97: 1594.095 | L97: 446.34 | M97: 20110601517 | N97: 01-06 au 30-06 | O97: 23.08333 | Q97: GOUVET | R97: LAURENCE | S97: =Q97&" "&R97 -> GOUVET LAURENCE | U97: 2098.75 | V97: =U97*0.34 -> 713.575
A98: 002 | B98: 241 | C98: 120091 | D98: Mle DUMORA BEATRICE | E98: 20110601566 | F98: 01-06 au 30-06 | G98: X | H98: DUMORA BEATRICE | J98: DUMORA BEATRICE | K98: 1858.5 | L98: 520.38 | M98: 20110601566 | N98: 01-06 au 30-06 | O98: 29.5 | Q98: GRAIPIN | R98: FLAVIE | S98: =Q98&" "&R98 -> GRAIPIN FLAVIE | U98: 623.75 | V98: =U98*0.34 -> 212.075
A99: 002 | B99: 251 | C99: 224224 | D99: Mle DUPONT GERALDINE | E99: 20110601435 | F99: 01-06 au 30-06 | G99: X | H99: DUPONT GERALDINE | J99: DUPONT GERALDINE | K99: 465.667 | L99: 130.38 | M99: 20110601435 | N99: 01-06 au 30-06 | O99: 10.08333 | Q99: GUICHARD | R99: BRICE | S99: =Q99&" "&R99 -> GUICHARD BRICE | U99: 754.49 | V99: =U99*0.34 -> 256.5266
A100: 002 | B100: 251 | C100: 120036 | D100: Mle DURAND NATHALIE | E100: 20110601382 | F100: 01-06 au 30-06 | G100: X | H100: DURAND NATHALIE | J100: DURAND NATHALIE | K100: 1915.529 | L100: 536.34 | M100: 20110601382 | N100: 01-06 au 30-06 | O100: 32.5 | Q100: HAFID | R100: AMEL | S100: =Q100&" "&R100 -> HAFID AMEL | U100: 1435.2 | V100: =U100*0.34 -> 487.968
...

Sheet RC HN
A1: RC HN
A2: Société | B2: Etablissement | C2: Matricule | E2: 1 | F2: NOM Prénom | G2: Référence Bulletin | H2: Période | I2: Provision RC / HN | J2: CH / PROV RC / HN
A3: 002 | B3: 241 | C3: 120064 | E3: =recherv(C3,CP!$C$3:$D$274,0,TRUE) -> #NAME? | F3: Mme COLLET FLORENCE | G3: 20110601545 | H3: 01-06 au 30-06 | I3: 2.01 | J3: 0.7
A4: 002 | B4: 241 | C4: 120079 | E4: =recherv(C4,CP!$C$3:$D$274,0,TRUE) -> #NAME? | F4: Mle BOURGEOIS ISABELLE | G4: 20110601558 | H4: 01-06 au 30-06 | I4: 0.45 | J4: 0.15
A5: 002 | B5: 241 | C5: 120092 | E5: =recherv(C5,CP!$C$3:$D$274,2,TRUE) -> #NAME? | F5: Mle PALASSA MELANIE | G5: 20110601567 | H5: 01-06 au 30-06 | I5: 1.98 | J5: 0.69
A6: 002 | B6: 241 | C6: 120093 | E6: =recherv(C6,CP!$C$3:$D$274,2,TRUE) -> #NAME? | F6: Mle LE MAISTRE ISABELLE | G6: 20110601568 | H6: 01-06 au 30-06 | I6: -1.53 | J6: -0.53
A7: 002 | B7: 241 | C7: 120098 | E7: =recherv(C7,CP!$C$3:$D$274,1,FALSE) -> #NAME? | F7: Mle AL AKHRASS SARAH | G7: 20110601571 | H7: 01-06 au 30-06 | I7: -0.45 | J7: -0.15
A8: 002 | B8: 241 | C8: 222674 | E8: =recherv(C8,CP!$C$3:$D$274,2,TRUE) -> #NAME? | F8: Mme SIDURON MARIE ROLANDE | G8: 20110601614 | H8: 01-06 au 30-06 | I8: 9.71 | J8: 3.39
A9: 002 | B9: 241 | C9: 223905 | E9: =recherv(C9,CP!$C$3:$D$274,2,TRUE) -> #NAME? | F9: Mle KOCANI CAROLE | G9: 20110601530 | H9: 01-06 au 30-06 | I9: 2.43 | J9: 0.85
A10: 002 | B10: 241 | C10: 223925 | E10: =recherv(C10,CP!$C$3:$D$274,2,TRUE) -> #NAME? | F10: Mr BENEDETTO GAIETAN | G10: 20110601537 | H10: 01-06 au 30-06 | I10: 1.26 | J10: 0.44
A11: 002 | B11: 241 | C11: 224018 | E11: =recherv(C11,CP!$C$3:$D$274,2,TRUE) -> #NAME? | F11: Mr GUICHARD BRICE | G11: 20110601609 | H11: 01-06 au 30-06 | I11: 13.29 | J11: 4.65
A12: 002 | B12: 241 | C12: 224019 | E12: =recherv(C12,CP!$C$3:$D$274,2,TRUE) -> #NAME? | F12: Mr HAXHIAJ JEROME | G12: 20110601602 | H12: 01-06 au 30-06 | I12: 1.75 | J12: 0.61
A13: 002 | B13: 241 | C13: 224020 | E13: =recherv(C13,CP!$C$3:$D$274,2,TRUE) -> #NAME? | F13: Mle LAWSON EMILIE | G13: 20110601542 | H13: 01-06 au 30-06 | I13: 4.63 | J13: 1.62
A14: 002 | B14: 241 | C14: 224138 | E14: =recherv(C14,CP!$C$3:$D$274,2,TRUE) -> #NAME? | F14: Mr THILLET THOMAS | G14: 20110601615 | H14: 01-06 au 30-06 | I14: 2.79 | J14: 0.97
A15: 002 | B15: 241 | C15: 224139 | E15: =recherv(C15,CP!$C$3:$D$274,2,TRUE) -> #NAME? | F15: Mle MOULIE PAMELA | G15: 20110601616 | H15: 01-06 au 30-06 | I15: 1.44 | J15: 0.5
A16: 002 | B16: 241 | C16: 224149 | E16: =recherv(C16,CP!$C$3:$D$274,2,TRUE) -> #NAME? | F16: Mle BARBEDOR MARIE | G16: 20110601617 | H16: 01-06 au 30-06 | I16: 1.71 | J16: 0.59
A17: 002 | B17: 241 | C17: 224178 | E17: =recherv(C17,CP!$C$3:$D$274,2,TRUE) -> #NAME? | F17: Mr YORO BI SAMUEL | G17: 20110601618 | H17: 01-06 au 30-06 | I17: 4.41 | J17: 1.54
A18: 002 | B18: 241 | C18: 224179 | E18: =recherv(C18,CP!$C$3:$D$274,2,TRUE) -> #NAME? | F18: Mle FREUCHET SONIA | G18: 20110601619 | H18: 01-06 au 30-06 | I18: 1.89 | J18: 0.66
A19: 002 | B19: 241 | C19: 224180 | E19: =recherv(C19,CP!$C$3:$D$274,2,TRUE) -> #NAME? | F19: Mr ABADAGAN BORIS | G19: 20110601620 | H19: 01-06 au 30-06 | I19: 4.05 | J19: 1.41
... A26: 002 | B26: 241 | C26: 224237 | E26: =recherv(C26,CP!$C$3:$D$274,2,TRUE) -> #NAME? | F26: Mle LAURENT CYNTHIA | G26: 20110601635 | H26: 01-06 au 30-06 | I26: 1.62 | J26: 0.56
A27: 002 | B27: 241 | C27: 224238 | E27: =recherv(C27,CP!$C$3:$D$274,0,TRUE) -> #NAME? | F27: Mle PREVAUTEL EDWIGE | G27: 20110601636 | H27: 01-06 au 30-06 | I27: 1.12 | J27: 0.39
A28: 002 | B28: 241 | C28: 224263 | E28: =recherv(C28,CP!$C$3:$D$274,2,TRUE) -> #NAME? | F28: M MERMOZ JACQUES | G28: 20110601638 | H28: 01-06 au 30-06 | I28: 0.96 | J28: 0.33
A29: 002 | B29: 241 | C29: 224264 | E29: =recherv(C29,CP!$C$3:$D$274,2,TRUE) -> #NAME? | F29: Mle ELLEINSTIEN LEA | G29: 20110601640 | H29: 01-06 au 30-06 | I29: 1.09 | J29: 0.38
A30: 002 | B30: 241 | C30: 224287 | E30: =recherv(C30,CP!$C$3:$D$274,2,TRUE) -> #NAME? | F30: Mr DELPECH DAVID | G30: 20110601641 | H30: 01-06 au 30-06 | I30: 4.17 | J30: 1.45
I31: =SUM(I3:I30) -> 71.04 | J31: =SUM(J3:J30) -> 24.77
A32: 002 | B32: 241 | C32: 120062 | F32: Mme GES MARYSE | G32: 20110800300 | H32: 01-08 au 31-08 | I32: 13.275 | J32: 4.779
I33: =SUM(I32) -> 13.275 | J33: =SUM(J32) -> 4.779
A34: TOTAL | I34: =I31+I33 -> 84.315 | J34: =J31+J33 -> 29.549

Sheet RC HS
A1: RC HS
A2: Société | B2: Etablissement | C2: Matricule | D2: Nom Prénom | E2: Référence Bulletin | F2: Période | G2: solde rc cor hs rub 2820 | H2: Prov RC/HS | I2: ch/prov RC/HS
A3: 002 | B3: 202 | C3: 020986 | D3: Mr BARAILLE ARNAUD | E3: 20110601263 | F3: 01-06 au 30-06 | G3: 5.89 | H3: 55.42 | I3: 19.39
A4: 002 | B4: 202 | C4: 222401 | D4: Mme LAMAMY ISABELLE | E4: 20110601221 | F4: 01-06 au 30-06 | G4: 0.3 | H4: 2.94 | I4: 1.02
A5: 002 | B5: 202 | C5: 601759 | D5: Mme PITETTE ESTELLE | E5: 20110601243 | F5: 01-06 au 30-06 | G5: 1.5 | H5: 15.73 | I5: 5.5
A6: 002 | B6: 202 | C6: 620024 | D6: Mle LE-FRIEC MARINA | E6: 20110601260 | F6: 01-06 au 30-06 | G6: 2.85 | H6: 25.65 | I6: 8.97
A7: 002 | B7: 206 | C7: 064721 | D7: Mle LANGLOIS LAURENCE | E7: 20110601419 | F7: 01-06 au 30-06 | G7: 4 | H7: 39.31 | I7: 13.75
A8: 002 | B8: 206 | C8: 223187 | D8: Mle SAKA CELESTINE | E8: 20110601255 | F8: 01-06 au 30-06 | G8: 2 | H8: 19.66 | I8: 6.88
A9: 002 | B9: 206 | C9: 612423 | D9: Mle BARBIER STEPHANIE | E9: 20110601233 | F9: 01-06 au 30-06 | G9: 6.5 | H9: 58.5 | I9: 20.47
A10: 002 | B10: 214 | C10: 629753 | D10: Mle GALLIOT VANESSA | E10: 20110601317 | F10: 01-06 au 30-06 | G10: 3.5 | H10: 32.93 | I10: 11.52
A11: 002 | B11: 224 | C11: 222049 | D11: Mr BRODIER DENIS | E11: 20110601204 | F11: 01-06 au 30-06 | G11: 6.5 | H11: 115.71 | I11: 40.49
A12: 002 | B12: 224 | C12: 222175 | D12: Mr MORISSE OLIVIER | E12: 20110601208 | F12: 01-06 au 30-06 | G12: 6.5 | H12: 107.14 | I12: 37.49
A13: 002 | B13: 224 | C13: 223585 | D13: Mr NAVIER DAVID | E13: 20110601274 | F13: 01-06 au 30-06
A14: 002 | B14: 224 | C14: 224348 | D14: Mr GILLE NICOLAS | E14: 20110601483 | F14: 01-06 au 30-06 | G14: 6.5 | H14: 64.35 | I14: 22.52
A15: 002 | B15: 224 | C15: 224349 | D15: Mle HAUCHARD ALICE | E15: 20110601484 | F15: 01-06 au 30-06 | G15: 5.47 | H15: 54.15 | I15: 18.95
A16: 002 | B16: 224 | C16: 224350 | D16: Mr MARTIN PASCAL | E16: 20110601485 | F16: 01-06 au 30-06 | G16: 0.07 | H16: 0.79 | I16: 0.27
A17: 002 | B17: 224 | C17: 224351 | D17: Mme PERCHET CATHERINE | E17: 20110601486 | F17: 01-06 au 30-06 | G17: 3.25 | H17: 32.17 | I17: 11.25
A18: 002 | B18: 224 | C18: 605894 | D18: Mr HELIE MANUEL | E18: 20110601220 | F18: 01-06 au 30-06 | G18: 0.86 | H18: 14.17 | I18: 4.95
A19: 002 | B19: 224 | C19: 613396 | D19: Mme LABRUCHE VALERIE | E19: 20110601282 | F19: 01-06 au 30-06 | G19: 0.46 | H19: 4.29 | I19: 1.5
A20: 002 | B20: 241 | C20: 120063 | D20: Mle LAGASSAN LILIANE | E20: 20110601544 | F20: 01-06 au 30-06 | G20: 0.08 | H20: 0.72 | I20: 0.25
A21: 002 | B21: 241 | C21: 120064 | D21: Mme COLLET FLORENCE | E21: 20110601545 | F21: 01-06 au 30-06 | G21: 1.44 | H21: 12.96 | I21: 4.53
A22: 002 | B22: 241 | C22: 120065 | D22: Mme LESAGE GHISLAINE | E22: 20110601546 | F22: 01-06 au 30-06 | G22: 1.73 | H22: 15.57 | I22: 5.44
A23: 002 | B23: 241 | C23: 120066 | D23: Mme FIALON VALERIE | E23: 20110601547 | F23: 01-06 au 30-06 | G23: 1.17 | H23: 10.53 | I23: 3.68
A24: 002 | B24: 241 | C24: 120067 | D24: Mle LE MAISTRE BERANGERE | E24: 20110601548 | F24: 01-06 au 30-06 | G24: 6.48 | H24: 58.32 | I24: 20.41
A25: 002 | B25: 241 | C25: 120069 | D25: Mr LARTIGUES ANTHONY | E25: 20110601549 | F25: 01-06 au 30-06 | G25: 25.14 | H25: 226.26 | I25: 79.19
... A122: 002 | B122: 274 | C122: 631585 | D122: Mle REGNIER ELODIE | E122: 20110601611 | F122: 01-06 au 30-06 | G122: 5.24 | H122: 47.47 | I122: 16.61
G123: =SUM(G3:G122) -> 419.3 | H123: =SUM(H3:H122) -> 4091.07 | I123: =SUM(I3:I122) -> 1431.32
A124: 002 | B124: 241 | C124: 120062 | D124: Mme GES MARYSE | E124: 20110800300 | F124: 01-08 au 31-08 | H124: 12.06 | I124: 4.22
A125: 002 | B125: 272 | C125: 628161 | D125: Mle TREHIN SONIA | E125: 20110800295 | F125: 01-08 au 31-08 | H125: 31.03932 | I125: 11.174155
A126: 002 | B126: 272 | C126: 628196 | D126: Mr AUZIZEAU YANNICK | E126: 20110800296 | F126: 01-08 au 31-08 | H126: 9.34 | I126: 3.27
A127: 002 | B127: 272 | C127: 628199 | D127: Mr MOALLIC MICKAEL | E127: 20110800297 | F127: 01-08 au 31-08 | H127: 39.81 | I127: 13.93
A128: 002 | B128: 272 | C128: 634139 | D128: Mle DE BOISSIER AURORE | E128: 20110800298 | F128: 01-08 au 31-08 | H128: 14.84 | I128: 5.19
A129: 001 | B129: 025 | C129: 629107 | D129: Mme LE VEZO AGNES | F129: 01-08 au 31-08 | H129: 5.04 | I129: 1.76
A130: 001 | B130: 025 | C130: 633468 | D130: Mlle LEMARE AURORE | F130: 01-08 au 31-08 | H130: 69.3 | I130: 24.25
C131: 600872 | D131: CHRISTELLE BELLEC | H131: 32.720886 | I131: 11.779519
C132: 624628 | D132: DURAND Hélène | H132: 56.262384 | I132: 20.254458
A133: 001 | B133: 000 | C133: 120195 | D133: Mr KOCHER BRUNO | E133: 20110620183 | F133: 01-06 au 30-06 | G133: 81.76 | H133: 1079.58 | I133: 377.853
A134: 001 | B134: 026 | C134: 611304 | D134: Mme CARON LUCINDA | E134: 20110614732 | F134: 01-06 au 30-06 | G134: 1 | H134: 10.02 | I134: 3.5
G135: =SUM(G124:G134) -> 82.76 | H135: =SUM(H124:H134) -> 1360.0126 | I135: =SUM(I124:I134) -> 477.18113
A136: TOTAL | G136: =G123+G135 -> 502.06 | H136: =H123+H135 -> 5451.0826 | I136: =I123+I135 -> 1908.5011
