Workbook

Sheet Règle d'audit
A1: Audit qualité
A3: Comment se déroule mon audit
A4: 1 | B4: Je préviens le responsable du secteur audité
A5: 2 | B5: J'explique à l'audité l'objectif de l'audit
A6: 3 | B6: Je pose des questions sur le poste, l'organisation, les réglages, et les points d'autocontrôle
A7: 4 | B7: Je prélève des pièces que je contrôle à 100%
A8: 5 | B8: Je débrief l'audité si l'audit est ok
A9: 5 Bis | B9: J'étalonne et j'explique la non qualité à l'audité en cas d'audit ko
A10: 6 | B10: Je débrief le responsable du secteur
A11: 7 | B11: Je saisie le résultat de l'audit
A12: 8 | B12: Je plannifie le prochain audit
B13: 0 | C13: J+1 | D13: J+1
B14: Inférieur à 50 | C14: S+1 | D14: J+14
B15: De 50 à 75 | C15: S+2 | D15: J+21
B16: De 75 à 95 | C16: S+3 | D16: J+28
B17: Supérieur à 95 | C17: S+8 | D17: J+56

Sheet BDD
A1: Prochain audit | B1: Libellé | C1: Semaine | D1: Date | E1: N° Audit | F1: Secteur | G1: Ligne | H1: Auditeur | I1: Audité | J1: Poste | K1: Opération/produit | L1: Nombre contrôlé | M1: OK/Acceptable | N1: Ko | O1: Statut | P1: Commentaires
A2: =IF(O2=0,D2+1, IF(BDD!O2<=0.5,BDD!D2+7, IF(BDD!O2<=0.75,BDD!D2+14, IF(BDD!O2<=0.95,BDD!D2+21,BDD!D2+56)))) -> 44631 | B2: =CONCATENATE(F2,"-",G2,"-",J2,"-",K2) -> Prep-ligne alpha-Machine 1-Opé 1 | C2: =_xlfn.ISOWEEKNUM(D2) -> 2 | D2: 44575 | E2: AU-2022-0001 | F2: Prep | G2: ligne alpha | H2: A | I2: B | J2: Machine 1 | K2: Opé 1 | L2: 19 | M2: 19 | N2: 0 | O2: =M2/L2 -> 1
A3: =IF(O3=0,D3+1, IF(BDD!O3<=0.5,BDD!D3+7, IF(BDD!O3<=0.75,BDD!D3+14, IF(BDD!O3<=0.95,BDD!D3+21,BDD!D3+56)))) -> 44631 | B3: =CONCATENATE(F3,"-",G3,"-",J3,"-",K3) -> Prep-ligne beta-Machine 2-Opé 2 | C3: =_xlfn.ISOWEEKNUM(D3) -> 2 | D3: 44575 | E3: AU-2022-0002 | F3: Prep | G3: ligne beta | H3: A | I3: C | J3: Machine 2 | K3: Opé 2 | L3: 20 | M3: 20 | N3: 0 | O3: =M3/L3 -> 1
A4: =IF(O4=0,D4+1, IF(BDD!O4<=0.5,BDD!D4+7, IF(BDD!O4<=0.75,BDD!D4+14, IF(BDD!O4<=0.95,BDD!D4+21,BDD!D4+56)))) -> #DIV/0! | B4: =CONCATENATE(F4,"-",G4,"-",J4,"-",K4) -> --- | C4: =_xlfn.ISOWEEKNUM(D4) -> 52 | E4: AU-2022-0003 | O4: =M4/L4 -> #DIV/0!
A5: =IF(O5=0,D5+1, IF(BDD!O5<=0.5,BDD!D5+7, IF(BDD!O5<=0.75,BDD!D5+14, IF(BDD!O5<=0.95,BDD!D5+21,BDD!D5+56)))) -> #DIV/0! | B5: =CONCATENATE(F5,"-",G5,"-",J5,"-",K5) -> --- | C5: =_xlfn.ISOWEEKNUM(D5) -> 52 | E5: AU-2022-0004 | O5: =M5/L5 -> #DIV/0!
A6: =IF(O6=0,D6+1, IF(BDD!O6<=50,BDD!D6+7, IF(BDD!O6<=75,BDD!D6+14, IF(BDD!O6<=95,BDD!D6+21,BDD!D6+56)))) -> #DIV/0! | B6: =CONCATENATE(F6,"-",G6,"-",J6,"-",K6) -> --- | C6: =_xlfn.ISOWEEKNUM(D6) -> 52 | E6: AU-2022-0005 | O6: =M6/L6 -> #DIV/0!
A7: =IF(O7=0,D7+1, IF(BDD!O7<=50,BDD!D7+7, IF(BDD!O7<=75,BDD!D7+14, IF(BDD!O7<=95,BDD!D7+21,BDD!D7+56)))) -> #DIV/0! | B7: =CONCATENATE(F7,"-",G7,"-",J7,"-",K7) -> --- | C7: =_xlfn.ISOWEEKNUM(D7) -> 52 | E7: AU-2022-0006 | O7: =M7/L7 -> #DIV/0!
A8: =IF(O8=0,D8+1, IF(BDD!O8<=50,BDD!D8+7, IF(BDD!O8<=75,BDD!D8+14, IF(BDD!O8<=95,BDD!D8+21,BDD!D8+56)))) -> #DIV/0! | B8: =CONCATENATE(F8,"-",G8,"-",J8,"-",K8) -> --- | C8: =_xlfn.ISOWEEKNUM(D8) -> 52 | E8: AU-2022-0007 | O8: =M8/L8 -> #DIV/0!
A9: =IF(O9=0,D9+1, IF(BDD!O9<=50,BDD!D9+7, IF(BDD!O9<=75,BDD!D9+14, IF(BDD!O9<=95,BDD!D9+21,BDD!D9+56)))) -> #DIV/0! | B9: =CONCATENATE(F9,"-",G9,"-",J9,"-",K9) -> --- | O9: =M9/L9 -> #DIV/0!
A10: =IF(O10=0,D10+1, IF(BDD!O10<=50,BDD!D10+7, IF(BDD!O10<=75,BDD!D10+14, IF(BDD!O10<=95,BDD!D10+21,BDD!D10+56)))) -> #DIV/0! | B10: =CONCATENATE(F10,"-",G10,"-",J10,"-",K10) -> --- | O10: =M10/L10 -> #DIV/0!
A11: =IF(O11=0,D11+1, IF(BDD!O11<=50,BDD!D11+7, IF(BDD!O11<=75,BDD!D11+14, IF(BDD!O11<=95,BDD!D11+21,BDD!D11+56)))) -> #DIV/0! | B11: =CONCATENATE(F11,"-",G11,"-",J11,"-",K11) -> --- | O11: =M11/L11 -> #DIV/0!
A12: =IF(O12=0,D12+1, IF(BDD!O12<=50,BDD!D12+7, IF(BDD!O12<=75,BDD!D12+14, IF(BDD!O12<=95,BDD!D12+21,BDD!D12+56)))) -> #DIV/0! | B12: =CONCATENATE(F12,"-",G12,"-",J12,"-",K12) -> --- | O12: =M12/L12 -> #DIV/0!
A13: =IF(O13=0,D13+1, IF(BDD!O13<=50,BDD!D13+7, IF(BDD!O13<=75,BDD!D13+14, IF(BDD!O13<=95,BDD!D13+21,BDD!D13+56)))) -> #DIV/0! | B13: =CONCATENATE(F13,"-",G13,"-",J13,"-",K13) -> --- | O13: =M13/L13 -> #DIV/0!

Sheet Planning d'audit
A1: 44562 | F1: Fevrier 2022
A2: 3 | B2: 4 | C2: 5 | D2: 6 | E2: 7 | G2: 1 | H2: 2 | I2: 3 | J2: 4
A3: 10 | B3: 11 | C3: 12 | D3: 13 | E3: 14 | F3: 7 | G3: 8 | H3: 9 | I3: 10 | J3: 11
A4: 17 | B4: 18 | C4: 19 | D4: 20 | E4: 21 | F4: 14 | G4: 15 | H4: 16 | I4: 17 | J4: 18
A5: 24 | B5: 25 | C5: 26 | D5: 27 | E5: 28 | F5: 19 | G5: 20 | H5: 21 | I5: 22 | J5: 23
A6: 31 | F6: 26

Sheet Planning bis
A1: Date | B1: Audit à réaliser
A2: 44562 | B2: =VLOOKUP(A2,BDD!A:B,2,FALSE) -> #N/A
A3: 44563 | B3: =VLOOKUP(A3,BDD!A:B,2,FALSE) -> #N/A
A4: 44564 | B4: =VLOOKUP(A4,BDD!A:B,2,FALSE) -> #N/A
A5: 44565 | B5: =VLOOKUP(A5,BDD!A:B,2,FALSE) -> #N/A
A6: 44566 | B6: =VLOOKUP(A6,BDD!A:B,2,FALSE) -> #N/A
A7: 44567 | B7: =VLOOKUP(A7,BDD!A:B,2,FALSE) -> #N/A
A8: 44568 | B8: =VLOOKUP(A8,BDD!A:B,2,FALSE) -> #N/A
A9: 44569 | B9: =VLOOKUP(A9,BDD!A:B,2,FALSE) -> #N/A
A10: 44570 | B10: =VLOOKUP(A10,BDD!A:B,2,FALSE) -> #N/A
A11: 44571 | B11: =VLOOKUP(A11,BDD!A:B,2,FALSE) -> #N/A
A12: 44572 | B12: =VLOOKUP(A12,BDD!A:B,2,FALSE) -> #N/A
A13: 44573 | B13: =VLOOKUP(A13,BDD!A:B,2,FALSE) -> #N/A
... A182: 44742 | B182: =VLOOKUP(A182,BDD!A:B,2,FALSE) -> #N/A
