Workbook

Sheet Règle d'audit
A1: Audit qualité
A3: Comment se déroule mon audit
A4: 1 | B4: Je préviens le responsable du secteur audité
A5: 2 | B5: J'explique à l'audité l'objectif de l'audit
A6: 3 | B6: Je pose des questions sur le poste, l'organisation, les réglages, et les points d'autocontrôle
A7: 4 | B7: Je prélève des pièces que je contrôle à 100%
A8: 5 | B8: Je débrief l'audité si l'audit est ok
A9: 5 Bis | B9: J'étalonne et j'explique la non qualité à l'audité en cas d'audit ko
A10: 6 | B10: Je débrief le responsable du secteur
A11: 7 | B11: Je saisie le résultat de l'audit
A12: 8 | B12: Je plannifie le prochain audit
B13: 0 | C13: J+1 | D13: J+1
B14: Inférieur à 50 | C14: S+1 | D14: J+14
B15: De 50 à 75 | C15: S+2 | D15: J+21
B16: De 75 à 95 | C16: S+3 | D16: J+28
B17: Supérieur à 95 | C17: S+8 | D17: J+56

Sheet BDD
A1: Semaine | B1: Date | C1: Secteur | D1: Ligne | E1: Auditeur | F1: Audité | G1: Poste | H1: Opération/produit | I1: Nombre contrôlé | J1: OK/Acceptable | K1: Ko | L1: Statut | M1: Commentaires | N1: Prochain audit
A2: =_xlfn.ISOWEEKNUM(B2) -> 2 | B2: 44575 | C2: Prep | D2: ligne alpha | E2: A | F2: B | G2: Machine 1 | H2: Opé 1 | I2: 19 | J2: 19 | K2: 0 | L2: =J2/I2 -> 1 | N2: =IF(L2=0,B2+1, IF(BDD!L2<=0.5,BDD!B2+7, IF(BDD!L2<=0.75,BDD!B2+14, IF(BDD!L2<=0.95,BDD!B2+21,BDD!B2+56)))) -> 44631
A3: =_xlfn.ISOWEEKNUM(B3) -> 2 | B3: 44575 | C3: Prep | D3: ligne beta | E3: A | F3: C | G3: Machine 2 | H3: Opé 2 | I3: 20 | J3: 20 | K3: 0 | L3: =J3/I3 -> 1 | N3: =IF(L3=0,B3+1, IF(BDD!L3<=0.5,BDD!B3+7, IF(BDD!L3<=0.75,BDD!B3+14, IF(BDD!L3<=0.95,BDD!B3+21,BDD!B3+56)))) -> 44631
A4: =_xlfn.ISOWEEKNUM(B4) -> 52 | L4: =J4/I4 -> #DIV/0! | N4: =IF(L4=0,B4+1, IF(BDD!L4<=0.5,BDD!B4+7, IF(BDD!L4<=0.75,BDD!B4+14, IF(BDD!L4<=0.95,BDD!B4+21,BDD!B4+56)))) -> #DIV/0!
A5: =_xlfn.ISOWEEKNUM(B5) -> 52 | L5: =J5/I5 -> #DIV/0! | N5: =IF(L5=0,B5+1, IF(BDD!L5<=0.5,BDD!B5+7, IF(BDD!L5<=0.75,BDD!B5+14, IF(BDD!L5<=0.95,BDD!B5+21,BDD!B5+56)))) -> #DIV/0!
A6: =_xlfn.ISOWEEKNUM(B6) -> 52 | L6: =J6/I6 -> #DIV/0! | N6: =IF(L6=0,B6+1, IF(BDD!L6<=50,BDD!B6+7, IF(BDD!L6<=75,BDD!B6+14, IF(BDD!L6<=95,BDD!B6+21,BDD!B6+56)))) -> #DIV/0!
A7: =_xlfn.ISOWEEKNUM(B7) -> 52 | L7: =J7/I7 -> #DIV/0! | N7: =IF(L7=0,B7+1, IF(BDD!L7<=50,BDD!B7+7, IF(BDD!L7<=75,BDD!B7+14, IF(BDD!L7<=95,BDD!B7+21,BDD!B7+56)))) -> #DIV/0!
A8: =_xlfn.ISOWEEKNUM(B8) -> 52 | L8: =J8/I8 -> #DIV/0! | N8: =IF(L8=0,B8+1, IF(BDD!L8<=50,BDD!B8+7, IF(BDD!L8<=75,BDD!B8+14, IF(BDD!L8<=95,BDD!B8+21,BDD!B8+56)))) -> #DIV/0!
L9: =J9/I9 -> #DIV/0! | N9: =IF(L9=0,B9+1, IF(BDD!L9<=50,BDD!B9+7, IF(BDD!L9<=75,BDD!B9+14, IF(BDD!L9<=95,BDD!B9+21,BDD!B9+56)))) -> #DIV/0!
L10: =J10/I10 -> #DIV/0! | N10: =IF(L10=0,B10+1, IF(BDD!L10<=50,BDD!B10+7, IF(BDD!L10<=75,BDD!B10+14, IF(BDD!L10<=95,BDD!B10+21,BDD!B10+56)))) -> #DIV/0!
L11: =J11/I11 -> #DIV/0! | N11: =IF(L11=0,B11+1, IF(BDD!L11<=50,BDD!B11+7, IF(BDD!L11<=75,BDD!B11+14, IF(BDD!L11<=95,BDD!B11+21,BDD!B11+56)))) -> #DIV/0!
L12: =J12/I12 -> #DIV/0! | N12: =IF(L12=0,B12+1, IF(BDD!L12<=50,BDD!B12+7, IF(BDD!L12<=75,BDD!B12+14, IF(BDD!L12<=95,BDD!B12+21,BDD!B12+56)))) -> #DIV/0!
L13: =J13/I13 -> #DIV/0! | N13: =IF(L13=0,B13+1, IF(BDD!L13<=50,BDD!B13+7, IF(BDD!L13<=75,BDD!B13+14, IF(BDD!L13<=95,BDD!B13+21,BDD!B13+56)))) -> #DIV/0!

Sheet Planning d'audit
A1: 44562 | F1: Fevrier 2022
A2: 3 | B2: 4 | C2: 5 | D2: 6 | E2: 7 | G2: 1 | H2: 2 | I2: 3 | J2: 4
A3: 10 | B3: 11 | C3: 12 | D3: 13 | E3: 14 | F3: 7 | G3: 8 | H3: 9 | I3: 10 | J3: 11
A4: 17 | B4: 18 | C4: 19 | D4: 20 | E4: 21 | F4: 14 | G4: 15 | H4: 16 | I4: 17 | J4: 18
A5: 24 | B5: 25 | C5: 26 | D5: 27 | E5: 28 | F5: 19 | G5: 20 | H5: 21 | I5: 22 | J5: 23
A6: 31 | F6: 26
