Workbook

Sheet TARIF TRANSPORTEURS
B1: CALBERSON 10Kg | C1: CALBERSON 20Kg | D1: CALBERSON 30Kg | E1: CALBERSON 40Kg | F1: CIBLEX 10Kg | G1: CIBLEX 20Kg | H1: CIBLEX 30Kg | I1: CIBLEX 40Kg | J1: TAT 10Kg | K1: TAT 20Kg | L1: TAT 30Kg | M1: TAT 40Kg
A2: 01 AIN | B2: =CALCUL!B3*CALCUL!$R$4 -> 1.312138 | F2: =CALCUL!F3*CALCUL!$R$5 -> 1.357128
A3: 02 AISNE | B3: =CALCUL!B4*CALCUL!$R$4 -> 1.254184 | F3: =CALCUL!F4*CALCUL!$R$5 -> 1.357128
A4: 03 ALLIER | B4: =CALCUL!B5*CALCUL!$R$4 -> 1.199945 | F4: =CALCUL!F5*CALCUL!$R$5 -> 1.357128
A5: 04 ALPES DE HTE PROVENCE | B5: =CALCUL!B6*CALCUL!$R$4 -> 0.92875 | F5: =CALCUL!F6*CALCUL!$R$5 -> 1.357128
A6: 05 HAUTES-ALPES | B6: =CALCUL!B7*CALCUL!$R$4 -> 1.325512 | F6: =CALCUL!F7*CALCUL!$R$5 -> 1.357128
A7: 06 ALPES-MARITIMES (Monaco) | B7: =CALCUL!B8*CALCUL!$R$4 -> 0.977788 | F7: =CALCUL!F8*CALCUL!$R$5 -> 1.357128
A8: 07 ARDECHE | B8: =CALCUL!B9*CALCUL!$R$4 -> 1.673979 | F8: =CALCUL!F9*CALCUL!$R$5 -> 1.357128
A9: 08 ARDENNES | B9: =CALCUL!B10*CALCUL!$R$4 -> 1.273502 | F9: =CALCUL!F10*CALCUL!$R$5 -> 1.357128
A10: 09 ARIEGE | B10: =CALCUL!B11*CALCUL!$R$4 -> 1.658376 | F10: =CALCUL!F11*CALCUL!$R$5 -> 1.357128
A11: 10 AUBE | B11: =CALCUL!B12*CALCUL!$R$4 -> 1.260871 | F11: =CALCUL!F12*CALCUL!$R$5 -> 1.357128
A12: 11 AUDE | B12: =CALCUL!B13*CALCUL!$R$4 -> 1.070663 | F12: =CALCUL!F13*CALCUL!$R$5 -> 1.357128
A13: 12 AVEYRON | B13: =CALCUL!B14*CALCUL!$R$4 -> 1.34483 | F13: =CALCUL!F14*CALCUL!$R$5 -> 1.357128
A14: 13 BOUCHES-DU-RHÔNE | B14: =CALCUL!B15*CALCUL!$R$4 -> 1.023854 | F14: =CALCUL!F15*CALCUL!$R$5 -> 1.357128
A15: 14 CALVADOS | F15: =CALCUL!F16*CALCUL!$R$5 -> 1.357128
A16: 15 CANTAL | F16: =CALCUL!F17*CALCUL!$R$5 -> 1.357128
A17: 16 CHARENTE | F17: =CALCUL!F18*CALCUL!$R$5 -> 1.357128
A18: 17 CHARENTE-MARITIME
A19: 18 CHER
A20: 19 CORREZE
A21: 20 CORSE
A22: 21 CÔTE-D'OR
A23: 22 CÔTES-D'ARMOR
A24: 23 CREUSE
A25: 24 DORDOGNE
A26: 25 DOUBS
A27: 26 DRÔME
A28: 27 EURE
A29: 28 EURE-ET-LOIR
... A96: 95 VAL-D'OISE

Sheet CALCUL
A1: DEPATEMENTS | B1: TARIFS CALBERSON | F1: TARIFS CIBLEX | J1: TARIFS TAT
B2: 10KG | C2: 20KG | D2: 30KG | E2: 40KG | F2: 10KG | G2: 20KG | H2: 30KG | I2: 40KG | J2: 10KG | K2: 20KG | L2: 30KG | M2: 40KG
A3: 01 AIN | B3: 17.66 | C3: 21.21 | D3: 24.56 | E3: 27.84 | F3: 10.98 | G3: 15.48 | H3: 19.53 | I3: 39.53 | J3: 13.21 | K3: 18.39 | L3: 22.8 | M3: 27.43
A4: 02 AISNE | B4: 16.88 | C4: 22.11 | D4: 26.91 | E4: 31.73 | F4: 10.98 | G4: 15.48 | H4: 19.53 | I4: 39.53 | J4: 13.21 | K4: 18.39 | L4: 22.8 | M4: 27.43 | P4: TAXE GO : | Q4: CALBERSON | R4: 0.0743
A5: 03 ALLIER | B5: 16.15 | C5: 20.31 | D5: 24.52 | E5: 28.3 | F5: 10.98 | G5: 15.48 | H5: 19.53 | I5: 39.53 | J5: 13.21 | K5: 18.39 | L5: 22.8 | M5: 27.43 | Q5: CIBLEX | R5: 0.1236
A6: 04 ALPES DE HTE PROVENCE | B6: 12.5 | C6: 13.36 | D6: 16.19 | E6: 17.06 | F6: 10.98 | G6: 15.48 | H6: 19.53 | I6: 39.53 | J6: 13.21 | K6: 18.39 | L6: 22.8 | M6: 27.43 | Q6: TAT | R6: 0.0653
A7: 05 HAUTES-ALPES | B7: 17.84 | C7: 19.19 | D7: 21.26 | E7: 22.44 | F7: 10.98 | G7: 15.48 | H7: 19.53 | I7: 39.53 | J7: 13.21 | K7: 18.39 | L7: 22.8 | M7: 27.43
A8: 06 ALPES-MARITIMES (Monaco) | B8: 13.16 | C8: 13.16 | D8: 15.33 | E8: 15.33 | F8: 10.98 | G8: 15.48 | H8: 19.53 | I8: 39.53 | J8: 13.21 | K8: 18.39 | L8: 22.8 | M8: 27.43
A9: 07 ARDECHE | B9: 22.53 | C9: 25.63 | D9: 29.44 | E9: 32.27 | F9: 10.98 | G9: 15.48 | H9: 19.53 | I9: 39.53 | J9: 13.21 | K9: 18.39 | L9: 22.8 | M9: 27.43
A10: 08 ARDENNES | B10: 17.14 | C10: 22.78 | D10: 27.85 | E10: 33.02 | F10: 10.98 | G10: 15.48 | H10: 19.53 | I10: 39.53 | J10: 13.21 | K10: 18.39 | L10: 22.8 | M10: 27.43
A11: 09 ARIEGE | B11: 22.32 | C11: 27.59 | D11: 32.55 | E11: 37.39 | F11: 10.98 | G11: 15.48 | H11: 19.53 | I11: 39.53 | J11: 13.21 | K11: 18.39 | L11: 22.8 | M11: 27.43
A12: 10 AUBE | B12: 16.97 | C12: 22.38 | D12: 27.28 | E12: 32.2 | F12: 10.98 | G12: 15.48 | H12: 19.53 | I12: 39.53 | J12: 13.21 | K12: 18.39 | L12: 22.8 | M12: 27.43
A13: 11 AUDE | B13: 14.41 | C13: 17.08 | D13: 21.39 | E13: 24.05 | F13: 10.98 | G13: 15.48 | H13: 19.53 | I13: 39.53 | J13: 13.21 | K13: 18.39 | L13: 22.8 | M13: 27.43
A14: 12 AVEYRON | B14: 18.1 | C14: 22.19 | D14: 25.85 | E14: 29.67 | F14: 10.98 | G14: 15.48 | H14: 19.53 | I14: 39.53 | J14: 13.21 | K14: 18.39 | L14: 22.8 | M14: 27.43
A15: 13 BOUCHES-DU-RHÔNE | B15: 13.78 | C15: 14.67 | D15: 17.59 | E15: 18.49 | F15: 10.98 | G15: 15.48 | H15: 19.53 | I15: 39.53 | J15: 13.21 | K15: 18.39 | L15: 22.8 | M15: 27.43
A16: 14 CALVADOS | B16: 17.26 | C16: 22.65 | D16: 27.53 | E16: 32.47 | F16: 10.98 | G16: 15.48 | H16: 19.53 | I16: 39.53 | J16: 13.21 | K16: 18.39 | L16: 22.8 | M16: 27.43
A17: 15 CANTAL | B17: 19.22 | C17: 24.88 | D17: 29.51 | E17: 34.74 | F17: 10.98 | G17: 15.48 | H17: 19.53 | I17: 39.53 | J17: 13.21 | K17: 18.39 | L17: 22.8 | M17: 27.43
A18: 16 CHARENTE | B18: 16.91 | C18: 22.2 | D18: 27.04 | E18: 31.85 | F18: 10.98 | G18: 15.48 | H18: 19.53 | I18: 39.53 | J18: 13.21 | K18: 18.39 | L18: 22.8 | M18: 27.43
... A97: 95 VAL-D'OISE | B97: 21.41 | C97: 25.06 | D97: 29.4 | E97: 32.74 | F97: 10.98 | G97: 15.48 | H97: 19.53 | I97: 39.53 | J97: 13.21 | K97: 18.39 | L97: 22.8 | M97: 27.43

Sheet Feuil3
