Workbook

Sheet Feuil1
B3: déstination | C3: prix
B4: paris | C4: 10.2
B5: lyon | C5: 14.3
B6: bordeaux | C6: 15.36
B7: nancy | C7: 16.45
B8: monaco | C8: 12.35
B9: Marseille | C9: 14
F11: Je n'ai pas fait compliqué.

Sheet camion1
B3: déstination | C3: quatité | D3: prix
B4: paris | C4: 15 | D4: 10.2
B5: lyon | C5: 12 | D5: 14.3
B6: bordeaux | C6: 325 | D6: 15.36
B7: nancy | C7: 12 | D7: 16.45
B8: monaco | C8: 36 | D8: 12.35
B9: =Feuil1!B9 -> Marseille | D9: =Feuil1!$C9 -> 14
B10: =Feuil1!B10 -> 0 | D10: =Feuil1!$C10 -> 0
B11: =Feuil1!B11 -> 0 | D11: =Feuil1!$C11 -> 0
B12: =Feuil1!B12 -> 0 | D12: =Feuil1!$C12 -> 0
B13: =Feuil1!B13 -> 0 | D13: =Feuil1!$C13 -> 0
B14: =Feuil1!B14 -> 0 | D14: =Feuil1!$C14 -> 0
B15: =Feuil1!B15 -> 0 | D15: =Feuil1!$C15 -> 0
B16: =Feuil1!B16 -> 0 | D16: =Feuil1!$C16 -> 0
B17: =Feuil1!B17 -> 0 | D17: =Feuil1!$C17 -> 0
B18: =Feuil1!B18 -> 0 | D18: =Feuil1!$C18 -> 0
B19: =Feuil1!B19 -> 0 | D19: =Feuil1!$C19 -> 0
B20: =Feuil1!B20 -> 0 | D20: =Feuil1!$C20 -> 0
... B24: =Feuil1!B24 -> 0 | D24: =Feuil1!$C24 -> 0
D25: =Feuil1!$C25 -> 0
D26: =Feuil1!$C26 -> 0
D27: =Feuil1!$C27 -> 0

Sheet camuion2
B3: déstination | C3: quatité | D3: prix
B4: paris | C4: 14 | D4: 10.2
B5: lyon | C5: 26 | D5: 14.3
B6: bordeaux | C6: 321 | D6: 15.36
B7: nancy | C7: 125 | D7: 16.45
B8: monaco | C8: 236 | D8: 12.35
B9: =Feuil1!$B9 -> Marseille | D9: =Feuil1!$C9 -> 14
B10: =Feuil1!$B10 -> 0 | D10: =Feuil1!$C10 -> 0
B11: =Feuil1!$B11 -> 0 | D11: =Feuil1!$C11 -> 0
B12: =Feuil1!$B12 -> 0 | D12: =Feuil1!$C12 -> 0
D13: =Feuil1!$C13 -> 0
D14: =Feuil1!$C14 -> 0
D15: =Feuil1!$C15 -> 0
D16: =Feuil1!$C16 -> 0
D17: =Feuil1!$C17 -> 0
D18: =Feuil1!$C18 -> 0
D19: =Feuil1!$C19 -> 0
D20: =Feuil1!$C20 -> 0
D21: =Feuil1!$C21 -> 0
D22: =Feuil1!$C22 -> 0
D23: =Feuil1!$C23 -> 0
D24: =Feuil1!$C24 -> 0
... D33: =Feuil1!$C33 -> 0
