Workbook

Sheet Classement
B1: Clt | C1: Pilotes | D1: Epreuve 1 | E1: Epreuve 2 | F1: Epreuve 3 | G1: Epreuve 4 | H1: Epreuve 5 | I1: Epreuve 6 | J1: Epreuve 7 | K1: Epreuve 8 | L1: Epreuve 9 | M1: Epreuve 10 | N1: Epreuve 11 | O1: Epreuve 12 | P1: Epreuve 13 | Q1: Points
B2: 1 | C2: Pilote 1 | Q2: =matrice!Q2 -> 35
B3: 2 | C3: Pilote 2 | Q3: =matrice!Q3 -> 17
B4: 3 | C4: Pilote 3 | Q4: =matrice!Q4 -> 27
B5: 4 | C5: Pilote 4 | Q5: =matrice!Q5 -> 21
B6: 5 | C6: Pilote 5 | Q6: =matrice!Q6 -> 23
B7: 6 | C7: Pilote 6 | Q7: =matrice!Q7 -> 25
B8: 7 | C8: Pilote 7 | Q8: =matrice!Q8 -> 19
B9: 8 | C9: Pilote 8 | Q9: =matrice!Q9 -> 47
B10: 9 | Q10: =matrice!Q10
B11: 10 | Q11: =matrice!Q11
B12: 11 | Q12: =matrice!Q12
B13: 12 | Q13: =matrice!Q13
B14: 13 | Q14: =matrice!Q14
B15: 14 | Q15: =matrice!Q15
B16: 15 | Q16: =matrice!Q16
B17: 16 | Q17: =matrice!Q17
B18: 17 | Q18: =matrice!Q18
B19: 18 | Q19: =matrice!Q19
B20: 19 | Q20: =matrice!Q20
B21: 20 | Q21: =matrice!Q21
... B251: 250 | Q251: =matrice!Q251
C253: Féminines
C254: Points reçus par chaque pilote étant sur la liste des autorisés au départ, mais n'étant pas au scratch final.
C255: Les 5 points + 2 points supplémentaires si le pilote est au scratch final.
C256: Rallyes Nationaux
C257: Rallyes Régionaux

Sheet matrice
B1: Clt | C1: Pilotes | D1: Epreuve 1 | E1: Epreuve 2 | F1: Epreuve 3 | G1: Epreuve 4 | H1: Epreuve 5 | I1: Epreuve 6 | J1: Epreuve 7 | K1: Epreuve 8 | L1: Epreuve 9 | M1: Epreuve 10 | N1: Epreuve 11 | O1: Epreuve 12 | P1: Epreuve 13 | Q1: Points | T1: 11
B2: 1 | C2: Pilote 1 | D2: 35 | Q2: =IF(COUNTA(D2:P2)=0,"",SUM(D2:P2)) -> 35 | T2: 13
B3: 2 | C3: Pilote 2 | D3: 17 | Q3: =IF(COUNTA(D3:P3)=0,"",SUM(D3:P3)) -> 17 | T3: 15
B4: 3 | C4: Pilote 3 | D4: 27 | Q4: =IF(COUNTA(D4:P4)=0,"",SUM(D4:P4)) -> 27 | T4: 16
B5: 4 | C5: Pilote 4 | D5: 21 | Q5: =IF(COUNTA(D5:P5)=0,"",SUM(D5:P5)) -> 21 | T5: 17
B6: 5 | C6: Pilote 5 | D6: 23 | Q6: =IF(COUNTA(D6:P6)=0,"",SUM(D6:P6)) -> 23 | T6: 19
B7: 6 | C7: Pilote 6 | D7: 25 | Q7: =IF(COUNTA(D7:P7)=0,"",SUM(D7:P7)) -> 25 | T7: 21
B8: 7 | C8: Pilote 7 | D8: 19 | Q8: =IF(COUNTA(D8:P8)=0,"",SUM(D8:P8)) -> 19 | T8: 22
B9: 8 | C9: Pilote 8 | D9: 31 | E9: 16 | Q9: =IF(COUNTA(D9:P9)=0,"",SUM(D9:P9)) -> 47 | T9: 23
B10: 9 | Q10: =IF(COUNTA(D10:P10)=0,"",SUM(D10:P10)) | T10: 25
B11: 10 | Q11: =IF(COUNTA(D11:P11)=0,"",SUM(D11:P11)) | T11: 27
B12: 11 | Q12: =IF(COUNTA(D12:P12)=0,"",SUM(D12:P12)) | T12: 28
B13: 12 | Q13: =IF(COUNTA(D13:P13)=0,"",SUM(D13:P13)) | T13: 29
B14: 13 | Q14: =IF(COUNTA(D14:P14)=0,"",SUM(D14:P14)) | T14: 31
B15: 14 | Q15: =IF(COUNTA(D15:P15)=0,"",SUM(D15:P15)) | T15: 33
B16: 15 | Q16: =IF(COUNTA(D16:P16)=0,"",SUM(D16:P16)) | T16: 34
B17: 16 | Q17: =IF(COUNTA(D17:P17)=0,"",SUM(D17:P17)) | T17: 35
B18: 17 | Q18: =IF(COUNTA(D18:P18)=0,"",SUM(D18:P18)) | T18: 37
B19: 18 | Q19: =IF(COUNTA(D19:P19)=0,"",SUM(D19:P19)) | T19: 40
B20: 19 | Q20: =IF(COUNTA(D20:P20)=0,"",SUM(D20:P20)) | T20: 43
B21: 20 | Q21: =IF(COUNTA(D21:P21)=0,"",SUM(D21:P21)) | T21: 46
... B29: 28 | Q29: =IF(COUNTA(D29:P29)=0,"",SUM(D29:P29)) | T29: 67
B30: 29 | Q30: =IF(COUNTA(D30:P30)=0,"",SUM(D30:P30))
B31: 30 | Q31: =IF(COUNTA(D31:P31)=0,"",SUM(D31:P31))
B32: 31 | Q32: =IF(COUNTA(D32:P32)=0,"",SUM(D32:P32))
B33: 32 | Q33: =IF(COUNTA(D33:P33)=0,"",SUM(D33:P33))
B34: 33 | Q34: =IF(COUNTA(D34:P34)=0,"",SUM(D34:P34))
B35: 34 | Q35: =IF(COUNTA(D35:P35)=0,"",SUM(D35:P35))
B36: 35 | Q36: =IF(COUNTA(D36:P36)=0,"",SUM(D36:P36))
B37: 36 | Q37: =IF(COUNTA(D37:P37)=0,"",SUM(D37:P37))
B38: 37 | Q38: =IF(COUNTA(D38:P38)=0,"",SUM(D38:P38))
B39: 38 | Q39: =IF(COUNTA(D39:P39)=0,"",SUM(D39:P39))
B40: 39 | Q40: =IF(COUNTA(D40:P40)=0,"",SUM(D40:P40))
B41: 40 | Q41: =IF(COUNTA(D41:P41)=0,"",SUM(D41:P41))
... B251: 250 | Q251: =IF(COUNTA(D251:P251)=0,"",SUM(D251:P251))
