Workbook

Sheet Confrontations & Résultats
A1: Confrontations | H1: Résultats | S1: Rangs Pts | AB1: Rangs Diff.
A2: Handball | B2: Locaux | C2: Pt | D2: But | E2: But | F2: Pt | G2: Visiteur | H2: Equipes | I2: Points | J2: Joué | K2: Gagné | L2: Nul | M2: Perdu | N2: But + | O2: But - | P2: Diff. | R2: Equipe | S2: 1 | T2: 2 | U2: 3 | V2: 4 | W2: 5 | X2: 6 | Y2: 7 | Z2: 8 | AA2: 9 | AB2: 1 | AC2: 2 | AD2: 3 | AE2: 4 | AF2: 5 | AG2: 6 | AH2: 7 | AI2: 8 | AJ2: 9
A3: Journée 1 | B3: Pana Loisirs | C3: =IF(OR(D3="",E3=""),"",IF(D3<E3,1,IF(D3=E3,2,IF(D3>E3,3)))) -> 1 | D3: 13 | E3: 26 | F3: =IF(C3=1,3,IF(C3=2,2,IF(C3=3,1,""))) -> 3 | G3: =H9 -> JA Isle HB | H3: AL Palais sur Vienne | I3: =SUMPRODUCT(($B$1:$B$107=H3)*1,$C$1:$C$107)+SUMPRODUCT($F$1:$F$107,($G$1:$G$107=H3)*1) -> 19 | J3: =SUMPRODUCT(($B$1:$B$107=H3)*1,($C$1:$C$107<>"")*1)+SUMPRODUCT(($F$1:$F$107<>"")*1,($G$1:$G$107=H3)*1) -> 7 | K3: =SUMPRODUCT(($B$1:$B$107=H3)*1,($C$1:$C$107=3)*1)+SUMPRODUCT(($F$1:$F$107=3)*1,($G$1:$G$107=H3)*1) -> 6 | L3: =SUMPRODUCT(($B$1:$B$107=H3)*1,($C$1:$C$107=2)*1)+SUMPRODUCT(($F$1:$F$107=2)*1,($G$1:$G$107=H3)*1) -> 0 | M3: =SUMPRODUCT(($B$1:$B$107=H3)*1,($C$1:$C$107=1)*1)+SUMPRODUCT(($F$1:$F$107=1)*1,($G$1:$G$107=H3)*1) -> 1 | N3: =SUMPRODUCT(($B$1:$B$107=H3)*1,$D$1:$D$107)+SUMPRODUCT($E$1:$E$107,($G$1:$G$107=H3)*1) -> 256 | O3: =SUMPRODUCT(($B$1:$B$107=H3)*1,$E$1:$E$107)+SUMPRODUCT($D$1:$D$107,($G$1:$G$107=H3)*1) -> 148 | P3: =N3-O3 -> 108 | Q3: =MAX(S3:AJ3) -> 1 | R3: =H3 -> AL Palais sur Vienne | S3: =IF(RANK($I3,$I$3:$I$11)=S$2,S$2,"") -> 1 | T3: =IF(RANK($I3,$I$3:$I$11)=T$2,T$2,"") | U3: =IF(RANK($I3,$I$3:$I$11)=U$2,U$2,"") | V3: =IF(RANK($I3,$I$3:$I$11)=V$2,V$2,"") | W3: =IF(RANK($I3,$I$3:$I$11)=W$2,W$2,"") | X3: =IF(RANK($I3,$I$3:$I$11)=X$2,X$2,"") | Y3: =IF(RANK($I3,$I$3:$I$11)=Y$2,Y$2,"") | Z3: =IF(RANK($I3,$I$3:$I$11)=Z$2,Z$2,"") | AA3: =IF(RANK($I3,$I$3:$I$11)=AA$2,AA$2,"") | AB3: =IF(S3="","",IF(COUNTIF($S$3:$AA$11,AB$2)=1,S3,RANK($P3,$P$3:$P$11))) -> 1 | AC3: =IF(T3="","",IF(COUNTIF($S$3:$AA$11,AC$2)=1,T3,RANK($P3,$P$3:$P$11))) | AD3: =IF(U3="","",IF(COUNTIF($S$3:$AA$11,AD$2)=1,U3,RANK($P3,$P$3:$P$11))) | AE3: =IF(V3="","",IF(COUNTIF($S$3:$AA$11,AE$2)=1,V3,RANK($P3,$P$3:$P$11))) | AF3: =IF(W3="","",IF(COUNTIF($S$3:$AA$11,AF$2)=1,W3,RANK($P3,$P$3:$P$11))) | AG3: =IF(X3="","",IF(COUNTIF($S$3:$AA$11,AG$2)=1,X3,RANK($P3,$P$3:$P$11))) | AH3: =IF(Y3="","",IF(COUNTIF($S$3:$AA$11,AH$2)=1,Y3,RANK($P3,$P$3:$P$11))) | AI3: =IF(Z3="","",IF(COUNTIF($S$3:$AA$11,AI$2)=1,Z3,RANK($P3,$P$3:$P$11))) | AJ3: =IF(AA3="","",IF(COUNTIF($S$3:$AA$11,AJ$2)=1,AA3,RANK($P3,$P$3:$P$11)))
B4: =H11 -> Rochechouart / Saint-Junien HB 87 | C4: =IF(OR(D4="",E4=""),"",IF(D4<E4,1,IF(D4=E4,2,IF(D4>E4,3)))) -> 3 | D4: 29 | E4: 18 | F4: =IF(C4=1,3,IF(C4=2,2,IF(C4=3,1,""))) -> 1 | G4: =H5 -> Capo Limoges HB | H4: ASPTT Limoges HB | I4: =SUMPRODUCT(($B$1:$B$107=H4)*1,$C$1:$C$107)+SUMPRODUCT($F$1:$F$107,($G$1:$G$107=H4)*1) -> 18 | J4: =SUMPRODUCT(($B$1:$B$107=H4)*1,($C$1:$C$107<>"")*1)+SUMPRODUCT(($F$1:$F$107<>"")*1,($G$1:$G$107=H4)*1) -> 7 | K4: =SUMPRODUCT(($B$1:$B$107=H4)*1,($C$1:$C$107=3)*1)+SUMPRODUCT(($F$1:$F$107=3)*1,($G$1:$G$107=H4)*1) -> 5 | L4: =SUMPRODUCT(($B$1:$B$107=H4)*1,($C$1:$C$107=2)*1)+SUMPRODUCT(($F$1:$F$107=2)*1,($G$1:$G$107=H4)*1) -> 1 | M4: =SUMPRODUCT(($B$1:$B$107=H4)*1,($C$1:$C$107=1)*1)+SUMPRODUCT(($F$1:$F$107=1)*1,($G$1:$G$107=H4)*1) -> 1 | N4: =SUMPRODUCT(($B$1:$B$107=H4)*1,$D$1:$D$107)+SUMPRODUCT($E$1:$E$107,($G$1:$G$107=H4)*1) -> 238 | O4: =SUMPRODUCT(($B$1:$B$107=H4)*1,$E$1:$E$107)+SUMPRODUCT($D$1:$D$107,($G$1:$G$107=H4)*1) -> 185 | P4: =N4-O4 -> 53 | Q4: =MAX(S4:AJ4) -> 2 | R4: =H4 -> ASPTT Limoges HB | S4: =IF(RANK($I4,$I$3:$I$11)=S$2,S$2,"") | T4: =IF(RANK($I4,$I$3:$I$11)=T$2,T$2,"") -> 2 | U4: =IF(RANK($I4,$I$3:$I$11)=U$2,U$2,"") | V4: =IF(RANK($I4,$I$3:$I$11)=V$2,V$2,"") | W4: =IF(RANK($I4,$I$3:$I$11)=W$2,W$2,"") | X4: =IF(RANK($I4,$I$3:$I$11)=X$2,X$2,"") | Y4: =IF(RANK($I4,$I$3:$I$11)=Y$2,Y$2,"") | Z4: =IF(RANK($I4,$I$3:$I$11)=Z$2,Z$2,"") | AA4: =IF(RANK($I4,$I$3:$I$11)=AA$2,AA$2,"") | AB4: =IF(S4="","",IF(COUNTIF($S$3:$AA$11,AB$2)=1,S4,RANK($P4,$P$3:$P$11))) | AC4: =IF(T4="","",IF(COUNTIF($S$3:$AA$11,AC$2)=1,T4,RANK($P4,$P$3:$P$11))) -> 2 | AD4: =IF(U4="","",IF(COUNTIF($S$3:$AA$11,AD$2)=1,U4,RANK($P4,$P$3:$P$11))) | AE4: =IF(V4="","",IF(COUNTIF($S$3:$AA$11,AE$2)=1,V4,RANK($P4,$P$3:$P$11))) | AF4: =IF(W4="","",IF(COUNTIF($S$3:$AA$11,AF$2)=1,W4,RANK($P4,$P$3:$P$11))) | AG4: =IF(X4="","",IF(COUNTIF($S$3:$AA$11,AG$2)=1,X4,RANK($P4,$P$3:$P$11))) | AH4: =IF(Y4="","",IF(COUNTIF($S$3:$AA$11,AH$2)=1,Y4,RANK($P4,$P$3:$P$11))) | AI4: =IF(Z4="","",IF(COUNTIF($S$3:$AA$11,AI$2)=1,Z4,RANK($P4,$P$3:$P$11))) | AJ4: =IF(AA4="","",IF(COUNTIF($S$3:$AA$11,AJ$2)=1,AA4,RANK($P4,$P$3:$P$11)))
B5: =H6 -> E. Châteauneuf / Boisseuil | C5: =IF(OR(D5="",E5=""),"",IF(D5<E5,1,IF(D5=E5,2,IF(D5>E5,3)))) | F5: =IF(C5=1,3,IF(C5=2,2,IF(C5=3,1,""))) | H5: Capo Limoges HB | I5: =SUMPRODUCT(($B$1:$B$107=H5)*1,$C$1:$C$107)+SUMPRODUCT($F$1:$F$107,($G$1:$G$107=H5)*1) -> 8 | J5: =SUMPRODUCT(($B$1:$B$107=H5)*1,($C$1:$C$107<>"")*1)+SUMPRODUCT(($F$1:$F$107<>"")*1,($G$1:$G$107=H5)*1) -> 6 | K5: =SUMPRODUCT(($B$1:$B$107=H5)*1,($C$1:$C$107=3)*1)+SUMPRODUCT(($F$1:$F$107=3)*1,($G$1:$G$107=H5)*1) -> 1 | L5: =SUMPRODUCT(($B$1:$B$107=H5)*1,($C$1:$C$107=2)*1)+SUMPRODUCT(($F$1:$F$107=2)*1,($G$1:$G$107=H5)*1) -> 0 | M5: =SUMPRODUCT(($B$1:$B$107=H5)*1,($C$1:$C$107=1)*1)+SUMPRODUCT(($F$1:$F$107=1)*1,($G$1:$G$107=H5)*1) -> 5 | N5: =SUMPRODUCT(($B$1:$B$107=H5)*1,$D$1:$D$107)+SUMPRODUCT($E$1:$E$107,($G$1:$G$107=H5)*1) -> 100 | O5: =SUMPRODUCT(($B$1:$B$107=H5)*1,$E$1:$E$107)+SUMPRODUCT($D$1:$D$107,($G$1:$G$107=H5)*1) -> 159 | P5: =N5-O5 -> -59 | Q5: =MAX(S5:AJ5) -> 7 | R5: =H5 -> Capo Limoges HB | S5: =IF(RANK($I5,$I$3:$I$11)=S$2,S$2,"") | T5: =IF(RANK($I5,$I$3:$I$11)=T$2,T$2,"") | U5: =IF(RANK($I5,$I$3:$I$11)=U$2,U$2,"") | V5: =IF(RANK($I5,$I$3:$I$11)=V$2,V$2,"") | W5: =IF(RANK($I5,$I$3:$I$11)=W$2,W$2,"") | X5: =IF(RANK($I5,$I$3:$I$11)=X$2,X$2,"") | Y5: =IF(RANK($I5,$I$3:$I$11)=Y$2,Y$2,"") -> 7 | Z5: =IF(RANK($I5,$I$3:$I$11)=Z$2,Z$2,"") | AA5: =IF(RANK($I5,$I$3:$I$11)=AA$2,AA$2,"") | AB5: =IF(S5="","",IF(COUNTIF($S$3:$AA$11,AB$2)=1,S5,RANK($P5,$P$3:$P$11))) | AC5: =IF(T5="","",IF(COUNTIF($S$3:$AA$11,AC$2)=1,T5,RANK($P5,$P$3:$P$11))) | AD5: =IF(U5="","",IF(COUNTIF($S$3:$AA$11,AD$2)=1,U5,RANK($P5,$P$3:$P$11))) | AE5: =IF(V5="","",IF(COUNTIF($S$3:$AA$11,AE$2)=1,V5,RANK($P5,$P$3:$P$11))) | AF5: =IF(W5="","",IF(COUNTIF($S$3:$AA$11,AF$2)=1,W5,RANK($P5,$P$3:$P$11))) | AG5: =IF(X5="","",IF(COUNTIF($S$3:$AA$11,AG$2)=1,X5,RANK($P5,$P$3:$P$11))) | AH5: =IF(Y5="","",IF(COUNTIF($S$3:$AA$11,AH$2)=1,Y5,RANK($P5,$P$3:$P$11))) -> 7 | AI5: =IF(Z5="","",IF(COUNTIF($S$3:$AA$11,AI$2)=1,Z5,RANK($P5,$P$3:$P$11))) | AJ5: =IF(AA5="","",IF(COUNTIF($S$3:$AA$11,AJ$2)=1,AA5,RANK($P5,$P$3:$P$11)))
B6: =H4 -> ASPTT Limoges HB | C6: =IF(OR(D6="",E6=""),"",IF(D6<E6,1,IF(D6=E6,2,IF(D6>E6,3)))) -> 3 | D6: 30 | E6: 25 | F6: =IF(C6=1,3,IF(C6=2,2,IF(C6=3,1,""))) -> 1 | G6: =H3 -> AL Palais sur Vienne | H6: E. Châteauneuf / Boisseuil | I6: =SUMPRODUCT(($B$1:$B$107=H6)*1,$C$1:$C$107)+SUMPRODUCT($F$1:$F$107,($G$1:$G$107=H6)*1) -> 8 | J6: =SUMPRODUCT(($B$1:$B$107=H6)*1,($C$1:$C$107<>"")*1)+SUMPRODUCT(($F$1:$F$107<>"")*1,($G$1:$G$107=H6)*1) -> 6 | K6: =SUMPRODUCT(($B$1:$B$107=H6)*1,($C$1:$C$107=3)*1)+SUMPRODUCT(($F$1:$F$107=3)*1,($G$1:$G$107=H6)*1) -> 1 | L6: =SUMPRODUCT(($B$1:$B$107=H6)*1,($C$1:$C$107=2)*1)+SUMPRODUCT(($F$1:$F$107=2)*1,($G$1:$G$107=H6)*1) -> 0 | M6: =SUMPRODUCT(($B$1:$B$107=H6)*1,($C$1:$C$107=1)*1)+SUMPRODUCT(($F$1:$F$107=1)*1,($G$1:$G$107=H6)*1) -> 5 | N6: =SUMPRODUCT(($B$1:$B$107=H6)*1,$D$1:$D$107)+SUMPRODUCT($E$1:$E$107,($G$1:$G$107=H6)*1) -> 155 | O6: =SUMPRODUCT(($B$1:$B$107=H6)*1,$E$1:$E$107)+SUMPRODUCT($D$1:$D$107,($G$1:$G$107=H6)*1) -> 234 | P6: =N6-O6 -> -79 | Q6: =MAX(S6:AJ6) -> 8 | R6: =H6 -> E. Châteauneuf / Boisseuil | S6: =IF(RANK($I6,$I$3:$I$11)=S$2,S$2,"") | T6: =IF(RANK($I6,$I$3:$I$11)=T$2,T$2,"") | U6: =IF(RANK($I6,$I$3:$I$11)=U$2,U$2,"") | V6: =IF(RANK($I6,$I$3:$I$11)=V$2,V$2,"") | W6: =IF(RANK($I6,$I$3:$I$11)=W$2,W$2,"") | X6: =IF(RANK($I6,$I$3:$I$11)=X$2,X$2,"") | Y6: =IF(RANK($I6,$I$3:$I$11)=Y$2,Y$2,"") -> 7 | Z6: =IF(RANK($I6,$I$3:$I$11)=Z$2,Z$2,"") | AA6: =IF(RANK($I6,$I$3:$I$11)=AA$2,AA$2,"") | AB6: =IF(S6="","",IF(COUNTIF($S$3:$AA$11,AB$2)=1,S6,RANK($P6,$P$3:$P$11))) | AC6: =IF(T6="","",IF(COUNTIF($S$3:$AA$11,AC$2)=1,T6,RANK($P6,$P$3:$P$11))) | AD6: =IF(U6="","",IF(COUNTIF($S$3:$AA$11,AD$2)=1,U6,RANK($P6,$P$3:$P$11))) | AE6: =IF(V6="","",IF(COUNTIF($S$3:$AA$11,AE$2)=1,V6,RANK($P6,$P$3:$P$11))) | AF6: =IF(W6="","",IF(COUNTIF($S$3:$AA$11,AF$2)=1,W6,RANK($P6,$P$3:$P$11))) | AG6: =IF(X6="","",IF(COUNTIF($S$3:$AA$11,AG$2)=1,X6,RANK($P6,$P$3:$P$11))) | AH6: =IF(Y6="","",IF(COUNTIF($S$3:$AA$11,AH$2)=1,Y6,RANK($P6,$P$3:$P$11))) -> 8 | AI6: =IF(Z6="","",IF(COUNTIF($S$3:$AA$11,AI$2)=1,Z6,RANK($P6,$P$3:$P$11))) | AJ6: =IF(AA6="","",IF(COUNTIF($S$3:$AA$11,AJ$2)=1,AA6,RANK($P6,$P$3:$P$11)))
B7: =H8 -> HBC Objat Corrèze | C7: =IF(OR(D7="",E7=""),"",IF(D7<E7,1,IF(D7=E7,2,IF(D7>E7,3)))) -> 1 | D7: 16 | E7: 25 | F7: =IF(C7=1,3,IF(C7=2,2,IF(C7=3,1,""))) -> 3 | G7: =H7 -> HB Brive Corrèze | H7: HB Brive Corrèze | I7: =SUMPRODUCT(($B$1:$B$107=H7)*1,$C$1:$C$107)+SUMPRODUCT($F$1:$F$107,($G$1:$G$107=H7)*1) -> 15 | J7: =SUMPRODUCT(($B$1:$B$107=H7)*1,($C$1:$C$107<>"")*1)+SUMPRODUCT(($F$1:$F$107<>"")*1,($G$1:$G$107=H7)*1) -> 6 | K7: =SUMPRODUCT(($B$1:$B$107=H7)*1,($C$1:$C$107=3)*1)+SUMPRODUCT(($F$1:$F$107=3)*1,($G$1:$G$107=H7)*1) -> 4 | L7: =SUMPRODUCT(($B$1:$B$107=H7)*1,($C$1:$C$107=2)*1)+SUMPRODUCT(($F$1:$F$107=2)*1,($G$1:$G$107=H7)*1) -> 1 | M7: =SUMPRODUCT(($B$1:$B$107=H7)*1,($C$1:$C$107=1)*1)+SUMPRODUCT(($F$1:$F$107=1)*1,($G$1:$G$107=H7)*1) -> 1 | N7: =SUMPRODUCT(($B$1:$B$107=H7)*1,$D$1:$D$107)+SUMPRODUCT($E$1:$E$107,($G$1:$G$107=H7)*1) -> 161 | O7: =SUMPRODUCT(($B$1:$B$107=H7)*1,$E$1:$E$107)+SUMPRODUCT($D$1:$D$107,($G$1:$G$107=H7)*1) -> 131 | P7: =N7-O7 -> 30 | Q7: =MAX(S7:AJ7) -> 3 | R7: =H7 -> HB Brive Corrèze | S7: =IF(RANK($I7,$I$3:$I$11)=S$2,S$2,"") | T7: =IF(RANK($I7,$I$3:$I$11)=T$2,T$2,"") | U7: =IF(RANK($I7,$I$3:$I$11)=U$2,U$2,"") -> 3 | V7: =IF(RANK($I7,$I$3:$I$11)=V$2,V$2,"") | W7: =IF(RANK($I7,$I$3:$I$11)=W$2,W$2,"") | X7: =IF(RANK($I7,$I$3:$I$11)=X$2,X$2,"") | Y7: =IF(RANK($I7,$I$3:$I$11)=Y$2,Y$2,"") | Z7: =IF(RANK($I7,$I$3:$I$11)=Z$2,Z$2,"") | AA7: =IF(RANK($I7,$I$3:$I$11)=AA$2,AA$2,"") | AB7: =IF(S7="","",IF(COUNTIF($S$3:$AA$11,AB$2)=1,S7,RANK($P7,$P$3:$P$11))) | AC7: =IF(T7="","",IF(COUNTIF($S$3:$AA$11,AC$2)=1,T7,RANK($P7,$P$3:$P$11))) | AD7: =IF(U7="","",IF(COUNTIF($S$3:$AA$11,AD$2)=1,U7,RANK($P7,$P$3:$P$11))) -> 3 | AE7: =IF(V7="","",IF(COUNTIF($S$3:$AA$11,AE$2)=1,V7,RANK($P7,$P$3:$P$11))) | AF7: =IF(W7="","",IF(COUNTIF($S$3:$AA$11,AF$2)=1,W7,RANK($P7,$P$3:$P$11))) | AG7: =IF(X7="","",IF(COUNTIF($S$3:$AA$11,AG$2)=1,X7,RANK($P7,$P$3:$P$11))) | AH7: =IF(Y7="","",IF(COUNTIF($S$3:$AA$11,AH$2)=1,Y7,RANK($P7,$P$3:$P$11))) | AI7: =IF(Z7="","",IF(COUNTIF($S$3:$AA$11,AI$2)=1,Z7,RANK($P7,$P$3:$P$11))) | AJ7: =IF(AA7="","",IF(COUNTIF($S$3:$AA$11,AJ$2)=1,AA7,RANK($P7,$P$3:$P$11)))
A8: Journée 2 | B8: =H7 -> HB Brive Corrèze | C8: =IF(OR(D8="",E8=""),"",IF(D8<E8,1,IF(D8=E8,2,IF(D8>E8,3)))) -> 2 | D8: 24 | E8: 24 | F8: =IF(C8=1,3,IF(C8=2,2,IF(C8=3,1,""))) -> 2 | G8: =H4 -> ASPTT Limoges HB | H8: HBC Objat Corrèze | I8: =SUMPRODUCT(($B$1:$B$107=H8)*1,$C$1:$C$107)+SUMPRODUCT($F$1:$F$107,($G$1:$G$107=H8)*1) -> 10 | J8: =SUMPRODUCT(($B$1:$B$107=H8)*1,($C$1:$C$107<>"")*1)+SUMPRODUCT(($F$1:$F$107<>"")*1,($G$1:$G$107=H8)*1) -> 6 | K8: =SUMPRODUCT(($B$1:$B$107=H8)*1,($C$1:$C$107=3)*1)+SUMPRODUCT(($F$1:$F$107=3)*1,($G$1:$G$107=H8)*1) -> 2 | L8: =SUMPRODUCT(($B$1:$B$107=H8)*1,($C$1:$C$107=2)*1)+SUMPRODUCT(($F$1:$F$107=2)*1,($G$1:$G$107=H8)*1) -> 0 | M8: =SUMPRODUCT(($B$1:$B$107=H8)*1,($C$1:$C$107=1)*1)+SUMPRODUCT(($F$1:$F$107=1)*1,($G$1:$G$107=H8)*1) -> 4 | N8: =SUMPRODUCT(($B$1:$B$107=H8)*1,$D$1:$D$107)+SUMPRODUCT($E$1:$E$107,($G$1:$G$107=H8)*1) -> 136 | O8: =SUMPRODUCT(($B$1:$B$107=H8)*1,$E$1:$E$107)+SUMPRODUCT($D$1:$D$107,($G$1:$G$107=H8)*1) -> 150 | P8: =N8-O8 -> -14 | Q8: =MAX(S8:AJ8) -> 6 | R8: =H8 -> HBC Objat Corrèze | S8: =IF(RANK($I8,$I$3:$I$11)=S$2,S$2,"") | T8: =IF(RANK($I8,$I$3:$I$11)=T$2,T$2,"") | U8: =IF(RANK($I8,$I$3:$I$11)=U$2,U$2,"") | V8: =IF(RANK($I8,$I$3:$I$11)=V$2,V$2,"") | W8: =IF(RANK($I8,$I$3:$I$11)=W$2,W$2,"") | X8: =IF(RANK($I8,$I$3:$I$11)=X$2,X$2,"") -> 6 | Y8: =IF(RANK($I8,$I$3:$I$11)=Y$2,Y$2,"") | Z8: =IF(RANK($I8,$I$3:$I$11)=Z$2,Z$2,"") | AA8: =IF(RANK($I8,$I$3:$I$11)=AA$2,AA$2,"") | AB8: =IF(S8="","",IF(COUNTIF($S$3:$AA$11,AB$2)=1,S8,RANK($P8,$P$3:$P$11))) | AC8: =IF(T8="","",IF(COUNTIF($S$3:$AA$11,AC$2)=1,T8,RANK($P8,$P$3:$P$11))) | AD8: =IF(U8="","",IF(COUNTIF($S$3:$AA$11,AD$2)=1,U8,RANK($P8,$P$3:$P$11))) | AE8: =IF(V8="","",IF(COUNTIF($S$3:$AA$11,AE$2)=1,V8,RANK($P8,$P$3:$P$11))) | AF8: =IF(W8="","",IF(COUNTIF($S$3:$AA$11,AF$2)=1,W8,RANK($P8,$P$3:$P$11))) | AG8: =IF(X8="","",IF(COUNTIF($S$3:$AA$11,AG$2)=1,X8,RANK($P8,$P$3:$P$11))) -> 6 | AH8: =IF(Y8="","",IF(COUNTIF($S$3:$AA$11,AH$2)=1,Y8,RANK($P8,$P$3:$P$11))) | AI8: =IF(Z8="","",IF(COUNTIF($S$3:$AA$11,AI$2)=1,Z8,RANK($P8,$P$3:$P$11))) | AJ8: =IF(AA8="","",IF(COUNTIF($S$3:$AA$11,AJ$2)=1,AA8,RANK($P8,$P$3:$P$11)))
B9: =H3 -> AL Palais sur Vienne | C9: =IF(OR(D9="",E9=""),"",IF(D9<E9,1,IF(D9=E9,2,IF(D9>E9,3)))) -> 3 | D9: 45 | E9: 21 | F9: =IF(C9=1,3,IF(C9=2,2,IF(C9=3,1,""))) -> 1 | G9: =H6 -> E. Châteauneuf / Boisseuil | H9: JA Isle HB | I9: =SUMPRODUCT(($B$1:$B$107=H9)*1,$C$1:$C$107)+SUMPRODUCT($F$1:$F$107,($G$1:$G$107=H9)*1) -> 14 | J9: =SUMPRODUCT(($B$1:$B$107=H9)*1,($C$1:$C$107<>"")*1)+SUMPRODUCT(($F$1:$F$107<>"")*1,($G$1:$G$107=H9)*1) -> 6 | K9: =SUMPRODUCT(($B$1:$B$107=H9)*1,($C$1:$C$107=3)*1)+SUMPRODUCT(($F$1:$F$107=3)*1,($G$1:$G$107=H9)*1) -> 4 | L9: =SUMPRODUCT(($B$1:$B$107=H9)*1,($C$1:$C$107=2)*1)+SUMPRODUCT(($F$1:$F$107=2)*1,($G$1:$G$107=H9)*1) -> 0 | M9: =SUMPRODUCT(($B$1:$B$107=H9)*1,($C$1:$C$107=1)*1)+SUMPRODUCT(($F$1:$F$107=1)*1,($G$1:$G$107=H9)*1) -> 2 | N9: =SUMPRODUCT(($B$1:$B$107=H9)*1,$D$1:$D$107)+SUMPRODUCT($E$1:$E$107,($G$1:$G$107=H9)*1) -> 143 | O9: =SUMPRODUCT(($B$1:$B$107=H9)*1,$E$1:$E$107)+SUMPRODUCT($D$1:$D$107,($G$1:$G$107=H9)*1) -> 130 | P9: =N9-O9 -> 13 | Q9: =MAX(S9:AJ9) -> 5 | R9: =H9 -> JA Isle HB | S9: =IF(RANK($I9,$I$3:$I$11)=S$2,S$2,"") | T9: =IF(RANK($I9,$I$3:$I$11)=T$2,T$2,"") | U9: =IF(RANK($I9,$I$3:$I$11)=U$2,U$2,"") | V9: =IF(RANK($I9,$I$3:$I$11)=V$2,V$2,"") -> 4 | W9: =IF(RANK($I9,$I$3:$I$11)=W$2,W$2,"") | X9: =IF(RANK($I9,$I$3:$I$11)=X$2,X$2,"") | Y9: =IF(RANK($I9,$I$3:$I$11)=Y$2,Y$2,"") | Z9: =IF(RANK($I9,$I$3:$I$11)=Z$2,Z$2,"") | AA9: =IF(RANK($I9,$I$3:$I$11)=AA$2,AA$2,"") | AB9: =IF(S9="","",IF(COUNTIF($S$3:$AA$11,AB$2)=1,S9,RANK($P9,$P$3:$P$11))) | AC9: =IF(T9="","",IF(COUNTIF($S$3:$AA$11,AC$2)=1,T9,RANK($P9,$P$3:$P$11))) | AD9: =IF(U9="","",IF(COUNTIF($S$3:$AA$11,AD$2)=1,U9,RANK($P9,$P$3:$P$11))) | AE9: =IF(V9="","",IF(COUNTIF($S$3:$AA$11,AE$2)=1,V9,RANK($P9,$P$3:$P$11))) -> 5 | AF9: =IF(W9="","",IF(COUNTIF($S$3:$AA$11,AF$2)=1,W9,RANK($P9,$P$3:$P$11))) | AG9: =IF(X9="","",IF(COUNTIF($S$3:$AA$11,AG$2)=1,X9,RANK($P9,$P$3:$P$11))) | AH9: =IF(Y9="","",IF(COUNTIF($S$3:$AA$11,AH$2)=1,Y9,RANK($P9,$P$3:$P$11))) | AI9: =IF(Z9="","",IF(COUNTIF($S$3:$AA$11,AI$2)=1,Z9,RANK($P9,$P$3:$P$11))) | AJ9: =IF(AA9="","",IF(COUNTIF($S$3:$AA$11,AJ$2)=1,AA9,RANK($P9,$P$3:$P$11)))
C10: =IF(OR(D10="",E10=""),"",IF(D10<E10,1,IF(D10=E10,2,IF(D10>E10,3)))) | F10: =IF(C10=1,3,IF(C10=2,2,IF(C10=3,1,""))) | G10: =H11 -> Rochechouart / Saint-Junien HB 87 | H10: Pana Loisirs | I10: =SUMPRODUCT(($B$1:$B$107=H10)*1,$C$1:$C$107)+SUMPRODUCT($F$1:$F$107,($G$1:$G$107=H10)*1) -> 6 | J10: =SUMPRODUCT(($B$1:$B$107=H10)*1,($C$1:$C$107<>"")*1)+SUMPRODUCT(($F$1:$F$107<>"")*1,($G$1:$G$107=H10)*1) -> 6 | K10: =SUMPRODUCT(($B$1:$B$107=H10)*1,($C$1:$C$107=3)*1)+SUMPRODUCT(($F$1:$F$107=3)*1,($G$1:$G$107=H10)*1) -> 0 | L10: =SUMPRODUCT(($B$1:$B$107=H10)*1,($C$1:$C$107=2)*1)+SUMPRODUCT(($F$1:$F$107=2)*1,($G$1:$G$107=H10)*1) -> 0 | M10: =SUMPRODUCT(($B$1:$B$107=H10)*1,($C$1:$C$107=1)*1)+SUMPRODUCT(($F$1:$F$107=1)*1,($G$1:$G$107=H10)*1) -> 6 | N10: =SUMPRODUCT(($B$1:$B$107=H10)*1,$D$1:$D$107)+SUMPRODUCT($E$1:$E$107,($G$1:$G$107=H10)*1) -> 117 | O10: =SUMPRODUCT(($B$1:$B$107=H10)*1,$E$1:$E$107)+SUMPRODUCT($D$1:$D$107,($G$1:$G$107=H10)*1) -> 198 | P10: =N10-O10 -> -81 | Q10: =MAX(S10:AJ10) -> 9 | R10: =H10 -> Pana Loisirs | S10: =IF(RANK($I10,$I$3:$I$11)=S$2,S$2,"") | T10: =IF(RANK($I10,$I$3:$I$11)=T$2,T$2,"") | U10: =IF(RANK($I10,$I$3:$I$11)=U$2,U$2,"") | V10: =IF(RANK($I10,$I$3:$I$11)=V$2,V$2,"") | W10: =IF(RANK($I10,$I$3:$I$11)=W$2,W$2,"") | X10: =IF(RANK($I10,$I$3:$I$11)=X$2,X$2,"") | Y10: =IF(RANK($I10,$I$3:$I$11)=Y$2,Y$2,"") | Z10: =IF(RANK($I10,$I$3:$I$11)=Z$2,Z$2,"") | AA10: =IF(RANK($I10,$I$3:$I$11)=AA$2,AA$2,"") -> 9 | AB10: =IF(S10="","",IF(COUNTIF($S$3:$AA$11,AB$2)=1,S10,RANK($P10,$P$3:$P$11))) | AC10: =IF(T10="","",IF(COUNTIF($S$3:$AA$11,AC$2)=1,T10,RANK($P10,$P$3:$P$11))) | AD10: =IF(U10="","",IF(COUNTIF($S$3:$AA$11,AD$2)=1,U10,RANK($P10,$P$3:$P$11))) | AE10: =IF(V10="","",IF(COUNTIF($S$3:$AA$11,AE$2)=1,V10,RANK($P10,$P$3:$P$11))) | AF10: =IF(W10="","",IF(COUNTIF($S$3:$AA$11,AF$2)=1,W10,RANK($P10,$P$3:$P$11))) | AG10: =IF(X10="","",IF(COUNTIF($S$3:$AA$11,AG$2)=1,X10,RANK($P10,$P$3:$P$11))) | AH10: =IF(Y10="","",IF(COUNTIF($S$3:$AA$11,AH$2)=1,Y10,RANK($P10,$P$3:$P$11))) | AI10: =IF(Z10="","",IF(COUNTIF($S$3:$AA$11,AI$2)=1,Z10,RANK($P10,$P$3:$P$11))) | AJ10: =IF(AA10="","",IF(COUNTIF($S$3:$AA$11,AJ$2)=1,AA10,RANK($P10,$P$3:$P$11))) -> 9
B11: =H5 -> Capo Limoges HB | C11: =IF(OR(D11="",E11=""),"",IF(D11<E11,1,IF(D11=E11,2,IF(D11>E11,3)))) -> 3 | D11: 24 | E11: 19 | F11: =IF(C11=1,3,IF(C11=2,2,IF(C11=3,1,""))) -> 1 | G11: =H10 -> Pana Loisirs | H11: Rochechouart / Saint-Junien HB 87 | I11: =SUMPRODUCT(($B$1:$B$107=H11)*1,$C$1:$C$107)+SUMPRODUCT($F$1:$F$107,($G$1:$G$107=H11)*1) -> 14 | J11: =SUMPRODUCT(($B$1:$B$107=H11)*1,($C$1:$C$107<>"")*1)+SUMPRODUCT(($F$1:$F$107<>"")*1,($G$1:$G$107=H11)*1) -> 6 | K11: =SUMPRODUCT(($B$1:$B$107=H11)*1,($C$1:$C$107=3)*1)+SUMPRODUCT(($F$1:$F$107=3)*1,($G$1:$G$107=H11)*1) -> 4 | L11: =SUMPRODUCT(($B$1:$B$107=H11)*1,($C$1:$C$107=2)*1)+SUMPRODUCT(($F$1:$F$107=2)*1,($G$1:$G$107=H11)*1) -> 0 | M11: =SUMPRODUCT(($B$1:$B$107=H11)*1,($C$1:$C$107=1)*1)+SUMPRODUCT(($F$1:$F$107=1)*1,($G$1:$G$107=H11)*1) -> 2 | N11: =SUMPRODUCT(($B$1:$B$107=H11)*1,$D$1:$D$107)+SUMPRODUCT($E$1:$E$107,($G$1:$G$107=H11)*1) -> 192 | O11: =SUMPRODUCT(($B$1:$B$107=H11)*1,$E$1:$E$107)+SUMPRODUCT($D$1:$D$107,($G$1:$G$107=H11)*1) -> 163 | P11: =N11-O11 -> 29 | Q11: =MAX(S11:AJ11) -> 4 | R11: =H11 -> Rochechouart / Saint-Junien HB 87 | S11: =IF(RANK($I11,$I$3:$I$11)=S$2,S$2,"") | T11: =IF(RANK($I11,$I$3:$I$11)=T$2,T$2,"") | U11: =IF(RANK($I11,$I$3:$I$11)=U$2,U$2,"") | V11: =IF(RANK($I11,$I$3:$I$11)=V$2,V$2,"") -> 4 | W11: =IF(RANK($I11,$I$3:$I$11)=W$2,W$2,"") | X11: =IF(RANK($I11,$I$3:$I$11)=X$2,X$2,"") | Y11: =IF(RANK($I11,$I$3:$I$11)=Y$2,Y$2,"") | Z11: =IF(RANK($I11,$I$3:$I$11)=Z$2,Z$2,"") | AA11: =IF(RANK($I11,$I$3:$I$11)=AA$2,AA$2,"") | AB11: =IF(S11="","",IF(COUNTIF($S$3:$AA$11,AB$2)=1,S11,RANK($P11,$P$3:$P$11))) | AC11: =IF(T11="","",IF(COUNTIF($S$3:$AA$11,AC$2)=1,T11,RANK($P11,$P$3:$P$11))) | AD11: =IF(U11="","",IF(COUNTIF($S$3:$AA$11,AD$2)=1,U11,RANK($P11,$P$3:$P$11))) | AE11: =IF(V11="","",IF(COUNTIF($S$3:$AA$11,AE$2)=1,V11,RANK($P11,$P$3:$P$11))) -> 4 | AF11: =IF(W11="","",IF(COUNTIF($S$3:$AA$11,AF$2)=1,W11,RANK($P11,$P$3:$P$11))) | AG11: =IF(X11="","",IF(COUNTIF($S$3:$AA$11,AG$2)=1,X11,RANK($P11,$P$3:$P$11))) | AH11: =IF(Y11="","",IF(COUNTIF($S$3:$AA$11,AH$2)=1,Y11,RANK($P11,$P$3:$P$11))) | AI11: =IF(Z11="","",IF(COUNTIF($S$3:$AA$11,AI$2)=1,Z11,RANK($P11,$P$3:$P$11))) | AJ11: =IF(AA11="","",IF(COUNTIF($S$3:$AA$11,AJ$2)=1,AA11,RANK($P11,$P$3:$P$11)))
B12: =H9 -> JA Isle HB | C12: =IF(OR(D12="",E12=""),"",IF(D12<E12,1,IF(D12=E12,2,IF(D12>E12,3)))) -> 3 | D12: 21 | E12: 19 | F12: =IF(C12=1,3,IF(C12=2,2,IF(C12=3,1,""))) -> 1 | G12: =H8 -> HBC Objat Corrèze | H12: Meilleure attaque : | J12: =VLOOKUP(MAX($N$3:$N$11),$N$3:$R$11,5,0) -> AL Palais sur Vienne
A13: Journée 3 | B13: =H7 -> HB Brive Corrèze | C13: =IF(OR(D13="",E13=""),"",IF(D13<E13,1,IF(D13=E13,2,IF(D13>E13,3)))) -> 3 | D13: 27 | E13: 19 | F13: =IF(C13=1,3,IF(C13=2,2,IF(C13=3,1,""))) -> 1 | G13: =H9 -> JA Isle HB | H13: Meilleure défense : | J13: =VLOOKUP(MIN($O$3:$O$11),$O$3:$R$11,4,0) -> JA Isle HB
B14: =H10 -> Pana Loisirs | C14: =IF(OR(D14="",E14=""),"",IF(D14<E14,1,IF(D14=E14,2,IF(D14>E14,3)))) | F14: =IF(C14=1,3,IF(C14=2,2,IF(C14=3,1,""))) | H14: CLASSEMENT GENERAL | I14: 1 | J14: =VLOOKUP($I14,$Q$3:$R$11,2,0) -> AL Palais sur Vienne
B15: =H11 -> Rochechouart / Saint-Junien HB 87 | C15: =IF(OR(D15="",E15=""),"",IF(D15<E15,1,IF(D15=E15,2,IF(D15>E15,3)))) -> 1 | D15: 27 | E15: 38 | F15: =IF(C15=1,3,IF(C15=2,2,IF(C15=3,1,""))) -> 3 | G15: =H3 -> AL Palais sur Vienne | I15: 2 | J15: =VLOOKUP($I15,$Q$3:$R$11,2,0) -> ASPTT Limoges HB
B16: =H6 -> E. Châteauneuf / Boisseuil | C16: =IF(OR(D16="",E16=""),"",IF(D16<E16,1,IF(D16=E16,2,IF(D16>E16,3)))) -> 1 | D16: 32 | E16: 51 | F16: =IF(C16=1,3,IF(C16=2,2,IF(C16=3,1,""))) -> 3 | G16: =H4 -> ASPTT Limoges HB | I16: 3 | J16: =VLOOKUP($I16,$Q$3:$R$11,2,0) -> HB Brive Corrèze
B17: =H8 -> HBC Objat Corrèze | C17: =IF(OR(D17="",E17=""),"",IF(D17<E17,1,IF(D17=E17,2,IF(D17>E17,3)))) -> 3 | D17: 20 | E17: 19 | F17: =IF(C17=1,3,IF(C17=2,2,IF(C17=3,1,""))) -> 1 | G17: =H5 -> Capo Limoges HB | I17: 4 | J17: =VLOOKUP($I17,$Q$3:$R$11,2,0) -> Rochechouart / Saint-Junien HB 87
A18: Journée 4 | B18: =H3 -> AL Palais sur Vienne | C18: =IF(OR(D18="",E18=""),"",IF(D18<E18,1,IF(D18=E18,2,IF(D18>E18,3)))) -> 3 | D18: 45 | E18: 16 | F18: =IF(C18=1,3,IF(C18=2,2,IF(C18=3,1,""))) -> 1 | G18: =H10 -> Pana Loisirs | I18: 5 | J18: =VLOOKUP($I18,$Q$3:$R$11,2,0) -> JA Isle HB
C19: =IF(OR(D19="",E19=""),"",IF(D19<E19,1,IF(D19=E19,2,IF(D19>E19,3)))) | F19: =IF(C19=1,3,IF(C19=2,2,IF(C19=3,1,""))) | G19: =H8 -> HBC Objat Corrèze | I19: 6 | J19: =VLOOKUP($I19,$Q$3:$R$11,2,0) -> HBC Objat Corrèze
B20: =H5 -> Capo Limoges HB | C20: =IF(OR(D20="",E20=""),"",IF(D20<E20,1,IF(D20=E20,2,IF(D20>E20,3)))) -> 1 | D20: 15 | E20: 25 | F20: =IF(C20=1,3,IF(C20=2,2,IF(C20=3,1,""))) -> 3 | G20: =H9 -> JA Isle HB | I20: 7 | J20: =VLOOKUP($I20,$Q$3:$R$11,2,0) -> Capo Limoges HB
B21: =H6 -> E. Châteauneuf / Boisseuil | C21: =IF(OR(D21="",E21=""),"",IF(D21<E21,1,IF(D21=E21,2,IF(D21>E21,3)))) -> 1 | D21: 28 | E21: 33 | F21: =IF(C21=1,3,IF(C21=2,2,IF(C21=3,1,""))) -> 3 | G21: =H7 -> HB Brive Corrèze | I21: 8 | J21: =VLOOKUP($I21,$Q$3:$R$11,2,0) -> E. Châteauneuf / Boisseuil
B22: =H4 -> ASPTT Limoges HB | C22: =IF(OR(D22="",E22=""),"",IF(D22<E22,1,IF(D22=E22,2,IF(D22>E22,3)))) -> 3 | D22: 35 | E22: 27 | F22: =IF(C22=1,3,IF(C22=2,2,IF(C22=3,1,""))) -> 1 | G22: =H11 -> Rochechouart / Saint-Junien HB 87 | I22: 9 | J22: =VLOOKUP($I22,$Q$3:$R$11,2,0) -> Pana Loisirs
A23: Journée 5 | B23: =H7 -> HB Brive Corrèze | C23: =IF(OR(D23="",E23=""),"",IF(D23<E23,1,IF(D23=E23,2,IF(D23>E23,3)))) -> 3 | D23: 28 | E23: 10 | F23: =IF(C23=1,3,IF(C23=2,2,IF(C23=3,1,""))) -> 1 | G23: =H5 -> Capo Limoges HB
B24: =H10 -> Pana Loisirs | C24: =IF(OR(D24="",E24=""),"",IF(D24<E24,1,IF(D24=E24,2,IF(D24>E24,3)))) -> 1 | D24: 22 | E24: 39 | F24: =IF(C24=1,3,IF(C24=2,2,IF(C24=3,1,""))) -> 3 | G24: =H4 -> ASPTT Limoges HB
B25: =H11 -> Rochechouart / Saint-Junien HB 87 | C25: =IF(OR(D25="",E25=""),"",IF(D25<E25,1,IF(D25=E25,2,IF(D25>E25,3)))) -> 3 | D25: 46 | E25: 22 | F25: =IF(C25=1,3,IF(C25=2,2,IF(C25=3,1,""))) -> 1 | G25: =H6 -> E. Châteauneuf / Boisseuil
B26: =H9 -> JA Isle HB | C26: =IF(OR(D26="",E26=""),"",IF(D26<E26,1,IF(D26=E26,2,IF(D26>E26,3)))) | F26: =IF(C26=1,3,IF(C26=2,2,IF(C26=3,1,"")))
B27: =H8 -> HBC Objat Corrèze | C27: =IF(OR(D27="",E27=""),"",IF(D27<E27,1,IF(D27=E27,2,IF(D27>E27,3)))) -> 1 | D27: 18 | E27: 38 | F27: =IF(C27=1,3,IF(C27=2,2,IF(C27=3,1,""))) -> 3 | G27: =H3 -> AL Palais sur Vienne
A28: Journée 6 | B28: =H3 -> AL Palais sur Vienne | C28: =IF(OR(D28="",E28=""),"",IF(D28<E28,1,IF(D28=E28,2,IF(D28>E28,3)))) -> 3 | D28: 27 | E28: 22 | F28: =IF(C28=1,3,IF(C28=2,2,IF(C28=3,1,""))) -> 1 | G28: =H9 -> JA Isle HB
C29: =IF(OR(D29="",E29=""),"",IF(D29<E29,1,IF(D29=E29,2,IF(D29>E29,3)))) | F29: =IF(C29=1,3,IF(C29=2,2,IF(C29=3,1,""))) | G29: =H5 -> Capo Limoges HB
B30: =H11 -> Rochechouart / Saint-Junien HB 87 | C30: =IF(OR(D30="",E30=""),"",IF(D30<E30,1,IF(D30=E30,2,IF(D30>E30,3)))) -> 3 | D30: 34 | E30: 24 | F30: =IF(C30=1,3,IF(C30=2,2,IF(C30=3,1,""))) -> 1 | G30: =H7 -> HB Brive Corrèze
B31: =H6 -> E. Châteauneuf / Boisseuil | C31: =IF(OR(D31="",E31=""),"",IF(D31<E31,1,IF(D31=E31,2,IF(D31>E31,3)))) -> 3 | D31: 35 | E31: 21 | F31: =IF(C31=1,3,IF(C31=2,2,IF(C31=3,1,""))) -> 1 | G31: =H10 -> Pana Loisirs
B32: =H4 -> ASPTT Limoges HB | C32: =IF(OR(D32="",E32=""),"",IF(D32<E32,1,IF(D32=E32,2,IF(D32>E32,3)))) -> 3 | D32: 30 | E32: 25 | F32: =IF(C32=1,3,IF(C32=2,2,IF(C32=3,1,""))) -> 1 | G32: =H8 -> HBC Objat Corrèze
A33: Journée 7 | B33: =H7 -> HB Brive Corrèze | C33: =IF(OR(D33="",E33=""),"",IF(D33<E33,1,IF(D33=E33,2,IF(D33>E33,3)))) | F33: =IF(C33=1,3,IF(C33=2,2,IF(C33=3,1,"")))
B34: =H10 -> Pana Loisirs | C34: =IF(OR(D34="",E34=""),"",IF(D34<E34,1,IF(D34=E34,2,IF(D34>E34,3)))) -> 1 | D34: 26 | E34: 29 | F34: =IF(C34=1,3,IF(C34=2,2,IF(C34=3,1,""))) -> 3 | G34: =H11 -> Rochechouart / Saint-Junien HB 87
B35: =H5 -> Capo Limoges HB | C35: =IF(OR(D35="",E35=""),"",IF(D35<E35,1,IF(D35=E35,2,IF(D35>E35,3)))) -> 1 | D35: 14 | E35: 38 | F35: =IF(C35=1,3,IF(C35=2,2,IF(C35=3,1,""))) -> 3 | G35: =H3 -> AL Palais sur Vienne
B36: =H9 -> JA Isle HB | C36: =IF(OR(D36="",E36=""),"",IF(D36<E36,1,IF(D36=E36,2,IF(D36>E36,3)))) -> 3 | D36: 30 | E36: 29 | F36: =IF(C36=1,3,IF(C36=2,2,IF(C36=3,1,""))) -> 1 | G36: =H4 -> ASPTT Limoges HB
B37: =H8 -> HBC Objat Corrèze | C37: =IF(OR(D37="",E37=""),"",IF(D37<E37,1,IF(D37=E37,2,IF(D37>E37,3)))) -> 3 | D37: 38 | E37: 17 | F37: =IF(C37=1,3,IF(C37=2,2,IF(C37=3,1,""))) -> 1 | G37: =H6 -> E. Châteauneuf / Boisseuil
A38: Journée 8 | B38: =H3 -> AL Palais sur Vienne | C38: =IF(OR(D38="",E38=""),"",IF(D38<E38,1,IF(D38=E38,2,IF(D38>E38,3)))) | F38: =IF(C38=1,3,IF(C38=2,2,IF(C38=3,1,"")))
B39: =H10 -> Pana Loisirs | C39: =IF(OR(D39="",E39=""),"",IF(D39<E39,1,IF(D39=E39,2,IF(D39>E39,3)))) | F39: =IF(C39=1,3,IF(C39=2,2,IF(C39=3,1,""))) | G39: =H7 -> HB Brive Corrèze
B40: =H11 -> Rochechouart / Saint-Junien HB 87 | C40: =IF(OR(D40="",E40=""),"",IF(D40<E40,1,IF(D40=E40,2,IF(D40>E40,3)))) | F40: =IF(C40=1,3,IF(C40=2,2,IF(C40=3,1,""))) | G40: =H8 -> HBC Objat Corrèze
B41: =H6 -> E. Châteauneuf / Boisseuil | C41: =IF(OR(D41="",E41=""),"",IF(D41<E41,1,IF(D41=E41,2,IF(D41>E41,3)))) | F41: =IF(C41=1,3,IF(C41=2,2,IF(C41=3,1,""))) | G41: =H9 -> JA Isle HB
B42: =H4 -> ASPTT Limoges HB | C42: =IF(OR(D42="",E42=""),"",IF(D42<E42,1,IF(D42=E42,2,IF(D42>E42,3)))) | F42: =IF(C42=1,3,IF(C42=2,2,IF(C42=3,1,""))) | G42: =H5 -> Capo Limoges HB
A43: Journée 9 | C43: =IF(OR(D43="",E43=""),"",IF(D43<E43,1,IF(D43=E43,2,IF(D43>E43,3)))) | F43: =IF(C43=1,3,IF(C43=2,2,IF(C43=3,1,"")))
C44: =IF(OR(D44="",E44=""),"",IF(D44<E44,1,IF(D44=E44,2,IF(D44>E44,3)))) | F44: =IF(C44=1,3,IF(C44=2,2,IF(C44=3,1,"")))
C45: =IF(OR(D45="",E45=""),"",IF(D45<E45,1,IF(D45=E45,2,IF(D45>E45,3)))) | F45: =IF(C45=1,3,IF(C45=2,2,IF(C45=3,1,"")))
C46: =IF(OR(D46="",E46=""),"",IF(D46<E46,1,IF(D46=E46,2,IF(D46>E46,3)))) | F46: =IF(C46=1,3,IF(C46=2,2,IF(C46=3,1,"")))
C47: =IF(OR(D47="",E47=""),"",IF(D47<E47,1,IF(D47=E47,2,IF(D47>E47,3)))) | F47: =IF(C47=1,3,IF(C47=2,2,IF(C47=3,1,"")))
A48: Journée 10 | C48: =IF(OR(D48="",E48=""),"",IF(D48<E48,1,IF(D48=E48,2,IF(D48>E48,3)))) | F48: =IF(C48=1,3,IF(C48=2,2,IF(C48=3,1,"")))
C49: =IF(OR(D49="",E49=""),"",IF(D49<E49,1,IF(D49=E49,2,IF(D49>E49,3)))) | F49: =IF(C49=1,3,IF(C49=2,2,IF(C49=3,1,"")))
C50: =IF(OR(D50="",E50=""),"",IF(D50<E50,1,IF(D50=E50,2,IF(D50>E50,3)))) | F50: =IF(C50=1,3,IF(C50=2,2,IF(C50=3,1,"")))
C51: =IF(OR(D51="",E51=""),"",IF(D51<E51,1,IF(D51=E51,2,IF(D51>E51,3)))) | F51: =IF(C51=1,3,IF(C51=2,2,IF(C51=3,1,"")))
C52: =IF(OR(D52="",E52=""),"",IF(D52<E52,1,IF(D52=E52,2,IF(D52>E52,3)))) | F52: =IF(C52=1,3,IF(C52=2,2,IF(C52=3,1,"")))
A53: Journée 11 | C53: =IF(OR(D53="",E53=""),"",IF(D53<E53,1,IF(D53=E53,2,IF(D53>E53,3)))) | F53: =IF(C53=1,3,IF(C53=2,2,IF(C53=3,1,"")))
C54: =IF(OR(D54="",E54=""),"",IF(D54<E54,1,IF(D54=E54,2,IF(D54>E54,3)))) | F54: =IF(C54=1,3,IF(C54=2,2,IF(C54=3,1,"")))
C55: =IF(OR(D55="",E55=""),"",IF(D55<E55,1,IF(D55=E55,2,IF(D55>E55,3)))) | F55: =IF(C55=1,3,IF(C55=2,2,IF(C55=3,1,"")))
C56: =IF(OR(D56="",E56=""),"",IF(D56<E56,1,IF(D56=E56,2,IF(D56>E56,3)))) | F56: =IF(C56=1,3,IF(C56=2,2,IF(C56=3,1,"")))
C57: =IF(OR(D57="",E57=""),"",IF(D57<E57,1,IF(D57=E57,2,IF(D57>E57,3)))) | F57: =IF(C57=1,3,IF(C57=2,2,IF(C57=3,1,"")))
A58: Journée 12 | C58: =IF(OR(D58="",E58=""),"",IF(D58<E58,1,IF(D58=E58,2,IF(D58>E58,3)))) | F58: =IF(C58=1,3,IF(C58=2,2,IF(C58=3,1,"")))
C59: =IF(OR(D59="",E59=""),"",IF(D59<E59,1,IF(D59=E59,2,IF(D59>E59,3)))) | F59: =IF(C59=1,3,IF(C59=2,2,IF(C59=3,1,"")))
C60: =IF(OR(D60="",E60=""),"",IF(D60<E60,1,IF(D60=E60,2,IF(D60>E60,3)))) | F60: =IF(C60=1,3,IF(C60=2,2,IF(C60=3,1,"")))
C61: =IF(OR(D61="",E61=""),"",IF(D61<E61,1,IF(D61=E61,2,IF(D61>E61,3)))) | F61: =IF(C61=1,3,IF(C61=2,2,IF(C61=3,1,"")))
C62: =IF(OR(D62="",E62=""),"",IF(D62<E62,1,IF(D62=E62,2,IF(D62>E62,3)))) | F62: =IF(C62=1,3,IF(C62=2,2,IF(C62=3,1,"")))
A63: Journée 13 | C63: =IF(OR(D63="",E63=""),"",IF(D63<E63,1,IF(D63=E63,2,IF(D63>E63,3)))) | F63: =IF(C63=1,3,IF(C63=2,2,IF(C63=3,1,"")))
C64: =IF(OR(D64="",E64=""),"",IF(D64<E64,1,IF(D64=E64,2,IF(D64>E64,3)))) | F64: =IF(C64=1,3,IF(C64=2,2,IF(C64=3,1,"")))
C65: =IF(OR(D65="",E65=""),"",IF(D65<E65,1,IF(D65=E65,2,IF(D65>E65,3)))) | F65: =IF(C65=1,3,IF(C65=2,2,IF(C65=3,1,"")))
C66: =IF(OR(D66="",E66=""),"",IF(D66<E66,1,IF(D66=E66,2,IF(D66>E66,3)))) | F66: =IF(C66=1,3,IF(C66=2,2,IF(C66=3,1,"")))
C67: =IF(OR(D67="",E67=""),"",IF(D67<E67,1,IF(D67=E67,2,IF(D67>E67,3)))) | F67: =IF(C67=1,3,IF(C67=2,2,IF(C67=3,1,"")))
A68: Journée 14 | C68: =IF(OR(D68="",E68=""),"",IF(D68<E68,1,IF(D68=E68,2,IF(D68>E68,3)))) | F68: =IF(C68=1,3,IF(C68=2,2,IF(C68=3,1,"")))
C69: =IF(OR(D69="",E69=""),"",IF(D69<E69,1,IF(D69=E69,2,IF(D69>E69,3)))) | F69: =IF(C69=1,3,IF(C69=2,2,IF(C69=3,1,"")))
C70: =IF(OR(D70="",E70=""),"",IF(D70<E70,1,IF(D70=E70,2,IF(D70>E70,3)))) | F70: =IF(C70=1,3,IF(C70=2,2,IF(C70=3,1,"")))
C71: =IF(OR(D71="",E71=""),"",IF(D71<E71,1,IF(D71=E71,2,IF(D71>E71,3)))) | F71: =IF(C71=1,3,IF(C71=2,2,IF(C71=3,1,"")))
C72: =IF(OR(D72="",E72=""),"",IF(D72<E72,1,IF(D72=E72,2,IF(D72>E72,3)))) | F72: =IF(C72=1,3,IF(C72=2,2,IF(C72=3,1,"")))
A73: Journée 15 | C73: =IF(OR(D73="",E73=""),"",IF(D73<E73,1,IF(D73=E73,2,IF(D73>E73,3)))) | F73: =IF(C73=1,3,IF(C73=2,2,IF(C73=3,1,"")))
C74: =IF(OR(D74="",E74=""),"",IF(D74<E74,1,IF(D74=E74,2,IF(D74>E74,3)))) | F74: =IF(C74=1,3,IF(C74=2,2,IF(C74=3,1,"")))
C75: =IF(OR(D75="",E75=""),"",IF(D75<E75,1,IF(D75=E75,2,IF(D75>E75,3)))) | F75: =IF(C75=1,3,IF(C75=2,2,IF(C75=3,1,"")))
C76: =IF(OR(D76="",E76=""),"",IF(D76<E76,1,IF(D76=E76,2,IF(D76>E76,3)))) | F76: =IF(C76=1,3,IF(C76=2,2,IF(C76=3,1,"")))
C77: =IF(OR(D77="",E77=""),"",IF(D77<E77,1,IF(D77=E77,2,IF(D77>E77,3)))) | F77: =IF(C77=1,3,IF(C77=2,2,IF(C77=3,1,"")))
A78: Journée 15 | C78: =IF(OR(D78="",E78=""),"",IF(D78<E78,1,IF(D78=E78,2,IF(D78>E78,3)))) | F78: =IF(C78=1,3,IF(C78=2,2,IF(C78=3,1,"")))
C79: =IF(OR(D79="",E79=""),"",IF(D79<E79,1,IF(D79=E79,2,IF(D79>E79,3)))) | F79: =IF(C79=1,3,IF(C79=2,2,IF(C79=3,1,"")))
C80: =IF(OR(D80="",E80=""),"",IF(D80<E80,1,IF(D80=E80,2,IF(D80>E80,3)))) | F80: =IF(C80=1,3,IF(C80=2,2,IF(C80=3,1,"")))
C81: =IF(OR(D81="",E81=""),"",IF(D81<E81,1,IF(D81=E81,2,IF(D81>E81,3)))) | F81: =IF(C81=1,3,IF(C81=2,2,IF(C81=3,1,"")))
C82: =IF(OR(D82="",E82=""),"",IF(D82<E82,1,IF(D82=E82,2,IF(D82>E82,3)))) | F82: =IF(C82=1,3,IF(C82=2,2,IF(C82=3,1,"")))
A83: Journée 16 | C83: =IF(OR(D83="",E83=""),"",IF(D83<E83,1,IF(D83=E83,2,IF(D83>E83,3)))) | F83: =IF(C83=1,3,IF(C83=2,2,IF(C83=3,1,"")))
C84: =IF(OR(D84="",E84=""),"",IF(D84<E84,1,IF(D84=E84,2,IF(D84>E84,3)))) | F84: =IF(C84=1,3,IF(C84=2,2,IF(C84=3,1,"")))
C85: =IF(OR(D85="",E85=""),"",IF(D85<E85,1,IF(D85=E85,2,IF(D85>E85,3)))) | F85: =IF(C85=1,3,IF(C85=2,2,IF(C85=3,1,"")))
C86: =IF(OR(D86="",E86=""),"",IF(D86<E86,1,IF(D86=E86,2,IF(D86>E86,3)))) | F86: =IF(C86=1,3,IF(C86=2,2,IF(C86=3,1,"")))
C87: =IF(OR(D87="",E87=""),"",IF(D87<E87,1,IF(D87=E87,2,IF(D87>E87,3)))) | F87: =IF(C87=1,3,IF(C87=2,2,IF(C87=3,1,"")))
A88: Journée 17 | C88: =IF(OR(D88="",E88=""),"",IF(D88<E88,1,IF(D88=E88,2,IF(D88>E88,3)))) | F88: =IF(C88=1,3,IF(C88=2,2,IF(C88=3,1,"")))
C89: =IF(OR(D89="",E89=""),"",IF(D89<E89,1,IF(D89=E89,2,IF(D89>E89,3)))) | F89: =IF(C89=1,3,IF(C89=2,2,IF(C89=3,1,"")))
C90: =IF(OR(D90="",E90=""),"",IF(D90<E90,1,IF(D90=E90,2,IF(D90>E90,3)))) | F90: =IF(C90=1,3,IF(C90=2,2,IF(C90=3,1,"")))
C91: =IF(OR(D91="",E91=""),"",IF(D91<E91,1,IF(D91=E91,2,IF(D91>E91,3)))) | F91: =IF(C91=1,3,IF(C91=2,2,IF(C91=3,1,"")))
C92: =IF(OR(D92="",E92=""),"",IF(D92<E92,1,IF(D92=E92,2,IF(D92>E92,3)))) | F92: =IF(C92=1,3,IF(C92=2,2,IF(C92=3,1,"")))
A93: Journée 18 | C93: =IF(OR(D93="",E93=""),"",IF(D93<E93,1,IF(D93=E93,2,IF(D93>E93,3)))) | F93: =IF(C93=1,3,IF(C93=2,2,IF(C93=3,1,"")))
C94: =IF(OR(D94="",E94=""),"",IF(D94<E94,1,IF(D94=E94,2,IF(D94>E94,3)))) | F94: =IF(C94=1,3,IF(C94=2,2,IF(C94=3,1,"")))
C95: =IF(OR(D95="",E95=""),"",IF(D95<E95,1,IF(D95=E95,2,IF(D95>E95,3)))) | F95: =IF(C95=1,3,IF(C95=2,2,IF(C95=3,1,"")))
C96: =IF(OR(D96="",E96=""),"",IF(D96<E96,1,IF(D96=E96,2,IF(D96>E96,3)))) | F96: =IF(C96=1,3,IF(C96=2,2,IF(C96=3,1,"")))
C97: =IF(OR(D97="",E97=""),"",IF(D97<E97,1,IF(D97=E97,2,IF(D97>E97,3)))) | F97: =IF(C97=1,3,IF(C97=2,2,IF(C97=3,1,"")))
A98: Journée 19 | C98: =IF(OR(D98="",E98=""),"",IF(D98<E98,1,IF(D98=E98,2,IF(D98>E98,3)))) | F98: =IF(C98=1,3,IF(C98=2,2,IF(C98=3,1,"")))
C99: =IF(OR(D99="",E99=""),"",IF(D99<E99,1,IF(D99=E99,2,IF(D99>E99,3)))) | F99: =IF(C99=1,3,IF(C99=2,2,IF(C99=3,1,"")))
C100: =IF(OR(D100="",E100=""),"",IF(D100<E100,1,IF(D100=E100,2,IF(D100>E100,3)))) | F100: =IF(C100=1,3,IF(C100=2,2,IF(C100=3,1,"")))
...

Sheet Feuil2
P2: Test points
P3: =('Confrontations & Résultats'!K4*3)+('Confrontations & Résultats'!L4*2)+('Confrontations & Résultats'!M4*1) -> 18
P4: =('Confrontations & Résultats'!K7*3)+('Confrontations & Résultats'!L7*2)+('Confrontations & Résultats'!M7*1) -> 15
P5: =('Confrontations & Résultats'!K11*3)+('Confrontations & Résultats'!L11*2)+('Confrontations & Résultats'!M11*1) -> 14
P6: =('Confrontations & Résultats'!K9*3)+('Confrontations & Résultats'!L9*2)+('Confrontations & Résultats'!M9*1) -> 14
P7: =('Confrontations & Résultats'!K8*3)+('Confrontations & Résultats'!L8*2)+('Confrontations & Résultats'!M8*1) -> 10
P8: =('Confrontations & Résultats'!K5*3)+('Confrontations & Résultats'!L5*2)+('Confrontations & Résultats'!M5*1) -> 8
P9: =('Confrontations & Résultats'!K6*3)+('Confrontations & Résultats'!L6*2)+('Confrontations & Résultats'!M6*1) -> 8
P10: =('Confrontations & Résultats'!K10*3)+('Confrontations & Résultats'!L10*2)+('Confrontations & Résultats'!M10*1) -> 6
P11: =('Confrontations & Résultats'!K12*3)+('Confrontations & Résultats'!L12*2)+('Confrontations & Résultats'!M12*1) -> 0
