Workbook
Name Consédirations: 'bdd mot clés et sélection'!$B:$B
Name ImageTableau: INDIRECT(VLOOKUP('Page Accueil'!$B$27,'bdd mot clés et sélection'!$E$16:$F$63,2,FALSE))
Name Nbre_Tours: [1]Donnée_de_calcul!$A$1:$A$10
Name Pollution: [1]Donnée_de_calcul!$B$1:$B$3

Sheet Page Accueil
B7: Entreprise | G7: Besoin d'aide? | I7: Renvoi vers une page d'aide avec une macro simple?
B9: Projet
B11: Installateur
B13: Paramétres de l'installation
B15: Ou souhaitez vous installer une boucle à induction magnétique? | F15: Renseignez les dimensions de votre installation
B16: Lieu de culte / Espace culturel / Espace sportif | F16: LargeurX coté court | G16: 10
F17: LongeurY coté long | G17: 10
B18: Quels considérations devez vous prendre en compte dans votre installation? | F18: Hauteurd'écoute | G18: 1.2 | H18: ici choix "assis, debout, les deux" qui détermine le choix de selection de boucle
F19: Hauteurdeboucle | G19: 2.6 | J19: J'ai fait expres de mal écrire pour faire des remplacer controleF
B20: Besoin de confidentialité | F20: Nombredetours | G20: 1
F21: Surface | G21: =G16*G17 -> 100
B22: Comment jugez vous la presence de parties métaliques dans le lieu à installer?
B23: Importante
B25: Type de boucle | J25: Courant | K25: '0,4/(Nbtours*Champ Hz)*PUISSANCE(10; -3/20)
B26: Type de boucle récommandée:
B27: =IF(B26="Type de boucle récommandée:",'bdd mot clés et sélection'!F4,"Voir le type de boucle récommandée en choisissant dans la liste précédente") -> Boucle d'annulation
J28: Champ Hz | K28: F16*F17/(4*PI()*RACINE((F18-F19)*(F18-F19) + F16*F16/4 + F17*F17/4))*(1/((F18-F19)*(F18-F19) + F16*F16/4) + 1/((F18-F19)*(F18-F19) + F17*F17/4))
B29: Calculs de boucle
I30: <= Image avec référence au nom : ImageTableau
I31: ImageTableau : =INDIRECT(RECHERCHEV('Page Accueil'!$B$27;'bdd mot clés et sélection'!$E$16:$F$63;2;FAUX))
B38: Boucle simple périmétrique | F38: Courant de sortie | G38: =J39 -> 3.4577558 | J38: Courant de sortie
B39: Longueur de cable de boucle | D39: =IF(B26="Boucle simple périmétrique",'simple, 8 et annulation'!D5,IF(B27="Boucle simple périmétrique",'simple, 8 et annulation'!D5)) -> FALSE | F39: Tension de sortie | J39: =0.4/(G20*J42)*POWER(10,-3/20) -> 3.4577558
F40: Résistance
J41: Champ Hz
J42: =G16*G17/(4*PI()*SQRT((G18-G19)*(G18-G19) + G16*G16/4 + G17*G17/4))*(1/((G18-G19)*(G18-G19) + G16*G16/4) + 1/((G18-G19)*(G18-G19) + G17*G17/4)) -> 0.081896562
B43: Boucle D'annulation
B44: Longuer Cable (longuer boucle péri + 2*Largeur) | D44: ='simple, 8 et annulation'!D14 -> 58.5
B45: Grand ségment (longuer y -petit segmetn)-30cm | D45: ='simple, 8 et annulation'!D15 -> 9
B46: Petit Ségment | D46: 1
B48: Boucle en 8
B49: Longueur de boucle | D49: =IF(ISNUMBER(G17),((4*G16)-0.6)+((2*G17)-0.6)) -> 58.8
B50: Nb de ségments | D50: 2
B51: Largeur des ségments | D51: ='simple, 8 et annulation'!D11 -> 29.1
B53: Epingle
B54: Longuer de ségment | D54: ='Double boucle, épingle'!C25 -> 0.68493151
B55: Nb de ségments | D55: ='Double boucle, épingle'!C27 -> 9
B56: Intervalle entre ségments | D56: ='Double boucle, épingle'!C26 -> 0.4109589
B57: Longueur de boucle | D57: ='Double boucle, épingle'!C28 -> 195.0274
B59: Double Boucle
B60: Longueur de ségment | D60: ='Double boucle, épingle'!C6 -> 0.68493151
...

Sheet Formules de calcul Professeur
B2: Courant= | C2: 0,4/(Nbtours*Champ Hz)*PUISSANCE(10; -3/20)
B4: Champ Hz= | C4: Largeur*Longueur/(4*PI()*RACINE((Hauteur d'écoute-Hauteur de boucle)*(Hauteur d'écoute-Hauteur de boucle) + Largeur*Largeur/4 + Longueur*Longueur/4))*(1/((Hauteur d'écoute-Hauteur de boucle)*(Hauteur d'écoute-Hauteur de boucle) + Largeur*Largeur/4) + 1/((Hauteur d'écoute-Hauteur de boucle)*(Hauteur d'écoute-Hauteur de boucle) + Longueur*Longueur/4))
B6: Tension= | C6: courant*resistence

Sheet Variation de la boucle
B3: Variation le long de la piéce
B5: Graphique qui montre la varition le long de la piéce d'un coté à l'autre utilisant des parametres spécifiques. La force du champ ciblé est de -3db à +3dB
A11: Npoints | B11: 401
A13: X | B13: =(COLUMN()-2)/B11 -> 0 | C13: =(COLUMN()-2)/B11 -> 0.0024937656 | D13: =(COLUMN()-2)/B11 -> 0.0049875312 | E13: =(COLUMN()-2)/B11 -> 0.0074812968 | F13: =(COLUMN()-2)/B11 -> 0.0099750623 | G13: =(COLUMN()-2)/B11 -> 0.012468828 | H13: =(COLUMN()-2)/B11 -> 0.014962594 | I13: =(COLUMN()-2)/$B$11 -> 0.017456359 | J13: =(COLUMN()-2)/$B$11 -> 0.019950125 | K13: =(COLUMN()-2)/$B$11 -> 0.02244389 | L13: =(COLUMN()-2)/$B$11 -> 0.024937656 | M13: =(COLUMN()-2)/$B$11 -> 0.027431421 | N13: =(COLUMN()-2)/$B$11 -> 0.029925187 | O13: =(COLUMN()-2)/$B$11 -> 0.032418953 | P13: =(COLUMN()-2)/$B$11 -> 0.034912718 | ... OM13: =(COLUMN()-2)/$B$11 -> 1
A14: Hz | B14: =20*LOG10($B$23/(4*PI())*ABS(-$B$20*B13*$B$21/SQRT($B$22^2+($B$20*B13)^2+$B$21^2/4)*(1/($B$22^2+($B$20*B13)^2) + 1/($B$22^2+$B$21^2/4)) - ($B$20-$B$20*B13)*$B$21/SQRT($B$22^2 + ($B$20-$B$20*B13)^2 + $B$21^2/4)*(1/($B$22^2+($B$20-$B$20*B13)^2) + 1/($B$22^2 + $B$21^2/4)))/0.4) -> -11.518139 | C14: =20*LOG10($B$23/(4*PI())*ABS(-$B$20*C13*$B$21/SQRT($B$22^2+($B$20*C13)^2+$B$21^2/4)*(1/($B$22^2+($B$20*C13)^2) + 1/($B$22^2+$B$21^2/4)) - ($B$20-$B$20*C13)*$B$21/SQRT($B$22^2 + ($B$20-$B$20*C13)^2 + $B$21^2/4)*(1/($B$22^2+($B$20-$B$20*C13)^2) + 1/($B$22^2 + $B$21^2/4)))/0.4) -> -11.322524 | D14: =20*LOG10($B$23/(4*PI())*ABS(-$B$20*D13*$B$21/SQRT($B$22^2+($B$20*D13)^2+$B$21^2/4)*(1/($B$22^2+($B$20*D13)^2) + 1/($B$22^2+$B$21^2/4)) - ($B$20-$B$20*D13)*$B$21/SQRT($B$22^2 + ($B$20-$B$20*D13)^2 + $B$21^2/4)*(1/($B$22^2+($B$20-$B$20*D13)^2) + 1/($B$22^2 + $B$21^2/4)))/0.4) -> -11.131291 | E14: =20*LOG10($B$23/(4*PI())*ABS(-$B$20*E13*$B$21/SQRT($B$22^2+($B$20*E13)^2+$B$21^2/4)*(1/($B$22^2+($B$20*E13)^2) + 1/($B$22^2+$B$21^2/4)) - ($B$20-$B$20*E13)*$B$21/SQRT($B$22^2 + ($B$20-$B$20*E13)^2 + $B$21^2/4)*(1/($B$22^2+($B$20-$B$20*E13)^2) + 1/($B$22^2 + $B$21^2/4)))/0.4) -> -10.944342 | F14: =20*LOG10($B$23/(4*PI())*ABS(-$B$20*F13*$B$21/SQRT($B$22^2+($B$20*F13)^2+$B$21^2/4)*(1/($B$22^2+($B$20*F13)^2) + 1/($B$22^2+$B$21^2/4)) - ($B$20-$B$20*F13)*$B$21/SQRT($B$22^2 + ($B$20-$B$20*F13)^2 + $B$21^2/4)*(1/($B$22^2+($B$20-$B$20*F13)^2) + 1/($B$22^2 + $B$21^2/4)))/0.4) -> -10.761583 | G14: =20*LOG10($B$23/(4*PI())*ABS(-$B$20*G13*$B$21/SQRT($B$22^2+($B$20*G13)^2+$B$21^2/4)*(1/($B$22^2+($B$20*G13)^2) + 1/($B$22^2+$B$21^2/4)) - ($B$20-$B$20*G13)*$B$21/SQRT($B$22^2 + ($B$20-$B$20*G13)^2 + $B$21^2/4)*(1/($B$22^2+($B$20-$B$20*G13)^2) + 1/($B$22^2 + $B$21^2/4)))/0.4) -> -10.582926 | H14: =20*LOG10($B$23/(4*PI())*ABS(-$B$20*H13*$B$21/SQRT($B$22^2+($B$20*H13)^2+$B$21^2/4)*(1/($B$22^2+($B$20*H13)^2) + 1/($B$22^2+$B$21^2/4)) - ($B$20-$B$20*H13)*$B$21/SQRT($B$22^2 + ($B$20-$B$20*H13)^2 + $B$21^2/4)*(1/($B$22^2+($B$20-$B$20*H13)^2) + 1/($B$22^2 + $B$21^2/4)))/0.4) -> -10.408283 | I14: =20*LOG10($B$23/(4*PI())*ABS(-$B$20*I13*$B$21/SQRT($B$22^2+($B$20*I13)^2+$B$21^2/4)*(1/($B$22^2+($B$20*I13)^2) + 1/($B$22^2+$B$21^2/4)) - ($B$20-$B$20*I13)*$B$21/SQRT($B$22^2 + ($B$20-$B$20*I13)^2 + $B$21^2/4)*(1/($B$22^2+($B$20-$B$20*I13)^2) + 1/($B$22^2 + $B$21^2/4)))/0.4) -> -10.237572 | ... OM14: =20*LOG10($B$23/(4*PI())*ABS(-$B$20*OM13*$B$21/SQRT($B$22^2+($B$20*OM13)^2+$B$21^2/4)*(1/($B$22^2+($B$20*OM13)^2) + 1/($B$22^2+$B$21^2/4)) - ($B$20-$B$20*OM13)*$B$21/SQRT($B$22^2 + ($B$20-$B$20*OM13)^2 + $B$21^2/4)*(1/($B$22^2+($B$20-$B$20*OM13)^2) + 1/($B$22^2 + $B$21^2/4)))/0.4) -> -11.518139
A16: Y
A17: Hz
A19: Périmetre de la boucle
A20: Largeur | B20: ='Page Accueil'!G16 -> 10
A21: Longueur | B21: ='Page Accueil'!G17 -> 10
A22: Hauteur | B22: ='Page Accueil'!G19 -> 2.6
A23: Courant | B23: 3.75

Sheet bdd mot clés et sélection
G1: Ou voulez vous installer une BIM? | H1: Quels considérations devez vous prendre en compte dans votre installation? | I1: Comment estimez vous la presence de parties metaliques dans le lieu d'installation? | K1: Hauteur d'écoute | N1: Nb de tours
G2: ='Page Accueil'!B16 -> Lieu de culte / Espace culturel / Espace sportif | H2: ='Page Accueil'!B20 -> Besoin de confidentialité | I2: ='Page Accueil'!B23 -> Importante | K2: Assis | L2: =IF(K2="Assis",1.2) -> 1.2 | N2: 1
B3: Type d'installation | C3: Parametres | D3: Metal | E3: Type de boucle | F3: Boucle récommandée | K3: Debout | L3: =IF(K3="Debout",1.7) -> 1.7 | N3: 2
B4: Salle de réunion / Salle de classe / Bureau | C4: Aucun besoin spécifique | D4: Pas importante | E4: Type de boucle récommandée: | F4: =DGET('bdd mot clés et sélection'!B15:E63,'bdd mot clés et sélection'!E15,G1:I2) -> Boucle d'annulation | K4: Les deux | L4: =IF(K4="Les deux",1.5) -> 1.5 | N4: 3
B5: Lieu de culte / Espace culturel / Espace sportif | C5: Besoin de confidentialité | D5: Moyenne | E5: Boucle simple périmétrique | F5: BDLIRE('bdd mot clés et sélection'![ou voulez vous intaller une bim]:E42;'bdd mot clés et sélection'![type de boucle recommandée];G1:I2) | N5: 4
B6: Auditorium / Théatre / Salle de spéctacles | C6: Plusieurs salles côte à côte | D6: Importante | E6: Boucle en 8 | N6: 5
C7: Présence d'une scène avec micros dynamiques | D7: Très importante | E7: Boucle en épingle | N7: 6
E8: Boucle d'annulation | N8: 7
E9: Double boucle | N9: 8
E10: Double boucle à ultra faible débordement | N10: 9
N11: 10
B14: COMBINAISONS (garder toujours la meme écriture exacte partout)
B15: Ou voulez vous installer une BIM? | C15: Quels considérations devez vous prendre en compte dans votre installation? | D15: Comment estimez vous la presence de parties metaliques dans le lieu d'installation? | E15: Type de boucle recommandée | F15: Référence tableau à incoporer | G15: Formule d'acitvation (en fonction "surface") | I15: Type d'installation | J15: Parametres | K15: Metal | L15: Type de boucle
B16: Salle de réunion / Salle de classe / Bureau | C16: Aucun besoin spécifique | D16: Pas importante | E16: =IF('Page Accueil'!G21<250,"boucle simple périmétrique","Boucle en 8") -> boucle simple périmétrique | F16: 'simple, 8 et annulation'!C4:D5 | G16: SI(surface<250;"boucle simple périmétrique";"Boucle en 8") | I16: Salle réunion | J16: Aucun besoin spécifique | K16: Pas importante | L16: Boucle simple périmétrique
B17: Lieu de culte / Espace culturel / Espace sportif | C17: Aucun besoin spécifique | D17: Pas importante | E17: =IF('Page Accueil'!G21<250,"boucle simple périmétrique","Boucle en 8") -> boucle simple périmétrique | F17: 'simple, 8 et annulation'!C4:D5 | I17: Lieu de culte / Espace culturel / Espace sportif | J17: Besoin de confidentialité | K17: Moyenne | L17: Boucle en 8
B18: Auditorium / Théatre / Salle de spéctacles | C18: Aucun besoin spécifique | D18: Pas importante | E18: =IF('Page Accueil'!G21<250,"boucle simple périmétrique","Boucle en 8") -> boucle simple périmétrique | F18: 'simple, 8 et annulation'!C4:D5 | I18: Amphiteatre | J18: Plusiers salles cote à cote | K18: Importante | L18: Boucle d'anulation
B19: Salle de réunion / Salle de classe / Bureau | C19: Aucun besoin spécifique | D19: Moyenne | E19: Boucle en 8 | F19: 'simple, 8 et annulation'!C9:D11 | J19: Presence d'une scéne ou de micro | K19: Très importante | L19: Double boucle
B20: Lieu de culte / Espace culturel / Espace sportif | C20: Aucun besoin spécifique | D20: Moyenne | E20: Boucle en 8 | F20: 'simple, 8 et annulation'!C9:D11
B21: Auditorium / Théatre / Salle de spéctacles | C21: Aucun besoin spécifique | D21: Moyenne | E21: Boucle en 8 | F21: 'simple, 8 et annulation'!C9:D11
B22: Salle de réunion / Salle de classe / Bureau | C22: Aucun besoin spécifique | D22: Importante | E22: Boucle en épingle | F22: 'Double boucle, épingle'!B22:C28 | G22: Attention si écoute debout alors pas de boucle en épingle ou 8 | I22: Boucle simple périmétrique:1 | J22: Boucle en 8:2 | K22: Boucle d'anulation:3 | L22: Double boucle:4
B23: Lieu de culte / Espace culturel / Espace sportif | C23: Aucun besoin spécifique | D23: Importante | E23: Boucle en épingle | F23: 'Double boucle, épingle'!B22:C28 | I23: Salle de réunion / Salle de classe / Bureau | J23: Lieu de culte / Espace culturel / Espace sportif | K23: Salle réunion | L23: Lieu de culte / Espace culturel / Espace sportif
B24: Auditorium / Théatre / Salle de spéctacles | C24: Aucun besoin spécifique | D24: Importante | E24: Boucle en épingle | F24: 'Double boucle, épingle'!B22:C28 | I24: Lieu de culte / Espace culturel / Espace sportif | J24: Amphiteatre | K24: Lieu de culte / Espace culturel / Espace sportif | L24: Amphiteatre
B25: Salle de réunion / Salle de classe / Bureau | C25: Aucun besoin spécifique | D25: Très importante | E25: Boucle en épingle | F25: 'Double boucle, épingle'!B22:C28 | G25: Double boucle? | I25: Amphiteatre | J25: Aucun besoin spécifique | K25: Amphiteatre | L25: Plusiers salles cote à cote
B26: Lieu de culte / Espace culturel / Espace sportif | C26: Aucun besoin spécifique | D26: Très importante | E26: Boucle en épingle | F26: 'Double boucle, épingle'!B22:C28 | I26: Aucun besoin spécifique | J26: Besoin de confidentialité | K26: Besoin de confidentialité | L26: Importante
B27: Auditorium / Théatre / Salle de spéctacles | C27: Aucun besoin spécifique | D27: Très importante | E27: Boucle en épingle | F27: 'Double boucle, épingle'!B22:C28 | I27: Pas importante | J27: Moyenne | K27: Presence d'une scéne ou de micro | L27: Très importante
B28: Salle de réunion / Salle de classe / Bureau | C28: Besoin de confidentialité | D28: Pas importante | E28: Boucle d'annulation | F28: 'simple, 8 et annulation'!C13:D16 | J28: Importante | K28: Pas importante
B29: Lieu de culte / Espace culturel / Espace sportif | C29: Besoin de confidentialité | D29: Pas importante | E29: Boucle d'annulation | F29: 'simple, 8 et annulation'!C13:D16 | K29: Moyenne
B30: Auditorium / Théatre / Salle de spéctacles | C30: Besoin de confidentialité | D30: Pas importante | E30: Boucle d'annulation | F30: 'simple, 8 et annulation'!C13:D16
B31: Salle de réunion / Salle de classe / Bureau | C31: Besoin de confidentialité | D31: Moyenne | E31: Boucle d'annulation | F31: 'simple, 8 et annulation'!C13:D16
B32: Lieu de culte / Espace culturel / Espace sportif | C32: Besoin de confidentialité | D32: Moyenne | E32: Boucle d'annulation | F32: 'simple, 8 et annulation'!C13:D16
B33: Auditorium / Théatre / Salle de spéctacles | C33: Besoin de confidentialité | D33: Moyenne | E33: Boucle d'annulation | F33: 'simple, 8 et annulation'!C13:D16
B34: Salle de réunion / Salle de classe / Bureau | C34: Besoin de confidentialité | D34: Importante | E34: Boucle d'annulation | F34: 'simple, 8 et annulation'!C13:D16
B35: Lieu de culte / Espace culturel / Espace sportif | C35: Besoin de confidentialité | D35: Importante | E35: Boucle d'annulation | F35: 'simple, 8 et annulation'!C13:D16
B36: Auditorium / Théatre / Salle de spéctacles | C36: Besoin de confidentialité | D36: Importante | E36: Boucle d'annulation | F36: 'simple, 8 et annulation'!C13:D16
B37: Salle de réunion / Salle de classe / Bureau | C37: Besoin de confidentialité | D37: Très importante | E37: Boucle d'annulation | F37: 'simple, 8 et annulation'!C13:D16
B38: Lieu de culte / Espace culturel / Espace sportif | C38: Besoin de confidentialité | D38: Très importante | E38: Boucle d'annulation | F38: 'simple, 8 et annulation'!C13:D16
B39: Auditorium / Théatre / Salle de spéctacles | C39: Besoin de confidentialité | D39: Très importante | E39: Boucle d'annulation | F39: 'simple, 8 et annulation'!C13:D16
B40: Salle de réunion / Salle de classe / Bureau | C40: Présence d'une scène avec micros dynamiques | D40: Pas importante | E40: Boucle d'annulation | F40: 'simple, 8 et annulation'!C13:D16
B41: Lieu de culte / Espace culturel / Espace sportif | C41: Présence d'une scène avec micros dynamiques | D41: Pas importante | E41: Boucle d'annulation | F41: 'simple, 8 et annulation'!C13:D16
... B57: Auditorium / Théatre / Salle de spéctacles | C57: Plusieurs salles côte à côte | D57: Moyenne | E57: Double boucle | F57: 'Double boucle, épingle'!B3:C12
...

Sheet simple, 8 et annulation
C4: Boucle périphérique sol
C5: (Largeur x 2-60)+(longueur x 2-60) On considère un déport du mur de 30 cm | D5: =IF('Page Accueil'!G17>0,((2*'Page Accueil'!G16)-0.6)+((2*'Page Accueil'!G17)-0.6)) -> 38.8
C9: Boucle en 8
C10: (Largeur x 4-60)+(longueur-60) On considère un déport du mur de 30 cm | D10: =IF(ISNUMBER('Page Accueil'!G17),((4*'Page Accueil'!G16)-0.6)+((2*'Page Accueil'!G17)-0.6)) -> 58.8
C11: Largeur des ségments (écart30 cm) | D11: =D10/2-0.3 -> 29.1
C13: Boucle annulation
C14: Longuer Cable (longuer boucle péri + 2*Largeur) | D14: =D5+2*'Page Accueil'!G16-0.3 -> 58.5
C15: Grand ségment (longuer y -petit segmetn)-30cm d'écart | D15: ='Page Accueil'!G17-D16 -> 9
C16: Petit Ségment (valeur indicative) | D16: 1

Sheet Double boucle, épingle
B1: Ne pas inserer des lignes (rechercheV sur tableau à droite) | H1: Largeur X | I1: ='Page Accueil'!G16 -> 10 | L1: a | M1: Na | N1: Nb
H2: L: Longueur Y coté le plus long avec déport de 30cm | I2: ='Page Accueil'!G17 -> 10 | L2: 2.6 | M2: 2 | N2: 1
B3: Double Boucle | H3: SegH (segment hypotétique) | I3: =I2/15 -> 0.66666667 | J3: Longuer/10? Ou en fonction du métal Ex: pas important 3m, important 2m, très important 1m | L3: 3.4 | M3: 2 | N3: 2
B4: Longuer salle (coté le plus long) | C4: ='Page Accueil'!G17 -> 10 | H4: X=L/SegH | I4: =I2/I3 -> 15 | L4: 4.2 | M4: 3 | N4: 2
B5: Longuer Ségments hypotéthique | C5: =I3 -> 0.66666667 | H5: a retenu dans le tableau | I5: =VLOOKUP(I4,L2:L25,1,TRUE) -> 14.6 | L5: 5 | M5: 3 | N5: 3
B6: Longuer de ségment retenue | C6: =I8 -> 0.68493151 | H6: Na (Nombre de segments boucle A) | I6: =VLOOKUP(I5,L2:M25,2,FALSE) -> 9 | L6: 5.8 | M6: 4 | N6: 3
B7: Intervalle entre ségments | C7: =I10 -> 0.4109589 | H7: Nb (Nb de segments boucle B) | I7: =VLOOKUP(I5,L2:N25,3,FALSE) -> 9 | L7: 6.6 | M7: 4 | N7: 5
B8: Nb de ségments A | C8: =I6 -> 9 | H8: SegD Longeur de segment =(L/a) | I8: =I2/I5 -> 0.68493151 | L8: 7.4 | M8: 5 | N8: 5
B9: Longuer Boucle A | C9: =(C6*C8*2)+(I1*C8*2)+C7*C8-1 -> 195.0274 | H9: Pas (distance totale entre le début d’un segment et son suivant: Pas=1,6*SegD) | I9: =1.6*I8 -> 1.0958904 | L9: 8.2 | M9: 5 | N9: 5
B10: Nb de ségments B | C10: =I7 -> 9 | H10: Intervalle entre segments =Pas-SegD | I10: =I9-I8 -> 0.4109589 | L10: 9 | M10: 6 | N10: 5
B11: Longuer Boucle B | C11: =(C6*C10*2)+(I1*C10*2)+C7*C10-1 -> 195.0274 | H11: Ecart entre boucles (Pas/2) | I11: =I9/2 -> 0.54794521 | L11: 9.8 | M11: 6 | N11: 6
B12: Intervalle entre boucles | C12: =I11 -> 0.54794521 | L12: 10.6 | M12: 7 | N12: 6
L13: 11.4 | M13: 7 | N13: 7
L14: 12.2 | M14: 8 | N14: 7
E15: Longuer de cable boucle A=(Longuer segments retenue*Nb se ségmentsA*2)+(Largeur*nb de ségmentsA*2)+ intervalle*nb de ségmentsA -1 | L15: 13 | M15: 8 | N15: 8
E16: Longuer de cable boucle B=(Longuer segments retenue*Nb se ségmentsB*2)+(Largeur*nb de ségmentsB*2)+ intervalle*nb de ségmentsB -1 | L16: 13.8 | M16: 9 | N16: 8
L17: 14.6 | M17: 9 | N17: 9
L18: 15.4 | M18: 10 | N18: 9
L19: 16.2 | M19: 10 | N19: 10
L20: 17 | M20: 11 | N20: 10
L21: 17.8 | M21: 11 | N21: 11
B22: Epingle | L22: 18.6 | M22: 12 | N22: 11
B23: Longuer salle (coté le plus long) | C23: =I2 -> 10 | L23: 19.4 | M23: 12 | N23: 12
B24: Longuer Ségments hypotéthique | C24: =I3 -> 0.66666667 | E24: Longuer de cable | F24: =(Longuer segments*Nb se ségments*2)+(Largeur*nb de ségments*2)+ intervalle*nb de ségments -1 | L24: 20.2 | M24: 13 | N24: 12
B25: Longuer de ségment | C25: =I8 -> 0.68493151 | L25: 20.2 | M25: 13 | N25: 12
B26: Intervalle entre ségments | C26: =I10 -> 0.4109589 | E26: Longuer de cable | F26: =(C25*C27*2)+(I1*C27*2)+C26*C27-1 -> 195.0274
B27: Nb de ségments | C27: =I6 -> 9
B28: Longuer de boucle | C28: =(C25*C27*2)+(I1*C27*2)+C26*C27-1 -> 195.0274

Sheet Ultra faible débordement
C2: LOOP A | F2: LOOP B
A3: Largeur salle x (coté court) | B3: Longeur salle y | C3: Nb Unité de segments | D3: Grands segments | E3: Demi segments (1 grand divisé en 2) | F3: Nombre de segments | G3: Grands segments | H3: Demi segments (1 grand divisé en 2) | I3: Largeur Grand segment | J3: Largeur demi segment | K3: Longueur grand segment | L3: Longueur demi segment | M3: Longueur totale boucle A | N3: Longueur totale boucle B
A4: 30 | B4: 35 | C4: =IF(AND(A4>P8,A4<Q8),3,IF(AND(A4>=P9,A4<Q9),4,IF(AND(A4>=P10,A4<Q10),5,IF(AND(A4>=P11,A4<Q11),6,IF(AND(A4>=P12,A4<Q12),7,IF(AND(A4>=P13,A4<Q13),8,IF(AND(A4>=P14,A4<Q14),9,IF(AND(A4>=P15,A4<Q15),10,IF(AND(A4>=P16,A4<Q16),11,IF(AND(A4>=P17,A4<Q17),12,IF(AND(A4>=P18,A4<Q18),13,IF(AND(A4>=P19,A4<Q19),14,IF(AND(A4>=P20,A4<Q20),15,IF(AND(A4>=P21,A4<Q21),16,IF(AND(A4>=P22,A4<Q22),17,IF(AND(A4>=P23,A4<Q23),18,IF(AND(A4>=P24,A4<Q24),19,IF(AND(A4>=P25,A4<Q25),20,IF(AND(A4>=P26,A4<Q26),21,IF(AND(A4>=P27,A4<Q27),22,IF(AND(A4>=P28,A4<Q28),23,IF(AND(A4>=P29,A4<Q29),24,IF(AND(A4>=P30,A4<Q30),25,IF(AND(A4>=P31,A4<Q31),26,IF(AND(A4>=P32,A4<Q32),27,IF(AND(A4>=P33,A4<Q33),28,IF(AND(A4>=P34,A4<Q34),29,IF(AND(A4>=P35,A4<Q35),30,IF(AND(A4>=P36,A4<Q36),31,IF(AND(A4>=P37,A4<Q37),32,IF(AND(A4>=P38,A4<Q38),33,IF(AND(A4>=P39,A4<Q39),34,IF(AND(A4>=P40,A4<Q40),35,IF(AND(A4>=P41,A4<Q41),36,IF(AND(A4>=P42,A4<Q42),37,IF(AND(A4>=P43,A4<Q43),38,IF(AND(A4>=P44,A4<Q44),39,IF(AND(A4>=P45,A4<Q45),40,IF(AND(A4>=P46,A4<Q46),41,IF(AND(A4>=P47,A4<Q47),42,IF(AND(A4>=P48,A4<Q48),43,IF(AND(A4>=P49,A4<Q49),44,IF(AND(A4>=R346,A4<Q50),45,IF(AND(A4>=P51,A4<Q51),46,IF(AND(A4>=P52,A4<Q52),47,IF(AND(A4>=P53,A4<Q53),48,IF(AND(A4>=P54,A4<Q54),49,IF(AND(A4>=P55,A4<Q55),50,IF(AND(A4>=P56,A4<Q56),51,IF(AND(A4>=P57,A4<Q57),52,IF(AND(A4>=P58,A4<Q58),53))))))))))))))))))))))))))))))))))))))))))))))))))) -> 15 | D4: =C4-1 -> 14 | E4: 2 | F4: =C4-1 -> 14 | G4: =F4-1 -> 13 | H4: 2 | I4: =A4/C4 -> 2 | J4: =I4/2 -> 1 | K4: =IF(B4>0,B4*2+I4*2) -> 74 | L4: =IF(B4>0,B4*2+J4*2) -> 72 | M4: =IF(B4>0,(C4+1)*2*B4+A4*2) -> 1180 | N4: =IF(B4>0,(F4+1)*2*B4+A4*2) -> 1110
W5: Grands Segments A= Nb unité de segments A- 1
P6: Constante observée nombre de segments | W6: Nb segments B= Nb segments A- 1
P7: Largeur x H1 | Q7: Largeur x H2 | R7: Unité segments | W7: Grand Segments B= Nb Segments B-1
P8: 1 | Q8: 6.39 | R8: 3 | W8: Petits segments: 1 de chaque coté
P9: 6.4 | Q9: 8.39 | R9: 4
P10: 8.4 | Q10: 10.39 | R10: 5 | W10: Largeur Grand segment= Larger/ Nb segments
P11: =P10+2 -> 10.4 | Q11: =Q10+2 -> 12.39 | R11: 6 | W11: Largeur Grand segment= Larger/ Nb segments
P12: =P11+2 -> 12.4 | Q12: =Q11+2 -> 14.39 | R12: 7 | W12: Longuer du grand segment=SI("longuer x">0;"longeur x"*2+"largeur Grand segment"*2)
P13: =P12+2 -> 14.4 | Q13: =Q12+2 -> 16.39 | R13: 8 | W13: Longuer du petit segment=SI("longuer x">0;"longeur x"*2+"largeur Grand segment"*2)
P14: =P13+2 -> 16.4 | Q14: =Q13+2 -> 18.39 | R14: 9 | W14: Longuer totale boucle A= SI(Longuer X>0;(Nb segmentsA+1)*2*Longueur X+Largeur Y*2)
P15: =P14+2 -> 18.4 | Q15: =Q14+2 -> 20.39 | R15: 10 | W15: Longeur Totale boucle B=SI(Longuer X>0;(Nb SegmentsB +1)*2*Longuer X+Largeur Y*2)
P16: =P15+2 -> 20.4 | Q16: =Q15+2 -> 22.39 | R16: 11
P17: =P16+2 -> 22.4 | Q17: =Q16+2 -> 24.39 | R17: 12
P18: =P17+2 -> 24.4 | Q18: =Q17+2 -> 26.39 | R18: 13
P19: =P18+2 -> 26.4 | Q19: =Q18+2 -> 28.39 | R19: 14
P20: =P19+2 -> 28.4 | Q20: =Q19+2 -> 30.39 | R20: 15
P21: =P20+2 -> 30.4 | Q21: =Q20+2 -> 32.39 | R21: 16
P22: =P21+2 -> 32.4 | Q22: =Q21+2 -> 34.39 | R22: 17
P23: =P22+2 -> 34.4 | Q23: =Q22+2 -> 36.39 | R23: 18
P24: =P23+2 -> 36.4 | Q24: =Q23+2 -> 38.39 | R24: 19
P25: =P24+2 -> 38.4 | Q25: =Q24+2 -> 40.39 | R25: 20
P26: =P25+2 -> 40.4 | Q26: =Q25+2 -> 42.39 | R26: 21
P27: =P26+2 -> 42.4 | Q27: =Q26+2 -> 44.39 | R27: 22
... P58: =P57+2 -> 104.4 | Q58: =Q57+2 -> 106.39 | R58: 53
