Workbook

Sheet Feuil1
A1: Lot | B1: Prix | C1: Prix 2 | D1: Prix Ht | E1: Prix proposé | F1: variance | G1: ponderation | H1: essaie
A2: 1 | B2: 11.08 | C2: 12.5 | D2: 10.6368 | E2: 12.9 | F2: 1.2544374 | G2: 7977.6 | H2: 17985
A3: 3 | B3: #N/A | C3: 99.4 | D3: #N/A | E3: #N/A | F3: #N/A | G3: #N/A | H3: 1875
A4: 4 | B4: 43.51 | C4: 13.5 | D4: 41.7696 | E4: 4.9 | F4: 0.15897686 | G4: 12530.88 | H4: 14523
A5: 5 | B5: 5.46 | C5: 62.9 | D5: 5.2416 | E5: 1.51 | F5: 0.32974664 | G5: 1572.48 | H5: 2091
A6: 1 | B6: 20.81 | C6: 37.7 | D6: 19.9776 | E6: 21.52 | F6: 1.1188731 | G6: 5993.28 | H6: 12699
A7: 6 | B7: 16.73 | C7: 17.6 | D7: 16.0608 | E7: 2.76 | F7: 0.21351365 | G7: 4818.24 | H7: 5847
A8: 4 | B8: 4.65 | C8: 75.7 | D8: 4.464 | E8: 8.88 | F8: 2.030914 | G8: 334.8 | H8: 1014.75
A9: 2 | B9: 8.2 | C9: 48.1 | D9: 7.872 | E9: 32.53 | F9: 4.1740346 | G9: 590.4 | H9: 3054.75
A10: 8 | B10: 20.41 | C10: 33.9 | D10: 19.5936 | E10: 1.62 | F10: 0.12434673 | G10: 1469.52 | H10: 1652.25
A11: 7 | B11: 8.2 | C11: 31.8 | D11: 7.872 | E11: 10.31 | F11: 1.351372 | G11: 590.4 | H11: 1388.25
A12: 9 | B12: #N/A | C12: 24.6 | D12: #N/A | E12: #N/A | F12: #N/A | G12: #N/A | H12: 816
A13: 10 | B13: 9.63 | C13: 49.5 | D13: 9.2448 | E13: -1.12 | F13: -0.07948252 | G13: 693.36 | H13: 638.25
A14: 9 | B14: 21.81 | C14: 39.9 | D14: 20.9376 | E14: 4.77 | F14: 0.26948647 | G14: 1570.32 | H14: 1993.5
A15: 8 | B15: 15.18 | C15: 36.5 | D15: 14.5728 | E15: 1.02 | F15: 0.11166008 | G15: 1092.96 | H15: 1215
A16: 7 | B16: 15.94 | C16: 18.4 | D16: 15.3024 | E16: 6.58 | F16: 0.47166458 | G16: 1147.68 | H16: 1689
A17: 1 | B17: 7.23 | C17: 38 | D17: 6.9408 | E17: -0.94 | F17: -0.093764408 | G17: 520.56 | H17: 471.75
A18: 3 | B18: 11.63 | C18: 10.9 | D18: 11.1648 | E18: 9 | F18: 0.84777157 | G18: 334.944 | H18: 618.9
A19: 4 | B19: 4.65 | C19: 104 | D19: 4.464 | E19: 1.7 | F19: 0.42249104 | G19: 133.92 | H19: 190.5
A20: 5 | B20: 20.68 | C20: 124 | D20: 19.8528 | E20: 6.98 | F20: 0.39325435 | G20: 595.584 | H20: 829.8
A21: 6 | B21: 44.06 | C21: 87.2 | D21: 42.2976 | E21: 53.65 | F21: 1.3100601 | G21: 1268.928 | H21: 2931.3
A22: 6 | B22: 32.05 | C22: 164 | D22: 30.768 | E22: 1.96 | F22: 0.10536921 | G22: 923.04 | H22: 1020.3
A23: 4 | B23: 53.81 | C23: 146 | D23: 51.6576 | E23: 49.35 | F23: 0.9969956 | G23: 1549.728 | H23: 3094.8
A24: 6 | B24: 30.38 | C24: 165 | D24: 29.1648 | E24: 20.14 | F24: 0.73222515 | G24: 874.944 | H24: 1515.6
A25: 7 | B25: 54.26 | C25: 75.7 | D25: 52.0896 | E25: 31.87 | F25: 0.65349705 | G25: 1562.688 | H25: 2583.9
A26: 1 | B26: #N/A | C26: 72.4 | D26: #N/A | E26: #N/A | F26: #N/A | G26: #N/A | H26: 1221.9
A27: 2 | B27: 23.57 | C27: 58.3 | D27: 22.6272 | E27: 27.47 | F27: 1.2556923 | G27: 678.816 | H27: 1531.2
A28: 3 | B28: 16.75 | C28: 85.2 | D28: 16.08 | E28: 14.73 | F28: 0.95771144 | G28: 482.4 | H28: 944.4
A29: 4 | B29: 29.39 | C29: 99.1 | D29: 28.2144 | E29: 4.35 | F29: 0.19584326 | G29: 846.432 | H29: 1012.2
A30: 5 | B30: 38.23 | C30: 36.7008 | D30: 16.77 | E30: 0.49860494 | F30: 1101.024 | G30: 1650

Sheet Feuil2
A1: Numero de lot | B1: Nom Produit avec un prix | C1: Nombre produit sans prix | D1: Somme prix 2 | E1: Somme Prix Ht | F1: Somme prix proposé | G1: Somme variance | H1: Somme ponderation | I1: Somme essaie
A2: 1 | B2: =IF(Tableau1[[#This Row],[Numero de lot ]]<>"",COUNTIFS(Feuil1!A:A,A2,Feuil1!B:B,"<>0"),"") -> 4 | C2: =IF(Tableau1[[#This Row],[Numero de lot ]]<>"",COUNTIFS(Feuil1!A:A,A2,Feuil1!B:B,"#N/A"),"") -> 1 | D2: =SUMIFS(Feuil1!C:C,Feuil1!$A:$A,$A2,Feuil1!C:C,"<>#N/A") -> 160.6 | E2: =SUMIFS(Feuil1!D:D,Feuil1!$A:$A,$A2,Feuil1!D:D,"<>#N/A") -> 37.5552 | F2: =SUMIFS(Feuil1!E:E,Feuil1!$A:$A,$A2,Feuil1!E:E,"<>#N/A") -> 33.48 | G2: =SUMIFS(Feuil1!F:F,Feuil1!$A:$A,$A2,Feuil1!F:F,"<>#N/A") -> 2.2795462 | H2: =SUMIFS(Feuil1!G:G,Feuil1!$A:$A,$A2,Feuil1!G:G,"<>#N/A") -> 14491.44 | I2: =SUMIFS(Feuil1!H:H,Feuil1!$A:$A,$A2,Feuil1!H:H,"<>#N/A") -> 32377.65
A3: =IF(A2<>"",IF(A2+1<=MAX(Feuil1!A:A),A2+1,""),"") -> 2 | B3: =IF(Tableau1[[#This Row],[Numero de lot ]]<>"",COUNTIFS(Feuil1!A:A,A3,Feuil1!B:B,"<>0"),"") -> 2 | C3: =IF(Tableau1[[#This Row],[Numero de lot ]]<>"",COUNTIFS(Feuil1!A:A,A3,Feuil1!B:B,"#N/A"),"") -> 0 | D3: =SUMIFS(Feuil1!C:C,Feuil1!$A:$A,$A3,Feuil1!C:C,"<>#N/A") -> 106.4 | E3: =SUMIFS(Feuil1!D:D,Feuil1!$A:$A,$A3,Feuil1!D:D,"<>#N/A") -> 30.4992 | F3: =SUMIFS(Feuil1!E:E,Feuil1!$A:$A,$A3,Feuil1!E:E,"<>#N/A") -> 60 | G3: =SUMIFS(Feuil1!F:F,Feuil1!$A:$A,$A3,Feuil1!F:F,"<>#N/A") -> 5.4297268 | H3: =SUMIFS(Feuil1!G:G,Feuil1!$A:$A,$A3,Feuil1!G:G,"<>#N/A") -> 1269.216 | I3: =SUMIFS(Feuil1!H:H,Feuil1!$A:$A,$A3,Feuil1!H:H,"<>#N/A") -> 4585.95
A4: =IF(A3<>"",IF(A3+1<=MAX(Feuil1!A:A),A3+1,""),"") -> 3 | B4: =IF(Tableau1[[#This Row],[Numero de lot ]]<>"",COUNTIFS(Feuil1!A:A,A4,Feuil1!B:B,"<>0"),"") -> 3 | C4: =IF(Tableau1[[#This Row],[Numero de lot ]]<>"",COUNTIFS(Feuil1!A:A,A4,Feuil1!B:B,"#N/A"),"") -> 1 | D4: =SUMIFS(Feuil1!C:C,Feuil1!$A:$A,$A4,Feuil1!C:C,"<>#N/A") -> 195.5 | E4: =SUMIFS(Feuil1!D:D,Feuil1!$A:$A,$A4,Feuil1!D:D,"<>#N/A") -> 27.2448 | F4: =SUMIFS(Feuil1!E:E,Feuil1!$A:$A,$A4,Feuil1!E:E,"<>#N/A") -> 23.73 | G4: =SUMIFS(Feuil1!F:F,Feuil1!$A:$A,$A4,Feuil1!F:F,"<>#N/A") -> 1.805483 | H4: =SUMIFS(Feuil1!G:G,Feuil1!$A:$A,$A4,Feuil1!G:G,"<>#N/A") -> 817.344 | I4: =SUMIFS(Feuil1!H:H,Feuil1!$A:$A,$A4,Feuil1!H:H,"<>#N/A") -> 3438.3
A5: =IF(A4<>"",IF(A4+1<=MAX(Feuil1!A:A),A4+1,""),"") -> 4 | B5: =IF(Tableau1[[#This Row],[Numero de lot ]]<>"",COUNTIFS(Feuil1!A:A,A5,Feuil1!B:B,"<>0"),"") -> 5 | C5: =IF(Tableau1[[#This Row],[Numero de lot ]]<>"",COUNTIFS(Feuil1!A:A,A5,Feuil1!B:B,"#N/A"),"") -> 0 | D5: =SUMIFS(Feuil1!C:C,Feuil1!$A:$A,$A5,Feuil1!C:C,"<>#N/A") -> 438.3 | E5: =SUMIFS(Feuil1!D:D,Feuil1!$A:$A,$A5,Feuil1!D:D,"<>#N/A") -> 130.5696 | F5: =SUMIFS(Feuil1!E:E,Feuil1!$A:$A,$A5,Feuil1!E:E,"<>#N/A") -> 69.18 | G5: =SUMIFS(Feuil1!F:F,Feuil1!$A:$A,$A5,Feuil1!F:F,"<>#N/A") -> 3.8052207 | H5: =SUMIFS(Feuil1!G:G,Feuil1!$A:$A,$A5,Feuil1!G:G,"<>#N/A") -> 15395.76 | I5: =SUMIFS(Feuil1!H:H,Feuil1!$A:$A,$A5,Feuil1!H:H,"<>#N/A") -> 19835.25
A6: =IF(A5<>"",IF(A5+1<=MAX(Feuil1!A:A),A5+1,""),"") -> 5 | B6: =IF(Tableau1[[#This Row],[Numero de lot ]]<>"",COUNTIFS(Feuil1!A:A,A6,Feuil1!B:B,"<>0"),"") -> 3 | C6: =IF(Tableau1[[#This Row],[Numero de lot ]]<>"",COUNTIFS(Feuil1!A:A,A6,Feuil1!B:B,"#N/A"),"") -> 0 | D6: =SUMIFS(Feuil1!C:C,Feuil1!$A:$A,$A6,Feuil1!C:C,"<>#N/A") -> 223.6008 | E6: =SUMIFS(Feuil1!D:D,Feuil1!$A:$A,$A6,Feuil1!D:D,"<>#N/A") -> 41.8644 | F6: =SUMIFS(Feuil1!E:E,Feuil1!$A:$A,$A6,Feuil1!E:E,"<>#N/A") -> 8.9886049 | G6: =SUMIFS(Feuil1!F:F,Feuil1!$A:$A,$A6,Feuil1!F:F,"<>#N/A") -> 1101.747 | H6: =SUMIFS(Feuil1!G:G,Feuil1!$A:$A,$A6,Feuil1!G:G,"<>#N/A") -> 3818.064 | I6: =SUMIFS(Feuil1!H:H,Feuil1!$A:$A,$A6,Feuil1!H:H,"<>#N/A") -> 2920.8
A7: =IF(A6<>"",IF(A6+1<=MAX(Feuil1!A:A),A6+1,""),"") -> 6 | B7: =IF(Tableau1[[#This Row],[Numero de lot ]]<>"",COUNTIFS(Feuil1!A:A,A7,Feuil1!B:B,"<>0"),"") -> 4 | C7: =IF(Tableau1[[#This Row],[Numero de lot ]]<>"",COUNTIFS(Feuil1!A:A,A7,Feuil1!B:B,"#N/A"),"") -> 0 | D7: =SUMIFS(Feuil1!C:C,Feuil1!$A:$A,$A7,Feuil1!C:C,"<>#N/A") -> 433.8 | E7: =SUMIFS(Feuil1!D:D,Feuil1!$A:$A,$A7,Feuil1!D:D,"<>#N/A") -> 118.2912 | F7: =SUMIFS(Feuil1!E:E,Feuil1!$A:$A,$A7,Feuil1!E:E,"<>#N/A") -> 78.51 | G7: =SUMIFS(Feuil1!F:F,Feuil1!$A:$A,$A7,Feuil1!F:F,"<>#N/A") -> 2.3611682 | H7: =SUMIFS(Feuil1!G:G,Feuil1!$A:$A,$A7,Feuil1!G:G,"<>#N/A") -> 7885.152 | I7: =SUMIFS(Feuil1!H:H,Feuil1!$A:$A,$A7,Feuil1!H:H,"<>#N/A") -> 11314.2
A8: =IF(A7<>"",IF(A7+1<=MAX(Feuil1!A:A),A7+1,""),"") -> 7 | B8: =IF(Tableau1[[#This Row],[Numero de lot ]]<>"",COUNTIFS(Feuil1!A:A,A8,Feuil1!B:B,"<>0"),"") -> 3 | C8: =IF(Tableau1[[#This Row],[Numero de lot ]]<>"",COUNTIFS(Feuil1!A:A,A8,Feuil1!B:B,"#N/A"),"") -> 0 | D8: =SUMIFS(Feuil1!C:C,Feuil1!$A:$A,$A8,Feuil1!C:C,"<>#N/A") -> 125.9 | E8: =SUMIFS(Feuil1!D:D,Feuil1!$A:$A,$A8,Feuil1!D:D,"<>#N/A") -> 75.264 | F8: =SUMIFS(Feuil1!E:E,Feuil1!$A:$A,$A8,Feuil1!E:E,"<>#N/A") -> 48.76 | G8: =SUMIFS(Feuil1!F:F,Feuil1!$A:$A,$A8,Feuil1!F:F,"<>#N/A") -> 2.4765336 | H8: =SUMIFS(Feuil1!G:G,Feuil1!$A:$A,$A8,Feuil1!G:G,"<>#N/A") -> 3300.768 | I8: =SUMIFS(Feuil1!H:H,Feuil1!$A:$A,$A8,Feuil1!H:H,"<>#N/A") -> 5661.15
A9: =IF(A8<>"",IF(A8+1<=MAX(Feuil1!A:A),A8+1,""),"") -> 8 | B9: =IF(Tableau1[[#This Row],[Numero de lot ]]<>"",COUNTIFS(Feuil1!A:A,A9,Feuil1!B:B,"<>0"),"") -> 2 | C9: =IF(Tableau1[[#This Row],[Numero de lot ]]<>"",COUNTIFS(Feuil1!A:A,A9,Feuil1!B:B,"#N/A"),"") -> 0 | D9: =SUMIFS(Feuil1!C:C,Feuil1!$A:$A,$A9,Feuil1!C:C,"<>#N/A") -> 70.4 | E9: =SUMIFS(Feuil1!D:D,Feuil1!$A:$A,$A9,Feuil1!D:D,"<>#N/A") -> 34.1664 | F9: =SUMIFS(Feuil1!E:E,Feuil1!$A:$A,$A9,Feuil1!E:E,"<>#N/A") -> 2.64 | G9: =SUMIFS(Feuil1!F:F,Feuil1!$A:$A,$A9,Feuil1!F:F,"<>#N/A") -> 0.2360068 | H9: =SUMIFS(Feuil1!G:G,Feuil1!$A:$A,$A9,Feuil1!G:G,"<>#N/A") -> 2562.48 | I9: =SUMIFS(Feuil1!H:H,Feuil1!$A:$A,$A9,Feuil1!H:H,"<>#N/A") -> 2867.25
A10: =IF(A9<>"",IF(A9+1<=MAX(Feuil1!A:A),A9+1,""),"") -> 9 | B10: =IF(Tableau1[[#This Row],[Numero de lot ]]<>"",COUNTIFS(Feuil1!A:A,A10,Feuil1!B:B,"<>0"),"") -> 2 | C10: =IF(Tableau1[[#This Row],[Numero de lot ]]<>"",COUNTIFS(Feuil1!A:A,A10,Feuil1!B:B,"#N/A"),"") -> 1 | D10: =SUMIFS(Feuil1!C:C,Feuil1!$A:$A,$A10,Feuil1!C:C,"<>#N/A") -> 64.5 | E10: =SUMIFS(Feuil1!D:D,Feuil1!$A:$A,$A10,Feuil1!D:D,"<>#N/A") -> 20.9376 | F10: =SUMIFS(Feuil1!E:E,Feuil1!$A:$A,$A10,Feuil1!E:E,"<>#N/A") -> 4.77 | G10: =SUMIFS(Feuil1!F:F,Feuil1!$A:$A,$A10,Feuil1!F:F,"<>#N/A") -> 0.26948647 | H10: =SUMIFS(Feuil1!G:G,Feuil1!$A:$A,$A10,Feuil1!G:G,"<>#N/A") -> 1570.32 | I10: =SUMIFS(Feuil1!H:H,Feuil1!$A:$A,$A10,Feuil1!H:H,"<>#N/A") -> 2809.5
A11: =IF(A10<>"",IF(A10+1<=MAX(Feuil1!A:A),A10+1,""),"") -> 10 | B11: =IF(Tableau1[[#This Row],[Numero de lot ]]<>"",COUNTIFS(Feuil1!A:A,A11,Feuil1!B:B,"<>0"),"") -> 1 | C11: =IF(Tableau1[[#This Row],[Numero de lot ]]<>"",COUNTIFS(Feuil1!A:A,A11,Feuil1!B:B,"#N/A"),"") -> 0 | D11: =SUMIFS(Feuil1!C:C,Feuil1!$A:$A,$A11,Feuil1!C:C,"<>#N/A") -> 49.5 | E11: =SUMIFS(Feuil1!D:D,Feuil1!$A:$A,$A11,Feuil1!D:D,"<>#N/A") -> 9.2448 | F11: =SUMIFS(Feuil1!E:E,Feuil1!$A:$A,$A11,Feuil1!E:E,"<>#N/A") -> -1.12 | G11: =SUMIFS(Feuil1!F:F,Feuil1!$A:$A,$A11,Feuil1!F:F,"<>#N/A") -> -0.07948252 | H11: =SUMIFS(Feuil1!G:G,Feuil1!$A:$A,$A11,Feuil1!G:G,"<>#N/A") -> 693.36 | I11: =SUMIFS(Feuil1!H:H,Feuil1!$A:$A,$A11,Feuil1!H:H,"<>#N/A") -> 638.25
A12: =IF(A11<>"",IF(A11+1<=MAX(Feuil1!A:A),A11+1,""),"") | B12: =IF(Tableau1[[#This Row],[Numero de lot ]]<>"",COUNTIFS(Feuil1!A:A,A12,Feuil1!B:B,"<>0"),"") | C12: =IF(Tableau1[[#This Row],[Numero de lot ]]<>"",COUNTIFS(Feuil1!A:A,A12,Feuil1!B:B,"#N/A"),"") | D12: =SUMIFS(Feuil1!C:C,Feuil1!$A:$A,$A12,Feuil1!C:C,"<>#N/A") -> 0 | E12: =SUMIFS(Feuil1!D:D,Feuil1!$A:$A,$A12,Feuil1!D:D,"<>#N/A") -> 0 | F12: =SUMIFS(Feuil1!E:E,Feuil1!$A:$A,$A12,Feuil1!E:E,"<>#N/A") -> 0 | G12: =SUMIFS(Feuil1!F:F,Feuil1!$A:$A,$A12,Feuil1!F:F,"<>#N/A") -> 0 | H12: =SUMIFS(Feuil1!G:G,Feuil1!$A:$A,$A12,Feuil1!G:G,"<>#N/A") -> 0 | I12: =SUMIFS(Feuil1!H:H,Feuil1!$A:$A,$A12,Feuil1!H:H,"<>#N/A") -> 0
A13: =IF(A12<>"",IF(A12+1<=MAX(Feuil1!A:A),A12+1,""),"") | B13: =IF(Tableau1[[#This Row],[Numero de lot ]]<>"",COUNTIFS(Feuil1!A:A,A13,Feuil1!B:B,"<>0"),"") | C13: =IF(Tableau1[[#This Row],[Numero de lot ]]<>"",COUNTIFS(Feuil1!A:A,A13,Feuil1!B:B,"#N/A"),"") | D13: =SUMIFS(Feuil1!C:C,Feuil1!$A:$A,$A13,Feuil1!C:C,"<>#N/A") -> 0 | E13: =SUMIFS(Feuil1!D:D,Feuil1!$A:$A,$A13,Feuil1!D:D,"<>#N/A") -> 0 | F13: =SUMIFS(Feuil1!E:E,Feuil1!$A:$A,$A13,Feuil1!E:E,"<>#N/A") -> 0 | G13: =SUMIFS(Feuil1!F:F,Feuil1!$A:$A,$A13,Feuil1!F:F,"<>#N/A") -> 0 | H13: =SUMIFS(Feuil1!G:G,Feuil1!$A:$A,$A13,Feuil1!G:G,"<>#N/A") -> 0 | I13: =SUMIFS(Feuil1!H:H,Feuil1!$A:$A,$A13,Feuil1!H:H,"<>#N/A") -> 0
A14: =IF(A13<>"",IF(A13+1<=MAX(Feuil1!A:A),A13+1,""),"") | B14: =IF(Tableau1[[#This Row],[Numero de lot ]]<>"",COUNTIFS(Feuil1!A:A,A14,Feuil1!B:B,"<>0"),"") | C14: =IF(Tableau1[[#This Row],[Numero de lot ]]<>"",COUNTIFS(Feuil1!A:A,A14,Feuil1!B:B,"#N/A"),"") | D14: =SUMIFS(Feuil1!C:C,Feuil1!$A:$A,$A14,Feuil1!C:C,"<>#N/A") -> 0 | E14: =SUMIFS(Feuil1!D:D,Feuil1!$A:$A,$A14,Feuil1!D:D,"<>#N/A") -> 0 | F14: =SUMIFS(Feuil1!E:E,Feuil1!$A:$A,$A14,Feuil1!E:E,"<>#N/A") -> 0 | G14: =SUMIFS(Feuil1!F:F,Feuil1!$A:$A,$A14,Feuil1!F:F,"<>#N/A") -> 0 | H14: =SUMIFS(Feuil1!G:G,Feuil1!$A:$A,$A14,Feuil1!G:G,"<>#N/A") -> 0 | I14: =SUMIFS(Feuil1!H:H,Feuil1!$A:$A,$A14,Feuil1!H:H,"<>#N/A") -> 0
... A64: =IF(A63<>"",IF(A63+1<=MAX(Feuil1!A:A),A63+1,""),"") | B64: =IF(Tableau1[[#This Row],[Numero de lot ]]<>"",COUNTIFS(Feuil1!A:A,A64,Feuil1!B:B,"<>0"),"") | C64: =IF(Tableau1[[#This Row],[Numero de lot ]]<>"",COUNTIFS(Feuil1!A:A,A64,Feuil1!B:B,"#N/A"),"") | D64: =SUMIFS(Feuil1!C:C,Feuil1!$A:$A,$A64,Feuil1!C:C,"<>#N/A") -> 0 | E64: =SUMIFS(Feuil1!D:D,Feuil1!$A:$A,$A64,Feuil1!D:D,"<>#N/A") -> 0 | F64: =SUMIFS(Feuil1!E:E,Feuil1!$A:$A,$A64,Feuil1!E:E,"<>#N/A") -> 0 | G64: =SUMIFS(Feuil1!F:F,Feuil1!$A:$A,$A64,Feuil1!F:F,"<>#N/A") -> 0 | H64: =SUMIFS(Feuil1!G:G,Feuil1!$A:$A,$A64,Feuil1!G:G,"<>#N/A") -> 0 | I64: =SUMIFS(Feuil1!H:H,Feuil1!$A:$A,$A64,Feuil1!H:H,"<>#N/A") -> 0
