Workbook
Name Année: 'Calendrier résa'!$B$2
Name DateResaDeb: OFFSET(Réservations!$J$3,1,,COUNTA(Réservations!$J:$J)-2)
Name DateResaFin: OFFSET(Réservations!$K$3,1,,COUNTA(Réservations!$K:$K)-1)
Name datesdeb: Réservations!$J$4:$J$1048576
Name DATESDEBUT: Réservations!$J$4:$J$1048576
Name DATESFIN: Réservations!$K$4:$K$1048576
Name DébutJan: WEEKDAY(DATE(Année,1,1),2)
Name ResaRglt: OFFSET(Réservations!$N$3,1,,COUNTA(Réservations!$J:$J)-2)

Sheet Calendrier résa
A1: 2019
B3: =DATE($A$1,1,1) -> 43466 | K3: =DATE($A$1,MONTH(B3)+1,1) -> 43497 | T3: =DATE($A$1,MONTH(K3)+1,1) -> 43525 | AC3: =DATE($A$1,MONTH(T3)+1,1) -> 43556
B4: lu | C4: ma | D4: me | E4: je | F4: ve | G4: sa | H4: di | K4: lu | L4: ma | M4: me | N4: je | O4: ve | P4: sa | Q4: di | T4: lu | U4: ma | V4: me | W4: je | X4: ve | Y4: sa | Z4: di | AC4: lu | AD4: ma | AE4: me | AF4: je | AG4: ve | AH4: sa | AI4: di | AL4: Formules utilisées
A5: =_xlfn.ISOWEEKNUM(B3) -> 1 | B5: =IF(WEEKDAY($B$3,2)=(COLUMN()-1),$B$3,"") | C5: =IF(B5<>"",B5+1,IF(WEEKDAY($B$3,2)=(COLUMN()-1),$B$3,"")) -> 43466 | D5: =IF(C5<>"",C5+1,IF(WEEKDAY($B$3,2)=(COLUMN()-1),$B$3,"")) -> 43467 | E5: =IF(D5<>"",D5+1,IF(WEEKDAY($B$3,2)=(COLUMN()-1),$B$3,"")) -> 43468 | F5: =IF(E5<>"",E5+1,IF(WEEKDAY($B$3,2)=(COLUMN()-1),$B$3,"")) -> 43469 | G5: =IF(F5<>"",F5+1,IF(WEEKDAY($B$3,2)=(COLUMN()-1),$B$3,"")) -> 43470 | H5: =IF(G5<>"",G5+1,IF(WEEKDAY($B$3,2)=(COLUMN()-1),$B$3,"")) -> 43471 | J5: =_xlfn.ISOWEEKNUM(K3) -> 5 | K5: =IF(WEEKDAY($K$3,2)=(COLUMN()-10),$K$3,"") | L5: =IF(K5<>"",K5+1,IF(WEEKDAY($K$3,2)=(COLUMN()-10),$K$3,"")) | M5: =IF(L5<>"",L5+1,IF(WEEKDAY($K$3,2)=(COLUMN()-10),$K$3,"")) | N5: =IF(M5<>"",M5+1,IF(WEEKDAY($K$3,2)=(COLUMN()-10),$K$3,"")) | O5: =IF(N5<>"",N5+1,IF(WEEKDAY($K$3,2)=(COLUMN()-10),$K$3,"")) -> 43497 | P5: =IF(O5<>"",O5+1,IF(WEEKDAY($K$3,2)=(COLUMN()-10),$K$3,"")) -> 43498 | Q5: =IF(P5<>"",P5+1,IF(WEEKDAY($K$3,2)=(COLUMN()-10),$K$3,"")) -> 43499 | S5: =_xlfn.ISOWEEKNUM(T3) -> 9 | T5: =IF(WEEKDAY($T$3,2)=(COLUMN()-19),$T$3,"") | U5: =IF(T5<>"",T5+1,IF(WEEKDAY($T$3,2)=(COLUMN()-19),$T$3,"")) | V5: =IF(U5<>"",U5+1,IF(WEEKDAY($T$3,2)=(COLUMN()-19),$T$3,"")) | W5: =IF(V5<>"",V5+1,IF(WEEKDAY($T$3,2)=(COLUMN()-19),$T$3,"")) | X5: =IF(W5<>"",W5+1,IF(WEEKDAY($T$3,2)=(COLUMN()-19),$T$3,"")) -> 43525 | Y5: =IF(X5<>"",X5+1,IF(WEEKDAY($T$3,2)=(COLUMN()-19),$T$3,"")) -> 43526 | Z5: =IF(Y5<>"",Y5+1,IF(WEEKDAY($T$3,2)=(COLUMN()-19),$T$3,"")) -> 43527 | AB5: =_xlfn.ISOWEEKNUM(AC3) -> 14 | AC5: =IF(WEEKDAY($AC$3,2)=(COLUMN()-28),$AC$3,"") -> 43556 | AD5: =IF(AC5<>"",AC5+1,IF(WEEKDAY($AC$3,2)=(COLUMN()-28),$AC$3,"")) -> 43557 | AE5: =IF(AD5<>"",AD5+1,IF(WEEKDAY($AC$3,2)=(COLUMN()-28),$AC$3,"")) -> 43558 | AF5: =IF(AE5<>"",AE5+1,IF(WEEKDAY($AC$3,2)=(COLUMN()-28),$AC$3,"")) -> 43559 | AG5: =IF(AF5<>"",AF5+1,IF(WEEKDAY($AC$3,2)=(COLUMN()-28),$AC$3,"")) -> 43560 | AH5: =IF(AG5<>"",AG5+1,IF(WEEKDAY($AC$3,2)=(COLUMN()-28),$AC$3,"")) -> 43561 | AI5: =IF(AH5<>"",AH5+1,IF(WEEKDAY($AC$3,2)=(COLUMN()-28),$AC$3,"")) -> 43562 | AL5: =IF(B5<>"",SUMPRODUCT((B5>=DateResaDeb)*(B5<=DateResaFin)*1),0) -> 0 | AM5: =IF(B5<>"",SUMPRODUCT((B5>=DateResaDeb)*(B5<=DateResaFin)*(ResaRglt="En cours")),0) -> 0
A6: =IF(B6<>"",_xlfn.ISOWEEKNUM(B6),"") -> 2 | B6: =H5+1 -> 43472 | C6: =B6+1 -> 43473 | D6: =C6+1 -> 43474 | E6: =D6+1 -> 43475 | F6: =E6+1 -> 43476 | G6: =F6+1 -> 43477 | H6: =G6+1 -> 43478 | J6: =IF(K6<>"",_xlfn.ISOWEEKNUM(K6),"") -> 6 | K6: =Q5+1 -> 43500 | L6: =K6+1 -> 43501 | M6: =L6+1 -> 43502 | N6: =M6+1 -> 43503 | O6: =N6+1 -> 43504 | P6: =O6+1 -> 43505 | Q6: =P6+1 -> 43506 | S6: =IF(T6<>"",_xlfn.ISOWEEKNUM(T6),"") -> 10 | T6: =Z5+1 -> 43528 | U6: =T6+1 -> 43529 | V6: =U6+1 -> 43530 | W6: =V6+1 -> 43531 | X6: =W6+1 -> 43532 | Y6: =X6+1 -> 43533 | Z6: =Y6+1 -> 43534 | AB6: =IF(AC6<>"",_xlfn.ISOWEEKNUM(AC6),"") -> 15 | AC6: =AI5+1 -> 43563 | AD6: =AC6+1 -> 43564 | AE6: =AD6+1 -> 43565 | AF6: =AE6+1 -> 43566 | AG6: =AF6+1 -> 43567 | AH6: =AG6+1 -> 43568 | AI6: =AH6+1 -> 43569
A7: =IF(B7<>"",_xlfn.ISOWEEKNUM(B7),"") -> 3 | B7: =H6+1 -> 43479 | C7: =B7+1 -> 43480 | D7: =C7+1 -> 43481 | E7: =D7+1 -> 43482 | F7: =E7+1 -> 43483 | G7: =F7+1 -> 43484 | H7: =G7+1 -> 43485 | J7: =IF(K7<>"",_xlfn.ISOWEEKNUM(K7),"") -> 7 | K7: =Q6+1 -> 43507 | L7: =K7+1 -> 43508 | M7: =L7+1 -> 43509 | N7: =M7+1 -> 43510 | O7: =N7+1 -> 43511 | P7: =O7+1 -> 43512 | Q7: =P7+1 -> 43513 | S7: =IF(T7<>"",_xlfn.ISOWEEKNUM(T7),"") -> 11 | T7: =Z6+1 -> 43535 | U7: =T7+1 -> 43536 | V7: =U7+1 -> 43537 | W7: =V7+1 -> 43538 | X7: =W7+1 -> 43539 | Y7: =X7+1 -> 43540 | Z7: =Y7+1 -> 43541 | AB7: =IF(AC7<>"",_xlfn.ISOWEEKNUM(AC7),"") -> 16 | AC7: =AI6+1 -> 43570 | AD7: =AC7+1 -> 43571 | AE7: =AD7+1 -> 43572 | AF7: =AE7+1 -> 43573 | AG7: =AF7+1 -> 43574 | AH7: =AG7+1 -> 43575 | AI7: =AH7+1 -> 43576
A8: =IF(B8<>"",_xlfn.ISOWEEKNUM(B8),"") -> 4 | B8: =H7+1 -> 43486 | C8: =B8+1 -> 43487 | D8: =C8+1 -> 43488 | E8: =D8+1 -> 43489 | F8: =E8+1 -> 43490 | G8: =F8+1 -> 43491 | H8: =G8+1 -> 43492 | J8: =IF(K8<>"",_xlfn.ISOWEEKNUM(K8),"") -> 8 | K8: =Q7+1 -> 43514 | L8: =K8+1 -> 43515 | M8: =L8+1 -> 43516 | N8: =M8+1 -> 43517 | O8: =N8+1 -> 43518 | P8: =O8+1 -> 43519 | Q8: =P8+1 -> 43520 | S8: =IF(T8<>"",_xlfn.ISOWEEKNUM(T8),"") -> 12 | T8: =Z7+1 -> 43542 | U8: =T8+1 -> 43543 | V8: =U8+1 -> 43544 | W8: =V8+1 -> 43545 | X8: =W8+1 -> 43546 | Y8: =X8+1 -> 43547 | Z8: =Y8+1 -> 43548 | AB8: =IF(AC8<>"",_xlfn.ISOWEEKNUM(AC8),"") -> 17 | AC8: =AI7+1 -> 43577 | AD8: =AC8+1 -> 43578 | AE8: =AD8+1 -> 43579 | AF8: =AE8+1 -> 43580 | AG8: =AF8+1 -> 43581 | AH8: =AG8+1 -> 43582 | AI8: =AH8+1 -> 43583
A9: =IF(B9<>"",_xlfn.ISOWEEKNUM(B9),"") -> 5 | B9: =IF(H8<>"",IF(H8+1<=EOMONTH($B$3,0),H8+1,""),"") -> 43493 | C9: =IF(B9<>"",IF(B9+1<=EOMONTH($B$3,0),B9+1,""),"") -> 43494 | D9: =IF(C9<>"",IF(C9+1<=EOMONTH($B$3,0),C9+1,""),"") -> 43495 | E9: =IF(D9<>"",IF(D9+1<=EOMONTH($B$3,0),D9+1,""),"") -> 43496 | F9: =IF(E9<>"",IF(E9+1<=EOMONTH($B$3,0),E9+1,""),"") | G9: =IF(F9<>"",IF(F9+1<=EOMONTH($B$3,0),F9+1,""),"") | H9: =IF(G9<>"",IF(G9+1<=EOMONTH($B$3,0),G9+1,""),"") | J9: =IF(K9<>"",_xlfn.ISOWEEKNUM(K9),"") -> 9 | K9: =IF(Q8<>"",IF(Q8+1<=EOMONTH($K$3,0),Q8+1,""),"") -> 43521 | L9: =IF(K9<>"",IF(K9+1<=EOMONTH($K$3,0),K9+1,""),"") -> 43522 | M9: =IF(L9<>"",IF(L9+1<=EOMONTH($K$3,0),L9+1,""),"") -> 43523 | N9: =IF(M9<>"",IF(M9+1<=EOMONTH($K$3,0),M9+1,""),"") -> 43524 | O9: =IF(N9<>"",IF(N9+1<=EOMONTH($K$3,0),N9+1,""),"") | P9: =IF(O9<>"",IF(O9+1<=EOMONTH($K$3,0),O9+1,""),"") | Q9: =IF(P9<>"",IF(P9+1<=EOMONTH($K$3,0),P9+1,""),"") | S9: =IF(T9<>"",_xlfn.ISOWEEKNUM(T9),"") -> 13 | T9: =IF(Z8<>"",IF(Z8+1<=EOMONTH($T$3,0),Z8+1,""),"") -> 43549 | U9: =IF(T9<>"",IF(T9+1<=EOMONTH($T$3,0),T9+1,""),"") -> 43550 | V9: =IF(U9<>"",IF(U9+1<=EOMONTH($T$3,0),U9+1,""),"") -> 43551 | W9: =IF(V9<>"",IF(V9+1<=EOMONTH($T$3,0),V9+1,""),"") -> 43552 | X9: =IF(W9<>"",IF(W9+1<=EOMONTH($T$3,0),W9+1,""),"") -> 43553 | Y9: =IF(X9<>"",IF(X9+1<=EOMONTH($T$3,0),X9+1,""),"") -> 43554 | Z9: =IF(Y9<>"",IF(Y9+1<=EOMONTH($T$3,0),Y9+1,""),"") -> 43555 | AB9: =IF(AC9<>"",_xlfn.ISOWEEKNUM(AC9),"") -> 18 | AC9: =IF(AI8<>"",IF(AI8+1<=EOMONTH($AC$3,0),AI8+1,""),"") -> 43584 | AD9: =IF(AC9<>"",IF(AC9+1<=EOMONTH($AC$3,0),AC9+1,""),"") -> 43585 | AE9: =IF(AD9<>"",IF(AD9+1<=EOMONTH($AC$3,0),AD9+1,""),"") | AF9: =IF(AE9<>"",IF(AE9+1<=EOMONTH($AC$3,0),AE9+1,""),"") | AG9: =IF(AF9<>"",IF(AF9+1<=EOMONTH($AC$3,0),AF9+1,""),"") | AH9: =IF(AG9<>"",IF(AG9+1<=EOMONTH($AC$3,0),AG9+1,""),"") | AI9: =IF(AH9<>"",IF(AH9+1<=EOMONTH($AC$3,0),AH9+1,""),"")
A10: =IF(B10<>"",_xlfn.ISOWEEKNUM(B10),"") | B10: =IF(H9<>"",IF(H9+1<=EOMONTH($B$3,0),H9+1,""),"") | C10: =IF(B10<>"",IF(B10+1<=EOMONTH($B$3,0),B10+1,""),"") | D10: =IF(C10<>"",IF(C10+1<=EOMONTH($B$3,0),C10+1,""),"") | E10: =IF(D10<>"",IF(D10+1<=EOMONTH($B$3,0),D10+1,""),"") | F10: =IF(E10<>"",IF(E10+1<=EOMONTH($B$3,0),E10+1,""),"") | G10: =IF(F10<>"",IF(F10+1<=EOMONTH($B$3,0),F10+1,""),"") | H10: =IF(G10<>"",IF(G10+1<=EOMONTH($B$3,0),G10+1,""),"") | J10: =IF(K10<>"",_xlfn.ISOWEEKNUM(K10),"") | K10: =IF(Q9<>"",IF(Q9+1<=EOMONTH($K$3,0),Q9+1,""),"") | L10: =IF(K10<>"",IF(K10+1<=EOMONTH($K$3,0),K10+1,""),"") | M10: =IF(L10<>"",IF(L10+1<=EOMONTH($K$3,0),L10+1,""),"") | N10: =IF(M10<>"",IF(M10+1<=EOMONTH($K$3,0),M10+1,""),"") | O10: =IF(N10<>"",IF(N10+1<=EOMONTH($K$3,0),N10+1,""),"") | P10: =IF(O10<>"",IF(O10+1<=EOMONTH($K$3,0),O10+1,""),"") | Q10: =IF(P10<>"",IF(P10+1<=EOMONTH($K$3,0),P10+1,""),"") | S10: =IF(T10<>"",_xlfn.ISOWEEKNUM(T10),"") | T10: =IF(Z9<>"",IF(Z9+1<=EOMONTH($T$3,0),Z9+1,""),"") | U10: =IF(T10<>"",IF(T10+1<=EOMONTH($T$3,0),T10+1,""),"") | V10: =IF(U10<>"",IF(U10+1<=EOMONTH($T$3,0),U10+1,""),"") | W10: =IF(V10<>"",IF(V10+1<=EOMONTH($T$3,0),V10+1,""),"") | X10: =IF(W10<>"",IF(W10+1<=EOMONTH($T$3,0),W10+1,""),"") | Y10: =IF(X10<>"",IF(X10+1<=EOMONTH($T$3,0),X10+1,""),"") | Z10: =IF(Y10<>"",IF(Y10+1<=EOMONTH($T$3,0),Y10+1,""),"") | AB10: =IF(AC10<>"",_xlfn.ISOWEEKNUM(AC10),"") | AC10: =IF(AI9<>"",IF(AI9+1<=EOMONTH($AC$3,0),AI9+1,""),"") | AD10: =IF(AC10<>"",IF(AC10+1<=EOMONTH($AC$3,0),AC10+1,""),"") | AE10: =IF(AD10<>"",IF(AD10+1<=EOMONTH($AC$3,0),AD10+1,""),"") | AF10: =IF(AE10<>"",IF(AE10+1<=EOMONTH($AC$3,0),AE10+1,""),"") | AG10: =IF(AF10<>"",IF(AF10+1<=EOMONTH($AC$3,0),AF10+1,""),"") | AH10: =IF(AG10<>"",IF(AG10+1<=EOMONTH($AC$3,0),AG10+1,""),"") | AI10: =IF(AH10<>"",IF(AH10+1<=EOMONTH($AC$3,0),AH10+1,""),"")
B12: =DATE($A$1,MONTH(AC3)+1,1) -> 43586 | K12: =DATE($A$1,MONTH(B12)+1,1) -> 43617 | T12: =DATE($A$1,MONTH(K12)+1,1) -> 43647 | AC12: =DATE($A$1,MONTH(T12)+1,1) -> 43678
B13: lu | C13: ma | D13: me | E13: je | F13: ve | G13: sa | H13: di | K13: lu | L13: ma | M13: me | N13: je | O13: ve | P13: sa | Q13: di | T13: lu | U13: ma | V13: me | W13: je | X13: ve | Y13: sa | Z13: di | AC13: lu | AD13: ma | AE13: me | AF13: je | AG13: ve | AH13: sa | AI13: di
A14: =_xlfn.ISOWEEKNUM(B12) -> 18 | B14: =IF(WEEKDAY($B$12,2)=(COLUMN()-1),$B$12,"") | C14: =IF(B14<>"",B14+1,IF(WEEKDAY($B$12,2)=(COLUMN()-1),$B$12,"")) | D14: =IF(C14<>"",C14+1,IF(WEEKDAY($B$12,2)=(COLUMN()-1),$B$12,"")) -> 43586 | E14: =IF(D14<>"",D14+1,IF(WEEKDAY($B$12,2)=(COLUMN()-1),$B$12,"")) -> 43587 | F14: =IF(E14<>"",E14+1,IF(WEEKDAY($B$12,2)=(COLUMN()-1),$B$12,"")) -> 43588 | G14: =IF(F14<>"",F14+1,IF(WEEKDAY($B$12,2)=(COLUMN()-1),$B$12,"")) -> 43589 | H14: =IF(G14<>"",G14+1,IF(WEEKDAY($B$12,2)=(COLUMN()-1),$B$12,"")) -> 43590 | J14: =_xlfn.ISOWEEKNUM(K12) -> 22 | K14: =IF(WEEKDAY($K$12,2)=(COLUMN()-10),$K$12,"") | L14: =IF(K14<>"",K14+1,IF(WEEKDAY($K$12,2)=(COLUMN()-10),$K$12,"")) | M14: =IF(L14<>"",L14+1,IF(WEEKDAY($K$12,2)=(COLUMN()-10),$K$12,"")) | N14: =IF(M14<>"",M14+1,IF(WEEKDAY($K$12,2)=(COLUMN()-10),$K$12,"")) | O14: =IF(N14<>"",N14+1,IF(WEEKDAY($K$12,2)=(COLUMN()-10),$K$12,"")) | P14: =IF(O14<>"",O14+1,IF(WEEKDAY($K$12,2)=(COLUMN()-10),$K$12,"")) -> 43617 | Q14: =IF(P14<>"",P14+1,IF(WEEKDAY($K$12,2)=(COLUMN()-10),$K$12,"")) -> 43618 | S14: =_xlfn.ISOWEEKNUM(T12) -> 27 | T14: =IF(WEEKDAY($T$12,2)=(COLUMN()-19),$T$12,"") -> 43647 | U14: =IF(T14<>"",T14+1,IF(WEEKDAY($T$12,2)=(COLUMN()-19),$T$12,"")) -> 43648 | V14: =IF(U14<>"",U14+1,IF(WEEKDAY($T$12,2)=(COLUMN()-19),$T$12,"")) -> 43649 | W14: =IF(V14<>"",V14+1,IF(WEEKDAY($T$12,2)=(COLUMN()-19),$T$12,"")) -> 43650 | X14: =IF(W14<>"",W14+1,IF(WEEKDAY($T$12,2)=(COLUMN()-19),$T$12,"")) -> 43651 | Y14: =IF(X14<>"",X14+1,IF(WEEKDAY($T$12,2)=(COLUMN()-19),$T$12,"")) -> 43652 | Z14: =IF(Y14<>"",Y14+1,IF(WEEKDAY($T$12,2)=(COLUMN()-19),$T$12,"")) -> 43653 | AB14: =_xlfn.ISOWEEKNUM(AC12) -> 31 | AC14: =IF(WEEKDAY($AC$12,2)=(COLUMN()-28),$AC$12,"") | AD14: =IF(AC14<>"",AC14+1,IF(WEEKDAY($AC$12,2)=(COLUMN()-28),$AC$12,"")) | AE14: =IF(AD14<>"",AD14+1,IF(WEEKDAY($AC$12,2)=(COLUMN()-28),$AC$12,"")) | AF14: =IF(AE14<>"",AE14+1,IF(WEEKDAY($AC$12,2)=(COLUMN()-28),$AC$12,"")) -> 43678 | AG14: =IF(AF14<>"",AF14+1,IF(WEEKDAY($AC$12,2)=(COLUMN()-28),$AC$12,"")) -> 43679 | AH14: =IF(AG14<>"",AG14+1,IF(WEEKDAY($AC$12,2)=(COLUMN()-28),$AC$12,"")) -> 43680 | AI14: =IF(AH14<>"",AH14+1,IF(WEEKDAY($AC$12,2)=(COLUMN()-28),$AC$12,"")) -> 43681
A15: =IF(B15<>"",_xlfn.ISOWEEKNUM(B15),"") -> 19 | B15: =H14+1 -> 43591 | C15: =B15+1 -> 43592 | D15: =C15+1 -> 43593 | E15: =D15+1 -> 43594 | F15: =E15+1 -> 43595 | G15: =F15+1 -> 43596 | H15: =G15+1 -> 43597 | J15: =IF(K15<>"",_xlfn.ISOWEEKNUM(K15),"") -> 23 | K15: =Q14+1 -> 43619 | L15: =K15+1 -> 43620 | M15: =L15+1 -> 43621 | N15: =M15+1 -> 43622 | O15: =N15+1 -> 43623 | P15: =O15+1 -> 43624 | Q15: =P15+1 -> 43625 | S15: =IF(T15<>"",_xlfn.ISOWEEKNUM(T15),"") -> 28 | T15: =Z14+1 -> 43654 | U15: =T15+1 -> 43655 | V15: =U15+1 -> 43656 | W15: =V15+1 -> 43657 | X15: =W15+1 -> 43658 | Y15: =X15+1 -> 43659 | Z15: =Y15+1 -> 43660 | AB15: =IF(AC15<>"",_xlfn.ISOWEEKNUM(AC15),"") -> 32 | AC15: =AI14+1 -> 43682 | AD15: =AC15+1 -> 43683 | AE15: =AD15+1 -> 43684 | AF15: =AE15+1 -> 43685 | AG15: =AF15+1 -> 43686 | AH15: =AG15+1 -> 43687 | AI15: =AH15+1 -> 43688
A16: =IF(B16<>"",_xlfn.ISOWEEKNUM(B16),"") -> 20 | B16: =H15+1 -> 43598 | C16: =B16+1 -> 43599 | D16: =C16+1 -> 43600 | E16: =D16+1 -> 43601 | F16: =E16+1 -> 43602 | G16: =F16+1 -> 43603 | H16: =G16+1 -> 43604 | J16: =IF(K16<>"",_xlfn.ISOWEEKNUM(K16),"") -> 24 | K16: =Q15+1 -> 43626 | L16: =K16+1 -> 43627 | M16: =L16+1 -> 43628 | N16: =M16+1 -> 43629 | O16: =N16+1 -> 43630 | P16: =O16+1 -> 43631 | Q16: =P16+1 -> 43632 | S16: =IF(T16<>"",_xlfn.ISOWEEKNUM(T16),"") -> 29 | T16: =Z15+1 -> 43661 | U16: =T16+1 -> 43662 | V16: =U16+1 -> 43663 | W16: =V16+1 -> 43664 | X16: =W16+1 -> 43665 | Y16: =X16+1 -> 43666 | Z16: =Y16+1 -> 43667 | AB16: =IF(AC16<>"",_xlfn.ISOWEEKNUM(AC16),"") -> 33 | AC16: =AI15+1 -> 43689 | AD16: =AC16+1 -> 43690 | AE16: =AD16+1 -> 43691 | AF16: =AE16+1 -> 43692 | AG16: =AF16+1 -> 43693 | AH16: =AG16+1 -> 43694 | AI16: =AH16+1 -> 43695
A17: =IF(B17<>"",_xlfn.ISOWEEKNUM(B17),"") -> 21 | B17: =H16+1 -> 43605 | C17: =B17+1 -> 43606 | D17: =C17+1 -> 43607 | E17: =D17+1 -> 43608 | F17: =E17+1 -> 43609 | G17: =F17+1 -> 43610 | H17: =G17+1 -> 43611 | J17: =IF(K17<>"",_xlfn.ISOWEEKNUM(K17),"") -> 25 | K17: =Q16+1 -> 43633 | L17: =K17+1 -> 43634 | M17: =L17+1 -> 43635 | N17: =M17+1 -> 43636 | O17: =N17+1 -> 43637 | P17: =O17+1 -> 43638 | Q17: =P17+1 -> 43639 | S17: =IF(T17<>"",_xlfn.ISOWEEKNUM(T17),"") -> 30 | T17: =Z16+1 -> 43668 | U17: =T17+1 -> 43669 | V17: =U17+1 -> 43670 | W17: =V17+1 -> 43671 | X17: =W17+1 -> 43672 | Y17: =X17+1 -> 43673 | Z17: =Y17+1 -> 43674 | AB17: =IF(AC17<>"",_xlfn.ISOWEEKNUM(AC17),"") -> 34 | AC17: =AI16+1 -> 43696 | AD17: =AC17+1 -> 43697 | AE17: =AD17+1 -> 43698 | AF17: =AE17+1 -> 43699 | AG17: =AF17+1 -> 43700 | AH17: =AG17+1 -> 43701 | AI17: =AH17+1 -> 43702
A18: =IF(B18<>"",_xlfn.ISOWEEKNUM(B18),"") -> 22 | B18: =IF(H17<>"",IF(H17+1<=EOMONTH($B$12,0),H17+1,""),"") -> 43612 | C18: =IF(B18<>"",IF(B18+1<=EOMONTH($B$12,0),B18+1,""),"") -> 43613 | D18: =IF(C18<>"",IF(C18+1<=EOMONTH($B$12,0),C18+1,""),"") -> 43614 | E18: =IF(D18<>"",IF(D18+1<=EOMONTH($B$12,0),D18+1,""),"") -> 43615 | F18: =IF(E18<>"",IF(E18+1<=EOMONTH($B$12,0),E18+1,""),"") -> 43616 | G18: =IF(F18<>"",IF(F18+1<=EOMONTH($B$12,0),F18+1,""),"") | H18: =IF(G18<>"",IF(G18+1<=EOMONTH($B$12,0),G18+1,""),"") | J18: =IF(K18<>"",_xlfn.ISOWEEKNUM(K18),"") -> 26 | K18: =IF(Q17<>"",IF(Q17+1<=EOMONTH($K$12,0),Q17+1,""),"") -> 43640 | L18: =IF(K18<>"",IF(K18+1<=EOMONTH($K$12,0),K18+1,""),"") -> 43641 | M18: =IF(L18<>"",IF(L18+1<=EOMONTH($K$12,0),L18+1,""),"") -> 43642 | N18: =IF(M18<>"",IF(M18+1<=EOMONTH($K$12,0),M18+1,""),"") -> 43643 | O18: =IF(N18<>"",IF(N18+1<=EOMONTH($K$12,0),N18+1,""),"") -> 43644 | P18: =IF(O18<>"",IF(O18+1<=EOMONTH($K$12,0),O18+1,""),"") -> 43645 | Q18: =IF(P18<>"",IF(P18+1<=EOMONTH($K$12,0),P18+1,""),"") -> 43646 | S18: =IF(T18<>"",_xlfn.ISOWEEKNUM(T18),"") -> 31 | T18: =IF(Z17<>"",IF(Z17+1<=EOMONTH($T$12,0),Z17+1,""),"") -> 43675 | U18: =IF(T18<>"",IF(T18+1<=EOMONTH($T$12,0),T18+1,""),"") -> 43676 | V18: =IF(U18<>"",IF(U18+1<=EOMONTH($T$12,0),U18+1,""),"") -> 43677 | W18: =IF(V18<>"",IF(V18+1<=EOMONTH($T$12,0),V18+1,""),"") | X18: =IF(W18<>"",IF(W18+1<=EOMONTH($T$12,0),W18+1,""),"") | Y18: =IF(X18<>"",IF(X18+1<=EOMONTH($T$12,0),X18+1,""),"") | Z18: =IF(Y18<>"",IF(Y18+1<=EOMONTH($T$12,0),Y18+1,""),"") | AB18: =IF(AC18<>"",_xlfn.ISOWEEKNUM(AC18),"") -> 35 | AC18: =IF(AI17<>"",IF(AI17+1<=EOMONTH($AC$12,0),AI17+1,""),"") -> 43703 | AD18: =IF(AC18<>"",IF(AC18+1<=EOMONTH($AC$12,0),AC18+1,""),"") -> 43704 | AE18: =IF(AD18<>"",IF(AD18+1<=EOMONTH($AC$12,0),AD18+1,""),"") -> 43705 | AF18: =IF(AE18<>"",IF(AE18+1<=EOMONTH($AC$12,0),AE18+1,""),"") -> 43706 | AG18: =IF(AF18<>"",IF(AF18+1<=EOMONTH($AC$12,0),AF18+1,""),"") -> 43707 | AH18: =IF(AG18<>"",IF(AG18+1<=EOMONTH($AC$12,0),AG18+1,""),"") -> 43708 | AI18: =IF(AH18<>"",IF(AH18+1<=EOMONTH($AC$12,0),AH18+1,""),"")
A19: =IF(B19<>"",_xlfn.ISOWEEKNUM(B19),"") | B19: =IF(H18<>"",IF(H18+1<=EOMONTH($B$12,0),H18+1,""),"") | C19: =IF(B19<>"",IF(B19+1<=EOMONTH($B$12,0),B19+1,""),"") | D19: =IF(C19<>"",IF(C19+1<=EOMONTH($B$12,0),C19+1,""),"") | E19: =IF(D19<>"",IF(D19+1<=EOMONTH($B$12,0),D19+1,""),"") | F19: =IF(E19<>"",IF(E19+1<=EOMONTH($B$12,0),E19+1,""),"") | G19: =IF(F19<>"",IF(F19+1<=EOMONTH($B$12,0),F19+1,""),"") | H19: =IF(G19<>"",IF(G19+1<=EOMONTH($B$12,0),G19+1,""),"") | J19: =IF(K19<>"",_xlfn.ISOWEEKNUM(K19),"") | K19: =IF(Q18<>"",IF(Q18+1<=EOMONTH($K$12,0),Q18+1,""),"") | L19: =IF(K19<>"",IF(K19+1<=EOMONTH($K$12,0),K19+1,""),"") | M19: =IF(L19<>"",IF(L19+1<=EOMONTH($K$12,0),L19+1,""),"") | N19: =IF(M19<>"",IF(M19+1<=EOMONTH($K$12,0),M19+1,""),"") | O19: =IF(N19<>"",IF(N19+1<=EOMONTH($K$12,0),N19+1,""),"") | P19: =IF(O19<>"",IF(O19+1<=EOMONTH($K$12,0),O19+1,""),"") | Q19: =IF(P19<>"",IF(P19+1<=EOMONTH($K$12,0),P19+1,""),"") | S19: =IF(T19<>"",_xlfn.ISOWEEKNUM(T19),"") | T19: =IF(Z18<>"",IF(Z18+1<=EOMONTH($T$12,0),Z18+1,""),"") | U19: =IF(T19<>"",IF(T19+1<=EOMONTH($T$12,0),T19+1,""),"") | V19: =IF(U19<>"",IF(U19+1<=EOMONTH($T$12,0),U19+1,""),"") | W19: =IF(V19<>"",IF(V19+1<=EOMONTH($T$12,0),V19+1,""),"") | X19: =IF(W19<>"",IF(W19+1<=EOMONTH($T$12,0),W19+1,""),"") | Y19: =IF(X19<>"",IF(X19+1<=EOMONTH($T$12,0),X19+1,""),"") | Z19: =IF(Y19<>"",IF(Y19+1<=EOMONTH($T$12,0),Y19+1,""),"") | AB19: =IF(AC19<>"",_xlfn.ISOWEEKNUM(AC19),"") | AC19: =IF(AI18<>"",IF(AI18+1<=EOMONTH($AC$12,0),AI18+1,""),"") | AD19: =IF(AC19<>"",IF(AC19+1<=EOMONTH($AC$12,0),AC19+1,""),"") | AE19: =IF(AD19<>"",IF(AD19+1<=EOMONTH($AC$12,0),AD19+1,""),"") | AF19: =IF(AE19<>"",IF(AE19+1<=EOMONTH($AC$12,0),AE19+1,""),"") | AG19: =IF(AF19<>"",IF(AF19+1<=EOMONTH($AC$12,0),AF19+1,""),"") | AH19: =IF(AG19<>"",IF(AG19+1<=EOMONTH($AC$12,0),AG19+1,""),"") | AI19: =IF(AH19<>"",IF(AH19+1<=EOMONTH($AC$12,0),AH19+1,""),"")
B21: =DATE($A$1,MONTH(AC12)+1,1) -> 43709 | K21: =DATE($A$1,MONTH(B21)+1,1) -> 43739 | T21: =DATE($A$1,MONTH(K21)+1,1) -> 43770 | AC21: =DATE($A$1,MONTH(T21)+1,1) -> 43800
B22: lu | C22: ma | D22: me | E22: je | F22: ve | G22: sa | H22: di | K22: lu | L22: ma | M22: me | N22: je | O22: ve | P22: sa | Q22: di | T22: lu | U22: ma | V22: me | W22: je | X22: ve | Y22: sa | Z22: di | AC22: lu | AD22: ma | AE22: me | AF22: je | AG22: ve | AH22: sa | AI22: di
A23: =_xlfn.ISOWEEKNUM(B21) -> 35 | B23: =IF(WEEKDAY($B$21,2)=(COLUMN()-1),$B$21,"") | C23: =IF(B23<>"",B23+1,IF(WEEKDAY($B$21,2)=(COLUMN()-1),$B$21,"")) | D23: =IF(C23<>"",C23+1,IF(WEEKDAY($B$21,2)=(COLUMN()-1),$B$21,"")) | E23: =IF(D23<>"",D23+1,IF(WEEKDAY($B$21,2)=(COLUMN()-1),$B$21,"")) | F23: =IF(E23<>"",E23+1,IF(WEEKDAY($B$21,2)=(COLUMN()-1),$B$21,"")) | G23: =IF(F23<>"",F23+1,IF(WEEKDAY($B$21,2)=(COLUMN()-1),$B$21,"")) | H23: =IF(G23<>"",G23+1,IF(WEEKDAY($B$21,2)=(COLUMN()-1),$B$21,"")) -> 43709 | J23: =_xlfn.ISOWEEKNUM(K21) -> 40 | K23: =IF(WEEKDAY($K$21,2)=(COLUMN()-10),$K$21,"") | L23: =IF(K23<>"",K23+1,IF(WEEKDAY($K$21,2)=(COLUMN()-10),$K$21,"")) -> 43739 | M23: =IF(L23<>"",L23+1,IF(WEEKDAY($K$21,2)=(COLUMN()-10),$K$21,"")) -> 43740 | N23: =IF(M23<>"",M23+1,IF(WEEKDAY($K$21,2)=(COLUMN()-10),$K$21,"")) -> 43741 | O23: =IF(N23<>"",N23+1,IF(WEEKDAY($K$21,2)=(COLUMN()-10),$K$21,"")) -> 43742 | P23: =IF(O23<>"",O23+1,IF(WEEKDAY($K$21,2)=(COLUMN()-10),$K$21,"")) -> 43743 | Q23: =IF(P23<>"",P23+1,IF(WEEKDAY($K$21,2)=(COLUMN()-10),$K$21,"")) -> 43744 | S23: =_xlfn.ISOWEEKNUM(T21) -> 44 | T23: =IF(WEEKDAY($T$21,2)=(COLUMN()-19),$T$21,"") | U23: =IF(T23<>"",T23+1,IF(WEEKDAY($T$21,2)=(COLUMN()-19),$T$21,"")) | V23: =IF(U23<>"",U23+1,IF(WEEKDAY($T$21,2)=(COLUMN()-19),$T$21,"")) | W23: =IF(V23<>"",V23+1,IF(WEEKDAY($T$21,2)=(COLUMN()-19),$T$21,"")) | X23: =IF(W23<>"",W23+1,IF(WEEKDAY($T$21,2)=(COLUMN()-19),$T$21,"")) -> 43770 | Y23: =IF(X23<>"",X23+1,IF(WEEKDAY($T$21,2)=(COLUMN()-19),$T$21,"")) -> 43771 | Z23: =IF(Y23<>"",Y23+1,IF(WEEKDAY($T$21,2)=(COLUMN()-19),$T$21,"")) -> 43772 | AB23: =_xlfn.ISOWEEKNUM(AC21) -> 48 | AC23: =IF(WEEKDAY($AC$21,2)=(COLUMN()-28),$AC$21,"") | AD23: =IF(AC23<>"",AC23+1,IF(WEEKDAY($AC$21,2)=(COLUMN()-28),$AC$21,"")) | AE23: =IF(AD23<>"",AD23+1,IF(WEEKDAY($AC$21,2)=(COLUMN()-28),$AC$21,"")) | AF23: =IF(AE23<>"",AE23+1,IF(WEEKDAY($AC$21,2)=(COLUMN()-28),$AC$21,"")) | AG23: =IF(AF23<>"",AF23+1,IF(WEEKDAY($AC$21,2)=(COLUMN()-28),$AC$21,"")) | AH23: =IF(AG23<>"",AG23+1,IF(WEEKDAY($AC$21,2)=(COLUMN()-28),$AC$21,"")) | AI23: =IF(AH23<>"",AH23+1,IF(WEEKDAY($AC$21,2)=(COLUMN()-28),$AC$21,"")) -> 43800
A24: =IF(B24<>"",_xlfn.ISOWEEKNUM(B24),"") -> 36 | B24: =H23+1 -> 43710 | C24: =B24+1 -> 43711 | D24: =C24+1 -> 43712 | E24: =D24+1 -> 43713 | F24: =E24+1 -> 43714 | G24: =F24+1 -> 43715 | H24: =G24+1 -> 43716 | J24: =IF(K24<>"",_xlfn.ISOWEEKNUM(K24),"") -> 41 | K24: =Q23+1 -> 43745 | L24: =K24+1 -> 43746 | M24: =L24+1 -> 43747 | N24: =M24+1 -> 43748 | O24: =N24+1 -> 43749 | P24: =O24+1 -> 43750 | Q24: =P24+1 -> 43751 | S24: =IF(T24<>"",_xlfn.ISOWEEKNUM(T24),"") -> 45 | T24: =Z23+1 -> 43773 | U24: =T24+1 -> 43774 | V24: =U24+1 -> 43775 | W24: =V24+1 -> 43776 | X24: =W24+1 -> 43777 | Y24: =X24+1 -> 43778 | Z24: =Y24+1 -> 43779 | AB24: =IF(AC24<>"",_xlfn.ISOWEEKNUM(AC24),"") -> 49 | AC24: =AI23+1 -> 43801 | AD24: =AC24+1 -> 43802 | AE24: =AD24+1 -> 43803 | AF24: =AE24+1 -> 43804 | AG24: =AF24+1 -> 43805 | AH24: =AG24+1 -> 43806 | AI24: =AH24+1 -> 43807
A25: =IF(B25<>"",_xlfn.ISOWEEKNUM(B25),"") -> 37 | B25: =H24+1 -> 43717 | C25: =B25+1 -> 43718 | D25: =C25+1 -> 43719 | E25: =D25+1 -> 43720 | F25: =E25+1 -> 43721 | G25: =F25+1 -> 43722 | H25: =G25+1 -> 43723 | J25: =IF(K25<>"",_xlfn.ISOWEEKNUM(K25),"") -> 42 | K25: =Q24+1 -> 43752 | L25: =K25+1 -> 43753 | M25: =L25+1 -> 43754 | N25: =M25+1 -> 43755 | O25: =N25+1 -> 43756 | P25: =O25+1 -> 43757 | Q25: =P25+1 -> 43758 | S25: =IF(T25<>"",_xlfn.ISOWEEKNUM(T25),"") -> 46 | T25: =Z24+1 -> 43780 | U25: =T25+1 -> 43781 | V25: =U25+1 -> 43782 | W25: =V25+1 -> 43783 | X25: =W25+1 -> 43784 | Y25: =X25+1 -> 43785 | Z25: =Y25+1 -> 43786 | AB25: =IF(AC25<>"",_xlfn.ISOWEEKNUM(AC25),"") -> 50 | AC25: =AI24+1 -> 43808 | AD25: =AC25+1 -> 43809 | AE25: =AD25+1 -> 43810 | AF25: =AE25+1 -> 43811 | AG25: =AF25+1 -> 43812 | AH25: =AG25+1 -> 43813 | AI25: =AH25+1 -> 43814
A26: =IF(B26<>"",_xlfn.ISOWEEKNUM(B26),"") -> 38 | B26: =H25+1 -> 43724 | C26: =B26+1 -> 43725 | D26: =C26+1 -> 43726 | E26: =D26+1 -> 43727 | F26: =E26+1 -> 43728 | G26: =F26+1 -> 43729 | H26: =G26+1 -> 43730 | J26: =IF(K26<>"",_xlfn.ISOWEEKNUM(K26),"") -> 43 | K26: =Q25+1 -> 43759 | L26: =K26+1 -> 43760 | M26: =L26+1 -> 43761 | N26: =M26+1 -> 43762 | O26: =N26+1 -> 43763 | P26: =O26+1 -> 43764 | Q26: =P26+1 -> 43765 | S26: =IF(T26<>"",_xlfn.ISOWEEKNUM(T26),"") -> 47 | T26: =Z25+1 -> 43787 | U26: =T26+1 -> 43788 | V26: =U26+1 -> 43789 | W26: =V26+1 -> 43790 | X26: =W26+1 -> 43791 | Y26: =X26+1 -> 43792 | Z26: =Y26+1 -> 43793 | AB26: =IF(AC26<>"",_xlfn.ISOWEEKNUM(AC26),"") -> 51 | AC26: =AI25+1 -> 43815 | AD26: =AC26+1 -> 43816 | AE26: =AD26+1 -> 43817 | AF26: =AE26+1 -> 43818 | AG26: =AF26+1 -> 43819 | AH26: =AG26+1 -> 43820 | AI26: =AH26+1 -> 43821
A27: =IF(B27<>"",_xlfn.ISOWEEKNUM(B27),"") -> 39 | B27: =IF(H26<>"",IF(H26+1<=EOMONTH($B$21,0),H26+1,""),"") -> 43731 | C27: =IF(B27<>"",IF(B27+1<=EOMONTH($B$21,0),B27+1,""),"") -> 43732 | D27: =IF(C27<>"",IF(C27+1<=EOMONTH($B$21,0),C27+1,""),"") -> 43733 | E27: =IF(D27<>"",IF(D27+1<=EOMONTH($B$21,0),D27+1,""),"") -> 43734 | F27: =IF(E27<>"",IF(E27+1<=EOMONTH($B$21,0),E27+1,""),"") -> 43735 | G27: =IF(F27<>"",IF(F27+1<=EOMONTH($B$21,0),F27+1,""),"") -> 43736 | H27: =IF(G27<>"",IF(G27+1<=EOMONTH($B$21,0),G27+1,""),"") -> 43737 | J27: =IF(K27<>"",_xlfn.ISOWEEKNUM(K27),"") -> 44 | K27: =IF(Q26<>"",IF(Q26+1<=EOMONTH($K$21,0),Q26+1,""),"") -> 43766 | L27: =IF(K27<>"",IF(K27+1<=EOMONTH($K$21,0),K27+1,""),"") -> 43767 | M27: =IF(L27<>"",IF(L27+1<=EOMONTH($K$21,0),L27+1,""),"") -> 43768 | N27: =IF(M27<>"",IF(M27+1<=EOMONTH($K$21,0),M27+1,""),"") -> 43769 | O27: =IF(N27<>"",IF(N27+1<=EOMONTH($K$21,0),N27+1,""),"") | P27: =IF(O27<>"",IF(O27+1<=EOMONTH($K$21,0),O27+1,""),"") | Q27: =IF(P27<>"",IF(P27+1<=EOMONTH($K$21,0),P27+1,""),"") | S27: =IF(T27<>"",_xlfn.ISOWEEKNUM(T27),"") -> 48 | T27: =IF(Z26<>"",IF(Z26+1<=EOMONTH($T$21,0),Z26+1,""),"") -> 43794 | U27: =IF(T27<>"",IF(T27+1<=EOMONTH($T$21,0),T27+1,""),"") -> 43795 | V27: =IF(U27<>"",IF(U27+1<=EOMONTH($T$21,0),U27+1,""),"") -> 43796 | W27: =IF(V27<>"",IF(V27+1<=EOMONTH($T$21,0),V27+1,""),"") -> 43797 | X27: =IF(W27<>"",IF(W27+1<=EOMONTH($T$21,0),W27+1,""),"") -> 43798 | Y27: =IF(X27<>"",IF(X27+1<=EOMONTH($T$21,0),X27+1,""),"") -> 43799 | Z27: =IF(Y27<>"",IF(Y27+1<=EOMONTH($T$21,0),Y27+1,""),"") | AB27: =IF(AC27<>"",_xlfn.ISOWEEKNUM(AC27),"") -> 52 | AC27: =IF(AI26<>"",IF(AI26+1<=EOMONTH($AC$21,0),AI26+1,""),"") -> 43822 | AD27: =IF(AC27<>"",IF(AC27+1<=EOMONTH($AC$21,0),AC27+1,""),"") -> 43823 | AE27: =IF(AD27<>"",IF(AD27+1<=EOMONTH($AC$21,0),AD27+1,""),"") -> 43824 | AF27: =IF(AE27<>"",IF(AE27+1<=EOMONTH($AC$21,0),AE27+1,""),"") -> 43825 | AG27: =IF(AF27<>"",IF(AF27+1<=EOMONTH($AC$21,0),AF27+1,""),"") -> 43826 | AH27: =IF(AG27<>"",IF(AG27+1<=EOMONTH($AC$21,0),AG27+1,""),"") -> 43827 | AI27: =IF(AH27<>"",IF(AH27+1<=EOMONTH($AC$21,0),AH27+1,""),"") -> 43828
A28: =IF(B28<>"",_xlfn.ISOWEEKNUM(B28),"") -> 40 | B28: =IF(H27<>"",IF(H27+1<=EOMONTH($B$21,0),H27+1,""),"") -> 43738 | C28: =IF(B28<>"",IF(B28+1<=EOMONTH($B$21,0),B28+1,""),"") | D28: =IF(C28<>"",IF(C28+1<=EOMONTH($B$21,0),C28+1,""),"") | E28: =IF(D28<>"",IF(D28+1<=EOMONTH($B$21,0),D28+1,""),"") | F28: =IF(E28<>"",IF(E28+1<=EOMONTH($B$21,0),E28+1,""),"") | G28: =IF(F28<>"",IF(F28+1<=EOMONTH($B$21,0),F28+1,""),"") | H28: =IF(G28<>"",IF(G28+1<=EOMONTH($B$21,0),G28+1,""),"") | J28: =IF(K28<>"",_xlfn.ISOWEEKNUM(K28),"") | K28: =IF(Q27<>"",IF(Q27+1<=EOMONTH($K$21,0),Q27+1,""),"") | L28: =IF(K28<>"",IF(K28+1<=EOMONTH($K$21,0),K28+1,""),"") | M28: =IF(L28<>"",IF(L28+1<=EOMONTH($K$21,0),L28+1,""),"") | N28: =IF(M28<>"",IF(M28+1<=EOMONTH($K$21,0),M28+1,""),"") | O28: =IF(N28<>"",IF(N28+1<=EOMONTH($K$21,0),N28+1,""),"") | P28: =IF(O28<>"",IF(O28+1<=EOMONTH($K$21,0),O28+1,""),"") | Q28: =IF(P28<>"",IF(P28+1<=EOMONTH($K$21,0),P28+1,""),"") | S28: =IF(T28<>"",_xlfn.ISOWEEKNUM(T28),"") | T28: =IF(Z27<>"",IF(Z27+1<=EOMONTH($T$21,0),Z27+1,""),"") | U28: =IF(T28<>"",IF(T28+1<=EOMONTH($T$21,0),T28+1,""),"") | V28: =IF(U28<>"",IF(U28+1<=EOMONTH($T$21,0),U28+1,""),"") | W28: =IF(V28<>"",IF(V28+1<=EOMONTH($T$21,0),V28+1,""),"") | X28: =IF(W28<>"",IF(W28+1<=EOMONTH($T$21,0),W28+1,""),"") | Y28: =IF(X28<>"",IF(X28+1<=EOMONTH($T$21,0),X28+1,""),"") | Z28: =IF(Y28<>"",IF(Y28+1<=EOMONTH($T$21,0),Y28+1,""),"") | AB28: =IF(AC28<>"",_xlfn.ISOWEEKNUM(AC28),"") -> 1 | AC28: =IF(AI27<>"",IF(AI27+1<=EOMONTH($AC$21,0),AI27+1,""),"") -> 43829 | AD28: =IF(AC28<>"",IF(AC28+1<=EOMONTH($AC$21,0),AC28+1,""),"") -> 43830 | AE28: =IF(AD28<>"",IF(AD28+1<=EOMONTH($AC$21,0),AD28+1,""),"") | AF28: =IF(AE28<>"",IF(AE28+1<=EOMONTH($AC$21,0),AE28+1,""),"") | AG28: =IF(AF28<>"",IF(AF28+1<=EOMONTH($AC$21,0),AF28+1,""),"") | AH28: =IF(AG28<>"",IF(AG28+1<=EOMONTH($AC$21,0),AG28+1,""),"") | AI28: =IF(AH28<>"",IF(AH28+1<=EOMONTH($AC$21,0),AH28+1,""),"")
A31: =A1+1 -> 2020
B33: =DATE($A$31,1,1) -> 43831 | K33: =DATE($A$31,MONTH(B33)+1,1) -> 43862 | T33: =DATE($A31,MONTH(K33)+1,1) -> 43891 | AC33: =DATE($A31,MONTH(T33)+1,1) -> 43922
B34: lu | C34: ma | D34: me | E34: je | F34: ve | G34: sa | H34: di | K34: lu | L34: ma | M34: me | N34: je | O34: ve | P34: sa | Q34: di | T34: lu | U34: ma | V34: me | W34: je | X34: ve | Y34: sa | Z34: di | AC34: lu | AD34: ma | AE34: me | AF34: je | AG34: ve | AH34: sa | AI34: di
A35: =_xlfn.ISOWEEKNUM(B33) -> 1 | B35: =IF(WEEKDAY($B$33,2)=(COLUMN()-1),$B$33,"") | C35: =IF(B35<>"",B35+1,IF(WEEKDAY($B$33,2)=(COLUMN()-1),$B$33,"")) | D35: =IF(C35<>"",C35+1,IF(WEEKDAY($B$33,2)=(COLUMN()-1),$B$33,"")) -> 43831 | E35: =IF(D35<>"",D35+1,IF(WEEKDAY($B$33,2)=(COLUMN()-1),$B$33,"")) -> 43832 | F35: =IF(E35<>"",E35+1,IF(WEEKDAY($B$33,2)=(COLUMN()-1),$B$33,"")) -> 43833 | G35: =IF(F35<>"",F35+1,IF(WEEKDAY($B$33,2)=(COLUMN()-1),$B$33,"")) -> 43834 | H35: =IF(G35<>"",G35+1,IF(WEEKDAY($B$33,2)=(COLUMN()-1),$B$33,"")) -> 43835 | J35: =_xlfn.ISOWEEKNUM(K33) -> 5 | K35: =IF(WEEKDAY($K$33,2)=(COLUMN()-10),$K$33,"") | L35: =IF(K35<>"",K35+1,IF(WEEKDAY($K$33,2)=(COLUMN()-10),$K$33,"")) | M35: =IF(L35<>"",L35+1,IF(WEEKDAY($K$33,2)=(COLUMN()-10),$K$33,"")) | N35: =IF(M35<>"",M35+1,IF(WEEKDAY($K$33,2)=(COLUMN()-10),$K$33,"")) | O35: =IF(N35<>"",N35+1,IF(WEEKDAY($K$33,2)=(COLUMN()-10),$K$33,"")) | P35: =IF(O35<>"",O35+1,IF(WEEKDAY($K$33,2)=(COLUMN()-10),$K$33,"")) -> 43862 | Q35: =IF(P35<>"",P35+1,IF(WEEKDAY($K$33,2)=(COLUMN()-10),$K$33,"")) -> 43863 | S35: =_xlfn.ISOWEEKNUM(T33) -> 9 | T35: =IF(WEEKDAY($T$33,2)=(COLUMN()-19),$T$33,"") | U35: =IF(T35<>"",T35+1,IF(WEEKDAY($T$33,2)=(COLUMN()-19),$T$33,"")) | V35: =IF(U35<>"",U35+1,IF(WEEKDAY($T$33,2)=(COLUMN()-19),$T$33,"")) | W35: =IF(V35<>"",V35+1,IF(WEEKDAY($T$33,2)=(COLUMN()-19),$T$33,"")) | X35: =IF(W35<>"",W35+1,IF(WEEKDAY($T$33,2)=(COLUMN()-19),$T$33,"")) | Y35: =IF(X35<>"",X35+1,IF(WEEKDAY($T$33,2)=(COLUMN()-19),$T$33,"")) | Z35: =IF(Y35<>"",Y35+1,IF(WEEKDAY($T$33,2)=(COLUMN()-19),$T$33,"")) -> 43891 | AB35: =_xlfn.ISOWEEKNUM(AC33) -> 14 | AC35: =IF(WEEKDAY($AC$33,2)=(COLUMN()-28),$AC$33,"") | AD35: =IF(AC35<>"",AC35+1,IF(WEEKDAY($AC$33,2)=(COLUMN()-28),$AC$33,"")) | AE35: =IF(AD35<>"",AD35+1,IF(WEEKDAY($AC$33,2)=(COLUMN()-28),$AC$33,"")) -> 43922 | AF35: =IF(AE35<>"",AE35+1,IF(WEEKDAY($AC$33,2)=(COLUMN()-28),$AC$33,"")) -> 43923 | AG35: =IF(AF35<>"",AF35+1,IF(WEEKDAY($AC$33,2)=(COLUMN()-28),$AC$33,"")) -> 43924 | AH35: =IF(AG35<>"",AG35+1,IF(WEEKDAY($AC$33,2)=(COLUMN()-28),$AC$33,"")) -> 43925 | AI35: =IF(AH35<>"",AH35+1,IF(WEEKDAY($AC$33,2)=(COLUMN()-28),$AC$33,"")) -> 43926
A36: =IF(B36<>"",_xlfn.ISOWEEKNUM(B36),"") -> 2 | B36: =H35+1 -> 43836 | C36: =B36+1 -> 43837 | D36: =C36+1 -> 43838 | E36: =D36+1 -> 43839 | F36: =E36+1 -> 43840 | G36: =F36+1 -> 43841 | H36: =G36+1 -> 43842 | J36: =IF(K36<>"",_xlfn.ISOWEEKNUM(K36),"") -> 6 | K36: =Q35+1 -> 43864 | L36: =K36+1 -> 43865 | M36: =L36+1 -> 43866 | N36: =M36+1 -> 43867 | O36: =N36+1 -> 43868 | P36: =O36+1 -> 43869 | Q36: =P36+1 -> 43870 | S36: =IF(T36<>"",_xlfn.ISOWEEKNUM(T36),"") -> 10 | T36: =Z35+1 -> 43892 | U36: =T36+1 -> 43893 | V36: =U36+1 -> 43894 | W36: =V36+1 -> 43895 | X36: =W36+1 -> 43896 | Y36: =X36+1 -> 43897 | Z36: =Y36+1 -> 43898 | AB36: =IF(AC36<>"",_xlfn.ISOWEEKNUM(AC36),"") -> 15 | AC36: =AI35+1 -> 43927 | AD36: =AC36+1 -> 43928 | AE36: =AD36+1 -> 43929 | AF36: =AE36+1 -> 43930 | AG36: =AF36+1 -> 43931 | AH36: =AG36+1 -> 43932 | AI36: =AH36+1 -> 43933
A37: =IF(B37<>"",_xlfn.ISOWEEKNUM(B37),"") -> 3 | B37: =H36+1 -> 43843 | C37: =B37+1 -> 43844 | D37: =C37+1 -> 43845 | E37: =D37+1 -> 43846 | F37: =E37+1 -> 43847 | G37: =F37+1 -> 43848 | H37: =G37+1 -> 43849 | J37: =IF(K37<>"",_xlfn.ISOWEEKNUM(K37),"") -> 7 | K37: =Q36+1 -> 43871 | L37: =K37+1 -> 43872 | M37: =L37+1 -> 43873 | N37: =M37+1 -> 43874 | O37: =N37+1 -> 43875 | P37: =O37+1 -> 43876 | Q37: =P37+1 -> 43877 | S37: =IF(T37<>"",_xlfn.ISOWEEKNUM(T37),"") -> 11 | T37: =Z36+1 -> 43899 | U37: =T37+1 -> 43900 | V37: =U37+1 -> 43901 | W37: =V37+1 -> 43902 | X37: =W37+1 -> 43903 | Y37: =X37+1 -> 43904 | Z37: =Y37+1 -> 43905 | AB37: =IF(AC37<>"",_xlfn.ISOWEEKNUM(AC37),"") -> 16 | AC37: =AI36+1 -> 43934 | AD37: =AC37+1 -> 43935 | AE37: =AD37+1 -> 43936 | AF37: =AE37+1 -> 43937 | AG37: =AF37+1 -> 43938 | AH37: =AG37+1 -> 43939 | AI37: =AH37+1 -> 43940
A38: =IF(B38<>"",_xlfn.ISOWEEKNUM(B38),"") -> 4 | B38: =H37+1 -> 43850 | C38: =B38+1 -> 43851 | D38: =C38+1 -> 43852 | E38: =D38+1 -> 43853 | F38: =E38+1 -> 43854 | G38: =F38+1 -> 43855 | H38: =G38+1 -> 43856 | J38: =IF(K38<>"",_xlfn.ISOWEEKNUM(K38),"") -> 8 | K38: =Q37+1 -> 43878 | L38: =K38+1 -> 43879 | M38: =L38+1 -> 43880 | N38: =M38+1 -> 43881 | O38: =N38+1 -> 43882 | P38: =O38+1 -> 43883 | Q38: =P38+1 -> 43884 | S38: =IF(T38<>"",_xlfn.ISOWEEKNUM(T38),"") -> 12 | T38: =Z37+1 -> 43906 | U38: =T38+1 -> 43907 | V38: =U38+1 -> 43908 | W38: =V38+1 -> 43909 | X38: =W38+1 -> 43910 | Y38: =X38+1 -> 43911 | Z38: =Y38+1 -> 43912 | AB38: =IF(AC38<>"",_xlfn.ISOWEEKNUM(AC38),"") -> 17 | AC38: =AI37+1 -> 43941 | AD38: =AC38+1 -> 43942 | AE38: =AD38+1 -> 43943 | AF38: =AE38+1 -> 43944 | AG38: =AF38+1 -> 43945 | AH38: =AG38+1 -> 43946 | AI38: =AH38+1 -> 43947
A39: =IF(B39<>"",_xlfn.ISOWEEKNUM(B39),"") -> 5 | B39: =IF(H38<>"",IF(H38+1<=EOMONTH($B$33,0),H38+1,""),"") -> 43857 | C39: =IF(B39<>"",IF(B39+1<=EOMONTH($B$33,0),B39+1,""),"") -> 43858 | D39: =IF(C39<>"",IF(C39+1<=EOMONTH($B$33,0),C39+1,""),"") -> 43859 | E39: =IF(D39<>"",IF(D39+1<=EOMONTH($B$33,0),D39+1,""),"") -> 43860 | F39: =IF(E39<>"",IF(E39+1<=EOMONTH($B$33,0),E39+1,""),"") -> 43861 | G39: =IF(F39<>"",IF(F39+1<=EOMONTH($B$33,0),F39+1,""),"") | H39: =IF(G39<>"",IF(G39+1<=EOMONTH($B$33,0),G39+1,""),"") | J39: =IF(K39<>"",_xlfn.ISOWEEKNUM(K39),"") -> 9 | K39: =IF(Q38<>"",IF(Q38+1<=EOMONTH($K$33,0),Q38+1,""),"") -> 43885 | L39: =IF(K39<>"",IF(K39+1<=EOMONTH($K$33,0),K39+1,""),"") -> 43886 | M39: =IF(L39<>"",IF(L39+1<=EOMONTH($K$33,0),L39+1,""),"") -> 43887 | N39: =IF(M39<>"",IF(M39+1<=EOMONTH($K$33,0),M39+1,""),"") -> 43888 | O39: =IF(N39<>"",IF(N39+1<=EOMONTH($K$33,0),N39+1,""),"") -> 43889 | P39: =IF(O39<>"",IF(O39+1<=EOMONTH($K$33,0),O39+1,""),"") -> 43890 | Q39: =IF(P39<>"",IF(P39+1<=EOMONTH($K$33,0),P39+1,""),"") | S39: =IF(T39<>"",_xlfn.ISOWEEKNUM(T39),"") -> 13 | T39: =IF(Z38<>"",IF(Z38+1<=EOMONTH($T$33,0),Z38+1,""),"") -> 43913 | U39: =IF(T39<>"",IF(T39+1<=EOMONTH($T$33,0),T39+1,""),"") -> 43914 | V39: =IF(U39<>"",IF(U39+1<=EOMONTH($T$33,0),U39+1,""),"") -> 43915 | W39: =IF(V39<>"",IF(V39+1<=EOMONTH($T$33,0),V39+1,""),"") -> 43916 | X39: =IF(W39<>"",IF(W39+1<=EOMONTH($T$33,0),W39+1,""),"") -> 43917 | Y39: =IF(X39<>"",IF(X39+1<=EOMONTH($T$33,0),X39+1,""),"") -> 43918 | Z39: =IF(Y39<>"",IF(Y39+1<=EOMONTH($T$33,0),Y39+1,""),"") -> 43919 | AB39: =IF(AC39<>"",_xlfn.ISOWEEKNUM(AC39),"") -> 18 | AC39: =IF(AI38<>"",IF(AI38+1<=EOMONTH($AC$33,0),AI38+1,""),"") -> 43948 | AD39: =IF(AC39<>"",IF(AC39+1<=EOMONTH($AC$33,0),AC39+1,""),"") -> 43949 | AE39: =IF(AD39<>"",IF(AD39+1<=EOMONTH($AC$33,0),AD39+1,""),"") -> 43950 | AF39: =IF(AE39<>"",IF(AE39+1<=EOMONTH($AC$33,0),AE39+1,""),"") -> 43951 | AG39: =IF(AF39<>"",IF(AF39+1<=EOMONTH($AC$33,0),AF39+1,""),"") | AH39: =IF(AG39<>"",IF(AG39+1<=EOMONTH($AC$33,0),AG39+1,""),"") | AI39: =IF(AH39<>"",IF(AH39+1<=EOMONTH($AC$33,0),AH39+1,""),"")
A40: =IF(B40<>"",_xlfn.ISOWEEKNUM(B40),"") | B40: =IF(H39<>"",IF(H39+1<=EOMONTH($B$33,0),H39+1,""),"") | C40: =IF(B40<>"",IF(B40+1<=EOMONTH($B$33,0),B40+1,""),"") | D40: =IF(C40<>"",IF(C40+1<=EOMONTH($B$33,0),C40+1,""),"") | E40: =IF(D40<>"",IF(D40+1<=EOMONTH($B$33,0),D40+1,""),"") | F40: =IF(E40<>"",IF(E40+1<=EOMONTH($B$33,0),E40+1,""),"") | G40: =IF(F40<>"",IF(F40+1<=EOMONTH($B$33,0),F40+1,""),"") | H40: =IF(G40<>"",IF(G40+1<=EOMONTH($B$33,0),G40+1,""),"") | J40: =IF(K40<>"",_xlfn.ISOWEEKNUM(K40),"") | K40: =IF(Q39<>"",IF(Q39+1<=EOMONTH($K$33,0),Q39+1,""),"") | L40: =IF(K40<>"",IF(K40+1<=EOMONTH($K$33,0),K40+1,""),"") | M40: =IF(L40<>"",IF(L40+1<=EOMONTH($K$33,0),L40+1,""),"") | N40: =IF(M40<>"",IF(M40+1<=EOMONTH($K$33,0),M40+1,""),"") | O40: =IF(N40<>"",IF(N40+1<=EOMONTH($K$33,0),N40+1,""),"") | P40: =IF(O40<>"",IF(O40+1<=EOMONTH($K$33,0),O40+1,""),"") | Q40: =IF(P40<>"",IF(P40+1<=EOMONTH($K$33,0),P40+1,""),"") | S40: =IF(T40<>"",_xlfn.ISOWEEKNUM(T40),"") -> 14 | T40: =IF(Z39<>"",IF(Z39+1<=EOMONTH($T$33,0),Z39+1,""),"") -> 43920 | U40: =IF(T40<>"",IF(T40+1<=EOMONTH($T$33,0),T40+1,""),"") -> 43921 | V40: =IF(U40<>"",IF(U40+1<=EOMONTH($T$33,0),U40+1,""),"") | W40: =IF(V40<>"",IF(V40+1<=EOMONTH($T$33,0),V40+1,""),"") | X40: =IF(W40<>"",IF(W40+1<=EOMONTH($T$33,0),W40+1,""),"") | Y40: =IF(X40<>"",IF(X40+1<=EOMONTH($T$33,0),X40+1,""),"") | Z40: =IF(Y40<>"",IF(Y40+1<=EOMONTH($T$33,0),Y40+1,""),"") | AB40: =IF(AC40<>"",_xlfn.ISOWEEKNUM(AC40),"") | AC40: =IF(AI39<>"",IF(AI39+1<=EOMONTH($AC$33,0),AI39+1,""),"") | AD40: =IF(AC40<>"",IF(AC40+1<=EOMONTH($AC$33,0),AC40+1,""),"") | AE40: =IF(AD40<>"",IF(AD40+1<=EOMONTH($AC$33,0),AD40+1,""),"") | AF40: =IF(AE40<>"",IF(AE40+1<=EOMONTH($AC$33,0),AE40+1,""),"") | AG40: =IF(AF40<>"",IF(AF40+1<=EOMONTH($AC$33,0),AF40+1,""),"") | AH40: =IF(AG40<>"",IF(AG40+1<=EOMONTH($AC$33,0),AG40+1,""),"") | AI40: =IF(AH40<>"",IF(AH40+1<=EOMONTH($AC$33,0),AH40+1,""),"")
B42: =DATE($A31,MONTH(AC33)+1,1) -> 43952 | K42: =DATE($A31,MONTH(B42)+1,1) -> 43983 | T42: =DATE($A31,MONTH(K42)+1,1) -> 44013 | AC42: =DATE($A31,MONTH(T42)+1,1) -> 44044
B43: lu | C43: ma | D43: me | E43: je | F43: ve | G43: sa | H43: di | K43: lu | L43: ma | M43: me | N43: je | O43: ve | P43: sa | Q43: di | T43: lu | U43: ma | V43: me | W43: je | X43: ve | Y43: sa | Z43: di | AC43: lu | AD43: ma | AE43: me | AF43: je | AG43: ve | AH43: sa | AI43: di
A44: =_xlfn.ISOWEEKNUM(B42) -> 18 | B44: =IF(WEEKDAY($B$12,2)=(COLUMN()-1),$B$12,"") | C44: =IF(B44<>"",B44+1,IF(WEEKDAY($B$12,2)=(COLUMN()-1),$B$12,"")) | D44: =IF(C44<>"",C44+1,IF(WEEKDAY($B$12,2)=(COLUMN()-1),$B$12,"")) -> 43586 | E44: =IF(D44<>"",D44+1,IF(WEEKDAY($B$12,2)=(COLUMN()-1),$B$12,"")) -> 43587 | F44: =IF(E44<>"",E44+1,IF(WEEKDAY($B$12,2)=(COLUMN()-1),$B$12,"")) -> 43588 | G44: =IF(F44<>"",F44+1,IF(WEEKDAY($B$12,2)=(COLUMN()-1),$B$12,"")) -> 43589 | H44: =IF(G44<>"",G44+1,IF(WEEKDAY($B$12,2)=(COLUMN()-1),$B$12,"")) -> 43590 | J44: =_xlfn.ISOWEEKNUM(K42) -> 23 | K44: =IF(WEEKDAY($K$12,2)=(COLUMN()-10),$K$12,"") | L44: =IF(K44<>"",K44+1,IF(WEEKDAY($K$12,2)=(COLUMN()-10),$K$12,"")) | M44: =IF(L44<>"",L44+1,IF(WEEKDAY($K$12,2)=(COLUMN()-10),$K$12,"")) | N44: =IF(M44<>"",M44+1,IF(WEEKDAY($K$12,2)=(COLUMN()-10),$K$12,"")) | O44: =IF(N44<>"",N44+1,IF(WEEKDAY($K$12,2)=(COLUMN()-10),$K$12,"")) | P44: =IF(O44<>"",O44+1,IF(WEEKDAY($K$12,2)=(COLUMN()-10),$K$12,"")) -> 43617 | Q44: =IF(P44<>"",P44+1,IF(WEEKDAY($K$12,2)=(COLUMN()-10),$K$12,"")) -> 43618 | S44: =_xlfn.ISOWEEKNUM(T42) -> 27 | T44: =IF(WEEKDAY($T$12,2)=(COLUMN()-19),$T$12,"") -> 43647 | U44: =IF(T44<>"",T44+1,IF(WEEKDAY($T$12,2)=(COLUMN()-19),$T$12,"")) -> 43648 | V44: =IF(U44<>"",U44+1,IF(WEEKDAY($T$12,2)=(COLUMN()-19),$T$12,"")) -> 43649 | W44: =IF(V44<>"",V44+1,IF(WEEKDAY($T$12,2)=(COLUMN()-19),$T$12,"")) -> 43650 | X44: =IF(W44<>"",W44+1,IF(WEEKDAY($T$12,2)=(COLUMN()-19),$T$12,"")) -> 43651 | Y44: =IF(X44<>"",X44+1,IF(WEEKDAY($T$12,2)=(COLUMN()-19),$T$12,"")) -> 43652 | Z44: =IF(Y44<>"",Y44+1,IF(WEEKDAY($T$12,2)=(COLUMN()-19),$T$12,"")) -> 43653 | AB44: =_xlfn.ISOWEEKNUM(AC42) -> 31 | AC44: =IF(WEEKDAY($AC$12,2)=(COLUMN()-28),$AC$12,"") | AD44: =IF(AC44<>"",AC44+1,IF(WEEKDAY($AC$12,2)=(COLUMN()-28),$AC$12,"")) | AE44: =IF(AD44<>"",AD44+1,IF(WEEKDAY($AC$12,2)=(COLUMN()-28),$AC$12,"")) | AF44: =IF(AE44<>"",AE44+1,IF(WEEKDAY($AC$12,2)=(COLUMN()-28),$AC$12,"")) -> 43678 | AG44: =IF(AF44<>"",AF44+1,IF(WEEKDAY($AC$12,2)=(COLUMN()-28),$AC$12,"")) -> 43679 | AH44: =IF(AG44<>"",AG44+1,IF(WEEKDAY($AC$12,2)=(COLUMN()-28),$AC$12,"")) -> 43680 | AI44: =IF(AH44<>"",AH44+1,IF(WEEKDAY($AC$12,2)=(COLUMN()-28),$AC$12,"")) -> 43681
A45: =IF(B45<>"",_xlfn.ISOWEEKNUM(B45),"") -> 19 | B45: =H44+1 -> 43591 | C45: =B45+1 -> 43592 | D45: =C45+1 -> 43593 | E45: =D45+1 -> 43594 | F45: =E45+1 -> 43595 | G45: =F45+1 -> 43596 | H45: =G45+1 -> 43597 | J45: =IF(K45<>"",_xlfn.ISOWEEKNUM(K45),"") -> 23 | K45: =Q44+1 -> 43619 | L45: =K45+1 -> 43620 | M45: =L45+1 -> 43621 | N45: =M45+1 -> 43622 | O45: =N45+1 -> 43623 | P45: =O45+1 -> 43624 | Q45: =P45+1 -> 43625 | S45: =IF(T45<>"",_xlfn.ISOWEEKNUM(T45),"") -> 28 | T45: =Z44+1 -> 43654 | U45: =T45+1 -> 43655 | V45: =U45+1 -> 43656 | W45: =V45+1 -> 43657 | X45: =W45+1 -> 43658 | Y45: =X45+1 -> 43659 | Z45: =Y45+1 -> 43660 | AB45: =IF(AC45<>"",_xlfn.ISOWEEKNUM(AC45),"") -> 32 | AC45: =AI44+1 -> 43682 | AD45: =AC45+1 -> 43683 | AE45: =AD45+1 -> 43684 | AF45: =AE45+1 -> 43685 | AG45: =AF45+1 -> 43686 | AH45: =AG45+1 -> 43687 | AI45: =AH45+1 -> 43688
A46: =IF(B46<>"",_xlfn.ISOWEEKNUM(B46),"") -> 20 | B46: =H45+1 -> 43598 | C46: =B46+1 -> 43599 | D46: =C46+1 -> 43600 | E46: =D46+1 -> 43601 | F46: =E46+1 -> 43602 | G46: =F46+1 -> 43603 | H46: =G46+1 -> 43604 | J46: =IF(K46<>"",_xlfn.ISOWEEKNUM(K46),"") -> 24 | K46: =Q45+1 -> 43626 | L46: =K46+1 -> 43627 | M46: =L46+1 -> 43628 | N46: =M46+1 -> 43629 | O46: =N46+1 -> 43630 | P46: =O46+1 -> 43631 | Q46: =P46+1 -> 43632 | S46: =IF(T46<>"",_xlfn.ISOWEEKNUM(T46),"") -> 29 | T46: =Z45+1 -> 43661 | U46: =T46+1 -> 43662 | V46: =U46+1 -> 43663 | W46: =V46+1 -> 43664 | X46: =W46+1 -> 43665 | Y46: =X46+1 -> 43666 | Z46: =Y46+1 -> 43667 | AB46: =IF(AC46<>"",_xlfn.ISOWEEKNUM(AC46),"") -> 33 | AC46: =AI45+1 -> 43689 | AD46: =AC46+1 -> 43690 | AE46: =AD46+1 -> 43691 | AF46: =AE46+1 -> 43692 | AG46: =AF46+1 -> 43693 | AH46: =AG46+1 -> 43694 | AI46: =AH46+1 -> 43695
A47: =IF(B47<>"",_xlfn.ISOWEEKNUM(B47),"") -> 21 | B47: =H46+1 -> 43605 | C47: =B47+1 -> 43606 | D47: =C47+1 -> 43607 | E47: =D47+1 -> 43608 | F47: =E47+1 -> 43609 | G47: =F47+1 -> 43610 | H47: =G47+1 -> 43611 | J47: =IF(K47<>"",_xlfn.ISOWEEKNUM(K47),"") -> 25 | K47: =Q46+1 -> 43633 | L47: =K47+1 -> 43634 | M47: =L47+1 -> 43635 | N47: =M47+1 -> 43636 | O47: =N47+1 -> 43637 | P47: =O47+1 -> 43638 | Q47: =P47+1 -> 43639 | S47: =IF(T47<>"",_xlfn.ISOWEEKNUM(T47),"") -> 30 | T47: =Z46+1 -> 43668 | U47: =T47+1 -> 43669 | V47: =U47+1 -> 43670 | W47: =V47+1 -> 43671 | X47: =W47+1 -> 43672 | Y47: =X47+1 -> 43673 | Z47: =Y47+1 -> 43674 | AB47: =IF(AC47<>"",_xlfn.ISOWEEKNUM(AC47),"") -> 34 | AC47: =AI46+1 -> 43696 | AD47: =AC47+1 -> 43697 | AE47: =AD47+1 -> 43698 | AF47: =AE47+1 -> 43699 | AG47: =AF47+1 -> 43700 | AH47: =AG47+1 -> 43701 | AI47: =AH47+1 -> 43702
...

Sheet Réservations
A1: Réservations
A2: Numéro locataire | B2: Nom | C2: Prénom | D2: Adresse | E2: CP | F2: Ville | G2: N° Tél fixe | H2: N° Tél Port | I2: Mail | J2: Réservation | L2: Nombre jour | M2: Tarif | N2: Règlement | O2: Date règlement | P2: N°Chèque
J3: Date début | K3: Date fin
B4: =IF(ISBLANK(A4),"",VLOOKUP($A4,Locataires!$A$3:$K$584,2,)) | C4: =IF(ISBLANK(A4),"",VLOOKUP($A4,Locataires!$A$3:$K$584,3,)) | D4: =IF(ISBLANK(A4),"",VLOOKUP($A4,Locataires!$A$3:$K$584,4,)) | E4: =IF(ISBLANK(A4),"",VLOOKUP($A4,Locataires!$A$3:$K$584,5,)) | F4: =IF(ISBLANK(A4),"",VLOOKUP($A4,Locataires!$A$3:$K$584,6,)) | G4: =IF(ISBLANK(A4),"",VLOOKUP($A4,Locataires!$A$3:$K$584,7,)) | H4: =IF(ISBLANK(A4),"",VLOOKUP($A4,Locataires!$A$3:$K$584,8,)) | I4: =IF(ISBLANK(A4),"",VLOOKUP($A4,Locataires!$A$3:$K$584,9,)) | J4: 43477 | K4: 43484 | L4: =K4-J4 -> 7 | N4: En cours
B5: =IF(ISBLANK(A5),"",VLOOKUP($A5,Locataires!$A$3:$K$584,2,)) | C5: =IF(ISBLANK(A5),"",VLOOKUP($A5,Locataires!$A$3:$K$584,3,)) | D5: =IF(ISBLANK(A5),"",VLOOKUP($A5,Locataires!$A$3:$K$584,4,)) | E5: =IF(ISBLANK(A5),"",VLOOKUP($A5,Locataires!$A$3:$K$584,5,)) | F5: =IF(ISBLANK(A5),"",VLOOKUP($A5,Locataires!$A$3:$K$584,6,)) | G5: =IF(ISBLANK(A5),"",VLOOKUP($A5,Locataires!$A$3:$K$584,7,)) | H5: =IF(ISBLANK(A5),"",VLOOKUP($A5,Locataires!$A$3:$K$584,8,)) | I5: =IF(ISBLANK(A5),"",VLOOKUP($A5,Locataires!$A$3:$K$584,9,)) | J5: 43525 | K5: 43539 | L5: =K5-J5 -> 14
B6: =IF(ISBLANK(A6),"",VLOOKUP($A6,Locataires!$A$3:$K$584,2,)) | C6: =IF(ISBLANK(A6),"",VLOOKUP($A6,Locataires!$A$3:$K$584,3,)) | D6: =IF(ISBLANK(A6),"",VLOOKUP($A6,Locataires!$A$3:$K$584,4,)) | E6: =IF(ISBLANK(A6),"",VLOOKUP($A6,Locataires!$A$3:$K$584,5,)) | F6: =IF(ISBLANK(A6),"",VLOOKUP($A6,Locataires!$A$3:$K$584,6,)) | G6: =IF(ISBLANK(A6),"",VLOOKUP($A6,Locataires!$A$3:$K$584,7,)) | H6: =IF(ISBLANK(A6),"",VLOOKUP($A6,Locataires!$A$3:$K$584,8,)) | I6: =IF(ISBLANK(A6),"",VLOOKUP($A6,Locataires!$A$3:$K$584,9,)) | J6: 43556 | K6: 43565 | L6: =K6-J6 -> 9
B7: =IF(ISBLANK(A7),"",VLOOKUP($A7,Locataires!$A$3:$K$584,2,)) | C7: =IF(ISBLANK(A7),"",VLOOKUP($A7,Locataires!$A$3:$K$584,3,)) | D7: =IF(ISBLANK(A7),"",VLOOKUP($A7,Locataires!$A$3:$K$584,4,)) | E7: =IF(ISBLANK(A7),"",VLOOKUP($A7,Locataires!$A$3:$K$584,5,)) | F7: =IF(ISBLANK(A7),"",VLOOKUP($A7,Locataires!$A$3:$K$584,6,)) | G7: =IF(ISBLANK(A7),"",VLOOKUP($A7,Locataires!$A$3:$K$584,7,)) | H7: =IF(ISBLANK(A7),"",VLOOKUP($A7,Locataires!$A$3:$K$584,8,)) | I7: =IF(ISBLANK(A7),"",VLOOKUP($A7,Locataires!$A$3:$K$584,9,)) | J7: 43497 | K7: 43524 | L7: =K7-J7 -> 27 | N7: En cours
B8: =IF(ISBLANK(A8),"",VLOOKUP($A8,Locataires!$A$3:$K$584,2,)) | C8: =IF(ISBLANK(A8),"",VLOOKUP($A8,Locataires!$A$3:$K$584,3,)) | D8: =IF(ISBLANK(A8),"",VLOOKUP($A8,Locataires!$A$3:$K$584,4,)) | E8: =IF(ISBLANK(A8),"",VLOOKUP($A8,Locataires!$A$3:$K$584,5,)) | F8: =IF(ISBLANK(A8),"",VLOOKUP($A8,Locataires!$A$3:$K$584,6,)) | G8: =IF(ISBLANK(A8),"",VLOOKUP($A8,Locataires!$A$3:$K$584,7,)) | H8: =IF(ISBLANK(A8),"",VLOOKUP($A8,Locataires!$A$3:$K$584,8,)) | I8: =IF(ISBLANK(A8),"",VLOOKUP($A8,Locataires!$A$3:$K$584,9,)) | L8: =K8-J8 -> 0
B9: =IF(ISBLANK(A9),"",VLOOKUP($A9,Locataires!$A$3:$K$584,2,)) | C9: =IF(ISBLANK(A9),"",VLOOKUP($A9,Locataires!$A$3:$K$584,3,)) | D9: =IF(ISBLANK(A9),"",VLOOKUP($A9,Locataires!$A$3:$K$584,4,)) | E9: =IF(ISBLANK(A9),"",VLOOKUP($A9,Locataires!$A$3:$K$584,5,)) | F9: =IF(ISBLANK(A9),"",VLOOKUP($A9,Locataires!$A$3:$K$584,6,)) | G9: =IF(ISBLANK(A9),"",VLOOKUP($A9,Locataires!$A$3:$K$584,7,)) | H9: =IF(ISBLANK(A9),"",VLOOKUP($A9,Locataires!$A$3:$K$584,8,)) | I9: =IF(ISBLANK(A9),"",VLOOKUP($A9,Locataires!$A$3:$K$584,9,)) | L9: =K9-J9 -> 0
B10: =IF(ISBLANK(A10),"",VLOOKUP($A10,Locataires!$A$3:$K$584,2,)) | C10: =IF(ISBLANK(A10),"",VLOOKUP($A10,Locataires!$A$3:$K$584,3,)) | D10: =IF(ISBLANK(A10),"",VLOOKUP($A10,Locataires!$A$3:$K$584,4,)) | E10: =IF(ISBLANK(A10),"",VLOOKUP($A10,Locataires!$A$3:$K$584,5,)) | F10: =IF(ISBLANK(A10),"",VLOOKUP($A10,Locataires!$A$3:$K$584,6,)) | G10: =IF(ISBLANK(A10),"",VLOOKUP($A10,Locataires!$A$3:$K$584,7,)) | H10: =IF(ISBLANK(A10),"",VLOOKUP($A10,Locataires!$A$3:$K$584,8,)) | I10: =IF(ISBLANK(A10),"",VLOOKUP($A10,Locataires!$A$3:$K$584,9,)) | L10: =K10-J10 -> 0
B11: =IF(ISBLANK(A11),"",VLOOKUP($A11,Locataires!$A$3:$K$584,2,)) | C11: =IF(ISBLANK(A11),"",VLOOKUP($A11,Locataires!$A$3:$K$584,3,)) | D11: =IF(ISBLANK(A11),"",VLOOKUP($A11,Locataires!$A$3:$K$584,4,)) | E11: =IF(ISBLANK(A11),"",VLOOKUP($A11,Locataires!$A$3:$K$584,5,)) | F11: =IF(ISBLANK(A11),"",VLOOKUP($A11,Locataires!$A$3:$K$584,6,)) | G11: =IF(ISBLANK(A11),"",VLOOKUP($A11,Locataires!$A$3:$K$584,7,)) | H11: =IF(ISBLANK(A11),"",VLOOKUP($A11,Locataires!$A$3:$K$584,8,)) | I11: =IF(ISBLANK(A11),"",VLOOKUP($A11,Locataires!$A$3:$K$584,9,)) | L11: =K11-J11 -> 0
B12: =IF(ISBLANK(A12),"",VLOOKUP($A12,Locataires!$A$3:$K$584,2,)) | C12: =IF(ISBLANK(A12),"",VLOOKUP($A12,Locataires!$A$3:$K$584,3,)) | D12: =IF(ISBLANK(A12),"",VLOOKUP($A12,Locataires!$A$3:$K$584,4,)) | E12: =IF(ISBLANK(A12),"",VLOOKUP($A12,Locataires!$A$3:$K$584,5,)) | F12: =IF(ISBLANK(A12),"",VLOOKUP($A12,Locataires!$A$3:$K$584,6,)) | G12: =IF(ISBLANK(A12),"",VLOOKUP($A12,Locataires!$A$3:$K$584,7,)) | H12: =IF(ISBLANK(A12),"",VLOOKUP($A12,Locataires!$A$3:$K$584,8,)) | I12: =IF(ISBLANK(A12),"",VLOOKUP($A12,Locataires!$A$3:$K$584,9,)) | L12: =K12-J12 -> 0
B13: =IF(ISBLANK(A13),"",VLOOKUP($A13,Locataires!$A$3:$K$584,2,)) | C13: =IF(ISBLANK(A13),"",VLOOKUP($A13,Locataires!$A$3:$K$584,3,)) | D13: =IF(ISBLANK(A13),"",VLOOKUP($A13,Locataires!$A$3:$K$584,4,)) | E13: =IF(ISBLANK(A13),"",VLOOKUP($A13,Locataires!$A$3:$K$584,5,)) | F13: =IF(ISBLANK(A13),"",VLOOKUP($A13,Locataires!$A$3:$K$584,6,)) | G13: =IF(ISBLANK(A13),"",VLOOKUP($A13,Locataires!$A$3:$K$584,7,)) | H13: =IF(ISBLANK(A13),"",VLOOKUP($A13,Locataires!$A$3:$K$584,8,)) | I13: =IF(ISBLANK(A13),"",VLOOKUP($A13,Locataires!$A$3:$K$584,9,)) | L13: =K13-J13 -> 0
B14: =IF(ISBLANK(A14),"",VLOOKUP($A14,Locataires!$A$3:$K$584,2,)) | C14: =IF(ISBLANK(A14),"",VLOOKUP($A14,Locataires!$A$3:$K$584,3,)) | D14: =IF(ISBLANK(A14),"",VLOOKUP($A14,Locataires!$A$3:$K$584,4,)) | E14: =IF(ISBLANK(A14),"",VLOOKUP($A14,Locataires!$A$3:$K$584,5,)) | F14: =IF(ISBLANK(A14),"",VLOOKUP($A14,Locataires!$A$3:$K$584,6,)) | G14: =IF(ISBLANK(A14),"",VLOOKUP($A14,Locataires!$A$3:$K$584,7,)) | H14: =IF(ISBLANK(A14),"",VLOOKUP($A14,Locataires!$A$3:$K$584,8,)) | I14: =IF(ISBLANK(A14),"",VLOOKUP($A14,Locataires!$A$3:$K$584,9,)) | L14: =K14-J14 -> 0
B15: =IF(ISBLANK(A15),"",VLOOKUP($A15,Locataires!$A$3:$K$584,2,)) | C15: =IF(ISBLANK(A15),"",VLOOKUP($A15,Locataires!$A$3:$K$584,3,)) | D15: =IF(ISBLANK(A15),"",VLOOKUP($A15,Locataires!$A$3:$K$584,4,)) | E15: =IF(ISBLANK(A15),"",VLOOKUP($A15,Locataires!$A$3:$K$584,5,)) | F15: =IF(ISBLANK(A15),"",VLOOKUP($A15,Locataires!$A$3:$K$584,6,)) | G15: =IF(ISBLANK(A15),"",VLOOKUP($A15,Locataires!$A$3:$K$584,7,)) | H15: =IF(ISBLANK(A15),"",VLOOKUP($A15,Locataires!$A$3:$K$584,8,)) | I15: =IF(ISBLANK(A15),"",VLOOKUP($A15,Locataires!$A$3:$K$584,9,)) | L15: =K15-J15 -> 0
B16: =IF(ISBLANK(A16),"",VLOOKUP($A16,Locataires!$A$3:$K$584,2,)) | C16: =IF(ISBLANK(A16),"",VLOOKUP($A16,Locataires!$A$3:$K$584,3,)) | D16: =IF(ISBLANK(A16),"",VLOOKUP($A16,Locataires!$A$3:$K$584,4,)) | E16: =IF(ISBLANK(A16),"",VLOOKUP($A16,Locataires!$A$3:$K$584,5,)) | F16: =IF(ISBLANK(A16),"",VLOOKUP($A16,Locataires!$A$3:$K$584,6,)) | G16: =IF(ISBLANK(A16),"",VLOOKUP($A16,Locataires!$A$3:$K$584,7,)) | H16: =IF(ISBLANK(A16),"",VLOOKUP($A16,Locataires!$A$3:$K$584,8,)) | I16: =IF(ISBLANK(A16),"",VLOOKUP($A16,Locataires!$A$3:$K$584,9,)) | L16: =K16-J16 -> 0
B17: =IF(ISBLANK(A17),"",VLOOKUP($A17,Locataires!$A$3:$K$584,2,)) | C17: =IF(ISBLANK(A17),"",VLOOKUP($A17,Locataires!$A$3:$K$584,3,)) | D17: =IF(ISBLANK(A17),"",VLOOKUP($A17,Locataires!$A$3:$K$584,4,)) | E17: =IF(ISBLANK(A17),"",VLOOKUP($A17,Locataires!$A$3:$K$584,5,)) | F17: =IF(ISBLANK(A17),"",VLOOKUP($A17,Locataires!$A$3:$K$584,6,)) | G17: =IF(ISBLANK(A17),"",VLOOKUP($A17,Locataires!$A$3:$K$584,7,)) | H17: =IF(ISBLANK(A17),"",VLOOKUP($A17,Locataires!$A$3:$K$584,8,)) | I17: =IF(ISBLANK(A17),"",VLOOKUP($A17,Locataires!$A$3:$K$584,9,)) | L17: =K17-J17 -> 0
B18: =IF(ISBLANK(A18),"",VLOOKUP($A18,Locataires!$A$3:$K$584,2,)) | C18: =IF(ISBLANK(A18),"",VLOOKUP($A18,Locataires!$A$3:$K$584,3,)) | D18: =IF(ISBLANK(A18),"",VLOOKUP($A18,Locataires!$A$3:$K$584,4,)) | E18: =IF(ISBLANK(A18),"",VLOOKUP($A18,Locataires!$A$3:$K$584,5,)) | F18: =IF(ISBLANK(A18),"",VLOOKUP($A18,Locataires!$A$3:$K$584,6,)) | G18: =IF(ISBLANK(A18),"",VLOOKUP($A18,Locataires!$A$3:$K$584,7,)) | H18: =IF(ISBLANK(A18),"",VLOOKUP($A18,Locataires!$A$3:$K$584,8,)) | I18: =IF(ISBLANK(A18),"",VLOOKUP($A18,Locataires!$A$3:$K$584,9,)) | L18: =K18-J18 -> 0
B19: =IF(ISBLANK(A19),"",VLOOKUP($A19,Locataires!$A$3:$K$584,2,)) | C19: =IF(ISBLANK(A19),"",VLOOKUP($A19,Locataires!$A$3:$K$584,3,)) | D19: =IF(ISBLANK(A19),"",VLOOKUP($A19,Locataires!$A$3:$K$584,4,)) | E19: =IF(ISBLANK(A19),"",VLOOKUP($A19,Locataires!$A$3:$K$584,5,)) | F19: =IF(ISBLANK(A19),"",VLOOKUP($A19,Locataires!$A$3:$K$584,6,)) | G19: =IF(ISBLANK(A19),"",VLOOKUP($A19,Locataires!$A$3:$K$584,7,)) | H19: =IF(ISBLANK(A19),"",VLOOKUP($A19,Locataires!$A$3:$K$584,8,)) | I19: =IF(ISBLANK(A19),"",VLOOKUP($A19,Locataires!$A$3:$K$584,9,)) | L19: =K19-J19 -> 0
... B425: =IF(ISBLANK(A425),"",VLOOKUP($A425,Locataires!$A$3:$K$584,2,)) | C425: =IF(ISBLANK(A425),"",VLOOKUP($A425,Locataires!$A$3:$K$584,3,)) | D425: =IF(ISBLANK(A425),"",VLOOKUP($A425,Locataires!$A$3:$K$584,4,)) | E425: =IF(ISBLANK(A425),"",VLOOKUP($A425,Locataires!$A$3:$K$584,5,)) | F425: =IF(ISBLANK(A425),"",VLOOKUP($A425,Locataires!$A$3:$K$584,6,)) | G425: =IF(ISBLANK(A425),"",VLOOKUP($A425,Locataires!$A$3:$K$584,7,)) | H425: =IF(ISBLANK(A425),"",VLOOKUP($A425,Locataires!$A$3:$K$584,8,)) | I425: =IF(ISBLANK(A425),"",VLOOKUP($A425,Locataires!$A$3:$K$584,9,)) | L425: =K425-J425 -> 0

Sheet Locataires
A1: Locataires
A2: Numéro locataire | B2: Nom | C2: Prénom | D2: Adresse | E2: CP | F2: Ville | G2: N° Tél fixe | H2: N° Tél Port | I2: Mail | J2: Nombre Réservation | K2: Commentaire
A3: 1 | J3: =COUNTIF(Réservations!A4:A425,Locataires!A3) -> 0
J4: =COUNTIF(Réservations!A5:A426,Locataires!A4) -> 0
J5: =COUNTIF(Réservations!A6:A427,Locataires!A5) -> 0
J6: =COUNTIF(Réservations!A7:A428,Locataires!A6) -> 0
A7: =IF(B6="","",A6+1) | J7: =COUNTIF(Réservations!A8:A429,Locataires!A7) -> 422
A8: =IF(B7="","",A7+1) | J8: =COUNTIF(Réservations!A9:A430,Locataires!A8) -> 422
A9: =IF(B8="","",A8+1) | J9: =COUNTIF(Réservations!A10:A431,Locataires!A9) -> 422
A10: =IF(B9="","",A9+1) | J10: =COUNTIF(Réservations!A11:A432,Locataires!A10) -> 422
A11: =IF(B10="","",A10+1) | J11: =COUNTIF(Réservations!A12:A433,Locataires!A11) -> 422
A12: =IF(B11="","",A11+1) | J12: =COUNTIF(Réservations!A13:A434,Locataires!A12) -> 422
A13: =IF(B12="","",A12+1) | J13: =COUNTIF(Réservations!A14:A435,Locataires!A13) -> 422
A14: =IF(B13="","",A13+1) | J14: =COUNTIF(Réservations!A15:A436,Locataires!A14) -> 422
A15: =IF(B14="","",A14+1) | J15: =COUNTIF(Réservations!A16:A437,Locataires!A15) -> 422
A16: =IF(B15="","",A15+1) | J16: =COUNTIF(Réservations!A17:A438,Locataires!A16) -> 422
A17: =IF(B16="","",A16+1) | J17: =COUNTIF(Réservations!A18:A439,Locataires!A17) -> 422
A18: =IF(B17="","",A17+1) | J18: =COUNTIF(Réservations!A19:A440,Locataires!A18) -> 422
... A584: =IF(B583="","",A583+1) | J584: =COUNTIF(Réservations!A585:A1006,Locataires!A584) -> 422

Sheet Tarifs
