Workbook
Name Liste_agent: #REF!
Name Liste_CT: Planning!$D$4:$D$9
Name Liste_EX1: Planning!$E$4:$E$8
Name Liste_EX2: Planning!$F$4:$F$8
Name Liste_M: Planning!$C$4:$C$10
Name Module_1: #REF!
Name Module_2: #REF!
Name Module_3: #REF!
Name Module_4: #REF!
Name Module_5: #REF!
Name Module_6: #REF!

Sheet Planning
A4: Date | B4: Activté réalisée | C4: Module | D4: CT | E4: Ex1 | F4: Ex2
A5: 41640 | C5: 10 | D5: BAS | E5: GAM | F5: ARO
A6: 41641 | C6: 31 | D6: GNV | E6: GAM | F6: BNS
A7: 41644 | C7: 62 | D7: BDC | E7: MOI
A8: 41647 | C8: 31 | D8: CHB | E8: BAS | F8: MRJ

Sheet Lisiting modules
B2: M10 | C2: M11 | D2: M12 | E2: M13 | F2: M14 | G2: M15 | H2: M16 | I2: M17 | J2: M18 | K2: M19 | L2: M20 | M2: M21 | N2: M22 | O2: M23 | P2: M24 | Q2: M25 | R2: M26 | S2: M27 | T2: M28 | U2: M29 | V2: M30 | W2: M31 | X2: M32 | Y2: M33 | Z2: M34 | AA2: M35 | AB2: M36 | AC2: M37 | AD2: M38 | AE2: M39 | AF2: M40 | AG2: M41 | AH2: M42 | AI2: M43 | AJ2: M44 | AK2: M45 | AL2: M46 | AM2: M47 | AN2: M48 | AO2: M49 | AP2: M50 | AQ2: M51 | AR2: M52 | AS2: M53 | AT2: M54 | AU2: M55 | AV2: M56 | AW2: M57 | AX2: M58 | AY2: M59 | AZ2: M60 | BA2: M61 | BB2: M62 | BC2: M63 | BD2: M64 | BE2: M65 | BF2: M66 | BG2: M67 | BH2: M68 | BI2: M69 | BJ2: M70 | BK2: M71 | BL2: M72 | BM2: M73 | BN2: M74 | BO2: M75 | BP2: M76 | BQ2: M77 | BR2: M78 | BS2: M79 | BT2: M80
A3: BVR | B3: =SUMPRODUCT((Planning!$C$5:$C$8=VALUE(RIGHT(B$2,2)))*(Planning!$D$5:$F$8=$A3)) -> 0 | C3: =SUMPRODUCT((Planning!$C$5:$C$8=VALUE(RIGHT(C$2,2)))*(Planning!$D$5:$F$8=$A3)) -> 0 | D3: =SUMPRODUCT((Planning!$C$5:$C$8=VALUE(RIGHT(D$2,2)))*(Planning!$D$5:$F$8=$A3)) -> 0 | E3: =SUMPRODUCT((Planning!$C$5:$C$8=VALUE(RIGHT(E$2,2)))*(Planning!$D$5:$F$8=$A3)) -> 0 | F3: =SUMPRODUCT((Planning!$C$5:$C$8=VALUE(RIGHT(F$2,2)))*(Planning!$D$5:$F$8=$A3)) -> 0 | G3: =SUMPRODUCT((Planning!$C$5:$C$8=VALUE(RIGHT(G$2,2)))*(Planning!$D$5:$F$8=$A3)) -> 0 | H3: =SUMPRODUCT((Planning!$C$5:$C$8=VALUE(RIGHT(H$2,2)))*(Planning!$D$5:$F$8=$A3)) -> 0 | I3: =SUMPRODUCT((Planning!$C$5:$C$8=VALUE(RIGHT(I$2,2)))*(Planning!$D$5:$F$8=$A3)) -> 0 | ... BT3: =SUMPRODUCT((Planning!$C$5:$C$8=VALUE(RIGHT(BT$2,2)))*(Planning!$D$5:$F$8=$A3)) -> 0
A4: ARO | B4: =SUMPRODUCT((Planning!$C$5:$C$8=VALUE(RIGHT(B$2,2)))*(Planning!$D$5:$F$8=$A4)) -> 1 | C4: =SUMPRODUCT((Planning!$C$5:$C$8=VALUE(RIGHT(C$2,2)))*(Planning!$D$5:$F$8=$A4)) -> 0 | D4: =SUMPRODUCT((Planning!$C$5:$C$8=VALUE(RIGHT(D$2,2)))*(Planning!$D$5:$F$8=$A4)) -> 0 | E4: =SUMPRODUCT((Planning!$C$5:$C$8=VALUE(RIGHT(E$2,2)))*(Planning!$D$5:$F$8=$A4)) -> 0 | F4: =SUMPRODUCT((Planning!$C$5:$C$8=VALUE(RIGHT(F$2,2)))*(Planning!$D$5:$F$8=$A4)) -> 0 | G4: =SUMPRODUCT((Planning!$C$5:$C$8=VALUE(RIGHT(G$2,2)))*(Planning!$D$5:$F$8=$A4)) -> 0 | H4: =SUMPRODUCT((Planning!$C$5:$C$8=VALUE(RIGHT(H$2,2)))*(Planning!$D$5:$F$8=$A4)) -> 0 | I4: =SUMPRODUCT((Planning!$C$5:$C$8=VALUE(RIGHT(I$2,2)))*(Planning!$D$5:$F$8=$A4)) -> 0 | ... BT4: =SUMPRODUCT((Planning!$C$5:$C$8=VALUE(RIGHT(BT$2,2)))*(Planning!$D$5:$F$8=$A4)) -> 0
A5: BAS | B5: =SUMPRODUCT((Planning!$C$5:$C$8=VALUE(RIGHT(B$2,2)))*(Planning!$D$5:$F$8=$A5)) -> 1 | C5: =SUMPRODUCT((Planning!$C$5:$C$8=VALUE(RIGHT(C$2,2)))*(Planning!$D$5:$F$8=$A5)) -> 0 | D5: =SUMPRODUCT((Planning!$C$5:$C$8=VALUE(RIGHT(D$2,2)))*(Planning!$D$5:$F$8=$A5)) -> 0 | E5: =SUMPRODUCT((Planning!$C$5:$C$8=VALUE(RIGHT(E$2,2)))*(Planning!$D$5:$F$8=$A5)) -> 0 | F5: =SUMPRODUCT((Planning!$C$5:$C$8=VALUE(RIGHT(F$2,2)))*(Planning!$D$5:$F$8=$A5)) -> 0 | G5: =SUMPRODUCT((Planning!$C$5:$C$8=VALUE(RIGHT(G$2,2)))*(Planning!$D$5:$F$8=$A5)) -> 0 | H5: =SUMPRODUCT((Planning!$C$5:$C$8=VALUE(RIGHT(H$2,2)))*(Planning!$D$5:$F$8=$A5)) -> 0 | I5: =SUMPRODUCT((Planning!$C$5:$C$8=VALUE(RIGHT(I$2,2)))*(Planning!$D$5:$F$8=$A5)) -> 0 | ... BT5: =SUMPRODUCT((Planning!$C$5:$C$8=VALUE(RIGHT(BT$2,2)))*(Planning!$D$5:$F$8=$A5)) -> 0
A6: BDC | B6: =SUMPRODUCT((Planning!$C$5:$C$8=VALUE(RIGHT(B$2,2)))*(Planning!$D$5:$F$8=$A6)) -> 0 | C6: =SUMPRODUCT((Planning!$C$5:$C$8=VALUE(RIGHT(C$2,2)))*(Planning!$D$5:$F$8=$A6)) -> 0 | D6: =SUMPRODUCT((Planning!$C$5:$C$8=VALUE(RIGHT(D$2,2)))*(Planning!$D$5:$F$8=$A6)) -> 0 | E6: =SUMPRODUCT((Planning!$C$5:$C$8=VALUE(RIGHT(E$2,2)))*(Planning!$D$5:$F$8=$A6)) -> 0 | F6: =SUMPRODUCT((Planning!$C$5:$C$8=VALUE(RIGHT(F$2,2)))*(Planning!$D$5:$F$8=$A6)) -> 0 | G6: =SUMPRODUCT((Planning!$C$5:$C$8=VALUE(RIGHT(G$2,2)))*(Planning!$D$5:$F$8=$A6)) -> 0 | H6: =SUMPRODUCT((Planning!$C$5:$C$8=VALUE(RIGHT(H$2,2)))*(Planning!$D$5:$F$8=$A6)) -> 0 | I6: =SUMPRODUCT((Planning!$C$5:$C$8=VALUE(RIGHT(I$2,2)))*(Planning!$D$5:$F$8=$A6)) -> 0 | ... BT6: =SUMPRODUCT((Planning!$C$5:$C$8=VALUE(RIGHT(BT$2,2)))*(Planning!$D$5:$F$8=$A6)) -> 0
A7: BNS | B7: =SUMPRODUCT((Planning!$C$5:$C$8=VALUE(RIGHT(B$2,2)))*(Planning!$D$5:$F$8=$A7)) -> 0 | C7: =SUMPRODUCT((Planning!$C$5:$C$8=VALUE(RIGHT(C$2,2)))*(Planning!$D$5:$F$8=$A7)) -> 0 | D7: =SUMPRODUCT((Planning!$C$5:$C$8=VALUE(RIGHT(D$2,2)))*(Planning!$D$5:$F$8=$A7)) -> 0 | E7: =SUMPRODUCT((Planning!$C$5:$C$8=VALUE(RIGHT(E$2,2)))*(Planning!$D$5:$F$8=$A7)) -> 0 | F7: =SUMPRODUCT((Planning!$C$5:$C$8=VALUE(RIGHT(F$2,2)))*(Planning!$D$5:$F$8=$A7)) -> 0 | G7: =SUMPRODUCT((Planning!$C$5:$C$8=VALUE(RIGHT(G$2,2)))*(Planning!$D$5:$F$8=$A7)) -> 0 | H7: =SUMPRODUCT((Planning!$C$5:$C$8=VALUE(RIGHT(H$2,2)))*(Planning!$D$5:$F$8=$A7)) -> 0 | I7: =SUMPRODUCT((Planning!$C$5:$C$8=VALUE(RIGHT(I$2,2)))*(Planning!$D$5:$F$8=$A7)) -> 0 | ... BT7: =SUMPRODUCT((Planning!$C$5:$C$8=VALUE(RIGHT(BT$2,2)))*(Planning!$D$5:$F$8=$A7)) -> 0
A8: CMR | B8: =SUMPRODUCT((Planning!$C$5:$C$8=VALUE(RIGHT(B$2,2)))*(Planning!$D$5:$F$8=$A8)) -> 0 | C8: =SUMPRODUCT((Planning!$C$5:$C$8=VALUE(RIGHT(C$2,2)))*(Planning!$D$5:$F$8=$A8)) -> 0 | D8: =SUMPRODUCT((Planning!$C$5:$C$8=VALUE(RIGHT(D$2,2)))*(Planning!$D$5:$F$8=$A8)) -> 0 | E8: =SUMPRODUCT((Planning!$C$5:$C$8=VALUE(RIGHT(E$2,2)))*(Planning!$D$5:$F$8=$A8)) -> 0 | F8: =SUMPRODUCT((Planning!$C$5:$C$8=VALUE(RIGHT(F$2,2)))*(Planning!$D$5:$F$8=$A8)) -> 0 | G8: =SUMPRODUCT((Planning!$C$5:$C$8=VALUE(RIGHT(G$2,2)))*(Planning!$D$5:$F$8=$A8)) -> 0 | H8: =SUMPRODUCT((Planning!$C$5:$C$8=VALUE(RIGHT(H$2,2)))*(Planning!$D$5:$F$8=$A8)) -> 0 | I8: =SUMPRODUCT((Planning!$C$5:$C$8=VALUE(RIGHT(I$2,2)))*(Planning!$D$5:$F$8=$A8)) -> 0 | ... BT8: =SUMPRODUCT((Planning!$C$5:$C$8=VALUE(RIGHT(BT$2,2)))*(Planning!$D$5:$F$8=$A8)) -> 0
A9: DIA | B9: =SUMPRODUCT((Planning!$C$5:$C$8=VALUE(RIGHT(B$2,2)))*(Planning!$D$5:$F$8=$A9)) -> 0 | C9: =SUMPRODUCT((Planning!$C$5:$C$8=VALUE(RIGHT(C$2,2)))*(Planning!$D$5:$F$8=$A9)) -> 0 | D9: =SUMPRODUCT((Planning!$C$5:$C$8=VALUE(RIGHT(D$2,2)))*(Planning!$D$5:$F$8=$A9)) -> 0 | E9: =SUMPRODUCT((Planning!$C$5:$C$8=VALUE(RIGHT(E$2,2)))*(Planning!$D$5:$F$8=$A9)) -> 0 | F9: =SUMPRODUCT((Planning!$C$5:$C$8=VALUE(RIGHT(F$2,2)))*(Planning!$D$5:$F$8=$A9)) -> 0 | G9: =SUMPRODUCT((Planning!$C$5:$C$8=VALUE(RIGHT(G$2,2)))*(Planning!$D$5:$F$8=$A9)) -> 0 | H9: =SUMPRODUCT((Planning!$C$5:$C$8=VALUE(RIGHT(H$2,2)))*(Planning!$D$5:$F$8=$A9)) -> 0 | I9: =SUMPRODUCT((Planning!$C$5:$C$8=VALUE(RIGHT(I$2,2)))*(Planning!$D$5:$F$8=$A9)) -> 0 | ... BT9: =SUMPRODUCT((Planning!$C$5:$C$8=VALUE(RIGHT(BT$2,2)))*(Planning!$D$5:$F$8=$A9)) -> 0
A10: DMS | B10: =SUMPRODUCT((Planning!$C$5:$C$8=VALUE(RIGHT(B$2,2)))*(Planning!$D$5:$F$8=$A10)) -> 0 | C10: =SUMPRODUCT((Planning!$C$5:$C$8=VALUE(RIGHT(C$2,2)))*(Planning!$D$5:$F$8=$A10)) -> 0 | D10: =SUMPRODUCT((Planning!$C$5:$C$8=VALUE(RIGHT(D$2,2)))*(Planning!$D$5:$F$8=$A10)) -> 0 | E10: =SUMPRODUCT((Planning!$C$5:$C$8=VALUE(RIGHT(E$2,2)))*(Planning!$D$5:$F$8=$A10)) -> 0 | F10: =SUMPRODUCT((Planning!$C$5:$C$8=VALUE(RIGHT(F$2,2)))*(Planning!$D$5:$F$8=$A10)) -> 0 | G10: =SUMPRODUCT((Planning!$C$5:$C$8=VALUE(RIGHT(G$2,2)))*(Planning!$D$5:$F$8=$A10)) -> 0 | H10: =SUMPRODUCT((Planning!$C$5:$C$8=VALUE(RIGHT(H$2,2)))*(Planning!$D$5:$F$8=$A10)) -> 0 | I10: =SUMPRODUCT((Planning!$C$5:$C$8=VALUE(RIGHT(I$2,2)))*(Planning!$D$5:$F$8=$A10)) -> 0 | ... BT10: =SUMPRODUCT((Planning!$C$5:$C$8=VALUE(RIGHT(BT$2,2)))*(Planning!$D$5:$F$8=$A10)) -> 0
A11: FRA | B11: =SUMPRODUCT((Planning!$C$5:$C$8=VALUE(RIGHT(B$2,2)))*(Planning!$D$5:$F$8=$A11)) -> 0 | C11: =SUMPRODUCT((Planning!$C$5:$C$8=VALUE(RIGHT(C$2,2)))*(Planning!$D$5:$F$8=$A11)) -> 0 | D11: =SUMPRODUCT((Planning!$C$5:$C$8=VALUE(RIGHT(D$2,2)))*(Planning!$D$5:$F$8=$A11)) -> 0 | E11: =SUMPRODUCT((Planning!$C$5:$C$8=VALUE(RIGHT(E$2,2)))*(Planning!$D$5:$F$8=$A11)) -> 0 | F11: =SUMPRODUCT((Planning!$C$5:$C$8=VALUE(RIGHT(F$2,2)))*(Planning!$D$5:$F$8=$A11)) -> 0 | G11: =SUMPRODUCT((Planning!$C$5:$C$8=VALUE(RIGHT(G$2,2)))*(Planning!$D$5:$F$8=$A11)) -> 0 | H11: =SUMPRODUCT((Planning!$C$5:$C$8=VALUE(RIGHT(H$2,2)))*(Planning!$D$5:$F$8=$A11)) -> 0 | I11: =SUMPRODUCT((Planning!$C$5:$C$8=VALUE(RIGHT(I$2,2)))*(Planning!$D$5:$F$8=$A11)) -> 0 | ... BT11: =SUMPRODUCT((Planning!$C$5:$C$8=VALUE(RIGHT(BT$2,2)))*(Planning!$D$5:$F$8=$A11)) -> 0
A12: GAM | B12: =SUMPRODUCT((Planning!$C$5:$C$8=VALUE(RIGHT(B$2,2)))*(Planning!$D$5:$F$8=$A12)) -> 1 | C12: =SUMPRODUCT((Planning!$C$5:$C$8=VALUE(RIGHT(C$2,2)))*(Planning!$D$5:$F$8=$A12)) -> 0 | D12: =SUMPRODUCT((Planning!$C$5:$C$8=VALUE(RIGHT(D$2,2)))*(Planning!$D$5:$F$8=$A12)) -> 0 | E12: =SUMPRODUCT((Planning!$C$5:$C$8=VALUE(RIGHT(E$2,2)))*(Planning!$D$5:$F$8=$A12)) -> 0 | F12: =SUMPRODUCT((Planning!$C$5:$C$8=VALUE(RIGHT(F$2,2)))*(Planning!$D$5:$F$8=$A12)) -> 0 | G12: =SUMPRODUCT((Planning!$C$5:$C$8=VALUE(RIGHT(G$2,2)))*(Planning!$D$5:$F$8=$A12)) -> 0 | H12: =SUMPRODUCT((Planning!$C$5:$C$8=VALUE(RIGHT(H$2,2)))*(Planning!$D$5:$F$8=$A12)) -> 0 | I12: =SUMPRODUCT((Planning!$C$5:$C$8=VALUE(RIGHT(I$2,2)))*(Planning!$D$5:$F$8=$A12)) -> 0 | ... BT12: =SUMPRODUCT((Planning!$C$5:$C$8=VALUE(RIGHT(BT$2,2)))*(Planning!$D$5:$F$8=$A12)) -> 0
A13: GLL | B13: =SUMPRODUCT((Planning!$C$5:$C$8=VALUE(RIGHT(B$2,2)))*(Planning!$D$5:$F$8=$A13)) -> 0 | C13: =SUMPRODUCT((Planning!$C$5:$C$8=VALUE(RIGHT(C$2,2)))*(Planning!$D$5:$F$8=$A13)) -> 0 | D13: =SUMPRODUCT((Planning!$C$5:$C$8=VALUE(RIGHT(D$2,2)))*(Planning!$D$5:$F$8=$A13)) -> 0 | E13: =SUMPRODUCT((Planning!$C$5:$C$8=VALUE(RIGHT(E$2,2)))*(Planning!$D$5:$F$8=$A13)) -> 0 | F13: =SUMPRODUCT((Planning!$C$5:$C$8=VALUE(RIGHT(F$2,2)))*(Planning!$D$5:$F$8=$A13)) -> 0 | G13: =SUMPRODUCT((Planning!$C$5:$C$8=VALUE(RIGHT(G$2,2)))*(Planning!$D$5:$F$8=$A13)) -> 0 | H13: =SUMPRODUCT((Planning!$C$5:$C$8=VALUE(RIGHT(H$2,2)))*(Planning!$D$5:$F$8=$A13)) -> 0 | I13: =SUMPRODUCT((Planning!$C$5:$C$8=VALUE(RIGHT(I$2,2)))*(Planning!$D$5:$F$8=$A13)) -> 0 | ... BT13: =SUMPRODUCT((Planning!$C$5:$C$8=VALUE(RIGHT(BT$2,2)))*(Planning!$D$5:$F$8=$A13)) -> 0
A14: INJ | B14: =SUMPRODUCT((Planning!$C$5:$C$8=VALUE(RIGHT(B$2,2)))*(Planning!$D$5:$F$8=$A14)) -> 0 | C14: =SUMPRODUCT((Planning!$C$5:$C$8=VALUE(RIGHT(C$2,2)))*(Planning!$D$5:$F$8=$A14)) -> 0 | D14: =SUMPRODUCT((Planning!$C$5:$C$8=VALUE(RIGHT(D$2,2)))*(Planning!$D$5:$F$8=$A14)) -> 0 | E14: =SUMPRODUCT((Planning!$C$5:$C$8=VALUE(RIGHT(E$2,2)))*(Planning!$D$5:$F$8=$A14)) -> 0 | F14: =SUMPRODUCT((Planning!$C$5:$C$8=VALUE(RIGHT(F$2,2)))*(Planning!$D$5:$F$8=$A14)) -> 0 | G14: =SUMPRODUCT((Planning!$C$5:$C$8=VALUE(RIGHT(G$2,2)))*(Planning!$D$5:$F$8=$A14)) -> 0 | H14: =SUMPRODUCT((Planning!$C$5:$C$8=VALUE(RIGHT(H$2,2)))*(Planning!$D$5:$F$8=$A14)) -> 0 | I14: =SUMPRODUCT((Planning!$C$5:$C$8=VALUE(RIGHT(I$2,2)))*(Planning!$D$5:$F$8=$A14)) -> 0 | ... BT14: =SUMPRODUCT((Planning!$C$5:$C$8=VALUE(RIGHT(BT$2,2)))*(Planning!$D$5:$F$8=$A14)) -> 0
... A17: MRJ | B17: =SUMPRODUCT((Planning!$C$5:$C$8=VALUE(RIGHT(B$2,2)))*(Planning!$D$5:$F$8=$A17)) -> 0 | C17: =SUMPRODUCT((Planning!$C$5:$C$8=VALUE(RIGHT(C$2,2)))*(Planning!$D$5:$F$8=$A17)) -> 0 | D17: =SUMPRODUCT((Planning!$C$5:$C$8=VALUE(RIGHT(D$2,2)))*(Planning!$D$5:$F$8=$A17)) -> 0 | E17: =SUMPRODUCT((Planning!$C$5:$C$8=VALUE(RIGHT(E$2,2)))*(Planning!$D$5:$F$8=$A17)) -> 0 | F17: =SUMPRODUCT((Planning!$C$5:$C$8=VALUE(RIGHT(F$2,2)))*(Planning!$D$5:$F$8=$A17)) -> 0 | G17: =SUMPRODUCT((Planning!$C$5:$C$8=VALUE(RIGHT(G$2,2)))*(Planning!$D$5:$F$8=$A17)) -> 0 | H17: =SUMPRODUCT((Planning!$C$5:$C$8=VALUE(RIGHT(H$2,2)))*(Planning!$D$5:$F$8=$A17)) -> 0 | I17: =SUMPRODUCT((Planning!$C$5:$C$8=VALUE(RIGHT(I$2,2)))*(Planning!$D$5:$F$8=$A17)) -> 0 | ... BT17: =SUMPRODUCT((Planning!$C$5:$C$8=VALUE(RIGHT(BT$2,2)))*(Planning!$D$5:$F$8=$A17)) -> 0
