Workbook
Name dps: 'F2'!$B$4:$B$12
Name Fournisseurs: Intermédiaire!$C$5:$C$9
Name ListeFour: OFFSET(Params!$A$1,1,0,COUNTA(Params!$A:$A)-1)
Name Matrice_dps: 'F3'!$B$4:$E$12
Name Matrice_fournisseurs: Intermédiaire!$C$5:$D$9
Name Matrice_Metro: 'F1'!$B$4:$E$12
Name Matrice_Nouveaux: 'F4'!$B$4:$E$12
Name Matrice_tango: 'F3'!$B$4:$E$12
Name Metro: 'F1'!$B$4:$B$12
Name Nouveaux: 'F4'!$B$4:$B$12
Name tango: 'F3'!$B$4:$B$12

Sheet Liste
B3: Nom du fournisseur
A5: F1 | B5: Metro
A6: F2 | B6: dps
A7: F3 | B7: tango
A8: F4 | B8: Nouveaux
A9: F5
B12: Fournisseurs | D12: Produits | F12: Valeur
B13: dps | D13: Produit 10 | F13: =VLOOKUP(D13,INDIRECT(Intermédiaire!G5),4,0) -> #N/A
B17: J'ai 2 problèmes :
B19: Quand je sélectionne le fournisseur Métro ou tango, j'ai un choix dans la liste déroulante des produits et le prix apparaît.
B20: Par contre pour le choix DPS, le produit apparaît mais la valeur est N/A !
B22: Ensuite je souhaiterais pouvoir créer un fournisseur, par exemple sur F4, en enregistrant une macro.
B23: Quand j'enregistre une macro, en prenant par exemple le racourcis Ctrl Q, je peux définir le nom du fournisseur, et il apparaît dans la liste déroulante des fournisseurs.
B24: Par contre je ne peux pas définir le nom de la Matrice.
B25: Et les deux nouveaux noms n'apparaîtssent pas dans la liste des zones nommées, mais sont bien dans le groupe des noms !
B26: Et la fonction Q ne va pas jusqu'au bout.
B28: Avez-vous une solution ?

Sheet Intermédiaire
C3: Fournisseurs | D3: =CONCATENATE("Matrice_",C3) -> Matrice_Fournisseurs | G3: Calcul valeur
B5: F1 | C5: =Liste!B5 -> Metro | D5: =CONCATENATE("Matrice_",C5) -> Matrice_Metro | G5: =VLOOKUP(Liste!B13,Matrice_fournisseurs,2,0) -> Matrice_dps
B6: F2 | C6: =Liste!B6 -> dps | D6: =CONCATENATE("Matrice_",C6) -> Matrice_dps
B7: F3 | C7: =Liste!B7 -> tango | D7: =CONCATENATE("Matrice_",C7) -> Matrice_tango
B8: F4 | C8: =Liste!B8 -> Nouveaux | D8: =CONCATENATE("Matrice_",C8) -> Matrice_Nouveaux
B9: F5 | C9: =Liste!B9 -> 0 | D9: =CONCATENATE("Matrice_",C9) -> Matrice_0
C13: Dans la colonne C, le nom du fournisseurs est la copie de la colonne B de la feuille Liste
C14: La colonne D est le nom concaténer entre le mot "matrice_" et la case de la même ligne, colonne C.

Sheet Choix
A1: Choix
A2: Fournisseurs | B2: Feuille | C2: Produit | D2: Valeur
A3: dps | B3: =VLOOKUP(A3,OFFSET(Params!$A$1,1,0,COUNTA(Params!$A:$A)-1,2),2,FALSE) -> F2 | C3: Produit 13 | D3: =IFERROR(VLOOKUP(C3,INDIRECT(B3&"!$B$4:$E$12"),4,FALSE),0) -> 120

Sheet F1
A1: =Liste!B5 -> Metro
B3: Produits | C3: Prix unitaire | D3: Nombre | E3: Total
B4: Produit 1 | C4: 12 | D4: 5 | E4: =C4*D4 -> 60
B5: Produit 2 | C5: 15 | D5: 3 | E5: =C5*D5 -> 45
B6: Produit 3 | C6: 20 | D6: 4 | E6: =C6*D6 -> 80
B7: Produit 4 | C7: 30 | D7: 3 | E7: =C7*D7 -> 90
B8: Produit 5 | C8: 11 | D8: 5 | E8: =C8*D8 -> 55
B9: Produit 6 | E9: =C9*D9 -> 0
B10: Produit 7 | E10: =C10*D10 -> 0
B11: Produit 8 | E11: =C11*D11 -> 0
B12: Produit 9 | E12: =C12*D12 -> 0

Sheet F2
A1: =Liste!B6 -> dps
B3: Produits | C3: Prix unitaire | D3: Nombre | E3: Total
B4: Produit 10 | C4: 45 | D4: 5 | E4: =C4*D4 -> 225
B5: Produit 11 | C5: 50 | D5: 3 | E5: =C5*D5 -> 150
B6: Produit 12 | C6: 60 | D6: 4 | E6: =C6*D6 -> 240
B7: Produit 13 | C7: 40 | D7: 3 | E7: =C7*D7 -> 120
B8: Produit 14 | C8: 70 | D8: 5 | E8: =C8*D8 -> 350
B9: Produit 15 | E9: =C9*D9 -> 0
B10: Produit 16 | E10: =C10*D10 -> 0
B11: Produit 17 | E11: =C11*D11 -> 0
B12: Produit 18 | E12: =C12*D12 -> 0

Sheet F3
A1: =Liste!B7 -> tango
B3: Produits | C3: Prix unitaire | D3: Nombre | E3: Total
B4: TVTVTVT | C4: 51 | D4: 3 | E4: =C4*D4 -> 153
B5: EGEEGEGE | C5: 52 | D5: 4 | E5: =C5*D5 -> 208
B6: EGGGTGTG | C6: 53 | D6: 5 | E6: =C6*D6 -> 265
B7: YYRZE | C7: 54 | D7: 6 | E7: =C7*D7 -> 324
E8: =C8*D8 -> 0
E9: =C9*D9 -> 0
E10: =C10*D10 -> 0
E11: =C11*D11 -> 0
E12: =C12*D12 -> 0

Sheet F4
A1: =Liste!B8 -> Nouveaux
B3: Produits | C3: Prix unitaire | D3: Nombre | E3: Total
B4: poibn | C4: 50 | D4: 1 | E4: =C4*D4 -> 50
B5: hrye | C5: 50 | D5: 2 | E5: =C5*D5 -> 100
B6: ezgjuè | C6: 50 | D6: 3 | E6: =C6*D6 -> 150
B7: fdha | C7: 60 | D7: 4 | E7: =C7*D7 -> 240
B8: hjeea | C8: 70 | D8: 5 | E8: =C8*D8 -> 350
E9: =C9*D9 -> 0
E10: =C10*D10 -> 0
E11: =C11*D11 -> 0
E12: =C12*D12 -> 0

Sheet F5
A1: =Liste!B9 -> 0
B3: Produits | C3: Prix unitaire | D3: Nombre | E3: Total
B4: POIU | C4: 50 | D4: 1 | E4: =C4*D4 -> 50
B5: AZERT | C5: 50 | D5: 2 | E5: =C5*D5 -> 100
B6: SFDGH | C6: 50 | D6: 3 | E6: =C6*D6 -> 150
B7: WVCB | C7: 60 | D7: 4 | E7: =C7*D7 -> 240
B8: SZRFTYJU | C8: 70 | D8: 5 | E8: =C8*D8 -> 350
E9: =C9*D9 -> 0
E10: =C10*D10 -> 0
E11: =C11*D11 -> 0
E12: =C12*D12 -> 0

Sheet Params
A1: Fournisseurs | B1: Feuille
A2: Metro | B2: F1
A3: dps | B3: F2
A4: tango | B4: F3
A5: Nouveaux | B5: F4
