Workbook

Sheet Feuil1
A1: Nom | B1: Matricule
A2: =IFERROR(VLOOKUP(LEFT(B2,2),Param!A:B,2,FALSE),"Code?") -> Application | B2: AP001
A3: =IFERROR(VLOOKUP(LEFT(B3,2),Param!A:B,2,FALSE),"Code?") -> Application | B3: AP020
A4: =IFERROR(VLOOKUP(LEFT(B4,2),Param!A:B,2,FALSE),"Code?") -> Acnée | B4: AC120
A5: =IFERROR(VLOOKUP(LEFT(B5,2),Param!A:B,2,FALSE),"Code?") -> Acnée | B5: AC169
A6: =IFERROR(VLOOKUP(LEFT(B6,2),Param!A:B,2,FALSE),"Code?") -> Acnée | B6: AC177
A7: =IFERROR(VLOOKUP(LEFT(B7,2),Param!A:B,2,FALSE),"Code?") -> Atila | B7: AT149
A8: =IFERROR(VLOOKUP(LEFT(B8,2),Param!A:B,2,FALSE),"Code?") -> Atila | B8: AT078
A9: =IFERROR(VLOOKUP(LEFT(B9,2),Param!A:B,2,FALSE),"Code?") -> Atila | B9: AT005
A10: =IFERROR(VLOOKUP(LEFT(B10,2),Param!A:B,2,FALSE),"Code?") -> Atila | B10: AT060
A11: =IFERROR(VLOOKUP(LEFT(B11,2),Param!A:B,2,FALSE),"Code?") -> Code? | B11: EC008
A12: =IFERROR(VLOOKUP(LEFT(B12,2),Param!A:B,2,FALSE),"Code?") -> Code? | B12: EC020
A13: =IFERROR(VLOOKUP(LEFT(B13,2),Param!A:B,2,FALSE),"Code?") -> Code? | B13: EC002
... A51: =IFERROR(VLOOKUP(LEFT(B51,2),Param!A:B,2,FALSE),"Code?") -> Code? | B51: SR063

Sheet Param
A1: Code | B1: Société
A2: AP | B2: Application
A3: AC | B3: Acnée
A4: AT | B4: Atila
