Workbook

Sheet Contrats Intermittents
A1: NOM INTERMITTENT SELECTIONNER | B1: PRENOM | C1: AFFAIRE (SOCIETE) | D1: AFFAIRE (NUMERO) | E1: OBJET (ANNEE) | F1: OBJET (NUMERO) | G1: DEBUT CONTRAT | H1: DATE FIN CONTRATS | I1: NOMBRE DE JOURS | J1: POSTE | K1: SALAIRE | L1: DPAE | M1: LIEU PRESTATION | N1: NUMERO DE TELEPHONE | O1: zEMAIL | P1: ADRESSE INTERMITTENT | Q1: CP | R1: zVILLE | S1: DATE DE NAISSANCE | T1: LIEU DE NAISSANCE | U1: CONGE SPECTACLE | V1: SECURITE SOCIALE | W1: VISITE MEDICALE
A2: DUBOIS | B2: =VLOOKUP(A2,'Intermittents Reguliers'!$A$2:'Intermittents Reguliers'!$M$50,2,0) -> #N/A | D2: 21407 | E2: 216 Z | G2: 44508 | H2: 44513 | I2: =H2-G2+1 -> 6 | J2: Régisseur général – Cadre – Catégorie B – Qualification 7 | M2: Grande Halle la Villette – 211 Avenue Jean Jaurès – 75019 Paris | N2: =VLOOKUP(A2,'Intermittents Reguliers'!$A$2:'Intermittents Reguliers'!$M$50,11,0) -> #N/A | O2: =VLOOKUP(A2,'Intermittents Reguliers'!$A$1:'Intermittents Reguliers'!$M$49,12,0) -> #N/A | P2: =VLOOKUP(A2,'Intermittents Reguliers'!$A$2:'Intermittents Reguliers'!$M$50,3,0) -> #N/A | Q2: =VLOOKUP(A2,'Intermittents Reguliers'!$A$2:'Intermittents Reguliers'!$M$50,4,0) -> #N/A | R2: =VLOOKUP(A2,'Intermittents Reguliers'!$A$2:'Intermittents Reguliers'!$M$50,5,0) -> #N/A | S2: =VLOOKUP(A2,'Intermittents Reguliers'!$A$2:'Intermittents Reguliers'!$M$50,7,0) -> #N/A | T2: =VLOOKUP(A2,'Intermittents Reguliers'!$A$2:'Intermittents Reguliers'!$M$50,8,0) -> #N/A | U2: =VLOOKUP(A2,'Intermittents Reguliers'!$A$1:'Intermittents Reguliers'!$M$49,9,0) -> #N/A | V2: =VLOOKUP(A2,'Intermittents Reguliers'!$A$1:'Intermittents Reguliers'!$M$49,10,0) -> #N/A | W2: =VLOOKUP(A2,'Intermittents Reguliers'!$A$1:'Intermittents Reguliers'!$M$49,13,0) -> #N/A
A3: GRALL | B3: =VLOOKUP(A3,'Intermittents Reguliers'!$A$2:'Intermittents Reguliers'!$M$50,2,0) -> #N/A | D3: 21407 | E3: 216 Z | G3: 44508 | H3: 44513 | I3: =H3-G3+1 -> 6 | J3: Technicien de la Vision SV – Statut Cadre – Catégorie B - Qualification 6 | M3: Grande Halle la Villette – 211 Avenue Jean Jaurès – 75019 Paris | N3: =VLOOKUP(A3,'Intermittents Reguliers'!$A$2:'Intermittents Reguliers'!$M$50,11,0) -> #N/A | O3: =VLOOKUP(A3,'Intermittents Reguliers'!$A$1:'Intermittents Reguliers'!$M$49,12,0) -> #N/A | P3: =VLOOKUP(A3,'Intermittents Reguliers'!$A$2:'Intermittents Reguliers'!$M$50,3,0) -> #N/A | Q3: =VLOOKUP(A3,'Intermittents Reguliers'!$A$2:'Intermittents Reguliers'!$M$50,4,0) -> #N/A | R3: =VLOOKUP(A3,'Intermittents Reguliers'!$A$2:'Intermittents Reguliers'!$M$50,5,0) -> #N/A | S3: =VLOOKUP(A3,'Intermittents Reguliers'!$A$2:'Intermittents Reguliers'!$M$50,7,0) -> #N/A | T3: =VLOOKUP(A3,'Intermittents Reguliers'!$A$2:'Intermittents Reguliers'!$M$50,8,0) -> #N/A | U3: =VLOOKUP(A3,'Intermittents Reguliers'!$A$1:'Intermittents Reguliers'!$M$49,9,0) -> #N/A | V3: =VLOOKUP(A3,'Intermittents Reguliers'!$A$1:'Intermittents Reguliers'!$M$49,10,0) -> #N/A | W3: =VLOOKUP(A3,'Intermittents Reguliers'!$A$1:'Intermittents Reguliers'!$M$49,13,0) -> #N/A
A4: BOCHON | B4: =VLOOKUP(A4,'Intermittents Reguliers'!$A$2:'Intermittents Reguliers'!$M$50,2,0) -> #N/A | D4: 21407 | E4: 216 Z | G4: 44508 | H4: 44513 | I4: =H4-G4+1 -> 6 | J4: Technicien de la Vision SV – Statut Cadre – Catégorie B - Qualification 6 | M4: Grande Halle la Villette – 211 Avenue Jean Jaurès – 75019 Paris | N4: =VLOOKUP(A4,'Intermittents Reguliers'!$A$2:'Intermittents Reguliers'!$M$50,11,0) -> #N/A | O4: =VLOOKUP(A4,'Intermittents Reguliers'!$A$1:'Intermittents Reguliers'!$M$49,12,0) -> #N/A | P4: =VLOOKUP(A4,'Intermittents Reguliers'!$A$2:'Intermittents Reguliers'!$M$50,3,0) -> #N/A | Q4: =VLOOKUP(A4,'Intermittents Reguliers'!$A$2:'Intermittents Reguliers'!$M$50,4,0) -> #N/A | R4: =VLOOKUP(A4,'Intermittents Reguliers'!$A$2:'Intermittents Reguliers'!$M$50,5,0) -> #N/A | S4: =VLOOKUP(A4,'Intermittents Reguliers'!$A$2:'Intermittents Reguliers'!$M$50,7,0) -> #N/A | T4: =VLOOKUP(A4,'Intermittents Reguliers'!$A$2:'Intermittents Reguliers'!$M$50,8,0) -> #N/A | U4: =VLOOKUP(A4,'Intermittents Reguliers'!$A$1:'Intermittents Reguliers'!$M$49,9,0) -> #N/A | V4: =VLOOKUP(A4,'Intermittents Reguliers'!$A$1:'Intermittents Reguliers'!$M$49,10,0) -> #N/A | W4: =VLOOKUP(A4,'Intermittents Reguliers'!$A$1:'Intermittents Reguliers'!$M$49,13,0) -> #N/A
A5: PAIMPARAY | B5: =VLOOKUP(A5,'Intermittents Reguliers'!$A$2:'Intermittents Reguliers'!$M$50,2,0) -> #N/A | D5: 21407 | E5: 216 Z | G5: 44508 | H5: 44513 | I5: =H5-G5+1 -> 6 | J5: Technicien vidéoprojection SV – Statut Etam – Catégorie B - Qualification 4 | M5: Grande Halle la Villette – 211 Avenue Jean Jaurès – 75019 Paris | N5: =VLOOKUP(A5,'Intermittents Reguliers'!$A$2:'Intermittents Reguliers'!$M$50,11,0) -> #N/A | O5: =VLOOKUP(A5,'Intermittents Reguliers'!$A$1:'Intermittents Reguliers'!$M$49,12,0) -> #N/A | P5: =VLOOKUP(A5,'Intermittents Reguliers'!$A$2:'Intermittents Reguliers'!$M$50,3,0) -> #N/A | Q5: =VLOOKUP(A5,'Intermittents Reguliers'!$A$2:'Intermittents Reguliers'!$M$50,4,0) -> #N/A | R5: =VLOOKUP(A5,'Intermittents Reguliers'!$A$2:'Intermittents Reguliers'!$M$50,5,0) -> #N/A | S5: =VLOOKUP(A5,'Intermittents Reguliers'!$A$2:'Intermittents Reguliers'!$M$50,7,0) -> #N/A | T5: =VLOOKUP(A5,'Intermittents Reguliers'!$A$2:'Intermittents Reguliers'!$M$50,8,0) -> #N/A | U5: =VLOOKUP(A5,'Intermittents Reguliers'!$A$1:'Intermittents Reguliers'!$M$49,9,0) -> #N/A | V5: =VLOOKUP(A5,'Intermittents Reguliers'!$A$1:'Intermittents Reguliers'!$M$49,10,0) -> #N/A | W5: =VLOOKUP(A5,'Intermittents Reguliers'!$A$1:'Intermittents Reguliers'!$M$49,13,0) -> #N/A
A6: MAHE | B6: =VLOOKUP(A6,'Intermittents Reguliers'!$A$2:'Intermittents Reguliers'!$M$50,2,0) -> #N/A | D6: 21407 | E6: 216 Z | G6: 44509 | H6: 44513 | I6: =H6-G6+1 -> 5 | J6: Technicien de la Vision SV – Statut Cadre – Catégorie B - Qualification 6 | M6: Grande Halle la Villette – 211 Avenue Jean Jaurès – 75019 Paris | N6: =VLOOKUP(A6,'Intermittents Reguliers'!$A$2:'Intermittents Reguliers'!$M$50,11,0) -> #N/A | O6: =VLOOKUP(A6,'Intermittents Reguliers'!$A$1:'Intermittents Reguliers'!$M$49,12,0) -> #N/A | P6: =VLOOKUP(A6,'Intermittents Reguliers'!$A$2:'Intermittents Reguliers'!$M$50,3,0) -> #N/A | Q6: =VLOOKUP(A6,'Intermittents Reguliers'!$A$2:'Intermittents Reguliers'!$M$50,4,0) -> #N/A | R6: =VLOOKUP(A6,'Intermittents Reguliers'!$A$2:'Intermittents Reguliers'!$M$50,5,0) -> #N/A | S6: =VLOOKUP(A6,'Intermittents Reguliers'!$A$2:'Intermittents Reguliers'!$M$50,7,0) -> #N/A | T6: =VLOOKUP(A6,'Intermittents Reguliers'!$A$2:'Intermittents Reguliers'!$M$50,8,0) -> #N/A | U6: =VLOOKUP(A6,'Intermittents Reguliers'!$A$1:'Intermittents Reguliers'!$M$49,9,0) -> #N/A | V6: =VLOOKUP(A6,'Intermittents Reguliers'!$A$1:'Intermittents Reguliers'!$M$49,10,0) -> #N/A | W6: =VLOOKUP(A6,'Intermittents Reguliers'!$A$1:'Intermittents Reguliers'!$M$49,13,0) -> #N/A
A7: POUGIN | B7: =VLOOKUP(A7,'Intermittents Reguliers'!$A$2:'Intermittents Reguliers'!$M$50,2,0) -> #N/A | D7: 21407 | E7: 216 Z | G7: 44509 | H7: 44513 | I7: =H7-G7+1 -> 5 | J7: Technicien de la Vision SV – Statut Cadre – Catégorie B - Qualification 6 | M7: Grande Halle la Villette – 211 Avenue Jean Jaurès – 75019 Paris | N7: =VLOOKUP(A7,'Intermittents Reguliers'!$A$2:'Intermittents Reguliers'!$M$50,11,0) -> #N/A | O7: =VLOOKUP(A7,'Intermittents Reguliers'!$A$1:'Intermittents Reguliers'!$M$49,12,0) -> #N/A | P7: =VLOOKUP(A7,'Intermittents Reguliers'!$A$2:'Intermittents Reguliers'!$M$50,3,0) -> #N/A | Q7: =VLOOKUP(A7,'Intermittents Reguliers'!$A$2:'Intermittents Reguliers'!$M$50,4,0) -> #N/A | R7: =VLOOKUP(A7,'Intermittents Reguliers'!$A$2:'Intermittents Reguliers'!$M$50,5,0) -> #N/A | S7: =VLOOKUP(A7,'Intermittents Reguliers'!$A$2:'Intermittents Reguliers'!$M$50,7,0) -> #N/A | T7: =VLOOKUP(A7,'Intermittents Reguliers'!$A$2:'Intermittents Reguliers'!$M$50,8,0) -> #N/A | U7: =VLOOKUP(A7,'Intermittents Reguliers'!$A$1:'Intermittents Reguliers'!$M$49,9,0) -> #N/A | V7: =VLOOKUP(A7,'Intermittents Reguliers'!$A$1:'Intermittents Reguliers'!$M$49,10,0) -> #N/A | W7: =VLOOKUP(A7,'Intermittents Reguliers'!$A$1:'Intermittents Reguliers'!$M$49,13,0) -> #N/A
A8: ROQUES | B8: =VLOOKUP(A8,'Intermittents Reguliers'!$A$2:'Intermittents Reguliers'!$M$70,2,0) -> #N/A | D8: 21407 | E8: 216 Z | G8: 44508 | H8: 44513 | I8: =H8-G8+1 -> 6 | J8: Technicien vidéoprojection SV – Statut Etam – Catégorie B - Qualification 4 | M8: Grande Halle la Villette – 211 Avenue Jean Jaurès – 75019 Paris | N8: =VLOOKUP(A8,'Intermittents Reguliers'!$A$2:'Intermittents Reguliers'!$M$70,11,0) -> #N/A | O8: =VLOOKUP(A8,'Intermittents Reguliers'!$A$1:'Intermittents Reguliers'!$M$70,12,0) -> #N/A | P8: =VLOOKUP(A8,'Intermittents Reguliers'!$A$2:'Intermittents Reguliers'!$M$70,3,0) -> #N/A | Q8: =VLOOKUP(A8,'Intermittents Reguliers'!$A$2:'Intermittents Reguliers'!$M$70,4,0) -> #N/A | R8: =VLOOKUP(A8,'Intermittents Reguliers'!$A$2:'Intermittents Reguliers'!$M$70,5,0) -> #N/A | S8: =VLOOKUP(A8,'Intermittents Reguliers'!$A$2:'Intermittents Reguliers'!$M$70,7,0) -> #N/A | T8: =VLOOKUP(A8,'Intermittents Reguliers'!$A$2:'Intermittents Reguliers'!$M$70,8,0) -> #N/A | U8: =VLOOKUP(A8,'Intermittents Reguliers'!$A$1:'Intermittents Reguliers'!$M$70,9,0) -> #N/A | V8: =VLOOKUP(A8,'Intermittents Reguliers'!$A$1:'Intermittents Reguliers'!$M$70,10,0) -> #N/A | W8: =VLOOKUP(A8,'Intermittents Reguliers'!$A$1:'Intermittents Reguliers'!$M$70,13,0) -> #N/A
A9: GOANEC | B9: =VLOOKUP(A9,'Intermittents Reguliers'!$A$2:'Intermittents Reguliers'!$M$70,2,0) -> #N/A | D9: 21407 | E9: 216 Z | G9: 44508 | H9: 44509 | I9: =H9-G9+1 -> 2 | J9: Technicien vidéoprojection SV – Statut Etam – Catégorie B - Qualification 4 | M9: Grande Halle la Villette – 211 Avenue Jean Jaurès – 75019 Paris | N9: =VLOOKUP(A9,'Intermittents Reguliers'!$A$2:'Intermittents Reguliers'!$M$70,11,0) -> #N/A | O9: =VLOOKUP(A9,'Intermittents Reguliers'!$A$1:'Intermittents Reguliers'!$M$70,12,0) -> #N/A | P9: =VLOOKUP(A9,'Intermittents Reguliers'!$A$2:'Intermittents Reguliers'!$M$70,3,0) -> #N/A | Q9: =VLOOKUP(A9,'Intermittents Reguliers'!$A$2:'Intermittents Reguliers'!$M$70,4,0) -> #N/A | R9: =VLOOKUP(A9,'Intermittents Reguliers'!$A$2:'Intermittents Reguliers'!$M$70,5,0) -> #N/A | S9: =VLOOKUP(A9,'Intermittents Reguliers'!$A$2:'Intermittents Reguliers'!$M$70,7,0) -> #N/A | T9: =VLOOKUP(A9,'Intermittents Reguliers'!$A$2:'Intermittents Reguliers'!$M$70,8,0) -> #N/A | U9: =VLOOKUP(A9,'Intermittents Reguliers'!$A$1:'Intermittents Reguliers'!$M$70,9,0) -> #N/A | V9: =VLOOKUP(A9,'Intermittents Reguliers'!$A$1:'Intermittents Reguliers'!$M$70,10,0) -> #N/A | W9: =VLOOKUP(A9,'Intermittents Reguliers'!$A$1:'Intermittents Reguliers'!$M$70,13,0) -> #N/A
A10: LORCERIE | B10: =VLOOKUP(A10,'Intermittents Reguliers'!$A$2:'Intermittents Reguliers'!$M$70,2,0) -> #N/A | D10: 21407 | E10: 216 Z | G10: 44513 | H10: 44513 | I10: =H10-G10+1 -> 1 | J10: Technicien vidéoprojection SV – Statut Etam – Catégorie B - Qualification 4 | M10: Grande Halle la Villette – 211 Avenue Jean Jaurès – 75019 Paris | N10: =VLOOKUP(A10,'Intermittents Reguliers'!$A$2:'Intermittents Reguliers'!$M$70,11,0) -> #N/A | O10: =VLOOKUP(A10,'Intermittents Reguliers'!$A$1:'Intermittents Reguliers'!$M$70,12,0) -> #N/A | P10: =VLOOKUP(A10,'Intermittents Reguliers'!$A$2:'Intermittents Reguliers'!$M$70,3,0) -> #N/A | Q10: =VLOOKUP(A10,'Intermittents Reguliers'!$A$2:'Intermittents Reguliers'!$M$70,4,0) -> #N/A | R10: =VLOOKUP(A10,'Intermittents Reguliers'!$A$2:'Intermittents Reguliers'!$M$70,5,0) -> #N/A | S10: =VLOOKUP(A10,'Intermittents Reguliers'!$A$2:'Intermittents Reguliers'!$M$70,7,0) -> #N/A | T10: =VLOOKUP(A10,'Intermittents Reguliers'!$A$2:'Intermittents Reguliers'!$M$70,8,0) -> #N/A | U10: =VLOOKUP(A10,'Intermittents Reguliers'!$A$1:'Intermittents Reguliers'!$M$70,9,0) -> #N/A | V10: =VLOOKUP(A10,'Intermittents Reguliers'!$A$1:'Intermittents Reguliers'!$M$70,10,0) -> #N/A | W10: =VLOOKUP(A10,'Intermittents Reguliers'!$A$1:'Intermittents Reguliers'!$M$70,13,0) -> #N/A
A11: MALHOMME | B11: =VLOOKUP(A11,'Intermittents Reguliers'!$A$2:'Intermittents Reguliers'!$M$70,2,0) -> #N/A | D11: 21407 | E11: 216 Z | G11: 44509 | H11: 44513 | I11: =H11-G11+1 -> 5 | J11: Chef Sonorisateur - statut Cadre - Catégorie B – Qualification 6 | M11: Grande Halle la Villette – 211 Avenue Jean Jaurès – 75019 Paris | N11: =VLOOKUP(A11,'Intermittents Reguliers'!$A$2:'Intermittents Reguliers'!$M$70,11,0) -> #N/A | O11: =VLOOKUP(A11,'Intermittents Reguliers'!$A$1:'Intermittents Reguliers'!$M$70,12,0) -> #N/A | P11: =VLOOKUP(A11,'Intermittents Reguliers'!$A$2:'Intermittents Reguliers'!$M$70,3,0) -> #N/A | Q11: =VLOOKUP(A11,'Intermittents Reguliers'!$A$2:'Intermittents Reguliers'!$M$70,4,0) -> #N/A | R11: =VLOOKUP(A11,'Intermittents Reguliers'!$A$2:'Intermittents Reguliers'!$M$70,5,0) -> #N/A | S11: =VLOOKUP(A11,'Intermittents Reguliers'!$A$2:'Intermittents Reguliers'!$M$70,7,0) -> #N/A | T11: =VLOOKUP(A11,'Intermittents Reguliers'!$A$2:'Intermittents Reguliers'!$M$70,8,0) -> #N/A | U11: =VLOOKUP(A11,'Intermittents Reguliers'!$A$1:'Intermittents Reguliers'!$M$70,9,0) -> #N/A | V11: =VLOOKUP(A11,'Intermittents Reguliers'!$A$1:'Intermittents Reguliers'!$M$70,10,0) -> #N/A | W11: =VLOOKUP(A11,'Intermittents Reguliers'!$A$1:'Intermittents Reguliers'!$M$70,13,0) -> #N/A
A12: OLICHON | B12: =VLOOKUP(A12,'Intermittents Reguliers'!$A$2:'Intermittents Reguliers'!$M$70,2,0) -> #N/A | D12: 21407 | E12: 216 Z | G12: 44509 | H12: 44513 | I12: =H12-G12+1 -> 5 | J12: Opérateur d'enregistrement SV - Statut Etam – Catégorie B - Qualification 4 | M12: Grande Halle la Villette – 211 Avenue Jean Jaurès – 75019 Paris | N12: =VLOOKUP(A12,'Intermittents Reguliers'!$A$2:'Intermittents Reguliers'!$M$70,11,0) -> #N/A | O12: =VLOOKUP(A12,'Intermittents Reguliers'!$A$1:'Intermittents Reguliers'!$M$70,12,0) -> #N/A | P12: =VLOOKUP(A12,'Intermittents Reguliers'!$A$2:'Intermittents Reguliers'!$M$70,3,0) -> #N/A | Q12: =VLOOKUP(A12,'Intermittents Reguliers'!$A$2:'Intermittents Reguliers'!$M$70,4,0) -> #N/A | R12: =VLOOKUP(A12,'Intermittents Reguliers'!$A$2:'Intermittents Reguliers'!$M$70,5,0) -> #N/A | S12: =VLOOKUP(A12,'Intermittents Reguliers'!$A$2:'Intermittents Reguliers'!$M$70,7,0) -> #N/A | T12: =VLOOKUP(A12,'Intermittents Reguliers'!$A$2:'Intermittents Reguliers'!$M$70,8,0) -> #N/A | U12: =VLOOKUP(A12,'Intermittents Reguliers'!$A$1:'Intermittents Reguliers'!$M$70,9,0) -> #N/A | V12: =VLOOKUP(A12,'Intermittents Reguliers'!$A$1:'Intermittents Reguliers'!$M$70,10,0) -> #N/A | W12: =VLOOKUP(A12,'Intermittents Reguliers'!$A$1:'Intermittents Reguliers'!$M$70,13,0) -> #N/A

Sheet Intermittents Reguliers
A1: 1 | B1: 2 | C1: 3 | D1: 4 | E1: 5 | F1: 6 | G1: 7 | H1: 8 | I1: 9 | J1: 10 | K1: 11 | L1: 12 | M1: 13
A2: mmm | B2: mmm | C2: 20 rue x | D2: 555 | E2: PARIS | F2: FRANCE | G2: 24026 | H2: paris | I2: huuu uuu | J2: 1.6464646e+18 | K2: 60606060 | L2: mail@mail.com | M2: 1212150

Sheet Lieux de Prestation
A1: Grande Halle la Villette – 211 Avenue Jean Jaurès – 75019 Paris

Sheet Postes Type
A1: Programmeur Encodeur Multimedia - Statut Cadre - Catégorie B - Qualification 6
A2: Technicien vidéoprojection SV – Statut Etam – Catégorie B - Qualification 4
A3: Cadreur SV - Statut Cadre - Catégorie B – Qualification 6
A4: Technicien de la Vision SV – Statut Cadre – Catégorie B - Qualification 6
A5: Assistant Vidéo
A6: Réalisateur SV
A7: Scripte
A8: Technicien Lumière - Statut Etam – Catégorie B – Qualification 4
A9: Chef Sonorisateur - statut Cadre - Catégorie B – Qualification 6
A10: Technicien Son – Statut Etam – Catégorie B - Qualification 3
A11: Technicien de Structure
A12: Régisseur général – Cadre – Catégorie B – Qualification 7
... A25: …
