Workbook
Name Avec_25: Base!$I$6:$I$14
Name Avec_50: Base!$H$6:$H$14
Name Hauteur: Base!$H$5:$J$5
Name Liste_Grillage: OFFSET(Params!$A$2,MATCH(Devis!$D$5,Params!$A$3:$A$23,0),1,COUNTIF(Params!$A$3:$A$23,Devis!$D$5))
Name Sans: Base!$J$6:$J$14

Sheet Devis
C1: COULEUR A SAISIR
C2: COULEUR A CHOISIR
D3: LONGUEUR | E3: LONGUEUR CORRIGE
C4: Saisir la surface | D4: 100 | E4: =ROUNDUP(D4/2.5,0) -> 40
C5: Plaque de soubassement | D5: 0.25 | E5: =IF(D5="Avec_25",E4*Base!B6,IF(D5="Avec_50",E4*Base!B7,IF(D5="Sans",0))) -> FALSE
C6: Option couleur soubassement | D6: Oui | E6: =IF(D6="OUI",IF(D5="Avec_25",(E4*Base!B8-E5),IF(D5="Avec_50",(E4*Base!B9-E5),IF(D5="Sans",0))),IF(D6="Non",0)) -> FALSE
C7: Grillage | D7: 1.03 | E7: =IF(D5="Avec_25",E4*Base!B6,IF(D5="Avec_50",E4*Base!B7,IF(D5="Sans",0))) -> FALSE
C8: Poteaux | D8: =VLOOKUP(D7,OFFSET(Params!$A$2,MATCH(Devis!$D$5,Params!$A$3:$A$23,0),1,COUNTIF(Params!$A$3:$A$23,Devis!$D$5),3),2,FALSE) -> 1.575 | E8: =IF(D9=0.63,E4*Base!B28,IF(AND(D9>0.63,D9<0.88),E4*Base!B29,IF(AND(D9>1.02,D9<1.09),E4*Base!B30,))) -> 0
C9: Hauteur fini | D9: =VLOOKUP(D8,OFFSET(Params!$A$2,MATCH(Devis!$D$5,Params!$A$3:$A$23,0),2,COUNTIF(Params!$A$3:$A$23,Devis!$D$5),2),2,FALSE) -> 1.28
C10: Occultant
C11: Option occultant bois
C12: Moa | E12: =(D4/20)*Base!N10 -> 2800
C13: Total HT | D13: =SUM(E5:E12) -> 2800
C16: Feuille "Params" à conserver impérativement
C17: Nom défini : | D17: Référence :
C18: Liste_Grillage | D18: =DECALER(Params!$A$2;EQUIV(Devis!$D$5;Params!$A$3:$A$23;0);1;NB.SI(Params!$A$3:$A$23;Devis!$D$5))

Sheet Base
A2: PRIX cmb PROLIANS
A4: PLAQUE DE SOUBASSEMENT | B4: COEFF | C4: 1.35 | H4: Hauteur
B5: PRIX VENTE | C5: prix achat | D5: marge | H5: 0.5 | I5: 0.25 | J5: Sans | N5: Etat
A6: PLAQUE DE SOUBASSEMENT LONGUEUR 2,50 M / HAUTEUR 0,25 / CIMENT | B6: =C6*C4 -> 21.9375 | C6: 16.25 | D6: =1-(C6/B6) -> 0.25925926 | H6: =0.63+0.5 -> 1.13 | I6: =0.63+0.25 -> 0.88 | J6: 0.63 | N6: Oui
A7: PLAQUE DE SOUBASSEMENT LONGUEUR 2,50 M / HAUTEUR 0,50 / CIMENT | B7: =C7*C4 -> 34.4385 | C7: 25.51 | D7: =1-(C7/B7) -> 0.25925926 | H7: =0.83+0.5 -> 1.33 | I7: =0.83+0.25 -> 1.08 | J7: 0.83 | N7: Non
A8: PLAQUE DE SOUBASSEMENT LONGUEUR 2,50 M / HAUTEUR 0,25 / ANTHRACITE | B8: =C8*C4 -> 28.863 | C8: 21.38 | D8: =1-(C8/B8) -> 0.25925926 | H8: =1.03+0.5 -> 1.53 | I8: =1.03+0.25 -> 1.28 | J8: 1.03
A9: PLAQUE DE SOUBASSEMENT LONGUEUR 2,50 M / HAUTEUR 0,50 / ANTHRACITE | B9: =C9*C4 -> 46.17 | C9: 34.2 | D9: =1-(C9/B9) -> 0.25925926 | H9: =1.23+0.5 -> 1.73 | I9: =1.23+0.25 -> 1.48 | J9: 1.23 | N9: MOA
H10: =1.53+0.5 -> 2.03 | I10: =1.53+0.25 -> 1.78 | J10: 1.53 | N10: 560
H11: =1.73+0.5 -> 2.23 | I11: =1.73+0.25 -> 1.98 | J11: 1.73
A12: NYLOFLOR 3D PANNEAU DE 2,50 ML | B12: COEFF | C12: 1.35 | H12: =1.93+0.5 -> 2.43 | I12: =1.93+0.25 -> 2.18 | J12: 1.93
A13: Hauteur Grillage | B13: PRIX VENTE | C13: prix achat | D13: marge | H13: =2.03+0.5 -> 2.53 | I13: =2.03+0.25 -> 2.28 | J13: 2.03
A14: 0.63 | B14: =C14*C12 -> 24.6915 | C14: 18.29 | D14: =1-(C14/B14) -> 0.25925926 | H14: =2.43+0.5 -> 2.93 | I14: =2.43+0.25 -> 2.68 | J14: 2.43
A15: 0.83 | B15: =C15*C12 -> 26.622 | C15: 19.72 | D15: =1-(C15/B15) -> 0.25925926
A16: 1.03 | B16: =C16*C12 -> 31.2255 | C16: 23.13 | D16: =1-(C16/B16) -> 0.25925926
A17: 1.23 | B17: =C17*C12 -> 35.5185 | C17: 26.31 | D17: =1-(C17/B17) -> 0.25925926
A18: 1.53 | B18: =C18*C12 -> 44.8605 | C18: 33.23 | D18: =1-(C18/B18) -> 0.25925926
A19: 1.73 | B19: =C19*C12 -> 51.273 | C19: 37.98 | D19: =1-(C19/B19) -> 0.25925926
A20: 1.93 | B20: =C20*C12 -> 53.973 | C20: 39.98 | D20: =1-(C20/B20) -> 0.25925926
A21: 2.03 | B21: =C21*C12 -> 60.2235 | C21: 44.61 | D21: =1-(C21/B21) -> 0.25925926
A22: 2.43 | B22: =C22*C12 -> 69.714 | C22: 51.64 | D22: =1-(C22/B22) -> 0.25925926
B24: Béton | C24: 8
A25: POTEAUX BEKAFIX | B25: COEFF | C25: 1.5
A26: Hauteur des poteaux | B26: PRIX VENTE | C26: prix achat | D26: marge
A27: 0.675 | B27: =C27*C25 -> 27.78 | C27: =10.52+C24 -> 18.52 | D27: =1-(C27/B27) -> 0.33333333
A28: 1.075 | B28: =C28*C25 -> 29.94 | C28: =11.96+C24 -> 19.96 | D28: =1-(C28/B28) -> 0.33333333
A29: 1.275 | B29: =C29*C25 -> 32.82 | C29: =13.88+C24 -> 21.88 | D29: =1-(C29/B29) -> 0.33333333
A30: 1.475 | B30: =C30*C25 -> 34.14 | C30: =14.76+C24 -> 22.76 | D30: =1-(C30/B30) -> 0.33333333
A31: 1.575 | B31: =C31*C25 -> 35.085 | C31: =15.39+C24 -> 23.39 | D31: =1-(C31/B31) -> 0.33333333
A32: 1.675 | B32: =C32*C25 -> 36.3 | C32: =16.2+C24 -> 24.2 | D32: =1-(C32/B32) -> 0.33333333
A33: 1.975 | B33: =C33*C25 -> 40.17 | C33: =18.78+C24 -> 26.78 | D33: =1-(C33/B33) -> 0.33333333
A34: 2.175 | B34: =C34*C25 -> 40.455 | C34: =18.97+C24 -> 26.97 | D34: =1-(C34/B34) -> 0.33333333 | E34: 2,175 POUR HAUTEUR 1,78
A35: 2.475 | B35: =C35*C25 -> 44.175 | C35: =21.45+C24 -> 29.45 | D35: =1-(C35/B35) -> 0.33333333 | E35: 2,475 POUR HAUTEUR 1,98
A36: 3.175 | B36: =C36*C25 -> 64.32 | C36: =34.88+C24 -> 42.88 | D36: =1-(C36/B36) -> 0.33333333
A39: OCCULTANT NYLOFLOR3D PANNEAU DE 2,50 ML GRIS OU VERT MEME PRIX | B39: COEFF | C39: 1.35
B40: PRIX VENTE | C40: prix achat | D40: marge
A41: 1.03 | B41: =C41*C39 -> 57.5775 | C41: 42.65 | D41: =1-(C41/B41) -> 0.25925926
A42: 1.23 | B42: =C42*C39 -> 66.8925 | C42: 49.55 | D42: =1-(C42/B42) -> 0.25925926
A43: 1.53 | B43: =C43*C39 -> 71.9685 | C43: 53.31 | D43: =1-(C43/B43) -> 0.25925926
A44: 1.73 | B44: =C44*C39 -> 80.4465 | C44: 59.59 | D44: =1-(C44/B44) -> 0.25925926
A45: 1.93 | B45: =C45*C39 -> 97.3755 | C45: 72.13 | D45: =1-(C45/B45) -> 0.25925926
A46: 2.03 | B46: =C46*C39 -> 163.0395 | C46: 120.77 | D46: =1-(C46/B46) -> 0.25925926
A47: 2.43 | B47: =C47*C39 -> 262.4265 | C47: 194.39 | D47: =1-(C47/B47) -> 0.25925926
A50: OCCULTANT NYLOFLOR3D PANNEAU DE 2,50 ML BOIS | B50: COEFF | C50: 1.45
B51: PRIX VENTE | C51: prix achat | D51: marge
A52: 1.03 | B52: =C52*C50 -> 61.8425 | C52: 42.65 | D52: =1-(C52/B52) -> 0.31034483
A53: 1.23 | B53: =C53*C50 -> 71.8475 | C53: 49.55 | D53: =1-(C53/B53) -> 0.31034483
A54: 1.53 | B54: =C54*C50 -> 77.2995 | C54: 53.31 | D54: =1-(C54/B54) -> 0.31034483
A55: 1.73 | B55: =C55*C50 -> 86.4055 | C55: 59.59 | D55: =1-(C55/B55) -> 0.31034483
A56: 1.93 | B56: =C56*C50 -> 104.5885 | C56: 72.13 | D56: =1-(C56/B56) -> 0.31034483
A57: 2.03 | B57: =C57*C50 -> 175.1165 | C57: 120.77 | D57: =1-(C57/B57) -> 0.31034483
A58: 2.43 | B58: =C58*C50 -> 281.8655 | C58: 194.39 | D58: =1-(C58/B58) -> 0.31034483

Sheet Params
A1: Hauteur fini | E1: Soubassement
A2: Soubassement | B2: grillage | C2: poteaux | D2: Hauteur fini | E2: 0.25
A3: sans | B3: 0.63 | C3: 1.075 | D3: 0.63 | E3: 0.5
A4: sans | B4: 0.83 | C4: 1.275 | D4: 0.83
A5: sans | B5: 1.03 | C5: 1.475 | D5: 1.03
A6: sans | B6: 1.23 | C6: 1.575 | D6: 1.23
A7: sans | B7: 1.53 | C7: 1.675 | D7: 1.53
A8: sans | B8: 1.73 | C8: 1.975 | D8: 1.73 | H8: En option on peux ajouter les occultants PVC ou BOIS
A9: sans | B9: 1.93 | C9: 2.175 | D9: 1.93
A10: sans | B10: 2.03 | C10: 2.475 | D10: 2.03
A11: sans | B11: 2.43 | C11: 3.175 | D11: 2.43
A12: 0.25 | B12: 0.63 | C12: 1.275 | D12: =0.63+E2 -> 0.88
A13: 0.25 | B13: 0.83 | C13: 1.475 | D13: =0.83+E2 -> 1.08
A14: 0.25 | B14: 1.03 | C14: 1.575 | D14: =1.03+E2 -> 1.28
A15: 0.25 | B15: 1.23 | C15: 1.675 | D15: =1.23+E2 -> 1.48
A16: 0.25 | B16: 1.53 | C16: 1.975 | D16: =1.53+E2 -> 1.78
A17: 0.25 | B17: 1.73 | C17: 2.475 | D17: =1.73+E2 -> 1.98
A18: 0.25 | B18: 1.93 | C18: 3.175 | D18: =1.93+E2 -> 2.18
A19: 0.5 | B19: 0.63 | C19: 1.475 | D19: =0.63+E3 -> 1.13
A20: 0.5 | B20: 0.83 | C20: 1.675 | D20: =0.83+E3 -> 1.33
A21: 0.5 | B21: 1.03 | C21: 1.975 | D21: =1.03+E3 -> 1.53
A22: 0.5 | B22: 1.23 | C22: 2.475 | D22: =1.23+E3 -> 1.73
A23: 0.5 | B23: 1.53 | C23: 3.175 | D23: =1.53+E3 -> 2.03
