Workbook

Sheet Feuil1
A1: Grand Tournois individuel de Billard 2019 | I1: Totales:
B2: Période du tournois: | E2: du 15-01-2019 au 28-06-2019 | H2: Nombre de match minimum à jouer: 50 | I2: Parties | J2: Victoires | K2: Défaites
A3: Classement | B3: Prénom | C3: Nom | D3: Joué | E3: Victoire | F3: Défaite | G3: Ratio | H3: Commentaires | I3: =SUM(D4:D120)/2 -> 460 | J3: =SUM(E4:E120) -> 460 | K3: =SUM(F4:F120) -> 460 | L3: =J3-K3 -> 0
A4: 1 | B4: Dylan | C4: AAA | D4: =E4+F4 -> 2 | E4: 2 | F4: 0 | G4: =(E4/D4) -> 1
A5: 2 | B5: killian | C5: BBB | D5: =E5+F5 -> 1 | E5: 1 | F5: 0 | G5: =(E5/D5) -> 1
A6: 3 | B6: Philippe | C6: CCC | D6: =E6+F6 -> 1 | E6: 1 | F6: 0 | G6: =(E6/D6) -> 1
A7: 4 | B7: ethan | C7: DDD | D7: =E7+F7 -> 7 | E7: 6 | F7: 1 | G7: =(E7/D7) -> 0.85714286
A8: 5 | B8: Anthony | C8: EEE | D8: =E8+F8 -> 85 | E8: 64 | F8: 21 | G8: =(E8/D8) -> 0.75294118 | H8: 7 victoires consécutives contre Xavier
A9: 6 | B9: morine | C9: FFF | D9: =E9+F9 -> 12 | E9: 9 | F9: 3 | G9: =(E9/D9) -> 0.75
A10: 7 | B10: William | C10: GGG | D10: =E10+F10 -> 21 | E10: 15 | F10: 6 | G10: =(E10/D10) -> 0.71428571 | H10: Tenant du titre de jeudi Mystère (17/01)
A11: 8 | B11: Tommy | C11: HHH | D11: =E11+F11 -> 14 | E11: 10 | F11: 4 | G11: =(E11/D11) -> 0.71428571
A12: 9 | B12: Lucas | C12: III | D12: =E12+F12 -> 6 | E12: 4 | F12: 2 | G12: =(E12/D12) -> 0.66666667
A13: 10 | B13: Tristant | C13: JJJ | D13: =E13+F13 -> 3 | E13: 2 | F13: 1 | G13: =(E13/D13) -> 0.66666667
A14: 11 | B14: Jérôme | C14: KKK | D14: =E14+F14 -> 17 | E14: 11 | F14: 6 | G14: =(E14/D14) -> 0.64705882
A15: 12 | B15: Martin | C15: LLL | D15: =E15+F15 -> 144 | E15: 93 | F15: 51 | G15: =(E15/D15) -> 0.64583333 | H15: victoire 8 - 0 contre Andrew, 8-0 contre Didier
A16: 13 | B16: Caroline | C16: MMM | D16: =E16+F16 -> 11 | E16: 7 | F16: 4 | G16: =(E16/D16) -> 0.63636364
A17: 14 | B17: Emmeline | C17: NNN | D17: =E17+F17 -> 24 | E17: 15 | F17: 9 | G17: =(E17/D17) -> 0.625
A18: 15 | B18: Louise | C18: OOO | D18: =E18+F18 -> 5 | E18: 3 | F18: 2 | G18: =(E18/D18) -> 0.6
A19: 16 | B19: Joe | C19: PPP | D19: =E19+F19 -> 5 | E19: 3 | F19: 2 | G19: =(E19/D19) -> 0.6
A20: 17 | B20: Déborah | C20: QQQ | D20: =E20+F20 -> 16 | E20: 9 | F20: 7 | G20: =(E20/D20) -> 0.5625
A21: 18 | B21: Emilio | C21: RRR | D21: =E21+F21 -> 8 | E21: 4 | F21: 4 | G21: =(E21/D21) -> 0.5
A22: 19 | B22: tristan | C22: SSS | D22: =E22+F22 -> 6 | E22: 3 | F22: 3 | G22: =(E22/D22) -> 0.5
A23: 20 | B23: Jayson | C23: TTT | D23: =E23+F23 -> 34 | E23: 16 | F23: 18 | G23: =(E23/D23) -> 0.47058824
A24: 21 | B24: Lahoucine | C24: UUU | D24: =E24+F24 -> 39 | E24: 18 | F24: 21 | G24: =(E24/D24) -> 0.46153846
A25: 22 | B25: Lucas | C25: VVV | D25: =E25+F25 -> 13 | E25: 6 | F25: 7 | G25: =(E25/D25) -> 0.46153846
A26: 23 | B26: Maxime | C26: WWW | D26: =E26+F26 -> 36 | E26: 16 | F26: 20 | G26: =(E26/D26) -> 0.44444444
A27: 24 | B27: Francois | C27: XXX | D27: =E27+F27 -> 7 | E27: 3 | F27: 4 | G27: =(E27/D27) -> 0.42857143
... A50: 45 | B50: Sébastien | C50: VAA | D50: =E50+F50 -> 1 | E50: 0 | F50: 1 | G50: =(E50/D50) -> 0
D51: =E51+F51 -> 0 | G51: =(E51/D51) -> #DIV/0!
D52: =E52+F52 -> 0 | G52: =(E52/D52) -> #DIV/0!
D53: =E53+F53 -> 0 | G53: =(E53/D53) -> #DIV/0!
D54: =E54+F54 -> 0 | G54: =(E54/D54) -> #DIV/0!
D55: =E55+F55 -> 0 | G55: =(E55/D55) -> #DIV/0!
D56: =E56+F56 -> 0 | G56: =(E56/D56) -> #DIV/0!
D57: =E57+F57 -> 0 | G57: =(E57/D57) -> #DIV/0!
D58: =E58+F58 -> 0 | G58: =(E58/D58) -> #DIV/0!
D59: =E59+F59 -> 0 | G59: =(E59/D59) -> #DIV/0!
D60: =E60+F60 -> 0 | G60: =(E60/D60) -> #DIV/0!
D61: =E61+F61 -> 0 | G61: =(E61/D61) -> #DIV/0!
D62: =E62+F62 -> 0 | G62: =(E62/D62) -> #DIV/0!
...

Sheet Top5
A1: Prénom | B1: Nom | C1: Joué
A2: =INDEX(Feuil1!B:B,MATCH(C2,Feuil1!D:D,0)) -> Martin | B2: =INDEX(Feuil1!C:C,MATCH(C2,Feuil1!D:D,0)) -> LLL | C2: =LARGE(Feuil1!D$4:D$200,ROW()-1) -> 144
A3: =INDEX(Feuil1!B:B,MATCH(C3,Feuil1!D:D,0)) -> Xavier | B3: =INDEX(Feuil1!C:C,MATCH(C3,Feuil1!D:D,0)) -> ZZZ | C3: =LARGE(Feuil1!D$4:D$200,ROW()-1) -> 93
A4: =INDEX(Feuil1!B:B,MATCH(C4,Feuil1!D:D,0)) -> Anthony | B4: =INDEX(Feuil1!C:C,MATCH(C4,Feuil1!D:D,0)) -> EEE | C4: =LARGE(Feuil1!D$4:D$200,ROW()-1) -> 85
A5: =INDEX(Feuil1!B:B,MATCH(C5,Feuil1!D:D,0)) -> Andrew | B5: =INDEX(Feuil1!C:C,MATCH(C5,Feuil1!D:D,0)) -> DAA | C5: =LARGE(Feuil1!D$4:D$200,ROW()-1) -> 58
A6: =INDEX(Feuil1!B:B,MATCH(C6,Feuil1!D:D,0)) -> Lindsey | B6: =INDEX(Feuil1!C:C,MATCH(C6,Feuil1!D:D,0)) -> EAA | C6: =LARGE(Feuil1!D$4:D$200,ROW()-1) -> 53
