Workbook
Name A: Tables!$A$36
Name Déplacement: Tables!$J$15:$J$18
Name Majoration_D___F: 'Données mensuelles'!$U$2:$U$21
Name Majoration_Dimanche_et_jours_fériés: Tables!$I$11
Name NOMBRE: Tables!$G$5:$G$25
Name NomInfirmier: Tables!$I$4:$I$8
Name NomPatient: Tables!$B$5:$B$32
Name NomSoin: Tables!$E$5:$E$16
Name Soin: Tables!$E$5:$E$11,Tables!$E$12:$E$16
Name X: Tables!$G$5:$G$25
Name XX: 'Données mensuelles'!$F$2:$F$21

Sheet Tables
I3: Nom infirmier
A4: Civilité | B4: Nom Patient | C4: lieu | E4: Soin | F4: Tarification | G4: NOMBRE | I4: jennifer
E5: AMI | F5: 3.15 | G5: 1 | I5: b
A6: M. | B6: jm | E6: AIS | F6: 2.55 | G6: 2 | I6: c
A7: M. | B7: bb | E7: DI | F7: 10 | G7: 3 | I7: d
A8: M. | B8: cc | E8: IFD | F8: 2.5 | G8: 4 | I8: e
A9: Mme | B9: dd | E9: IK 0 | F9: 0.35 | G9: 5
A10: Mme | B10: aa | E10: IK 1 | F10: 0.5 | G10: 6 | I10: Majoration Dimanche et jours fériés
A11: M. | B11: er | E11: IK 2 | F11: 1.4 | G11: 7 | I11: 8.5
A12: Mlle | B12: df | E12: MAL/NUIT1 | F12: 9.15 | G12: 8
A13: Mme | B13: di | E13: MAL/NUIT2 | F13: 18.3 | G13: 9
A14: M. | B14: fk | E14: MAU | F14: 1.35 | G14: 10 | I14: Indemnités de déplacement | J14: Tarif
A15: M. | B15: jj | E15: MCI | F15: 5 | G15: 11 | I15: sout | J15: 2.3
A16: Mlle | B16: qs | G16: 12 | I16: hors agglo + 2,80 € | J16: 5.1
A17: M. | B17: ze | G17: 13
A18: Mme | B18: ar | G18: 14
G19: 15
G20: 16
G21: 17
G22: 18
G23: 19
G24: 20
A35: Année
A36: 2020
A37: Jour de l'an | B37: 43831 | C37: 1
A38: Pâques | B38: =DOLLAR((DAY(MINUTE(A/38)/2+55)&"/4/"&A)/7,)*7-6 -> 43933 | C38: 2
A39: Lundi de Pâques | B39: =DOLLAR((DAY(MINUTE(A/38)/2+55)&"/4/"&A)/7,)*7-5 -> 43934 | C39: 3
A40: Fête du Travail | B40: 43952 | C40: 4
A41: Victoire 39/45 | B41: 43959 | C41: 5
A42: Ascension | B42: =DOLLAR((DAY(MINUTE(A/38)/2+55)&"/4/"&A)/7,)*7+33 -> 43972 | C42: 6
A43: Pentecôte | B43: =DOLLAR((DAY(MINUTE(A/38)/2+55)&"/4/"&A)/7,)*7+43 -> 43982 | C43: 7
A44: Lundi de Pentecôte | B44: =DOLLAR((DAY(MINUTE(A/38)/2+55)&"/4/"&A)/7,)*7+44 -> 43983 | C44: 8
A45: Fête Nationale | B45: 44026 | C45: 9
A46: Assomption | B46: 44058 | C46: 10
A47: Toussaint | B47: 44136 | C47: 11
A48: Armistice 14/18 | B48: 44146 | C48: 12
A49: Noël | B49: 44190 | C49: 13

Sheet Données mensuelles
A1: Nom infirmiere | B1: date | C1: mois | D1: Nom patient | E1: Soin 1 | F1: Nombre | G1: Tarification | H1: Soin 2 | I1: Nombre | J1: Tarification | K1: Soin 3 | L1: Nombre | M1: Tarification | N1: Soin 4 | O1: Nombre | P1: Tarification | Q1: Soin 5 | R1: Nombre | S1: Tarification | T1: Sous total | U1: Majoration D / F | V1: Déplacement | W1: Nombre de passages | X1: Total
A2: jennifer | B2: 43933 | C2: =MONTH(B2) -> 4 | D2: jm | E2: AMI | F2: 2 | G2: =IF(E2="",0,VLOOKUP(E2,Tables!$E$2:$F$16,2,0)) -> 3.15 | H2: IK 1 | I2: 2 | J2: =IF(H2="",0,VLOOKUP(H2,Tables!$E$5:$F$16,2,0)) -> 0.5 | M2: =IF(K2="",0,VLOOKUP(K2,Tables!$E$5:$F$16,2,0)) -> 0 | P2: =IF(N2="",0,VLOOKUP(N2,Tables!$E$5:$F$16,2,0)) -> 0 | S2: =IF(Q2="",0,VLOOKUP(Q2,Tables!$E$5:$F$16,2,0)) -> 0 | T2: =F2*G2+I2*J2+L2*M2+O2*P2+R2*S2 -> 7.3 | U2: =IF(OR(NOT(ISERROR(MATCH(B2,Tables!B$37:B$49,0))),WEEKDAY(B2,2)=7),8,0)*W2 -> 16 | W2: 2 | X2: =T2+U2+V2 -> 23.3
B3: 43934 | C3: =MONTH(B3) -> 4 | E3: IK 0 | G3: =IF(E3="",0,VLOOKUP(E3,Tables!$E$2:$F$16,2,0)) -> 0.35 | J3: =IF(H3="",0,VLOOKUP(H3,Tables!$E$5:$F$16,2,0)) -> 0 | M3: =IF(K3="",0,VLOOKUP(K3,Tables!$E$5:$F$16,2,0)) -> 0 | P3: =IF(N3="",0,VLOOKUP(N3,Tables!$E$5:$F$16,2,0)) -> 0 | S3: =IF(Q3="",0,VLOOKUP(Q3,Tables!$E$5:$F$16,2,0)) -> 0 | T3: =F3*G3+I3*J3+L3*M3+O3*P3+R3*S3 -> 0 | U3: =IF(OR(NOT(ISERROR(MATCH(B3,Tables!B$37:B$49,0))),WEEKDAY(B3,2)=7),8,0)*W3 -> 8 | W3: =COUNTA(E3,H3,K3,N3,Q3) -> 1 | X3: =T3+U3+V3 -> 8
C4: =MONTH(B4) -> 1 | G4: =IF(E4="",0,VLOOKUP(E4,Tables!$E$2:$F$16,2,0)) -> 0 | J4: =IF(H4="",0,VLOOKUP(H4,Tables!$E$5:$F$16,2,0)) -> 0 | M4: =IF(K4="",0,VLOOKUP(K4,Tables!$E$5:$F$16,2,0)) -> 0 | P4: =IF(N4="",0,VLOOKUP(N4,Tables!$E$5:$F$16,2,0)) -> 0 | S4: =IF(Q4="",0,VLOOKUP(Q4,Tables!$E$5:$F$16,2,0)) -> 0 | T4: =F4*G4+I4*J4+L4*M4+O4*P4+R4*S4 -> 0 | U4: =IF(OR(NOT(ISERROR(MATCH(B4,Tables!B$37:B$49,0))),WEEKDAY(B4,2)=7),8,0)*W4 -> 0 | W4: =COUNTA(E4,H4,K4,N4,Q4) -> 0 | X4: =T4+U4+V4 -> 0
C5: =MONTH(B5) -> 1 | G5: =IF(E5="",0,VLOOKUP(E5,Tables!$E$2:$F$16,2,0)) -> 0 | J5: =IF(H5="",0,VLOOKUP(H5,Tables!$E$5:$F$16,2,0)) -> 0 | M5: =IF(K5="",0,VLOOKUP(K5,Tables!$E$5:$F$16,2,0)) -> 0 | P5: =IF(N5="",0,VLOOKUP(N5,Tables!$E$5:$F$16,2,0)) -> 0 | S5: =IF(Q5="",0,VLOOKUP(Q5,Tables!$E$5:$F$16,2,0)) -> 0 | T5: =F5*G5+I5*J5+L5*M5+O5*P5+R5*S5 -> 0 | U5: =IF(OR(NOT(ISERROR(MATCH(B5,Tables!B$37:B$49,0))),WEEKDAY(B5,2)=7),8,0)*W5 -> 0 | W5: =COUNTA(E5,H5,K5,N5,Q5) -> 0 | X5: =T5+U5+V5 -> 0
C6: =MONTH(B6) -> 1 | G6: =IF(E6="",0,VLOOKUP(E6,Tables!$E$2:$F$16,2,0)) -> 0 | J6: =IF(H6="",0,VLOOKUP(H6,Tables!$E$5:$F$16,2,0)) -> 0 | M6: =IF(K6="",0,VLOOKUP(K6,Tables!$E$5:$F$16,2,0)) -> 0 | P6: =IF(N6="",0,VLOOKUP(N6,Tables!$E$5:$F$16,2,0)) -> 0 | S6: =IF(Q6="",0,VLOOKUP(Q6,Tables!$E$5:$F$16,2,0)) -> 0 | T6: =F6*G6+I6*J6+L6*M6+O6*P6+R6*S6 -> 0 | U6: =IF(OR(NOT(ISERROR(MATCH(B6,Tables!B$37:B$49,0))),WEEKDAY(B6,2)=7),8,0)*W6 -> 0 | W6: =COUNTA(E6,H6,K6,N6,Q6) -> 0 | X6: =T6+U6+V6 -> 0
C7: =MONTH(B7) -> 1 | G7: =IF(E7="",0,VLOOKUP(E7,Tables!$E$2:$F$16,2,0)) -> 0 | J7: =IF(H7="",0,VLOOKUP(H7,Tables!$E$5:$F$16,2,0)) -> 0 | M7: =IF(K7="",0,VLOOKUP(K7,Tables!$E$5:$F$16,2,0)) -> 0 | P7: =IF(N7="",0,VLOOKUP(N7,Tables!$E$5:$F$16,2,0)) -> 0 | S7: =IF(Q7="",0,VLOOKUP(Q7,Tables!$E$5:$F$16,2,0)) -> 0 | T7: =F7*G7+I7*J7+L7*M7+O7*P7+R7*S7 -> 0 | U7: =IF(OR(NOT(ISERROR(MATCH(B7,Tables!B$37:B$49,0))),WEEKDAY(B7,2)=7),8,0)*W7 -> 0 | W7: =COUNTA(E7,H7,K7,N7,Q7) -> 0 | X7: =T7+U7+V7 -> 0
C8: =MONTH(B8) -> 1 | G8: =IF(E8="",0,VLOOKUP(E8,Tables!$E$2:$F$16,2,0)) -> 0 | J8: =IF(H8="",0,VLOOKUP(H8,Tables!$E$5:$F$16,2,0)) -> 0 | M8: =IF(K8="",0,VLOOKUP(K8,Tables!$E$5:$F$16,2,0)) -> 0 | P8: =IF(N8="",0,VLOOKUP(N8,Tables!$E$5:$F$16,2,0)) -> 0 | S8: =IF(Q8="",0,VLOOKUP(Q8,Tables!$E$5:$F$16,2,0)) -> 0 | T8: =F8*G8+I8*J8+L8*M8+O8*P8+R8*S8 -> 0 | U8: =IF(OR(NOT(ISERROR(MATCH(B8,Tables!B$37:B$49,0))),WEEKDAY(B8,2)=7),8,0)*W8 -> 0 | W8: =COUNTA(E8,H8,K8,N8,Q8) -> 0 | X8: =T8+U8+V8 -> 0
C9: =MONTH(B9) -> 1 | G9: =IF(E9="",0,VLOOKUP(E9,Tables!$E$2:$F$16,2,0)) -> 0 | J9: =IF(H9="",0,VLOOKUP(H9,Tables!$E$5:$F$16,2,0)) -> 0 | M9: =IF(K9="",0,VLOOKUP(K9,Tables!$E$5:$F$16,2,0)) -> 0 | P9: =IF(N9="",0,VLOOKUP(N9,Tables!$E$5:$F$16,2,0)) -> 0 | S9: =IF(Q9="",0,VLOOKUP(Q9,Tables!$E$5:$F$16,2,0)) -> 0 | T9: =F9*G9+I9*J9+L9*M9+O9*P9+R9*S9 -> 0 | U9: =IF(OR(NOT(ISERROR(MATCH(B9,Tables!B$37:B$49,0))),WEEKDAY(B9,2)=7),8,0)*W9 -> 0 | W9: =COUNTA(E9,H9,K9,N9,Q9) -> 0 | X9: =T9+U9+V9 -> 0
C10: =MONTH(B10) -> 1 | G10: =IF(E10="",0,VLOOKUP(E10,Tables!$E$2:$F$16,2,0)) -> 0 | J10: =IF(H10="",0,VLOOKUP(H10,Tables!$E$5:$F$16,2,0)) -> 0 | M10: =IF(K10="",0,VLOOKUP(K10,Tables!$E$5:$F$16,2,0)) -> 0 | P10: =IF(N10="",0,VLOOKUP(N10,Tables!$E$5:$F$16,2,0)) -> 0 | S10: =IF(Q10="",0,VLOOKUP(Q10,Tables!$E$5:$F$16,2,0)) -> 0 | T10: =F10*G10+I10*J10+L10*M10+O10*P10+R10*S10 -> 0 | U10: =IF(OR(NOT(ISERROR(MATCH(B10,Tables!B$37:B$49,0))),WEEKDAY(B10,2)=7),8,0)*W10 -> 0 | W10: =COUNTA(E10,H10,K10,N10,Q10) -> 0 | X10: =T10+U10+V10 -> 0
C11: =MONTH(B11) -> 1 | G11: =IF(E11="",0,VLOOKUP(E11,Tables!$E$2:$F$16,2,0)) -> 0 | J11: =IF(H11="",0,VLOOKUP(H11,Tables!$E$5:$F$16,2,0)) -> 0 | M11: =IF(K11="",0,VLOOKUP(K11,Tables!$E$5:$F$16,2,0)) -> 0 | P11: =IF(N11="",0,VLOOKUP(N11,Tables!$E$5:$F$16,2,0)) -> 0 | S11: =IF(Q11="",0,VLOOKUP(Q11,Tables!$E$5:$F$16,2,0)) -> 0 | T11: =F11*G11+I11*J11+L11*M11+O11*P11+R11*S11 -> 0 | U11: =IF(OR(NOT(ISERROR(MATCH(B11,Tables!B$37:B$49,0))),WEEKDAY(B11,2)=7),8,0)*W11 -> 0 | W11: =COUNTA(E11,H11,K11,N11,Q11) -> 0 | X11: =T11+U11+V11 -> 0
C12: =MONTH(B12) -> 1 | G12: =IF(E12="",0,VLOOKUP(E12,Tables!$E$2:$F$16,2,0)) -> 0 | J12: =IF(H12="",0,VLOOKUP(H12,Tables!$E$5:$F$16,2,0)) -> 0 | M12: =IF(K12="",0,VLOOKUP(K12,Tables!$E$5:$F$16,2,0)) -> 0 | P12: =IF(N12="",0,VLOOKUP(N12,Tables!$E$5:$F$16,2,0)) -> 0 | S12: =IF(Q12="",0,VLOOKUP(Q12,Tables!$E$5:$F$16,2,0)) -> 0 | T12: =F12*G12+I12*J12+L12*M12+O12*P12+R12*S12 -> 0 | U12: =IF(OR(NOT(ISERROR(MATCH(B12,Tables!B$37:B$49,0))),WEEKDAY(B12,2)=7),8,0)*W12 -> 0 | W12: =COUNTA(E12,H12,K12,N12,Q12) -> 0 | X12: =T12+U12+V12 -> 0
C13: =MONTH(B13) -> 1 | G13: =IF(E13="",0,VLOOKUP(E13,Tables!$E$2:$F$16,2,0)) -> 0 | J13: =IF(H13="",0,VLOOKUP(H13,Tables!$E$5:$F$16,2,0)) -> 0 | M13: =IF(K13="",0,VLOOKUP(K13,Tables!$E$5:$F$16,2,0)) -> 0 | P13: =IF(N13="",0,VLOOKUP(N13,Tables!$E$5:$F$16,2,0)) -> 0 | S13: =IF(Q13="",0,VLOOKUP(Q13,Tables!$E$5:$F$16,2,0)) -> 0 | T13: =F13*G13+I13*J13+L13*M13+O13*P13+R13*S13 -> 0 | U13: =IF(OR(NOT(ISERROR(MATCH(B13,Tables!B$37:B$49,0))),WEEKDAY(B13,2)=7),8,0)*W13 -> 0 | W13: =COUNTA(E13,H13,K13,N13,Q13) -> 0 | X13: =T13+U13+V13 -> 0
C14: =MONTH(B14) -> 1 | G14: =IF(E14="",0,VLOOKUP(E14,Tables!$E$2:$F$16,2,0)) -> 0 | J14: =IF(H14="",0,VLOOKUP(H14,Tables!$E$5:$F$16,2,0)) -> 0 | M14: =IF(K14="",0,VLOOKUP(K14,Tables!$E$5:$F$16,2,0)) -> 0 | P14: =IF(N14="",0,VLOOKUP(N14,Tables!$E$5:$F$16,2,0)) -> 0 | S14: =IF(Q14="",0,VLOOKUP(Q14,Tables!$E$5:$F$16,2,0)) -> 0 | T14: =F14*G14+I14*J14+L14*M14+O14*P14+R14*S14 -> 0 | U14: =IF(OR(NOT(ISERROR(MATCH(B14,Tables!B$37:B$49,0))),WEEKDAY(B14,2)=7),8,0)*W14 -> 0 | W14: =COUNTA(E14,H14,K14,N14,Q14) -> 0 | X14: =T14+U14+V14 -> 0
C15: =MONTH(B15) -> 1 | G15: =IF(E15="",0,VLOOKUP(E15,Tables!$E$2:$F$16,2,0)) -> 0 | J15: =IF(H15="",0,VLOOKUP(H15,Tables!$E$5:$F$16,2,0)) -> 0 | M15: =IF(K15="",0,VLOOKUP(K15,Tables!$E$5:$F$16,2,0)) -> 0 | P15: =IF(N15="",0,VLOOKUP(N15,Tables!$E$5:$F$16,2,0)) -> 0 | S15: =IF(Q15="",0,VLOOKUP(Q15,Tables!$E$5:$F$16,2,0)) -> 0 | T15: =F15*G15+I15*J15+L15*M15+O15*P15+R15*S15 -> 0 | U15: =IF(OR(NOT(ISERROR(MATCH(B15,Tables!B$37:B$49,0))),WEEKDAY(B15,2)=7),8,0)*W15 -> 0 | W15: =COUNTA(E15,H15,K15,N15,Q15) -> 0 | X15: =T15+U15+V15 -> 0
... C21: =MONTH(B21) -> 1 | G21: =IF(E21="",0,VLOOKUP(E21,Tables!$E$2:$F$16,2,0)) -> 0 | J21: =IF(H21="",0,VLOOKUP(H21,Tables!$E$5:$F$16,2,0)) -> 0 | M21: =IF(K21="",0,VLOOKUP(K21,Tables!$E$5:$F$16,2,0)) -> 0 | P21: =IF(N21="",0,VLOOKUP(N21,Tables!$E$5:$F$16,2,0)) -> 0 | S21: =IF(Q21="",0,VLOOKUP(Q21,Tables!$E$5:$F$16,2,0)) -> 0 | T21: =F21*G21+I21*J21+L21*M21+O21*P21+R21*S21 -> 0 | U21: =IF(OR(NOT(ISERROR(MATCH(B21,Tables!B$37:B$49,0))),WEEKDAY(B21,2)=7),8,0)*W21 -> 0 | W21: =COUNTA(E21,H21,K21,N21,Q21) -> 0 | X21: =T21+U21+V21 -> 0
T22: 0 | U22: 0 | V22: 0 | W22: =COUNTA(E22,H22,K22,N22,Q22) -> 0 | X22: =T22+U22+V22 -> 0
A25: Nom infirmier | B25: date | C25: mois | D25: JOUR
A26: jennifer | C26: =MONTH(B26) -> 1 | D26: Nom patient | E26: Soin 1 | G26: Tarification | H26: Soin 2 | J26: Tarification | K26: Soin 3 | M26: Tarification | N26: Soin 4 | P26: Tarification | Q26: Soin 5 | S26: Tarification | T26: Sous total | U26: Majoration D / F | V26: Déplacement | W26: Nombre de passages | X26: Total
C27: =MONTH(B27) -> 1 | G27: =IF(E27=Tables!$E$5,Tables!$F$5,IF('Données mensuelles'!E27=Tables!$E$6,Tables!$F$6,IF('Données mensuelles'!E27=Tables!$E$7,Tables!$F$7,IF('Données mensuelles'!E27=Tables!$E$8,Tables!$F$8,IF('Données mensuelles'!E27=Tables!$E$9,Tables!$F$9,IF('Données mensuelles'!E27=Tables!$E$10,Tables!$F$10,IF('Données mensuelles'!E27=Tables!$E$11,Tables!$F$11,IF(E27=Tables!$E$12,Tables!$F$12,IF('Données mensuelles'!E27=Tables!$E$13,Tables!$F$13,IF(E27=Tables!$E$14,Tables!$F$14,IF(E27=Tables!$E$15,Tables!$F$15,IF(E27=Tables!$E$16,Tables!$F$16)))))))))))) -> 0 | J27: =IF(H27=Tables!$E$5,Tables!$F$5,IF('Données mensuelles'!H27=Tables!$E$6,Tables!$F$6,IF('Données mensuelles'!H27=Tables!$E$7,Tables!$F$7,IF('Données mensuelles'!H27=Tables!$E$8,Tables!$F$8,IF('Données mensuelles'!H27=Tables!$E$9,Tables!$F$9,IF('Données mensuelles'!H27=Tables!$E$10,Tables!$F$10,IF('Données mensuelles'!H27=Tables!$E$11,Tables!$F$11,IF(H27=Tables!$E$12,Tables!$F$12,IF('Données mensuelles'!H27=Tables!$E$13,Tables!$F$13,IF(H27=Tables!$E$14,Tables!$F$14,IF(H27=Tables!$E$15,Tables!$F$15,IF(H27=Tables!$E$16,Tables!$F$16)))))))))))) -> 0 | M27: =IF(K27=Tables!$E$5,Tables!$F$5,IF('Données mensuelles'!K27=Tables!$E$6,Tables!$F$6,IF('Données mensuelles'!K27=Tables!$E$7,Tables!$F$7,IF('Données mensuelles'!K27=Tables!$E$8,Tables!$F$8,IF('Données mensuelles'!K27=Tables!$E$9,Tables!$F$9,IF('Données mensuelles'!K27=Tables!$E$10,Tables!$F$10,IF('Données mensuelles'!K27=Tables!$E$11,Tables!$F$11,IF(K27=Tables!$E$12,Tables!$F$12,IF('Données mensuelles'!K27=Tables!$E$13,Tables!$F$13,IF(K27=Tables!$E$14,Tables!$F$14,IF(K27=Tables!$E$15,Tables!$F$15,IF(K27=Tables!$E$16,Tables!$F$16)))))))))))) -> 0 | P27: =IF(N27=Tables!$E$5,Tables!$F$5,IF('Données mensuelles'!N27=Tables!$E$6,Tables!$F$6,IF('Données mensuelles'!N27=Tables!$E$7,Tables!$F$7,IF('Données mensuelles'!N27=Tables!$E$8,Tables!$F$8,IF('Données mensuelles'!N27=Tables!$E$9,Tables!$F$9,IF('Données mensuelles'!N27=Tables!$E$10,Tables!$F$10,IF('Données mensuelles'!N27=Tables!$E$11,Tables!$F$11,IF(N27=Tables!$E$12,Tables!$F$12,IF('Données mensuelles'!N27=Tables!$E$13,Tables!$F$13,IF(N27=Tables!$E$14,Tables!$F$14,IF(N27=Tables!$E$15,Tables!$F$15,IF(N27=Tables!$E$16,Tables!$F$16)))))))))))) -> 0 | S27: =IF(Q27=Tables!$E$5,Tables!$F$5,IF('Données mensuelles'!Q27=Tables!$E$6,Tables!$F$6,IF('Données mensuelles'!Q27=Tables!$E$7,Tables!$F$7,IF('Données mensuelles'!Q27=Tables!$E$8,Tables!$F$8,IF('Données mensuelles'!Q27=Tables!$E$9,Tables!$F$9,IF('Données mensuelles'!Q27=Tables!$E$10,Tables!$F$10,IF('Données mensuelles'!Q27=Tables!$E$11,Tables!$F$11,IF(Q27=Tables!$E$12,Tables!$F$12,IF('Données mensuelles'!Q27=Tables!$E$13,Tables!$F$13,IF(Q27=Tables!$E$14,Tables!$F$14,IF(Q27=Tables!$E$15,Tables!$F$15,IF(Q27=Tables!$E$16,Tables!$F$16)))))))))))) -> 0 | T27: =S27+P27+M27+J27+G27 -> 0 | X27: =T27+(V27*W27)+(U27*Tables!$E$20*W27) -> 0
C28: =MONTH(B28) -> 1 | G28: =IF(E28=Tables!$E$5,Tables!$F$5,IF('Données mensuelles'!E28=Tables!$E$6,Tables!$F$6,IF('Données mensuelles'!E28=Tables!$E$7,Tables!$F$7,IF('Données mensuelles'!E28=Tables!$E$8,Tables!$F$8,IF('Données mensuelles'!E28=Tables!$E$9,Tables!$F$9,IF('Données mensuelles'!E28=Tables!$E$10,Tables!$F$10,IF('Données mensuelles'!E28=Tables!$E$11,Tables!$F$11,IF(E28=Tables!$E$12,Tables!$F$12,IF('Données mensuelles'!E28=Tables!$E$13,Tables!$F$13,IF(E28=Tables!$E$14,Tables!$F$14,IF(E28=Tables!$E$15,Tables!$F$15,IF(E28=Tables!$E$16,Tables!$F$16)))))))))))) -> 0 | J28: =IF(H28=Tables!$E$5,Tables!$F$5,IF('Données mensuelles'!H28=Tables!$E$6,Tables!$F$6,IF('Données mensuelles'!H28=Tables!$E$7,Tables!$F$7,IF('Données mensuelles'!H28=Tables!$E$8,Tables!$F$8,IF('Données mensuelles'!H28=Tables!$E$9,Tables!$F$9,IF('Données mensuelles'!H28=Tables!$E$10,Tables!$F$10,IF('Données mensuelles'!H28=Tables!$E$11,Tables!$F$11,IF(H28=Tables!$E$12,Tables!$F$12,IF('Données mensuelles'!H28=Tables!$E$13,Tables!$F$13,IF(H28=Tables!$E$14,Tables!$F$14,IF(H28=Tables!$E$15,Tables!$F$15,IF(H28=Tables!$E$16,Tables!$F$16)))))))))))) -> 0 | M28: =IF(K28=Tables!$E$5,Tables!$F$5,IF('Données mensuelles'!K28=Tables!$E$6,Tables!$F$6,IF('Données mensuelles'!K28=Tables!$E$7,Tables!$F$7,IF('Données mensuelles'!K28=Tables!$E$8,Tables!$F$8,IF('Données mensuelles'!K28=Tables!$E$9,Tables!$F$9,IF('Données mensuelles'!K28=Tables!$E$10,Tables!$F$10,IF('Données mensuelles'!K28=Tables!$E$11,Tables!$F$11,IF(K28=Tables!$E$12,Tables!$F$12,IF('Données mensuelles'!K28=Tables!$E$13,Tables!$F$13,IF(K28=Tables!$E$14,Tables!$F$14,IF(K28=Tables!$E$15,Tables!$F$15,IF(K28=Tables!$E$16,Tables!$F$16)))))))))))) -> 0 | P28: =IF(N28=Tables!$E$5,Tables!$F$5,IF('Données mensuelles'!N28=Tables!$E$6,Tables!$F$6,IF('Données mensuelles'!N28=Tables!$E$7,Tables!$F$7,IF('Données mensuelles'!N28=Tables!$E$8,Tables!$F$8,IF('Données mensuelles'!N28=Tables!$E$9,Tables!$F$9,IF('Données mensuelles'!N28=Tables!$E$10,Tables!$F$10,IF('Données mensuelles'!N28=Tables!$E$11,Tables!$F$11,IF(N28=Tables!$E$12,Tables!$F$12,IF('Données mensuelles'!N28=Tables!$E$13,Tables!$F$13,IF(N28=Tables!$E$14,Tables!$F$14,IF(N28=Tables!$E$15,Tables!$F$15,IF(N28=Tables!$E$16,Tables!$F$16)))))))))))) -> 0 | S28: =IF(Q28=Tables!$E$5,Tables!$F$5,IF('Données mensuelles'!Q28=Tables!$E$6,Tables!$F$6,IF('Données mensuelles'!Q28=Tables!$E$7,Tables!$F$7,IF('Données mensuelles'!Q28=Tables!$E$8,Tables!$F$8,IF('Données mensuelles'!Q28=Tables!$E$9,Tables!$F$9,IF('Données mensuelles'!Q28=Tables!$E$10,Tables!$F$10,IF('Données mensuelles'!Q28=Tables!$E$11,Tables!$F$11,IF(Q28=Tables!$E$12,Tables!$F$12,IF('Données mensuelles'!Q28=Tables!$E$13,Tables!$F$13,IF(Q28=Tables!$E$14,Tables!$F$14,IF(Q28=Tables!$E$15,Tables!$F$15,IF(Q28=Tables!$E$16,Tables!$F$16)))))))))))) -> 0 | T28: =S28+P28+M28+J28+G28 -> 0 | X28: =T28+(V28*W28)+(U28*Tables!$E$20*W28) -> 0
C29: =MONTH(B29) -> 1 | G29: =IF(E29=Tables!$E$5,Tables!$F$5,IF('Données mensuelles'!E29=Tables!$E$6,Tables!$F$6,IF('Données mensuelles'!E29=Tables!$E$7,Tables!$F$7,IF('Données mensuelles'!E29=Tables!$E$8,Tables!$F$8,IF('Données mensuelles'!E29=Tables!$E$9,Tables!$F$9,IF('Données mensuelles'!E29=Tables!$E$10,Tables!$F$10,IF('Données mensuelles'!E29=Tables!$E$11,Tables!$F$11,IF(E29=Tables!$E$12,Tables!$F$12,IF('Données mensuelles'!E29=Tables!$E$13,Tables!$F$13,IF(E29=Tables!$E$14,Tables!$F$14,IF(E29=Tables!$E$15,Tables!$F$15,IF(E29=Tables!$E$16,Tables!$F$16)))))))))))) -> 0 | J29: =IF(H29=Tables!$E$5,Tables!$F$5,IF('Données mensuelles'!H29=Tables!$E$6,Tables!$F$6,IF('Données mensuelles'!H29=Tables!$E$7,Tables!$F$7,IF('Données mensuelles'!H29=Tables!$E$8,Tables!$F$8,IF('Données mensuelles'!H29=Tables!$E$9,Tables!$F$9,IF('Données mensuelles'!H29=Tables!$E$10,Tables!$F$10,IF('Données mensuelles'!H29=Tables!$E$11,Tables!$F$11,IF(H29=Tables!$E$12,Tables!$F$12,IF('Données mensuelles'!H29=Tables!$E$13,Tables!$F$13,IF(H29=Tables!$E$14,Tables!$F$14,IF(H29=Tables!$E$15,Tables!$F$15,IF(H29=Tables!$E$16,Tables!$F$16)))))))))))) -> 0 | M29: =IF(K29=Tables!$E$5,Tables!$F$5,IF('Données mensuelles'!K29=Tables!$E$6,Tables!$F$6,IF('Données mensuelles'!K29=Tables!$E$7,Tables!$F$7,IF('Données mensuelles'!K29=Tables!$E$8,Tables!$F$8,IF('Données mensuelles'!K29=Tables!$E$9,Tables!$F$9,IF('Données mensuelles'!K29=Tables!$E$10,Tables!$F$10,IF('Données mensuelles'!K29=Tables!$E$11,Tables!$F$11,IF(K29=Tables!$E$12,Tables!$F$12,IF('Données mensuelles'!K29=Tables!$E$13,Tables!$F$13,IF(K29=Tables!$E$14,Tables!$F$14,IF(K29=Tables!$E$15,Tables!$F$15,IF(K29=Tables!$E$16,Tables!$F$16)))))))))))) -> 0 | P29: =IF(N29=Tables!$E$5,Tables!$F$5,IF('Données mensuelles'!N29=Tables!$E$6,Tables!$F$6,IF('Données mensuelles'!N29=Tables!$E$7,Tables!$F$7,IF('Données mensuelles'!N29=Tables!$E$8,Tables!$F$8,IF('Données mensuelles'!N29=Tables!$E$9,Tables!$F$9,IF('Données mensuelles'!N29=Tables!$E$10,Tables!$F$10,IF('Données mensuelles'!N29=Tables!$E$11,Tables!$F$11,IF(N29=Tables!$E$12,Tables!$F$12,IF('Données mensuelles'!N29=Tables!$E$13,Tables!$F$13,IF(N29=Tables!$E$14,Tables!$F$14,IF(N29=Tables!$E$15,Tables!$F$15,IF(N29=Tables!$E$16,Tables!$F$16)))))))))))) -> 0 | S29: =IF(Q29=Tables!$E$5,Tables!$F$5,IF('Données mensuelles'!Q29=Tables!$E$6,Tables!$F$6,IF('Données mensuelles'!Q29=Tables!$E$7,Tables!$F$7,IF('Données mensuelles'!Q29=Tables!$E$8,Tables!$F$8,IF('Données mensuelles'!Q29=Tables!$E$9,Tables!$F$9,IF('Données mensuelles'!Q29=Tables!$E$10,Tables!$F$10,IF('Données mensuelles'!Q29=Tables!$E$11,Tables!$F$11,IF(Q29=Tables!$E$12,Tables!$F$12,IF('Données mensuelles'!Q29=Tables!$E$13,Tables!$F$13,IF(Q29=Tables!$E$14,Tables!$F$14,IF(Q29=Tables!$E$15,Tables!$F$15,IF(Q29=Tables!$E$16,Tables!$F$16)))))))))))) -> 0 | T29: =S29+P29+M29+J29+G29 -> 0 | X29: =T29+(V29*W29)+(U29*Tables!$E$20*W29) -> 0
C30: =MONTH(B30) -> 1 | G30: =IF(E30=Tables!$E$5,Tables!$F$5,IF('Données mensuelles'!E30=Tables!$E$6,Tables!$F$6,IF('Données mensuelles'!E30=Tables!$E$7,Tables!$F$7,IF('Données mensuelles'!E30=Tables!$E$8,Tables!$F$8,IF('Données mensuelles'!E30=Tables!$E$9,Tables!$F$9,IF('Données mensuelles'!E30=Tables!$E$10,Tables!$F$10,IF('Données mensuelles'!E30=Tables!$E$11,Tables!$F$11,IF(E30=Tables!$E$12,Tables!$F$12,IF('Données mensuelles'!E30=Tables!$E$13,Tables!$F$13,IF(E30=Tables!$E$14,Tables!$F$14,IF(E30=Tables!$E$15,Tables!$F$15,IF(E30=Tables!$E$16,Tables!$F$16)))))))))))) -> 0 | J30: =IF(H30=Tables!$E$5,Tables!$F$5,IF('Données mensuelles'!H30=Tables!$E$6,Tables!$F$6,IF('Données mensuelles'!H30=Tables!$E$7,Tables!$F$7,IF('Données mensuelles'!H30=Tables!$E$8,Tables!$F$8,IF('Données mensuelles'!H30=Tables!$E$9,Tables!$F$9,IF('Données mensuelles'!H30=Tables!$E$10,Tables!$F$10,IF('Données mensuelles'!H30=Tables!$E$11,Tables!$F$11,IF(H30=Tables!$E$12,Tables!$F$12,IF('Données mensuelles'!H30=Tables!$E$13,Tables!$F$13,IF(H30=Tables!$E$14,Tables!$F$14,IF(H30=Tables!$E$15,Tables!$F$15,IF(H30=Tables!$E$16,Tables!$F$16)))))))))))) -> 0 | M30: =IF(K30=Tables!$E$5,Tables!$F$5,IF('Données mensuelles'!K30=Tables!$E$6,Tables!$F$6,IF('Données mensuelles'!K30=Tables!$E$7,Tables!$F$7,IF('Données mensuelles'!K30=Tables!$E$8,Tables!$F$8,IF('Données mensuelles'!K30=Tables!$E$9,Tables!$F$9,IF('Données mensuelles'!K30=Tables!$E$10,Tables!$F$10,IF('Données mensuelles'!K30=Tables!$E$11,Tables!$F$11,IF(K30=Tables!$E$12,Tables!$F$12,IF('Données mensuelles'!K30=Tables!$E$13,Tables!$F$13,IF(K30=Tables!$E$14,Tables!$F$14,IF(K30=Tables!$E$15,Tables!$F$15,IF(K30=Tables!$E$16,Tables!$F$16)))))))))))) -> 0 | P30: =IF(N30=Tables!$E$5,Tables!$F$5,IF('Données mensuelles'!N30=Tables!$E$6,Tables!$F$6,IF('Données mensuelles'!N30=Tables!$E$7,Tables!$F$7,IF('Données mensuelles'!N30=Tables!$E$8,Tables!$F$8,IF('Données mensuelles'!N30=Tables!$E$9,Tables!$F$9,IF('Données mensuelles'!N30=Tables!$E$10,Tables!$F$10,IF('Données mensuelles'!N30=Tables!$E$11,Tables!$F$11,IF(N30=Tables!$E$12,Tables!$F$12,IF('Données mensuelles'!N30=Tables!$E$13,Tables!$F$13,IF(N30=Tables!$E$14,Tables!$F$14,IF(N30=Tables!$E$15,Tables!$F$15,IF(N30=Tables!$E$16,Tables!$F$16)))))))))))) -> 0 | S30: =IF(Q30=Tables!$E$5,Tables!$F$5,IF('Données mensuelles'!Q30=Tables!$E$6,Tables!$F$6,IF('Données mensuelles'!Q30=Tables!$E$7,Tables!$F$7,IF('Données mensuelles'!Q30=Tables!$E$8,Tables!$F$8,IF('Données mensuelles'!Q30=Tables!$E$9,Tables!$F$9,IF('Données mensuelles'!Q30=Tables!$E$10,Tables!$F$10,IF('Données mensuelles'!Q30=Tables!$E$11,Tables!$F$11,IF(Q30=Tables!$E$12,Tables!$F$12,IF('Données mensuelles'!Q30=Tables!$E$13,Tables!$F$13,IF(Q30=Tables!$E$14,Tables!$F$14,IF(Q30=Tables!$E$15,Tables!$F$15,IF(Q30=Tables!$E$16,Tables!$F$16)))))))))))) -> 0 | T30: =S30+P30+M30+J30+G30 -> 0 | X30: =T30+(V30*W30)+(U30*Tables!$E$20*W30) -> 0
C31: =MONTH(B31) -> 1 | G31: =IF(E31=Tables!$E$5,Tables!$F$5,IF('Données mensuelles'!E31=Tables!$E$6,Tables!$F$6,IF('Données mensuelles'!E31=Tables!$E$7,Tables!$F$7,IF('Données mensuelles'!E31=Tables!$E$8,Tables!$F$8,IF('Données mensuelles'!E31=Tables!$E$9,Tables!$F$9,IF('Données mensuelles'!E31=Tables!$E$10,Tables!$F$10,IF('Données mensuelles'!E31=Tables!$E$11,Tables!$F$11,IF(E31=Tables!$E$12,Tables!$F$12,IF('Données mensuelles'!E31=Tables!$E$13,Tables!$F$13,IF(E31=Tables!$E$14,Tables!$F$14,IF(E31=Tables!$E$15,Tables!$F$15,IF(E31=Tables!$E$16,Tables!$F$16)))))))))))) -> 0 | J31: =IF(H31=Tables!$E$5,Tables!$F$5,IF('Données mensuelles'!H31=Tables!$E$6,Tables!$F$6,IF('Données mensuelles'!H31=Tables!$E$7,Tables!$F$7,IF('Données mensuelles'!H31=Tables!$E$8,Tables!$F$8,IF('Données mensuelles'!H31=Tables!$E$9,Tables!$F$9,IF('Données mensuelles'!H31=Tables!$E$10,Tables!$F$10,IF('Données mensuelles'!H31=Tables!$E$11,Tables!$F$11,IF(H31=Tables!$E$12,Tables!$F$12,IF('Données mensuelles'!H31=Tables!$E$13,Tables!$F$13,IF(H31=Tables!$E$14,Tables!$F$14,IF(H31=Tables!$E$15,Tables!$F$15,IF(H31=Tables!$E$16,Tables!$F$16)))))))))))) -> 0 | M31: =IF(K31=Tables!$E$5,Tables!$F$5,IF('Données mensuelles'!K31=Tables!$E$6,Tables!$F$6,IF('Données mensuelles'!K31=Tables!$E$7,Tables!$F$7,IF('Données mensuelles'!K31=Tables!$E$8,Tables!$F$8,IF('Données mensuelles'!K31=Tables!$E$9,Tables!$F$9,IF('Données mensuelles'!K31=Tables!$E$10,Tables!$F$10,IF('Données mensuelles'!K31=Tables!$E$11,Tables!$F$11,IF(K31=Tables!$E$12,Tables!$F$12,IF('Données mensuelles'!K31=Tables!$E$13,Tables!$F$13,IF(K31=Tables!$E$14,Tables!$F$14,IF(K31=Tables!$E$15,Tables!$F$15,IF(K31=Tables!$E$16,Tables!$F$16)))))))))))) -> 0 | P31: =IF(N31=Tables!$E$5,Tables!$F$5,IF('Données mensuelles'!N31=Tables!$E$6,Tables!$F$6,IF('Données mensuelles'!N31=Tables!$E$7,Tables!$F$7,IF('Données mensuelles'!N31=Tables!$E$8,Tables!$F$8,IF('Données mensuelles'!N31=Tables!$E$9,Tables!$F$9,IF('Données mensuelles'!N31=Tables!$E$10,Tables!$F$10,IF('Données mensuelles'!N31=Tables!$E$11,Tables!$F$11,IF(N31=Tables!$E$12,Tables!$F$12,IF('Données mensuelles'!N31=Tables!$E$13,Tables!$F$13,IF(N31=Tables!$E$14,Tables!$F$14,IF(N31=Tables!$E$15,Tables!$F$15,IF(N31=Tables!$E$16,Tables!$F$16)))))))))))) -> 0 | S31: =IF(Q31=Tables!$E$5,Tables!$F$5,IF('Données mensuelles'!Q31=Tables!$E$6,Tables!$F$6,IF('Données mensuelles'!Q31=Tables!$E$7,Tables!$F$7,IF('Données mensuelles'!Q31=Tables!$E$8,Tables!$F$8,IF('Données mensuelles'!Q31=Tables!$E$9,Tables!$F$9,IF('Données mensuelles'!Q31=Tables!$E$10,Tables!$F$10,IF('Données mensuelles'!Q31=Tables!$E$11,Tables!$F$11,IF(Q31=Tables!$E$12,Tables!$F$12,IF('Données mensuelles'!Q31=Tables!$E$13,Tables!$F$13,IF(Q31=Tables!$E$14,Tables!$F$14,IF(Q31=Tables!$E$15,Tables!$F$15,IF(Q31=Tables!$E$16,Tables!$F$16)))))))))))) -> 0 | T31: =S31+P31+M31+J31+G31 -> 0 | X31: =T31+(V31*W31)+(U31*Tables!$E$20*W31) -> 0
C32: =MONTH(B32) -> 1 | G32: =IF(E32=Tables!$E$5,Tables!$F$5,IF('Données mensuelles'!E32=Tables!$E$6,Tables!$F$6,IF('Données mensuelles'!E32=Tables!$E$7,Tables!$F$7,IF('Données mensuelles'!E32=Tables!$E$8,Tables!$F$8,IF('Données mensuelles'!E32=Tables!$E$9,Tables!$F$9,IF('Données mensuelles'!E32=Tables!$E$10,Tables!$F$10,IF('Données mensuelles'!E32=Tables!$E$11,Tables!$F$11,IF(E32=Tables!$E$12,Tables!$F$12,IF('Données mensuelles'!E32=Tables!$E$13,Tables!$F$13,IF(E32=Tables!$E$14,Tables!$F$14,IF(E32=Tables!$E$15,Tables!$F$15,IF(E32=Tables!$E$16,Tables!$F$16)))))))))))) -> 0 | J32: =IF(H32=Tables!$E$5,Tables!$F$5,IF('Données mensuelles'!H32=Tables!$E$6,Tables!$F$6,IF('Données mensuelles'!H32=Tables!$E$7,Tables!$F$7,IF('Données mensuelles'!H32=Tables!$E$8,Tables!$F$8,IF('Données mensuelles'!H32=Tables!$E$9,Tables!$F$9,IF('Données mensuelles'!H32=Tables!$E$10,Tables!$F$10,IF('Données mensuelles'!H32=Tables!$E$11,Tables!$F$11,IF(H32=Tables!$E$12,Tables!$F$12,IF('Données mensuelles'!H32=Tables!$E$13,Tables!$F$13,IF(H32=Tables!$E$14,Tables!$F$14,IF(H32=Tables!$E$15,Tables!$F$15,IF(H32=Tables!$E$16,Tables!$F$16)))))))))))) -> 0 | M32: =IF(K32=Tables!$E$5,Tables!$F$5,IF('Données mensuelles'!K32=Tables!$E$6,Tables!$F$6,IF('Données mensuelles'!K32=Tables!$E$7,Tables!$F$7,IF('Données mensuelles'!K32=Tables!$E$8,Tables!$F$8,IF('Données mensuelles'!K32=Tables!$E$9,Tables!$F$9,IF('Données mensuelles'!K32=Tables!$E$10,Tables!$F$10,IF('Données mensuelles'!K32=Tables!$E$11,Tables!$F$11,IF(K32=Tables!$E$12,Tables!$F$12,IF('Données mensuelles'!K32=Tables!$E$13,Tables!$F$13,IF(K32=Tables!$E$14,Tables!$F$14,IF(K32=Tables!$E$15,Tables!$F$15,IF(K32=Tables!$E$16,Tables!$F$16)))))))))))) -> 0 | P32: =IF(N32=Tables!$E$5,Tables!$F$5,IF('Données mensuelles'!N32=Tables!$E$6,Tables!$F$6,IF('Données mensuelles'!N32=Tables!$E$7,Tables!$F$7,IF('Données mensuelles'!N32=Tables!$E$8,Tables!$F$8,IF('Données mensuelles'!N32=Tables!$E$9,Tables!$F$9,IF('Données mensuelles'!N32=Tables!$E$10,Tables!$F$10,IF('Données mensuelles'!N32=Tables!$E$11,Tables!$F$11,IF(N32=Tables!$E$12,Tables!$F$12,IF('Données mensuelles'!N32=Tables!$E$13,Tables!$F$13,IF(N32=Tables!$E$14,Tables!$F$14,IF(N32=Tables!$E$15,Tables!$F$15,IF(N32=Tables!$E$16,Tables!$F$16)))))))))))) -> 0 | S32: =IF(Q32=Tables!$E$5,Tables!$F$5,IF('Données mensuelles'!Q32=Tables!$E$6,Tables!$F$6,IF('Données mensuelles'!Q32=Tables!$E$7,Tables!$F$7,IF('Données mensuelles'!Q32=Tables!$E$8,Tables!$F$8,IF('Données mensuelles'!Q32=Tables!$E$9,Tables!$F$9,IF('Données mensuelles'!Q32=Tables!$E$10,Tables!$F$10,IF('Données mensuelles'!Q32=Tables!$E$11,Tables!$F$11,IF(Q32=Tables!$E$12,Tables!$F$12,IF('Données mensuelles'!Q32=Tables!$E$13,Tables!$F$13,IF(Q32=Tables!$E$14,Tables!$F$14,IF(Q32=Tables!$E$15,Tables!$F$15,IF(Q32=Tables!$E$16,Tables!$F$16)))))))))))) -> 0 | T32: =S32+P32+M32+J32+G32 -> 0 | X32: =T32+(V32*W32)+(U32*Tables!$E$20*W32) -> 0
C33: =MONTH(B33) -> 1 | G33: =IF(E33=Tables!$E$5,Tables!$F$5,IF('Données mensuelles'!E33=Tables!$E$6,Tables!$F$6,IF('Données mensuelles'!E33=Tables!$E$7,Tables!$F$7,IF('Données mensuelles'!E33=Tables!$E$8,Tables!$F$8,IF('Données mensuelles'!E33=Tables!$E$9,Tables!$F$9,IF('Données mensuelles'!E33=Tables!$E$10,Tables!$F$10,IF('Données mensuelles'!E33=Tables!$E$11,Tables!$F$11,IF(E33=Tables!$E$12,Tables!$F$12,IF('Données mensuelles'!E33=Tables!$E$13,Tables!$F$13,IF(E33=Tables!$E$14,Tables!$F$14,IF(E33=Tables!$E$15,Tables!$F$15,IF(E33=Tables!$E$16,Tables!$F$16)))))))))))) -> 0 | J33: =IF(H33=Tables!$E$5,Tables!$F$5,IF('Données mensuelles'!H33=Tables!$E$6,Tables!$F$6,IF('Données mensuelles'!H33=Tables!$E$7,Tables!$F$7,IF('Données mensuelles'!H33=Tables!$E$8,Tables!$F$8,IF('Données mensuelles'!H33=Tables!$E$9,Tables!$F$9,IF('Données mensuelles'!H33=Tables!$E$10,Tables!$F$10,IF('Données mensuelles'!H33=Tables!$E$11,Tables!$F$11,IF(H33=Tables!$E$12,Tables!$F$12,IF('Données mensuelles'!H33=Tables!$E$13,Tables!$F$13,IF(H33=Tables!$E$14,Tables!$F$14,IF(H33=Tables!$E$15,Tables!$F$15,IF(H33=Tables!$E$16,Tables!$F$16)))))))))))) -> 0 | M33: =IF(K33=Tables!$E$5,Tables!$F$5,IF('Données mensuelles'!K33=Tables!$E$6,Tables!$F$6,IF('Données mensuelles'!K33=Tables!$E$7,Tables!$F$7,IF('Données mensuelles'!K33=Tables!$E$8,Tables!$F$8,IF('Données mensuelles'!K33=Tables!$E$9,Tables!$F$9,IF('Données mensuelles'!K33=Tables!$E$10,Tables!$F$10,IF('Données mensuelles'!K33=Tables!$E$11,Tables!$F$11,IF(K33=Tables!$E$12,Tables!$F$12,IF('Données mensuelles'!K33=Tables!$E$13,Tables!$F$13,IF(K33=Tables!$E$14,Tables!$F$14,IF(K33=Tables!$E$15,Tables!$F$15,IF(K33=Tables!$E$16,Tables!$F$16)))))))))))) -> 0 | P33: =IF(N33=Tables!$E$5,Tables!$F$5,IF('Données mensuelles'!N33=Tables!$E$6,Tables!$F$6,IF('Données mensuelles'!N33=Tables!$E$7,Tables!$F$7,IF('Données mensuelles'!N33=Tables!$E$8,Tables!$F$8,IF('Données mensuelles'!N33=Tables!$E$9,Tables!$F$9,IF('Données mensuelles'!N33=Tables!$E$10,Tables!$F$10,IF('Données mensuelles'!N33=Tables!$E$11,Tables!$F$11,IF(N33=Tables!$E$12,Tables!$F$12,IF('Données mensuelles'!N33=Tables!$E$13,Tables!$F$13,IF(N33=Tables!$E$14,Tables!$F$14,IF(N33=Tables!$E$15,Tables!$F$15,IF(N33=Tables!$E$16,Tables!$F$16)))))))))))) -> 0 | S33: =IF(Q33=Tables!$E$5,Tables!$F$5,IF('Données mensuelles'!Q33=Tables!$E$6,Tables!$F$6,IF('Données mensuelles'!Q33=Tables!$E$7,Tables!$F$7,IF('Données mensuelles'!Q33=Tables!$E$8,Tables!$F$8,IF('Données mensuelles'!Q33=Tables!$E$9,Tables!$F$9,IF('Données mensuelles'!Q33=Tables!$E$10,Tables!$F$10,IF('Données mensuelles'!Q33=Tables!$E$11,Tables!$F$11,IF(Q33=Tables!$E$12,Tables!$F$12,IF('Données mensuelles'!Q33=Tables!$E$13,Tables!$F$13,IF(Q33=Tables!$E$14,Tables!$F$14,IF(Q33=Tables!$E$15,Tables!$F$15,IF(Q33=Tables!$E$16,Tables!$F$16)))))))))))) -> 0 | T33: =S33+P33+M33+J33+G33 -> 0 | X33: =T33+(V33*W33)+(U33*Tables!$E$20*W33) -> 0
G34: =IF(E34=Tables!$E$5,Tables!$F$5,IF('Données mensuelles'!E34=Tables!$E$6,Tables!$F$6,IF('Données mensuelles'!E34=Tables!$E$7,Tables!$F$7,IF('Données mensuelles'!E34=Tables!$E$8,Tables!$F$8,IF('Données mensuelles'!E34=Tables!$E$9,Tables!$F$9,IF('Données mensuelles'!E34=Tables!$E$10,Tables!$F$10,IF('Données mensuelles'!E34=Tables!$E$11,Tables!$F$11,IF(E34=Tables!$E$12,Tables!$F$12,IF('Données mensuelles'!E34=Tables!$E$13,Tables!$F$13,IF(E34=Tables!$E$14,Tables!$F$14,IF(E34=Tables!$E$15,Tables!$F$15,IF(E34=Tables!$E$16,Tables!$F$16)))))))))))) -> 0 | J34: =IF(H34=Tables!$E$5,Tables!$F$5,IF('Données mensuelles'!H34=Tables!$E$6,Tables!$F$6,IF('Données mensuelles'!H34=Tables!$E$7,Tables!$F$7,IF('Données mensuelles'!H34=Tables!$E$8,Tables!$F$8,IF('Données mensuelles'!H34=Tables!$E$9,Tables!$F$9,IF('Données mensuelles'!H34=Tables!$E$10,Tables!$F$10,IF('Données mensuelles'!H34=Tables!$E$11,Tables!$F$11,IF(H34=Tables!$E$12,Tables!$F$12,IF('Données mensuelles'!H34=Tables!$E$13,Tables!$F$13,IF(H34=Tables!$E$14,Tables!$F$14,IF(H34=Tables!$E$15,Tables!$F$15,IF(H34=Tables!$E$16,Tables!$F$16)))))))))))) -> 0 | M34: =IF(K34=Tables!$E$5,Tables!$F$5,IF('Données mensuelles'!K34=Tables!$E$6,Tables!$F$6,IF('Données mensuelles'!K34=Tables!$E$7,Tables!$F$7,IF('Données mensuelles'!K34=Tables!$E$8,Tables!$F$8,IF('Données mensuelles'!K34=Tables!$E$9,Tables!$F$9,IF('Données mensuelles'!K34=Tables!$E$10,Tables!$F$10,IF('Données mensuelles'!K34=Tables!$E$11,Tables!$F$11,IF(K34=Tables!$E$12,Tables!$F$12,IF('Données mensuelles'!K34=Tables!$E$13,Tables!$F$13,IF(K34=Tables!$E$14,Tables!$F$14,IF(K34=Tables!$E$15,Tables!$F$15,IF(K34=Tables!$E$16,Tables!$F$16)))))))))))) -> 0 | P34: =IF(N34=Tables!$E$5,Tables!$F$5,IF('Données mensuelles'!N34=Tables!$E$6,Tables!$F$6,IF('Données mensuelles'!N34=Tables!$E$7,Tables!$F$7,IF('Données mensuelles'!N34=Tables!$E$8,Tables!$F$8,IF('Données mensuelles'!N34=Tables!$E$9,Tables!$F$9,IF('Données mensuelles'!N34=Tables!$E$10,Tables!$F$10,IF('Données mensuelles'!N34=Tables!$E$11,Tables!$F$11,IF(N34=Tables!$E$12,Tables!$F$12,IF('Données mensuelles'!N34=Tables!$E$13,Tables!$F$13,IF(N34=Tables!$E$14,Tables!$F$14,IF(N34=Tables!$E$15,Tables!$F$15,IF(N34=Tables!$E$16,Tables!$F$16)))))))))))) -> 0 | S34: =IF(Q34=Tables!$E$5,Tables!$F$5,IF('Données mensuelles'!Q34=Tables!$E$6,Tables!$F$6,IF('Données mensuelles'!Q34=Tables!$E$7,Tables!$F$7,IF('Données mensuelles'!Q34=Tables!$E$8,Tables!$F$8,IF('Données mensuelles'!Q34=Tables!$E$9,Tables!$F$9,IF('Données mensuelles'!Q34=Tables!$E$10,Tables!$F$10,IF('Données mensuelles'!Q34=Tables!$E$11,Tables!$F$11,IF(Q34=Tables!$E$12,Tables!$F$12,IF('Données mensuelles'!Q34=Tables!$E$13,Tables!$F$13,IF(Q34=Tables!$E$14,Tables!$F$14,IF(Q34=Tables!$E$15,Tables!$F$15,IF(Q34=Tables!$E$16,Tables!$F$16)))))))))))) -> 0 | T34: =S34+P34+M34+J34+G34 -> 0 | X34: =T34+(V34*W34)+(U34*Tables!$E$20*W34) -> 0
G35: =IF(E35=Tables!$E$5,Tables!$F$5,IF('Données mensuelles'!E35=Tables!$E$6,Tables!$F$6,IF('Données mensuelles'!E35=Tables!$E$7,Tables!$F$7,IF('Données mensuelles'!E35=Tables!$E$8,Tables!$F$8,IF('Données mensuelles'!E35=Tables!$E$9,Tables!$F$9,IF('Données mensuelles'!E35=Tables!$E$10,Tables!$F$10,IF('Données mensuelles'!E35=Tables!$E$11,Tables!$F$11,IF(E35=Tables!$E$12,Tables!$F$12,IF('Données mensuelles'!E35=Tables!$E$13,Tables!$F$13,IF(E35=Tables!$E$14,Tables!$F$14,IF(E35=Tables!$E$15,Tables!$F$15,IF(E35=Tables!$E$16,Tables!$F$16)))))))))))) -> 0 | J35: =IF(H35=Tables!$E$5,Tables!$F$5,IF('Données mensuelles'!H35=Tables!$E$6,Tables!$F$6,IF('Données mensuelles'!H35=Tables!$E$7,Tables!$F$7,IF('Données mensuelles'!H35=Tables!$E$8,Tables!$F$8,IF('Données mensuelles'!H35=Tables!$E$9,Tables!$F$9,IF('Données mensuelles'!H35=Tables!$E$10,Tables!$F$10,IF('Données mensuelles'!H35=Tables!$E$11,Tables!$F$11,IF(H35=Tables!$E$12,Tables!$F$12,IF('Données mensuelles'!H35=Tables!$E$13,Tables!$F$13,IF(H35=Tables!$E$14,Tables!$F$14,IF(H35=Tables!$E$15,Tables!$F$15,IF(H35=Tables!$E$16,Tables!$F$16)))))))))))) -> 0 | M35: =IF(K35=Tables!$E$5,Tables!$F$5,IF('Données mensuelles'!K35=Tables!$E$6,Tables!$F$6,IF('Données mensuelles'!K35=Tables!$E$7,Tables!$F$7,IF('Données mensuelles'!K35=Tables!$E$8,Tables!$F$8,IF('Données mensuelles'!K35=Tables!$E$9,Tables!$F$9,IF('Données mensuelles'!K35=Tables!$E$10,Tables!$F$10,IF('Données mensuelles'!K35=Tables!$E$11,Tables!$F$11,IF(K35=Tables!$E$12,Tables!$F$12,IF('Données mensuelles'!K35=Tables!$E$13,Tables!$F$13,IF(K35=Tables!$E$14,Tables!$F$14,IF(K35=Tables!$E$15,Tables!$F$15,IF(K35=Tables!$E$16,Tables!$F$16)))))))))))) -> 0 | P35: =IF(N35=Tables!$E$5,Tables!$F$5,IF('Données mensuelles'!N35=Tables!$E$6,Tables!$F$6,IF('Données mensuelles'!N35=Tables!$E$7,Tables!$F$7,IF('Données mensuelles'!N35=Tables!$E$8,Tables!$F$8,IF('Données mensuelles'!N35=Tables!$E$9,Tables!$F$9,IF('Données mensuelles'!N35=Tables!$E$10,Tables!$F$10,IF('Données mensuelles'!N35=Tables!$E$11,Tables!$F$11,IF(N35=Tables!$E$12,Tables!$F$12,IF('Données mensuelles'!N35=Tables!$E$13,Tables!$F$13,IF(N35=Tables!$E$14,Tables!$F$14,IF(N35=Tables!$E$15,Tables!$F$15,IF(N35=Tables!$E$16,Tables!$F$16)))))))))))) -> 0 | S35: =IF(Q35=Tables!$E$5,Tables!$F$5,IF('Données mensuelles'!Q35=Tables!$E$6,Tables!$F$6,IF('Données mensuelles'!Q35=Tables!$E$7,Tables!$F$7,IF('Données mensuelles'!Q35=Tables!$E$8,Tables!$F$8,IF('Données mensuelles'!Q35=Tables!$E$9,Tables!$F$9,IF('Données mensuelles'!Q35=Tables!$E$10,Tables!$F$10,IF('Données mensuelles'!Q35=Tables!$E$11,Tables!$F$11,IF(Q35=Tables!$E$12,Tables!$F$12,IF('Données mensuelles'!Q35=Tables!$E$13,Tables!$F$13,IF(Q35=Tables!$E$14,Tables!$F$14,IF(Q35=Tables!$E$15,Tables!$F$15,IF(Q35=Tables!$E$16,Tables!$F$16)))))))))))) -> 0 | T35: =S35+P35+M35+J35+G35 -> 0 | X35: =T35+(V35*W35)+(U35*Tables!$E$20*W35) -> 0
G36: =IF(E36=Tables!$E$5,Tables!$F$5,IF('Données mensuelles'!E36=Tables!$E$6,Tables!$F$6,IF('Données mensuelles'!E36=Tables!$E$7,Tables!$F$7,IF('Données mensuelles'!E36=Tables!$E$8,Tables!$F$8,IF('Données mensuelles'!E36=Tables!$E$9,Tables!$F$9,IF('Données mensuelles'!E36=Tables!$E$10,Tables!$F$10,IF('Données mensuelles'!E36=Tables!$E$11,Tables!$F$11,IF(E36=Tables!$E$12,Tables!$F$12,IF('Données mensuelles'!E36=Tables!$E$13,Tables!$F$13,IF(E36=Tables!$E$14,Tables!$F$14,IF(E36=Tables!$E$15,Tables!$F$15,IF(E36=Tables!$E$16,Tables!$F$16)))))))))))) -> 0 | J36: =IF(H36=Tables!$E$5,Tables!$F$5,IF('Données mensuelles'!H36=Tables!$E$6,Tables!$F$6,IF('Données mensuelles'!H36=Tables!$E$7,Tables!$F$7,IF('Données mensuelles'!H36=Tables!$E$8,Tables!$F$8,IF('Données mensuelles'!H36=Tables!$E$9,Tables!$F$9,IF('Données mensuelles'!H36=Tables!$E$10,Tables!$F$10,IF('Données mensuelles'!H36=Tables!$E$11,Tables!$F$11,IF(H36=Tables!$E$12,Tables!$F$12,IF('Données mensuelles'!H36=Tables!$E$13,Tables!$F$13,IF(H36=Tables!$E$14,Tables!$F$14,IF(H36=Tables!$E$15,Tables!$F$15,IF(H36=Tables!$E$16,Tables!$F$16)))))))))))) -> 0 | M36: =IF(K36=Tables!$E$5,Tables!$F$5,IF('Données mensuelles'!K36=Tables!$E$6,Tables!$F$6,IF('Données mensuelles'!K36=Tables!$E$7,Tables!$F$7,IF('Données mensuelles'!K36=Tables!$E$8,Tables!$F$8,IF('Données mensuelles'!K36=Tables!$E$9,Tables!$F$9,IF('Données mensuelles'!K36=Tables!$E$10,Tables!$F$10,IF('Données mensuelles'!K36=Tables!$E$11,Tables!$F$11,IF(K36=Tables!$E$12,Tables!$F$12,IF('Données mensuelles'!K36=Tables!$E$13,Tables!$F$13,IF(K36=Tables!$E$14,Tables!$F$14,IF(K36=Tables!$E$15,Tables!$F$15,IF(K36=Tables!$E$16,Tables!$F$16)))))))))))) -> 0 | P36: =IF(N36=Tables!$E$5,Tables!$F$5,IF('Données mensuelles'!N36=Tables!$E$6,Tables!$F$6,IF('Données mensuelles'!N36=Tables!$E$7,Tables!$F$7,IF('Données mensuelles'!N36=Tables!$E$8,Tables!$F$8,IF('Données mensuelles'!N36=Tables!$E$9,Tables!$F$9,IF('Données mensuelles'!N36=Tables!$E$10,Tables!$F$10,IF('Données mensuelles'!N36=Tables!$E$11,Tables!$F$11,IF(N36=Tables!$E$12,Tables!$F$12,IF('Données mensuelles'!N36=Tables!$E$13,Tables!$F$13,IF(N36=Tables!$E$14,Tables!$F$14,IF(N36=Tables!$E$15,Tables!$F$15,IF(N36=Tables!$E$16,Tables!$F$16)))))))))))) -> 0 | S36: =IF(Q36=Tables!$E$5,Tables!$F$5,IF('Données mensuelles'!Q36=Tables!$E$6,Tables!$F$6,IF('Données mensuelles'!Q36=Tables!$E$7,Tables!$F$7,IF('Données mensuelles'!Q36=Tables!$E$8,Tables!$F$8,IF('Données mensuelles'!Q36=Tables!$E$9,Tables!$F$9,IF('Données mensuelles'!Q36=Tables!$E$10,Tables!$F$10,IF('Données mensuelles'!Q36=Tables!$E$11,Tables!$F$11,IF(Q36=Tables!$E$12,Tables!$F$12,IF('Données mensuelles'!Q36=Tables!$E$13,Tables!$F$13,IF(Q36=Tables!$E$14,Tables!$F$14,IF(Q36=Tables!$E$15,Tables!$F$15,IF(Q36=Tables!$E$16,Tables!$F$16)))))))))))) -> 0 | T36: =S36+P36+M36+J36+G36 -> 0 | X36: =T36+(V36*W36)+(U36*Tables!$E$20*W36) -> 0
G37: =IF(E37=Tables!$E$5,Tables!$F$5,IF('Données mensuelles'!E37=Tables!$E$6,Tables!$F$6,IF('Données mensuelles'!E37=Tables!$E$7,Tables!$F$7,IF('Données mensuelles'!E37=Tables!$E$8,Tables!$F$8,IF('Données mensuelles'!E37=Tables!$E$9,Tables!$F$9,IF('Données mensuelles'!E37=Tables!$E$10,Tables!$F$10,IF('Données mensuelles'!E37=Tables!$E$11,Tables!$F$11,IF(E37=Tables!$E$12,Tables!$F$12,IF('Données mensuelles'!E37=Tables!$E$13,Tables!$F$13,IF(E37=Tables!$E$14,Tables!$F$14,IF(E37=Tables!$E$15,Tables!$F$15,IF(E37=Tables!$E$16,Tables!$F$16)))))))))))) -> 0 | J37: =IF(H37=Tables!$E$5,Tables!$F$5,IF('Données mensuelles'!H37=Tables!$E$6,Tables!$F$6,IF('Données mensuelles'!H37=Tables!$E$7,Tables!$F$7,IF('Données mensuelles'!H37=Tables!$E$8,Tables!$F$8,IF('Données mensuelles'!H37=Tables!$E$9,Tables!$F$9,IF('Données mensuelles'!H37=Tables!$E$10,Tables!$F$10,IF('Données mensuelles'!H37=Tables!$E$11,Tables!$F$11,IF(H37=Tables!$E$12,Tables!$F$12,IF('Données mensuelles'!H37=Tables!$E$13,Tables!$F$13,IF(H37=Tables!$E$14,Tables!$F$14,IF(H37=Tables!$E$15,Tables!$F$15,IF(H37=Tables!$E$16,Tables!$F$16)))))))))))) -> 0 | M37: =IF(K37=Tables!$E$5,Tables!$F$5,IF('Données mensuelles'!K37=Tables!$E$6,Tables!$F$6,IF('Données mensuelles'!K37=Tables!$E$7,Tables!$F$7,IF('Données mensuelles'!K37=Tables!$E$8,Tables!$F$8,IF('Données mensuelles'!K37=Tables!$E$9,Tables!$F$9,IF('Données mensuelles'!K37=Tables!$E$10,Tables!$F$10,IF('Données mensuelles'!K37=Tables!$E$11,Tables!$F$11,IF(K37=Tables!$E$12,Tables!$F$12,IF('Données mensuelles'!K37=Tables!$E$13,Tables!$F$13,IF(K37=Tables!$E$14,Tables!$F$14,IF(K37=Tables!$E$15,Tables!$F$15,IF(K37=Tables!$E$16,Tables!$F$16)))))))))))) -> 0 | P37: =IF(N37=Tables!$E$5,Tables!$F$5,IF('Données mensuelles'!N37=Tables!$E$6,Tables!$F$6,IF('Données mensuelles'!N37=Tables!$E$7,Tables!$F$7,IF('Données mensuelles'!N37=Tables!$E$8,Tables!$F$8,IF('Données mensuelles'!N37=Tables!$E$9,Tables!$F$9,IF('Données mensuelles'!N37=Tables!$E$10,Tables!$F$10,IF('Données mensuelles'!N37=Tables!$E$11,Tables!$F$11,IF(N37=Tables!$E$12,Tables!$F$12,IF('Données mensuelles'!N37=Tables!$E$13,Tables!$F$13,IF(N37=Tables!$E$14,Tables!$F$14,IF(N37=Tables!$E$15,Tables!$F$15,IF(N37=Tables!$E$16,Tables!$F$16)))))))))))) -> 0 | S37: =IF(Q37=Tables!$E$5,Tables!$F$5,IF('Données mensuelles'!Q37=Tables!$E$6,Tables!$F$6,IF('Données mensuelles'!Q37=Tables!$E$7,Tables!$F$7,IF('Données mensuelles'!Q37=Tables!$E$8,Tables!$F$8,IF('Données mensuelles'!Q37=Tables!$E$9,Tables!$F$9,IF('Données mensuelles'!Q37=Tables!$E$10,Tables!$F$10,IF('Données mensuelles'!Q37=Tables!$E$11,Tables!$F$11,IF(Q37=Tables!$E$12,Tables!$F$12,IF('Données mensuelles'!Q37=Tables!$E$13,Tables!$F$13,IF(Q37=Tables!$E$14,Tables!$F$14,IF(Q37=Tables!$E$15,Tables!$F$15,IF(Q37=Tables!$E$16,Tables!$F$16)))))))))))) -> 0 | T37: =S37+P37+M37+J37+G37 -> 0 | X37: =T37+(V37*W37)+(U37*Tables!$E$20*W37) -> 0
G38: =IF(E38=Tables!$E$5,Tables!$F$5,IF('Données mensuelles'!E38=Tables!$E$6,Tables!$F$6,IF('Données mensuelles'!E38=Tables!$E$7,Tables!$F$7,IF('Données mensuelles'!E38=Tables!$E$8,Tables!$F$8,IF('Données mensuelles'!E38=Tables!$E$9,Tables!$F$9,IF('Données mensuelles'!E38=Tables!$E$10,Tables!$F$10,IF('Données mensuelles'!E38=Tables!$E$11,Tables!$F$11,IF(E38=Tables!$E$12,Tables!$F$12,IF('Données mensuelles'!E38=Tables!$E$13,Tables!$F$13,IF(E38=Tables!$E$14,Tables!$F$14,IF(E38=Tables!$E$15,Tables!$F$15,IF(E38=Tables!$E$16,Tables!$F$16)))))))))))) -> 0 | J38: =IF(H38=Tables!$E$5,Tables!$F$5,IF('Données mensuelles'!H38=Tables!$E$6,Tables!$F$6,IF('Données mensuelles'!H38=Tables!$E$7,Tables!$F$7,IF('Données mensuelles'!H38=Tables!$E$8,Tables!$F$8,IF('Données mensuelles'!H38=Tables!$E$9,Tables!$F$9,IF('Données mensuelles'!H38=Tables!$E$10,Tables!$F$10,IF('Données mensuelles'!H38=Tables!$E$11,Tables!$F$11,IF(H38=Tables!$E$12,Tables!$F$12,IF('Données mensuelles'!H38=Tables!$E$13,Tables!$F$13,IF(H38=Tables!$E$14,Tables!$F$14,IF(H38=Tables!$E$15,Tables!$F$15,IF(H38=Tables!$E$16,Tables!$F$16)))))))))))) -> 0 | M38: =IF(K38=Tables!$E$5,Tables!$F$5,IF('Données mensuelles'!K38=Tables!$E$6,Tables!$F$6,IF('Données mensuelles'!K38=Tables!$E$7,Tables!$F$7,IF('Données mensuelles'!K38=Tables!$E$8,Tables!$F$8,IF('Données mensuelles'!K38=Tables!$E$9,Tables!$F$9,IF('Données mensuelles'!K38=Tables!$E$10,Tables!$F$10,IF('Données mensuelles'!K38=Tables!$E$11,Tables!$F$11,IF(K38=Tables!$E$12,Tables!$F$12,IF('Données mensuelles'!K38=Tables!$E$13,Tables!$F$13,IF(K38=Tables!$E$14,Tables!$F$14,IF(K38=Tables!$E$15,Tables!$F$15,IF(K38=Tables!$E$16,Tables!$F$16)))))))))))) -> 0 | P38: =IF(N38=Tables!$E$5,Tables!$F$5,IF('Données mensuelles'!N38=Tables!$E$6,Tables!$F$6,IF('Données mensuelles'!N38=Tables!$E$7,Tables!$F$7,IF('Données mensuelles'!N38=Tables!$E$8,Tables!$F$8,IF('Données mensuelles'!N38=Tables!$E$9,Tables!$F$9,IF('Données mensuelles'!N38=Tables!$E$10,Tables!$F$10,IF('Données mensuelles'!N38=Tables!$E$11,Tables!$F$11,IF(N38=Tables!$E$12,Tables!$F$12,IF('Données mensuelles'!N38=Tables!$E$13,Tables!$F$13,IF(N38=Tables!$E$14,Tables!$F$14,IF(N38=Tables!$E$15,Tables!$F$15,IF(N38=Tables!$E$16,Tables!$F$16)))))))))))) -> 0 | S38: =IF(Q38=Tables!$E$5,Tables!$F$5,IF('Données mensuelles'!Q38=Tables!$E$6,Tables!$F$6,IF('Données mensuelles'!Q38=Tables!$E$7,Tables!$F$7,IF('Données mensuelles'!Q38=Tables!$E$8,Tables!$F$8,IF('Données mensuelles'!Q38=Tables!$E$9,Tables!$F$9,IF('Données mensuelles'!Q38=Tables!$E$10,Tables!$F$10,IF('Données mensuelles'!Q38=Tables!$E$11,Tables!$F$11,IF(Q38=Tables!$E$12,Tables!$F$12,IF('Données mensuelles'!Q38=Tables!$E$13,Tables!$F$13,IF(Q38=Tables!$E$14,Tables!$F$14,IF(Q38=Tables!$E$15,Tables!$F$15,IF(Q38=Tables!$E$16,Tables!$F$16)))))))))))) -> 0 | T38: =S38+P38+M38+J38+G38 -> 0 | X38: =T38+(V38*W38)+(U38*Tables!$E$20*W38) -> 0
G39: =IF(E39=Tables!$E$5,Tables!$F$5,IF('Données mensuelles'!E39=Tables!$E$6,Tables!$F$6,IF('Données mensuelles'!E39=Tables!$E$7,Tables!$F$7,IF('Données mensuelles'!E39=Tables!$E$8,Tables!$F$8,IF('Données mensuelles'!E39=Tables!$E$9,Tables!$F$9,IF('Données mensuelles'!E39=Tables!$E$10,Tables!$F$10,IF('Données mensuelles'!E39=Tables!$E$11,Tables!$F$11,IF(E39=Tables!$E$12,Tables!$F$12,IF('Données mensuelles'!E39=Tables!$E$13,Tables!$F$13,IF(E39=Tables!$E$14,Tables!$F$14,IF(E39=Tables!$E$15,Tables!$F$15,IF(E39=Tables!$E$16,Tables!$F$16)))))))))))) -> 0 | J39: =IF(H39=Tables!$E$5,Tables!$F$5,IF('Données mensuelles'!H39=Tables!$E$6,Tables!$F$6,IF('Données mensuelles'!H39=Tables!$E$7,Tables!$F$7,IF('Données mensuelles'!H39=Tables!$E$8,Tables!$F$8,IF('Données mensuelles'!H39=Tables!$E$9,Tables!$F$9,IF('Données mensuelles'!H39=Tables!$E$10,Tables!$F$10,IF('Données mensuelles'!H39=Tables!$E$11,Tables!$F$11,IF(H39=Tables!$E$12,Tables!$F$12,IF('Données mensuelles'!H39=Tables!$E$13,Tables!$F$13,IF(H39=Tables!$E$14,Tables!$F$14,IF(H39=Tables!$E$15,Tables!$F$15,IF(H39=Tables!$E$16,Tables!$F$16)))))))))))) -> 0 | M39: =IF(K39=Tables!$E$5,Tables!$F$5,IF('Données mensuelles'!K39=Tables!$E$6,Tables!$F$6,IF('Données mensuelles'!K39=Tables!$E$7,Tables!$F$7,IF('Données mensuelles'!K39=Tables!$E$8,Tables!$F$8,IF('Données mensuelles'!K39=Tables!$E$9,Tables!$F$9,IF('Données mensuelles'!K39=Tables!$E$10,Tables!$F$10,IF('Données mensuelles'!K39=Tables!$E$11,Tables!$F$11,IF(K39=Tables!$E$12,Tables!$F$12,IF('Données mensuelles'!K39=Tables!$E$13,Tables!$F$13,IF(K39=Tables!$E$14,Tables!$F$14,IF(K39=Tables!$E$15,Tables!$F$15,IF(K39=Tables!$E$16,Tables!$F$16)))))))))))) -> 0 | P39: =IF(N39=Tables!$E$5,Tables!$F$5,IF('Données mensuelles'!N39=Tables!$E$6,Tables!$F$6,IF('Données mensuelles'!N39=Tables!$E$7,Tables!$F$7,IF('Données mensuelles'!N39=Tables!$E$8,Tables!$F$8,IF('Données mensuelles'!N39=Tables!$E$9,Tables!$F$9,IF('Données mensuelles'!N39=Tables!$E$10,Tables!$F$10,IF('Données mensuelles'!N39=Tables!$E$11,Tables!$F$11,IF(N39=Tables!$E$12,Tables!$F$12,IF('Données mensuelles'!N39=Tables!$E$13,Tables!$F$13,IF(N39=Tables!$E$14,Tables!$F$14,IF(N39=Tables!$E$15,Tables!$F$15,IF(N39=Tables!$E$16,Tables!$F$16)))))))))))) -> 0 | S39: =IF(Q39=Tables!$E$5,Tables!$F$5,IF('Données mensuelles'!Q39=Tables!$E$6,Tables!$F$6,IF('Données mensuelles'!Q39=Tables!$E$7,Tables!$F$7,IF('Données mensuelles'!Q39=Tables!$E$8,Tables!$F$8,IF('Données mensuelles'!Q39=Tables!$E$9,Tables!$F$9,IF('Données mensuelles'!Q39=Tables!$E$10,Tables!$F$10,IF('Données mensuelles'!Q39=Tables!$E$11,Tables!$F$11,IF(Q39=Tables!$E$12,Tables!$F$12,IF('Données mensuelles'!Q39=Tables!$E$13,Tables!$F$13,IF(Q39=Tables!$E$14,Tables!$F$14,IF(Q39=Tables!$E$15,Tables!$F$15,IF(Q39=Tables!$E$16,Tables!$F$16)))))))))))) -> 0 | T39: =S39+P39+M39+J39+G39 -> 0 | X39: =T39+(V39*W39)+(U39*Tables!$E$20*W39) -> 0
G40: =IF(E40=Tables!$E$5,Tables!$F$5,IF('Données mensuelles'!E40=Tables!$E$6,Tables!$F$6,IF('Données mensuelles'!E40=Tables!$E$7,Tables!$F$7,IF('Données mensuelles'!E40=Tables!$E$8,Tables!$F$8,IF('Données mensuelles'!E40=Tables!$E$9,Tables!$F$9,IF('Données mensuelles'!E40=Tables!$E$10,Tables!$F$10,IF('Données mensuelles'!E40=Tables!$E$11,Tables!$F$11,IF(E40=Tables!$E$12,Tables!$F$12,IF('Données mensuelles'!E40=Tables!$E$13,Tables!$F$13,IF(E40=Tables!$E$14,Tables!$F$14,IF(E40=Tables!$E$15,Tables!$F$15,IF(E40=Tables!$E$16,Tables!$F$16)))))))))))) -> 0 | J40: =IF(H40=Tables!$E$5,Tables!$F$5,IF('Données mensuelles'!H40=Tables!$E$6,Tables!$F$6,IF('Données mensuelles'!H40=Tables!$E$7,Tables!$F$7,IF('Données mensuelles'!H40=Tables!$E$8,Tables!$F$8,IF('Données mensuelles'!H40=Tables!$E$9,Tables!$F$9,IF('Données mensuelles'!H40=Tables!$E$10,Tables!$F$10,IF('Données mensuelles'!H40=Tables!$E$11,Tables!$F$11,IF(H40=Tables!$E$12,Tables!$F$12,IF('Données mensuelles'!H40=Tables!$E$13,Tables!$F$13,IF(H40=Tables!$E$14,Tables!$F$14,IF(H40=Tables!$E$15,Tables!$F$15,IF(H40=Tables!$E$16,Tables!$F$16)))))))))))) -> 0 | M40: =IF(K40=Tables!$E$5,Tables!$F$5,IF('Données mensuelles'!K40=Tables!$E$6,Tables!$F$6,IF('Données mensuelles'!K40=Tables!$E$7,Tables!$F$7,IF('Données mensuelles'!K40=Tables!$E$8,Tables!$F$8,IF('Données mensuelles'!K40=Tables!$E$9,Tables!$F$9,IF('Données mensuelles'!K40=Tables!$E$10,Tables!$F$10,IF('Données mensuelles'!K40=Tables!$E$11,Tables!$F$11,IF(K40=Tables!$E$12,Tables!$F$12,IF('Données mensuelles'!K40=Tables!$E$13,Tables!$F$13,IF(K40=Tables!$E$14,Tables!$F$14,IF(K40=Tables!$E$15,Tables!$F$15,IF(K40=Tables!$E$16,Tables!$F$16)))))))))))) -> 0 | P40: =IF(N40=Tables!$E$5,Tables!$F$5,IF('Données mensuelles'!N40=Tables!$E$6,Tables!$F$6,IF('Données mensuelles'!N40=Tables!$E$7,Tables!$F$7,IF('Données mensuelles'!N40=Tables!$E$8,Tables!$F$8,IF('Données mensuelles'!N40=Tables!$E$9,Tables!$F$9,IF('Données mensuelles'!N40=Tables!$E$10,Tables!$F$10,IF('Données mensuelles'!N40=Tables!$E$11,Tables!$F$11,IF(N40=Tables!$E$12,Tables!$F$12,IF('Données mensuelles'!N40=Tables!$E$13,Tables!$F$13,IF(N40=Tables!$E$14,Tables!$F$14,IF(N40=Tables!$E$15,Tables!$F$15,IF(N40=Tables!$E$16,Tables!$F$16)))))))))))) -> 0 | S40: =IF(Q40=Tables!$E$5,Tables!$F$5,IF('Données mensuelles'!Q40=Tables!$E$6,Tables!$F$6,IF('Données mensuelles'!Q40=Tables!$E$7,Tables!$F$7,IF('Données mensuelles'!Q40=Tables!$E$8,Tables!$F$8,IF('Données mensuelles'!Q40=Tables!$E$9,Tables!$F$9,IF('Données mensuelles'!Q40=Tables!$E$10,Tables!$F$10,IF('Données mensuelles'!Q40=Tables!$E$11,Tables!$F$11,IF(Q40=Tables!$E$12,Tables!$F$12,IF('Données mensuelles'!Q40=Tables!$E$13,Tables!$F$13,IF(Q40=Tables!$E$14,Tables!$F$14,IF(Q40=Tables!$E$15,Tables!$F$15,IF(Q40=Tables!$E$16,Tables!$F$16)))))))))))) -> 0 | T40: =S40+P40+M40+J40+G40 -> 0 | X40: =T40+(V40*W40)+(U40*Tables!$E$20*W40) -> 0
G41: =IF(E41=Tables!$E$5,Tables!$F$5,IF('Données mensuelles'!E41=Tables!$E$6,Tables!$F$6,IF('Données mensuelles'!E41=Tables!$E$7,Tables!$F$7,IF('Données mensuelles'!E41=Tables!$E$8,Tables!$F$8,IF('Données mensuelles'!E41=Tables!$E$9,Tables!$F$9,IF('Données mensuelles'!E41=Tables!$E$10,Tables!$F$10,IF('Données mensuelles'!E41=Tables!$E$11,Tables!$F$11,IF(E41=Tables!$E$12,Tables!$F$12,IF('Données mensuelles'!E41=Tables!$E$13,Tables!$F$13,IF(E41=Tables!$E$14,Tables!$F$14,IF(E41=Tables!$E$15,Tables!$F$15,IF(E41=Tables!$E$16,Tables!$F$16)))))))))))) -> 0 | J41: =IF(H41=Tables!$E$5,Tables!$F$5,IF('Données mensuelles'!H41=Tables!$E$6,Tables!$F$6,IF('Données mensuelles'!H41=Tables!$E$7,Tables!$F$7,IF('Données mensuelles'!H41=Tables!$E$8,Tables!$F$8,IF('Données mensuelles'!H41=Tables!$E$9,Tables!$F$9,IF('Données mensuelles'!H41=Tables!$E$10,Tables!$F$10,IF('Données mensuelles'!H41=Tables!$E$11,Tables!$F$11,IF(H41=Tables!$E$12,Tables!$F$12,IF('Données mensuelles'!H41=Tables!$E$13,Tables!$F$13,IF(H41=Tables!$E$14,Tables!$F$14,IF(H41=Tables!$E$15,Tables!$F$15,IF(H41=Tables!$E$16,Tables!$F$16)))))))))))) -> 0 | M41: =IF(K41=Tables!$E$5,Tables!$F$5,IF('Données mensuelles'!K41=Tables!$E$6,Tables!$F$6,IF('Données mensuelles'!K41=Tables!$E$7,Tables!$F$7,IF('Données mensuelles'!K41=Tables!$E$8,Tables!$F$8,IF('Données mensuelles'!K41=Tables!$E$9,Tables!$F$9,IF('Données mensuelles'!K41=Tables!$E$10,Tables!$F$10,IF('Données mensuelles'!K41=Tables!$E$11,Tables!$F$11,IF(K41=Tables!$E$12,Tables!$F$12,IF('Données mensuelles'!K41=Tables!$E$13,Tables!$F$13,IF(K41=Tables!$E$14,Tables!$F$14,IF(K41=Tables!$E$15,Tables!$F$15,IF(K41=Tables!$E$16,Tables!$F$16)))))))))))) -> 0 | P41: =IF(N41=Tables!$E$5,Tables!$F$5,IF('Données mensuelles'!N41=Tables!$E$6,Tables!$F$6,IF('Données mensuelles'!N41=Tables!$E$7,Tables!$F$7,IF('Données mensuelles'!N41=Tables!$E$8,Tables!$F$8,IF('Données mensuelles'!N41=Tables!$E$9,Tables!$F$9,IF('Données mensuelles'!N41=Tables!$E$10,Tables!$F$10,IF('Données mensuelles'!N41=Tables!$E$11,Tables!$F$11,IF(N41=Tables!$E$12,Tables!$F$12,IF('Données mensuelles'!N41=Tables!$E$13,Tables!$F$13,IF(N41=Tables!$E$14,Tables!$F$14,IF(N41=Tables!$E$15,Tables!$F$15,IF(N41=Tables!$E$16,Tables!$F$16)))))))))))) -> 0 | S41: =IF(Q41=Tables!$E$5,Tables!$F$5,IF('Données mensuelles'!Q41=Tables!$E$6,Tables!$F$6,IF('Données mensuelles'!Q41=Tables!$E$7,Tables!$F$7,IF('Données mensuelles'!Q41=Tables!$E$8,Tables!$F$8,IF('Données mensuelles'!Q41=Tables!$E$9,Tables!$F$9,IF('Données mensuelles'!Q41=Tables!$E$10,Tables!$F$10,IF('Données mensuelles'!Q41=Tables!$E$11,Tables!$F$11,IF(Q41=Tables!$E$12,Tables!$F$12,IF('Données mensuelles'!Q41=Tables!$E$13,Tables!$F$13,IF(Q41=Tables!$E$14,Tables!$F$14,IF(Q41=Tables!$E$15,Tables!$F$15,IF(Q41=Tables!$E$16,Tables!$F$16)))))))))))) -> 0 | T41: =S41+P41+M41+J41+G41 -> 0 | X41: =T41+(V41*W41)+(U41*Tables!$E$20*W41) -> 0
G42: =IF(E42=Tables!$E$5,Tables!$F$5,IF('Données mensuelles'!E42=Tables!$E$6,Tables!$F$6,IF('Données mensuelles'!E42=Tables!$E$7,Tables!$F$7,IF('Données mensuelles'!E42=Tables!$E$8,Tables!$F$8,IF('Données mensuelles'!E42=Tables!$E$9,Tables!$F$9,IF('Données mensuelles'!E42=Tables!$E$10,Tables!$F$10,IF('Données mensuelles'!E42=Tables!$E$11,Tables!$F$11,IF(E42=Tables!$E$12,Tables!$F$12,IF('Données mensuelles'!E42=Tables!$E$13,Tables!$F$13,IF(E42=Tables!$E$14,Tables!$F$14,IF(E42=Tables!$E$15,Tables!$F$15,IF(E42=Tables!$E$16,Tables!$F$16)))))))))))) -> 0 | J42: =IF(H42=Tables!$E$5,Tables!$F$5,IF('Données mensuelles'!H42=Tables!$E$6,Tables!$F$6,IF('Données mensuelles'!H42=Tables!$E$7,Tables!$F$7,IF('Données mensuelles'!H42=Tables!$E$8,Tables!$F$8,IF('Données mensuelles'!H42=Tables!$E$9,Tables!$F$9,IF('Données mensuelles'!H42=Tables!$E$10,Tables!$F$10,IF('Données mensuelles'!H42=Tables!$E$11,Tables!$F$11,IF(H42=Tables!$E$12,Tables!$F$12,IF('Données mensuelles'!H42=Tables!$E$13,Tables!$F$13,IF(H42=Tables!$E$14,Tables!$F$14,IF(H42=Tables!$E$15,Tables!$F$15,IF(H42=Tables!$E$16,Tables!$F$16)))))))))))) -> 0 | M42: =IF(K42=Tables!$E$5,Tables!$F$5,IF('Données mensuelles'!K42=Tables!$E$6,Tables!$F$6,IF('Données mensuelles'!K42=Tables!$E$7,Tables!$F$7,IF('Données mensuelles'!K42=Tables!$E$8,Tables!$F$8,IF('Données mensuelles'!K42=Tables!$E$9,Tables!$F$9,IF('Données mensuelles'!K42=Tables!$E$10,Tables!$F$10,IF('Données mensuelles'!K42=Tables!$E$11,Tables!$F$11,IF(K42=Tables!$E$12,Tables!$F$12,IF('Données mensuelles'!K42=Tables!$E$13,Tables!$F$13,IF(K42=Tables!$E$14,Tables!$F$14,IF(K42=Tables!$E$15,Tables!$F$15,IF(K42=Tables!$E$16,Tables!$F$16)))))))))))) -> 0 | P42: =IF(N42=Tables!$E$5,Tables!$F$5,IF('Données mensuelles'!N42=Tables!$E$6,Tables!$F$6,IF('Données mensuelles'!N42=Tables!$E$7,Tables!$F$7,IF('Données mensuelles'!N42=Tables!$E$8,Tables!$F$8,IF('Données mensuelles'!N42=Tables!$E$9,Tables!$F$9,IF('Données mensuelles'!N42=Tables!$E$10,Tables!$F$10,IF('Données mensuelles'!N42=Tables!$E$11,Tables!$F$11,IF(N42=Tables!$E$12,Tables!$F$12,IF('Données mensuelles'!N42=Tables!$E$13,Tables!$F$13,IF(N42=Tables!$E$14,Tables!$F$14,IF(N42=Tables!$E$15,Tables!$F$15,IF(N42=Tables!$E$16,Tables!$F$16)))))))))))) -> 0 | S42: =IF(Q42=Tables!$E$5,Tables!$F$5,IF('Données mensuelles'!Q42=Tables!$E$6,Tables!$F$6,IF('Données mensuelles'!Q42=Tables!$E$7,Tables!$F$7,IF('Données mensuelles'!Q42=Tables!$E$8,Tables!$F$8,IF('Données mensuelles'!Q42=Tables!$E$9,Tables!$F$9,IF('Données mensuelles'!Q42=Tables!$E$10,Tables!$F$10,IF('Données mensuelles'!Q42=Tables!$E$11,Tables!$F$11,IF(Q42=Tables!$E$12,Tables!$F$12,IF('Données mensuelles'!Q42=Tables!$E$13,Tables!$F$13,IF(Q42=Tables!$E$14,Tables!$F$14,IF(Q42=Tables!$E$15,Tables!$F$15,IF(Q42=Tables!$E$16,Tables!$F$16)))))))))))) -> 0 | T42: =S42+P42+M42+J42+G42 -> 0 | X42: =T42+(V42*W42)+(U42*Tables!$E$20*W42) -> 0
G43: =IF(E43=Tables!$E$5,Tables!$F$5,IF('Données mensuelles'!E43=Tables!$E$6,Tables!$F$6,IF('Données mensuelles'!E43=Tables!$E$7,Tables!$F$7,IF('Données mensuelles'!E43=Tables!$E$8,Tables!$F$8,IF('Données mensuelles'!E43=Tables!$E$9,Tables!$F$9,IF('Données mensuelles'!E43=Tables!$E$10,Tables!$F$10,IF('Données mensuelles'!E43=Tables!$E$11,Tables!$F$11,IF(E43=Tables!$E$12,Tables!$F$12,IF('Données mensuelles'!E43=Tables!$E$13,Tables!$F$13,IF(E43=Tables!$E$14,Tables!$F$14,IF(E43=Tables!$E$15,Tables!$F$15,IF(E43=Tables!$E$16,Tables!$F$16)))))))))))) -> 0 | J43: =IF(H43=Tables!$E$5,Tables!$F$5,IF('Données mensuelles'!H43=Tables!$E$6,Tables!$F$6,IF('Données mensuelles'!H43=Tables!$E$7,Tables!$F$7,IF('Données mensuelles'!H43=Tables!$E$8,Tables!$F$8,IF('Données mensuelles'!H43=Tables!$E$9,Tables!$F$9,IF('Données mensuelles'!H43=Tables!$E$10,Tables!$F$10,IF('Données mensuelles'!H43=Tables!$E$11,Tables!$F$11,IF(H43=Tables!$E$12,Tables!$F$12,IF('Données mensuelles'!H43=Tables!$E$13,Tables!$F$13,IF(H43=Tables!$E$14,Tables!$F$14,IF(H43=Tables!$E$15,Tables!$F$15,IF(H43=Tables!$E$16,Tables!$F$16)))))))))))) -> 0 | M43: =IF(K43=Tables!$E$5,Tables!$F$5,IF('Données mensuelles'!K43=Tables!$E$6,Tables!$F$6,IF('Données mensuelles'!K43=Tables!$E$7,Tables!$F$7,IF('Données mensuelles'!K43=Tables!$E$8,Tables!$F$8,IF('Données mensuelles'!K43=Tables!$E$9,Tables!$F$9,IF('Données mensuelles'!K43=Tables!$E$10,Tables!$F$10,IF('Données mensuelles'!K43=Tables!$E$11,Tables!$F$11,IF(K43=Tables!$E$12,Tables!$F$12,IF('Données mensuelles'!K43=Tables!$E$13,Tables!$F$13,IF(K43=Tables!$E$14,Tables!$F$14,IF(K43=Tables!$E$15,Tables!$F$15,IF(K43=Tables!$E$16,Tables!$F$16)))))))))))) -> 0 | P43: =IF(N43=Tables!$E$5,Tables!$F$5,IF('Données mensuelles'!N43=Tables!$E$6,Tables!$F$6,IF('Données mensuelles'!N43=Tables!$E$7,Tables!$F$7,IF('Données mensuelles'!N43=Tables!$E$8,Tables!$F$8,IF('Données mensuelles'!N43=Tables!$E$9,Tables!$F$9,IF('Données mensuelles'!N43=Tables!$E$10,Tables!$F$10,IF('Données mensuelles'!N43=Tables!$E$11,Tables!$F$11,IF(N43=Tables!$E$12,Tables!$F$12,IF('Données mensuelles'!N43=Tables!$E$13,Tables!$F$13,IF(N43=Tables!$E$14,Tables!$F$14,IF(N43=Tables!$E$15,Tables!$F$15,IF(N43=Tables!$E$16,Tables!$F$16)))))))))))) -> 0 | S43: =IF(Q43=Tables!$E$5,Tables!$F$5,IF('Données mensuelles'!Q43=Tables!$E$6,Tables!$F$6,IF('Données mensuelles'!Q43=Tables!$E$7,Tables!$F$7,IF('Données mensuelles'!Q43=Tables!$E$8,Tables!$F$8,IF('Données mensuelles'!Q43=Tables!$E$9,Tables!$F$9,IF('Données mensuelles'!Q43=Tables!$E$10,Tables!$F$10,IF('Données mensuelles'!Q43=Tables!$E$11,Tables!$F$11,IF(Q43=Tables!$E$12,Tables!$F$12,IF('Données mensuelles'!Q43=Tables!$E$13,Tables!$F$13,IF(Q43=Tables!$E$14,Tables!$F$14,IF(Q43=Tables!$E$15,Tables!$F$15,IF(Q43=Tables!$E$16,Tables!$F$16)))))))))))) -> 0 | T43: =S43+P43+M43+J43+G43 -> 0 | X43: =T43+(V43*W43)+(U43*Tables!$E$20*W43) -> 0
G44: =IF(E44=Tables!$E$5,Tables!$F$5,IF('Données mensuelles'!E44=Tables!$E$6,Tables!$F$6,IF('Données mensuelles'!E44=Tables!$E$7,Tables!$F$7,IF('Données mensuelles'!E44=Tables!$E$8,Tables!$F$8,IF('Données mensuelles'!E44=Tables!$E$9,Tables!$F$9,IF('Données mensuelles'!E44=Tables!$E$10,Tables!$F$10,IF('Données mensuelles'!E44=Tables!$E$11,Tables!$F$11,IF(E44=Tables!$E$12,Tables!$F$12,IF('Données mensuelles'!E44=Tables!$E$13,Tables!$F$13,IF(E44=Tables!$E$14,Tables!$F$14,IF(E44=Tables!$E$15,Tables!$F$15,IF(E44=Tables!$E$16,Tables!$F$16)))))))))))) -> 0 | J44: =IF(H44=Tables!$E$5,Tables!$F$5,IF('Données mensuelles'!H44=Tables!$E$6,Tables!$F$6,IF('Données mensuelles'!H44=Tables!$E$7,Tables!$F$7,IF('Données mensuelles'!H44=Tables!$E$8,Tables!$F$8,IF('Données mensuelles'!H44=Tables!$E$9,Tables!$F$9,IF('Données mensuelles'!H44=Tables!$E$10,Tables!$F$10,IF('Données mensuelles'!H44=Tables!$E$11,Tables!$F$11,IF(H44=Tables!$E$12,Tables!$F$12,IF('Données mensuelles'!H44=Tables!$E$13,Tables!$F$13,IF(H44=Tables!$E$14,Tables!$F$14,IF(H44=Tables!$E$15,Tables!$F$15,IF(H44=Tables!$E$16,Tables!$F$16)))))))))))) -> 0 | M44: =IF(K44=Tables!$E$5,Tables!$F$5,IF('Données mensuelles'!K44=Tables!$E$6,Tables!$F$6,IF('Données mensuelles'!K44=Tables!$E$7,Tables!$F$7,IF('Données mensuelles'!K44=Tables!$E$8,Tables!$F$8,IF('Données mensuelles'!K44=Tables!$E$9,Tables!$F$9,IF('Données mensuelles'!K44=Tables!$E$10,Tables!$F$10,IF('Données mensuelles'!K44=Tables!$E$11,Tables!$F$11,IF(K44=Tables!$E$12,Tables!$F$12,IF('Données mensuelles'!K44=Tables!$E$13,Tables!$F$13,IF(K44=Tables!$E$14,Tables!$F$14,IF(K44=Tables!$E$15,Tables!$F$15,IF(K44=Tables!$E$16,Tables!$F$16)))))))))))) -> 0 | P44: =IF(N44=Tables!$E$5,Tables!$F$5,IF('Données mensuelles'!N44=Tables!$E$6,Tables!$F$6,IF('Données mensuelles'!N44=Tables!$E$7,Tables!$F$7,IF('Données mensuelles'!N44=Tables!$E$8,Tables!$F$8,IF('Données mensuelles'!N44=Tables!$E$9,Tables!$F$9,IF('Données mensuelles'!N44=Tables!$E$10,Tables!$F$10,IF('Données mensuelles'!N44=Tables!$E$11,Tables!$F$11,IF(N44=Tables!$E$12,Tables!$F$12,IF('Données mensuelles'!N44=Tables!$E$13,Tables!$F$13,IF(N44=Tables!$E$14,Tables!$F$14,IF(N44=Tables!$E$15,Tables!$F$15,IF(N44=Tables!$E$16,Tables!$F$16)))))))))))) -> 0 | S44: =IF(Q44=Tables!$E$5,Tables!$F$5,IF('Données mensuelles'!Q44=Tables!$E$6,Tables!$F$6,IF('Données mensuelles'!Q44=Tables!$E$7,Tables!$F$7,IF('Données mensuelles'!Q44=Tables!$E$8,Tables!$F$8,IF('Données mensuelles'!Q44=Tables!$E$9,Tables!$F$9,IF('Données mensuelles'!Q44=Tables!$E$10,Tables!$F$10,IF('Données mensuelles'!Q44=Tables!$E$11,Tables!$F$11,IF(Q44=Tables!$E$12,Tables!$F$12,IF('Données mensuelles'!Q44=Tables!$E$13,Tables!$F$13,IF(Q44=Tables!$E$14,Tables!$F$14,IF(Q44=Tables!$E$15,Tables!$F$15,IF(Q44=Tables!$E$16,Tables!$F$16)))))))))))) -> 0 | T44: =S44+P44+M44+J44+G44 -> 0 | X44: =T44+(V44*W44)+(U44*Tables!$E$20*W44) -> 0
G45: =IF(E45=Tables!$E$5,Tables!$F$5,IF('Données mensuelles'!E45=Tables!$E$6,Tables!$F$6,IF('Données mensuelles'!E45=Tables!$E$7,Tables!$F$7,IF('Données mensuelles'!E45=Tables!$E$8,Tables!$F$8,IF('Données mensuelles'!E45=Tables!$E$9,Tables!$F$9,IF('Données mensuelles'!E45=Tables!$E$10,Tables!$F$10,IF('Données mensuelles'!E45=Tables!$E$11,Tables!$F$11,IF(E45=Tables!$E$12,Tables!$F$12,IF('Données mensuelles'!E45=Tables!$E$13,Tables!$F$13,IF(E45=Tables!$E$14,Tables!$F$14,IF(E45=Tables!$E$15,Tables!$F$15,IF(E45=Tables!$E$16,Tables!$F$16)))))))))))) -> 0 | J45: =IF(H45=Tables!$E$5,Tables!$F$5,IF('Données mensuelles'!H45=Tables!$E$6,Tables!$F$6,IF('Données mensuelles'!H45=Tables!$E$7,Tables!$F$7,IF('Données mensuelles'!H45=Tables!$E$8,Tables!$F$8,IF('Données mensuelles'!H45=Tables!$E$9,Tables!$F$9,IF('Données mensuelles'!H45=Tables!$E$10,Tables!$F$10,IF('Données mensuelles'!H45=Tables!$E$11,Tables!$F$11,IF(H45=Tables!$E$12,Tables!$F$12,IF('Données mensuelles'!H45=Tables!$E$13,Tables!$F$13,IF(H45=Tables!$E$14,Tables!$F$14,IF(H45=Tables!$E$15,Tables!$F$15,IF(H45=Tables!$E$16,Tables!$F$16)))))))))))) -> 0 | M45: =IF(K45=Tables!$E$5,Tables!$F$5,IF('Données mensuelles'!K45=Tables!$E$6,Tables!$F$6,IF('Données mensuelles'!K45=Tables!$E$7,Tables!$F$7,IF('Données mensuelles'!K45=Tables!$E$8,Tables!$F$8,IF('Données mensuelles'!K45=Tables!$E$9,Tables!$F$9,IF('Données mensuelles'!K45=Tables!$E$10,Tables!$F$10,IF('Données mensuelles'!K45=Tables!$E$11,Tables!$F$11,IF(K45=Tables!$E$12,Tables!$F$12,IF('Données mensuelles'!K45=Tables!$E$13,Tables!$F$13,IF(K45=Tables!$E$14,Tables!$F$14,IF(K45=Tables!$E$15,Tables!$F$15,IF(K45=Tables!$E$16,Tables!$F$16)))))))))))) -> 0 | P45: =IF(N45=Tables!$E$5,Tables!$F$5,IF('Données mensuelles'!N45=Tables!$E$6,Tables!$F$6,IF('Données mensuelles'!N45=Tables!$E$7,Tables!$F$7,IF('Données mensuelles'!N45=Tables!$E$8,Tables!$F$8,IF('Données mensuelles'!N45=Tables!$E$9,Tables!$F$9,IF('Données mensuelles'!N45=Tables!$E$10,Tables!$F$10,IF('Données mensuelles'!N45=Tables!$E$11,Tables!$F$11,IF(N45=Tables!$E$12,Tables!$F$12,IF('Données mensuelles'!N45=Tables!$E$13,Tables!$F$13,IF(N45=Tables!$E$14,Tables!$F$14,IF(N45=Tables!$E$15,Tables!$F$15,IF(N45=Tables!$E$16,Tables!$F$16)))))))))))) -> 0 | S45: =IF(Q45=Tables!$E$5,Tables!$F$5,IF('Données mensuelles'!Q45=Tables!$E$6,Tables!$F$6,IF('Données mensuelles'!Q45=Tables!$E$7,Tables!$F$7,IF('Données mensuelles'!Q45=Tables!$E$8,Tables!$F$8,IF('Données mensuelles'!Q45=Tables!$E$9,Tables!$F$9,IF('Données mensuelles'!Q45=Tables!$E$10,Tables!$F$10,IF('Données mensuelles'!Q45=Tables!$E$11,Tables!$F$11,IF(Q45=Tables!$E$12,Tables!$F$12,IF('Données mensuelles'!Q45=Tables!$E$13,Tables!$F$13,IF(Q45=Tables!$E$14,Tables!$F$14,IF(Q45=Tables!$E$15,Tables!$F$15,IF(Q45=Tables!$E$16,Tables!$F$16)))))))))))) -> 0 | T45: =S45+P45+M45+J45+G45 -> 0 | X45: =T45+(V45*W45)+(U45*Tables!$E$20*W45) -> 0
G46: =IF(E46=Tables!$E$5,Tables!$F$5,IF('Données mensuelles'!E46=Tables!$E$6,Tables!$F$6,IF('Données mensuelles'!E46=Tables!$E$7,Tables!$F$7,IF('Données mensuelles'!E46=Tables!$E$8,Tables!$F$8,IF('Données mensuelles'!E46=Tables!$E$9,Tables!$F$9,IF('Données mensuelles'!E46=Tables!$E$10,Tables!$F$10,IF('Données mensuelles'!E46=Tables!$E$11,Tables!$F$11,IF(E46=Tables!$E$12,Tables!$F$12,IF('Données mensuelles'!E46=Tables!$E$13,Tables!$F$13,IF(E46=Tables!$E$14,Tables!$F$14,IF(E46=Tables!$E$15,Tables!$F$15,IF(E46=Tables!$E$16,Tables!$F$16)))))))))))) -> 0 | J46: =IF(H46=Tables!$E$5,Tables!$F$5,IF('Données mensuelles'!H46=Tables!$E$6,Tables!$F$6,IF('Données mensuelles'!H46=Tables!$E$7,Tables!$F$7,IF('Données mensuelles'!H46=Tables!$E$8,Tables!$F$8,IF('Données mensuelles'!H46=Tables!$E$9,Tables!$F$9,IF('Données mensuelles'!H46=Tables!$E$10,Tables!$F$10,IF('Données mensuelles'!H46=Tables!$E$11,Tables!$F$11,IF(H46=Tables!$E$12,Tables!$F$12,IF('Données mensuelles'!H46=Tables!$E$13,Tables!$F$13,IF(H46=Tables!$E$14,Tables!$F$14,IF(H46=Tables!$E$15,Tables!$F$15,IF(H46=Tables!$E$16,Tables!$F$16)))))))))))) -> 0 | M46: =IF(K46=Tables!$E$5,Tables!$F$5,IF('Données mensuelles'!K46=Tables!$E$6,Tables!$F$6,IF('Données mensuelles'!K46=Tables!$E$7,Tables!$F$7,IF('Données mensuelles'!K46=Tables!$E$8,Tables!$F$8,IF('Données mensuelles'!K46=Tables!$E$9,Tables!$F$9,IF('Données mensuelles'!K46=Tables!$E$10,Tables!$F$10,IF('Données mensuelles'!K46=Tables!$E$11,Tables!$F$11,IF(K46=Tables!$E$12,Tables!$F$12,IF('Données mensuelles'!K46=Tables!$E$13,Tables!$F$13,IF(K46=Tables!$E$14,Tables!$F$14,IF(K46=Tables!$E$15,Tables!$F$15,IF(K46=Tables!$E$16,Tables!$F$16)))))))))))) -> 0 | P46: =IF(N46=Tables!$E$5,Tables!$F$5,IF('Données mensuelles'!N46=Tables!$E$6,Tables!$F$6,IF('Données mensuelles'!N46=Tables!$E$7,Tables!$F$7,IF('Données mensuelles'!N46=Tables!$E$8,Tables!$F$8,IF('Données mensuelles'!N46=Tables!$E$9,Tables!$F$9,IF('Données mensuelles'!N46=Tables!$E$10,Tables!$F$10,IF('Données mensuelles'!N46=Tables!$E$11,Tables!$F$11,IF(N46=Tables!$E$12,Tables!$F$12,IF('Données mensuelles'!N46=Tables!$E$13,Tables!$F$13,IF(N46=Tables!$E$14,Tables!$F$14,IF(N46=Tables!$E$15,Tables!$F$15,IF(N46=Tables!$E$16,Tables!$F$16)))))))))))) -> 0 | S46: =IF(Q46=Tables!$E$5,Tables!$F$5,IF('Données mensuelles'!Q46=Tables!$E$6,Tables!$F$6,IF('Données mensuelles'!Q46=Tables!$E$7,Tables!$F$7,IF('Données mensuelles'!Q46=Tables!$E$8,Tables!$F$8,IF('Données mensuelles'!Q46=Tables!$E$9,Tables!$F$9,IF('Données mensuelles'!Q46=Tables!$E$10,Tables!$F$10,IF('Données mensuelles'!Q46=Tables!$E$11,Tables!$F$11,IF(Q46=Tables!$E$12,Tables!$F$12,IF('Données mensuelles'!Q46=Tables!$E$13,Tables!$F$13,IF(Q46=Tables!$E$14,Tables!$F$14,IF(Q46=Tables!$E$15,Tables!$F$15,IF(Q46=Tables!$E$16,Tables!$F$16)))))))))))) -> 0 | T46: =S46+P46+M46+J46+G46 -> 0 | X46: =T46+(V46*W46)+(U46*Tables!$E$20*W46) -> 0
W47: Total journée | X47: =SUM(X27:X46) -> 0
A50: Nom infirmier | B50: date | C50: mois | D50: JOUR
A51: jennifer | C51: =MONTH(B51) -> 1 | D51: Nom patient | E51: Soin 1 | G51: Tarification | H51: Soin 2 | J51: Tarification | K51: Soin 3 | M51: Tarification | N51: Soin 4 | P51: Tarification | Q51: Soin 5 | S51: Tarification | T51: Sous total | U51: Majoration D / F | V51: Déplacement | W51: Nombre de passages | X51: Total
C52: =MONTH(B52) -> 1 | G52: =IF(E52=Tables!$E$5,Tables!$F$5,IF('Données mensuelles'!E52=Tables!$E$6,Tables!$F$6,IF('Données mensuelles'!E52=Tables!$E$7,Tables!$F$7,IF('Données mensuelles'!E52=Tables!$E$8,Tables!$F$8,IF('Données mensuelles'!E52=Tables!$E$9,Tables!$F$9,IF('Données mensuelles'!E52=Tables!$E$10,Tables!$F$10,IF('Données mensuelles'!E52=Tables!$E$11,Tables!$F$11,IF(E52=Tables!$E$12,Tables!$F$12,IF('Données mensuelles'!E52=Tables!$E$13,Tables!$F$13,IF(E52=Tables!$E$14,Tables!$F$14,IF(E52=Tables!$E$15,Tables!$F$15,IF(E52=Tables!$E$16,Tables!$F$16)))))))))))) -> 0 | J52: =IF(H52=Tables!$E$5,Tables!$F$5,IF('Données mensuelles'!H52=Tables!$E$6,Tables!$F$6,IF('Données mensuelles'!H52=Tables!$E$7,Tables!$F$7,IF('Données mensuelles'!H52=Tables!$E$8,Tables!$F$8,IF('Données mensuelles'!H52=Tables!$E$9,Tables!$F$9,IF('Données mensuelles'!H52=Tables!$E$10,Tables!$F$10,IF('Données mensuelles'!H52=Tables!$E$11,Tables!$F$11,IF(H52=Tables!$E$12,Tables!$F$12,IF('Données mensuelles'!H52=Tables!$E$13,Tables!$F$13,IF(H52=Tables!$E$14,Tables!$F$14,IF(H52=Tables!$E$15,Tables!$F$15,IF(H52=Tables!$E$16,Tables!$F$16)))))))))))) -> 0 | M52: =IF(K52=Tables!$E$5,Tables!$F$5,IF('Données mensuelles'!K52=Tables!$E$6,Tables!$F$6,IF('Données mensuelles'!K52=Tables!$E$7,Tables!$F$7,IF('Données mensuelles'!K52=Tables!$E$8,Tables!$F$8,IF('Données mensuelles'!K52=Tables!$E$9,Tables!$F$9,IF('Données mensuelles'!K52=Tables!$E$10,Tables!$F$10,IF('Données mensuelles'!K52=Tables!$E$11,Tables!$F$11,IF(K52=Tables!$E$12,Tables!$F$12,IF('Données mensuelles'!K52=Tables!$E$13,Tables!$F$13,IF(K52=Tables!$E$14,Tables!$F$14,IF(K52=Tables!$E$15,Tables!$F$15,IF(K52=Tables!$E$16,Tables!$F$16)))))))))))) -> 0 | P52: =IF(N52=Tables!$E$5,Tables!$F$5,IF('Données mensuelles'!N52=Tables!$E$6,Tables!$F$6,IF('Données mensuelles'!N52=Tables!$E$7,Tables!$F$7,IF('Données mensuelles'!N52=Tables!$E$8,Tables!$F$8,IF('Données mensuelles'!N52=Tables!$E$9,Tables!$F$9,IF('Données mensuelles'!N52=Tables!$E$10,Tables!$F$10,IF('Données mensuelles'!N52=Tables!$E$11,Tables!$F$11,IF(N52=Tables!$E$12,Tables!$F$12,IF('Données mensuelles'!N52=Tables!$E$13,Tables!$F$13,IF(N52=Tables!$E$14,Tables!$F$14,IF(N52=Tables!$E$15,Tables!$F$15,IF(N52=Tables!$E$16,Tables!$F$16)))))))))))) -> 0 | S52: =IF(Q52=Tables!$E$5,Tables!$F$5,IF('Données mensuelles'!Q52=Tables!$E$6,Tables!$F$6,IF('Données mensuelles'!Q52=Tables!$E$7,Tables!$F$7,IF('Données mensuelles'!Q52=Tables!$E$8,Tables!$F$8,IF('Données mensuelles'!Q52=Tables!$E$9,Tables!$F$9,IF('Données mensuelles'!Q52=Tables!$E$10,Tables!$F$10,IF('Données mensuelles'!Q52=Tables!$E$11,Tables!$F$11,IF(Q52=Tables!$E$12,Tables!$F$12,IF('Données mensuelles'!Q52=Tables!$E$13,Tables!$F$13,IF(Q52=Tables!$E$14,Tables!$F$14,IF(Q52=Tables!$E$15,Tables!$F$15,IF(Q52=Tables!$E$16,Tables!$F$16)))))))))))) -> 0 | T52: =S52+P52+M52+J52+G52 -> 0 | X52: =T52+(V52*W52)+(U52*Tables!$E$20*W52) -> 0
C53: =MONTH(B53) -> 1 | G53: =IF(E53=Tables!$E$5,Tables!$F$5,IF('Données mensuelles'!E53=Tables!$E$6,Tables!$F$6,IF('Données mensuelles'!E53=Tables!$E$7,Tables!$F$7,IF('Données mensuelles'!E53=Tables!$E$8,Tables!$F$8,IF('Données mensuelles'!E53=Tables!$E$9,Tables!$F$9,IF('Données mensuelles'!E53=Tables!$E$10,Tables!$F$10,IF('Données mensuelles'!E53=Tables!$E$11,Tables!$F$11,IF(E53=Tables!$E$12,Tables!$F$12,IF('Données mensuelles'!E53=Tables!$E$13,Tables!$F$13,IF(E53=Tables!$E$14,Tables!$F$14,IF(E53=Tables!$E$15,Tables!$F$15,IF(E53=Tables!$E$16,Tables!$F$16)))))))))))) -> 0 | J53: =IF(H53=Tables!$E$5,Tables!$F$5,IF('Données mensuelles'!H53=Tables!$E$6,Tables!$F$6,IF('Données mensuelles'!H53=Tables!$E$7,Tables!$F$7,IF('Données mensuelles'!H53=Tables!$E$8,Tables!$F$8,IF('Données mensuelles'!H53=Tables!$E$9,Tables!$F$9,IF('Données mensuelles'!H53=Tables!$E$10,Tables!$F$10,IF('Données mensuelles'!H53=Tables!$E$11,Tables!$F$11,IF(H53=Tables!$E$12,Tables!$F$12,IF('Données mensuelles'!H53=Tables!$E$13,Tables!$F$13,IF(H53=Tables!$E$14,Tables!$F$14,IF(H53=Tables!$E$15,Tables!$F$15,IF(H53=Tables!$E$16,Tables!$F$16)))))))))))) -> 0 | M53: =IF(K53=Tables!$E$5,Tables!$F$5,IF('Données mensuelles'!K53=Tables!$E$6,Tables!$F$6,IF('Données mensuelles'!K53=Tables!$E$7,Tables!$F$7,IF('Données mensuelles'!K53=Tables!$E$8,Tables!$F$8,IF('Données mensuelles'!K53=Tables!$E$9,Tables!$F$9,IF('Données mensuelles'!K53=Tables!$E$10,Tables!$F$10,IF('Données mensuelles'!K53=Tables!$E$11,Tables!$F$11,IF(K53=Tables!$E$12,Tables!$F$12,IF('Données mensuelles'!K53=Tables!$E$13,Tables!$F$13,IF(K53=Tables!$E$14,Tables!$F$14,IF(K53=Tables!$E$15,Tables!$F$15,IF(K53=Tables!$E$16,Tables!$F$16)))))))))))) -> 0 | P53: =IF(N53=Tables!$E$5,Tables!$F$5,IF('Données mensuelles'!N53=Tables!$E$6,Tables!$F$6,IF('Données mensuelles'!N53=Tables!$E$7,Tables!$F$7,IF('Données mensuelles'!N53=Tables!$E$8,Tables!$F$8,IF('Données mensuelles'!N53=Tables!$E$9,Tables!$F$9,IF('Données mensuelles'!N53=Tables!$E$10,Tables!$F$10,IF('Données mensuelles'!N53=Tables!$E$11,Tables!$F$11,IF(N53=Tables!$E$12,Tables!$F$12,IF('Données mensuelles'!N53=Tables!$E$13,Tables!$F$13,IF(N53=Tables!$E$14,Tables!$F$14,IF(N53=Tables!$E$15,Tables!$F$15,IF(N53=Tables!$E$16,Tables!$F$16)))))))))))) -> 0 | S53: =IF(Q53=Tables!$E$5,Tables!$F$5,IF('Données mensuelles'!Q53=Tables!$E$6,Tables!$F$6,IF('Données mensuelles'!Q53=Tables!$E$7,Tables!$F$7,IF('Données mensuelles'!Q53=Tables!$E$8,Tables!$F$8,IF('Données mensuelles'!Q53=Tables!$E$9,Tables!$F$9,IF('Données mensuelles'!Q53=Tables!$E$10,Tables!$F$10,IF('Données mensuelles'!Q53=Tables!$E$11,Tables!$F$11,IF(Q53=Tables!$E$12,Tables!$F$12,IF('Données mensuelles'!Q53=Tables!$E$13,Tables!$F$13,IF(Q53=Tables!$E$14,Tables!$F$14,IF(Q53=Tables!$E$15,Tables!$F$15,IF(Q53=Tables!$E$16,Tables!$F$16)))))))))))) -> 0 | T53: =S53+P53+M53+J53+G53 -> 0 | X53: =T53+(V53*W53)+(U53*Tables!$E$20*W53) -> 0
C54: =MONTH(B54) -> 1 | G54: =IF(E54=Tables!$E$5,Tables!$F$5,IF('Données mensuelles'!E54=Tables!$E$6,Tables!$F$6,IF('Données mensuelles'!E54=Tables!$E$7,Tables!$F$7,IF('Données mensuelles'!E54=Tables!$E$8,Tables!$F$8,IF('Données mensuelles'!E54=Tables!$E$9,Tables!$F$9,IF('Données mensuelles'!E54=Tables!$E$10,Tables!$F$10,IF('Données mensuelles'!E54=Tables!$E$11,Tables!$F$11,IF(E54=Tables!$E$12,Tables!$F$12,IF('Données mensuelles'!E54=Tables!$E$13,Tables!$F$13,IF(E54=Tables!$E$14,Tables!$F$14,IF(E54=Tables!$E$15,Tables!$F$15,IF(E54=Tables!$E$16,Tables!$F$16)))))))))))) -> 0 | J54: =IF(H54=Tables!$E$5,Tables!$F$5,IF('Données mensuelles'!H54=Tables!$E$6,Tables!$F$6,IF('Données mensuelles'!H54=Tables!$E$7,Tables!$F$7,IF('Données mensuelles'!H54=Tables!$E$8,Tables!$F$8,IF('Données mensuelles'!H54=Tables!$E$9,Tables!$F$9,IF('Données mensuelles'!H54=Tables!$E$10,Tables!$F$10,IF('Données mensuelles'!H54=Tables!$E$11,Tables!$F$11,IF(H54=Tables!$E$12,Tables!$F$12,IF('Données mensuelles'!H54=Tables!$E$13,Tables!$F$13,IF(H54=Tables!$E$14,Tables!$F$14,IF(H54=Tables!$E$15,Tables!$F$15,IF(H54=Tables!$E$16,Tables!$F$16)))))))))))) -> 0 | M54: =IF(K54=Tables!$E$5,Tables!$F$5,IF('Données mensuelles'!K54=Tables!$E$6,Tables!$F$6,IF('Données mensuelles'!K54=Tables!$E$7,Tables!$F$7,IF('Données mensuelles'!K54=Tables!$E$8,Tables!$F$8,IF('Données mensuelles'!K54=Tables!$E$9,Tables!$F$9,IF('Données mensuelles'!K54=Tables!$E$10,Tables!$F$10,IF('Données mensuelles'!K54=Tables!$E$11,Tables!$F$11,IF(K54=Tables!$E$12,Tables!$F$12,IF('Données mensuelles'!K54=Tables!$E$13,Tables!$F$13,IF(K54=Tables!$E$14,Tables!$F$14,IF(K54=Tables!$E$15,Tables!$F$15,IF(K54=Tables!$E$16,Tables!$F$16)))))))))))) -> 0 | P54: =IF(N54=Tables!$E$5,Tables!$F$5,IF('Données mensuelles'!N54=Tables!$E$6,Tables!$F$6,IF('Données mensuelles'!N54=Tables!$E$7,Tables!$F$7,IF('Données mensuelles'!N54=Tables!$E$8,Tables!$F$8,IF('Données mensuelles'!N54=Tables!$E$9,Tables!$F$9,IF('Données mensuelles'!N54=Tables!$E$10,Tables!$F$10,IF('Données mensuelles'!N54=Tables!$E$11,Tables!$F$11,IF(N54=Tables!$E$12,Tables!$F$12,IF('Données mensuelles'!N54=Tables!$E$13,Tables!$F$13,IF(N54=Tables!$E$14,Tables!$F$14,IF(N54=Tables!$E$15,Tables!$F$15,IF(N54=Tables!$E$16,Tables!$F$16)))))))))))) -> 0 | S54: =IF(Q54=Tables!$E$5,Tables!$F$5,IF('Données mensuelles'!Q54=Tables!$E$6,Tables!$F$6,IF('Données mensuelles'!Q54=Tables!$E$7,Tables!$F$7,IF('Données mensuelles'!Q54=Tables!$E$8,Tables!$F$8,IF('Données mensuelles'!Q54=Tables!$E$9,Tables!$F$9,IF('Données mensuelles'!Q54=Tables!$E$10,Tables!$F$10,IF('Données mensuelles'!Q54=Tables!$E$11,Tables!$F$11,IF(Q54=Tables!$E$12,Tables!$F$12,IF('Données mensuelles'!Q54=Tables!$E$13,Tables!$F$13,IF(Q54=Tables!$E$14,Tables!$F$14,IF(Q54=Tables!$E$15,Tables!$F$15,IF(Q54=Tables!$E$16,Tables!$F$16)))))))))))) -> 0 | T54: =S54+P54+M54+J54+G54 -> 0 | X54: =T54+(V54*W54)+(U54*Tables!$E$20*W54) -> 0
C55: =MONTH(B55) -> 1 | G55: =IF(E55=Tables!$E$5,Tables!$F$5,IF('Données mensuelles'!E55=Tables!$E$6,Tables!$F$6,IF('Données mensuelles'!E55=Tables!$E$7,Tables!$F$7,IF('Données mensuelles'!E55=Tables!$E$8,Tables!$F$8,IF('Données mensuelles'!E55=Tables!$E$9,Tables!$F$9,IF('Données mensuelles'!E55=Tables!$E$10,Tables!$F$10,IF('Données mensuelles'!E55=Tables!$E$11,Tables!$F$11,IF(E55=Tables!$E$12,Tables!$F$12,IF('Données mensuelles'!E55=Tables!$E$13,Tables!$F$13,IF(E55=Tables!$E$14,Tables!$F$14,IF(E55=Tables!$E$15,Tables!$F$15,IF(E55=Tables!$E$16,Tables!$F$16)))))))))))) -> 0 | J55: =IF(H55=Tables!$E$5,Tables!$F$5,IF('Données mensuelles'!H55=Tables!$E$6,Tables!$F$6,IF('Données mensuelles'!H55=Tables!$E$7,Tables!$F$7,IF('Données mensuelles'!H55=Tables!$E$8,Tables!$F$8,IF('Données mensuelles'!H55=Tables!$E$9,Tables!$F$9,IF('Données mensuelles'!H55=Tables!$E$10,Tables!$F$10,IF('Données mensuelles'!H55=Tables!$E$11,Tables!$F$11,IF(H55=Tables!$E$12,Tables!$F$12,IF('Données mensuelles'!H55=Tables!$E$13,Tables!$F$13,IF(H55=Tables!$E$14,Tables!$F$14,IF(H55=Tables!$E$15,Tables!$F$15,IF(H55=Tables!$E$16,Tables!$F$16)))))))))))) -> 0 | M55: =IF(K55=Tables!$E$5,Tables!$F$5,IF('Données mensuelles'!K55=Tables!$E$6,Tables!$F$6,IF('Données mensuelles'!K55=Tables!$E$7,Tables!$F$7,IF('Données mensuelles'!K55=Tables!$E$8,Tables!$F$8,IF('Données mensuelles'!K55=Tables!$E$9,Tables!$F$9,IF('Données mensuelles'!K55=Tables!$E$10,Tables!$F$10,IF('Données mensuelles'!K55=Tables!$E$11,Tables!$F$11,IF(K55=Tables!$E$12,Tables!$F$12,IF('Données mensuelles'!K55=Tables!$E$13,Tables!$F$13,IF(K55=Tables!$E$14,Tables!$F$14,IF(K55=Tables!$E$15,Tables!$F$15,IF(K55=Tables!$E$16,Tables!$F$16)))))))))))) -> 0 | P55: =IF(N55=Tables!$E$5,Tables!$F$5,IF('Données mensuelles'!N55=Tables!$E$6,Tables!$F$6,IF('Données mensuelles'!N55=Tables!$E$7,Tables!$F$7,IF('Données mensuelles'!N55=Tables!$E$8,Tables!$F$8,IF('Données mensuelles'!N55=Tables!$E$9,Tables!$F$9,IF('Données mensuelles'!N55=Tables!$E$10,Tables!$F$10,IF('Données mensuelles'!N55=Tables!$E$11,Tables!$F$11,IF(N55=Tables!$E$12,Tables!$F$12,IF('Données mensuelles'!N55=Tables!$E$13,Tables!$F$13,IF(N55=Tables!$E$14,Tables!$F$14,IF(N55=Tables!$E$15,Tables!$F$15,IF(N55=Tables!$E$16,Tables!$F$16)))))))))))) -> 0 | S55: =IF(Q55=Tables!$E$5,Tables!$F$5,IF('Données mensuelles'!Q55=Tables!$E$6,Tables!$F$6,IF('Données mensuelles'!Q55=Tables!$E$7,Tables!$F$7,IF('Données mensuelles'!Q55=Tables!$E$8,Tables!$F$8,IF('Données mensuelles'!Q55=Tables!$E$9,Tables!$F$9,IF('Données mensuelles'!Q55=Tables!$E$10,Tables!$F$10,IF('Données mensuelles'!Q55=Tables!$E$11,Tables!$F$11,IF(Q55=Tables!$E$12,Tables!$F$12,IF('Données mensuelles'!Q55=Tables!$E$13,Tables!$F$13,IF(Q55=Tables!$E$14,Tables!$F$14,IF(Q55=Tables!$E$15,Tables!$F$15,IF(Q55=Tables!$E$16,Tables!$F$16)))))))))))) -> 0 | T55: =S55+P55+M55+J55+G55 -> 0 | X55: =T55+(V55*W55)+(U55*Tables!$E$20*W55) -> 0
C56: =MONTH(B56) -> 1 | G56: =IF(E56=Tables!$E$5,Tables!$F$5,IF('Données mensuelles'!E56=Tables!$E$6,Tables!$F$6,IF('Données mensuelles'!E56=Tables!$E$7,Tables!$F$7,IF('Données mensuelles'!E56=Tables!$E$8,Tables!$F$8,IF('Données mensuelles'!E56=Tables!$E$9,Tables!$F$9,IF('Données mensuelles'!E56=Tables!$E$10,Tables!$F$10,IF('Données mensuelles'!E56=Tables!$E$11,Tables!$F$11,IF(E56=Tables!$E$12,Tables!$F$12,IF('Données mensuelles'!E56=Tables!$E$13,Tables!$F$13,IF(E56=Tables!$E$14,Tables!$F$14,IF(E56=Tables!$E$15,Tables!$F$15,IF(E56=Tables!$E$16,Tables!$F$16)))))))))))) -> 0 | J56: =IF(H56=Tables!$E$5,Tables!$F$5,IF('Données mensuelles'!H56=Tables!$E$6,Tables!$F$6,IF('Données mensuelles'!H56=Tables!$E$7,Tables!$F$7,IF('Données mensuelles'!H56=Tables!$E$8,Tables!$F$8,IF('Données mensuelles'!H56=Tables!$E$9,Tables!$F$9,IF('Données mensuelles'!H56=Tables!$E$10,Tables!$F$10,IF('Données mensuelles'!H56=Tables!$E$11,Tables!$F$11,IF(H56=Tables!$E$12,Tables!$F$12,IF('Données mensuelles'!H56=Tables!$E$13,Tables!$F$13,IF(H56=Tables!$E$14,Tables!$F$14,IF(H56=Tables!$E$15,Tables!$F$15,IF(H56=Tables!$E$16,Tables!$F$16)))))))))))) -> 0 | M56: =IF(K56=Tables!$E$5,Tables!$F$5,IF('Données mensuelles'!K56=Tables!$E$6,Tables!$F$6,IF('Données mensuelles'!K56=Tables!$E$7,Tables!$F$7,IF('Données mensuelles'!K56=Tables!$E$8,Tables!$F$8,IF('Données mensuelles'!K56=Tables!$E$9,Tables!$F$9,IF('Données mensuelles'!K56=Tables!$E$10,Tables!$F$10,IF('Données mensuelles'!K56=Tables!$E$11,Tables!$F$11,IF(K56=Tables!$E$12,Tables!$F$12,IF('Données mensuelles'!K56=Tables!$E$13,Tables!$F$13,IF(K56=Tables!$E$14,Tables!$F$14,IF(K56=Tables!$E$15,Tables!$F$15,IF(K56=Tables!$E$16,Tables!$F$16)))))))))))) -> 0 | P56: =IF(N56=Tables!$E$5,Tables!$F$5,IF('Données mensuelles'!N56=Tables!$E$6,Tables!$F$6,IF('Données mensuelles'!N56=Tables!$E$7,Tables!$F$7,IF('Données mensuelles'!N56=Tables!$E$8,Tables!$F$8,IF('Données mensuelles'!N56=Tables!$E$9,Tables!$F$9,IF('Données mensuelles'!N56=Tables!$E$10,Tables!$F$10,IF('Données mensuelles'!N56=Tables!$E$11,Tables!$F$11,IF(N56=Tables!$E$12,Tables!$F$12,IF('Données mensuelles'!N56=Tables!$E$13,Tables!$F$13,IF(N56=Tables!$E$14,Tables!$F$14,IF(N56=Tables!$E$15,Tables!$F$15,IF(N56=Tables!$E$16,Tables!$F$16)))))))))))) -> 0 | S56: =IF(Q56=Tables!$E$5,Tables!$F$5,IF('Données mensuelles'!Q56=Tables!$E$6,Tables!$F$6,IF('Données mensuelles'!Q56=Tables!$E$7,Tables!$F$7,IF('Données mensuelles'!Q56=Tables!$E$8,Tables!$F$8,IF('Données mensuelles'!Q56=Tables!$E$9,Tables!$F$9,IF('Données mensuelles'!Q56=Tables!$E$10,Tables!$F$10,IF('Données mensuelles'!Q56=Tables!$E$11,Tables!$F$11,IF(Q56=Tables!$E$12,Tables!$F$12,IF('Données mensuelles'!Q56=Tables!$E$13,Tables!$F$13,IF(Q56=Tables!$E$14,Tables!$F$14,IF(Q56=Tables!$E$15,Tables!$F$15,IF(Q56=Tables!$E$16,Tables!$F$16)))))))))))) -> 0 | T56: =S56+P56+M56+J56+G56 -> 0 | X56: =T56+(V56*W56)+(U56*Tables!$E$20*W56) -> 0
C57: =MONTH(B57) -> 1 | G57: =IF(E57=Tables!$E$5,Tables!$F$5,IF('Données mensuelles'!E57=Tables!$E$6,Tables!$F$6,IF('Données mensuelles'!E57=Tables!$E$7,Tables!$F$7,IF('Données mensuelles'!E57=Tables!$E$8,Tables!$F$8,IF('Données mensuelles'!E57=Tables!$E$9,Tables!$F$9,IF('Données mensuelles'!E57=Tables!$E$10,Tables!$F$10,IF('Données mensuelles'!E57=Tables!$E$11,Tables!$F$11,IF(E57=Tables!$E$12,Tables!$F$12,IF('Données mensuelles'!E57=Tables!$E$13,Tables!$F$13,IF(E57=Tables!$E$14,Tables!$F$14,IF(E57=Tables!$E$15,Tables!$F$15,IF(E57=Tables!$E$16,Tables!$F$16)))))))))))) -> 0 | J57: =IF(H57=Tables!$E$5,Tables!$F$5,IF('Données mensuelles'!H57=Tables!$E$6,Tables!$F$6,IF('Données mensuelles'!H57=Tables!$E$7,Tables!$F$7,IF('Données mensuelles'!H57=Tables!$E$8,Tables!$F$8,IF('Données mensuelles'!H57=Tables!$E$9,Tables!$F$9,IF('Données mensuelles'!H57=Tables!$E$10,Tables!$F$10,IF('Données mensuelles'!H57=Tables!$E$11,Tables!$F$11,IF(H57=Tables!$E$12,Tables!$F$12,IF('Données mensuelles'!H57=Tables!$E$13,Tables!$F$13,IF(H57=Tables!$E$14,Tables!$F$14,IF(H57=Tables!$E$15,Tables!$F$15,IF(H57=Tables!$E$16,Tables!$F$16)))))))))))) -> 0 | M57: =IF(K57=Tables!$E$5,Tables!$F$5,IF('Données mensuelles'!K57=Tables!$E$6,Tables!$F$6,IF('Données mensuelles'!K57=Tables!$E$7,Tables!$F$7,IF('Données mensuelles'!K57=Tables!$E$8,Tables!$F$8,IF('Données mensuelles'!K57=Tables!$E$9,Tables!$F$9,IF('Données mensuelles'!K57=Tables!$E$10,Tables!$F$10,IF('Données mensuelles'!K57=Tables!$E$11,Tables!$F$11,IF(K57=Tables!$E$12,Tables!$F$12,IF('Données mensuelles'!K57=Tables!$E$13,Tables!$F$13,IF(K57=Tables!$E$14,Tables!$F$14,IF(K57=Tables!$E$15,Tables!$F$15,IF(K57=Tables!$E$16,Tables!$F$16)))))))))))) -> 0 | P57: =IF(N57=Tables!$E$5,Tables!$F$5,IF('Données mensuelles'!N57=Tables!$E$6,Tables!$F$6,IF('Données mensuelles'!N57=Tables!$E$7,Tables!$F$7,IF('Données mensuelles'!N57=Tables!$E$8,Tables!$F$8,IF('Données mensuelles'!N57=Tables!$E$9,Tables!$F$9,IF('Données mensuelles'!N57=Tables!$E$10,Tables!$F$10,IF('Données mensuelles'!N57=Tables!$E$11,Tables!$F$11,IF(N57=Tables!$E$12,Tables!$F$12,IF('Données mensuelles'!N57=Tables!$E$13,Tables!$F$13,IF(N57=Tables!$E$14,Tables!$F$14,IF(N57=Tables!$E$15,Tables!$F$15,IF(N57=Tables!$E$16,Tables!$F$16)))))))))))) -> 0 | S57: =IF(Q57=Tables!$E$5,Tables!$F$5,IF('Données mensuelles'!Q57=Tables!$E$6,Tables!$F$6,IF('Données mensuelles'!Q57=Tables!$E$7,Tables!$F$7,IF('Données mensuelles'!Q57=Tables!$E$8,Tables!$F$8,IF('Données mensuelles'!Q57=Tables!$E$9,Tables!$F$9,IF('Données mensuelles'!Q57=Tables!$E$10,Tables!$F$10,IF('Données mensuelles'!Q57=Tables!$E$11,Tables!$F$11,IF(Q57=Tables!$E$12,Tables!$F$12,IF('Données mensuelles'!Q57=Tables!$E$13,Tables!$F$13,IF(Q57=Tables!$E$14,Tables!$F$14,IF(Q57=Tables!$E$15,Tables!$F$15,IF(Q57=Tables!$E$16,Tables!$F$16)))))))))))) -> 0 | T57: =S57+P57+M57+J57+G57 -> 0 | X57: =T57+(V57*W57)+(U57*Tables!$E$20*W57) -> 0
C58: =MONTH(B58) -> 1 | G58: =IF(E58=Tables!$E$5,Tables!$F$5,IF('Données mensuelles'!E58=Tables!$E$6,Tables!$F$6,IF('Données mensuelles'!E58=Tables!$E$7,Tables!$F$7,IF('Données mensuelles'!E58=Tables!$E$8,Tables!$F$8,IF('Données mensuelles'!E58=Tables!$E$9,Tables!$F$9,IF('Données mensuelles'!E58=Tables!$E$10,Tables!$F$10,IF('Données mensuelles'!E58=Tables!$E$11,Tables!$F$11,IF(E58=Tables!$E$12,Tables!$F$12,IF('Données mensuelles'!E58=Tables!$E$13,Tables!$F$13,IF(E58=Tables!$E$14,Tables!$F$14,IF(E58=Tables!$E$15,Tables!$F$15,IF(E58=Tables!$E$16,Tables!$F$16)))))))))))) -> 0 | J58: =IF(H58=Tables!$E$5,Tables!$F$5,IF('Données mensuelles'!H58=Tables!$E$6,Tables!$F$6,IF('Données mensuelles'!H58=Tables!$E$7,Tables!$F$7,IF('Données mensuelles'!H58=Tables!$E$8,Tables!$F$8,IF('Données mensuelles'!H58=Tables!$E$9,Tables!$F$9,IF('Données mensuelles'!H58=Tables!$E$10,Tables!$F$10,IF('Données mensuelles'!H58=Tables!$E$11,Tables!$F$11,IF(H58=Tables!$E$12,Tables!$F$12,IF('Données mensuelles'!H58=Tables!$E$13,Tables!$F$13,IF(H58=Tables!$E$14,Tables!$F$14,IF(H58=Tables!$E$15,Tables!$F$15,IF(H58=Tables!$E$16,Tables!$F$16)))))))))))) -> 0 | M58: =IF(K58=Tables!$E$5,Tables!$F$5,IF('Données mensuelles'!K58=Tables!$E$6,Tables!$F$6,IF('Données mensuelles'!K58=Tables!$E$7,Tables!$F$7,IF('Données mensuelles'!K58=Tables!$E$8,Tables!$F$8,IF('Données mensuelles'!K58=Tables!$E$9,Tables!$F$9,IF('Données mensuelles'!K58=Tables!$E$10,Tables!$F$10,IF('Données mensuelles'!K58=Tables!$E$11,Tables!$F$11,IF(K58=Tables!$E$12,Tables!$F$12,IF('Données mensuelles'!K58=Tables!$E$13,Tables!$F$13,IF(K58=Tables!$E$14,Tables!$F$14,IF(K58=Tables!$E$15,Tables!$F$15,IF(K58=Tables!$E$16,Tables!$F$16)))))))))))) -> 0 | P58: =IF(N58=Tables!$E$5,Tables!$F$5,IF('Données mensuelles'!N58=Tables!$E$6,Tables!$F$6,IF('Données mensuelles'!N58=Tables!$E$7,Tables!$F$7,IF('Données mensuelles'!N58=Tables!$E$8,Tables!$F$8,IF('Données mensuelles'!N58=Tables!$E$9,Tables!$F$9,IF('Données mensuelles'!N58=Tables!$E$10,Tables!$F$10,IF('Données mensuelles'!N58=Tables!$E$11,Tables!$F$11,IF(N58=Tables!$E$12,Tables!$F$12,IF('Données mensuelles'!N58=Tables!$E$13,Tables!$F$13,IF(N58=Tables!$E$14,Tables!$F$14,IF(N58=Tables!$E$15,Tables!$F$15,IF(N58=Tables!$E$16,Tables!$F$16)))))))))))) -> 0 | S58: =IF(Q58=Tables!$E$5,Tables!$F$5,IF('Données mensuelles'!Q58=Tables!$E$6,Tables!$F$6,IF('Données mensuelles'!Q58=Tables!$E$7,Tables!$F$7,IF('Données mensuelles'!Q58=Tables!$E$8,Tables!$F$8,IF('Données mensuelles'!Q58=Tables!$E$9,Tables!$F$9,IF('Données mensuelles'!Q58=Tables!$E$10,Tables!$F$10,IF('Données mensuelles'!Q58=Tables!$E$11,Tables!$F$11,IF(Q58=Tables!$E$12,Tables!$F$12,IF('Données mensuelles'!Q58=Tables!$E$13,Tables!$F$13,IF(Q58=Tables!$E$14,Tables!$F$14,IF(Q58=Tables!$E$15,Tables!$F$15,IF(Q58=Tables!$E$16,Tables!$F$16)))))))))))) -> 0 | T58: =S58+P58+M58+J58+G58 -> 0 | X58: =T58+(V58*W58)+(U58*Tables!$E$20*W58) -> 0
G59: =IF(E59=Tables!$E$5,Tables!$F$5,IF('Données mensuelles'!E59=Tables!$E$6,Tables!$F$6,IF('Données mensuelles'!E59=Tables!$E$7,Tables!$F$7,IF('Données mensuelles'!E59=Tables!$E$8,Tables!$F$8,IF('Données mensuelles'!E59=Tables!$E$9,Tables!$F$9,IF('Données mensuelles'!E59=Tables!$E$10,Tables!$F$10,IF('Données mensuelles'!E59=Tables!$E$11,Tables!$F$11,IF(E59=Tables!$E$12,Tables!$F$12,IF('Données mensuelles'!E59=Tables!$E$13,Tables!$F$13,IF(E59=Tables!$E$14,Tables!$F$14,IF(E59=Tables!$E$15,Tables!$F$15,IF(E59=Tables!$E$16,Tables!$F$16)))))))))))) -> 0 | J59: =IF(H59=Tables!$E$5,Tables!$F$5,IF('Données mensuelles'!H59=Tables!$E$6,Tables!$F$6,IF('Données mensuelles'!H59=Tables!$E$7,Tables!$F$7,IF('Données mensuelles'!H59=Tables!$E$8,Tables!$F$8,IF('Données mensuelles'!H59=Tables!$E$9,Tables!$F$9,IF('Données mensuelles'!H59=Tables!$E$10,Tables!$F$10,IF('Données mensuelles'!H59=Tables!$E$11,Tables!$F$11,IF(H59=Tables!$E$12,Tables!$F$12,IF('Données mensuelles'!H59=Tables!$E$13,Tables!$F$13,IF(H59=Tables!$E$14,Tables!$F$14,IF(H59=Tables!$E$15,Tables!$F$15,IF(H59=Tables!$E$16,Tables!$F$16)))))))))))) -> 0 | M59: =IF(K59=Tables!$E$5,Tables!$F$5,IF('Données mensuelles'!K59=Tables!$E$6,Tables!$F$6,IF('Données mensuelles'!K59=Tables!$E$7,Tables!$F$7,IF('Données mensuelles'!K59=Tables!$E$8,Tables!$F$8,IF('Données mensuelles'!K59=Tables!$E$9,Tables!$F$9,IF('Données mensuelles'!K59=Tables!$E$10,Tables!$F$10,IF('Données mensuelles'!K59=Tables!$E$11,Tables!$F$11,IF(K59=Tables!$E$12,Tables!$F$12,IF('Données mensuelles'!K59=Tables!$E$13,Tables!$F$13,IF(K59=Tables!$E$14,Tables!$F$14,IF(K59=Tables!$E$15,Tables!$F$15,IF(K59=Tables!$E$16,Tables!$F$16)))))))))))) -> 0 | P59: =IF(N59=Tables!$E$5,Tables!$F$5,IF('Données mensuelles'!N59=Tables!$E$6,Tables!$F$6,IF('Données mensuelles'!N59=Tables!$E$7,Tables!$F$7,IF('Données mensuelles'!N59=Tables!$E$8,Tables!$F$8,IF('Données mensuelles'!N59=Tables!$E$9,Tables!$F$9,IF('Données mensuelles'!N59=Tables!$E$10,Tables!$F$10,IF('Données mensuelles'!N59=Tables!$E$11,Tables!$F$11,IF(N59=Tables!$E$12,Tables!$F$12,IF('Données mensuelles'!N59=Tables!$E$13,Tables!$F$13,IF(N59=Tables!$E$14,Tables!$F$14,IF(N59=Tables!$E$15,Tables!$F$15,IF(N59=Tables!$E$16,Tables!$F$16)))))))))))) -> 0 | S59: =IF(Q59=Tables!$E$5,Tables!$F$5,IF('Données mensuelles'!Q59=Tables!$E$6,Tables!$F$6,IF('Données mensuelles'!Q59=Tables!$E$7,Tables!$F$7,IF('Données mensuelles'!Q59=Tables!$E$8,Tables!$F$8,IF('Données mensuelles'!Q59=Tables!$E$9,Tables!$F$9,IF('Données mensuelles'!Q59=Tables!$E$10,Tables!$F$10,IF('Données mensuelles'!Q59=Tables!$E$11,Tables!$F$11,IF(Q59=Tables!$E$12,Tables!$F$12,IF('Données mensuelles'!Q59=Tables!$E$13,Tables!$F$13,IF(Q59=Tables!$E$14,Tables!$F$14,IF(Q59=Tables!$E$15,Tables!$F$15,IF(Q59=Tables!$E$16,Tables!$F$16)))))))))))) -> 0 | T59: =S59+P59+M59+J59+G59 -> 0 | X59: =T59+(V59*W59)+(U59*Tables!$E$20*W59) -> 0
G60: =IF(E60=Tables!$E$5,Tables!$F$5,IF('Données mensuelles'!E60=Tables!$E$6,Tables!$F$6,IF('Données mensuelles'!E60=Tables!$E$7,Tables!$F$7,IF('Données mensuelles'!E60=Tables!$E$8,Tables!$F$8,IF('Données mensuelles'!E60=Tables!$E$9,Tables!$F$9,IF('Données mensuelles'!E60=Tables!$E$10,Tables!$F$10,IF('Données mensuelles'!E60=Tables!$E$11,Tables!$F$11,IF(E60=Tables!$E$12,Tables!$F$12,IF('Données mensuelles'!E60=Tables!$E$13,Tables!$F$13,IF(E60=Tables!$E$14,Tables!$F$14,IF(E60=Tables!$E$15,Tables!$F$15,IF(E60=Tables!$E$16,Tables!$F$16)))))))))))) -> 0 | J60: =IF(H60=Tables!$E$5,Tables!$F$5,IF('Données mensuelles'!H60=Tables!$E$6,Tables!$F$6,IF('Données mensuelles'!H60=Tables!$E$7,Tables!$F$7,IF('Données mensuelles'!H60=Tables!$E$8,Tables!$F$8,IF('Données mensuelles'!H60=Tables!$E$9,Tables!$F$9,IF('Données mensuelles'!H60=Tables!$E$10,Tables!$F$10,IF('Données mensuelles'!H60=Tables!$E$11,Tables!$F$11,IF(H60=Tables!$E$12,Tables!$F$12,IF('Données mensuelles'!H60=Tables!$E$13,Tables!$F$13,IF(H60=Tables!$E$14,Tables!$F$14,IF(H60=Tables!$E$15,Tables!$F$15,IF(H60=Tables!$E$16,Tables!$F$16)))))))))))) -> 0 | M60: =IF(K60=Tables!$E$5,Tables!$F$5,IF('Données mensuelles'!K60=Tables!$E$6,Tables!$F$6,IF('Données mensuelles'!K60=Tables!$E$7,Tables!$F$7,IF('Données mensuelles'!K60=Tables!$E$8,Tables!$F$8,IF('Données mensuelles'!K60=Tables!$E$9,Tables!$F$9,IF('Données mensuelles'!K60=Tables!$E$10,Tables!$F$10,IF('Données mensuelles'!K60=Tables!$E$11,Tables!$F$11,IF(K60=Tables!$E$12,Tables!$F$12,IF('Données mensuelles'!K60=Tables!$E$13,Tables!$F$13,IF(K60=Tables!$E$14,Tables!$F$14,IF(K60=Tables!$E$15,Tables!$F$15,IF(K60=Tables!$E$16,Tables!$F$16)))))))))))) -> 0 | P60: =IF(N60=Tables!$E$5,Tables!$F$5,IF('Données mensuelles'!N60=Tables!$E$6,Tables!$F$6,IF('Données mensuelles'!N60=Tables!$E$7,Tables!$F$7,IF('Données mensuelles'!N60=Tables!$E$8,Tables!$F$8,IF('Données mensuelles'!N60=Tables!$E$9,Tables!$F$9,IF('Données mensuelles'!N60=Tables!$E$10,Tables!$F$10,IF('Données mensuelles'!N60=Tables!$E$11,Tables!$F$11,IF(N60=Tables!$E$12,Tables!$F$12,IF('Données mensuelles'!N60=Tables!$E$13,Tables!$F$13,IF(N60=Tables!$E$14,Tables!$F$14,IF(N60=Tables!$E$15,Tables!$F$15,IF(N60=Tables!$E$16,Tables!$F$16)))))))))))) -> 0 | S60: =IF(Q60=Tables!$E$5,Tables!$F$5,IF('Données mensuelles'!Q60=Tables!$E$6,Tables!$F$6,IF('Données mensuelles'!Q60=Tables!$E$7,Tables!$F$7,IF('Données mensuelles'!Q60=Tables!$E$8,Tables!$F$8,IF('Données mensuelles'!Q60=Tables!$E$9,Tables!$F$9,IF('Données mensuelles'!Q60=Tables!$E$10,Tables!$F$10,IF('Données mensuelles'!Q60=Tables!$E$11,Tables!$F$11,IF(Q60=Tables!$E$12,Tables!$F$12,IF('Données mensuelles'!Q60=Tables!$E$13,Tables!$F$13,IF(Q60=Tables!$E$14,Tables!$F$14,IF(Q60=Tables!$E$15,Tables!$F$15,IF(Q60=Tables!$E$16,Tables!$F$16)))))))))))) -> 0 | T60: =S60+P60+M60+J60+G60 -> 0 | X60: =T60+(V60*W60)+(U60*Tables!$E$20*W60) -> 0
G61: =IF(E61=Tables!$E$5,Tables!$F$5,IF('Données mensuelles'!E61=Tables!$E$6,Tables!$F$6,IF('Données mensuelles'!E61=Tables!$E$7,Tables!$F$7,IF('Données mensuelles'!E61=Tables!$E$8,Tables!$F$8,IF('Données mensuelles'!E61=Tables!$E$9,Tables!$F$9,IF('Données mensuelles'!E61=Tables!$E$10,Tables!$F$10,IF('Données mensuelles'!E61=Tables!$E$11,Tables!$F$11,IF(E61=Tables!$E$12,Tables!$F$12,IF('Données mensuelles'!E61=Tables!$E$13,Tables!$F$13,IF(E61=Tables!$E$14,Tables!$F$14,IF(E61=Tables!$E$15,Tables!$F$15,IF(E61=Tables!$E$16,Tables!$F$16)))))))))))) -> 0 | J61: =IF(H61=Tables!$E$5,Tables!$F$5,IF('Données mensuelles'!H61=Tables!$E$6,Tables!$F$6,IF('Données mensuelles'!H61=Tables!$E$7,Tables!$F$7,IF('Données mensuelles'!H61=Tables!$E$8,Tables!$F$8,IF('Données mensuelles'!H61=Tables!$E$9,Tables!$F$9,IF('Données mensuelles'!H61=Tables!$E$10,Tables!$F$10,IF('Données mensuelles'!H61=Tables!$E$11,Tables!$F$11,IF(H61=Tables!$E$12,Tables!$F$12,IF('Données mensuelles'!H61=Tables!$E$13,Tables!$F$13,IF(H61=Tables!$E$14,Tables!$F$14,IF(H61=Tables!$E$15,Tables!$F$15,IF(H61=Tables!$E$16,Tables!$F$16)))))))))))) -> 0 | M61: =IF(K61=Tables!$E$5,Tables!$F$5,IF('Données mensuelles'!K61=Tables!$E$6,Tables!$F$6,IF('Données mensuelles'!K61=Tables!$E$7,Tables!$F$7,IF('Données mensuelles'!K61=Tables!$E$8,Tables!$F$8,IF('Données mensuelles'!K61=Tables!$E$9,Tables!$F$9,IF('Données mensuelles'!K61=Tables!$E$10,Tables!$F$10,IF('Données mensuelles'!K61=Tables!$E$11,Tables!$F$11,IF(K61=Tables!$E$12,Tables!$F$12,IF('Données mensuelles'!K61=Tables!$E$13,Tables!$F$13,IF(K61=Tables!$E$14,Tables!$F$14,IF(K61=Tables!$E$15,Tables!$F$15,IF(K61=Tables!$E$16,Tables!$F$16)))))))))))) -> 0 | P61: =IF(N61=Tables!$E$5,Tables!$F$5,IF('Données mensuelles'!N61=Tables!$E$6,Tables!$F$6,IF('Données mensuelles'!N61=Tables!$E$7,Tables!$F$7,IF('Données mensuelles'!N61=Tables!$E$8,Tables!$F$8,IF('Données mensuelles'!N61=Tables!$E$9,Tables!$F$9,IF('Données mensuelles'!N61=Tables!$E$10,Tables!$F$10,IF('Données mensuelles'!N61=Tables!$E$11,Tables!$F$11,IF(N61=Tables!$E$12,Tables!$F$12,IF('Données mensuelles'!N61=Tables!$E$13,Tables!$F$13,IF(N61=Tables!$E$14,Tables!$F$14,IF(N61=Tables!$E$15,Tables!$F$15,IF(N61=Tables!$E$16,Tables!$F$16)))))))))))) -> 0 | S61: =IF(Q61=Tables!$E$5,Tables!$F$5,IF('Données mensuelles'!Q61=Tables!$E$6,Tables!$F$6,IF('Données mensuelles'!Q61=Tables!$E$7,Tables!$F$7,IF('Données mensuelles'!Q61=Tables!$E$8,Tables!$F$8,IF('Données mensuelles'!Q61=Tables!$E$9,Tables!$F$9,IF('Données mensuelles'!Q61=Tables!$E$10,Tables!$F$10,IF('Données mensuelles'!Q61=Tables!$E$11,Tables!$F$11,IF(Q61=Tables!$E$12,Tables!$F$12,IF('Données mensuelles'!Q61=Tables!$E$13,Tables!$F$13,IF(Q61=Tables!$E$14,Tables!$F$14,IF(Q61=Tables!$E$15,Tables!$F$15,IF(Q61=Tables!$E$16,Tables!$F$16)))))))))))) -> 0 | T61: =S61+P61+M61+J61+G61 -> 0 | X61: =T61+(V61*W61)+(U61*Tables!$E$20*W61) -> 0
G62: =IF(E62=Tables!$E$5,Tables!$F$5,IF('Données mensuelles'!E62=Tables!$E$6,Tables!$F$6,IF('Données mensuelles'!E62=Tables!$E$7,Tables!$F$7,IF('Données mensuelles'!E62=Tables!$E$8,Tables!$F$8,IF('Données mensuelles'!E62=Tables!$E$9,Tables!$F$9,IF('Données mensuelles'!E62=Tables!$E$10,Tables!$F$10,IF('Données mensuelles'!E62=Tables!$E$11,Tables!$F$11,IF(E62=Tables!$E$12,Tables!$F$12,IF('Données mensuelles'!E62=Tables!$E$13,Tables!$F$13,IF(E62=Tables!$E$14,Tables!$F$14,IF(E62=Tables!$E$15,Tables!$F$15,IF(E62=Tables!$E$16,Tables!$F$16)))))))))))) -> 0 | J62: =IF(H62=Tables!$E$5,Tables!$F$5,IF('Données mensuelles'!H62=Tables!$E$6,Tables!$F$6,IF('Données mensuelles'!H62=Tables!$E$7,Tables!$F$7,IF('Données mensuelles'!H62=Tables!$E$8,Tables!$F$8,IF('Données mensuelles'!H62=Tables!$E$9,Tables!$F$9,IF('Données mensuelles'!H62=Tables!$E$10,Tables!$F$10,IF('Données mensuelles'!H62=Tables!$E$11,Tables!$F$11,IF(H62=Tables!$E$12,Tables!$F$12,IF('Données mensuelles'!H62=Tables!$E$13,Tables!$F$13,IF(H62=Tables!$E$14,Tables!$F$14,IF(H62=Tables!$E$15,Tables!$F$15,IF(H62=Tables!$E$16,Tables!$F$16)))))))))))) -> 0 | M62: =IF(K62=Tables!$E$5,Tables!$F$5,IF('Données mensuelles'!K62=Tables!$E$6,Tables!$F$6,IF('Données mensuelles'!K62=Tables!$E$7,Tables!$F$7,IF('Données mensuelles'!K62=Tables!$E$8,Tables!$F$8,IF('Données mensuelles'!K62=Tables!$E$9,Tables!$F$9,IF('Données mensuelles'!K62=Tables!$E$10,Tables!$F$10,IF('Données mensuelles'!K62=Tables!$E$11,Tables!$F$11,IF(K62=Tables!$E$12,Tables!$F$12,IF('Données mensuelles'!K62=Tables!$E$13,Tables!$F$13,IF(K62=Tables!$E$14,Tables!$F$14,IF(K62=Tables!$E$15,Tables!$F$15,IF(K62=Tables!$E$16,Tables!$F$16)))))))))))) -> 0 | P62: =IF(N62=Tables!$E$5,Tables!$F$5,IF('Données mensuelles'!N62=Tables!$E$6,Tables!$F$6,IF('Données mensuelles'!N62=Tables!$E$7,Tables!$F$7,IF('Données mensuelles'!N62=Tables!$E$8,Tables!$F$8,IF('Données mensuelles'!N62=Tables!$E$9,Tables!$F$9,IF('Données mensuelles'!N62=Tables!$E$10,Tables!$F$10,IF('Données mensuelles'!N62=Tables!$E$11,Tables!$F$11,IF(N62=Tables!$E$12,Tables!$F$12,IF('Données mensuelles'!N62=Tables!$E$13,Tables!$F$13,IF(N62=Tables!$E$14,Tables!$F$14,IF(N62=Tables!$E$15,Tables!$F$15,IF(N62=Tables!$E$16,Tables!$F$16)))))))))))) -> 0 | S62: =IF(Q62=Tables!$E$5,Tables!$F$5,IF('Données mensuelles'!Q62=Tables!$E$6,Tables!$F$6,IF('Données mensuelles'!Q62=Tables!$E$7,Tables!$F$7,IF('Données mensuelles'!Q62=Tables!$E$8,Tables!$F$8,IF('Données mensuelles'!Q62=Tables!$E$9,Tables!$F$9,IF('Données mensuelles'!Q62=Tables!$E$10,Tables!$F$10,IF('Données mensuelles'!Q62=Tables!$E$11,Tables!$F$11,IF(Q62=Tables!$E$12,Tables!$F$12,IF('Données mensuelles'!Q62=Tables!$E$13,Tables!$F$13,IF(Q62=Tables!$E$14,Tables!$F$14,IF(Q62=Tables!$E$15,Tables!$F$15,IF(Q62=Tables!$E$16,Tables!$F$16)))))))))))) -> 0 | T62: =S62+P62+M62+J62+G62 -> 0 | X62: =T62+(V62*W62)+(U62*Tables!$E$20*W62) -> 0
G63: =IF(E63=Tables!$E$5,Tables!$F$5,IF('Données mensuelles'!E63=Tables!$E$6,Tables!$F$6,IF('Données mensuelles'!E63=Tables!$E$7,Tables!$F$7,IF('Données mensuelles'!E63=Tables!$E$8,Tables!$F$8,IF('Données mensuelles'!E63=Tables!$E$9,Tables!$F$9,IF('Données mensuelles'!E63=Tables!$E$10,Tables!$F$10,IF('Données mensuelles'!E63=Tables!$E$11,Tables!$F$11,IF(E63=Tables!$E$12,Tables!$F$12,IF('Données mensuelles'!E63=Tables!$E$13,Tables!$F$13,IF(E63=Tables!$E$14,Tables!$F$14,IF(E63=Tables!$E$15,Tables!$F$15,IF(E63=Tables!$E$16,Tables!$F$16)))))))))))) -> 0 | J63: =IF(H63=Tables!$E$5,Tables!$F$5,IF('Données mensuelles'!H63=Tables!$E$6,Tables!$F$6,IF('Données mensuelles'!H63=Tables!$E$7,Tables!$F$7,IF('Données mensuelles'!H63=Tables!$E$8,Tables!$F$8,IF('Données mensuelles'!H63=Tables!$E$9,Tables!$F$9,IF('Données mensuelles'!H63=Tables!$E$10,Tables!$F$10,IF('Données mensuelles'!H63=Tables!$E$11,Tables!$F$11,IF(H63=Tables!$E$12,Tables!$F$12,IF('Données mensuelles'!H63=Tables!$E$13,Tables!$F$13,IF(H63=Tables!$E$14,Tables!$F$14,IF(H63=Tables!$E$15,Tables!$F$15,IF(H63=Tables!$E$16,Tables!$F$16)))))))))))) -> 0 | M63: =IF(K63=Tables!$E$5,Tables!$F$5,IF('Données mensuelles'!K63=Tables!$E$6,Tables!$F$6,IF('Données mensuelles'!K63=Tables!$E$7,Tables!$F$7,IF('Données mensuelles'!K63=Tables!$E$8,Tables!$F$8,IF('Données mensuelles'!K63=Tables!$E$9,Tables!$F$9,IF('Données mensuelles'!K63=Tables!$E$10,Tables!$F$10,IF('Données mensuelles'!K63=Tables!$E$11,Tables!$F$11,IF(K63=Tables!$E$12,Tables!$F$12,IF('Données mensuelles'!K63=Tables!$E$13,Tables!$F$13,IF(K63=Tables!$E$14,Tables!$F$14,IF(K63=Tables!$E$15,Tables!$F$15,IF(K63=Tables!$E$16,Tables!$F$16)))))))))))) -> 0 | P63: =IF(N63=Tables!$E$5,Tables!$F$5,IF('Données mensuelles'!N63=Tables!$E$6,Tables!$F$6,IF('Données mensuelles'!N63=Tables!$E$7,Tables!$F$7,IF('Données mensuelles'!N63=Tables!$E$8,Tables!$F$8,IF('Données mensuelles'!N63=Tables!$E$9,Tables!$F$9,IF('Données mensuelles'!N63=Tables!$E$10,Tables!$F$10,IF('Données mensuelles'!N63=Tables!$E$11,Tables!$F$11,IF(N63=Tables!$E$12,Tables!$F$12,IF('Données mensuelles'!N63=Tables!$E$13,Tables!$F$13,IF(N63=Tables!$E$14,Tables!$F$14,IF(N63=Tables!$E$15,Tables!$F$15,IF(N63=Tables!$E$16,Tables!$F$16)))))))))))) -> 0 | S63: =IF(Q63=Tables!$E$5,Tables!$F$5,IF('Données mensuelles'!Q63=Tables!$E$6,Tables!$F$6,IF('Données mensuelles'!Q63=Tables!$E$7,Tables!$F$7,IF('Données mensuelles'!Q63=Tables!$E$8,Tables!$F$8,IF('Données mensuelles'!Q63=Tables!$E$9,Tables!$F$9,IF('Données mensuelles'!Q63=Tables!$E$10,Tables!$F$10,IF('Données mensuelles'!Q63=Tables!$E$11,Tables!$F$11,IF(Q63=Tables!$E$12,Tables!$F$12,IF('Données mensuelles'!Q63=Tables!$E$13,Tables!$F$13,IF(Q63=Tables!$E$14,Tables!$F$14,IF(Q63=Tables!$E$15,Tables!$F$15,IF(Q63=Tables!$E$16,Tables!$F$16)))))))))))) -> 0 | T63: =S63+P63+M63+J63+G63 -> 0 | X63: =T63+(V63*W63)+(U63*Tables!$E$20*W63) -> 0
G64: =IF(E64=Tables!$E$5,Tables!$F$5,IF('Données mensuelles'!E64=Tables!$E$6,Tables!$F$6,IF('Données mensuelles'!E64=Tables!$E$7,Tables!$F$7,IF('Données mensuelles'!E64=Tables!$E$8,Tables!$F$8,IF('Données mensuelles'!E64=Tables!$E$9,Tables!$F$9,IF('Données mensuelles'!E64=Tables!$E$10,Tables!$F$10,IF('Données mensuelles'!E64=Tables!$E$11,Tables!$F$11,IF(E64=Tables!$E$12,Tables!$F$12,IF('Données mensuelles'!E64=Tables!$E$13,Tables!$F$13,IF(E64=Tables!$E$14,Tables!$F$14,IF(E64=Tables!$E$15,Tables!$F$15,IF(E64=Tables!$E$16,Tables!$F$16)))))))))))) -> 0 | J64: =IF(H64=Tables!$E$5,Tables!$F$5,IF('Données mensuelles'!H64=Tables!$E$6,Tables!$F$6,IF('Données mensuelles'!H64=Tables!$E$7,Tables!$F$7,IF('Données mensuelles'!H64=Tables!$E$8,Tables!$F$8,IF('Données mensuelles'!H64=Tables!$E$9,Tables!$F$9,IF('Données mensuelles'!H64=Tables!$E$10,Tables!$F$10,IF('Données mensuelles'!H64=Tables!$E$11,Tables!$F$11,IF(H64=Tables!$E$12,Tables!$F$12,IF('Données mensuelles'!H64=Tables!$E$13,Tables!$F$13,IF(H64=Tables!$E$14,Tables!$F$14,IF(H64=Tables!$E$15,Tables!$F$15,IF(H64=Tables!$E$16,Tables!$F$16)))))))))))) -> 0 | M64: =IF(K64=Tables!$E$5,Tables!$F$5,IF('Données mensuelles'!K64=Tables!$E$6,Tables!$F$6,IF('Données mensuelles'!K64=Tables!$E$7,Tables!$F$7,IF('Données mensuelles'!K64=Tables!$E$8,Tables!$F$8,IF('Données mensuelles'!K64=Tables!$E$9,Tables!$F$9,IF('Données mensuelles'!K64=Tables!$E$10,Tables!$F$10,IF('Données mensuelles'!K64=Tables!$E$11,Tables!$F$11,IF(K64=Tables!$E$12,Tables!$F$12,IF('Données mensuelles'!K64=Tables!$E$13,Tables!$F$13,IF(K64=Tables!$E$14,Tables!$F$14,IF(K64=Tables!$E$15,Tables!$F$15,IF(K64=Tables!$E$16,Tables!$F$16)))))))))))) -> 0 | P64: =IF(N64=Tables!$E$5,Tables!$F$5,IF('Données mensuelles'!N64=Tables!$E$6,Tables!$F$6,IF('Données mensuelles'!N64=Tables!$E$7,Tables!$F$7,IF('Données mensuelles'!N64=Tables!$E$8,Tables!$F$8,IF('Données mensuelles'!N64=Tables!$E$9,Tables!$F$9,IF('Données mensuelles'!N64=Tables!$E$10,Tables!$F$10,IF('Données mensuelles'!N64=Tables!$E$11,Tables!$F$11,IF(N64=Tables!$E$12,Tables!$F$12,IF('Données mensuelles'!N64=Tables!$E$13,Tables!$F$13,IF(N64=Tables!$E$14,Tables!$F$14,IF(N64=Tables!$E$15,Tables!$F$15,IF(N64=Tables!$E$16,Tables!$F$16)))))))))))) -> 0 | S64: =IF(Q64=Tables!$E$5,Tables!$F$5,IF('Données mensuelles'!Q64=Tables!$E$6,Tables!$F$6,IF('Données mensuelles'!Q64=Tables!$E$7,Tables!$F$7,IF('Données mensuelles'!Q64=Tables!$E$8,Tables!$F$8,IF('Données mensuelles'!Q64=Tables!$E$9,Tables!$F$9,IF('Données mensuelles'!Q64=Tables!$E$10,Tables!$F$10,IF('Données mensuelles'!Q64=Tables!$E$11,Tables!$F$11,IF(Q64=Tables!$E$12,Tables!$F$12,IF('Données mensuelles'!Q64=Tables!$E$13,Tables!$F$13,IF(Q64=Tables!$E$14,Tables!$F$14,IF(Q64=Tables!$E$15,Tables!$F$15,IF(Q64=Tables!$E$16,Tables!$F$16)))))))))))) -> 0 | T64: =S64+P64+M64+J64+G64 -> 0 | X64: =T64+(V64*W64)+(U64*Tables!$E$20*W64) -> 0
G65: =IF(E65=Tables!$E$5,Tables!$F$5,IF('Données mensuelles'!E65=Tables!$E$6,Tables!$F$6,IF('Données mensuelles'!E65=Tables!$E$7,Tables!$F$7,IF('Données mensuelles'!E65=Tables!$E$8,Tables!$F$8,IF('Données mensuelles'!E65=Tables!$E$9,Tables!$F$9,IF('Données mensuelles'!E65=Tables!$E$10,Tables!$F$10,IF('Données mensuelles'!E65=Tables!$E$11,Tables!$F$11,IF(E65=Tables!$E$12,Tables!$F$12,IF('Données mensuelles'!E65=Tables!$E$13,Tables!$F$13,IF(E65=Tables!$E$14,Tables!$F$14,IF(E65=Tables!$E$15,Tables!$F$15,IF(E65=Tables!$E$16,Tables!$F$16)))))))))))) -> 0 | J65: =IF(H65=Tables!$E$5,Tables!$F$5,IF('Données mensuelles'!H65=Tables!$E$6,Tables!$F$6,IF('Données mensuelles'!H65=Tables!$E$7,Tables!$F$7,IF('Données mensuelles'!H65=Tables!$E$8,Tables!$F$8,IF('Données mensuelles'!H65=Tables!$E$9,Tables!$F$9,IF('Données mensuelles'!H65=Tables!$E$10,Tables!$F$10,IF('Données mensuelles'!H65=Tables!$E$11,Tables!$F$11,IF(H65=Tables!$E$12,Tables!$F$12,IF('Données mensuelles'!H65=Tables!$E$13,Tables!$F$13,IF(H65=Tables!$E$14,Tables!$F$14,IF(H65=Tables!$E$15,Tables!$F$15,IF(H65=Tables!$E$16,Tables!$F$16)))))))))))) -> 0 | M65: =IF(K65=Tables!$E$5,Tables!$F$5,IF('Données mensuelles'!K65=Tables!$E$6,Tables!$F$6,IF('Données mensuelles'!K65=Tables!$E$7,Tables!$F$7,IF('Données mensuelles'!K65=Tables!$E$8,Tables!$F$8,IF('Données mensuelles'!K65=Tables!$E$9,Tables!$F$9,IF('Données mensuelles'!K65=Tables!$E$10,Tables!$F$10,IF('Données mensuelles'!K65=Tables!$E$11,Tables!$F$11,IF(K65=Tables!$E$12,Tables!$F$12,IF('Données mensuelles'!K65=Tables!$E$13,Tables!$F$13,IF(K65=Tables!$E$14,Tables!$F$14,IF(K65=Tables!$E$15,Tables!$F$15,IF(K65=Tables!$E$16,Tables!$F$16)))))))))))) -> 0 | P65: =IF(N65=Tables!$E$5,Tables!$F$5,IF('Données mensuelles'!N65=Tables!$E$6,Tables!$F$6,IF('Données mensuelles'!N65=Tables!$E$7,Tables!$F$7,IF('Données mensuelles'!N65=Tables!$E$8,Tables!$F$8,IF('Données mensuelles'!N65=Tables!$E$9,Tables!$F$9,IF('Données mensuelles'!N65=Tables!$E$10,Tables!$F$10,IF('Données mensuelles'!N65=Tables!$E$11,Tables!$F$11,IF(N65=Tables!$E$12,Tables!$F$12,IF('Données mensuelles'!N65=Tables!$E$13,Tables!$F$13,IF(N65=Tables!$E$14,Tables!$F$14,IF(N65=Tables!$E$15,Tables!$F$15,IF(N65=Tables!$E$16,Tables!$F$16)))))))))))) -> 0 | S65: =IF(Q65=Tables!$E$5,Tables!$F$5,IF('Données mensuelles'!Q65=Tables!$E$6,Tables!$F$6,IF('Données mensuelles'!Q65=Tables!$E$7,Tables!$F$7,IF('Données mensuelles'!Q65=Tables!$E$8,Tables!$F$8,IF('Données mensuelles'!Q65=Tables!$E$9,Tables!$F$9,IF('Données mensuelles'!Q65=Tables!$E$10,Tables!$F$10,IF('Données mensuelles'!Q65=Tables!$E$11,Tables!$F$11,IF(Q65=Tables!$E$12,Tables!$F$12,IF('Données mensuelles'!Q65=Tables!$E$13,Tables!$F$13,IF(Q65=Tables!$E$14,Tables!$F$14,IF(Q65=Tables!$E$15,Tables!$F$15,IF(Q65=Tables!$E$16,Tables!$F$16)))))))))))) -> 0 | T65: =S65+P65+M65+J65+G65 -> 0 | X65: =T65+(V65*W65)+(U65*Tables!$E$20*W65) -> 0
G66: =IF(E66=Tables!$E$5,Tables!$F$5,IF('Données mensuelles'!E66=Tables!$E$6,Tables!$F$6,IF('Données mensuelles'!E66=Tables!$E$7,Tables!$F$7,IF('Données mensuelles'!E66=Tables!$E$8,Tables!$F$8,IF('Données mensuelles'!E66=Tables!$E$9,Tables!$F$9,IF('Données mensuelles'!E66=Tables!$E$10,Tables!$F$10,IF('Données mensuelles'!E66=Tables!$E$11,Tables!$F$11,IF(E66=Tables!$E$12,Tables!$F$12,IF('Données mensuelles'!E66=Tables!$E$13,Tables!$F$13,IF(E66=Tables!$E$14,Tables!$F$14,IF(E66=Tables!$E$15,Tables!$F$15,IF(E66=Tables!$E$16,Tables!$F$16)))))))))))) -> 0 | J66: =IF(H66=Tables!$E$5,Tables!$F$5,IF('Données mensuelles'!H66=Tables!$E$6,Tables!$F$6,IF('Données mensuelles'!H66=Tables!$E$7,Tables!$F$7,IF('Données mensuelles'!H66=Tables!$E$8,Tables!$F$8,IF('Données mensuelles'!H66=Tables!$E$9,Tables!$F$9,IF('Données mensuelles'!H66=Tables!$E$10,Tables!$F$10,IF('Données mensuelles'!H66=Tables!$E$11,Tables!$F$11,IF(H66=Tables!$E$12,Tables!$F$12,IF('Données mensuelles'!H66=Tables!$E$13,Tables!$F$13,IF(H66=Tables!$E$14,Tables!$F$14,IF(H66=Tables!$E$15,Tables!$F$15,IF(H66=Tables!$E$16,Tables!$F$16)))))))))))) -> 0 | M66: =IF(K66=Tables!$E$5,Tables!$F$5,IF('Données mensuelles'!K66=Tables!$E$6,Tables!$F$6,IF('Données mensuelles'!K66=Tables!$E$7,Tables!$F$7,IF('Données mensuelles'!K66=Tables!$E$8,Tables!$F$8,IF('Données mensuelles'!K66=Tables!$E$9,Tables!$F$9,IF('Données mensuelles'!K66=Tables!$E$10,Tables!$F$10,IF('Données mensuelles'!K66=Tables!$E$11,Tables!$F$11,IF(K66=Tables!$E$12,Tables!$F$12,IF('Données mensuelles'!K66=Tables!$E$13,Tables!$F$13,IF(K66=Tables!$E$14,Tables!$F$14,IF(K66=Tables!$E$15,Tables!$F$15,IF(K66=Tables!$E$16,Tables!$F$16)))))))))))) -> 0 | P66: =IF(N66=Tables!$E$5,Tables!$F$5,IF('Données mensuelles'!N66=Tables!$E$6,Tables!$F$6,IF('Données mensuelles'!N66=Tables!$E$7,Tables!$F$7,IF('Données mensuelles'!N66=Tables!$E$8,Tables!$F$8,IF('Données mensuelles'!N66=Tables!$E$9,Tables!$F$9,IF('Données mensuelles'!N66=Tables!$E$10,Tables!$F$10,IF('Données mensuelles'!N66=Tables!$E$11,Tables!$F$11,IF(N66=Tables!$E$12,Tables!$F$12,IF('Données mensuelles'!N66=Tables!$E$13,Tables!$F$13,IF(N66=Tables!$E$14,Tables!$F$14,IF(N66=Tables!$E$15,Tables!$F$15,IF(N66=Tables!$E$16,Tables!$F$16)))))))))))) -> 0 | S66: =IF(Q66=Tables!$E$5,Tables!$F$5,IF('Données mensuelles'!Q66=Tables!$E$6,Tables!$F$6,IF('Données mensuelles'!Q66=Tables!$E$7,Tables!$F$7,IF('Données mensuelles'!Q66=Tables!$E$8,Tables!$F$8,IF('Données mensuelles'!Q66=Tables!$E$9,Tables!$F$9,IF('Données mensuelles'!Q66=Tables!$E$10,Tables!$F$10,IF('Données mensuelles'!Q66=Tables!$E$11,Tables!$F$11,IF(Q66=Tables!$E$12,Tables!$F$12,IF('Données mensuelles'!Q66=Tables!$E$13,Tables!$F$13,IF(Q66=Tables!$E$14,Tables!$F$14,IF(Q66=Tables!$E$15,Tables!$F$15,IF(Q66=Tables!$E$16,Tables!$F$16)))))))))))) -> 0 | T66: =S66+P66+M66+J66+G66 -> 0 | X66: =T66+(V66*W66)+(U66*Tables!$E$20*W66) -> 0
G67: =IF(E67=Tables!$E$5,Tables!$F$5,IF('Données mensuelles'!E67=Tables!$E$6,Tables!$F$6,IF('Données mensuelles'!E67=Tables!$E$7,Tables!$F$7,IF('Données mensuelles'!E67=Tables!$E$8,Tables!$F$8,IF('Données mensuelles'!E67=Tables!$E$9,Tables!$F$9,IF('Données mensuelles'!E67=Tables!$E$10,Tables!$F$10,IF('Données mensuelles'!E67=Tables!$E$11,Tables!$F$11,IF(E67=Tables!$E$12,Tables!$F$12,IF('Données mensuelles'!E67=Tables!$E$13,Tables!$F$13,IF(E67=Tables!$E$14,Tables!$F$14,IF(E67=Tables!$E$15,Tables!$F$15,IF(E67=Tables!$E$16,Tables!$F$16)))))))))))) -> 0 | J67: =IF(H67=Tables!$E$5,Tables!$F$5,IF('Données mensuelles'!H67=Tables!$E$6,Tables!$F$6,IF('Données mensuelles'!H67=Tables!$E$7,Tables!$F$7,IF('Données mensuelles'!H67=Tables!$E$8,Tables!$F$8,IF('Données mensuelles'!H67=Tables!$E$9,Tables!$F$9,IF('Données mensuelles'!H67=Tables!$E$10,Tables!$F$10,IF('Données mensuelles'!H67=Tables!$E$11,Tables!$F$11,IF(H67=Tables!$E$12,Tables!$F$12,IF('Données mensuelles'!H67=Tables!$E$13,Tables!$F$13,IF(H67=Tables!$E$14,Tables!$F$14,IF(H67=Tables!$E$15,Tables!$F$15,IF(H67=Tables!$E$16,Tables!$F$16)))))))))))) -> 0 | M67: =IF(K67=Tables!$E$5,Tables!$F$5,IF('Données mensuelles'!K67=Tables!$E$6,Tables!$F$6,IF('Données mensuelles'!K67=Tables!$E$7,Tables!$F$7,IF('Données mensuelles'!K67=Tables!$E$8,Tables!$F$8,IF('Données mensuelles'!K67=Tables!$E$9,Tables!$F$9,IF('Données mensuelles'!K67=Tables!$E$10,Tables!$F$10,IF('Données mensuelles'!K67=Tables!$E$11,Tables!$F$11,IF(K67=Tables!$E$12,Tables!$F$12,IF('Données mensuelles'!K67=Tables!$E$13,Tables!$F$13,IF(K67=Tables!$E$14,Tables!$F$14,IF(K67=Tables!$E$15,Tables!$F$15,IF(K67=Tables!$E$16,Tables!$F$16)))))))))))) -> 0 | P67: =IF(N67=Tables!$E$5,Tables!$F$5,IF('Données mensuelles'!N67=Tables!$E$6,Tables!$F$6,IF('Données mensuelles'!N67=Tables!$E$7,Tables!$F$7,IF('Données mensuelles'!N67=Tables!$E$8,Tables!$F$8,IF('Données mensuelles'!N67=Tables!$E$9,Tables!$F$9,IF('Données mensuelles'!N67=Tables!$E$10,Tables!$F$10,IF('Données mensuelles'!N67=Tables!$E$11,Tables!$F$11,IF(N67=Tables!$E$12,Tables!$F$12,IF('Données mensuelles'!N67=Tables!$E$13,Tables!$F$13,IF(N67=Tables!$E$14,Tables!$F$14,IF(N67=Tables!$E$15,Tables!$F$15,IF(N67=Tables!$E$16,Tables!$F$16)))))))))))) -> 0 | S67: =IF(Q67=Tables!$E$5,Tables!$F$5,IF('Données mensuelles'!Q67=Tables!$E$6,Tables!$F$6,IF('Données mensuelles'!Q67=Tables!$E$7,Tables!$F$7,IF('Données mensuelles'!Q67=Tables!$E$8,Tables!$F$8,IF('Données mensuelles'!Q67=Tables!$E$9,Tables!$F$9,IF('Données mensuelles'!Q67=Tables!$E$10,Tables!$F$10,IF('Données mensuelles'!Q67=Tables!$E$11,Tables!$F$11,IF(Q67=Tables!$E$12,Tables!$F$12,IF('Données mensuelles'!Q67=Tables!$E$13,Tables!$F$13,IF(Q67=Tables!$E$14,Tables!$F$14,IF(Q67=Tables!$E$15,Tables!$F$15,IF(Q67=Tables!$E$16,Tables!$F$16)))))))))))) -> 0 | T67: =S67+P67+M67+J67+G67 -> 0 | X67: =T67+(V67*W67)+(U67*Tables!$E$20*W67) -> 0
G68: =IF(E68=Tables!$E$5,Tables!$F$5,IF('Données mensuelles'!E68=Tables!$E$6,Tables!$F$6,IF('Données mensuelles'!E68=Tables!$E$7,Tables!$F$7,IF('Données mensuelles'!E68=Tables!$E$8,Tables!$F$8,IF('Données mensuelles'!E68=Tables!$E$9,Tables!$F$9,IF('Données mensuelles'!E68=Tables!$E$10,Tables!$F$10,IF('Données mensuelles'!E68=Tables!$E$11,Tables!$F$11,IF(E68=Tables!$E$12,Tables!$F$12,IF('Données mensuelles'!E68=Tables!$E$13,Tables!$F$13,IF(E68=Tables!$E$14,Tables!$F$14,IF(E68=Tables!$E$15,Tables!$F$15,IF(E68=Tables!$E$16,Tables!$F$16)))))))))))) -> 0 | J68: =IF(H68=Tables!$E$5,Tables!$F$5,IF('Données mensuelles'!H68=Tables!$E$6,Tables!$F$6,IF('Données mensuelles'!H68=Tables!$E$7,Tables!$F$7,IF('Données mensuelles'!H68=Tables!$E$8,Tables!$F$8,IF('Données mensuelles'!H68=Tables!$E$9,Tables!$F$9,IF('Données mensuelles'!H68=Tables!$E$10,Tables!$F$10,IF('Données mensuelles'!H68=Tables!$E$11,Tables!$F$11,IF(H68=Tables!$E$12,Tables!$F$12,IF('Données mensuelles'!H68=Tables!$E$13,Tables!$F$13,IF(H68=Tables!$E$14,Tables!$F$14,IF(H68=Tables!$E$15,Tables!$F$15,IF(H68=Tables!$E$16,Tables!$F$16)))))))))))) -> 0 | M68: =IF(K68=Tables!$E$5,Tables!$F$5,IF('Données mensuelles'!K68=Tables!$E$6,Tables!$F$6,IF('Données mensuelles'!K68=Tables!$E$7,Tables!$F$7,IF('Données mensuelles'!K68=Tables!$E$8,Tables!$F$8,IF('Données mensuelles'!K68=Tables!$E$9,Tables!$F$9,IF('Données mensuelles'!K68=Tables!$E$10,Tables!$F$10,IF('Données mensuelles'!K68=Tables!$E$11,Tables!$F$11,IF(K68=Tables!$E$12,Tables!$F$12,IF('Données mensuelles'!K68=Tables!$E$13,Tables!$F$13,IF(K68=Tables!$E$14,Tables!$F$14,IF(K68=Tables!$E$15,Tables!$F$15,IF(K68=Tables!$E$16,Tables!$F$16)))))))))))) -> 0 | P68: =IF(N68=Tables!$E$5,Tables!$F$5,IF('Données mensuelles'!N68=Tables!$E$6,Tables!$F$6,IF('Données mensuelles'!N68=Tables!$E$7,Tables!$F$7,IF('Données mensuelles'!N68=Tables!$E$8,Tables!$F$8,IF('Données mensuelles'!N68=Tables!$E$9,Tables!$F$9,IF('Données mensuelles'!N68=Tables!$E$10,Tables!$F$10,IF('Données mensuelles'!N68=Tables!$E$11,Tables!$F$11,IF(N68=Tables!$E$12,Tables!$F$12,IF('Données mensuelles'!N68=Tables!$E$13,Tables!$F$13,IF(N68=Tables!$E$14,Tables!$F$14,IF(N68=Tables!$E$15,Tables!$F$15,IF(N68=Tables!$E$16,Tables!$F$16)))))))))))) -> 0 | S68: =IF(Q68=Tables!$E$5,Tables!$F$5,IF('Données mensuelles'!Q68=Tables!$E$6,Tables!$F$6,IF('Données mensuelles'!Q68=Tables!$E$7,Tables!$F$7,IF('Données mensuelles'!Q68=Tables!$E$8,Tables!$F$8,IF('Données mensuelles'!Q68=Tables!$E$9,Tables!$F$9,IF('Données mensuelles'!Q68=Tables!$E$10,Tables!$F$10,IF('Données mensuelles'!Q68=Tables!$E$11,Tables!$F$11,IF(Q68=Tables!$E$12,Tables!$F$12,IF('Données mensuelles'!Q68=Tables!$E$13,Tables!$F$13,IF(Q68=Tables!$E$14,Tables!$F$14,IF(Q68=Tables!$E$15,Tables!$F$15,IF(Q68=Tables!$E$16,Tables!$F$16)))))))))))) -> 0 | T68: =S68+P68+M68+J68+G68 -> 0 | X68: =T68+(V68*W68)+(U68*Tables!$E$20*W68) -> 0
G69: =IF(E69=Tables!$E$5,Tables!$F$5,IF('Données mensuelles'!E69=Tables!$E$6,Tables!$F$6,IF('Données mensuelles'!E69=Tables!$E$7,Tables!$F$7,IF('Données mensuelles'!E69=Tables!$E$8,Tables!$F$8,IF('Données mensuelles'!E69=Tables!$E$9,Tables!$F$9,IF('Données mensuelles'!E69=Tables!$E$10,Tables!$F$10,IF('Données mensuelles'!E69=Tables!$E$11,Tables!$F$11,IF(E69=Tables!$E$12,Tables!$F$12,IF('Données mensuelles'!E69=Tables!$E$13,Tables!$F$13,IF(E69=Tables!$E$14,Tables!$F$14,IF(E69=Tables!$E$15,Tables!$F$15,IF(E69=Tables!$E$16,Tables!$F$16)))))))))))) -> 0 | J69: =IF(H69=Tables!$E$5,Tables!$F$5,IF('Données mensuelles'!H69=Tables!$E$6,Tables!$F$6,IF('Données mensuelles'!H69=Tables!$E$7,Tables!$F$7,IF('Données mensuelles'!H69=Tables!$E$8,Tables!$F$8,IF('Données mensuelles'!H69=Tables!$E$9,Tables!$F$9,IF('Données mensuelles'!H69=Tables!$E$10,Tables!$F$10,IF('Données mensuelles'!H69=Tables!$E$11,Tables!$F$11,IF(H69=Tables!$E$12,Tables!$F$12,IF('Données mensuelles'!H69=Tables!$E$13,Tables!$F$13,IF(H69=Tables!$E$14,Tables!$F$14,IF(H69=Tables!$E$15,Tables!$F$15,IF(H69=Tables!$E$16,Tables!$F$16)))))))))))) -> 0 | M69: =IF(K69=Tables!$E$5,Tables!$F$5,IF('Données mensuelles'!K69=Tables!$E$6,Tables!$F$6,IF('Données mensuelles'!K69=Tables!$E$7,Tables!$F$7,IF('Données mensuelles'!K69=Tables!$E$8,Tables!$F$8,IF('Données mensuelles'!K69=Tables!$E$9,Tables!$F$9,IF('Données mensuelles'!K69=Tables!$E$10,Tables!$F$10,IF('Données mensuelles'!K69=Tables!$E$11,Tables!$F$11,IF(K69=Tables!$E$12,Tables!$F$12,IF('Données mensuelles'!K69=Tables!$E$13,Tables!$F$13,IF(K69=Tables!$E$14,Tables!$F$14,IF(K69=Tables!$E$15,Tables!$F$15,IF(K69=Tables!$E$16,Tables!$F$16)))))))))))) -> 0 | P69: =IF(N69=Tables!$E$5,Tables!$F$5,IF('Données mensuelles'!N69=Tables!$E$6,Tables!$F$6,IF('Données mensuelles'!N69=Tables!$E$7,Tables!$F$7,IF('Données mensuelles'!N69=Tables!$E$8,Tables!$F$8,IF('Données mensuelles'!N69=Tables!$E$9,Tables!$F$9,IF('Données mensuelles'!N69=Tables!$E$10,Tables!$F$10,IF('Données mensuelles'!N69=Tables!$E$11,Tables!$F$11,IF(N69=Tables!$E$12,Tables!$F$12,IF('Données mensuelles'!N69=Tables!$E$13,Tables!$F$13,IF(N69=Tables!$E$14,Tables!$F$14,IF(N69=Tables!$E$15,Tables!$F$15,IF(N69=Tables!$E$16,Tables!$F$16)))))))))))) -> 0 | S69: =IF(Q69=Tables!$E$5,Tables!$F$5,IF('Données mensuelles'!Q69=Tables!$E$6,Tables!$F$6,IF('Données mensuelles'!Q69=Tables!$E$7,Tables!$F$7,IF('Données mensuelles'!Q69=Tables!$E$8,Tables!$F$8,IF('Données mensuelles'!Q69=Tables!$E$9,Tables!$F$9,IF('Données mensuelles'!Q69=Tables!$E$10,Tables!$F$10,IF('Données mensuelles'!Q69=Tables!$E$11,Tables!$F$11,IF(Q69=Tables!$E$12,Tables!$F$12,IF('Données mensuelles'!Q69=Tables!$E$13,Tables!$F$13,IF(Q69=Tables!$E$14,Tables!$F$14,IF(Q69=Tables!$E$15,Tables!$F$15,IF(Q69=Tables!$E$16,Tables!$F$16)))))))))))) -> 0 | T69: =S69+P69+M69+J69+G69 -> 0 | X69: =T69+(V69*W69)+(U69*Tables!$E$20*W69) -> 0
G70: =IF(E70=Tables!$E$5,Tables!$F$5,IF('Données mensuelles'!E70=Tables!$E$6,Tables!$F$6,IF('Données mensuelles'!E70=Tables!$E$7,Tables!$F$7,IF('Données mensuelles'!E70=Tables!$E$8,Tables!$F$8,IF('Données mensuelles'!E70=Tables!$E$9,Tables!$F$9,IF('Données mensuelles'!E70=Tables!$E$10,Tables!$F$10,IF('Données mensuelles'!E70=Tables!$E$11,Tables!$F$11,IF(E70=Tables!$E$12,Tables!$F$12,IF('Données mensuelles'!E70=Tables!$E$13,Tables!$F$13,IF(E70=Tables!$E$14,Tables!$F$14,IF(E70=Tables!$E$15,Tables!$F$15,IF(E70=Tables!$E$16,Tables!$F$16)))))))))))) -> 0 | J70: =IF(H70=Tables!$E$5,Tables!$F$5,IF('Données mensuelles'!H70=Tables!$E$6,Tables!$F$6,IF('Données mensuelles'!H70=Tables!$E$7,Tables!$F$7,IF('Données mensuelles'!H70=Tables!$E$8,Tables!$F$8,IF('Données mensuelles'!H70=Tables!$E$9,Tables!$F$9,IF('Données mensuelles'!H70=Tables!$E$10,Tables!$F$10,IF('Données mensuelles'!H70=Tables!$E$11,Tables!$F$11,IF(H70=Tables!$E$12,Tables!$F$12,IF('Données mensuelles'!H70=Tables!$E$13,Tables!$F$13,IF(H70=Tables!$E$14,Tables!$F$14,IF(H70=Tables!$E$15,Tables!$F$15,IF(H70=Tables!$E$16,Tables!$F$16)))))))))))) -> 0 | M70: =IF(K70=Tables!$E$5,Tables!$F$5,IF('Données mensuelles'!K70=Tables!$E$6,Tables!$F$6,IF('Données mensuelles'!K70=Tables!$E$7,Tables!$F$7,IF('Données mensuelles'!K70=Tables!$E$8,Tables!$F$8,IF('Données mensuelles'!K70=Tables!$E$9,Tables!$F$9,IF('Données mensuelles'!K70=Tables!$E$10,Tables!$F$10,IF('Données mensuelles'!K70=Tables!$E$11,Tables!$F$11,IF(K70=Tables!$E$12,Tables!$F$12,IF('Données mensuelles'!K70=Tables!$E$13,Tables!$F$13,IF(K70=Tables!$E$14,Tables!$F$14,IF(K70=Tables!$E$15,Tables!$F$15,IF(K70=Tables!$E$16,Tables!$F$16)))))))))))) -> 0 | P70: =IF(N70=Tables!$E$5,Tables!$F$5,IF('Données mensuelles'!N70=Tables!$E$6,Tables!$F$6,IF('Données mensuelles'!N70=Tables!$E$7,Tables!$F$7,IF('Données mensuelles'!N70=Tables!$E$8,Tables!$F$8,IF('Données mensuelles'!N70=Tables!$E$9,Tables!$F$9,IF('Données mensuelles'!N70=Tables!$E$10,Tables!$F$10,IF('Données mensuelles'!N70=Tables!$E$11,Tables!$F$11,IF(N70=Tables!$E$12,Tables!$F$12,IF('Données mensuelles'!N70=Tables!$E$13,Tables!$F$13,IF(N70=Tables!$E$14,Tables!$F$14,IF(N70=Tables!$E$15,Tables!$F$15,IF(N70=Tables!$E$16,Tables!$F$16)))))))))))) -> 0 | S70: =IF(Q70=Tables!$E$5,Tables!$F$5,IF('Données mensuelles'!Q70=Tables!$E$6,Tables!$F$6,IF('Données mensuelles'!Q70=Tables!$E$7,Tables!$F$7,IF('Données mensuelles'!Q70=Tables!$E$8,Tables!$F$8,IF('Données mensuelles'!Q70=Tables!$E$9,Tables!$F$9,IF('Données mensuelles'!Q70=Tables!$E$10,Tables!$F$10,IF('Données mensuelles'!Q70=Tables!$E$11,Tables!$F$11,IF(Q70=Tables!$E$12,Tables!$F$12,IF('Données mensuelles'!Q70=Tables!$E$13,Tables!$F$13,IF(Q70=Tables!$E$14,Tables!$F$14,IF(Q70=Tables!$E$15,Tables!$F$15,IF(Q70=Tables!$E$16,Tables!$F$16)))))))))))) -> 0 | T70: =S70+P70+M70+J70+G70 -> 0 | X70: =T70+(V70*W70)+(U70*Tables!$E$20*W70) -> 0
G71: =IF(E71=Tables!$E$5,Tables!$F$5,IF('Données mensuelles'!E71=Tables!$E$6,Tables!$F$6,IF('Données mensuelles'!E71=Tables!$E$7,Tables!$F$7,IF('Données mensuelles'!E71=Tables!$E$8,Tables!$F$8,IF('Données mensuelles'!E71=Tables!$E$9,Tables!$F$9,IF('Données mensuelles'!E71=Tables!$E$10,Tables!$F$10,IF('Données mensuelles'!E71=Tables!$E$11,Tables!$F$11,IF(E71=Tables!$E$12,Tables!$F$12,IF('Données mensuelles'!E71=Tables!$E$13,Tables!$F$13,IF(E71=Tables!$E$14,Tables!$F$14,IF(E71=Tables!$E$15,Tables!$F$15,IF(E71=Tables!$E$16,Tables!$F$16)))))))))))) -> 0 | J71: =IF(H71=Tables!$E$5,Tables!$F$5,IF('Données mensuelles'!H71=Tables!$E$6,Tables!$F$6,IF('Données mensuelles'!H71=Tables!$E$7,Tables!$F$7,IF('Données mensuelles'!H71=Tables!$E$8,Tables!$F$8,IF('Données mensuelles'!H71=Tables!$E$9,Tables!$F$9,IF('Données mensuelles'!H71=Tables!$E$10,Tables!$F$10,IF('Données mensuelles'!H71=Tables!$E$11,Tables!$F$11,IF(H71=Tables!$E$12,Tables!$F$12,IF('Données mensuelles'!H71=Tables!$E$13,Tables!$F$13,IF(H71=Tables!$E$14,Tables!$F$14,IF(H71=Tables!$E$15,Tables!$F$15,IF(H71=Tables!$E$16,Tables!$F$16)))))))))))) -> 0 | M71: =IF(K71=Tables!$E$5,Tables!$F$5,IF('Données mensuelles'!K71=Tables!$E$6,Tables!$F$6,IF('Données mensuelles'!K71=Tables!$E$7,Tables!$F$7,IF('Données mensuelles'!K71=Tables!$E$8,Tables!$F$8,IF('Données mensuelles'!K71=Tables!$E$9,Tables!$F$9,IF('Données mensuelles'!K71=Tables!$E$10,Tables!$F$10,IF('Données mensuelles'!K71=Tables!$E$11,Tables!$F$11,IF(K71=Tables!$E$12,Tables!$F$12,IF('Données mensuelles'!K71=Tables!$E$13,Tables!$F$13,IF(K71=Tables!$E$14,Tables!$F$14,IF(K71=Tables!$E$15,Tables!$F$15,IF(K71=Tables!$E$16,Tables!$F$16)))))))))))) -> 0 | P71: =IF(N71=Tables!$E$5,Tables!$F$5,IF('Données mensuelles'!N71=Tables!$E$6,Tables!$F$6,IF('Données mensuelles'!N71=Tables!$E$7,Tables!$F$7,IF('Données mensuelles'!N71=Tables!$E$8,Tables!$F$8,IF('Données mensuelles'!N71=Tables!$E$9,Tables!$F$9,IF('Données mensuelles'!N71=Tables!$E$10,Tables!$F$10,IF('Données mensuelles'!N71=Tables!$E$11,Tables!$F$11,IF(N71=Tables!$E$12,Tables!$F$12,IF('Données mensuelles'!N71=Tables!$E$13,Tables!$F$13,IF(N71=Tables!$E$14,Tables!$F$14,IF(N71=Tables!$E$15,Tables!$F$15,IF(N71=Tables!$E$16,Tables!$F$16)))))))))))) -> 0 | S71: =IF(Q71=Tables!$E$5,Tables!$F$5,IF('Données mensuelles'!Q71=Tables!$E$6,Tables!$F$6,IF('Données mensuelles'!Q71=Tables!$E$7,Tables!$F$7,IF('Données mensuelles'!Q71=Tables!$E$8,Tables!$F$8,IF('Données mensuelles'!Q71=Tables!$E$9,Tables!$F$9,IF('Données mensuelles'!Q71=Tables!$E$10,Tables!$F$10,IF('Données mensuelles'!Q71=Tables!$E$11,Tables!$F$11,IF(Q71=Tables!$E$12,Tables!$F$12,IF('Données mensuelles'!Q71=Tables!$E$13,Tables!$F$13,IF(Q71=Tables!$E$14,Tables!$F$14,IF(Q71=Tables!$E$15,Tables!$F$15,IF(Q71=Tables!$E$16,Tables!$F$16)))))))))))) -> 0 | T71: =S71+P71+M71+J71+G71 -> 0 | X71: =T71+(V71*W71)+(U71*Tables!$E$20*W71) -> 0
W72: Total journée | X72: =SUM(X52:X71) -> 0
A75: Nom infirmier | B75: date | C75: mois | D75: JOUR
A76: jennifer | C76: =MONTH(B76) -> 1 | D76: Nom patient | E76: Soin 1 | G76: Tarification | H76: Soin 2 | J76: Tarification | K76: Soin 3 | M76: Tarification | N76: Soin 4 | P76: Tarification | Q76: Soin 5 | S76: Tarification | T76: Sous total | U76: Majoration D / F | V76: Déplacement | W76: Nombre de passages | X76: Total
C77: =MONTH(B77) -> 1 | G77: =IF(E77=Tables!$E$5,Tables!$F$5,IF('Données mensuelles'!E77=Tables!$E$6,Tables!$F$6,IF('Données mensuelles'!E77=Tables!$E$7,Tables!$F$7,IF('Données mensuelles'!E77=Tables!$E$8,Tables!$F$8,IF('Données mensuelles'!E77=Tables!$E$9,Tables!$F$9,IF('Données mensuelles'!E77=Tables!$E$10,Tables!$F$10,IF('Données mensuelles'!E77=Tables!$E$11,Tables!$F$11,IF(E77=Tables!$E$12,Tables!$F$12,IF('Données mensuelles'!E77=Tables!$E$13,Tables!$F$13,IF(E77=Tables!$E$14,Tables!$F$14,IF(E77=Tables!$E$15,Tables!$F$15,IF(E77=Tables!$E$16,Tables!$F$16)))))))))))) -> 0 | J77: =IF(H77=Tables!$E$5,Tables!$F$5,IF('Données mensuelles'!H77=Tables!$E$6,Tables!$F$6,IF('Données mensuelles'!H77=Tables!$E$7,Tables!$F$7,IF('Données mensuelles'!H77=Tables!$E$8,Tables!$F$8,IF('Données mensuelles'!H77=Tables!$E$9,Tables!$F$9,IF('Données mensuelles'!H77=Tables!$E$10,Tables!$F$10,IF('Données mensuelles'!H77=Tables!$E$11,Tables!$F$11,IF(H77=Tables!$E$12,Tables!$F$12,IF('Données mensuelles'!H77=Tables!$E$13,Tables!$F$13,IF(H77=Tables!$E$14,Tables!$F$14,IF(H77=Tables!$E$15,Tables!$F$15,IF(H77=Tables!$E$16,Tables!$F$16)))))))))))) -> 0 | M77: =IF(K77=Tables!$E$5,Tables!$F$5,IF('Données mensuelles'!K77=Tables!$E$6,Tables!$F$6,IF('Données mensuelles'!K77=Tables!$E$7,Tables!$F$7,IF('Données mensuelles'!K77=Tables!$E$8,Tables!$F$8,IF('Données mensuelles'!K77=Tables!$E$9,Tables!$F$9,IF('Données mensuelles'!K77=Tables!$E$10,Tables!$F$10,IF('Données mensuelles'!K77=Tables!$E$11,Tables!$F$11,IF(K77=Tables!$E$12,Tables!$F$12,IF('Données mensuelles'!K77=Tables!$E$13,Tables!$F$13,IF(K77=Tables!$E$14,Tables!$F$14,IF(K77=Tables!$E$15,Tables!$F$15,IF(K77=Tables!$E$16,Tables!$F$16)))))))))))) -> 0 | P77: =IF(N77=Tables!$E$5,Tables!$F$5,IF('Données mensuelles'!N77=Tables!$E$6,Tables!$F$6,IF('Données mensuelles'!N77=Tables!$E$7,Tables!$F$7,IF('Données mensuelles'!N77=Tables!$E$8,Tables!$F$8,IF('Données mensuelles'!N77=Tables!$E$9,Tables!$F$9,IF('Données mensuelles'!N77=Tables!$E$10,Tables!$F$10,IF('Données mensuelles'!N77=Tables!$E$11,Tables!$F$11,IF(N77=Tables!$E$12,Tables!$F$12,IF('Données mensuelles'!N77=Tables!$E$13,Tables!$F$13,IF(N77=Tables!$E$14,Tables!$F$14,IF(N77=Tables!$E$15,Tables!$F$15,IF(N77=Tables!$E$16,Tables!$F$16)))))))))))) -> 0 | S77: =IF(Q77=Tables!$E$5,Tables!$F$5,IF('Données mensuelles'!Q77=Tables!$E$6,Tables!$F$6,IF('Données mensuelles'!Q77=Tables!$E$7,Tables!$F$7,IF('Données mensuelles'!Q77=Tables!$E$8,Tables!$F$8,IF('Données mensuelles'!Q77=Tables!$E$9,Tables!$F$9,IF('Données mensuelles'!Q77=Tables!$E$10,Tables!$F$10,IF('Données mensuelles'!Q77=Tables!$E$11,Tables!$F$11,IF(Q77=Tables!$E$12,Tables!$F$12,IF('Données mensuelles'!Q77=Tables!$E$13,Tables!$F$13,IF(Q77=Tables!$E$14,Tables!$F$14,IF(Q77=Tables!$E$15,Tables!$F$15,IF(Q77=Tables!$E$16,Tables!$F$16)))))))))))) -> 0 | T77: =S77+P77+M77+J77+G77 -> 0 | X77: =T77+(V77*W77)+(U77*Tables!$E$20*W77) -> 0
C78: =MONTH(B78) -> 1 | G78: =IF(E78=Tables!$E$5,Tables!$F$5,IF('Données mensuelles'!E78=Tables!$E$6,Tables!$F$6,IF('Données mensuelles'!E78=Tables!$E$7,Tables!$F$7,IF('Données mensuelles'!E78=Tables!$E$8,Tables!$F$8,IF('Données mensuelles'!E78=Tables!$E$9,Tables!$F$9,IF('Données mensuelles'!E78=Tables!$E$10,Tables!$F$10,IF('Données mensuelles'!E78=Tables!$E$11,Tables!$F$11,IF(E78=Tables!$E$12,Tables!$F$12,IF('Données mensuelles'!E78=Tables!$E$13,Tables!$F$13,IF(E78=Tables!$E$14,Tables!$F$14,IF(E78=Tables!$E$15,Tables!$F$15,IF(E78=Tables!$E$16,Tables!$F$16)))))))))))) -> 0 | J78: =IF(H78=Tables!$E$5,Tables!$F$5,IF('Données mensuelles'!H78=Tables!$E$6,Tables!$F$6,IF('Données mensuelles'!H78=Tables!$E$7,Tables!$F$7,IF('Données mensuelles'!H78=Tables!$E$8,Tables!$F$8,IF('Données mensuelles'!H78=Tables!$E$9,Tables!$F$9,IF('Données mensuelles'!H78=Tables!$E$10,Tables!$F$10,IF('Données mensuelles'!H78=Tables!$E$11,Tables!$F$11,IF(H78=Tables!$E$12,Tables!$F$12,IF('Données mensuelles'!H78=Tables!$E$13,Tables!$F$13,IF(H78=Tables!$E$14,Tables!$F$14,IF(H78=Tables!$E$15,Tables!$F$15,IF(H78=Tables!$E$16,Tables!$F$16)))))))))))) -> 0 | M78: =IF(K78=Tables!$E$5,Tables!$F$5,IF('Données mensuelles'!K78=Tables!$E$6,Tables!$F$6,IF('Données mensuelles'!K78=Tables!$E$7,Tables!$F$7,IF('Données mensuelles'!K78=Tables!$E$8,Tables!$F$8,IF('Données mensuelles'!K78=Tables!$E$9,Tables!$F$9,IF('Données mensuelles'!K78=Tables!$E$10,Tables!$F$10,IF('Données mensuelles'!K78=Tables!$E$11,Tables!$F$11,IF(K78=Tables!$E$12,Tables!$F$12,IF('Données mensuelles'!K78=Tables!$E$13,Tables!$F$13,IF(K78=Tables!$E$14,Tables!$F$14,IF(K78=Tables!$E$15,Tables!$F$15,IF(K78=Tables!$E$16,Tables!$F$16)))))))))))) -> 0 | P78: =IF(N78=Tables!$E$5,Tables!$F$5,IF('Données mensuelles'!N78=Tables!$E$6,Tables!$F$6,IF('Données mensuelles'!N78=Tables!$E$7,Tables!$F$7,IF('Données mensuelles'!N78=Tables!$E$8,Tables!$F$8,IF('Données mensuelles'!N78=Tables!$E$9,Tables!$F$9,IF('Données mensuelles'!N78=Tables!$E$10,Tables!$F$10,IF('Données mensuelles'!N78=Tables!$E$11,Tables!$F$11,IF(N78=Tables!$E$12,Tables!$F$12,IF('Données mensuelles'!N78=Tables!$E$13,Tables!$F$13,IF(N78=Tables!$E$14,Tables!$F$14,IF(N78=Tables!$E$15,Tables!$F$15,IF(N78=Tables!$E$16,Tables!$F$16)))))))))))) -> 0 | S78: =IF(Q78=Tables!$E$5,Tables!$F$5,IF('Données mensuelles'!Q78=Tables!$E$6,Tables!$F$6,IF('Données mensuelles'!Q78=Tables!$E$7,Tables!$F$7,IF('Données mensuelles'!Q78=Tables!$E$8,Tables!$F$8,IF('Données mensuelles'!Q78=Tables!$E$9,Tables!$F$9,IF('Données mensuelles'!Q78=Tables!$E$10,Tables!$F$10,IF('Données mensuelles'!Q78=Tables!$E$11,Tables!$F$11,IF(Q78=Tables!$E$12,Tables!$F$12,IF('Données mensuelles'!Q78=Tables!$E$13,Tables!$F$13,IF(Q78=Tables!$E$14,Tables!$F$14,IF(Q78=Tables!$E$15,Tables!$F$15,IF(Q78=Tables!$E$16,Tables!$F$16)))))))))))) -> 0 | T78: =S78+P78+M78+J78+G78 -> 0 | X78: =T78+(V78*W78)+(U78*Tables!$E$20*W78) -> 0
C79: =MONTH(B79) -> 1 | G79: =IF(E79=Tables!$E$5,Tables!$F$5,IF('Données mensuelles'!E79=Tables!$E$6,Tables!$F$6,IF('Données mensuelles'!E79=Tables!$E$7,Tables!$F$7,IF('Données mensuelles'!E79=Tables!$E$8,Tables!$F$8,IF('Données mensuelles'!E79=Tables!$E$9,Tables!$F$9,IF('Données mensuelles'!E79=Tables!$E$10,Tables!$F$10,IF('Données mensuelles'!E79=Tables!$E$11,Tables!$F$11,IF(E79=Tables!$E$12,Tables!$F$12,IF('Données mensuelles'!E79=Tables!$E$13,Tables!$F$13,IF(E79=Tables!$E$14,Tables!$F$14,IF(E79=Tables!$E$15,Tables!$F$15,IF(E79=Tables!$E$16,Tables!$F$16)))))))))))) -> 0 | J79: =IF(H79=Tables!$E$5,Tables!$F$5,IF('Données mensuelles'!H79=Tables!$E$6,Tables!$F$6,IF('Données mensuelles'!H79=Tables!$E$7,Tables!$F$7,IF('Données mensuelles'!H79=Tables!$E$8,Tables!$F$8,IF('Données mensuelles'!H79=Tables!$E$9,Tables!$F$9,IF('Données mensuelles'!H79=Tables!$E$10,Tables!$F$10,IF('Données mensuelles'!H79=Tables!$E$11,Tables!$F$11,IF(H79=Tables!$E$12,Tables!$F$12,IF('Données mensuelles'!H79=Tables!$E$13,Tables!$F$13,IF(H79=Tables!$E$14,Tables!$F$14,IF(H79=Tables!$E$15,Tables!$F$15,IF(H79=Tables!$E$16,Tables!$F$16)))))))))))) -> 0 | M79: =IF(K79=Tables!$E$5,Tables!$F$5,IF('Données mensuelles'!K79=Tables!$E$6,Tables!$F$6,IF('Données mensuelles'!K79=Tables!$E$7,Tables!$F$7,IF('Données mensuelles'!K79=Tables!$E$8,Tables!$F$8,IF('Données mensuelles'!K79=Tables!$E$9,Tables!$F$9,IF('Données mensuelles'!K79=Tables!$E$10,Tables!$F$10,IF('Données mensuelles'!K79=Tables!$E$11,Tables!$F$11,IF(K79=Tables!$E$12,Tables!$F$12,IF('Données mensuelles'!K79=Tables!$E$13,Tables!$F$13,IF(K79=Tables!$E$14,Tables!$F$14,IF(K79=Tables!$E$15,Tables!$F$15,IF(K79=Tables!$E$16,Tables!$F$16)))))))))))) -> 0 | P79: =IF(N79=Tables!$E$5,Tables!$F$5,IF('Données mensuelles'!N79=Tables!$E$6,Tables!$F$6,IF('Données mensuelles'!N79=Tables!$E$7,Tables!$F$7,IF('Données mensuelles'!N79=Tables!$E$8,Tables!$F$8,IF('Données mensuelles'!N79=Tables!$E$9,Tables!$F$9,IF('Données mensuelles'!N79=Tables!$E$10,Tables!$F$10,IF('Données mensuelles'!N79=Tables!$E$11,Tables!$F$11,IF(N79=Tables!$E$12,Tables!$F$12,IF('Données mensuelles'!N79=Tables!$E$13,Tables!$F$13,IF(N79=Tables!$E$14,Tables!$F$14,IF(N79=Tables!$E$15,Tables!$F$15,IF(N79=Tables!$E$16,Tables!$F$16)))))))))))) -> 0 | S79: =IF(Q79=Tables!$E$5,Tables!$F$5,IF('Données mensuelles'!Q79=Tables!$E$6,Tables!$F$6,IF('Données mensuelles'!Q79=Tables!$E$7,Tables!$F$7,IF('Données mensuelles'!Q79=Tables!$E$8,Tables!$F$8,IF('Données mensuelles'!Q79=Tables!$E$9,Tables!$F$9,IF('Données mensuelles'!Q79=Tables!$E$10,Tables!$F$10,IF('Données mensuelles'!Q79=Tables!$E$11,Tables!$F$11,IF(Q79=Tables!$E$12,Tables!$F$12,IF('Données mensuelles'!Q79=Tables!$E$13,Tables!$F$13,IF(Q79=Tables!$E$14,Tables!$F$14,IF(Q79=Tables!$E$15,Tables!$F$15,IF(Q79=Tables!$E$16,Tables!$F$16)))))))))))) -> 0 | T79: =S79+P79+M79+J79+G79 -> 0 | X79: =T79+(V79*W79)+(U79*Tables!$E$20*W79) -> 0
C80: =MONTH(B80) -> 1 | G80: =IF(E80=Tables!$E$5,Tables!$F$5,IF('Données mensuelles'!E80=Tables!$E$6,Tables!$F$6,IF('Données mensuelles'!E80=Tables!$E$7,Tables!$F$7,IF('Données mensuelles'!E80=Tables!$E$8,Tables!$F$8,IF('Données mensuelles'!E80=Tables!$E$9,Tables!$F$9,IF('Données mensuelles'!E80=Tables!$E$10,Tables!$F$10,IF('Données mensuelles'!E80=Tables!$E$11,Tables!$F$11,IF(E80=Tables!$E$12,Tables!$F$12,IF('Données mensuelles'!E80=Tables!$E$13,Tables!$F$13,IF(E80=Tables!$E$14,Tables!$F$14,IF(E80=Tables!$E$15,Tables!$F$15,IF(E80=Tables!$E$16,Tables!$F$16)))))))))))) -> 0 | J80: =IF(H80=Tables!$E$5,Tables!$F$5,IF('Données mensuelles'!H80=Tables!$E$6,Tables!$F$6,IF('Données mensuelles'!H80=Tables!$E$7,Tables!$F$7,IF('Données mensuelles'!H80=Tables!$E$8,Tables!$F$8,IF('Données mensuelles'!H80=Tables!$E$9,Tables!$F$9,IF('Données mensuelles'!H80=Tables!$E$10,Tables!$F$10,IF('Données mensuelles'!H80=Tables!$E$11,Tables!$F$11,IF(H80=Tables!$E$12,Tables!$F$12,IF('Données mensuelles'!H80=Tables!$E$13,Tables!$F$13,IF(H80=Tables!$E$14,Tables!$F$14,IF(H80=Tables!$E$15,Tables!$F$15,IF(H80=Tables!$E$16,Tables!$F$16)))))))))))) -> 0 | M80: =IF(K80=Tables!$E$5,Tables!$F$5,IF('Données mensuelles'!K80=Tables!$E$6,Tables!$F$6,IF('Données mensuelles'!K80=Tables!$E$7,Tables!$F$7,IF('Données mensuelles'!K80=Tables!$E$8,Tables!$F$8,IF('Données mensuelles'!K80=Tables!$E$9,Tables!$F$9,IF('Données mensuelles'!K80=Tables!$E$10,Tables!$F$10,IF('Données mensuelles'!K80=Tables!$E$11,Tables!$F$11,IF(K80=Tables!$E$12,Tables!$F$12,IF('Données mensuelles'!K80=Tables!$E$13,Tables!$F$13,IF(K80=Tables!$E$14,Tables!$F$14,IF(K80=Tables!$E$15,Tables!$F$15,IF(K80=Tables!$E$16,Tables!$F$16)))))))))))) -> 0 | P80: =IF(N80=Tables!$E$5,Tables!$F$5,IF('Données mensuelles'!N80=Tables!$E$6,Tables!$F$6,IF('Données mensuelles'!N80=Tables!$E$7,Tables!$F$7,IF('Données mensuelles'!N80=Tables!$E$8,Tables!$F$8,IF('Données mensuelles'!N80=Tables!$E$9,Tables!$F$9,IF('Données mensuelles'!N80=Tables!$E$10,Tables!$F$10,IF('Données mensuelles'!N80=Tables!$E$11,Tables!$F$11,IF(N80=Tables!$E$12,Tables!$F$12,IF('Données mensuelles'!N80=Tables!$E$13,Tables!$F$13,IF(N80=Tables!$E$14,Tables!$F$14,IF(N80=Tables!$E$15,Tables!$F$15,IF(N80=Tables!$E$16,Tables!$F$16)))))))))))) -> 0 | S80: =IF(Q80=Tables!$E$5,Tables!$F$5,IF('Données mensuelles'!Q80=Tables!$E$6,Tables!$F$6,IF('Données mensuelles'!Q80=Tables!$E$7,Tables!$F$7,IF('Données mensuelles'!Q80=Tables!$E$8,Tables!$F$8,IF('Données mensuelles'!Q80=Tables!$E$9,Tables!$F$9,IF('Données mensuelles'!Q80=Tables!$E$10,Tables!$F$10,IF('Données mensuelles'!Q80=Tables!$E$11,Tables!$F$11,IF(Q80=Tables!$E$12,Tables!$F$12,IF('Données mensuelles'!Q80=Tables!$E$13,Tables!$F$13,IF(Q80=Tables!$E$14,Tables!$F$14,IF(Q80=Tables!$E$15,Tables!$F$15,IF(Q80=Tables!$E$16,Tables!$F$16)))))))))))) -> 0 | T80: =S80+P80+M80+J80+G80 -> 0 | X80: =T80+(V80*W80)+(U80*Tables!$E$20*W80) -> 0
C81: =MONTH(B81) -> 1 | G81: =IF(E81=Tables!$E$5,Tables!$F$5,IF('Données mensuelles'!E81=Tables!$E$6,Tables!$F$6,IF('Données mensuelles'!E81=Tables!$E$7,Tables!$F$7,IF('Données mensuelles'!E81=Tables!$E$8,Tables!$F$8,IF('Données mensuelles'!E81=Tables!$E$9,Tables!$F$9,IF('Données mensuelles'!E81=Tables!$E$10,Tables!$F$10,IF('Données mensuelles'!E81=Tables!$E$11,Tables!$F$11,IF(E81=Tables!$E$12,Tables!$F$12,IF('Données mensuelles'!E81=Tables!$E$13,Tables!$F$13,IF(E81=Tables!$E$14,Tables!$F$14,IF(E81=Tables!$E$15,Tables!$F$15,IF(E81=Tables!$E$16,Tables!$F$16)))))))))))) -> 0 | J81: =IF(H81=Tables!$E$5,Tables!$F$5,IF('Données mensuelles'!H81=Tables!$E$6,Tables!$F$6,IF('Données mensuelles'!H81=Tables!$E$7,Tables!$F$7,IF('Données mensuelles'!H81=Tables!$E$8,Tables!$F$8,IF('Données mensuelles'!H81=Tables!$E$9,Tables!$F$9,IF('Données mensuelles'!H81=Tables!$E$10,Tables!$F$10,IF('Données mensuelles'!H81=Tables!$E$11,Tables!$F$11,IF(H81=Tables!$E$12,Tables!$F$12,IF('Données mensuelles'!H81=Tables!$E$13,Tables!$F$13,IF(H81=Tables!$E$14,Tables!$F$14,IF(H81=Tables!$E$15,Tables!$F$15,IF(H81=Tables!$E$16,Tables!$F$16)))))))))))) -> 0 | M81: =IF(K81=Tables!$E$5,Tables!$F$5,IF('Données mensuelles'!K81=Tables!$E$6,Tables!$F$6,IF('Données mensuelles'!K81=Tables!$E$7,Tables!$F$7,IF('Données mensuelles'!K81=Tables!$E$8,Tables!$F$8,IF('Données mensuelles'!K81=Tables!$E$9,Tables!$F$9,IF('Données mensuelles'!K81=Tables!$E$10,Tables!$F$10,IF('Données mensuelles'!K81=Tables!$E$11,Tables!$F$11,IF(K81=Tables!$E$12,Tables!$F$12,IF('Données mensuelles'!K81=Tables!$E$13,Tables!$F$13,IF(K81=Tables!$E$14,Tables!$F$14,IF(K81=Tables!$E$15,Tables!$F$15,IF(K81=Tables!$E$16,Tables!$F$16)))))))))))) -> 0 | P81: =IF(N81=Tables!$E$5,Tables!$F$5,IF('Données mensuelles'!N81=Tables!$E$6,Tables!$F$6,IF('Données mensuelles'!N81=Tables!$E$7,Tables!$F$7,IF('Données mensuelles'!N81=Tables!$E$8,Tables!$F$8,IF('Données mensuelles'!N81=Tables!$E$9,Tables!$F$9,IF('Données mensuelles'!N81=Tables!$E$10,Tables!$F$10,IF('Données mensuelles'!N81=Tables!$E$11,Tables!$F$11,IF(N81=Tables!$E$12,Tables!$F$12,IF('Données mensuelles'!N81=Tables!$E$13,Tables!$F$13,IF(N81=Tables!$E$14,Tables!$F$14,IF(N81=Tables!$E$15,Tables!$F$15,IF(N81=Tables!$E$16,Tables!$F$16)))))))))))) -> 0 | S81: =IF(Q81=Tables!$E$5,Tables!$F$5,IF('Données mensuelles'!Q81=Tables!$E$6,Tables!$F$6,IF('Données mensuelles'!Q81=Tables!$E$7,Tables!$F$7,IF('Données mensuelles'!Q81=Tables!$E$8,Tables!$F$8,IF('Données mensuelles'!Q81=Tables!$E$9,Tables!$F$9,IF('Données mensuelles'!Q81=Tables!$E$10,Tables!$F$10,IF('Données mensuelles'!Q81=Tables!$E$11,Tables!$F$11,IF(Q81=Tables!$E$12,Tables!$F$12,IF('Données mensuelles'!Q81=Tables!$E$13,Tables!$F$13,IF(Q81=Tables!$E$14,Tables!$F$14,IF(Q81=Tables!$E$15,Tables!$F$15,IF(Q81=Tables!$E$16,Tables!$F$16)))))))))))) -> 0 | T81: =S81+P81+M81+J81+G81 -> 0 | X81: =T81+(V81*W81)+(U81*Tables!$E$20*W81) -> 0
C82: =MONTH(B82) -> 1 | G82: =IF(E82=Tables!$E$5,Tables!$F$5,IF('Données mensuelles'!E82=Tables!$E$6,Tables!$F$6,IF('Données mensuelles'!E82=Tables!$E$7,Tables!$F$7,IF('Données mensuelles'!E82=Tables!$E$8,Tables!$F$8,IF('Données mensuelles'!E82=Tables!$E$9,Tables!$F$9,IF('Données mensuelles'!E82=Tables!$E$10,Tables!$F$10,IF('Données mensuelles'!E82=Tables!$E$11,Tables!$F$11,IF(E82=Tables!$E$12,Tables!$F$12,IF('Données mensuelles'!E82=Tables!$E$13,Tables!$F$13,IF(E82=Tables!$E$14,Tables!$F$14,IF(E82=Tables!$E$15,Tables!$F$15,IF(E82=Tables!$E$16,Tables!$F$16)))))))))))) -> 0 | J82: =IF(H82=Tables!$E$5,Tables!$F$5,IF('Données mensuelles'!H82=Tables!$E$6,Tables!$F$6,IF('Données mensuelles'!H82=Tables!$E$7,Tables!$F$7,IF('Données mensuelles'!H82=Tables!$E$8,Tables!$F$8,IF('Données mensuelles'!H82=Tables!$E$9,Tables!$F$9,IF('Données mensuelles'!H82=Tables!$E$10,Tables!$F$10,IF('Données mensuelles'!H82=Tables!$E$11,Tables!$F$11,IF(H82=Tables!$E$12,Tables!$F$12,IF('Données mensuelles'!H82=Tables!$E$13,Tables!$F$13,IF(H82=Tables!$E$14,Tables!$F$14,IF(H82=Tables!$E$15,Tables!$F$15,IF(H82=Tables!$E$16,Tables!$F$16)))))))))))) -> 0 | M82: =IF(K82=Tables!$E$5,Tables!$F$5,IF('Données mensuelles'!K82=Tables!$E$6,Tables!$F$6,IF('Données mensuelles'!K82=Tables!$E$7,Tables!$F$7,IF('Données mensuelles'!K82=Tables!$E$8,Tables!$F$8,IF('Données mensuelles'!K82=Tables!$E$9,Tables!$F$9,IF('Données mensuelles'!K82=Tables!$E$10,Tables!$F$10,IF('Données mensuelles'!K82=Tables!$E$11,Tables!$F$11,IF(K82=Tables!$E$12,Tables!$F$12,IF('Données mensuelles'!K82=Tables!$E$13,Tables!$F$13,IF(K82=Tables!$E$14,Tables!$F$14,IF(K82=Tables!$E$15,Tables!$F$15,IF(K82=Tables!$E$16,Tables!$F$16)))))))))))) -> 0 | P82: =IF(N82=Tables!$E$5,Tables!$F$5,IF('Données mensuelles'!N82=Tables!$E$6,Tables!$F$6,IF('Données mensuelles'!N82=Tables!$E$7,Tables!$F$7,IF('Données mensuelles'!N82=Tables!$E$8,Tables!$F$8,IF('Données mensuelles'!N82=Tables!$E$9,Tables!$F$9,IF('Données mensuelles'!N82=Tables!$E$10,Tables!$F$10,IF('Données mensuelles'!N82=Tables!$E$11,Tables!$F$11,IF(N82=Tables!$E$12,Tables!$F$12,IF('Données mensuelles'!N82=Tables!$E$13,Tables!$F$13,IF(N82=Tables!$E$14,Tables!$F$14,IF(N82=Tables!$E$15,Tables!$F$15,IF(N82=Tables!$E$16,Tables!$F$16)))))))))))) -> 0 | S82: =IF(Q82=Tables!$E$5,Tables!$F$5,IF('Données mensuelles'!Q82=Tables!$E$6,Tables!$F$6,IF('Données mensuelles'!Q82=Tables!$E$7,Tables!$F$7,IF('Données mensuelles'!Q82=Tables!$E$8,Tables!$F$8,IF('Données mensuelles'!Q82=Tables!$E$9,Tables!$F$9,IF('Données mensuelles'!Q82=Tables!$E$10,Tables!$F$10,IF('Données mensuelles'!Q82=Tables!$E$11,Tables!$F$11,IF(Q82=Tables!$E$12,Tables!$F$12,IF('Données mensuelles'!Q82=Tables!$E$13,Tables!$F$13,IF(Q82=Tables!$E$14,Tables!$F$14,IF(Q82=Tables!$E$15,Tables!$F$15,IF(Q82=Tables!$E$16,Tables!$F$16)))))))))))) -> 0 | T82: =S82+P82+M82+J82+G82 -> 0 | X82: =T82+(V82*W82)+(U82*Tables!$E$20*W82) -> 0
C83: =MONTH(B83) -> 1 | G83: =IF(E83=Tables!$E$5,Tables!$F$5,IF('Données mensuelles'!E83=Tables!$E$6,Tables!$F$6,IF('Données mensuelles'!E83=Tables!$E$7,Tables!$F$7,IF('Données mensuelles'!E83=Tables!$E$8,Tables!$F$8,IF('Données mensuelles'!E83=Tables!$E$9,Tables!$F$9,IF('Données mensuelles'!E83=Tables!$E$10,Tables!$F$10,IF('Données mensuelles'!E83=Tables!$E$11,Tables!$F$11,IF(E83=Tables!$E$12,Tables!$F$12,IF('Données mensuelles'!E83=Tables!$E$13,Tables!$F$13,IF(E83=Tables!$E$14,Tables!$F$14,IF(E83=Tables!$E$15,Tables!$F$15,IF(E83=Tables!$E$16,Tables!$F$16)))))))))))) -> 0 | J83: =IF(H83=Tables!$E$5,Tables!$F$5,IF('Données mensuelles'!H83=Tables!$E$6,Tables!$F$6,IF('Données mensuelles'!H83=Tables!$E$7,Tables!$F$7,IF('Données mensuelles'!H83=Tables!$E$8,Tables!$F$8,IF('Données mensuelles'!H83=Tables!$E$9,Tables!$F$9,IF('Données mensuelles'!H83=Tables!$E$10,Tables!$F$10,IF('Données mensuelles'!H83=Tables!$E$11,Tables!$F$11,IF(H83=Tables!$E$12,Tables!$F$12,IF('Données mensuelles'!H83=Tables!$E$13,Tables!$F$13,IF(H83=Tables!$E$14,Tables!$F$14,IF(H83=Tables!$E$15,Tables!$F$15,IF(H83=Tables!$E$16,Tables!$F$16)))))))))))) -> 0 | M83: =IF(K83=Tables!$E$5,Tables!$F$5,IF('Données mensuelles'!K83=Tables!$E$6,Tables!$F$6,IF('Données mensuelles'!K83=Tables!$E$7,Tables!$F$7,IF('Données mensuelles'!K83=Tables!$E$8,Tables!$F$8,IF('Données mensuelles'!K83=Tables!$E$9,Tables!$F$9,IF('Données mensuelles'!K83=Tables!$E$10,Tables!$F$10,IF('Données mensuelles'!K83=Tables!$E$11,Tables!$F$11,IF(K83=Tables!$E$12,Tables!$F$12,IF('Données mensuelles'!K83=Tables!$E$13,Tables!$F$13,IF(K83=Tables!$E$14,Tables!$F$14,IF(K83=Tables!$E$15,Tables!$F$15,IF(K83=Tables!$E$16,Tables!$F$16)))))))))))) -> 0 | P83: =IF(N83=Tables!$E$5,Tables!$F$5,IF('Données mensuelles'!N83=Tables!$E$6,Tables!$F$6,IF('Données mensuelles'!N83=Tables!$E$7,Tables!$F$7,IF('Données mensuelles'!N83=Tables!$E$8,Tables!$F$8,IF('Données mensuelles'!N83=Tables!$E$9,Tables!$F$9,IF('Données mensuelles'!N83=Tables!$E$10,Tables!$F$10,IF('Données mensuelles'!N83=Tables!$E$11,Tables!$F$11,IF(N83=Tables!$E$12,Tables!$F$12,IF('Données mensuelles'!N83=Tables!$E$13,Tables!$F$13,IF(N83=Tables!$E$14,Tables!$F$14,IF(N83=Tables!$E$15,Tables!$F$15,IF(N83=Tables!$E$16,Tables!$F$16)))))))))))) -> 0 | S83: =IF(Q83=Tables!$E$5,Tables!$F$5,IF('Données mensuelles'!Q83=Tables!$E$6,Tables!$F$6,IF('Données mensuelles'!Q83=Tables!$E$7,Tables!$F$7,IF('Données mensuelles'!Q83=Tables!$E$8,Tables!$F$8,IF('Données mensuelles'!Q83=Tables!$E$9,Tables!$F$9,IF('Données mensuelles'!Q83=Tables!$E$10,Tables!$F$10,IF('Données mensuelles'!Q83=Tables!$E$11,Tables!$F$11,IF(Q83=Tables!$E$12,Tables!$F$12,IF('Données mensuelles'!Q83=Tables!$E$13,Tables!$F$13,IF(Q83=Tables!$E$14,Tables!$F$14,IF(Q83=Tables!$E$15,Tables!$F$15,IF(Q83=Tables!$E$16,Tables!$F$16)))))))))))) -> 0 | T83: =S83+P83+M83+J83+G83 -> 0 | X83: =T83+(V83*W83)+(U83*Tables!$E$20*W83) -> 0
G84: =IF(E84=Tables!$E$5,Tables!$F$5,IF('Données mensuelles'!E84=Tables!$E$6,Tables!$F$6,IF('Données mensuelles'!E84=Tables!$E$7,Tables!$F$7,IF('Données mensuelles'!E84=Tables!$E$8,Tables!$F$8,IF('Données mensuelles'!E84=Tables!$E$9,Tables!$F$9,IF('Données mensuelles'!E84=Tables!$E$10,Tables!$F$10,IF('Données mensuelles'!E84=Tables!$E$11,Tables!$F$11,IF(E84=Tables!$E$12,Tables!$F$12,IF('Données mensuelles'!E84=Tables!$E$13,Tables!$F$13,IF(E84=Tables!$E$14,Tables!$F$14,IF(E84=Tables!$E$15,Tables!$F$15,IF(E84=Tables!$E$16,Tables!$F$16)))))))))))) -> 0 | J84: =IF(H84=Tables!$E$5,Tables!$F$5,IF('Données mensuelles'!H84=Tables!$E$6,Tables!$F$6,IF('Données mensuelles'!H84=Tables!$E$7,Tables!$F$7,IF('Données mensuelles'!H84=Tables!$E$8,Tables!$F$8,IF('Données mensuelles'!H84=Tables!$E$9,Tables!$F$9,IF('Données mensuelles'!H84=Tables!$E$10,Tables!$F$10,IF('Données mensuelles'!H84=Tables!$E$11,Tables!$F$11,IF(H84=Tables!$E$12,Tables!$F$12,IF('Données mensuelles'!H84=Tables!$E$13,Tables!$F$13,IF(H84=Tables!$E$14,Tables!$F$14,IF(H84=Tables!$E$15,Tables!$F$15,IF(H84=Tables!$E$16,Tables!$F$16)))))))))))) -> 0 | M84: =IF(K84=Tables!$E$5,Tables!$F$5,IF('Données mensuelles'!K84=Tables!$E$6,Tables!$F$6,IF('Données mensuelles'!K84=Tables!$E$7,Tables!$F$7,IF('Données mensuelles'!K84=Tables!$E$8,Tables!$F$8,IF('Données mensuelles'!K84=Tables!$E$9,Tables!$F$9,IF('Données mensuelles'!K84=Tables!$E$10,Tables!$F$10,IF('Données mensuelles'!K84=Tables!$E$11,Tables!$F$11,IF(K84=Tables!$E$12,Tables!$F$12,IF('Données mensuelles'!K84=Tables!$E$13,Tables!$F$13,IF(K84=Tables!$E$14,Tables!$F$14,IF(K84=Tables!$E$15,Tables!$F$15,IF(K84=Tables!$E$16,Tables!$F$16)))))))))))) -> 0 | P84: =IF(N84=Tables!$E$5,Tables!$F$5,IF('Données mensuelles'!N84=Tables!$E$6,Tables!$F$6,IF('Données mensuelles'!N84=Tables!$E$7,Tables!$F$7,IF('Données mensuelles'!N84=Tables!$E$8,Tables!$F$8,IF('Données mensuelles'!N84=Tables!$E$9,Tables!$F$9,IF('Données mensuelles'!N84=Tables!$E$10,Tables!$F$10,IF('Données mensuelles'!N84=Tables!$E$11,Tables!$F$11,IF(N84=Tables!$E$12,Tables!$F$12,IF('Données mensuelles'!N84=Tables!$E$13,Tables!$F$13,IF(N84=Tables!$E$14,Tables!$F$14,IF(N84=Tables!$E$15,Tables!$F$15,IF(N84=Tables!$E$16,Tables!$F$16)))))))))))) -> 0 | S84: =IF(Q84=Tables!$E$5,Tables!$F$5,IF('Données mensuelles'!Q84=Tables!$E$6,Tables!$F$6,IF('Données mensuelles'!Q84=Tables!$E$7,Tables!$F$7,IF('Données mensuelles'!Q84=Tables!$E$8,Tables!$F$8,IF('Données mensuelles'!Q84=Tables!$E$9,Tables!$F$9,IF('Données mensuelles'!Q84=Tables!$E$10,Tables!$F$10,IF('Données mensuelles'!Q84=Tables!$E$11,Tables!$F$11,IF(Q84=Tables!$E$12,Tables!$F$12,IF('Données mensuelles'!Q84=Tables!$E$13,Tables!$F$13,IF(Q84=Tables!$E$14,Tables!$F$14,IF(Q84=Tables!$E$15,Tables!$F$15,IF(Q84=Tables!$E$16,Tables!$F$16)))))))))))) -> 0 | T84: =S84+P84+M84+J84+G84 -> 0 | X84: =T84+(V84*W84)+(U84*Tables!$E$20*W84) -> 0
G85: =IF(E85=Tables!$E$5,Tables!$F$5,IF('Données mensuelles'!E85=Tables!$E$6,Tables!$F$6,IF('Données mensuelles'!E85=Tables!$E$7,Tables!$F$7,IF('Données mensuelles'!E85=Tables!$E$8,Tables!$F$8,IF('Données mensuelles'!E85=Tables!$E$9,Tables!$F$9,IF('Données mensuelles'!E85=Tables!$E$10,Tables!$F$10,IF('Données mensuelles'!E85=Tables!$E$11,Tables!$F$11,IF(E85=Tables!$E$12,Tables!$F$12,IF('Données mensuelles'!E85=Tables!$E$13,Tables!$F$13,IF(E85=Tables!$E$14,Tables!$F$14,IF(E85=Tables!$E$15,Tables!$F$15,IF(E85=Tables!$E$16,Tables!$F$16)))))))))))) -> 0 | J85: =IF(H85=Tables!$E$5,Tables!$F$5,IF('Données mensuelles'!H85=Tables!$E$6,Tables!$F$6,IF('Données mensuelles'!H85=Tables!$E$7,Tables!$F$7,IF('Données mensuelles'!H85=Tables!$E$8,Tables!$F$8,IF('Données mensuelles'!H85=Tables!$E$9,Tables!$F$9,IF('Données mensuelles'!H85=Tables!$E$10,Tables!$F$10,IF('Données mensuelles'!H85=Tables!$E$11,Tables!$F$11,IF(H85=Tables!$E$12,Tables!$F$12,IF('Données mensuelles'!H85=Tables!$E$13,Tables!$F$13,IF(H85=Tables!$E$14,Tables!$F$14,IF(H85=Tables!$E$15,Tables!$F$15,IF(H85=Tables!$E$16,Tables!$F$16)))))))))))) -> 0 | M85: =IF(K85=Tables!$E$5,Tables!$F$5,IF('Données mensuelles'!K85=Tables!$E$6,Tables!$F$6,IF('Données mensuelles'!K85=Tables!$E$7,Tables!$F$7,IF('Données mensuelles'!K85=Tables!$E$8,Tables!$F$8,IF('Données mensuelles'!K85=Tables!$E$9,Tables!$F$9,IF('Données mensuelles'!K85=Tables!$E$10,Tables!$F$10,IF('Données mensuelles'!K85=Tables!$E$11,Tables!$F$11,IF(K85=Tables!$E$12,Tables!$F$12,IF('Données mensuelles'!K85=Tables!$E$13,Tables!$F$13,IF(K85=Tables!$E$14,Tables!$F$14,IF(K85=Tables!$E$15,Tables!$F$15,IF(K85=Tables!$E$16,Tables!$F$16)))))))))))) -> 0 | P85: =IF(N85=Tables!$E$5,Tables!$F$5,IF('Données mensuelles'!N85=Tables!$E$6,Tables!$F$6,IF('Données mensuelles'!N85=Tables!$E$7,Tables!$F$7,IF('Données mensuelles'!N85=Tables!$E$8,Tables!$F$8,IF('Données mensuelles'!N85=Tables!$E$9,Tables!$F$9,IF('Données mensuelles'!N85=Tables!$E$10,Tables!$F$10,IF('Données mensuelles'!N85=Tables!$E$11,Tables!$F$11,IF(N85=Tables!$E$12,Tables!$F$12,IF('Données mensuelles'!N85=Tables!$E$13,Tables!$F$13,IF(N85=Tables!$E$14,Tables!$F$14,IF(N85=Tables!$E$15,Tables!$F$15,IF(N85=Tables!$E$16,Tables!$F$16)))))))))))) -> 0 | S85: =IF(Q85=Tables!$E$5,Tables!$F$5,IF('Données mensuelles'!Q85=Tables!$E$6,Tables!$F$6,IF('Données mensuelles'!Q85=Tables!$E$7,Tables!$F$7,IF('Données mensuelles'!Q85=Tables!$E$8,Tables!$F$8,IF('Données mensuelles'!Q85=Tables!$E$9,Tables!$F$9,IF('Données mensuelles'!Q85=Tables!$E$10,Tables!$F$10,IF('Données mensuelles'!Q85=Tables!$E$11,Tables!$F$11,IF(Q85=Tables!$E$12,Tables!$F$12,IF('Données mensuelles'!Q85=Tables!$E$13,Tables!$F$13,IF(Q85=Tables!$E$14,Tables!$F$14,IF(Q85=Tables!$E$15,Tables!$F$15,IF(Q85=Tables!$E$16,Tables!$F$16)))))))))))) -> 0 | T85: =S85+P85+M85+J85+G85 -> 0 | X85: =T85+(V85*W85)+(U85*Tables!$E$20*W85) -> 0
G86: =IF(E86=Tables!$E$5,Tables!$F$5,IF('Données mensuelles'!E86=Tables!$E$6,Tables!$F$6,IF('Données mensuelles'!E86=Tables!$E$7,Tables!$F$7,IF('Données mensuelles'!E86=Tables!$E$8,Tables!$F$8,IF('Données mensuelles'!E86=Tables!$E$9,Tables!$F$9,IF('Données mensuelles'!E86=Tables!$E$10,Tables!$F$10,IF('Données mensuelles'!E86=Tables!$E$11,Tables!$F$11,IF(E86=Tables!$E$12,Tables!$F$12,IF('Données mensuelles'!E86=Tables!$E$13,Tables!$F$13,IF(E86=Tables!$E$14,Tables!$F$14,IF(E86=Tables!$E$15,Tables!$F$15,IF(E86=Tables!$E$16,Tables!$F$16)))))))))))) -> 0 | J86: =IF(H86=Tables!$E$5,Tables!$F$5,IF('Données mensuelles'!H86=Tables!$E$6,Tables!$F$6,IF('Données mensuelles'!H86=Tables!$E$7,Tables!$F$7,IF('Données mensuelles'!H86=Tables!$E$8,Tables!$F$8,IF('Données mensuelles'!H86=Tables!$E$9,Tables!$F$9,IF('Données mensuelles'!H86=Tables!$E$10,Tables!$F$10,IF('Données mensuelles'!H86=Tables!$E$11,Tables!$F$11,IF(H86=Tables!$E$12,Tables!$F$12,IF('Données mensuelles'!H86=Tables!$E$13,Tables!$F$13,IF(H86=Tables!$E$14,Tables!$F$14,IF(H86=Tables!$E$15,Tables!$F$15,IF(H86=Tables!$E$16,Tables!$F$16)))))))))))) -> 0 | M86: =IF(K86=Tables!$E$5,Tables!$F$5,IF('Données mensuelles'!K86=Tables!$E$6,Tables!$F$6,IF('Données mensuelles'!K86=Tables!$E$7,Tables!$F$7,IF('Données mensuelles'!K86=Tables!$E$8,Tables!$F$8,IF('Données mensuelles'!K86=Tables!$E$9,Tables!$F$9,IF('Données mensuelles'!K86=Tables!$E$10,Tables!$F$10,IF('Données mensuelles'!K86=Tables!$E$11,Tables!$F$11,IF(K86=Tables!$E$12,Tables!$F$12,IF('Données mensuelles'!K86=Tables!$E$13,Tables!$F$13,IF(K86=Tables!$E$14,Tables!$F$14,IF(K86=Tables!$E$15,Tables!$F$15,IF(K86=Tables!$E$16,Tables!$F$16)))))))))))) -> 0 | P86: =IF(N86=Tables!$E$5,Tables!$F$5,IF('Données mensuelles'!N86=Tables!$E$6,Tables!$F$6,IF('Données mensuelles'!N86=Tables!$E$7,Tables!$F$7,IF('Données mensuelles'!N86=Tables!$E$8,Tables!$F$8,IF('Données mensuelles'!N86=Tables!$E$9,Tables!$F$9,IF('Données mensuelles'!N86=Tables!$E$10,Tables!$F$10,IF('Données mensuelles'!N86=Tables!$E$11,Tables!$F$11,IF(N86=Tables!$E$12,Tables!$F$12,IF('Données mensuelles'!N86=Tables!$E$13,Tables!$F$13,IF(N86=Tables!$E$14,Tables!$F$14,IF(N86=Tables!$E$15,Tables!$F$15,IF(N86=Tables!$E$16,Tables!$F$16)))))))))))) -> 0 | S86: =IF(Q86=Tables!$E$5,Tables!$F$5,IF('Données mensuelles'!Q86=Tables!$E$6,Tables!$F$6,IF('Données mensuelles'!Q86=Tables!$E$7,Tables!$F$7,IF('Données mensuelles'!Q86=Tables!$E$8,Tables!$F$8,IF('Données mensuelles'!Q86=Tables!$E$9,Tables!$F$9,IF('Données mensuelles'!Q86=Tables!$E$10,Tables!$F$10,IF('Données mensuelles'!Q86=Tables!$E$11,Tables!$F$11,IF(Q86=Tables!$E$12,Tables!$F$12,IF('Données mensuelles'!Q86=Tables!$E$13,Tables!$F$13,IF(Q86=Tables!$E$14,Tables!$F$14,IF(Q86=Tables!$E$15,Tables!$F$15,IF(Q86=Tables!$E$16,Tables!$F$16)))))))))))) -> 0 | T86: =S86+P86+M86+J86+G86 -> 0 | X86: =T86+(V86*W86)+(U86*Tables!$E$20*W86) -> 0
G87: =IF(E87=Tables!$E$5,Tables!$F$5,IF('Données mensuelles'!E87=Tables!$E$6,Tables!$F$6,IF('Données mensuelles'!E87=Tables!$E$7,Tables!$F$7,IF('Données mensuelles'!E87=Tables!$E$8,Tables!$F$8,IF('Données mensuelles'!E87=Tables!$E$9,Tables!$F$9,IF('Données mensuelles'!E87=Tables!$E$10,Tables!$F$10,IF('Données mensuelles'!E87=Tables!$E$11,Tables!$F$11,IF(E87=Tables!$E$12,Tables!$F$12,IF('Données mensuelles'!E87=Tables!$E$13,Tables!$F$13,IF(E87=Tables!$E$14,Tables!$F$14,IF(E87=Tables!$E$15,Tables!$F$15,IF(E87=Tables!$E$16,Tables!$F$16)))))))))))) -> 0 | J87: =IF(H87=Tables!$E$5,Tables!$F$5,IF('Données mensuelles'!H87=Tables!$E$6,Tables!$F$6,IF('Données mensuelles'!H87=Tables!$E$7,Tables!$F$7,IF('Données mensuelles'!H87=Tables!$E$8,Tables!$F$8,IF('Données mensuelles'!H87=Tables!$E$9,Tables!$F$9,IF('Données mensuelles'!H87=Tables!$E$10,Tables!$F$10,IF('Données mensuelles'!H87=Tables!$E$11,Tables!$F$11,IF(H87=Tables!$E$12,Tables!$F$12,IF('Données mensuelles'!H87=Tables!$E$13,Tables!$F$13,IF(H87=Tables!$E$14,Tables!$F$14,IF(H87=Tables!$E$15,Tables!$F$15,IF(H87=Tables!$E$16,Tables!$F$16)))))))))))) -> 0 | M87: =IF(K87=Tables!$E$5,Tables!$F$5,IF('Données mensuelles'!K87=Tables!$E$6,Tables!$F$6,IF('Données mensuelles'!K87=Tables!$E$7,Tables!$F$7,IF('Données mensuelles'!K87=Tables!$E$8,Tables!$F$8,IF('Données mensuelles'!K87=Tables!$E$9,Tables!$F$9,IF('Données mensuelles'!K87=Tables!$E$10,Tables!$F$10,IF('Données mensuelles'!K87=Tables!$E$11,Tables!$F$11,IF(K87=Tables!$E$12,Tables!$F$12,IF('Données mensuelles'!K87=Tables!$E$13,Tables!$F$13,IF(K87=Tables!$E$14,Tables!$F$14,IF(K87=Tables!$E$15,Tables!$F$15,IF(K87=Tables!$E$16,Tables!$F$16)))))))))))) -> 0 | P87: =IF(N87=Tables!$E$5,Tables!$F$5,IF('Données mensuelles'!N87=Tables!$E$6,Tables!$F$6,IF('Données mensuelles'!N87=Tables!$E$7,Tables!$F$7,IF('Données mensuelles'!N87=Tables!$E$8,Tables!$F$8,IF('Données mensuelles'!N87=Tables!$E$9,Tables!$F$9,IF('Données mensuelles'!N87=Tables!$E$10,Tables!$F$10,IF('Données mensuelles'!N87=Tables!$E$11,Tables!$F$11,IF(N87=Tables!$E$12,Tables!$F$12,IF('Données mensuelles'!N87=Tables!$E$13,Tables!$F$13,IF(N87=Tables!$E$14,Tables!$F$14,IF(N87=Tables!$E$15,Tables!$F$15,IF(N87=Tables!$E$16,Tables!$F$16)))))))))))) -> 0 | S87: =IF(Q87=Tables!$E$5,Tables!$F$5,IF('Données mensuelles'!Q87=Tables!$E$6,Tables!$F$6,IF('Données mensuelles'!Q87=Tables!$E$7,Tables!$F$7,IF('Données mensuelles'!Q87=Tables!$E$8,Tables!$F$8,IF('Données mensuelles'!Q87=Tables!$E$9,Tables!$F$9,IF('Données mensuelles'!Q87=Tables!$E$10,Tables!$F$10,IF('Données mensuelles'!Q87=Tables!$E$11,Tables!$F$11,IF(Q87=Tables!$E$12,Tables!$F$12,IF('Données mensuelles'!Q87=Tables!$E$13,Tables!$F$13,IF(Q87=Tables!$E$14,Tables!$F$14,IF(Q87=Tables!$E$15,Tables!$F$15,IF(Q87=Tables!$E$16,Tables!$F$16)))))))))))) -> 0 | T87: =S87+P87+M87+J87+G87 -> 0 | X87: =T87+(V87*W87)+(U87*Tables!$E$20*W87) -> 0
G88: =IF(E88=Tables!$E$5,Tables!$F$5,IF('Données mensuelles'!E88=Tables!$E$6,Tables!$F$6,IF('Données mensuelles'!E88=Tables!$E$7,Tables!$F$7,IF('Données mensuelles'!E88=Tables!$E$8,Tables!$F$8,IF('Données mensuelles'!E88=Tables!$E$9,Tables!$F$9,IF('Données mensuelles'!E88=Tables!$E$10,Tables!$F$10,IF('Données mensuelles'!E88=Tables!$E$11,Tables!$F$11,IF(E88=Tables!$E$12,Tables!$F$12,IF('Données mensuelles'!E88=Tables!$E$13,Tables!$F$13,IF(E88=Tables!$E$14,Tables!$F$14,IF(E88=Tables!$E$15,Tables!$F$15,IF(E88=Tables!$E$16,Tables!$F$16)))))))))))) -> 0 | J88: =IF(H88=Tables!$E$5,Tables!$F$5,IF('Données mensuelles'!H88=Tables!$E$6,Tables!$F$6,IF('Données mensuelles'!H88=Tables!$E$7,Tables!$F$7,IF('Données mensuelles'!H88=Tables!$E$8,Tables!$F$8,IF('Données mensuelles'!H88=Tables!$E$9,Tables!$F$9,IF('Données mensuelles'!H88=Tables!$E$10,Tables!$F$10,IF('Données mensuelles'!H88=Tables!$E$11,Tables!$F$11,IF(H88=Tables!$E$12,Tables!$F$12,IF('Données mensuelles'!H88=Tables!$E$13,Tables!$F$13,IF(H88=Tables!$E$14,Tables!$F$14,IF(H88=Tables!$E$15,Tables!$F$15,IF(H88=Tables!$E$16,Tables!$F$16)))))))))))) -> 0 | M88: =IF(K88=Tables!$E$5,Tables!$F$5,IF('Données mensuelles'!K88=Tables!$E$6,Tables!$F$6,IF('Données mensuelles'!K88=Tables!$E$7,Tables!$F$7,IF('Données mensuelles'!K88=Tables!$E$8,Tables!$F$8,IF('Données mensuelles'!K88=Tables!$E$9,Tables!$F$9,IF('Données mensuelles'!K88=Tables!$E$10,Tables!$F$10,IF('Données mensuelles'!K88=Tables!$E$11,Tables!$F$11,IF(K88=Tables!$E$12,Tables!$F$12,IF('Données mensuelles'!K88=Tables!$E$13,Tables!$F$13,IF(K88=Tables!$E$14,Tables!$F$14,IF(K88=Tables!$E$15,Tables!$F$15,IF(K88=Tables!$E$16,Tables!$F$16)))))))))))) -> 0 | P88: =IF(N88=Tables!$E$5,Tables!$F$5,IF('Données mensuelles'!N88=Tables!$E$6,Tables!$F$6,IF('Données mensuelles'!N88=Tables!$E$7,Tables!$F$7,IF('Données mensuelles'!N88=Tables!$E$8,Tables!$F$8,IF('Données mensuelles'!N88=Tables!$E$9,Tables!$F$9,IF('Données mensuelles'!N88=Tables!$E$10,Tables!$F$10,IF('Données mensuelles'!N88=Tables!$E$11,Tables!$F$11,IF(N88=Tables!$E$12,Tables!$F$12,IF('Données mensuelles'!N88=Tables!$E$13,Tables!$F$13,IF(N88=Tables!$E$14,Tables!$F$14,IF(N88=Tables!$E$15,Tables!$F$15,IF(N88=Tables!$E$16,Tables!$F$16)))))))))))) -> 0 | S88: =IF(Q88=Tables!$E$5,Tables!$F$5,IF('Données mensuelles'!Q88=Tables!$E$6,Tables!$F$6,IF('Données mensuelles'!Q88=Tables!$E$7,Tables!$F$7,IF('Données mensuelles'!Q88=Tables!$E$8,Tables!$F$8,IF('Données mensuelles'!Q88=Tables!$E$9,Tables!$F$9,IF('Données mensuelles'!Q88=Tables!$E$10,Tables!$F$10,IF('Données mensuelles'!Q88=Tables!$E$11,Tables!$F$11,IF(Q88=Tables!$E$12,Tables!$F$12,IF('Données mensuelles'!Q88=Tables!$E$13,Tables!$F$13,IF(Q88=Tables!$E$14,Tables!$F$14,IF(Q88=Tables!$E$15,Tables!$F$15,IF(Q88=Tables!$E$16,Tables!$F$16)))))))))))) -> 0 | T88: =S88+P88+M88+J88+G88 -> 0 | X88: =T88+(V88*W88)+(U88*Tables!$E$20*W88) -> 0
G89: =IF(E89=Tables!$E$5,Tables!$F$5,IF('Données mensuelles'!E89=Tables!$E$6,Tables!$F$6,IF('Données mensuelles'!E89=Tables!$E$7,Tables!$F$7,IF('Données mensuelles'!E89=Tables!$E$8,Tables!$F$8,IF('Données mensuelles'!E89=Tables!$E$9,Tables!$F$9,IF('Données mensuelles'!E89=Tables!$E$10,Tables!$F$10,IF('Données mensuelles'!E89=Tables!$E$11,Tables!$F$11,IF(E89=Tables!$E$12,Tables!$F$12,IF('Données mensuelles'!E89=Tables!$E$13,Tables!$F$13,IF(E89=Tables!$E$14,Tables!$F$14,IF(E89=Tables!$E$15,Tables!$F$15,IF(E89=Tables!$E$16,Tables!$F$16)))))))))))) -> 0 | J89: =IF(H89=Tables!$E$5,Tables!$F$5,IF('Données mensuelles'!H89=Tables!$E$6,Tables!$F$6,IF('Données mensuelles'!H89=Tables!$E$7,Tables!$F$7,IF('Données mensuelles'!H89=Tables!$E$8,Tables!$F$8,IF('Données mensuelles'!H89=Tables!$E$9,Tables!$F$9,IF('Données mensuelles'!H89=Tables!$E$10,Tables!$F$10,IF('Données mensuelles'!H89=Tables!$E$11,Tables!$F$11,IF(H89=Tables!$E$12,Tables!$F$12,IF('Données mensuelles'!H89=Tables!$E$13,Tables!$F$13,IF(H89=Tables!$E$14,Tables!$F$14,IF(H89=Tables!$E$15,Tables!$F$15,IF(H89=Tables!$E$16,Tables!$F$16)))))))))))) -> 0 | M89: =IF(K89=Tables!$E$5,Tables!$F$5,IF('Données mensuelles'!K89=Tables!$E$6,Tables!$F$6,IF('Données mensuelles'!K89=Tables!$E$7,Tables!$F$7,IF('Données mensuelles'!K89=Tables!$E$8,Tables!$F$8,IF('Données mensuelles'!K89=Tables!$E$9,Tables!$F$9,IF('Données mensuelles'!K89=Tables!$E$10,Tables!$F$10,IF('Données mensuelles'!K89=Tables!$E$11,Tables!$F$11,IF(K89=Tables!$E$12,Tables!$F$12,IF('Données mensuelles'!K89=Tables!$E$13,Tables!$F$13,IF(K89=Tables!$E$14,Tables!$F$14,IF(K89=Tables!$E$15,Tables!$F$15,IF(K89=Tables!$E$16,Tables!$F$16)))))))))))) -> 0 | P89: =IF(N89=Tables!$E$5,Tables!$F$5,IF('Données mensuelles'!N89=Tables!$E$6,Tables!$F$6,IF('Données mensuelles'!N89=Tables!$E$7,Tables!$F$7,IF('Données mensuelles'!N89=Tables!$E$8,Tables!$F$8,IF('Données mensuelles'!N89=Tables!$E$9,Tables!$F$9,IF('Données mensuelles'!N89=Tables!$E$10,Tables!$F$10,IF('Données mensuelles'!N89=Tables!$E$11,Tables!$F$11,IF(N89=Tables!$E$12,Tables!$F$12,IF('Données mensuelles'!N89=Tables!$E$13,Tables!$F$13,IF(N89=Tables!$E$14,Tables!$F$14,IF(N89=Tables!$E$15,Tables!$F$15,IF(N89=Tables!$E$16,Tables!$F$16)))))))))))) -> 0 | S89: =IF(Q89=Tables!$E$5,Tables!$F$5,IF('Données mensuelles'!Q89=Tables!$E$6,Tables!$F$6,IF('Données mensuelles'!Q89=Tables!$E$7,Tables!$F$7,IF('Données mensuelles'!Q89=Tables!$E$8,Tables!$F$8,IF('Données mensuelles'!Q89=Tables!$E$9,Tables!$F$9,IF('Données mensuelles'!Q89=Tables!$E$10,Tables!$F$10,IF('Données mensuelles'!Q89=Tables!$E$11,Tables!$F$11,IF(Q89=Tables!$E$12,Tables!$F$12,IF('Données mensuelles'!Q89=Tables!$E$13,Tables!$F$13,IF(Q89=Tables!$E$14,Tables!$F$14,IF(Q89=Tables!$E$15,Tables!$F$15,IF(Q89=Tables!$E$16,Tables!$F$16)))))))))))) -> 0 | T89: =S89+P89+M89+J89+G89 -> 0 | X89: =T89+(V89*W89)+(U89*Tables!$E$20*W89) -> 0
G90: =IF(E90=Tables!$E$5,Tables!$F$5,IF('Données mensuelles'!E90=Tables!$E$6,Tables!$F$6,IF('Données mensuelles'!E90=Tables!$E$7,Tables!$F$7,IF('Données mensuelles'!E90=Tables!$E$8,Tables!$F$8,IF('Données mensuelles'!E90=Tables!$E$9,Tables!$F$9,IF('Données mensuelles'!E90=Tables!$E$10,Tables!$F$10,IF('Données mensuelles'!E90=Tables!$E$11,Tables!$F$11,IF(E90=Tables!$E$12,Tables!$F$12,IF('Données mensuelles'!E90=Tables!$E$13,Tables!$F$13,IF(E90=Tables!$E$14,Tables!$F$14,IF(E90=Tables!$E$15,Tables!$F$15,IF(E90=Tables!$E$16,Tables!$F$16)))))))))))) -> 0 | J90: =IF(H90=Tables!$E$5,Tables!$F$5,IF('Données mensuelles'!H90=Tables!$E$6,Tables!$F$6,IF('Données mensuelles'!H90=Tables!$E$7,Tables!$F$7,IF('Données mensuelles'!H90=Tables!$E$8,Tables!$F$8,IF('Données mensuelles'!H90=Tables!$E$9,Tables!$F$9,IF('Données mensuelles'!H90=Tables!$E$10,Tables!$F$10,IF('Données mensuelles'!H90=Tables!$E$11,Tables!$F$11,IF(H90=Tables!$E$12,Tables!$F$12,IF('Données mensuelles'!H90=Tables!$E$13,Tables!$F$13,IF(H90=Tables!$E$14,Tables!$F$14,IF(H90=Tables!$E$15,Tables!$F$15,IF(H90=Tables!$E$16,Tables!$F$16)))))))))))) -> 0 | M90: =IF(K90=Tables!$E$5,Tables!$F$5,IF('Données mensuelles'!K90=Tables!$E$6,Tables!$F$6,IF('Données mensuelles'!K90=Tables!$E$7,Tables!$F$7,IF('Données mensuelles'!K90=Tables!$E$8,Tables!$F$8,IF('Données mensuelles'!K90=Tables!$E$9,Tables!$F$9,IF('Données mensuelles'!K90=Tables!$E$10,Tables!$F$10,IF('Données mensuelles'!K90=Tables!$E$11,Tables!$F$11,IF(K90=Tables!$E$12,Tables!$F$12,IF('Données mensuelles'!K90=Tables!$E$13,Tables!$F$13,IF(K90=Tables!$E$14,Tables!$F$14,IF(K90=Tables!$E$15,Tables!$F$15,IF(K90=Tables!$E$16,Tables!$F$16)))))))))))) -> 0 | P90: =IF(N90=Tables!$E$5,Tables!$F$5,IF('Données mensuelles'!N90=Tables!$E$6,Tables!$F$6,IF('Données mensuelles'!N90=Tables!$E$7,Tables!$F$7,IF('Données mensuelles'!N90=Tables!$E$8,Tables!$F$8,IF('Données mensuelles'!N90=Tables!$E$9,Tables!$F$9,IF('Données mensuelles'!N90=Tables!$E$10,Tables!$F$10,IF('Données mensuelles'!N90=Tables!$E$11,Tables!$F$11,IF(N90=Tables!$E$12,Tables!$F$12,IF('Données mensuelles'!N90=Tables!$E$13,Tables!$F$13,IF(N90=Tables!$E$14,Tables!$F$14,IF(N90=Tables!$E$15,Tables!$F$15,IF(N90=Tables!$E$16,Tables!$F$16)))))))))))) -> 0 | S90: =IF(Q90=Tables!$E$5,Tables!$F$5,IF('Données mensuelles'!Q90=Tables!$E$6,Tables!$F$6,IF('Données mensuelles'!Q90=Tables!$E$7,Tables!$F$7,IF('Données mensuelles'!Q90=Tables!$E$8,Tables!$F$8,IF('Données mensuelles'!Q90=Tables!$E$9,Tables!$F$9,IF('Données mensuelles'!Q90=Tables!$E$10,Tables!$F$10,IF('Données mensuelles'!Q90=Tables!$E$11,Tables!$F$11,IF(Q90=Tables!$E$12,Tables!$F$12,IF('Données mensuelles'!Q90=Tables!$E$13,Tables!$F$13,IF(Q90=Tables!$E$14,Tables!$F$14,IF(Q90=Tables!$E$15,Tables!$F$15,IF(Q90=Tables!$E$16,Tables!$F$16)))))))))))) -> 0 | T90: =S90+P90+M90+J90+G90 -> 0 | X90: =T90+(V90*W90)+(U90*Tables!$E$20*W90) -> 0
G91: =IF(E91=Tables!$E$5,Tables!$F$5,IF('Données mensuelles'!E91=Tables!$E$6,Tables!$F$6,IF('Données mensuelles'!E91=Tables!$E$7,Tables!$F$7,IF('Données mensuelles'!E91=Tables!$E$8,Tables!$F$8,IF('Données mensuelles'!E91=Tables!$E$9,Tables!$F$9,IF('Données mensuelles'!E91=Tables!$E$10,Tables!$F$10,IF('Données mensuelles'!E91=Tables!$E$11,Tables!$F$11,IF(E91=Tables!$E$12,Tables!$F$12,IF('Données mensuelles'!E91=Tables!$E$13,Tables!$F$13,IF(E91=Tables!$E$14,Tables!$F$14,IF(E91=Tables!$E$15,Tables!$F$15,IF(E91=Tables!$E$16,Tables!$F$16)))))))))))) -> 0 | J91: =IF(H91=Tables!$E$5,Tables!$F$5,IF('Données mensuelles'!H91=Tables!$E$6,Tables!$F$6,IF('Données mensuelles'!H91=Tables!$E$7,Tables!$F$7,IF('Données mensuelles'!H91=Tables!$E$8,Tables!$F$8,IF('Données mensuelles'!H91=Tables!$E$9,Tables!$F$9,IF('Données mensuelles'!H91=Tables!$E$10,Tables!$F$10,IF('Données mensuelles'!H91=Tables!$E$11,Tables!$F$11,IF(H91=Tables!$E$12,Tables!$F$12,IF('Données mensuelles'!H91=Tables!$E$13,Tables!$F$13,IF(H91=Tables!$E$14,Tables!$F$14,IF(H91=Tables!$E$15,Tables!$F$15,IF(H91=Tables!$E$16,Tables!$F$16)))))))))))) -> 0 | M91: =IF(K91=Tables!$E$5,Tables!$F$5,IF('Données mensuelles'!K91=Tables!$E$6,Tables!$F$6,IF('Données mensuelles'!K91=Tables!$E$7,Tables!$F$7,IF('Données mensuelles'!K91=Tables!$E$8,Tables!$F$8,IF('Données mensuelles'!K91=Tables!$E$9,Tables!$F$9,IF('Données mensuelles'!K91=Tables!$E$10,Tables!$F$10,IF('Données mensuelles'!K91=Tables!$E$11,Tables!$F$11,IF(K91=Tables!$E$12,Tables!$F$12,IF('Données mensuelles'!K91=Tables!$E$13,Tables!$F$13,IF(K91=Tables!$E$14,Tables!$F$14,IF(K91=Tables!$E$15,Tables!$F$15,IF(K91=Tables!$E$16,Tables!$F$16)))))))))))) -> 0 | P91: =IF(N91=Tables!$E$5,Tables!$F$5,IF('Données mensuelles'!N91=Tables!$E$6,Tables!$F$6,IF('Données mensuelles'!N91=Tables!$E$7,Tables!$F$7,IF('Données mensuelles'!N91=Tables!$E$8,Tables!$F$8,IF('Données mensuelles'!N91=Tables!$E$9,Tables!$F$9,IF('Données mensuelles'!N91=Tables!$E$10,Tables!$F$10,IF('Données mensuelles'!N91=Tables!$E$11,Tables!$F$11,IF(N91=Tables!$E$12,Tables!$F$12,IF('Données mensuelles'!N91=Tables!$E$13,Tables!$F$13,IF(N91=Tables!$E$14,Tables!$F$14,IF(N91=Tables!$E$15,Tables!$F$15,IF(N91=Tables!$E$16,Tables!$F$16)))))))))))) -> 0 | S91: =IF(Q91=Tables!$E$5,Tables!$F$5,IF('Données mensuelles'!Q91=Tables!$E$6,Tables!$F$6,IF('Données mensuelles'!Q91=Tables!$E$7,Tables!$F$7,IF('Données mensuelles'!Q91=Tables!$E$8,Tables!$F$8,IF('Données mensuelles'!Q91=Tables!$E$9,Tables!$F$9,IF('Données mensuelles'!Q91=Tables!$E$10,Tables!$F$10,IF('Données mensuelles'!Q91=Tables!$E$11,Tables!$F$11,IF(Q91=Tables!$E$12,Tables!$F$12,IF('Données mensuelles'!Q91=Tables!$E$13,Tables!$F$13,IF(Q91=Tables!$E$14,Tables!$F$14,IF(Q91=Tables!$E$15,Tables!$F$15,IF(Q91=Tables!$E$16,Tables!$F$16)))))))))))) -> 0 | T91: =S91+P91+M91+J91+G91 -> 0 | X91: =T91+(V91*W91)+(U91*Tables!$E$20*W91) -> 0
G92: =IF(E92=Tables!$E$5,Tables!$F$5,IF('Données mensuelles'!E92=Tables!$E$6,Tables!$F$6,IF('Données mensuelles'!E92=Tables!$E$7,Tables!$F$7,IF('Données mensuelles'!E92=Tables!$E$8,Tables!$F$8,IF('Données mensuelles'!E92=Tables!$E$9,Tables!$F$9,IF('Données mensuelles'!E92=Tables!$E$10,Tables!$F$10,IF('Données mensuelles'!E92=Tables!$E$11,Tables!$F$11,IF(E92=Tables!$E$12,Tables!$F$12,IF('Données mensuelles'!E92=Tables!$E$13,Tables!$F$13,IF(E92=Tables!$E$14,Tables!$F$14,IF(E92=Tables!$E$15,Tables!$F$15,IF(E92=Tables!$E$16,Tables!$F$16)))))))))))) -> 0 | J92: =IF(H92=Tables!$E$5,Tables!$F$5,IF('Données mensuelles'!H92=Tables!$E$6,Tables!$F$6,IF('Données mensuelles'!H92=Tables!$E$7,Tables!$F$7,IF('Données mensuelles'!H92=Tables!$E$8,Tables!$F$8,IF('Données mensuelles'!H92=Tables!$E$9,Tables!$F$9,IF('Données mensuelles'!H92=Tables!$E$10,Tables!$F$10,IF('Données mensuelles'!H92=Tables!$E$11,Tables!$F$11,IF(H92=Tables!$E$12,Tables!$F$12,IF('Données mensuelles'!H92=Tables!$E$13,Tables!$F$13,IF(H92=Tables!$E$14,Tables!$F$14,IF(H92=Tables!$E$15,Tables!$F$15,IF(H92=Tables!$E$16,Tables!$F$16)))))))))))) -> 0 | M92: =IF(K92=Tables!$E$5,Tables!$F$5,IF('Données mensuelles'!K92=Tables!$E$6,Tables!$F$6,IF('Données mensuelles'!K92=Tables!$E$7,Tables!$F$7,IF('Données mensuelles'!K92=Tables!$E$8,Tables!$F$8,IF('Données mensuelles'!K92=Tables!$E$9,Tables!$F$9,IF('Données mensuelles'!K92=Tables!$E$10,Tables!$F$10,IF('Données mensuelles'!K92=Tables!$E$11,Tables!$F$11,IF(K92=Tables!$E$12,Tables!$F$12,IF('Données mensuelles'!K92=Tables!$E$13,Tables!$F$13,IF(K92=Tables!$E$14,Tables!$F$14,IF(K92=Tables!$E$15,Tables!$F$15,IF(K92=Tables!$E$16,Tables!$F$16)))))))))))) -> 0 | P92: =IF(N92=Tables!$E$5,Tables!$F$5,IF('Données mensuelles'!N92=Tables!$E$6,Tables!$F$6,IF('Données mensuelles'!N92=Tables!$E$7,Tables!$F$7,IF('Données mensuelles'!N92=Tables!$E$8,Tables!$F$8,IF('Données mensuelles'!N92=Tables!$E$9,Tables!$F$9,IF('Données mensuelles'!N92=Tables!$E$10,Tables!$F$10,IF('Données mensuelles'!N92=Tables!$E$11,Tables!$F$11,IF(N92=Tables!$E$12,Tables!$F$12,IF('Données mensuelles'!N92=Tables!$E$13,Tables!$F$13,IF(N92=Tables!$E$14,Tables!$F$14,IF(N92=Tables!$E$15,Tables!$F$15,IF(N92=Tables!$E$16,Tables!$F$16)))))))))))) -> 0 | S92: =IF(Q92=Tables!$E$5,Tables!$F$5,IF('Données mensuelles'!Q92=Tables!$E$6,Tables!$F$6,IF('Données mensuelles'!Q92=Tables!$E$7,Tables!$F$7,IF('Données mensuelles'!Q92=Tables!$E$8,Tables!$F$8,IF('Données mensuelles'!Q92=Tables!$E$9,Tables!$F$9,IF('Données mensuelles'!Q92=Tables!$E$10,Tables!$F$10,IF('Données mensuelles'!Q92=Tables!$E$11,Tables!$F$11,IF(Q92=Tables!$E$12,Tables!$F$12,IF('Données mensuelles'!Q92=Tables!$E$13,Tables!$F$13,IF(Q92=Tables!$E$14,Tables!$F$14,IF(Q92=Tables!$E$15,Tables!$F$15,IF(Q92=Tables!$E$16,Tables!$F$16)))))))))))) -> 0 | T92: =S92+P92+M92+J92+G92 -> 0 | X92: =T92+(V92*W92)+(U92*Tables!$E$20*W92) -> 0
G93: =IF(E93=Tables!$E$5,Tables!$F$5,IF('Données mensuelles'!E93=Tables!$E$6,Tables!$F$6,IF('Données mensuelles'!E93=Tables!$E$7,Tables!$F$7,IF('Données mensuelles'!E93=Tables!$E$8,Tables!$F$8,IF('Données mensuelles'!E93=Tables!$E$9,Tables!$F$9,IF('Données mensuelles'!E93=Tables!$E$10,Tables!$F$10,IF('Données mensuelles'!E93=Tables!$E$11,Tables!$F$11,IF(E93=Tables!$E$12,Tables!$F$12,IF('Données mensuelles'!E93=Tables!$E$13,Tables!$F$13,IF(E93=Tables!$E$14,Tables!$F$14,IF(E93=Tables!$E$15,Tables!$F$15,IF(E93=Tables!$E$16,Tables!$F$16)))))))))))) -> 0 | J93: =IF(H93=Tables!$E$5,Tables!$F$5,IF('Données mensuelles'!H93=Tables!$E$6,Tables!$F$6,IF('Données mensuelles'!H93=Tables!$E$7,Tables!$F$7,IF('Données mensuelles'!H93=Tables!$E$8,Tables!$F$8,IF('Données mensuelles'!H93=Tables!$E$9,Tables!$F$9,IF('Données mensuelles'!H93=Tables!$E$10,Tables!$F$10,IF('Données mensuelles'!H93=Tables!$E$11,Tables!$F$11,IF(H93=Tables!$E$12,Tables!$F$12,IF('Données mensuelles'!H93=Tables!$E$13,Tables!$F$13,IF(H93=Tables!$E$14,Tables!$F$14,IF(H93=Tables!$E$15,Tables!$F$15,IF(H93=Tables!$E$16,Tables!$F$16)))))))))))) -> 0 | M93: =IF(K93=Tables!$E$5,Tables!$F$5,IF('Données mensuelles'!K93=Tables!$E$6,Tables!$F$6,IF('Données mensuelles'!K93=Tables!$E$7,Tables!$F$7,IF('Données mensuelles'!K93=Tables!$E$8,Tables!$F$8,IF('Données mensuelles'!K93=Tables!$E$9,Tables!$F$9,IF('Données mensuelles'!K93=Tables!$E$10,Tables!$F$10,IF('Données mensuelles'!K93=Tables!$E$11,Tables!$F$11,IF(K93=Tables!$E$12,Tables!$F$12,IF('Données mensuelles'!K93=Tables!$E$13,Tables!$F$13,IF(K93=Tables!$E$14,Tables!$F$14,IF(K93=Tables!$E$15,Tables!$F$15,IF(K93=Tables!$E$16,Tables!$F$16)))))))))))) -> 0 | P93: =IF(N93=Tables!$E$5,Tables!$F$5,IF('Données mensuelles'!N93=Tables!$E$6,Tables!$F$6,IF('Données mensuelles'!N93=Tables!$E$7,Tables!$F$7,IF('Données mensuelles'!N93=Tables!$E$8,Tables!$F$8,IF('Données mensuelles'!N93=Tables!$E$9,Tables!$F$9,IF('Données mensuelles'!N93=Tables!$E$10,Tables!$F$10,IF('Données mensuelles'!N93=Tables!$E$11,Tables!$F$11,IF(N93=Tables!$E$12,Tables!$F$12,IF('Données mensuelles'!N93=Tables!$E$13,Tables!$F$13,IF(N93=Tables!$E$14,Tables!$F$14,IF(N93=Tables!$E$15,Tables!$F$15,IF(N93=Tables!$E$16,Tables!$F$16)))))))))))) -> 0 | S93: =IF(Q93=Tables!$E$5,Tables!$F$5,IF('Données mensuelles'!Q93=Tables!$E$6,Tables!$F$6,IF('Données mensuelles'!Q93=Tables!$E$7,Tables!$F$7,IF('Données mensuelles'!Q93=Tables!$E$8,Tables!$F$8,IF('Données mensuelles'!Q93=Tables!$E$9,Tables!$F$9,IF('Données mensuelles'!Q93=Tables!$E$10,Tables!$F$10,IF('Données mensuelles'!Q93=Tables!$E$11,Tables!$F$11,IF(Q93=Tables!$E$12,Tables!$F$12,IF('Données mensuelles'!Q93=Tables!$E$13,Tables!$F$13,IF(Q93=Tables!$E$14,Tables!$F$14,IF(Q93=Tables!$E$15,Tables!$F$15,IF(Q93=Tables!$E$16,Tables!$F$16)))))))))))) -> 0 | T93: =S93+P93+M93+J93+G93 -> 0 | X93: =T93+(V93*W93)+(U93*Tables!$E$20*W93) -> 0
G94: =IF(E94=Tables!$E$5,Tables!$F$5,IF('Données mensuelles'!E94=Tables!$E$6,Tables!$F$6,IF('Données mensuelles'!E94=Tables!$E$7,Tables!$F$7,IF('Données mensuelles'!E94=Tables!$E$8,Tables!$F$8,IF('Données mensuelles'!E94=Tables!$E$9,Tables!$F$9,IF('Données mensuelles'!E94=Tables!$E$10,Tables!$F$10,IF('Données mensuelles'!E94=Tables!$E$11,Tables!$F$11,IF(E94=Tables!$E$12,Tables!$F$12,IF('Données mensuelles'!E94=Tables!$E$13,Tables!$F$13,IF(E94=Tables!$E$14,Tables!$F$14,IF(E94=Tables!$E$15,Tables!$F$15,IF(E94=Tables!$E$16,Tables!$F$16)))))))))))) -> 0 | J94: =IF(H94=Tables!$E$5,Tables!$F$5,IF('Données mensuelles'!H94=Tables!$E$6,Tables!$F$6,IF('Données mensuelles'!H94=Tables!$E$7,Tables!$F$7,IF('Données mensuelles'!H94=Tables!$E$8,Tables!$F$8,IF('Données mensuelles'!H94=Tables!$E$9,Tables!$F$9,IF('Données mensuelles'!H94=Tables!$E$10,Tables!$F$10,IF('Données mensuelles'!H94=Tables!$E$11,Tables!$F$11,IF(H94=Tables!$E$12,Tables!$F$12,IF('Données mensuelles'!H94=Tables!$E$13,Tables!$F$13,IF(H94=Tables!$E$14,Tables!$F$14,IF(H94=Tables!$E$15,Tables!$F$15,IF(H94=Tables!$E$16,Tables!$F$16)))))))))))) -> 0 | M94: =IF(K94=Tables!$E$5,Tables!$F$5,IF('Données mensuelles'!K94=Tables!$E$6,Tables!$F$6,IF('Données mensuelles'!K94=Tables!$E$7,Tables!$F$7,IF('Données mensuelles'!K94=Tables!$E$8,Tables!$F$8,IF('Données mensuelles'!K94=Tables!$E$9,Tables!$F$9,IF('Données mensuelles'!K94=Tables!$E$10,Tables!$F$10,IF('Données mensuelles'!K94=Tables!$E$11,Tables!$F$11,IF(K94=Tables!$E$12,Tables!$F$12,IF('Données mensuelles'!K94=Tables!$E$13,Tables!$F$13,IF(K94=Tables!$E$14,Tables!$F$14,IF(K94=Tables!$E$15,Tables!$F$15,IF(K94=Tables!$E$16,Tables!$F$16)))))))))))) -> 0 | P94: =IF(N94=Tables!$E$5,Tables!$F$5,IF('Données mensuelles'!N94=Tables!$E$6,Tables!$F$6,IF('Données mensuelles'!N94=Tables!$E$7,Tables!$F$7,IF('Données mensuelles'!N94=Tables!$E$8,Tables!$F$8,IF('Données mensuelles'!N94=Tables!$E$9,Tables!$F$9,IF('Données mensuelles'!N94=Tables!$E$10,Tables!$F$10,IF('Données mensuelles'!N94=Tables!$E$11,Tables!$F$11,IF(N94=Tables!$E$12,Tables!$F$12,IF('Données mensuelles'!N94=Tables!$E$13,Tables!$F$13,IF(N94=Tables!$E$14,Tables!$F$14,IF(N94=Tables!$E$15,Tables!$F$15,IF(N94=Tables!$E$16,Tables!$F$16)))))))))))) -> 0 | S94: =IF(Q94=Tables!$E$5,Tables!$F$5,IF('Données mensuelles'!Q94=Tables!$E$6,Tables!$F$6,IF('Données mensuelles'!Q94=Tables!$E$7,Tables!$F$7,IF('Données mensuelles'!Q94=Tables!$E$8,Tables!$F$8,IF('Données mensuelles'!Q94=Tables!$E$9,Tables!$F$9,IF('Données mensuelles'!Q94=Tables!$E$10,Tables!$F$10,IF('Données mensuelles'!Q94=Tables!$E$11,Tables!$F$11,IF(Q94=Tables!$E$12,Tables!$F$12,IF('Données mensuelles'!Q94=Tables!$E$13,Tables!$F$13,IF(Q94=Tables!$E$14,Tables!$F$14,IF(Q94=Tables!$E$15,Tables!$F$15,IF(Q94=Tables!$E$16,Tables!$F$16)))))))))))) -> 0 | T94: =S94+P94+M94+J94+G94 -> 0 | X94: =T94+(V94*W94)+(U94*Tables!$E$20*W94) -> 0
G95: =IF(E95=Tables!$E$5,Tables!$F$5,IF('Données mensuelles'!E95=Tables!$E$6,Tables!$F$6,IF('Données mensuelles'!E95=Tables!$E$7,Tables!$F$7,IF('Données mensuelles'!E95=Tables!$E$8,Tables!$F$8,IF('Données mensuelles'!E95=Tables!$E$9,Tables!$F$9,IF('Données mensuelles'!E95=Tables!$E$10,Tables!$F$10,IF('Données mensuelles'!E95=Tables!$E$11,Tables!$F$11,IF(E95=Tables!$E$12,Tables!$F$12,IF('Données mensuelles'!E95=Tables!$E$13,Tables!$F$13,IF(E95=Tables!$E$14,Tables!$F$14,IF(E95=Tables!$E$15,Tables!$F$15,IF(E95=Tables!$E$16,Tables!$F$16)))))))))))) -> 0 | J95: =IF(H95=Tables!$E$5,Tables!$F$5,IF('Données mensuelles'!H95=Tables!$E$6,Tables!$F$6,IF('Données mensuelles'!H95=Tables!$E$7,Tables!$F$7,IF('Données mensuelles'!H95=Tables!$E$8,Tables!$F$8,IF('Données mensuelles'!H95=Tables!$E$9,Tables!$F$9,IF('Données mensuelles'!H95=Tables!$E$10,Tables!$F$10,IF('Données mensuelles'!H95=Tables!$E$11,Tables!$F$11,IF(H95=Tables!$E$12,Tables!$F$12,IF('Données mensuelles'!H95=Tables!$E$13,Tables!$F$13,IF(H95=Tables!$E$14,Tables!$F$14,IF(H95=Tables!$E$15,Tables!$F$15,IF(H95=Tables!$E$16,Tables!$F$16)))))))))))) -> 0 | M95: =IF(K95=Tables!$E$5,Tables!$F$5,IF('Données mensuelles'!K95=Tables!$E$6,Tables!$F$6,IF('Données mensuelles'!K95=Tables!$E$7,Tables!$F$7,IF('Données mensuelles'!K95=Tables!$E$8,Tables!$F$8,IF('Données mensuelles'!K95=Tables!$E$9,Tables!$F$9,IF('Données mensuelles'!K95=Tables!$E$10,Tables!$F$10,IF('Données mensuelles'!K95=Tables!$E$11,Tables!$F$11,IF(K95=Tables!$E$12,Tables!$F$12,IF('Données mensuelles'!K95=Tables!$E$13,Tables!$F$13,IF(K95=Tables!$E$14,Tables!$F$14,IF(K95=Tables!$E$15,Tables!$F$15,IF(K95=Tables!$E$16,Tables!$F$16)))))))))))) -> 0 | P95: =IF(N95=Tables!$E$5,Tables!$F$5,IF('Données mensuelles'!N95=Tables!$E$6,Tables!$F$6,IF('Données mensuelles'!N95=Tables!$E$7,Tables!$F$7,IF('Données mensuelles'!N95=Tables!$E$8,Tables!$F$8,IF('Données mensuelles'!N95=Tables!$E$9,Tables!$F$9,IF('Données mensuelles'!N95=Tables!$E$10,Tables!$F$10,IF('Données mensuelles'!N95=Tables!$E$11,Tables!$F$11,IF(N95=Tables!$E$12,Tables!$F$12,IF('Données mensuelles'!N95=Tables!$E$13,Tables!$F$13,IF(N95=Tables!$E$14,Tables!$F$14,IF(N95=Tables!$E$15,Tables!$F$15,IF(N95=Tables!$E$16,Tables!$F$16)))))))))))) -> 0 | S95: =IF(Q95=Tables!$E$5,Tables!$F$5,IF('Données mensuelles'!Q95=Tables!$E$6,Tables!$F$6,IF('Données mensuelles'!Q95=Tables!$E$7,Tables!$F$7,IF('Données mensuelles'!Q95=Tables!$E$8,Tables!$F$8,IF('Données mensuelles'!Q95=Tables!$E$9,Tables!$F$9,IF('Données mensuelles'!Q95=Tables!$E$10,Tables!$F$10,IF('Données mensuelles'!Q95=Tables!$E$11,Tables!$F$11,IF(Q95=Tables!$E$12,Tables!$F$12,IF('Données mensuelles'!Q95=Tables!$E$13,Tables!$F$13,IF(Q95=Tables!$E$14,Tables!$F$14,IF(Q95=Tables!$E$15,Tables!$F$15,IF(Q95=Tables!$E$16,Tables!$F$16)))))))))))) -> 0 | T95: =S95+P95+M95+J95+G95 -> 0 | X95: =T95+(V95*W95)+(U95*Tables!$E$20*W95) -> 0
G96: =IF(E96=Tables!$E$5,Tables!$F$5,IF('Données mensuelles'!E96=Tables!$E$6,Tables!$F$6,IF('Données mensuelles'!E96=Tables!$E$7,Tables!$F$7,IF('Données mensuelles'!E96=Tables!$E$8,Tables!$F$8,IF('Données mensuelles'!E96=Tables!$E$9,Tables!$F$9,IF('Données mensuelles'!E96=Tables!$E$10,Tables!$F$10,IF('Données mensuelles'!E96=Tables!$E$11,Tables!$F$11,IF(E96=Tables!$E$12,Tables!$F$12,IF('Données mensuelles'!E96=Tables!$E$13,Tables!$F$13,IF(E96=Tables!$E$14,Tables!$F$14,IF(E96=Tables!$E$15,Tables!$F$15,IF(E96=Tables!$E$16,Tables!$F$16)))))))))))) -> 0 | J96: =IF(H96=Tables!$E$5,Tables!$F$5,IF('Données mensuelles'!H96=Tables!$E$6,Tables!$F$6,IF('Données mensuelles'!H96=Tables!$E$7,Tables!$F$7,IF('Données mensuelles'!H96=Tables!$E$8,Tables!$F$8,IF('Données mensuelles'!H96=Tables!$E$9,Tables!$F$9,IF('Données mensuelles'!H96=Tables!$E$10,Tables!$F$10,IF('Données mensuelles'!H96=Tables!$E$11,Tables!$F$11,IF(H96=Tables!$E$12,Tables!$F$12,IF('Données mensuelles'!H96=Tables!$E$13,Tables!$F$13,IF(H96=Tables!$E$14,Tables!$F$14,IF(H96=Tables!$E$15,Tables!$F$15,IF(H96=Tables!$E$16,Tables!$F$16)))))))))))) -> 0 | M96: =IF(K96=Tables!$E$5,Tables!$F$5,IF('Données mensuelles'!K96=Tables!$E$6,Tables!$F$6,IF('Données mensuelles'!K96=Tables!$E$7,Tables!$F$7,IF('Données mensuelles'!K96=Tables!$E$8,Tables!$F$8,IF('Données mensuelles'!K96=Tables!$E$9,Tables!$F$9,IF('Données mensuelles'!K96=Tables!$E$10,Tables!$F$10,IF('Données mensuelles'!K96=Tables!$E$11,Tables!$F$11,IF(K96=Tables!$E$12,Tables!$F$12,IF('Données mensuelles'!K96=Tables!$E$13,Tables!$F$13,IF(K96=Tables!$E$14,Tables!$F$14,IF(K96=Tables!$E$15,Tables!$F$15,IF(K96=Tables!$E$16,Tables!$F$16)))))))))))) -> 0 | P96: =IF(N96=Tables!$E$5,Tables!$F$5,IF('Données mensuelles'!N96=Tables!$E$6,Tables!$F$6,IF('Données mensuelles'!N96=Tables!$E$7,Tables!$F$7,IF('Données mensuelles'!N96=Tables!$E$8,Tables!$F$8,IF('Données mensuelles'!N96=Tables!$E$9,Tables!$F$9,IF('Données mensuelles'!N96=Tables!$E$10,Tables!$F$10,IF('Données mensuelles'!N96=Tables!$E$11,Tables!$F$11,IF(N96=Tables!$E$12,Tables!$F$12,IF('Données mensuelles'!N96=Tables!$E$13,Tables!$F$13,IF(N96=Tables!$E$14,Tables!$F$14,IF(N96=Tables!$E$15,Tables!$F$15,IF(N96=Tables!$E$16,Tables!$F$16)))))))))))) -> 0 | S96: =IF(Q96=Tables!$E$5,Tables!$F$5,IF('Données mensuelles'!Q96=Tables!$E$6,Tables!$F$6,IF('Données mensuelles'!Q96=Tables!$E$7,Tables!$F$7,IF('Données mensuelles'!Q96=Tables!$E$8,Tables!$F$8,IF('Données mensuelles'!Q96=Tables!$E$9,Tables!$F$9,IF('Données mensuelles'!Q96=Tables!$E$10,Tables!$F$10,IF('Données mensuelles'!Q96=Tables!$E$11,Tables!$F$11,IF(Q96=Tables!$E$12,Tables!$F$12,IF('Données mensuelles'!Q96=Tables!$E$13,Tables!$F$13,IF(Q96=Tables!$E$14,Tables!$F$14,IF(Q96=Tables!$E$15,Tables!$F$15,IF(Q96=Tables!$E$16,Tables!$F$16)))))))))))) -> 0 | T96: =S96+P96+M96+J96+G96 -> 0 | X96: =T96+(V96*W96)+(U96*Tables!$E$20*W96) -> 0
W97: Total journée | X97: =SUM(X77:X96) -> 0
D100: JOUR
D101: Nom patient | E101: Soin 1 | G101: Tarification | H101: Soin 2 | J101: Tarification | K101: Soin 3 | M101: Tarification | N101: Soin 4 | P101: Tarification | Q101: Soin 5 | S101: Tarification | T101: Sous total | U101: Majoration D / F | V101: Déplacement | W101: Nombre de passages | X101: Total
G102: =IF(E102=Tables!$E$5,Tables!$F$5,IF('Données mensuelles'!E102=Tables!$E$6,Tables!$F$6,IF('Données mensuelles'!E102=Tables!$E$7,Tables!$F$7,IF('Données mensuelles'!E102=Tables!$E$8,Tables!$F$8,IF('Données mensuelles'!E102=Tables!$E$9,Tables!$F$9,IF('Données mensuelles'!E102=Tables!$E$10,Tables!$F$10,IF('Données mensuelles'!E102=Tables!$E$11,Tables!$F$11,IF(E102=Tables!$E$12,Tables!$F$12,IF('Données mensuelles'!E102=Tables!$E$13,Tables!$F$13,IF(E102=Tables!$E$14,Tables!$F$14,IF(E102=Tables!$E$15,Tables!$F$15,IF(E102=Tables!$E$16,Tables!$F$16)))))))))))) -> 0 | J102: =IF(H102=Tables!$E$5,Tables!$F$5,IF('Données mensuelles'!H102=Tables!$E$6,Tables!$F$6,IF('Données mensuelles'!H102=Tables!$E$7,Tables!$F$7,IF('Données mensuelles'!H102=Tables!$E$8,Tables!$F$8,IF('Données mensuelles'!H102=Tables!$E$9,Tables!$F$9,IF('Données mensuelles'!H102=Tables!$E$10,Tables!$F$10,IF('Données mensuelles'!H102=Tables!$E$11,Tables!$F$11,IF(H102=Tables!$E$12,Tables!$F$12,IF('Données mensuelles'!H102=Tables!$E$13,Tables!$F$13,IF(H102=Tables!$E$14,Tables!$F$14,IF(H102=Tables!$E$15,Tables!$F$15,IF(H102=Tables!$E$16,Tables!$F$16)))))))))))) -> 0 | M102: =IF(K102=Tables!$E$5,Tables!$F$5,IF('Données mensuelles'!K102=Tables!$E$6,Tables!$F$6,IF('Données mensuelles'!K102=Tables!$E$7,Tables!$F$7,IF('Données mensuelles'!K102=Tables!$E$8,Tables!$F$8,IF('Données mensuelles'!K102=Tables!$E$9,Tables!$F$9,IF('Données mensuelles'!K102=Tables!$E$10,Tables!$F$10,IF('Données mensuelles'!K102=Tables!$E$11,Tables!$F$11,IF(K102=Tables!$E$12,Tables!$F$12,IF('Données mensuelles'!K102=Tables!$E$13,Tables!$F$13,IF(K102=Tables!$E$14,Tables!$F$14,IF(K102=Tables!$E$15,Tables!$F$15,IF(K102=Tables!$E$16,Tables!$F$16)))))))))))) -> 0 | P102: =IF(N102=Tables!$E$5,Tables!$F$5,IF('Données mensuelles'!N102=Tables!$E$6,Tables!$F$6,IF('Données mensuelles'!N102=Tables!$E$7,Tables!$F$7,IF('Données mensuelles'!N102=Tables!$E$8,Tables!$F$8,IF('Données mensuelles'!N102=Tables!$E$9,Tables!$F$9,IF('Données mensuelles'!N102=Tables!$E$10,Tables!$F$10,IF('Données mensuelles'!N102=Tables!$E$11,Tables!$F$11,IF(N102=Tables!$E$12,Tables!$F$12,IF('Données mensuelles'!N102=Tables!$E$13,Tables!$F$13,IF(N102=Tables!$E$14,Tables!$F$14,IF(N102=Tables!$E$15,Tables!$F$15,IF(N102=Tables!$E$16,Tables!$F$16)))))))))))) -> 0 | S102: =IF(Q102=Tables!$E$5,Tables!$F$5,IF('Données mensuelles'!Q102=Tables!$E$6,Tables!$F$6,IF('Données mensuelles'!Q102=Tables!$E$7,Tables!$F$7,IF('Données mensuelles'!Q102=Tables!$E$8,Tables!$F$8,IF('Données mensuelles'!Q102=Tables!$E$9,Tables!$F$9,IF('Données mensuelles'!Q102=Tables!$E$10,Tables!$F$10,IF('Données mensuelles'!Q102=Tables!$E$11,Tables!$F$11,IF(Q102=Tables!$E$12,Tables!$F$12,IF('Données mensuelles'!Q102=Tables!$E$13,Tables!$F$13,IF(Q102=Tables!$E$14,Tables!$F$14,IF(Q102=Tables!$E$15,Tables!$F$15,IF(Q102=Tables!$E$16,Tables!$F$16)))))))))))) -> 0 | T102: =S102+P102+M102+J102+G102 -> 0 | X102: =T102+(V102*W102)+(U102*Tables!$E$20*W102) -> 0
G103: =IF(E103=Tables!$E$5,Tables!$F$5,IF('Données mensuelles'!E103=Tables!$E$6,Tables!$F$6,IF('Données mensuelles'!E103=Tables!$E$7,Tables!$F$7,IF('Données mensuelles'!E103=Tables!$E$8,Tables!$F$8,IF('Données mensuelles'!E103=Tables!$E$9,Tables!$F$9,IF('Données mensuelles'!E103=Tables!$E$10,Tables!$F$10,IF('Données mensuelles'!E103=Tables!$E$11,Tables!$F$11,IF(E103=Tables!$E$12,Tables!$F$12,IF('Données mensuelles'!E103=Tables!$E$13,Tables!$F$13,IF(E103=Tables!$E$14,Tables!$F$14,IF(E103=Tables!$E$15,Tables!$F$15,IF(E103=Tables!$E$16,Tables!$F$16)))))))))))) -> 0 | J103: =IF(H103=Tables!$E$5,Tables!$F$5,IF('Données mensuelles'!H103=Tables!$E$6,Tables!$F$6,IF('Données mensuelles'!H103=Tables!$E$7,Tables!$F$7,IF('Données mensuelles'!H103=Tables!$E$8,Tables!$F$8,IF('Données mensuelles'!H103=Tables!$E$9,Tables!$F$9,IF('Données mensuelles'!H103=Tables!$E$10,Tables!$F$10,IF('Données mensuelles'!H103=Tables!$E$11,Tables!$F$11,IF(H103=Tables!$E$12,Tables!$F$12,IF('Données mensuelles'!H103=Tables!$E$13,Tables!$F$13,IF(H103=Tables!$E$14,Tables!$F$14,IF(H103=Tables!$E$15,Tables!$F$15,IF(H103=Tables!$E$16,Tables!$F$16)))))))))))) -> 0 | M103: =IF(K103=Tables!$E$5,Tables!$F$5,IF('Données mensuelles'!K103=Tables!$E$6,Tables!$F$6,IF('Données mensuelles'!K103=Tables!$E$7,Tables!$F$7,IF('Données mensuelles'!K103=Tables!$E$8,Tables!$F$8,IF('Données mensuelles'!K103=Tables!$E$9,Tables!$F$9,IF('Données mensuelles'!K103=Tables!$E$10,Tables!$F$10,IF('Données mensuelles'!K103=Tables!$E$11,Tables!$F$11,IF(K103=Tables!$E$12,Tables!$F$12,IF('Données mensuelles'!K103=Tables!$E$13,Tables!$F$13,IF(K103=Tables!$E$14,Tables!$F$14,IF(K103=Tables!$E$15,Tables!$F$15,IF(K103=Tables!$E$16,Tables!$F$16)))))))))))) -> 0 | P103: =IF(N103=Tables!$E$5,Tables!$F$5,IF('Données mensuelles'!N103=Tables!$E$6,Tables!$F$6,IF('Données mensuelles'!N103=Tables!$E$7,Tables!$F$7,IF('Données mensuelles'!N103=Tables!$E$8,Tables!$F$8,IF('Données mensuelles'!N103=Tables!$E$9,Tables!$F$9,IF('Données mensuelles'!N103=Tables!$E$10,Tables!$F$10,IF('Données mensuelles'!N103=Tables!$E$11,Tables!$F$11,IF(N103=Tables!$E$12,Tables!$F$12,IF('Données mensuelles'!N103=Tables!$E$13,Tables!$F$13,IF(N103=Tables!$E$14,Tables!$F$14,IF(N103=Tables!$E$15,Tables!$F$15,IF(N103=Tables!$E$16,Tables!$F$16)))))))))))) -> 0 | S103: =IF(Q103=Tables!$E$5,Tables!$F$5,IF('Données mensuelles'!Q103=Tables!$E$6,Tables!$F$6,IF('Données mensuelles'!Q103=Tables!$E$7,Tables!$F$7,IF('Données mensuelles'!Q103=Tables!$E$8,Tables!$F$8,IF('Données mensuelles'!Q103=Tables!$E$9,Tables!$F$9,IF('Données mensuelles'!Q103=Tables!$E$10,Tables!$F$10,IF('Données mensuelles'!Q103=Tables!$E$11,Tables!$F$11,IF(Q103=Tables!$E$12,Tables!$F$12,IF('Données mensuelles'!Q103=Tables!$E$13,Tables!$F$13,IF(Q103=Tables!$E$14,Tables!$F$14,IF(Q103=Tables!$E$15,Tables!$F$15,IF(Q103=Tables!$E$16,Tables!$F$16)))))))))))) -> 0 | T103: =S103+P103+M103+J103+G103 -> 0 | X103: =T103+(V103*W103)+(U103*Tables!$E$20*W103) -> 0
G104: =IF(E104=Tables!$E$5,Tables!$F$5,IF('Données mensuelles'!E104=Tables!$E$6,Tables!$F$6,IF('Données mensuelles'!E104=Tables!$E$7,Tables!$F$7,IF('Données mensuelles'!E104=Tables!$E$8,Tables!$F$8,IF('Données mensuelles'!E104=Tables!$E$9,Tables!$F$9,IF('Données mensuelles'!E104=Tables!$E$10,Tables!$F$10,IF('Données mensuelles'!E104=Tables!$E$11,Tables!$F$11,IF(E104=Tables!$E$12,Tables!$F$12,IF('Données mensuelles'!E104=Tables!$E$13,Tables!$F$13,IF(E104=Tables!$E$14,Tables!$F$14,IF(E104=Tables!$E$15,Tables!$F$15,IF(E104=Tables!$E$16,Tables!$F$16)))))))))))) -> 0 | J104: =IF(H104=Tables!$E$5,Tables!$F$5,IF('Données mensuelles'!H104=Tables!$E$6,Tables!$F$6,IF('Données mensuelles'!H104=Tables!$E$7,Tables!$F$7,IF('Données mensuelles'!H104=Tables!$E$8,Tables!$F$8,IF('Données mensuelles'!H104=Tables!$E$9,Tables!$F$9,IF('Données mensuelles'!H104=Tables!$E$10,Tables!$F$10,IF('Données mensuelles'!H104=Tables!$E$11,Tables!$F$11,IF(H104=Tables!$E$12,Tables!$F$12,IF('Données mensuelles'!H104=Tables!$E$13,Tables!$F$13,IF(H104=Tables!$E$14,Tables!$F$14,IF(H104=Tables!$E$15,Tables!$F$15,IF(H104=Tables!$E$16,Tables!$F$16)))))))))))) -> 0 | M104: =IF(K104=Tables!$E$5,Tables!$F$5,IF('Données mensuelles'!K104=Tables!$E$6,Tables!$F$6,IF('Données mensuelles'!K104=Tables!$E$7,Tables!$F$7,IF('Données mensuelles'!K104=Tables!$E$8,Tables!$F$8,IF('Données mensuelles'!K104=Tables!$E$9,Tables!$F$9,IF('Données mensuelles'!K104=Tables!$E$10,Tables!$F$10,IF('Données mensuelles'!K104=Tables!$E$11,Tables!$F$11,IF(K104=Tables!$E$12,Tables!$F$12,IF('Données mensuelles'!K104=Tables!$E$13,Tables!$F$13,IF(K104=Tables!$E$14,Tables!$F$14,IF(K104=Tables!$E$15,Tables!$F$15,IF(K104=Tables!$E$16,Tables!$F$16)))))))))))) -> 0 | P104: =IF(N104=Tables!$E$5,Tables!$F$5,IF('Données mensuelles'!N104=Tables!$E$6,Tables!$F$6,IF('Données mensuelles'!N104=Tables!$E$7,Tables!$F$7,IF('Données mensuelles'!N104=Tables!$E$8,Tables!$F$8,IF('Données mensuelles'!N104=Tables!$E$9,Tables!$F$9,IF('Données mensuelles'!N104=Tables!$E$10,Tables!$F$10,IF('Données mensuelles'!N104=Tables!$E$11,Tables!$F$11,IF(N104=Tables!$E$12,Tables!$F$12,IF('Données mensuelles'!N104=Tables!$E$13,Tables!$F$13,IF(N104=Tables!$E$14,Tables!$F$14,IF(N104=Tables!$E$15,Tables!$F$15,IF(N104=Tables!$E$16,Tables!$F$16)))))))))))) -> 0 | S104: =IF(Q104=Tables!$E$5,Tables!$F$5,IF('Données mensuelles'!Q104=Tables!$E$6,Tables!$F$6,IF('Données mensuelles'!Q104=Tables!$E$7,Tables!$F$7,IF('Données mensuelles'!Q104=Tables!$E$8,Tables!$F$8,IF('Données mensuelles'!Q104=Tables!$E$9,Tables!$F$9,IF('Données mensuelles'!Q104=Tables!$E$10,Tables!$F$10,IF('Données mensuelles'!Q104=Tables!$E$11,Tables!$F$11,IF(Q104=Tables!$E$12,Tables!$F$12,IF('Données mensuelles'!Q104=Tables!$E$13,Tables!$F$13,IF(Q104=Tables!$E$14,Tables!$F$14,IF(Q104=Tables!$E$15,Tables!$F$15,IF(Q104=Tables!$E$16,Tables!$F$16)))))))))))) -> 0 | T104: =S104+P104+M104+J104+G104 -> 0 | X104: =T104+(V104*W104)+(U104*Tables!$E$20*W104) -> 0
G105: =IF(E105=Tables!$E$5,Tables!$F$5,IF('Données mensuelles'!E105=Tables!$E$6,Tables!$F$6,IF('Données mensuelles'!E105=Tables!$E$7,Tables!$F$7,IF('Données mensuelles'!E105=Tables!$E$8,Tables!$F$8,IF('Données mensuelles'!E105=Tables!$E$9,Tables!$F$9,IF('Données mensuelles'!E105=Tables!$E$10,Tables!$F$10,IF('Données mensuelles'!E105=Tables!$E$11,Tables!$F$11,IF(E105=Tables!$E$12,Tables!$F$12,IF('Données mensuelles'!E105=Tables!$E$13,Tables!$F$13,IF(E105=Tables!$E$14,Tables!$F$14,IF(E105=Tables!$E$15,Tables!$F$15,IF(E105=Tables!$E$16,Tables!$F$16)))))))))))) -> 0 | J105: =IF(H105=Tables!$E$5,Tables!$F$5,IF('Données mensuelles'!H105=Tables!$E$6,Tables!$F$6,IF('Données mensuelles'!H105=Tables!$E$7,Tables!$F$7,IF('Données mensuelles'!H105=Tables!$E$8,Tables!$F$8,IF('Données mensuelles'!H105=Tables!$E$9,Tables!$F$9,IF('Données mensuelles'!H105=Tables!$E$10,Tables!$F$10,IF('Données mensuelles'!H105=Tables!$E$11,Tables!$F$11,IF(H105=Tables!$E$12,Tables!$F$12,IF('Données mensuelles'!H105=Tables!$E$13,Tables!$F$13,IF(H105=Tables!$E$14,Tables!$F$14,IF(H105=Tables!$E$15,Tables!$F$15,IF(H105=Tables!$E$16,Tables!$F$16)))))))))))) -> 0 | M105: =IF(K105=Tables!$E$5,Tables!$F$5,IF('Données mensuelles'!K105=Tables!$E$6,Tables!$F$6,IF('Données mensuelles'!K105=Tables!$E$7,Tables!$F$7,IF('Données mensuelles'!K105=Tables!$E$8,Tables!$F$8,IF('Données mensuelles'!K105=Tables!$E$9,Tables!$F$9,IF('Données mensuelles'!K105=Tables!$E$10,Tables!$F$10,IF('Données mensuelles'!K105=Tables!$E$11,Tables!$F$11,IF(K105=Tables!$E$12,Tables!$F$12,IF('Données mensuelles'!K105=Tables!$E$13,Tables!$F$13,IF(K105=Tables!$E$14,Tables!$F$14,IF(K105=Tables!$E$15,Tables!$F$15,IF(K105=Tables!$E$16,Tables!$F$16)))))))))))) -> 0 | P105: =IF(N105=Tables!$E$5,Tables!$F$5,IF('Données mensuelles'!N105=Tables!$E$6,Tables!$F$6,IF('Données mensuelles'!N105=Tables!$E$7,Tables!$F$7,IF('Données mensuelles'!N105=Tables!$E$8,Tables!$F$8,IF('Données mensuelles'!N105=Tables!$E$9,Tables!$F$9,IF('Données mensuelles'!N105=Tables!$E$10,Tables!$F$10,IF('Données mensuelles'!N105=Tables!$E$11,Tables!$F$11,IF(N105=Tables!$E$12,Tables!$F$12,IF('Données mensuelles'!N105=Tables!$E$13,Tables!$F$13,IF(N105=Tables!$E$14,Tables!$F$14,IF(N105=Tables!$E$15,Tables!$F$15,IF(N105=Tables!$E$16,Tables!$F$16)))))))))))) -> 0 | S105: =IF(Q105=Tables!$E$5,Tables!$F$5,IF('Données mensuelles'!Q105=Tables!$E$6,Tables!$F$6,IF('Données mensuelles'!Q105=Tables!$E$7,Tables!$F$7,IF('Données mensuelles'!Q105=Tables!$E$8,Tables!$F$8,IF('Données mensuelles'!Q105=Tables!$E$9,Tables!$F$9,IF('Données mensuelles'!Q105=Tables!$E$10,Tables!$F$10,IF('Données mensuelles'!Q105=Tables!$E$11,Tables!$F$11,IF(Q105=Tables!$E$12,Tables!$F$12,IF('Données mensuelles'!Q105=Tables!$E$13,Tables!$F$13,IF(Q105=Tables!$E$14,Tables!$F$14,IF(Q105=Tables!$E$15,Tables!$F$15,IF(Q105=Tables!$E$16,Tables!$F$16)))))))))))) -> 0 | T105: =S105+P105+M105+J105+G105 -> 0 | X105: =T105+(V105*W105)+(U105*Tables!$E$20*W105) -> 0
G106: =IF(E106=Tables!$E$5,Tables!$F$5,IF('Données mensuelles'!E106=Tables!$E$6,Tables!$F$6,IF('Données mensuelles'!E106=Tables!$E$7,Tables!$F$7,IF('Données mensuelles'!E106=Tables!$E$8,Tables!$F$8,IF('Données mensuelles'!E106=Tables!$E$9,Tables!$F$9,IF('Données mensuelles'!E106=Tables!$E$10,Tables!$F$10,IF('Données mensuelles'!E106=Tables!$E$11,Tables!$F$11,IF(E106=Tables!$E$12,Tables!$F$12,IF('Données mensuelles'!E106=Tables!$E$13,Tables!$F$13,IF(E106=Tables!$E$14,Tables!$F$14,IF(E106=Tables!$E$15,Tables!$F$15,IF(E106=Tables!$E$16,Tables!$F$16)))))))))))) -> 0 | J106: =IF(H106=Tables!$E$5,Tables!$F$5,IF('Données mensuelles'!H106=Tables!$E$6,Tables!$F$6,IF('Données mensuelles'!H106=Tables!$E$7,Tables!$F$7,IF('Données mensuelles'!H106=Tables!$E$8,Tables!$F$8,IF('Données mensuelles'!H106=Tables!$E$9,Tables!$F$9,IF('Données mensuelles'!H106=Tables!$E$10,Tables!$F$10,IF('Données mensuelles'!H106=Tables!$E$11,Tables!$F$11,IF(H106=Tables!$E$12,Tables!$F$12,IF('Données mensuelles'!H106=Tables!$E$13,Tables!$F$13,IF(H106=Tables!$E$14,Tables!$F$14,IF(H106=Tables!$E$15,Tables!$F$15,IF(H106=Tables!$E$16,Tables!$F$16)))))))))))) -> 0 | M106: =IF(K106=Tables!$E$5,Tables!$F$5,IF('Données mensuelles'!K106=Tables!$E$6,Tables!$F$6,IF('Données mensuelles'!K106=Tables!$E$7,Tables!$F$7,IF('Données mensuelles'!K106=Tables!$E$8,Tables!$F$8,IF('Données mensuelles'!K106=Tables!$E$9,Tables!$F$9,IF('Données mensuelles'!K106=Tables!$E$10,Tables!$F$10,IF('Données mensuelles'!K106=Tables!$E$11,Tables!$F$11,IF(K106=Tables!$E$12,Tables!$F$12,IF('Données mensuelles'!K106=Tables!$E$13,Tables!$F$13,IF(K106=Tables!$E$14,Tables!$F$14,IF(K106=Tables!$E$15,Tables!$F$15,IF(K106=Tables!$E$16,Tables!$F$16)))))))))))) -> 0 | P106: =IF(N106=Tables!$E$5,Tables!$F$5,IF('Données mensuelles'!N106=Tables!$E$6,Tables!$F$6,IF('Données mensuelles'!N106=Tables!$E$7,Tables!$F$7,IF('Données mensuelles'!N106=Tables!$E$8,Tables!$F$8,IF('Données mensuelles'!N106=Tables!$E$9,Tables!$F$9,IF('Données mensuelles'!N106=Tables!$E$10,Tables!$F$10,IF('Données mensuelles'!N106=Tables!$E$11,Tables!$F$11,IF(N106=Tables!$E$12,Tables!$F$12,IF('Données mensuelles'!N106=Tables!$E$13,Tables!$F$13,IF(N106=Tables!$E$14,Tables!$F$14,IF(N106=Tables!$E$15,Tables!$F$15,IF(N106=Tables!$E$16,Tables!$F$16)))))))))))) -> 0 | S106: =IF(Q106=Tables!$E$5,Tables!$F$5,IF('Données mensuelles'!Q106=Tables!$E$6,Tables!$F$6,IF('Données mensuelles'!Q106=Tables!$E$7,Tables!$F$7,IF('Données mensuelles'!Q106=Tables!$E$8,Tables!$F$8,IF('Données mensuelles'!Q106=Tables!$E$9,Tables!$F$9,IF('Données mensuelles'!Q106=Tables!$E$10,Tables!$F$10,IF('Données mensuelles'!Q106=Tables!$E$11,Tables!$F$11,IF(Q106=Tables!$E$12,Tables!$F$12,IF('Données mensuelles'!Q106=Tables!$E$13,Tables!$F$13,IF(Q106=Tables!$E$14,Tables!$F$14,IF(Q106=Tables!$E$15,Tables!$F$15,IF(Q106=Tables!$E$16,Tables!$F$16)))))))))))) -> 0 | T106: =S106+P106+M106+J106+G106 -> 0 | X106: =T106+(V106*W106)+(U106*Tables!$E$20*W106) -> 0
