Workbook
Name A: Tables!$A$36
Name Déplacement: Tables!$J$15:$J$18
Name Majoration_D___F: 'Données mensuelles'!$U$2:$U$21
Name Majoration_Dimanche_et_jours_fériés: Tables!$I$11
Name NOMBRE: Tables!$G$5:$G$25
Name NomInfirmier: Tables!$I$4:$I$8
Name NomPatient: Tables!$B$5:$B$32
Name NomSoin: Tables!$E$5:$E$16
Name Soin: Tables!$E$5:$E$11,Tables!$E$12:$E$16
Name X: Tables!$G$5:$G$25
Name XX: 'Données mensuelles'!$F$2:$F$21

Sheet Tables
I3: Nom infirmier
A4: Civilité | B4: Nom Patient | C4: lieu | E4: Soin | F4: Tarification | G4: NOMBRE | I4: jennifer
E5: AMI | F5: 3.15 | G5: 1 | I5: b
A6: M. | B6: jm | E6: AIS | F6: 2.55 | G6: 2 | I6: c
A7: M. | B7: bb | E7: DI | F7: 10 | G7: 3 | I7: d
A8: M. | B8: cc | E8: IFD | F8: 2.5 | G8: 4 | I8: e
A9: Mme | B9: dd | E9: IK 0 | F9: 0.35 | G9: 5
A10: Mme | B10: aa | E10: IK 1 | F10: 0.5 | G10: 6 | I10: Majoration Dimanche et jours fériés
A11: M. | B11: er | E11: IK 2 | F11: 1.4 | G11: 7 | I11: 8.5
A12: Mlle | B12: df | E12: MAL/NUIT1 | F12: 9.15 | G12: 8
A13: Mme | B13: di | E13: MAL/NUIT2 | F13: 18.3 | G13: 9
A14: M. | B14: fk | E14: MAU | F14: 1.35 | G14: 10 | I14: Indemnités de déplacement | J14: Tarif
A15: M. | B15: jj | E15: MCI | F15: 5 | G15: 11 | I15: sout | J15: 2.3
A16: Mlle | B16: qs | G16: 12 | I16: hors agglo + 2,80 € | J16: 5.1
A17: M. | B17: ze | G17: 13
A18: Mme | B18: ar | G18: 14
G19: 15
G20: 16
G21: 17
G22: 18
G23: 19
G24: 20
A35: Année
A36: 2020
A37: Jour de l'an | B37: 43831 | C37: 1
A38: Pâques | B38: =DOLLAR((DAY(MINUTE(A/38)/2+55)&"/4/"&A)/7,)*7-6 -> 43933 | C38: 2
A39: Lundi de Pâques | B39: =DOLLAR((DAY(MINUTE(A/38)/2+55)&"/4/"&A)/7,)*7-5 -> 43934 | C39: 3
A40: Fête du Travail | B40: 43952 | C40: 4
A41: Victoire 39/45 | B41: 43959 | C41: 5
A42: Ascension | B42: =DOLLAR((DAY(MINUTE(A/38)/2+55)&"/4/"&A)/7,)*7+33 -> 43972 | C42: 6
A43: Pentecôte | B43: =DOLLAR((DAY(MINUTE(A/38)/2+55)&"/4/"&A)/7,)*7+43 -> 43982 | C43: 7
A44: Lundi de Pentecôte | B44: =DOLLAR((DAY(MINUTE(A/38)/2+55)&"/4/"&A)/7,)*7+44 -> 43983 | C44: 8
A45: Fête Nationale | B45: 44026 | C45: 9
A46: Assomption | B46: 44058 | C46: 10
A47: Toussaint | B47: 44136 | C47: 11
A48: Armistice 14/18 | B48: 44146 | C48: 12
A49: Noël | B49: 44190 | C49: 13

Sheet Données mensuelles
A1: Nom infirmiere | B1: date | C1: mois | D1: Nom patient | E1: Soin 1 | F1: Nombre | G1: Tarification | H1: Soin 2 | I1: Nombre | J1: Tarification | K1: Soin 3 | L1: Nombre | M1: Tarification | N1: Soin 4 | O1: Nombre | P1: Tarification | Q1: Soin 5 | R1: Nombre | S1: Tarification | T1: Sous total | U1: Majoration D / F | V1: Déplacement | W1: Nombre de passages | X1: Total
A2: jennifer | B2: 43933 | C2: =MONTH(B2) -> 4 | D2: jm | E2: AMI | F2: 2 | G2: =IF(E2="",0,VLOOKUP(E2,Tables!$E$2:$F$16,2,0)) -> 3.15 | H2: IK 1 | I2: 2 | J2: =IF(H2="",0,VLOOKUP(H2,Tables!$E$5:$F$16,2,0)) -> 0.5 | M2: =IF(K2="",0,VLOOKUP(K2,Tables!$E$5:$F$16,2,0)) -> 0 | P2: =IF(N2="",0,VLOOKUP(N2,Tables!$E$5:$F$16,2,0)) -> 0 | S2: =IF(Q2="",0,VLOOKUP(Q2,Tables!$E$5:$F$16,2,0)) -> 0 | T2: =F2*G2+I2*J2+L2*M2+O2*P2+R2*S2 -> 7.3 | U2: =IF(OR(NOT(ISERROR(MATCH(B2,Tables!B$37:B$49,0))),WEEKDAY(B2,2)=7),8,0)*W2 -> 16 | W2: 2 | X2: =T2+U2+V2 -> 23.3
B3: 43934 | C3: =MONTH(B3) -> 4 | E3: IK 0 | G3: =IF(E3="",0,VLOOKUP(E3,Tables!$E$2:$F$16,2,0)) -> 0.35 | J3: =IF(H3="",0,VLOOKUP(H3,Tables!$E$5:$F$16,2,0)) -> 0 | M3: =IF(K3="",0,VLOOKUP(K3,Tables!$E$5:$F$16,2,0)) -> 0 | P3: =IF(N3="",0,VLOOKUP(N3,Tables!$E$5:$F$16,2,0)) -> 0 | S3: =IF(Q3="",0,VLOOKUP(Q3,Tables!$E$5:$F$16,2,0)) -> 0 | T3: =F3*G3+I3*J3+L3*M3+O3*P3+R3*S3 -> 0 | U3: =IF(OR(NOT(ISERROR(MATCH(B3,Tables!B$37:B$49,0))),WEEKDAY(B3,2)=7),8,0)*W3 -> 8 | W3: =COUNTA(E3,H3,K3,N3,Q3) -> 1 | X3: =T3+U3+V3 -> 8
C4: =MONTH(B4) -> 1 | G4: =IF(E4="",0,VLOOKUP(E4,Tables!$E$2:$F$16,2,0)) -> 0 | J4: =IF(H4="",0,VLOOKUP(H4,Tables!$E$5:$F$16,2,0)) -> 0 | M4: =IF(K4="",0,VLOOKUP(K4,Tables!$E$5:$F$16,2,0)) -> 0 | P4: =IF(N4="",0,VLOOKUP(N4,Tables!$E$5:$F$16,2,0)) -> 0 | S4: =IF(Q4="",0,VLOOKUP(Q4,Tables!$E$5:$F$16,2,0)) -> 0 | T4: =F4*G4+I4*J4+L4*M4+O4*P4+R4*S4 -> 0 | U4: =IF(OR(NOT(ISERROR(MATCH(B4,Tables!B$37:B$49,0))),WEEKDAY(B4,2)=7),8,0)*W4 -> 0 | W4: =COUNTA(E4,H4,K4,N4,Q4) -> 0 | X4: =T4+U4+V4 -> 0
C5: =MONTH(B5) -> 1 | G5: =IF(E5="",0,VLOOKUP(E5,Tables!$E$2:$F$16,2,0)) -> 0 | J5: =IF(H5="",0,VLOOKUP(H5,Tables!$E$5:$F$16,2,0)) -> 0 | M5: =IF(K5="",0,VLOOKUP(K5,Tables!$E$5:$F$16,2,0)) -> 0 | P5: =IF(N5="",0,VLOOKUP(N5,Tables!$E$5:$F$16,2,0)) -> 0 | S5: =IF(Q5="",0,VLOOKUP(Q5,Tables!$E$5:$F$16,2,0)) -> 0 | T5: =F5*G5+I5*J5+L5*M5+O5*P5+R5*S5 -> 0 | U5: =IF(OR(NOT(ISERROR(MATCH(B5,Tables!B$37:B$49,0))),WEEKDAY(B5,2)=7),8,0)*W5 -> 0 | W5: =COUNTA(E5,H5,K5,N5,Q5) -> 0 | X5: =T5+U5+V5 -> 0
C6: =MONTH(B6) -> 1 | G6: =IF(E6="",0,VLOOKUP(E6,Tables!$E$2:$F$16,2,0)) -> 0 | J6: =IF(H6="",0,VLOOKUP(H6,Tables!$E$5:$F$16,2,0)) -> 0 | M6: =IF(K6="",0,VLOOKUP(K6,Tables!$E$5:$F$16,2,0)) -> 0 | P6: =IF(N6="",0,VLOOKUP(N6,Tables!$E$5:$F$16,2,0)) -> 0 | S6: =IF(Q6="",0,VLOOKUP(Q6,Tables!$E$5:$F$16,2,0)) -> 0 | T6: =F6*G6+I6*J6+L6*M6+O6*P6+R6*S6 -> 0 | U6: =IF(OR(NOT(ISERROR(MATCH(B6,Tables!B$37:B$49,0))),WEEKDAY(B6,2)=7),8,0)*W6 -> 0 | W6: =COUNTA(E6,H6,K6,N6,Q6) -> 0 | X6: =T6+U6+V6 -> 0
C7: =MONTH(B7) -> 1 | G7: =IF(E7="",0,VLOOKUP(E7,Tables!$E$2:$F$16,2,0)) -> 0 | J7: =IF(H7="",0,VLOOKUP(H7,Tables!$E$5:$F$16,2,0)) -> 0 | M7: =IF(K7="",0,VLOOKUP(K7,Tables!$E$5:$F$16,2,0)) -> 0 | P7: =IF(N7="",0,VLOOKUP(N7,Tables!$E$5:$F$16,2,0)) -> 0 | S7: =IF(Q7="",0,VLOOKUP(Q7,Tables!$E$5:$F$16,2,0)) -> 0 | T7: =F7*G7+I7*J7+L7*M7+O7*P7+R7*S7 -> 0 | U7: =IF(OR(NOT(ISERROR(MATCH(B7,Tables!B$37:B$49,0))),WEEKDAY(B7,2)=7),8,0)*W7 -> 0 | W7: =COUNTA(E7,H7,K7,N7,Q7) -> 0 | X7: =T7+U7+V7 -> 0
C8: =MONTH(B8) -> 1 | G8: =IF(E8="",0,VLOOKUP(E8,Tables!$E$2:$F$16,2,0)) -> 0 | J8: =IF(H8="",0,VLOOKUP(H8,Tables!$E$5:$F$16,2,0)) -> 0 | M8: =IF(K8="",0,VLOOKUP(K8,Tables!$E$5:$F$16,2,0)) -> 0 | P8: =IF(N8="",0,VLOOKUP(N8,Tables!$E$5:$F$16,2,0)) -> 0 | S8: =IF(Q8="",0,VLOOKUP(Q8,Tables!$E$5:$F$16,2,0)) -> 0 | T8: =F8*G8+I8*J8+L8*M8+O8*P8+R8*S8 -> 0 | U8: =IF(OR(NOT(ISERROR(MATCH(B8,Tables!B$37:B$49,0))),WEEKDAY(B8,2)=7),8,0)*W8 -> 0 | W8: =COUNTA(E8,H8,K8,N8,Q8) -> 0 | X8: =T8+U8+V8 -> 0
C9: =MONTH(B9) -> 1 | G9: =IF(E9="",0,VLOOKUP(E9,Tables!$E$2:$F$16,2,0)) -> 0 | J9: =IF(H9="",0,VLOOKUP(H9,Tables!$E$5:$F$16,2,0)) -> 0 | M9: =IF(K9="",0,VLOOKUP(K9,Tables!$E$5:$F$16,2,0)) -> 0 | P9: =IF(N9="",0,VLOOKUP(N9,Tables!$E$5:$F$16,2,0)) -> 0 | S9: =IF(Q9="",0,VLOOKUP(Q9,Tables!$E$5:$F$16,2,0)) -> 0 | T9: =F9*G9+I9*J9+L9*M9+O9*P9+R9*S9 -> 0 | U9: =IF(OR(NOT(ISERROR(MATCH(B9,Tables!B$37:B$49,0))),WEEKDAY(B9,2)=7),8,0)*W9 -> 0 | W9: =COUNTA(E9,H9,K9,N9,Q9) -> 0 | X9: =T9+U9+V9 -> 0
C10: =MONTH(B10) -> 1 | G10: =IF(E10="",0,VLOOKUP(E10,Tables!$E$2:$F$16,2,0)) -> 0 | J10: =IF(H10="",0,VLOOKUP(H10,Tables!$E$5:$F$16,2,0)) -> 0 | M10: =IF(K10="",0,VLOOKUP(K10,Tables!$E$5:$F$16,2,0)) -> 0 | P10: =IF(N10="",0,VLOOKUP(N10,Tables!$E$5:$F$16,2,0)) -> 0 | S10: =IF(Q10="",0,VLOOKUP(Q10,Tables!$E$5:$F$16,2,0)) -> 0 | T10: =F10*G10+I10*J10+L10*M10+O10*P10+R10*S10 -> 0 | U10: =IF(OR(NOT(ISERROR(MATCH(B10,Tables!B$37:B$49,0))),WEEKDAY(B10,2)=7),8,0)*W10 -> 0 | W10: =COUNTA(E10,H10,K10,N10,Q10) -> 0 | X10: =T10+U10+V10 -> 0
C11: =MONTH(B11) -> 1 | G11: =IF(E11="",0,VLOOKUP(E11,Tables!$E$2:$F$16,2,0)) -> 0 | J11: =IF(H11="",0,VLOOKUP(H11,Tables!$E$5:$F$16,2,0)) -> 0 | M11: =IF(K11="",0,VLOOKUP(K11,Tables!$E$5:$F$16,2,0)) -> 0 | P11: =IF(N11="",0,VLOOKUP(N11,Tables!$E$5:$F$16,2,0)) -> 0 | S11: =IF(Q11="",0,VLOOKUP(Q11,Tables!$E$5:$F$16,2,0)) -> 0 | T11: =F11*G11+I11*J11+L11*M11+O11*P11+R11*S11 -> 0 | U11: =IF(OR(NOT(ISERROR(MATCH(B11,Tables!B$37:B$49,0))),WEEKDAY(B11,2)=7),8,0)*W11 -> 0 | W11: =COUNTA(E11,H11,K11,N11,Q11) -> 0 | X11: =T11+U11+V11 -> 0
C12: =MONTH(B12) -> 1 | G12: =IF(E12="",0,VLOOKUP(E12,Tables!$E$2:$F$16,2,0)) -> 0 | J12: =IF(H12="",0,VLOOKUP(H12,Tables!$E$5:$F$16,2,0)) -> 0 | M12: =IF(K12="",0,VLOOKUP(K12,Tables!$E$5:$F$16,2,0)) -> 0 | P12: =IF(N12="",0,VLOOKUP(N12,Tables!$E$5:$F$16,2,0)) -> 0 | S12: =IF(Q12="",0,VLOOKUP(Q12,Tables!$E$5:$F$16,2,0)) -> 0 | T12: =F12*G12+I12*J12+L12*M12+O12*P12+R12*S12 -> 0 | U12: =IF(OR(NOT(ISERROR(MATCH(B12,Tables!B$37:B$49,0))),WEEKDAY(B12,2)=7),8,0)*W12 -> 0 | W12: =COUNTA(E12,H12,K12,N12,Q12) -> 0 | X12: =T12+U12+V12 -> 0
C13: =MONTH(B13) -> 1 | G13: =IF(E13="",0,VLOOKUP(E13,Tables!$E$2:$F$16,2,0)) -> 0 | J13: =IF(H13="",0,VLOOKUP(H13,Tables!$E$5:$F$16,2,0)) -> 0 | M13: =IF(K13="",0,VLOOKUP(K13,Tables!$E$5:$F$16,2,0)) -> 0 | P13: =IF(N13="",0,VLOOKUP(N13,Tables!$E$5:$F$16,2,0)) -> 0 | S13: =IF(Q13="",0,VLOOKUP(Q13,Tables!$E$5:$F$16,2,0)) -> 0 | T13: =F13*G13+I13*J13+L13*M13+O13*P13+R13*S13 -> 0 | U13: =IF(OR(NOT(ISERROR(MATCH(B13,Tables!B$37:B$49,0))),WEEKDAY(B13,2)=7),8,0)*W13 -> 0 | W13: =COUNTA(E13,H13,K13,N13,Q13) -> 0 | X13: =T13+U13+V13 -> 0
C14: =MONTH(B14) -> 1 | G14: =IF(E14="",0,VLOOKUP(E14,Tables!$E$2:$F$16,2,0)) -> 0 | J14: =IF(H14="",0,VLOOKUP(H14,Tables!$E$5:$F$16,2,0)) -> 0 | M14: =IF(K14="",0,VLOOKUP(K14,Tables!$E$5:$F$16,2,0)) -> 0 | P14: =IF(N14="",0,VLOOKUP(N14,Tables!$E$5:$F$16,2,0)) -> 0 | S14: =IF(Q14="",0,VLOOKUP(Q14,Tables!$E$5:$F$16,2,0)) -> 0 | T14: =F14*G14+I14*J14+L14*M14+O14*P14+R14*S14 -> 0 | U14: =IF(OR(NOT(ISERROR(MATCH(B14,Tables!B$37:B$49,0))),WEEKDAY(B14,2)=7),8,0)*W14 -> 0 | W14: =COUNTA(E14,H14,K14,N14,Q14) -> 0 | X14: =T14+U14+V14 -> 0
C15: =MONTH(B15) -> 1 | G15: =IF(E15="",0,VLOOKUP(E15,Tables!$E$2:$F$16,2,0)) -> 0 | J15: =IF(H15="",0,VLOOKUP(H15,Tables!$E$5:$F$16,2,0)) -> 0 | M15: =IF(K15="",0,VLOOKUP(K15,Tables!$E$5:$F$16,2,0)) -> 0 | P15: =IF(N15="",0,VLOOKUP(N15,Tables!$E$5:$F$16,2,0)) -> 0 | S15: =IF(Q15="",0,VLOOKUP(Q15,Tables!$E$5:$F$16,2,0)) -> 0 | T15: =F15*G15+I15*J15+L15*M15+O15*P15+R15*S15 -> 0 | U15: =IF(OR(NOT(ISERROR(MATCH(B15,Tables!B$37:B$49,0))),WEEKDAY(B15,2)=7),8,0)*W15 -> 0 | W15: =COUNTA(E15,H15,K15,N15,Q15) -> 0 | X15: =T15+U15+V15 -> 0
... C21: =MONTH(B21) -> 1 | G21: =IF(E21="",0,VLOOKUP(E21,Tables!$E$2:$F$16,2,0)) -> 0 | J21: =IF(H21="",0,VLOOKUP(H21,Tables!$E$5:$F$16,2,0)) -> 0 | M21: =IF(K21="",0,VLOOKUP(K21,Tables!$E$5:$F$16,2,0)) -> 0 | P21: =IF(N21="",0,VLOOKUP(N21,Tables!$E$5:$F$16,2,0)) -> 0 | S21: =IF(Q21="",0,VLOOKUP(Q21,Tables!$E$5:$F$16,2,0)) -> 0 | T21: =F21*G21+I21*J21+L21*M21+O21*P21+R21*S21 -> 0 | U21: =IF(OR(NOT(ISERROR(MATCH(B21,Tables!B$37:B$49,0))),WEEKDAY(B21,2)=7),8,0)*W21 -> 0 | W21: =COUNTA(E21,H21,K21,N21,Q21) -> 0 | X21: =T21+U21+V21 -> 0
T22: 0 | U22: 0 | V22: 0 | W22: =COUNTA(E22,H22,K22,N22,Q22) -> 0 | X22: =T22+U22+V22 -> 0
A25: Nom infirmier | B25: date | C25: mois | D25: JOUR
A26: jennifer | C26: =MONTH(B26) -> 1 | D26: Nom patient | E26: Soin 1 | G26: Tarification | H26: Soin 2 | J26: Tarification | K26: Soin 3 | M26: Tarification | N26: Soin 4 | P26: Tarification | Q26: Soin 5 | S26: Tarification | T26: Sous total | U26: Majoration D / F | V26: Déplacement | W26: Nombre de passages | X26: Total
C27: =MONTH(B27) -> 1 | G27: =IF(E27=Tables!$E$5,Tables!$F$5,IF('Données mensuelles'!E27=Tables!$E$6,Tables!$F$6,IF('Données mensuelles'!E27=Tables!$E$7,Tables!$F$7,IF('Données mensuelles'!E27=Tables!$E$8,Tables!$F$8,IF('Données mensuelles'!E27=Tables!$E$9,Tables!$F$9,IF('Données mensuelles'!E27=Tables!$E$10,Tables!$F$10,IF('Données mensuelles'!E27=Tables!$E$11,Tables!$F$11,IF(E27=Tables!$E$12,Tables!$F$12,IF('Données mensuelles'!E27=Tables!$E$13,Tables!$F$13,IF(E27=Tables!$E$14,Tables!$F$14,IF(E27=Tables!$E$15,Tables!$F$15,IF(E27=Tables!$E$16,Tables!$F$16)))))))))))) -> 0 | J27: =IF(H27=Tables!$E$5,Tables!$F$5,IF('Données mensuelles'!H27=Tables!$E$6,Tables!$F$6,IF('Données mensuelles'!H27=Tables!$E$7,Tables!$F$7,IF('Données mensuelles'!H27=Tables!$E$8,Tables!$F$8,IF('Données mensuelles'!H27=Tables!$E$9,Tables!$F$9,IF('Données mensuelles'!H27=Tables!$E$10,Tables!$F$10,IF('Données mensuelles'!H27=Tables!$E$11,Tables!$F$11,IF(H27=Tables!$E$12,Tables!$F$12,IF('Données mensuelles'!H27=Tables!$E$13,Tables!$F$13,IF(H27=Tables!$E$14,Tables!$F$14,IF(H27=Tables!$E$15,Tables!$F$15,IF(H27=Tables!$E$16,Tables!$F$16)))))))))))) -> 0 | M27: =IF(K27=Tables!$E$5,Tables!$F$5,IF('Données mensuelles'!K27=Tables!$E$6,Tables!$F$6,IF('Données mensuelles'!K27=Tables!$E$7,Tables!$F$7,IF('Données mensuelles'!K27=Tables!$E$8,Tables!$F$8,IF('Données mensuelles'!K27=Tables!$E$9,Tables!$F$9,IF('Données mensuelles'!K27=Tables!$E$10,Tables!$F$10,IF('Données mensuelles'!K27=Tables!$E$11,Tables!$F$11,IF(K27=Tables!$E$12,Tables!$F$12,IF('Données mensuelles'!K27=Tables!$E$13,Tables!$F$13,IF(K27=Tables!$E$14,Tables!$F$14,IF(K27=Tables!$E$15,Tables!$F$15,IF(K27=Tables!$E$16,Tables!$F$16)))))))))))) -> 0 | P27: =IF(N27=Tables!$E$5,Tables!$F$5,IF('Données mensuelles'!N27=Tables!$E$6,Tables!$F$6,IF('Données mensuelles'!N27=Tables!$E$7,Tables!$F$7,IF('Données mensuelles'!N27=Tables!$E$8,Tables!$F$8,IF('Données mensuelles'!N27=Tables!$E$9,Tables!$F$9,IF('Données mensuelles'!N27=Tables!$E$10,Tables!$F$10,IF('Données mensuelles'!N27=Tables!$E$11,Tables!$F$11,IF(N27=Tables!$E$12,Tables!$F$12,IF('Données mensuelles'!N27=Tables!$E$13,Tables!$F$13,IF(N27=Tables!$E$14,Tables!$F$14,IF(N27=Tables!$E$15,Tables!$F$15,IF(N27=Tables!$E$16,Tables!$F$16)))))))))))) -> 0 | S27: =IF(Q27=Tables!$E$5,Tables!$F$5,IF('Données mensuelles'!Q27=Tables!$E$6,Tables!$F$6,IF('Données mensuelles'!Q27=Tables!$E$7,Tables!$F$7,IF('Données mensuelles'!Q27=Tables!$E$8,Tables!$F$8,IF('Données mensuelles'!Q27=Tables!$E$9,Tables!$F$9,IF('Données mensuelles'!Q27=Tables!$E$10,Tables!$F$10,IF('Données mensuelles'!Q27=Tables!$E$11,Tables!$F$11,IF(Q27=Tables!$E$12,Tables!$F$12,IF('Données mensuelles'!Q27=Tables!$E$13,Tables!$F$13,IF(Q27=Tables!$E$14,Tables!$F$14,IF(Q27=Tables!$E$15,Tables!$F$15,IF(Q27=Tables!$E$16,Tables!$F$16)))))))))))) -> 0 | T27: =S27+P27+M27+J27+G27 -> 0 | X27: =T27+(V27*W27)+(U27*Tables!$E$20*W27) -> 0
C28: =MONTH(B28) -> 1 | G28: =IF(E28=Tables!$E$5,Tables!$F$5,IF('Données mensuelles'!E28=Tables!$E$6,Tables!$F$6,IF('Données mensuelles'!E28=Tables!$E$7,Tables!$F$7,IF('Données mensuelles'!E28=Tables!$E$8,Tables!$F$8,IF('Données mensuelles'!E28=Tables!$E$9,Tables!$F$9,IF('Données mensuelles'!E28=Tables!$E$10,Tables!$F$10,IF('Données mensuelles'!E28=Tables!$E$11,Tables!$F$11,IF(E28=Tables!$E$12,Tables!$F$12,IF('Données mensuelles'!E28=Tables!$E$13,Tables!$F$13,IF(E28=Tables!$E$14,Tables!$F$14,IF(E28=Tables!$E$15,Tables!$F$15,IF(E28=Tables!$E$16,Tables!$F$16)))))))))))) -> 0 | J28: =IF(H28=Tables!$E$5,Tables!$F$5,IF('Données mensuelles'!H28=Tables!$E$6,Tables!$F$6,IF('Données mensuelles'!H28=Tables!$E$7,Tables!$F$7,IF('Données mensuelles'!H28=Tables!$E$8,Tables!$F$8,IF('Données mensuelles'!H28=Tables!$E$9,Tables!$F$9,IF('Données mensuelles'!H28=Tables!$E$10,Tables!$F$10,IF('Données mensuelles'!H28=Tables!$E$11,Tables!$F$11,IF(H28=Tables!$E$12,Tables!$F$12,IF('Données mensuelles'!H28=Tables!$E$13,Tables!$F$13,IF(H28=Tables!$E$14,Tables!$F$14,IF(H28=Tables!$E$15,Tables!$F$15,IF(H28=Tables!$E$16,Tables!$F$16)))))))))))) -> 0 | M28: =IF(K28=Tables!$E$5,Tables!$F$5,IF('Données mensuelles'!K28=Tables!$E$6,Tables!$F$6,IF('Données mensuelles'!K28=Tables!$E$7,Tables!$F$7,IF('Données mensuelles'!K28=Tables!$E$8,Tables!$F$8,IF('Données mensuelles'!K28=Tables!$E$9,Tables!$F$9,IF('Données mensuelles'!K28=Tables!$E$10,Tables!$F$10,IF('Données mensuelles'!K28=Tables!$E$11,Tables!$F$11,IF(K28=Tables!$E$12,Tables!$F$12,IF('Données mensuelles'!K28=Tables!$E$13,Tables!$F$13,IF(K28=Tables!$E$14,Tables!$F$14,IF(K28=Tables!$E$15,Tables!$F$15,IF(K28=Tables!$E$16,Tables!$F$16)))))))))))) -> 0 | P28: =IF(N28=Tables!$E$5,Tables!$F$5,IF('Données mensuelles'!N28=Tables!$E$6,Tables!$F$6,IF('Données mensuelles'!N28=Tables!$E$7,Tables!$F$7,IF('Données mensuelles'!N28=Tables!$E$8,Tables!$F$8,IF('Données mensuelles'!N28=Tables!$E$9,Tables!$F$9,IF('Données mensuelles'!N28=Tables!$E$10,Tables!$F$10,IF('Données mensuelles'!N28=Tables!$E$11,Tables!$F$11,IF(N28=Tables!$E$12,Tables!$F$12,IF('Données mensuelles'!N28=Tables!$E$13,Tables!$F$13,IF(N28=Tables!$E$14,Tables!$F$14,IF(N28=Tables!$E$15,Tables!$F$15,IF(N28=Tables!$E$16,Tables!$F$16)))))))))))) -> 0 | S28: =IF(Q28=Tables!$E$5,Tables!$F$5,IF('Données mensuelles'!Q28=Tables!$E$6,Tables!$F$6,IF('Données mensuelles'!Q28=Tables!$E$7,Tables!$F$7,IF('Données mensuelles'!Q28=Tables!$E$8,Tables!$F$8,IF('Données mensuelles'!Q28=Tables!$E$9,Tables!$F$9,IF('Données mensuelles'!Q28=Tables!$E$10,Tables!$F$10,IF('Données mensuelles'!Q28=Tables!$E$11,Tables!$F$11,IF(Q28=Tables!$E$12,Tables!$F$12,IF('Données mensuelles'!Q28=Tables!$E$13,Tables!$F$13,IF(Q28=Tables!$E$14,Tables!$F$14,IF(Q28=Tables!$E$15,Tables!$F$15,IF(Q28=Tables!$E$16,Tables!$F$16)))))))))))) -> 0 | T28: =S28+P28+M28+J28+G28 -> 0 | X28: =T28+(V28*W28)+(U28*Tables!$E$20*W28) -> 0
C29: =MONTH(B29) -> 1 | G29: =IF(E29=Tables!$E$5,Tables!$F$5,IF('Données mensuelles'!E29=Tables!$E$6,Tables!$F$6,IF('Données mensuelles'!E29=Tables!$E$7,Tables!$F$7,IF('Données mensuelles'!E29=Tables!$E$8,Tables!$F$8,IF('Données mensuelles'!E29=Tables!$E$9,Tables!$F$9,IF('Données mensuelles'!E29=Tables!$E$10,Tables!$F$10,IF('Données mensuelles'!E29=Tables!$E$11,Tables!$F$11,IF(E29=Tables!$E$12,Tables!$F$12,IF('Données mensuelles'!E29=Tables!$E$13,Tables!$F$13,IF(E29=Tables!$E$14,Tables!$F$14,IF(E29=Tables!$E$15,Tables!$F$15,IF(E29=Tables!$E$16,Tables!$F$16)))))))))))) -> 0 | J29: =IF(H29=Tables!$E$5,Tables!$F$5,IF('Données mensuelles'!H29=Tables!$E$6,Tables!$F$6,IF('Données mensuelles'!H29=Tables!$E$7,Tables!$F$7,IF('Données mensuelles'!H29=Tables!$E$8,Tables!$F$8,IF('Données mensuelles'!H29=Tables!$E$9,Tables!$F$9,IF('Données mensuelles'!H29=Tables!$E$10,Tables!$F$10,IF('Données mensuelles'!H29=Tables!$E$11,Tables!$F$11,IF(H29=Tables!$E$12,Tables!$F$12,IF('Données mensuelles'!H29=Tables!$E$13,Tables!$F$13,IF(H29=Tables!$E$14,Tables!$F$14,IF(H29=Tables!$E$15,Tables!$F$15,IF(H29=Tables!$E$16,Tables!$F$16)))))))))))) -> 0 | M29: =IF(K29=Tables!$E$5,Tables!$F$5,IF('Données mensuelles'!K29=Tables!$E$6,Tables!$F$6,IF('Données mensuelles'!K29=Tables!$E$7,Tables!$F$7,IF('Données mensuelles'!K29=Tables!$E$8,Tables!$F$8,IF('Données mensuelles'!K29=Tables!$E$9,Tables!$F$9,IF('Données mensuelles'!K29=Tables!$E$10,Tables!$F$10,IF('Données mensuelles'!K29=Tables!$E$11,Tables!$F$11,IF(K29=Tables!$E$12,Tables!$F$12,IF('Données mensuelles'!K29=Tables!$E$13,Tables!$F$13,IF(K29=Tables!$E$14,Tables!$F$14,IF(K29=Tables!$E$15,Tables!$F$15,IF(K29=Tables!$E$16,Tables!$F$16)))))))))))) -> 0 | P29: =IF(N29=Tables!$E$5,Tables!$F$5,IF('Données mensuelles'!N29=Tables!$E$6,Tables!$F$6,IF('Données mensuelles'!N29=Tables!$E$7,Tables!$F$7,IF('Données mensuelles'!N29=Tables!$E$8,Tables!$F$8,IF('Données mensuelles'!N29=Tables!$E$9,Tables!$F$9,IF('Données mensuelles'!N29=Tables!$E$10,Tables!$F$10,IF('Données mensuelles'!N29=Tables!$E$11,Tables!$F$11,IF(N29=Tables!$E$12,Tables!$F$12,IF('Données mensuelles'!N29=Tables!$E$13,Tables!$F$13,IF(N29=Tables!$E$14,Tables!$F$14,IF(N29=Tables!$E$15,Tables!$F$15,IF(N29=Tables!$E$16,Tables!$F$16)))))))))))) -> 0 | S29: =IF(Q29=Tables!$E$5,Tables!$F$5,IF('Données mensuelles'!Q29=Tables!$E$6,Tables!$F$6,IF('Données mensuelles'!Q29=Tables!$E$7,Tables!$F$7,IF('Données mensuelles'!Q29=Tables!$E$8,Tables!$F$8,IF('Données mensuelles'!Q29=Tables!$E$9,Tables!$F$9,IF('Données mensuelles'!Q29=Tables!$E$10,Tables!$F$10,IF('Données mensuelles'!Q29=Tables!$E$11,Tables!$F$11,IF(Q29=Tables!$E$12,Tables!$F$12,IF('Données mensuelles'!Q29=Tables!$E$13,Tables!$F$13,IF(Q29=Tables!$E$14,Tables!$F$14,IF(Q29=Tables!$E$15,Tables!$F$15,IF(Q29=Tables!$E$16,Tables!$F$16)))))))))))) -> 0 | T29: =S29+P29+M29+J29+G29 -> 0 | X29: =T29+(V29*W29)+(U29*Tables!$E$20*W29) -> 0
C30: =MONTH(B30) -> 1 | G30: =IF(E30=Tables!$E$5,Tables!$F$5,IF('Données mensuelles'!E30=Tables!$E$6,Tables!$F$6,IF('Données mensuelles'!E30=Tables!$E$7,Tables!$F$7,IF('Données mensuelles'!E30=Tables!$E$8,Tables!$F$8,IF('Données mensuelles'!E30=Tables!$E$9,Tables!$F$9,IF('Données mensuelles'!E30=Tables!$E$10,Tables!$F$10,IF('Données mensuelles'!E30=Tables!$E$11,Tables!$F$11,IF(E30=Tables!$E$12,Tables!$F$12,IF('Données mensuelles'!E30=Tables!$E$13,Tables!$F$13,IF(E30=Tables!$E$14,Tables!$F$14,IF(E30=Tables!$E$15,Tables!$F$15,IF(E30=Tables!$E$16,Tables!$F$16)))))))))))) -> 0 | J30: =IF(H30=Tables!$E$5,Tables!$F$5,IF('Données mensuelles'!H30=Tables!$E$6,Tables!$F$6,IF('Données mensuelles'!H30=Tables!$E$7,Tables!$F$7,IF('Données mensuelles'!H30=Tables!$E$8,Tables!$F$8,IF('Données mensuelles'!H30=Tables!$E$9,Tables!$F$9,IF('Données mensuelles'!H30=Tables!$E$10,Tables!$F$10,IF('Données mensuelles'!H30=Tables!$E$11,Tables!$F$11,IF(H30=Tables!$E$12,Tables!$F$12,IF('Données mensuelles'!H30=Tables!$E$13,Tables!$F$13,IF(H30=Tables!$E$14,Tables!$F$14,IF(H30=Tables!$E$15,Tables!$F$15,IF(H30=Tables!$E$16,Tables!$F$16)))))))))))) -> 0 | M30: =IF(K30=Tables!$E$5,Tables!$F$5,IF('Données mensuelles'!K30=Tables!$E$6,Tables!$F$6,IF('Données mensuelles'!K30=Tables!$E$7,Tables!$F$7,IF('Données mensuelles'!K30=Tables!$E$8,Tables!$F$8,IF('Données mensuelles'!K30=Tables!$E$9,Tables!$F$9,IF('Données mensuelles'!K30=Tables!$E$10,Tables!$F$10,IF('Données mensuelles'!K30=Tables!$E$11,Tables!$F$11,IF(K30=Tables!$E$12,Tables!$F$12,IF('Données mensuelles'!K30=Tables!$E$13,Tables!$F$13,IF(K30=Tables!$E$14,Tables!$F$14,IF(K30=Tables!$E$15,Tables!$F$15,IF(K30=Tables!$E$16,Tables!$F$16)))))))))))) -> 0 | P30: =IF(N30=Tables!$E$5,Tables!$F$5,IF('Données mensuelles'!N30=Tables!$E$6,Tables!$F$6,IF('Données mensuelles'!N30=Tables!$E$7,Tables!$F$7,IF('Données mensuelles'!N30=Tables!$E$8,Tables!$F$8,IF('Données mensuelles'!N30=Tables!$E$9,Tables!$F$9,IF('Données mensuelles'!N30=Tables!$E$10,Tables!$F$10,IF('Données mensuelles'!N30=Tables!$E$11,Tables!$F$11,IF(N30=Tables!$E$12,Tables!$F$12,IF('Données mensuelles'!N30=Tables!$E$13,Tables!$F$13,IF(N30=Tables!$E$14,Tables!$F$14,IF(N30=Tables!$E$15,Tables!$F$15,IF(N30=Tables!$E$16,Tables!$F$16)))))))))))) -> 0 | S30: =IF(Q30=Tables!$E$5,Tables!$F$5,IF('Données mensuelles'!Q30=Tables!$E$6,Tables!$F$6,IF('Données mensuelles'!Q30=Tables!$E$7,Tables!$F$7,IF('Données mensuelles'!Q30=Tables!$E$8,Tables!$F$8,IF('Données mensuelles'!Q30=Tables!$E$9,Tables!$F$9,IF('Données mensuelles'!Q30=Tables!$E$10,Tables!$F$10,IF('Données mensuelles'!Q30=Tables!$E$11,Tables!$F$11,IF(Q30=Tables!$E$12,Tables!$F$12,IF('Données mensuelles'!Q30=Tables!$E$13,Tables!$F$13,IF(Q30=Tables!$E$14,Tables!$F$14,IF(Q30=Tables!$E$15,Tables!$F$15,IF(Q30=Tables!$E$16,Tables!$F$16)))))))))))) -> 0 | T30: =S30+P30+M30+J30+G30 -> 0 | X30: =T30+(V30*W30)+(U30*Tables!$E$20*W30) -> 0
C31: =MONTH(B31) -> 1 | G31: =IF(E31=Tables!$E$5,Tables!$F$5,IF('Données mensuelles'!E31=Tables!$E$6,Tables!$F$6,IF('Données mensuelles'!E31=Tables!$E$7,Tables!$F$7,IF('Données mensuelles'!E31=Tables!$E$8,Tables!$F$8,IF('Données mensuelles'!E31=Tables!$E$9,Tables!$F$9,IF('Données mensuelles'!E31=Tables!$E$10,Tables!$F$10,IF('Données mensuelles'!E31=Tables!$E$11,Tables!$F$11,IF(E31=Tables!$E$12,Tables!$F$12,IF('Données mensuelles'!E31=Tables!$E$13,Tables!$F$13,IF(E31=Tables!$E$14,Tables!$F$14,IF(E31=Tables!$E$15,Tables!$F$15,IF(E31=Tables!$E$16,Tables!$F$16)))))))))))) -> 0 | J31: =IF(H31=Tables!$E$5,Tables!$F$5,IF('Données mensuelles'!H31=Tables!$E$6,Tables!$F$6,IF('Données mensuelles'!H31=Tables!$E$7,Tables!$F$7,IF('Données mensuelles'!H31=Tables!$E$8,Tables!$F$8,IF('Données mensuelles'!H31=Tables!$E$9,Tables!$F$9,IF('Données mensuelles'!H31=Tables!$E$10,Tables!$F$10,IF('Données mensuelles'!H31=Tables!$E$11,Tables!$F$11,IF(H31=Tables!$E$12,Tables!$F$12,IF('Données mensuelles'!H31=Tables!$E$13,Tables!$F$13,IF(H31=Tables!$E$14,Tables!$F$14,IF(H31=Tables!$E$15,Tables!$F$15,IF(H31=Tables!$E$16,Tables!$F$16)))))))))))) -> 0 | M31: =IF(K31=Tables!$E$5,Tables!$F$5,IF('Données mensuelles'!K31=Tables!$E$6,Tables!$F$6,IF('Données mensuelles'!K31=Tables!$E$7,Tables!$F$7,IF('Données mensuelles'!K31=Tables!$E$8,Tables!$F$8,IF('Données mensuelles'!K31=Tables!$E$9,Tables!$F$9,IF('Données mensuelles'!K31=Tables!$E$10,Tables!$F$10,IF('Données mensuelles'!K31=Tables!$E$11,Tables!$F$11,IF(K31=Tables!$E$12,Tables!$F$12,IF('Données mensuelles'!K31=Tables!$E$13,Tables!$F$13,IF(K31=Tables!$E$14,Tables!$F$14,IF(K31=Tables!$E$15,Tables!$F$15,IF(K31=Tables!$E$16,Tables!$F$16)))))))))))) -> 0 | P31: =IF(N31=Tables!$E$5,Tables!$F$5,IF('Données mensuelles'!N31=Tables!$E$6,Tables!$F$6,IF('Données mensuelles'!N31=Tables!$E$7,Tables!$F$7,IF('Données mensuelles'!N31=Tables!$E$8,Tables!$F$8,IF('Données mensuelles'!N31=Tables!$E$9,Tables!$F$9,IF('Données mensuelles'!N31=Tables!$E$10,Tables!$F$10,IF('Données mensuelles'!N31=Tables!$E$11,Tables!$F$11,IF(N31=Tables!$E$12,Tables!$F$12,IF('Données mensuelles'!N31=Tables!$E$13,Tables!$F$13,IF(N31=Tables!$E$14,Tables!$F$14,IF(N31=Tables!$E$15,Tables!$F$15,IF(N31=Tables!$E$16,Tables!$F$16)))))))))))) -> 0 | S31: =IF(Q31=Tables!$E$5,Tables!$F$5,IF('Données mensuelles'!Q31=Tables!$E$6,Tables!$F$6,IF('Données mensuelles'!Q31=Tables!$E$7,Tables!$F$7,IF('Données mensuelles'!Q31=Tables!$E$8,Tables!$F$8,IF('Données mensuelles'!Q31=Tables!$E$9,Tables!$F$9,IF('Données mensuelles'!Q31=Tables!$E$10,Tables!$F$10,IF('Données mensuelles'!Q31=Tables!$E$11,Tables!$F$11,IF(Q31=Tables!$E$12,Tables!$F$12,IF('Données mensuelles'!Q31=Tables!$E$13,Tables!$F$13,IF(Q31=Tables!$E$14,Tables!$F$14,IF(Q31=Tables!$E$15,Tables!$F$15,IF(Q31=Tables!$E$16,Tables!$F$16)))))))))))) -> 0 | T31: =S31+P31+M31+J31+G31 -> 0 | X31: =T31+(V31*W31)+(U31*Tables!$E$20*W31) -> 0
C32: =MONTH(B32) -> 1 | G32: =IF(E32=Tables!$E$5,Tables!$F$5,IF('Données mensuelles'!E32=Tables!$E$6,Tables!$F$6,IF('Données mensuelles'!E32=Tables!$E$7,Tables!$F$7,IF('Données mensuelles'!E32=Tables!$E$8,Tables!$F$8,IF('Données mensuelles'!E32=Tables!$E$9,Tables!$F$9,IF('Données mensuelles'!E32=Tables!$E$10,Tables!$F$10,IF('Données mensuelles'!E32=Tables!$E$11,Tables!$F$11,IF(E32=Tables!$E$12,Tables!$F$12,IF('Données mensuelles'!E32=Tables!$E$13,Tables!$F$13,IF(E32=Tables!$E$14,Tables!$F$14,IF(E32=Tables!$E$15,Tables!$F$15,IF(E32=Tables!$E$16,Tables!$F$16)))))))))))) -> 0 | J32: =IF(H32=Tables!$E$5,Tables!$F$5,IF('Données mensuelles'!H32=Tables!$E$6,Tables!$F$6,IF('Données mensuelles'!H32=Tables!$E$7,Tables!$F$7,IF('Données mensuelles'!H32=Tables!$E$8,Tables!$F$8,IF('Données mensuelles'!H32=Tables!$E$9,Tables!$F$9,IF('Données mensuelles'!H32=Tables!$E$10,Tables!$F$10,IF('Données mensuelles'!H32=Tables!$E$11,Tables!$F$11,IF(H32=Tables!$E$12,Tables!$F$12,IF('Données mensuelles'!H32=Tables!$E$13,Tables!$F$13,IF(H32=Tables!$E$14,Tables!$F$14,IF(H32=Tables!$E$15,Tables!$F$15,IF(H32=Tables!$E$16,Tables!$F$16)))))))))))) -> 0 | M32: =IF(K32=Tables!$E$5,Tables!$F$5,IF('Données mensuelles'!K32=Tables!$E$6,Tables!$F$6,IF('Données mensuelles'!K32=Tables!$E$7,Tables!$F$7,IF('Données mensuelles'!K32=Tables!$E$8,Tables!$F$8,IF('Données mensuelles'!K32=Tables!$E$9,Tables!$F$9,IF('Données mensuelles'!K32=Tables!$E$10,Tables!$F$10,IF('Données mensuelles'!K32=Tables!$E$11,Tables!$F$11,IF(K32=Tables!$E$12,Tables!$F$12,IF('Données mensuelles'!K32=Tables!$E$13,Tables!$F$13,IF(K32=Tables!$E$14,Tables!$F$14,IF(K32=Tables!$E$15,Tables!$F$15,IF(K32=Tables!$E$16,Tables!$F$16)))))))))))) -> 0 | P32: =IF(N32=Tables!$E$5,Tables!$F$5,IF('Données mensuelles'!N32=Tables!$E$6,Tables!$F$6,IF('Données mensuelles'!N32=Tables!$E$7,Tables!$F$7,IF('Données mensuelles'!N32=Tables!$E$8,Tables!$F$8,IF('Données mensuelles'!N32=Tables!$E$9,Tables!$F$9,IF('Données mensuelles'!N32=Tables!$E$10,Tables!$F$10,IF('Données mensuelles'!N32=Tables!$E$11,Tables!$F$11,IF(N32=Tables!$E$12,Tables!$F$12,IF('Données mensuelles'!N32=Tables!$E$13,Tables!$F$13,IF(N32=Tables!$E$14,Tables!$F$14,IF(N32=Tables!$E$15,Tables!$F$15,IF(N32=Tables!$E$16,Tables!$F$16)))))))))))) -> 0 | S32: =IF(Q32=Tables!$E$5,Tables!$F$5,IF('Données mensuelles'!Q32=Tables!$E$6,Tables!$F$6,IF('Données mensuelles'!Q32=Tables!$E$7,Tables!$F$7,IF('Données mensuelles'!Q32=Tables!$E$8,Tables!$F$8,IF('Données mensuelles'!Q32=Tables!$E$9,Tables!$F$9,IF('Données mensuelles'!Q32=Tables!$E$10,Tables!$F$10,IF('Données mensuelles'!Q32=Tables!$E$11,Tables!$F$11,IF(Q32=Tables!$E$12,Tables!$F$12,IF('Données mensuelles'!Q32=Tables!$E$13,Tables!$F$13,IF(Q32=Tables!$E$14,Tables!$F$14,IF(Q32=Tables!$E$15,Tables!$F$15,IF(Q32=Tables!$E$16,Tables!$F$16)))))))))))) -> 0 | T32: =S32+P32+M32+J32+G32 -> 0 | X32: =T32+(V32*W32)+(U32*Tables!$E$20*W32) -> 0
C33: =MONTH(B33) -> 1 | G33: =IF(E33=Tables!$E$5,Tables!$F$5,IF('Données mensuelles'!E33=Tables!$E$6,Tables!$F$6,IF('Données mensuelles'!E33=Tables!$E$7,Tables!$F$7,IF('Données mensuelles'!E33=Tables!$E$8,Tables!$F$8,IF('Données mensuelles'!E33=Tables!$E$9,Tables!$F$9,IF('Données mensuelles'!E33=Tables!$E$10,Tables!$F$10,IF('Données mensuelles'!E33=Tables!$E$11,Tables!$F$11,IF(E33=Tables!$E$12,Tables!$F$12,IF('Données mensuelles'!E33=Tables!$E$13,Tables!$F$13,IF(E33=Tables!$E$14,Tables!$F$14,IF(E33=Tables!$E$15,Tables!$F$15,IF(E33=Tables!$E$16,Tables!$F$16)))))))))))) -> 0 | J33: =IF(H33=Tables!$E$5,Tables!$F$5,IF('Données mensuelles'!H33=Tables!$E$6,Tables!$F$6,IF('Données mensuelles'!H33=Tables!$E$7,Tables!$F$7,IF('Données mensuelles'!H33=Tables!$E$8,Tables!$F$8,IF('Données mensuelles'!H33=Tables!$E$9,Tables!$F$9,IF('Données mensuelles'!H33=Tables!$E$10,Tables!$F$10,IF('Données mensuelles'!H33=Tables!$E$11,Tables!$F$11,IF(H33=Tables!$E$12,Tables!$F$12,IF('Données mensuelles'!H33=Tables!$E$13,Tables!$F$13,IF(H33=Tables!$E$14,Tables!$F$14,IF(H33=Tables!$E$15,Tables!$F$15,IF(H33=Tables!$E$16,Tables!$F$16)))))))))))) -> 0 | M33: =IF(K33=Tables!$E$5,Tables!$F$5,IF('Données mensuelles'!K33=Tables!$E$6,Tables!$F$6,IF('Données mensuelles'!K33=Tables!$E$7,Tables!$F$7,IF('Données mensuelles'!K33=Tables!$E$8,Tables!$F$8,IF('Données mensuelles'!K33=Tables!$E$9,Tables!$F$9,IF('Données mensuelles'!K33=Tables!$E$10,Tables!$F$10,IF('Données mensuelles'!K33=Tables!$E$11,Tables!$F$11,IF(K33=Tables!$E$12,Tables!$F$12,IF('Données mensuelles'!K33=Tables!$E$13,Tables!$F$13,IF(K33=Tables!$E$14,Tables!$F$14,IF(K33=Tables!$E$15,Tables!$F$15,IF(K33=Tables!$E$16,Tables!$F$16)))))))))))) -> 0 | P33: =IF(N33=Tables!$E$5,Tables!$F$5,IF('Données mensuelles'!N33=Tables!$E$6,Tables!$F$6,IF('Données mensuelles'!N33=Tables!$E$7,Tables!$F$7,IF('Données mensuelles'!N33=Tables!$E$8,Tables!$F$8,IF('Données mensuelles'!N33=Tables!$E$9,Tables!$F$9,IF('Données mensuelles'!N33=Tables!$E$10,Tables!$F$10,IF('Données mensuelles'!N33=Tables!$E$11,Tables!$F$11,IF(N33=Tables!$E$12,Tables!$F$12,IF('Données mensuelles'!N33=Tables!$E$13,Tables!$F$13,IF(N33=Tables!$E$14,Tables!$F$14,IF(N33=Tables!$E$15,Tables!$F$15,IF(N33=Tables!$E$16,Tables!$F$16)))))))))))) -> 0 | S33: =IF(Q33=Tables!$E$5,Tables!$F$5,IF('Données mensuelles'!Q33=Tables!$E$6,Tables!$F$6,IF('Données mensuelles'!Q33=Tables!$E$7,Tables!$F$7,IF('Données mensuelles'!Q33=Tables!$E$8,Tables!$F$8,IF('Données mensuelles'!Q33=Tables!$E$9,Tables!$F$9,IF('Données mensuelles'!Q33=Tables!$E$10,Tables!$F$10,IF('Données mensuelles'!Q33=Tables!$E$11,Tables!$F$11,IF(Q33=Tables!$E$12,Tables!$F$12,IF('Données mensuelles'!Q33=Tables!$E$13,Tables!$F$13,IF(Q33=Tables!$E$14,Tables!$F$14,IF(Q33=Tables!$E$15,Tables!$F$15,IF(Q33=Tables!$E$16,Tables!$F$16)))))))))))) -> 0 | T33: =S33+P33+M33+J33+G33 -> 0 | X33: =T33+(V33*W33)+(U33*Tables!$E$20*W33) -> 0
G34: =IF(E34=Tables!$E$5,Tables!$F$5,IF('Données mensuelles'!E34=Tables!$E$6,Tables!$F$6,IF('Données mensuelles'!E34=Tables!$E$7,Tables!$F$7,IF('Données mensuelles'!E34=Tables!$E$8,Tables!$F$8,IF('Données mensuelles'!E34=Tables!$E$9,Tables!$F$9,IF('Données mensuelles'!E34=Tables!$E$10,Tables!$F$10,IF('Données mensuelles'!E34=Tables!$E$11,Tables!$F$11,IF(E34=Tables!$E$12,Tables!$F$12,IF('Données mensuelles'!E34=Tables!$E$13,Tables!$F$13,IF(E34=Tables!$E$14,Tables!$F$14,IF(E34=Tables!$E$15,Tables!$F$15,IF(E34=Tables!$E$16,Tables!$F$16)))))))))))) -> 0 | J34: =IF(H34=Tables!$E$5,Tables!$F$5,IF('Données mensuelles'!H34=Tables!$E$6,Tables!$F$6,IF('Données mensuelles'!H34=Tables!$E$7,Tables!$F$7,IF('Données mensuelles'!H34=Tables!$E$8,Tables!$F$8,IF('Données mensuelles'!H34=Tables!$E$9,Tables!$F$9,IF('Données mensuelles'!H34=Tables!$E$10,Tables!$F$10,IF('Données mensuelles'!H34=Tables!$E$11,Tables!$F$11,IF(H34=Tables!$E$12,Tables!$F$12,IF('Données mensuelles'!H34=Tables!$E$13,Tables!$F$13,IF(H34=Tables!$E$14,Tables!$F$14,IF(H34=Tables!$E$15,Tables!$F$15,IF(H34=Tables!$E$16,Tables!$F$16)))))))))))) -> 0 | M34: =IF(K34=Tables!$E$5,Tables!$F$5,IF('Données mensuelles'!K34=Tables!$E$6,Tables!$F$6,IF('Données mensuelles'!K34=Tables!$E$7,Tables!$F$7,IF('Données mensuelles'!K34=Tables!$E$8,Tables!$F$8,IF('Données mensuelles'!K34=Tables!$E$9,Tables!$F$9,IF('Données mensuelles'!K34=Tables!$E$10,Tables!$F$10,IF('Données mensuelles'!K34=Tables!$E$11,Tables!$F$11,IF(K34=Tables!$E$12,Tables!$F$12,IF('Données mensuelles'!K34=Tables!$E$13,Tables!$F$13,IF(K34=Tables!$E$14,Tables!$F$14,IF(K34=Tables!$E$15,Tables!$F$15,IF(K34=Tables!$E$16,Tables!$F$16)))))))))))) -> 0 | P34: =IF(N34=Tables!$E$5,Tables!$F$5,IF('Données mensuelles'!N34=Tables!$E$6,Tables!$F$6,IF('Données mensuelles'!N34=Tables!$E$7,Tables!$F$7,IF('Données mensuelles'!N34=Tables!$E$8,Tables!$F$8,IF('Données mensuelles'!N34=Tables!$E$9,Tables!$F$9,IF('Données mensuelles'!N34=Tables!$E$10,Tables!$F$10,IF('Données mensuelles'!N34=Tables!$E$11,Tables!$F$11,IF(N34=Tables!$E$12,Tables!$F$12,IF('Données mensuelles'!N34=Tables!$E$13,Tables!$F$13,IF(N34=Tables!$E$14,Tables!$F$14,IF(N34=Tables!$E$15,Tables!$F$15,IF(N34=Tables!$E$16,Tables!$F$16)))))))))))) -> 0 | S34: =IF(Q34=Tables!$E$5,Tables!$F$5,IF('Données mensuelles'!Q34=Tables!$E$6,Tables!$F$6,IF('Données mensuelles'!Q34=Tables!$E$7,Tables!$F$7,IF('Données mensuelles'!Q34=Tables!$E$8,Tables!$F$8,IF('Données mensuelles'!Q34=Tables!$E$9,Tables!$F$9,IF('Données mensuelles'!Q34=Tables!$E$10,Tables!$F$10,IF('Données mensuelles'!Q34=Tables!$E$11,Tables!$F$11,IF(Q34=Tables!$E$12,Tables!$F$12,IF('Données mensuelles'!Q34=Tables!$E$13,Tables!$F$13,IF(Q34=Tables!$E$14,Tables!$F$14,IF(Q34=Tables!$E$15,Tables!$F$15,IF(Q34=Tables!$E$16,Tables!$F$16)))))))))))) -> 0 | T34: =S34+P34+M34+J34+G34 -> 0 | X34: =T34+(V34*W34)+(U34*Tables!$E$20*W34) -> 0
G35: =IF(E35=Tables!$E$5,Tables!$F$5,IF('Données mensuelles'!E35=Tables!$E$6,Tables!$F$6,IF('Données mensuelles'!E35=Tables!$E$7,Tables!$F$7,IF('Données mensuelles'!E35=Tables!$E$8,Tables!$F$8,IF('Données mensuelles'!E35=Tables!$E$9,Tables!$F$9,IF('Données mensuelles'!E35=Tables!$E$10,Tables!$F$10,IF('Données mensuelles'!E35=Tables!$E$11,Tables!$F$11,IF(E35=Tables!$E$12,Tables!$F$12,IF('Données mensuelles'!E35=Tables!$E$13,Tables!$F$13,IF(E35=Tables!$E$14,Tables!$F$14,IF(E35=Tables!$E$15,Tables!$F$15,IF(E35=Tables!$E$16,Tables!$F$16)))))))))))) -> 0 | J35: =IF(H35=Tables!$E$5,Tables!$F$5,IF('Données mensuelles'!H35=Tables!$E$6,Tables!$F$6,IF('Données mensuelles'!H35=Tables!$E$7,Tables!$F$7,IF('Données mensuelles'!H35=Tables!$E$8,Tables!$F$8,IF('Données mensuelles'!H35=Tables!$E$9,Tables!$F$9,IF('Données mensuelles'!H35=Tables!$E$10,Tables!$F$10,IF('Données mensuelles'!H35=Tables!$E$11,Tables!$F$11,IF(H35=Tables!$E$12,Tables!$F$12,IF('Données mensuelles'!H35=Tables!$E$13,Tables!$F$13,IF(H35=Tables!$E$14,Tables!$F$14,IF(H35=Tables!$E$15,Tables!$F$15,IF(H35=Tables!$E$16,Tables!$F$16)))))))))))) -> 0 | M35: =IF(K35=Tables!$E$5,Tables!$F$5,IF('Données mensuelles'!K35=Tables!$E$6,Tables!$F$6,IF('Données mensuelles'!K35=Tables!$E$7,Tables!$F$7,IF('Données mensuelles'!K35=Tables!$E$8,Tables!$F$8,IF('Données mensuelles'!K35=Tables!$E$9,Tables!$F$9,IF('Données mensuelles'!K35=Tables!$E$10,Tables!$F$10,IF('Données mensuelles'!K35=Tables!$E$11,Tables!$F$11,IF(K35=Tables!$E$12,Tables!$F$12,IF('Données mensuelles'!K35=Tables!$E$13,Tables!$F$13,IF(K35=Tables!$E$14,Tables!$F$14,IF(K35=Tables!$E$15,Tables!$F$15,IF(K35=Tables!$E$16,Tables!$F$16)))))))))))) -> 0 | P35: =IF(N35=Tables!$E$5,Tables!$F$5,IF('Données mensuelles'!N35=Tables!$E$6,Tables!$F$6,IF('Données mensuelles'!N35=Tables!$E$7,Tables!$F$7,IF('Données mensuelles'!N35=Tables!$E$8,Tables!$F$8,IF('Données mensuelles'!N35=Tables!$E$9,Tables!$F$9,IF('Données mensuelles'!N35=Tables!$E$10,Tables!$F$10,IF('Données mensuelles'!N35=Tables!$E$11,Tables!$F$11,IF(N35=Tables!$E$12,Tables!$F$12,IF('Données mensuelles'!N35=Tables!$E$13,Tables!$F$13,IF(N35=Tables!$E$14,Tables!$F$14,IF(N35=Tables!$E$15,Tables!$F$15,IF(N35=Tables!$E$16,Tables!$F$16)))))))))))) -> 0 | S35: =IF(Q35=Tables!$E$5,Tables!$F$5,IF('Données mensuelles'!Q35=Tables!$E$6,Tables!$F$6,IF('Données mensuelles'!Q35=Tables!$E$7,Tables!$F$7,IF('Données mensuelles'!Q35=Tables!$E$8,Tables!$F$8,IF('Données mensuelles'!Q35=Tables!$E$9,Tables!$F$9,IF('Données mensuelles'!Q35=Tables!$E$10,Tables!$F$10,IF('Données mensuelles'!Q35=Tables!$E$11,Tables!$F$11,IF(Q35=Tables!$E$12,Tables!$F$12,IF('Données mensuelles'!Q35=Tables!$E$13,Tables!$F$13,IF(Q35=Tables!$E$14,Tables!$F$14,IF(Q35=Tables!$E$15,Tables!$F$15,IF(Q35=Tables!$E$16,Tables!$F$16)))))))))))) -> 0 | T35: =S35+P35+M35+J35+G35 -> 0 | X35: =T35+(V35*W35)+(U35*Tables!$E$20*W35) -> 0
G36: =IF(E36=Tables!$E$5,Tables!$F$5,IF('Données mensuelles'!E36=Tables!$E$6,Tables!$F$6,IF('Données mensuelles'!E36=Tables!$E$7,Tables!$F$7,IF('Données mensuelles'!E36=Tables!$E$8,Tables!$F$8,IF('Données mensuelles'!E36=Tables!$E$9,Tables!$F$9,IF('Données mensuelles'!E36=Tables!$E$10,Tables!$F$10,IF('Données mensuelles'!E36=Tables!$E$11,Tables!$F$11,IF(E36=Tables!$E$12,Tables!$F$12,IF('Données mensuelles'!E36=Tables!$E$13,Tables!$F$13,IF(E36=Tables!$E$14,Tables!$F$14,IF(E36=Tables!$E$15,Tables!$F$15,IF(E36=Tables!$E$16,Tables!$F$16)))))))))))) -> 0 | J36: =IF(H36=Tables!$E$5,Tables!$F$5,IF('Données mensuelles'!H36=Tables!$E$6,Tables!$F$6,IF('Données mensuelles'!H36=Tables!$E$7,Tables!$F$7,IF('Données mensuelles'!H36=Tables!$E$8,Tables!$F$8,IF('Données mensuelles'!H36=Tables!$E$9,Tables!$F$9,IF('Données mensuelles'!H36=Tables!$E$10,Tables!$F$10,IF('Données mensuelles'!H36=Tables!$E$11,Tables!$F$11,IF(H36=Tables!$E$12,Tables!$F$12,IF('Données mensuelles'!H36=Tables!$E$13,Tables!$F$13,IF(H36=Tables!$E$14,Tables!$F$14,IF(H36=Tables!$E$15,Tables!$F$15,IF(H36=Tables!$E$16,Tables!$F$16)))))))))))) -> 0 | M36: =IF(K36=Tables!$E$5,Tables!$F$5,IF('Données mensuelles'!K36=Tables!$E$6,Tables!$F$6,IF('Données mensuelles'!K36=Tables!$E$7,Tables!$F$7,IF('Données mensuelles'!K36=Tables!$E$8,Tables!$F$8,IF('Données mensuelles'!K36=Tables!$E$9,Tables!$F$9,IF('Données mensuelles'!K36=Tables!$E$10,Tables!$F$10,IF('Données mensuelles'!K36=Tables!$E$11,Tables!$F$11,IF(K36=Tables!$E$12,Tables!$F$12,IF('Données mensuelles'!K36=Tables!$E$13,Tables!$F$13,IF(K36=Tables!$E$14,Tables!$F$14,IF(K36=Tables!$E$15,Tables!$F$15,IF(K36=Tables!$E$16,Tables!$F$16)))))))))))) -> 0 | P36: =IF(N36=Tables!$E$5,Tables!$F$5,IF('Données mensuelles'!N36=Tables!$E$6,Tables!$F$6,IF('Données mensuelles'!N36=Tables!$E$7,Tables!$F$7,IF('Données mensuelles'!N36=Tables!$E$8,Tables!$F$8,IF('Données mensuelles'!N36=Tables!$E$9,Tables!$F$9,IF('Données mensuelles'!N36=Tables!$E$10,Tables!$F$10,IF('Données mensuelles'!N36=Tables!$E$11,Tables!$F$11,IF(N36=Tables!$E$12,Tables!$F$12,IF('Données mensuelles'!N36=Tables!$E$13,Tables!$F$13,IF(N36=Tables!$E$14,Tables!$F$14,IF(N36=Tables!$E$15,Tables!$F$15,IF(N36=Tables!$E$16,Tables!$F$16)))))))))))) -> 0 | S36: =IF(Q36=Tables!$E$5,Tables!$F$5,IF('Données mensuelles'!Q36=Tables!$E$6,Tables!$F$6,IF('Données mensuelles'!Q36=Tables!$E$7,Tables!$F$7,IF('Données mensuelles'!Q36=Tables!$E$8,Tables!$F$8,IF('Données mensuelles'!Q36=Tables!$E$9,Tables!$F$9,IF('Données mensuelles'!Q36=Tables!$E$10,Tables!$F$10,IF('Données mensuelles'!Q36=Tables!$E$11,Tables!$F$11,IF(Q36=Tables!$E$12,Tables!$F$12,IF('Données mensuelles'!Q36=Tables!$E$13,Tables!$F$13,IF(Q36=Tables!$E$14,Tables!$F$14,IF(Q36=Tables!$E$15,Tables!$F$15,IF(Q36=Tables!$E$16,Tables!$F$16)))))))))))) -> 0 | T36: =S36+P36+M36+J36+G36 -> 0 | X36: =T36+(V36*W36)+(U36*Tables!$E$20*W36) -> 0
G37: =IF(E37=Tables!$E$5,Tables!$F$5,IF('Données mensuelles'!E37=Tables!$E$6,Tables!$F$6,IF('Données mensuelles'!E37=Tables!$E$7,Tables!$F$7,IF('Données mensuelles'!E37=Tables!$E$8,Tables!$F$8,IF('Données mensuelles'!E37=Tables!$E$9,Tables!$F$9,IF('Données mensuelles'!E37=Tables!$E$10,Tables!$F$10,IF('Données mensuelles'!E37=Tables!$E$11,Tables!$F$11,IF(E37=Tables!$E$12,Tables!$F$12,IF('Données mensuelles'!E37=Tables!$E$13,Tables!$F$13,IF(E37=Tables!$E$14,Tables!$F$14,IF(E37=Tables!$E$15,Tables!$F$15,IF(E37=Tables!$E$16,Tables!$F$16)))))))))))) -> 0 | J37: =IF(H37=Tables!$E$5,Tables!$F$5,IF('Données mensuelles'!H37=Tables!$E$6,Tables!$F$6,IF('Données mensuelles'!H37=Tables!$E$7,Tables!$F$7,IF('Données mensuelles'!H37=Tables!$E$8,Tables!$F$8,IF('Données mensuelles'!H37=Tables!$E$9,Tables!$F$9,IF('Données mensuelles'!H37=Tables!$E$10,Tables!$F$10,IF('Données mensuelles'!H37=Tables!$E$11,Tables!$F$11,IF(H37=Tables!$E$12,Tables!$F$12,IF('Données mensuelles'!H37=Tables!$E$13,Tables!$F$13,IF(H37=Tables!$E$14,Tables!$F$14,IF(H37=Tables!$E$15,Tables!$F$15,IF(H37=Tables!$E$16,Tables!$F$16)))))))))))) -> 0 | M37: =IF(K37=Tables!$E$5,Tables!$F$5,IF('Données mensuelles'!K37=Tables!$E$6,Tables!$F$6,IF('Données mensuelles'!K37=Tables!$E$7,Tables!$F$7,IF('Données mensuelles'!K37=Tables!$E$8,Tables!$F$8,IF('Données mensuelles'!K37=Tables!$E$9,Tables!$F$9,IF('Données mensuelles'!K37=Tables!$E$10,Tables!$F$10,IF('Données mensuelles'!K37=Tables!$E$11,Tables!$F$11,IF(K37=Tables!$E$12,Tables!$F$12,IF('Données mensuelles'!K37=Tables!$E$13,Tables!$F$13,IF(K37=Tables!$E$14,Tables!$F$14,IF(K37=Tables!$E$15,Tables!$F$15,IF(K37=Tables!$E$16,Tables!$F$16)))))))))))) -> 0 | P37: =IF(N37=Tables!$E$5,Tables!$F$5,IF('Données mensuelles'!N37=Tables!$E$6,Tables!$F$6,IF('Données mensuelles'!N37=Tables!$E$7,Tables!$F$7,IF('Données mensuelles'!N37=Tables!$E$8,Tables!$F$8,IF('Données mensuelles'!N37=Tables!$E$9,Tables!$F$9,IF('Données mensuelles'!N37=Tables!$E$10,Tables!$F$10,IF('Données mensuelles'!N37=Tables!$E$11,Tables!$F$11,IF(N37=Tables!$E$12,Tables!$F$12,IF('Données mensuelles'!N37=Tables!$E$13,Tables!$F$13,IF(N37=Tables!$E$14,Tables!$F$14,IF(N37=Tables!$E$15,Tables!$F$15,IF(N37=Tables!$E$16,Tables!$F$16)))))))))))) -> 0 | S37: =IF(Q37=Tables!$E$5,Tables!$F$5,IF('Données mensuelles'!Q37=Tables!$E$6,Tables!$F$6,IF('Données mensuelles'!Q37=Tables!$E$7,Tables!$F$7,IF('Données mensuelles'!Q37=Tables!$E$8,Tables!$F$8,IF('Données mensuelles'!Q37=Tables!$E$9,Tables!$F$9,IF('Données mensuelles'!Q37=Tables!$E$10,Tables!$F$10,IF('Données mensuelles'!Q37=Tables!$E$11,Tables!$F$11,IF(Q37=Tables!$E$12,Tables!$F$12,IF('Données mensuelles'!Q37=Tables!$E$13,Tables!$F$13,IF(Q37=Tables!$E$14,Tables!$F$14,IF(Q37=Tables!$E$15,Tables!$F$15,IF(Q37=Tables!$E$16,Tables!$F$16)))))))))))) -> 0 | T37: =S37+P37+M37+J37+G37 -> 0 | X37: =T37+(V37*W37)+(U37*Tables!$E$20*W37) -> 0
G38: =IF(E38=Tables!$E$5,Tables!$F$5,IF('Données mensuelles'!E38=Tables!$E$6,Tables!$F$6,IF('Données mensuelles'!E38=Tables!$E$7,Tables!$F$7,IF('Données mensuelles'!E38=Tables!$E$8,Tables!$F$8,IF('Données mensuelles'!E38=Tables!$E$9,Tables!$F$9,IF('Données mensuelles'!E38=Tables!$E$10,Tables!$F$10,IF('Données mensuelles'!E38=Tables!$E$11,Tables!$F$11,IF(E38=Tables!$E$12,Tables!$F$12,IF('Données mensuelles'!E38=Tables!$E$13,Tables!$F$13,IF(E38=Tables!$E$14,Tables!$F$14,IF(E38=Tables!$E$15,Tables!$F$15,IF(E38=Tables!$E$16,Tables!$F$16)))))))))))) -> 0 | J38: =IF(H38=Tables!$E$5,Tables!$F$5,IF('Données mensuelles'!H38=Tables!$E$6,Tables!$F$6,IF('Données mensuelles'!H38=Tables!$E$7,Tables!$F$7,IF('Données mensuelles'!H38=Tables!$E$8,Tables!$F$8,IF('Données mensuelles'!H38=Tables!$E$9,Tables!$F$9,IF('Données mensuelles'!H38=Tables!$E$10,Tables!$F$10,IF('Données mensuelles'!H38=Tables!$E$11,Tables!$F$11,IF(H38=Tables!$E$12,Tables!$F$12,IF('Données mensuelles'!H38=Tables!$E$13,Tables!$F$13,IF(H38=Tables!$E$14,Tables!$F$14,IF(H38=Tables!$E$15,Tables!$F$15,IF(H38=Tables!$E$16,Tables!$F$16)))))))))))) -> 0 | M38: =IF(K38=Tables!$E$5,Tables!$F$5,IF('Données mensuelles'!K38=Tables!$E$6,Tables!$F$6,IF('Données mensuelles'!K38=Tables!$E$7,Tables!$F$7,IF('Données mensuelles'!K38=Tables!$E$8,Tables!$F$8,IF('Données mensuelles'!K38=Tables!$E$9,Tables!$F$9,IF('Données mensuelles'!K38=Tables!$E$10,Tables!$F$10,IF('Données mensuelles'!K38=Tables!$E$11,Tables!$F$11,IF(K38=Tables!$E$12,Tables!$F$12,IF('Données mensuelles'!K38=Tables!$E$13,Tables!$F$13,IF(K38=Tables!$E$14,Tables!$F$14,IF(K38=Tables!$E$15,Tables!$F$15,IF(K38=Tables!$E$16,Tables!$F$16)))))))))))) -> 0 | P38: =IF(N38=Tables!$E$5,Tables!$F$5,IF('Données mensuelles'!N38=Tables!$E$6,Tables!$F$6,IF('Données mensuelles'!N38=Tables!$E$7,Tables!$F$7,IF('Données mensuelles'!N38=Tables!$E$8,Tables!$F$8,IF('Données mensuelles'!N38=Tables!$E$9,Tables!$F$9,IF('Données mensuelles'!N38=Tables!$E$10,Tables!$F$10,IF('Données mensuelles'!N38=Tables!$E$11,Tables!$F$11,IF(N38=Tables!$E$12,Tables!$F$12,IF('Données mensuelles'!N38=Tables!$E$13,Tables!$F$13,IF(N38=Tables!$E$14,Tables!$F$14,IF(N38=Tables!$E$15,Tables!$F$15,IF(N38=Tables!$E$16,Tables!$F$16)))))))))))) -> 0 | S38: =IF(Q38=Tables!$E$5,Tables!$F$5,IF('Données mensuelles'!Q38=Tables!$E$6,Tables!$F$6,IF('Données mensuelles'!Q38=Tables!$E$7,Tables!$F$7,IF('Données mensuelles'!Q38=Tables!$E$8,Tables!$F$8,IF('Données mensuelles'!Q38=Tables!$E$9,Tables!$F$9,IF('Données mensuelles'!Q38=Tables!$E$10,Tables!$F$10,IF('Données mensuelles'!Q38=Tables!$E$11,Tables!$F$11,IF(Q38=Tables!$E$12,Tables!$F$12,IF('Données mensuelles'!Q38=Tables!$E$13,Tables!$F$13,IF(Q38=Tables!$E$14,Tables!$F$14,IF(Q38=Tables!$E$15,Tables!$F$15,IF(Q38=Tables!$E$16,Tables!$F$16)))))))))))) -> 0 | T38: =S38+P38+M38+J38+G38 -> 0 | X38: =T38+(V38*W38)+(U38*Tables!$E$20*W38) -> 0
G39: =IF(E39=Tables!$E$5,Tables!$F$5,IF('Données mensuelles'!E39=Tables!$E$6,Tables!$F$6,IF('Données mensuelles'!E39=Tables!$E$7,Tables!$F$7,IF('Données mensuelles'!E39=Tables!$E$8,Tables!$F$8,IF('Données mensuelles'!E39=Tables!$E$9,Tables!$F$9,IF('Données mensuelles'!E39=Tables!$E$10,Tables!$F$10,IF('Données mensuelles'!E39=Tables!$E$11,Tables!$F$11,IF(E39=Tables!$E$12,Tables!$F$12,IF('Données mensuelles'!E39=Tables!$E$13,Tables!$F$13,IF(E39=Tables!$E$14,Tables!$F$14,IF(E39=Tables!$E$15,Tables!$F$15,IF(E39=Tables!$E$16,Tables!$F$16)))))))))))) -> 0 | J39: =IF(H39=Tables!$E$5,Tables!$F$5,IF('Données mensuelles'!H39=Tables!$E$6,Tables!$F$6,IF('Données mensuelles'!H39=Tables!$E$7,Tables!$F$7,IF('Données mensuelles'!H39=Tables!$E$8,Tables!$F$8,IF('Données mensuelles'!H39=Tables!$E$9,Tables!$F$9,IF('Données mensuelles'!H39=Tables!$E$10,Tables!$F$10,IF('Données mensuelles'!H39=Tables!$E$11,Tables!$F$11,IF(H39=Tables!$E$12,Tables!$F$12,IF('Données mensuelles'!H39=Tables!$E$13,Tables!$F$13,IF(H39=Tables!$E$14,Tables!$F$14,IF(H39=Tables!$E$15,Tables!$F$15,IF(H39=Tables!$E$16,Tables!$F$16)))))))))))) -> 0 | M39: =IF(K39=Tables!$E$5,Tables!$F$5,IF('Données mensuelles'!K39=Tables!$E$6,Tables!$F$6,IF('Données mensuelles'!K39=Tables!$E$7,Tables!$F$7,IF('Données mensuelles'!K39=Tables!$E$8,Tables!$F$8,IF('Données mensuelles'!K39=Tables!$E$9,Tables!$F$9,IF('Données mensuelles'!K39=Tables!$E$10,Tables!$F$10,IF('Données mensuelles'!K39=Tables!$E$11,Tables!$F$11,IF(K39=Tables!$E$12,Tables!$F$12,IF('Données mensuelles'!K39=Tables!$E$13,Tables!$F$13,IF(K39=Tables!$E$14,Tables!$F$14,IF(K39=Tables!$E$15,Tables!$F$15,IF(K39=Tables!$E$16,Tables!$F$16)))))))))))) -> 0 | P39: =IF(N39=Tables!$E$5,Tables!$F$5,IF('Données mensuelles'!N39=Tables!$E$6,Tables!$F$6,IF('Données mensuelles'!N39=Tables!$E$7,Tables!$F$7,IF('Données mensuelles'!N39=Tables!$E$8,Tables!$F$8,IF('Données mensuelles'!N39=Tables!$E$9,Tables!$F$9,IF('Données mensuelles'!N39=Tables!$E$10,Tables!$F$10,IF('Données mensuelles'!N39=Tables!$E$11,Tables!$F$11,IF(N39=Tables!$E$12,Tables!$F$12,IF('Données mensuelles'!N39=Tables!$E$13,Tables!$F$13,IF(N39=Tables!$E$14,Tables!$F$14,IF(N39=Tables!$E$15,Tables!$F$15,IF(N39=Tables!$E$16,Tables!$F$16)))))))))))) -> 0 | S39: =IF(Q39=Tables!$E$5,Tables!$F$5,IF('Données mensuelles'!Q39=Tables!$E$6,Tables!$F$6,IF('Données mensuelles'!Q39=Tables!$E$7,Tables!$F$7,IF('Données mensuelles'!Q39=Tables!$E$8,Tables!$F$8,IF('Données mensuelles'!Q39=Tables!$E$9,Tables!$F$9,IF('Données mensuelles'!Q39=Tables!$E$10,Tables!$F$10,IF('Données mensuelles'!Q39=Tables!$E$11,Tables!$F$11,IF(Q39=Tables!$E$12,Tables!$F$12,IF('Données mensuelles'!Q39=Tables!$E$13,Tables!$F$13,IF(Q39=Tables!$E$14,Tables!$F$14,IF(Q39=Tables!$E$15,Tables!$F$15,IF(Q39=Tables!$E$16,Tables!$F$16)))))))))))) -> 0 | T39: =S39+P39+M39+J39+G39 -> 0 | X39: =T39+(V39*W39)+(U39*Tables!$E$20*W39) -> 0
G40: =IF(E40=Tables!$E$5,Tables!$F$5,IF('Données mensuelles'!E40=Tables!$E$6,Tables!$F$6,IF('Données mensuelles'!E40=Tables!$E$7,Tables!$F$7,IF('Données mensuelles'!E40=Tables!$E$8,Tables!$F$8,IF('Données mensuelles'!E40=Tables!$E$9,Tables!$F$9,IF('Données mensuelles'!E40=Tables!$E$10,Tables!$F$10,IF('Données mensuelles'!E40=Tables!$E$11,Tables!$F$11,IF(E40=Tables!$E$12,Tables!$F$12,IF('Données mensuelles'!E40=Tables!$E$13,Tables!$F$13,IF(E40=Tables!$E$14,Tables!$F$14,IF(E40=Tables!$E$15,Tables!$F$15,IF(E40=Tables!$E$16,Tables!$F$16)))))))))))) -> 0 | J40: =IF(H40=Tables!$E$5,Tables!$F$5,IF('Données mensuelles'!H40=Tables!$E$6,Tables!$F$6,IF('Données mensuelles'!H40=Tables!$E$7,Tables!$F$7,IF('Données mensuelles'!H40=Tables!$E$8,Tables!$F$8,IF('Données mensuelles'!H40=Tables!$E$9,Tables!$F$9,IF('Données mensuelles'!H40=Tables!$E$10,Tables!$F$10,IF('Données mensuelles'!H40=Tables!$E$11,Tables!$F$11,IF(H40=Tables!$E$12,Tables!$F$12,IF('Données mensuelles'!H40=Tables!$E$13,Tables!$F$13,IF(H40=Tables!$E$14,Tables!$F$14,IF(H40=Tables!$E$15,Tables!$F$15,IF(H40=Tables!$E$16,Tables!$F$16)))))))))))) -> 0 | M40: =IF(K40=Tables!$E$5,Tables!$F$5,IF('Données mensuelles'!K40=Tables!$E$6,Tables!$F$6,IF('Données mensuelles'!K40=Tables!$E$7,Tables!$F$7,IF('Données mensuelles'!K40=Tables!$E$8,Tables!$F$8,IF('Données mensuelles'!K40=Tables!$E$9,Tables!$F$9,IF('Données mensuelles'!K40=Tables!$E$10,Tables!$F$10,IF('Données mensuelles'!K40=Tables!$E$11,Tables!$F$11,IF(K40=Tables!$E$12,Tables!$F$12,IF('Données mensuelles'!K40=Tables!$E$13,Tables!$F$13,IF(K40=Tables!$E$14,Tables!$F$14,IF(K40=Tables!$E$15,Tables!$F$15,IF(K40=Tables!$E$16,Tables!$F$16)))))))))))) -> 0 | P40: =IF(N40=Tables!$E$5,Tables!$F$5,IF('Données mensuelles'!N40=Tables!$E$6,Tables!$F$6,IF('Données mensuelles'!N40=Tables!$E$7,Tables!$F$7,IF('Données mensuelles'!N40=Tables!$E$8,Tables!$F$8,IF('Données mensuelles'!N40=Tables!$E$9,Tables!$F$9,IF('Données mensuelles'!N40=Tables!$E$10,Tables!$F$10,IF('Données mensuelles'!N40=Tables!$E$11,Tables!$F$11,IF(N40=Tables!$E$12,Tables!$F$12,IF('Données mensuelles'!N40=Tables!$E$13,Tables!$F$13,IF(N40=Tables!$E$14,Tables!$F$14,IF(N40=Tables!$E$15,Tables!$F$15,IF(N40=Tables!$E$16,Tables!$F$16)))))))))))) -> 0 | S40: =IF(Q40=Tables!$E$5,Tables!$F$5,IF('Données mensuelles'!Q40=Tables!$E$6,Tables!$F$6,IF('Données mensuelles'!Q40=Tables!$E$7,Tables!$F$7,IF('Données mensuelles'!Q40=Tables!$E$8,Tables!$F$8,IF('Données mensuelles'!Q40=Tables!$E$9,Tables!$F$9,IF('Données mensuelles'!Q40=Tables!$E$10,Tables!$F$10,IF('Données mensuelles'!Q40=Tables!$E$11,Tables!$F$11,IF(Q40=Tables!$E$12,Tables!$F$12,IF('Données mensuelles'!Q40=Tables!$E$13,Tables!$F$13,IF(Q40=Tables!$E$14,Tables!$F$14,IF(Q40=Tables!$E$15,Tables!$F$15,IF(Q40=Tables!$E$16,Tables!$F$16)))))))))))) -> 0 | T40: =S40+P40+M40+J40+G40 -> 0 | X40: =T40+(V40*W40)+(U40*Tables!$E$20*W40) -> 0
G41: =IF(E41=Tables!$E$5,Tables!$F$5,IF('Données mensuelles'!E41=Tables!$E$6,Tables!$F$6,IF('Données mensuelles'!E41=Tables!$E$7,Tables!$F$7,IF('Données mensuelles'!E41=Tables!$E$8,Tables!$F$8,IF('Données mensuelles'!E41=Tables!$E$9,Tables!$F$9,IF('Données mensuelles'!E41=Tables!$E$10,Tables!$F$10,IF('Données mensuelles'!E41=Tables!$E$11,Tables!$F$11,IF(E41=Tables!$E$12,Tables!$F$12,IF('Données mensuelles'!E41=Tables!$E$13,Tables!$F$13,IF(E41=Tables!$E$14,Tables!$F$14,IF(E41=Tables!$E$15,Tables!$F$15,IF(E41=Tables!$E$16,Tables!$F$16)))))))))))) -> 0 | J41: =IF(H41=Tables!$E$5,Tables!$F$5,IF('Données mensuelles'!H41=Tables!$E$6,Tables!$F$6,IF('Données mensuelles'!H41=Tables!$E$7,Tables!$F$7,IF('Données mensuelles'!H41=Tables!$E$8,Tables!$F$8,IF('Données mensuelles'!H41=Tables!$E$9,Tables!$F$9,IF('Données mensuelles'!H41=Tables!$E$10,Tables!$F$10,IF('Données mensuelles'!H41=Tables!$E$11,Tables!$F$11,IF(H41=Tables!$E$12,Tables!$F$12,IF('Données mensuelles'!H41=Tables!$E$13,Tables!$F$13,IF(H41=Tables!$E$14,Tables!$F$14,IF(H41=Tables!$E$15,Tables!$F$15,IF(H41=Tables!$E$16,Tables!$F$16)))))))))))) -> 0 | M41: =IF(K41=Tables!$E$5,Tables!$F$5,IF('Données mensuelles'!K41=Tables!$E$6,Tables!$F$6,IF('Données mensuelles'!K41=Tables!$E$7,Tables!$F$7,IF('Données mensuelles'!K41=Tables!$E$8,Tables!$F$8,IF('Données mensuelles'!K41=Tables!$E$9,Tables!$F$9,IF('Données mensuelles'!K41=Tables!$E$10,Tables!$F$10,IF('Données mensuelles'!K41=Tables!$E$11,Tables!$F$11,IF(K41=Tables!$E$12,Tables!$F$12,IF('Données mensuelles'!K41=Tables!$E$13,Tables!$F$13,IF(K41=Tables!$E$14,Tables!$F$14,IF(K41=Tables!$E$15,Tables!$F$15,IF(K41=Tables!$E$16,Tables!$F$16)))))))))))) -> 0 | P41: =IF(N41=Tables!$E$5,Tables!$F$5,IF('Données mensuelles'!N41=Tables!$E$6,Tables!$F$6,IF('Données mensuelles'!N41=Tables!$E$7,Tables!$F$7,IF('Données mensuelles'!N41=Tables!$E$8,Tables!$F$8,IF('Données mensuelles'!N41=Tables!$E$9,Tables!$F$9,IF('Données mensuelles'!N41=Tables!$E$10,Tables!$F$10,IF('Données mensuelles'!N41=Tables!$E$11,Tables!$F$11,IF(N41=Tables!$E$12,Tables!$F$12,IF('Données mensuelles'!N41=Tables!$E$13,Tables!$F$13,IF(N41=Tables!$E$14,Tables!$F$14,IF(N41=Tables!$E$15,Tables!$F$15,IF(N41=Tables!$E$16,Tables!$F$16)))))))))))) -> 0 | S41: =IF(Q41=Tables!$E$5,Tables!$F$5,IF('Données mensuelles'!Q41=Tables!$E$6,Tables!$F$6,IF('Données mensuelles'!Q41=Tables!$E$7,Tables!$F$7,IF('Données mensuelles'!Q41=Tables!$E$8,Tables!$F$8,IF('Données mensuelles'!Q41=Tables!$E$9,Tables!$F$9,IF('Données mensuelles'!Q41=Tables!$E$10,Tables!$F$10,IF('Données mensuelles'!Q41=Tables!$E$11,Tables!$F$11,IF(Q41=Tables!$E$12,Tables!$F$12,IF('Données mensuelles'!Q41=Tables!$E$13,Tables!$F$13,IF(Q41=Tables!$E$14,Tables!$F$14,IF(Q41=Tables!$E$15,Tables!$F$15,IF(Q41=Tables!$E$16,Tables!$F$16)))))))))))) -> 0 | T41: =S41+P41+M41+J41+G41 -> 0 | X41: =T41+(V41*W41)+(U41*Tables!$E$20*W41) -> 0
G42: =IF(E42=Tables!$E$5,Tables!$F$5,IF('Données mensuelles'!E42=Tables!$E$6,Tables!$F$6,IF('Données mensuelles'!E42=Tables!$E$7,Tables!$F$7,IF('Données mensuelles'!E42=Tables!$E$8,Tables!$F$8,IF('Données mensuelles'!E42=Tables!$E$9,Tables!$F$9,IF('Données mensuelles'!E42=Tables!$E$10,Tables!$F$10,IF('Données mensuelles'!E42=Tables!$E$11,Tables!$F$11,IF(E42=Tables!$E$12,Tables!$F$12,IF('Données mensuelles'!E42=Tables!$E$13,Tables!$F$13,IF(E42=Tables!$E$14,Tables!$F$14,IF(E42=Tables!$E$15,Tables!$F$15,IF(E42=Tables!$E$16,Tables!$F$16)))))))))))) -> 0 | J42: =IF(H42=Tables!$E$5,Tables!$F$5,IF('Données mensuelles'!H42=Tables!$E$6,Tables!$F$6,IF('Données mensuelles'!H42=Tables!$E$7,Tables!$F$7,IF('Données mensuelles'!H42=Tables!$E$8,Tables!$F$8,IF('Données mensuelles'!H42=Tables!$E$9,Tables!$F$9,IF('Données mensuelles'!H42=Tables!$E$10,Tables!$F$10,IF('Données mensuelles'!H42=Tables!$E$11,Tables!$F$11,IF(H42=Tables!$E$12,Tables!$F$12,IF('Données mensuelles'!H42=Tables!$E$13,Tables!$F$13,IF(H42=Tables!$E$14,Tables!$F$14,IF(H42=Tables!$E$15,Tables!$F$15,IF(H42=Tables!$E$16,Tables!$F$16)))))))))))) -> 0 | M42: =IF(K42=Tables!$E$5,Tables!$F$5,IF('Données mensuelles'!K42=Tables!$E$6,Tables!$F$6,IF('Données mensuelles'!K42=Tables!$E$7,Tables!$F$7,IF('Données mensuelles'!K42=Tables!$E$8,Tables!$F$8,IF('Données mensuelles'!K42=Tables!$E$9,Tables!$F$9,IF('Données mensuelles'!K42=Tables!$E$10,Tables!$F$10,IF('Données mensuelles'!K42=Tables!$E$11,Tables!$F$11,IF(K42=Tables!$E$12,Tables!$F$12,IF('Données mensuelles'!K42=Tables!$E$13,Tables!$F$13,IF(K42=Tables!$E$14,Tables!$F$14,IF(K42=Tables!$E$15,Tables!$F$15,IF(K42=Tables!$E$16,Tables!$F$16)))))))))))) -> 0 | P42: =IF(N42=Tables!$E$5,Tables!$F$5,IF('Données mensuelles'!N42=Tables!$E$6,Tables!$F$6,IF('Données mensuelles'!N42=Tables!$E$7,Tables!$F$7,IF('Données mensuelles'!N42=Tables!$E$8,Tables!$F$8,IF('Données mensuelles'!N42=Tables!$E$9,Tables!$F$9,IF('Données mensuelles'!N42=Tables!$E$10,Tables!$F$10,IF('Données mensuelles'!N42=Tables!$E$11,Tables!$F$11,IF(N42=Tables!$E$12,Tables!$F$12,IF('Données mensuelles'!N42=Tables!$E$13,Tables!$F$13,IF(N42=Tables!$E$14,Tables!$F$14,IF(N42=Tables!$E$15,Tables!$F$15,IF(N42=Tables!$E$16,Tables!$F$16)))))))))))) -> 0 | S42: =IF(Q42=Tables!$E$5,Tables!$F$5,IF('Données mensuelles'!Q42=Tables!$E$6,Tables!$F$6,IF('Données mensuelles'!Q42=Tables!$E$7,Tables!$F$7,IF('Données mensuelles'!Q42=Tables!$E$8,Tables!$F$8,IF('Données mensuelles'!Q42=Tables!$E$9,Tables!$F$9,IF('Données mensuelles'!Q42=Tables!$E$10,Tables!$F$10,IF('Données mensuelles'!Q42=Tables!$E$11,Tables!$F$11,IF(Q42=Tables!$E$12,Tables!$F$12,IF('Données mensuelles'!Q42=Tables!$E$13,Tables!$F$13,IF(Q42=Tables!$E$14,Tables!$F$14,IF(Q42=Tables!$E$15,Tables!$F$15,IF(Q42=Tables!$E$16,Tables!$F$16)))))))))))) -> 0 | T42: =S42+P42+M42+J42+G42 -> 0 | X42: =T42+(V42*W42)+(U42*Tables!$E$20*W42) -> 0
G43: =IF(E43=Tables!$E$5,Tables!$F$5,IF('Données mensuelles'!E43=Tables!$E$6,Tables!$F$6,IF('Données mensuelles'!E43=Tables!$E$7,Tables!$F$7,IF('Données mensuelles'!E43=Tables!$E$8,Tables!$F$8,IF('Données mensuelles'!E43=Tables!$E$9,Tables!$F$9,IF('Données mensuelles'!E43=Tables!$E$10,Tables!$F$10,IF('Données mensuelles'!E43=Tables!$E$11,Tables!$F$11,IF(E43=Tables!$E$12,Tables!$F$12,IF('Données mensuelles'!E43=Tables!$E$13,Tables!$F$13,IF(E43=Tables!$E$14,Tables!$F$14,IF(E43=Tables!$E$15,Tables!$F$15,IF(E43=Tables!$E$16,Tables!$F$16)))))))))))) -> 0 | J43: =IF(H43=Tables!$E$5,Tables!$F$5,IF('Données mensuelles'!H43=Tables!$E$6,Tables!$F$6,IF('Données mensuelles'!H43=Tables!$E$7,Tables!$F$7,IF('Données mensuelles'!H43=Tables!$E$8,Tables!$F$8,IF('Données mensuelles'!H43=Tables!$E$9,Tables!$F$9,IF('Données mensuelles'!H43=Tables!$E$10,Tables!$F$10,IF('Données mensuelles'!H43=Tables!$E$11,Tables!$F$11,IF(H43=Tables!$E$12,Tables!$F$12,IF('Données mensuelles'!H43=Tables!$E$13,Tables!$F$13,IF(H43=Tables!$E$14,Tables!$F$14,IF(H43=Tables!$E$15,Tables!$F$15,IF(H43=Tables!$E$16,Tables!$F$16)))))))))))) -> 0 | M43: =IF(K43=Tables!$E$5,Tables!$F$5,IF('Données mensuelles'!K43=Tables!$E$6,Tables!$F$6,IF('Données mensuelles'!K43=Tables!$E$7,Tables!$F$7,IF('Données mensuelles'!K43=Tables!$E$8,Tables!$F$8,IF('Données mensuelles'!K43=Tables!$E$9,Tables!$F$9,IF('Données mensuelles'!K43=Tables!$E$10,Tables!$F$10,IF('Données mensuelles'!K43=Tables!$E$11,Tables!$F$11,IF(K43=Tables!$E$12,Tables!$F$12,IF('Données mensuelles'!K43=Tables!$E$13,Tables!$F$13,IF(K43=Tables!$E$14,Tables!$F$14,IF(K43=Tables!$E$15,Tables!$F$15,IF(K43=Tables!$E$16,Tables!$F$16)))))))))))) -> 0 | P43: =IF(N43=Tables!$E$5,Tables!$F$5,IF('Données mensuelles'!N43=Tables!$E$6,Tables!$F$6,IF('Données mensuelles'!N43=Tables!$E$7,Tables!$F$7,IF('Données mensuelles'!N43=Tables!$E$8,Tables!$F$8,IF('Données mensuelles'!N43=Tables!$E$9,Tables!$F$9,IF('Données mensuelles'!N43=Tables!$E$10,Tables!$F$10,IF('Données mensuelles'!N43=Tables!$E$11,Tables!$F$11,IF(N43=Tables!$E$12,Tables!$F$12,IF('Données mensuelles'!N43=Tables!$E$13,Tables!$F$13,IF(N43=Tables!$E$14,Tables!$F$14,IF(N43=Tables!$E$15,Tables!$F$15,IF(N43=Tables!$E$16,Tables!$F$16)))))))))))) -> 0 | S43: =IF(Q43=Tables!$E$5,Tables!$F$5,IF('Données mensuelles'!Q43=Tables!$E$6,Tables!$F$6,IF('Données mensuelles'!Q43=Tables!$E$7,Tables!$F$7,IF('Données mensuelles'!Q43=Tables!$E$8,Tables!$F$8,IF('Données mensuelles'!Q43=Tables!$E$9,Tables!$F$9,IF('Données mensuelles'!Q43=Tables!$E$10,Tables!$F$10,IF('Données mensuelles'!Q43=Tables!$E$11,Tables!$F$11,IF(Q43=Tables!$E$12,Tables!$F$12,IF('Données mensuelles'!Q43=Tables!$E$13,Tables!$F$13,IF(Q43=Tables!$E$14,Tables!$F$14,IF(Q43=Tables!$E$15,Tables!$F$15,IF(Q43=Tables!$E$16,Tables!$F$16)))))))))))) -> 0 | T43: =S43+P43+M43+J43+G43 -> 0 | X43: =T43+(V43*W43)+(U43*Tables!$E$20*W43) -> 0
