Workbook

Sheet Catalogue
E1: =SUM(E4:E24834) -> 28 | L1: =SUM(L4:L24834) -> 356.8411
A3: Référence interne | B3: Description FR | C3: Description NL | D3: Fournisseur | E3: Quantité actuelle | F3: Entrées | G3: Sorties | H3: Total | I3: Prix h. TVA | J3: TVA | K3: Prix TTC | L3: Valeur totale QT A | M3: Seuil d'alerte | N3: Clé | O3: Localisation | P3: Actif
A4: 1 | B4: Corde 2fils 60m | C4: Touw 2draads 60 m | D4: Inconnu | E4: 10 | F4: =SUMIF('Journal des stocks'!$C$4:$G$5000,Catalogue!B4,'Journal des stocks'!$F$4:$F$5000) -> 1 | G4: =SUMIF('Journal des stocks'!$C$4:$G$5000,Catalogue!B4,'Journal des stocks'!$G$4:$G$5000) -> 50 | H4: =E4+F4-G4 -> -39 | I4: 0.56 | J4: 21 | K4: =IF(I4=0,0,(I4+(I4*J4)/100)) -> 0.6776 | L4: =IF(E4=0,0,E4*K4) -> 6.776 | N4: 3042 | P4: NON
A5: 2 | B5: Tafelmat, antibacterieel, Floortex 43x56cm, transparant | C5: Tapis de table, antibatériien, Floortex 43x56cm, transparant | D5: Inconnu | E5: 0 | F5: =SUMIF('Journal des stocks'!$C$4:$G$5000,Catalogue!B5,'Journal des stocks'!$F$4:$F$5000) -> 2 | G5: =SUMIF('Journal des stocks'!$C$4:$G$5000,Catalogue!B5,'Journal des stocks'!$G$4:$G$5000) -> 10 | H5: =E5+F5-G5 -> -8 | I5: 3.48 | J5: 21 | K5: =IF(I5=0,0,(I5+(I5*J5)/100)) -> 4.2108 | L5: =IF(E5=0,0,E5*K5) -> 0 | N5: 3763 | P5: NON
A6: 3 | B6: Sous mains antibacterien, Floertex, 48x61cm | C6: Onderlegger, antibacterieel, Floortex, 48x61cm | D6: Inconnu | E6: 1 | F6: =SUMIF('Journal des stocks'!$C$4:$G$5000,Catalogue!B6,'Journal des stocks'!$F$4:$F$5000) -> 3 | G6: =SUMIF('Journal des stocks'!$C$4:$G$5000,Catalogue!B6,'Journal des stocks'!$G$4:$G$5000) -> 2 | H6: =E6+F6-G6 -> 2 | I6: 13.37 | J6: 21 | K6: =IF(I6=0,0,(I6+(I6*J6)/100)) -> 16.1777 | L6: =IF(E6=0,0,E6*K6) -> 16.1777 | N6: 3907 | P6: OUI
A7: 4 | B7: Toiletdispenser Tork Twin H4 | C7: Toiletdispenser Tork Twin H4 | D7: Inconnu | E7: 0 | F7: =SUMIF('Journal des stocks'!$C$4:$G$5000,Catalogue!B7,'Journal des stocks'!$F$4:$F$5000) -> 4 | G7: =SUMIF('Journal des stocks'!$C$4:$G$5000,Catalogue!B7,'Journal des stocks'!$G$4:$G$5000) -> 0 | H7: =E7+F7-G7 -> 4 | I7: 29.5 | J7: 21 | K7: =IF(I7=0,0,(I7+(I7*J7)/100)) -> 35.695 | L7: =IF(E7=0,0,E7*K7) -> 0 | N7: 3090 | O7: O2613 | P7: OUI
A8: 5 | B8: System U bench voor 4 personen 440*211cm (4 individuele posten) | C8: System U bench voor 4 personen 440*211cm (4 individuele posten) | D8: Inconnu | E8: 0 | F8: =SUMIF('Journal des stocks'!$C$4:$G$5000,Catalogue!B8,'Journal des stocks'!$F$4:$F$5000) -> 25 | G8: =SUMIF('Journal des stocks'!$C$4:$G$5000,Catalogue!B8,'Journal des stocks'!$G$4:$G$5000) -> 0 | H8: =E8+F8-G8 -> 25 | I8: 855.66 | J8: 21 | K8: =IF(I8=0,0,(I8+(I8*J8)/100)) -> 1035.3486 | L8: =IF(E8=0,0,E8*K8) -> 0 | N8: 3195 | P8: NON
A9: 6 | B9: FX 10 | C9: FX 10 | D9: Inconnu | E9: 0 | F9: =SUMIF('Journal des stocks'!$C$4:$G$5000,Catalogue!B9,'Journal des stocks'!$F$4:$F$5000) -> 5 | G9: =SUMIF('Journal des stocks'!$C$4:$G$5000,Catalogue!B9,'Journal des stocks'!$G$4:$G$5000) -> 0 | H9: =E9+F9-G9 -> 5 | I9: 52 | J9: 21 | K9: =IF(I9=0,0,(I9+(I9*J9)/100)) -> 62.92 | L9: =IF(E9=0,0,E9*K9) -> 0 | N9: 12 | P9: NON
A10: 7 | B10: FX 6 | C10: FX 6 | D10: Inconnu | E10: 0 | F10: =SUMIF('Journal des stocks'!$C$4:$G$5000,Catalogue!B10,'Journal des stocks'!$F$4:$F$5000) -> 10 | G10: =SUMIF('Journal des stocks'!$C$4:$G$5000,Catalogue!B10,'Journal des stocks'!$G$4:$G$5000) -> 0 | H10: =E10+F10-G10 -> 10 | I10: 0 | K10: =IF(I10=0,0,(I10+(I10*J10)/100)) -> 0 | L10: =IF(E10=0,0,E10*K10) -> 0 | N10: 906 | P10: NON
A11: 8 | B11: FX 3 L200/300 | C11: FX 3 L200/300 | D11: Inconnu | E11: 0 | F11: =SUMIF('Journal des stocks'!$C$4:$G$5000,Catalogue!B11,'Journal des stocks'!$F$4:$F$5000) -> 50 | G11: =SUMIF('Journal des stocks'!$C$4:$G$5000,Catalogue!B11,'Journal des stocks'!$G$4:$G$5000) -> 50 | H11: =E11+F11-G11 -> 0 | I11: 53.7 | J11: 21 | K11: =IF(I11=0,0,(I11+(I11*J11)/100)) -> 64.977 | L11: =IF(E11=0,0,E11*K11) -> 0 | N11: 14 | P11: NON
A12: 9 | B12: Fuser Kyocera FSC8100DN réf 2HP93178 | C12: Fuser Kyocera FSC8100DN réf 2HP93178 | D12: Inconnu | E12: 0 | F12: =SUMIF('Journal des stocks'!$C$4:$G$5000,Catalogue!B12,'Journal des stocks'!$F$4:$F$5000) -> 0 | G12: =SUMIF('Journal des stocks'!$C$4:$G$5000,Catalogue!B12,'Journal des stocks'!$G$4:$G$5000) -> 0 | H12: =E12+F12-G12 -> 0 | I12: 598 | J12: 21 | K12: =IF(I12=0,0,(I12+(I12*J12)/100)) -> 723.58 | L12: =IF(E12=0,0,E12*K12) -> 0 | N12: 1027 | P12: NON
A13: 10 | B13: Toner HP C9363E n° 344 couleur | C13: Toner HP C9363E nr. 344 kleur | D13: Inconnu | E13: 5 | F13: =SUMIF('Journal des stocks'!$C$4:$G$5000,Catalogue!B13,'Journal des stocks'!$F$4:$F$5000) -> 100 | G13: =SUMIF('Journal des stocks'!$C$4:$G$5000,Catalogue!B13,'Journal des stocks'!$G$4:$G$5000) -> 50 | H13: =E13+F13-G13 -> 55 | I13: 22.5 | J13: 21 | K13: =IF(I13=0,0,(I13+(I13*J13)/100)) -> 27.225 | L13: =IF(E13=0,0,E13*K13) -> 136.125 | N13: 16 | P13: NON
A14: 11 | B14: Toner HP C8728AE n° 28 couleur | C14: Toner HP C8728AE nr. 28 kleur | D14: Inconnu | E14: 12 | F14: =SUMIF('Journal des stocks'!$C$4:$G$5000,Catalogue!B14,'Journal des stocks'!$F$4:$F$5000) -> 0 | G14: =SUMIF('Journal des stocks'!$C$4:$G$5000,Catalogue!B14,'Journal des stocks'!$G$4:$G$5000) -> 0 | H14: =E14+F14-G14 -> 12 | I14: 13.62 | J14: 21 | K14: =IF(I14=0,0,(I14+(I14*J14)/100)) -> 16.4802 | L14: =IF(E14=0,0,E14*K14) -> 197.7624 | N14: 255 | P14: NON
A15: 12 | B15: Toner HP C6578A n° 78 HC couleur | C15: Toner HP C6578A nr. 78 kleur | D15: Inconnu | E15: 0 | F15: =SUMIF('Journal des stocks'!$C$4:$G$5000,Catalogue!B15,'Journal des stocks'!$F$4:$F$5000) -> 0 | G15: =SUMIF('Journal des stocks'!$C$4:$G$5000,Catalogue!B15,'Journal des stocks'!$G$4:$G$5000) -> 0 | H15: =E15+F15-G15 -> 0 | I15: 38.63 | J15: 21 | K15: =IF(I15=0,0,(I15+(I15*J15)/100)) -> 46.7423 | L15: =IF(E15=0,0,E15*K15) -> 0 | N15: 318 | P15: NON
A16: 13 | B16: Toner HP C9369E n° 348 couleur | C16: Toner HP C9369E nr. 348 kleur | D16: Inconnu | E16: 0 | F16: =SUMIF('Journal des stocks'!$C$4:$G$5000,Catalogue!B16,'Journal des stocks'!$F$4:$F$5000) -> 0 | G16: =SUMIF('Journal des stocks'!$C$4:$G$5000,Catalogue!B16,'Journal des stocks'!$G$4:$G$5000) -> 0 | H16: =E16+F16-G16 -> 0 | I16: 15 | J16: 21 | K16: =IF(I16=0,0,(I16+(I16*J16)/100)) -> 18.15 | L16: =IF(E16=0,0,E16*K16) -> 0 | N16: 420 | P16: NON
A17: 14 | B17: Maintenance cartridge MC05 pour Canon IPF 5000 | C17: Maintenance cartridge MC05 pour Canon IPF 5000 | D17: Inconnu | E17: 0 | F17: =SUMIF('Journal des stocks'!$C$4:$G$5000,Catalogue!B17,'Journal des stocks'!$F$4:$F$5000) -> 0 | G17: =SUMIF('Journal des stocks'!$C$4:$G$5000,Catalogue!B17,'Journal des stocks'!$G$4:$G$5000) -> 0 | H17: =E17+F17-G17 -> 0 | I17: 36 | J17: 21 | K17: =IF(I17=0,0,(I17+(I17*J17)/100)) -> 43.56 | L17: =IF(E17=0,0,E17*K17) -> 0 | N17: 422 | P17: NON
A18: 15 | B18: Tape TZ-251 24 mm white laminated | C18: Tape TZ-251 24 mm white laminated | D18: Inconnu | E18: 0 | F18: =SUMIF('Journal des stocks'!$C$4:$G$5000,Catalogue!B18,'Journal des stocks'!$F$4:$F$5000) -> 0 | G18: =SUMIF('Journal des stocks'!$C$4:$G$5000,Catalogue!B18,'Journal des stocks'!$G$4:$G$5000) -> 0 | H18: =E18+F18-G18 -> 0 | I18: 21.4 | J18: 21 | K18: =IF(I18=0,0,(I18+(I18*J18)/100)) -> 25.894 | L18: =IF(E18=0,0,E18*K18) -> 0 | N18: 453 | P18: NON
A19: 16 | B19: Tape noir/rouge 13mm x 6 m pour Logos 662 | C19: Tape zwart/rood 13mm x 6m voor Logos 662 | D19: Inconnu | E19: 0 | F19: =SUMIF('Journal des stocks'!$C$4:$G$5000,Catalogue!B19,'Journal des stocks'!$F$4:$F$5000) -> 0 | G19: =SUMIF('Journal des stocks'!$C$4:$G$5000,Catalogue!B19,'Journal des stocks'!$G$4:$G$5000) -> 0 | H19: =E19+F19-G19 -> 0 | I19: 1.89 | J19: 21 | K19: =IF(I19=0,0,(I19+(I19*J19)/100)) -> 2.2869 | L19: =IF(E19=0,0,E19*K19) -> 0 | N19: 454 | P19: NON
A20: 17 | B20: Tape TZ-231 12 mm black on white | C20: Tape TZ-231 12 mm black on white | D20: Inconnu | E20: 0 | F20: =SUMIF('Journal des stocks'!$C$4:$G$5000,Catalogue!B20,'Journal des stocks'!$F$4:$F$5000) -> 0 | G20: =SUMIF('Journal des stocks'!$C$4:$G$5000,Catalogue!B20,'Journal des stocks'!$G$4:$G$5000) -> 0 | H20: =E20+F20-G20 -> 0 | I20: 17.11 | J20: 21 | K20: =IF(I20=0,0,(I20+(I20*J20)/100)) -> 20.7031 | L20: =IF(E20=0,0,E20*K20) -> 0 | N20: 465 | P20: NON
A21: 18 | B21: Toner HP C18230 n° 23 couleur | C21: Toner HP C18230 n° 23 kleur | D21: Inconnu | E21: 0 | F21: =SUMIF('Journal des stocks'!$C$4:$G$5000,Catalogue!B21,'Journal des stocks'!$F$4:$F$5000) -> 0 | G21: =SUMIF('Journal des stocks'!$C$4:$G$5000,Catalogue!B21,'Journal des stocks'!$G$4:$G$5000) -> 0 | H21: =E21+F21-G21 -> 0 | I21: 21.19 | J21: 21 | K21: =IF(I21=0,0,(I21+(I21*J21)/100)) -> 25.6399 | L21: =IF(E21=0,0,E21*K21) -> 0 | N21: 972 | P21: NON
A22: 19 | B22: Fuser kit Lexmark OPTRA C710 réf 10E0059 | C22: Fuser kit Lexmark OPTRA C710 ref 10E0059 | D22: Inconnu | E22: 0 | F22: =SUMIF('Journal des stocks'!$C$4:$G$5000,Catalogue!B22,'Journal des stocks'!$F$4:$F$5000) -> 0 | G22: =SUMIF('Journal des stocks'!$C$4:$G$5000,Catalogue!B22,'Journal des stocks'!$G$4:$G$5000) -> 0 | H22: =E22+F22-G22 -> 0 | I22: 0 | K22: =IF(I22=0,0,(I22+(I22*J22)/100)) -> 0 | L22: =IF(E22=0,0,E22*K22) -> 0 | N22: 496 | P22: NON
A23: 20 | B23: Transfert kit Lexmark OPTRA C710 réf 10E0045 | C23: Transfer kit Lexmark OPTRA C710 ref 10E0045 | D23: Inconnu | E23: 0 | F23: =SUMIF('Journal des stocks'!$C$4:$G$5000,Catalogue!B23,'Journal des stocks'!$F$4:$F$5000) -> 0 | G23: =SUMIF('Journal des stocks'!$C$4:$G$5000,Catalogue!B23,'Journal des stocks'!$G$4:$G$5000) -> 0 | H23: =E23+F23-G23 -> 0 | I23: 0 | K23: =IF(I23=0,0,(I23+(I23*J23)/100)) -> 0 | L23: =IF(E23=0,0,E23*K23) -> 0 | N23: 497 | P23: NON
A24: 21 | B24: Coating roll Lexmark OPTRA C710 réf 10E0044 | C24: Coating roll Lexmark OPTRA C710 ref 10E0044 | D24: Inconnu | E24: 0 | F24: =SUMIF('Journal des stocks'!$C$4:$G$5000,Catalogue!B24,'Journal des stocks'!$F$4:$F$5000) -> 0 | G24: =SUMIF('Journal des stocks'!$C$4:$G$5000,Catalogue!B24,'Journal des stocks'!$G$4:$G$5000) -> 0 | H24: =E24+F24-G24 -> 0 | I24: 0 | K24: =IF(I24=0,0,(I24+(I24*J24)/100)) -> 0 | L24: =IF(E24=0,0,E24*K24) -> 0 | N24: 498 | P24: NON
A25: 22 | B25: Tape TZ-221 9 mm black on white | C25: Tape TZ-221 9 mm black on white | D25: Inconnu | E25: 0 | F25: =SUMIF('Journal des stocks'!$C$4:$G$5000,Catalogue!B25,'Journal des stocks'!$F$4:$F$5000) -> 0 | G25: =SUMIF('Journal des stocks'!$C$4:$G$5000,Catalogue!B25,'Journal des stocks'!$G$4:$G$5000) -> 0 | H25: =E25+F25-G25 -> 0 | I25: 8.41 | J25: 21 | K25: =IF(I25=0,0,(I25+(I25*J25)/100)) -> 10.1761 | L25: =IF(E25=0,0,E25*K25) -> 0 | N25: 789 | P25: NON
A26: 23 | B26: Tape TZ-241 18 mm white laminated | C26: Tape TZ-241 18 mm white laminated | D26: Inconnu | E26: 0 | F26: =SUMIF('Journal des stocks'!$C$4:$G$5000,Catalogue!B26,'Journal des stocks'!$F$4:$F$5000) -> 0 | G26: =SUMIF('Journal des stocks'!$C$4:$G$5000,Catalogue!B26,'Journal des stocks'!$G$4:$G$5000) -> 0 | H26: =E26+F26-G26 -> 0 | I26: 17.53 | J26: 21 | K26: =IF(I26=0,0,(I26+(I26*J26)/100)) -> 21.2113 | L26: =IF(E26=0,0,E26*K26) -> 0 | N26: 773 | P26: NON
A27: 24 | B27: Toner waste container Lexmark OPTRA C750 | C27: Toner waste container Lexmark OPTRA C750 | D27: Inconnu | E27: 0 | F27: =SUMIF('Journal des stocks'!$C$4:$G$5000,Catalogue!B27,'Journal des stocks'!$F$4:$F$5000) -> 0 | G27: =SUMIF('Journal des stocks'!$C$4:$G$5000,Catalogue!B27,'Journal des stocks'!$G$4:$G$5000) -> 0 | H27: =E27+F27-G27 -> 0 | I27: 0 | K27: =IF(I27=0,0,(I27+(I27*J27)/100)) -> 0 | L27: =IF(E27=0,0,E27*K27) -> 0 | N27: 505 | P27: NON

Sheet Journal des stocks
F1: =IF(F4>0,SUM(F4:F5000),"") -> 150 | G1: =IF(G4>0,SUM(G4:G5000),"") -> 162 | J1: =IF(J4>0,SUM(J4:J5000),"") -> 62501735
A3: Date | B3: Référence | C3: Description FR | D3: Description NL | E3: Fournisseur | F3: Entrée | G3: Sortie | H3: Client | I3: Prix TTC | J3: Prix total TVAC | K3: Remarque(s)
A4: 44498 | B4: 1 | C4: =IFERROR(VLOOKUP(B4,Catalogue!$A$4:$C$4834,2,0),"") -> Corde 2fils 60m | D4: =IFERROR(VLOOKUP(B4,Catalogue!$A$4:$D$4834,3,0),"") -> Touw 2draads 60 m | E4: =IFERROR(VLOOKUP(B4,Catalogue!$A$4:$D$4834,4,0),"") -> Inconnu | F4: 1 | G4: 50 | I4: 1 | J4: =IF(I4>0,F4*I4,"") -> 1
A5: 44498 | B5: 2 | C5: =IFERROR(VLOOKUP(B5,Catalogue!$A$4:$C$4834,2,0),"") -> Tafelmat, antibacterieel, Floortex 43x56cm, transparant | D5: =IFERROR(VLOOKUP(B5,Catalogue!$A$4:$D$4834,3,0),"") -> Tapis de table, antibatériien, Floortex 43x56cm, transparant | E5: =IFERROR(VLOOKUP(B5,Catalogue!$A$4:$D$4834,4,0),"") -> Inconnu | F5: 2 | G5: 10 | I5: 2 | J5: =IF(I5>0,F5*I5,"") -> 4
A6: 44498 | B6: 3 | C6: =IFERROR(VLOOKUP(B6,Catalogue!$A$4:$C$4834,2,0),"") -> Sous mains antibacterien, Floertex, 48x61cm | D6: =IFERROR(VLOOKUP(B6,Catalogue!$A$4:$D$4834,3,0),"") -> Onderlegger, antibacterieel, Floortex, 48x61cm | E6: =IFERROR(VLOOKUP(B6,Catalogue!$A$4:$D$4834,4,0),"") -> Inconnu | F6: 3 | G6: 2 | I6: 3 | J6: =IF(I6>0,F6*I6,"") -> 9
A7: 44498 | B7: 4 | C7: =IFERROR(VLOOKUP(B7,Catalogue!$A$4:$C$4834,2,0),"") -> Toiletdispenser Tork Twin H4 | D7: =IFERROR(VLOOKUP(B7,Catalogue!$A$4:$D$4834,3,0),"") -> Toiletdispenser Tork Twin H4 | E7: =IFERROR(VLOOKUP(B7,Catalogue!$A$4:$D$4834,4,0),"") -> Inconnu | F7: 4 | I7: 4 | J7: =IF(I7>0,F7*I7,"") -> 16
A8: 44498 | B8: 5 | C8: =IFERROR(VLOOKUP(B8,Catalogue!$A$4:$C$4834,2,0),"") -> System U bench voor 4 personen 440*211cm (4 individuele posten) | D8: =IFERROR(VLOOKUP(B8,Catalogue!$A$4:$D$4834,3,0),"") -> System U bench voor 4 personen 440*211cm (4 individuele posten) | E8: =IFERROR(VLOOKUP(B8,Catalogue!$A$4:$D$4834,4,0),"") -> Inconnu | F8: 25 | I8: 2500000 | J8: =IF(I8>0,F8*I8,"") -> 62500000
A9: 44499 | B9: 6 | C9: =IFERROR(VLOOKUP(B9,Catalogue!$A$4:$C$4834,2,0),"") -> FX 10 | D9: =IFERROR(VLOOKUP(B9,Catalogue!$A$4:$D$4834,3,0),"") -> FX 10 | E9: =IFERROR(VLOOKUP(B9,Catalogue!$A$4:$D$4834,4,0),"") -> Inconnu | F9: 5 | I9: 1 | J9: =IF(I9>0,F9*I9,"") -> 5
B10: 7 | C10: =IFERROR(VLOOKUP(B10,Catalogue!$A$4:$C$4834,2,0),"") -> FX 6 | D10: =IFERROR(VLOOKUP(B10,Catalogue!$A$4:$D$4834,3,0),"") -> FX 6 | E10: =IFERROR(VLOOKUP(B10,Catalogue!$A$4:$D$4834,4,0),"") -> Inconnu | F10: 10 | I10: 50 | J10: =IF(I10>0,F10*I10,"") -> 500
B11: 8 | C11: =IFERROR(VLOOKUP(B11,Catalogue!$A$4:$C$4834,2,0),"") -> FX 3 L200/300 | D11: =IFERROR(VLOOKUP(B11,Catalogue!$A$4:$D$4834,3,0),"") -> FX 3 L200/300 | E11: =IFERROR(VLOOKUP(B11,Catalogue!$A$4:$D$4834,4,0),"") -> Inconnu | G11: 50 | I11: 120 | J11: =IF(I11>0,F11*I11,"") -> 0
B12: 1 | C12: =IFERROR(VLOOKUP(B12,Catalogue!$A$4:$C$4834,2,0),"") -> Corde 2fils 60m | D12: =IFERROR(VLOOKUP(B12,Catalogue!$A$4:$D$4834,3,0),"") -> Touw 2draads 60 m | E12: =IFERROR(VLOOKUP(B12,Catalogue!$A$4:$D$4834,4,0),"") -> Inconnu | I12: 1 | J12: =IF(I12>0,F12*I12,"") -> 0
B13: 10 | C13: =IFERROR(VLOOKUP(B13,Catalogue!$A$4:$C$4834,2,0),"") -> Toner HP C9363E n° 344 couleur | D13: =IFERROR(VLOOKUP(B13,Catalogue!$A$4:$D$4834,3,0),"") -> Toner HP C9363E nr. 344 kleur | E13: =IFERROR(VLOOKUP(B13,Catalogue!$A$4:$D$4834,4,0),"") -> Inconnu | F13: 100 | G13: 50 | I13: 12 | J13: =IF(I13>0,F13*I13,"") -> 1200
C14: =IFERROR(VLOOKUP(B14,Catalogue!$A$4:$C$4834,2,0),"") | D14: =IFERROR(VLOOKUP(B14,Catalogue!$A$4:$D$4834,3,0),"") | E14: =IFERROR(VLOOKUP(B14,Catalogue!$A$4:$D$4834,4,0),"") | J14: =IF(I14>0,F14*I14,"")
C15: =IFERROR(VLOOKUP(B15,Catalogue!$A$4:$C$4834,2,0),"") | D15: =IFERROR(VLOOKUP(B15,Catalogue!$A$4:$D$4834,3,0),"") | E15: =IFERROR(VLOOKUP(B15,Catalogue!$A$4:$D$4834,4,0),"") | J15: =IF(I15>0,F15*I15,"")
C16: =IFERROR(VLOOKUP(B16,Catalogue!$A$4:$C$4834,2,0),"") | D16: =IFERROR(VLOOKUP(B16,Catalogue!$A$4:$D$4834,3,0),"") | E16: =IFERROR(VLOOKUP(B16,Catalogue!$A$4:$D$4834,4,0),"") | J16: =IF(I16>0,F16*I16,"")
C17: =IFERROR(VLOOKUP(B17,Catalogue!$A$4:$C$4834,2,0),"") | D17: =IFERROR(VLOOKUP(B17,Catalogue!$A$4:$D$4834,3,0),"") | E17: =IFERROR(VLOOKUP(B17,Catalogue!$A$4:$D$4834,4,0),"") | J17: =IF(I17>0,F17*I17,"")
C18: =IFERROR(VLOOKUP(B18,Catalogue!$A$4:$C$4834,2,0),"") | D18: =IFERROR(VLOOKUP(B18,Catalogue!$A$4:$D$4834,3,0),"") | E18: =IFERROR(VLOOKUP(B18,Catalogue!$A$4:$D$4834,4,0),"") | J18: =IF(I18>0,F18*I18,"")
C19: =IFERROR(VLOOKUP(B19,Catalogue!$A$4:$C$4834,2,0),"") | D19: =IFERROR(VLOOKUP(B19,Catalogue!$A$4:$D$4834,3,0),"") | E19: =IFERROR(VLOOKUP(B19,Catalogue!$A$4:$D$4834,4,0),"") | J19: =IF(I19>0,F19*I19,"")
C20: =IFERROR(VLOOKUP(B20,Catalogue!$A$4:$C$4834,2,0),"") | D20: =IFERROR(VLOOKUP(B20,Catalogue!$A$4:$D$4834,3,0),"") | E20: =IFERROR(VLOOKUP(B20,Catalogue!$A$4:$D$4834,4,0),"") | J20: =IF(I20>0,F20*I20,"")
C21: =IFERROR(VLOOKUP(B21,Catalogue!$A$4:$C$4834,2,0),"") | D21: =IFERROR(VLOOKUP(B21,Catalogue!$A$4:$D$4834,3,0),"") | E21: =IFERROR(VLOOKUP(B21,Catalogue!$A$4:$D$4834,4,0),"") | J21: =IF(I21>0,F21*I21,"")
C22: =IFERROR(VLOOKUP(B22,Catalogue!$A$4:$C$4834,2,0),"") | D22: =IFERROR(VLOOKUP(B22,Catalogue!$A$4:$D$4834,3,0),"") | E22: =IFERROR(VLOOKUP(B22,Catalogue!$A$4:$D$4834,4,0),"") | J22: =IF(I22>0,F22*I22,"")
C23: =IFERROR(VLOOKUP(B23,Catalogue!$A$4:$C$4834,2,0),"") | D23: =IFERROR(VLOOKUP(B23,Catalogue!$A$4:$D$4834,3,0),"") | E23: =IFERROR(VLOOKUP(B23,Catalogue!$A$4:$D$4834,4,0),"") | J23: =IF(I23>0,F23*I23,"")
C24: =IFERROR(VLOOKUP(B24,Catalogue!$A$4:$C$4834,2,0),"") | D24: =IFERROR(VLOOKUP(B24,Catalogue!$A$4:$D$4834,3,0),"") | E24: =IFERROR(VLOOKUP(B24,Catalogue!$A$4:$D$4834,4,0),"") | J24: =IF(I24>0,F24*I24,"")
C25: =IFERROR(VLOOKUP(B25,Catalogue!$A$4:$C$4834,2,0),"") | D25: =IFERROR(VLOOKUP(B25,Catalogue!$A$4:$D$4834,3,0),"") | E25: =IFERROR(VLOOKUP(B25,Catalogue!$A$4:$D$4834,4,0),"") | J25: =IF(I25>0,F25*I25,"")
... C5000: =IFERROR(VLOOKUP(B5000,Catalogue!$A$4:$C$4834,2,0),"") | D5000: =IFERROR(VLOOKUP(B5000,Catalogue!$A$4:$D$4834,3,0),"") | E5000: =IFERROR(VLOOKUP(B5000,Catalogue!$A$4:$D$4834,4,0),"") | J5000: =IF(I5000>0,F5000*I5000,"")

Sheet Etat des stocks
A3: Référence | B3: Description FR | C3: Description NL | D3: Stock initial | E3: Stock actuel | F3: Seuil alerte | G3: Stockage | H3: Entrées | I3: Sorties
A4: 100100 | B4: =IFERROR(VLOOKUP(A4,Catalogue!$A$4:$C$4834,2,0),"") | C4: =IFERROR(VLOOKUP(A4,Catalogue!$A$4:$D$4834,3,0),"")
A5: 100120 | B5: =IFERROR(VLOOKUP(A5,Catalogue!$A$4:$C$4834,2,0),"") | C5: =IFERROR(VLOOKUP(A5,Catalogue!$A$4:$D$4834,3,0),"")

Sheet Statistiques
