Workbook

Sheet RECAP TECHNIQUE
A6: LOT1 | C6: Développements spécifiques et Intégration applicative
A8: Analyse technique | B8: Pondération | C8: A | D8: B | E8: C | F8: D | G8: E | H8: F | I8: G | J8: H
A9: Notation technique sur 40 / 100
A10: 2 - Valeur technique de l’offre | B10: Pondération (= note maxi) | C10: Note ( / pondération) | D10: Note ( / pondération) | E10: Note ( / pondération) | F10: Note ( / pondération) | G10: Note ( / pondération) | H10: Note ( / pondération) | I10: Note ( / pondération) | J10: Note ( / pondération)
A11: 2.1- Moyens humains affectés à l’exécution des prestations | B11: 0.13 | C11: ='A & B'!C7 -> 5.5 | D11: ='A & B'!F7 -> 0 | E11: ='C & D'!C7 -> 0 | F11: ='C & D'!F7 -> 0 | G11: ='E & F'!C7 -> 0 | H11: ='E & F'!F7 -> 0 | I11: ='G & H'!C7 -> 0 | J11: ='G & H'!F7 -> 0
A12: 2.2 - Couverture des environnements logiciels et techniques pris en charge pour l’exécution des prestations | B12: 0.13 | C12: ='A & B'!C8 -> 0 | D12: ='A & B'!F8 -> 0 | E12: ='C & D'!C8 -> 0 | F12: ='C & D'!F8 -> 0 | G12: ='E & F'!C8 -> 0 | H12: ='E & F'!F8 -> 0 | I12: ='G & H'!C8 -> 0 | J12: ='G & H'!F8 -> 0
A13: 2.3 – Méthodologie et organisation proposées pour l’exécution des prestations | B13: 0.06 | C13: ='A & B'!C9 -> 0 | D13: ='A & B'!F9 -> 0 | E13: ='C & D'!C9 -> 0 | F13: ='C & D'!F9 -> 0 | G13: ='E & F'!C9 -> 0 | H13: ='E & F'!F9 -> 0 | I13: ='G & H'!C9 -> 0 | J13: ='G & H'!F9 -> 0
A14: 2.4 – Démarche RSE et Numérique responsable proposée pour l’exécution des prestations | B14: 0.08 | C14: ='A & B'!C10 -> 0 | D14: ='A & B'!F10 -> 0 | E14: ='C & D'!C10 -> 0 | F14: ='C & D'!F10 -> 0 | G14: ='E & F'!C10 -> 0 | H14: ='E & F'!F10 -> 0 | I14: ='G & H'!C10 -> 0 | J14: ='G & H'!F10 -> 0
A15: note technique totale | B15: 40 | C15: ='A & B'!C11 -> 5.5 | D15: ='A & B'!F11 -> 0 | E15: ='C & D'!C11 -> 0 | F15: ='C & D'!F11 -> 0 | G15: ='E & F'!C11 -> 0 | H15: ='E & F'!F11 -> 0 | I15: ='G & H'!C11 -> 0 | J15: ='G & H'!F11 -> 0
A16: vérification NOTE technique totale | C16: =SUM(C10:C14) -> 5.5 | D16: =SUM(D10:D14) -> 0 | E16: =SUM(E10:E14) -> 0 | F16: =SUM(F10:F14) -> 0 | G16: =SUM(G10:G14) -> 0 | H16: =SUM(H10:H14) -> 0 | I16: =SUM(I10:I14) -> 0 | J16: =SUM(J10:J14) -> 0
A17: CLASSEMENT | C17: =RANK(C16,$C$16:$J$16) -> 1 | D17: =RANK(D16,$C$16:$J$16) -> 2 | E17: =RANK(E16,$C$16:$J$16) -> 2 | F17: =RANK(F16,$C$16:$J$16) -> 2 | G17: =RANK(G16,$C$16:$J$16) -> 2 | H17: =RANK(H16,$C$16:$J$16) -> 2 | I17: =RANK(I16,$C$16:$J$16) -> 2 | J17: =RANK(J16,$C$16:$J$16) -> 2

Sheet A &  B
C3: A | E3: pli 3 | F3: B | H3: pli 4
A4: Critères d'évaluation | D4: Points positifs | E4: Points négatifs | G4: Points positifs | H4: Points négatifs
A5: 2-Valeur technique de l’offre (Valeur technique basée sur le mémoire) | B5: Pondération (= note maxi) | C5: Note ATTRIBUEE ( / pondération) | F5: Note ATTRIBUEE ( / pondération)
A6: Valeur technique basée sur le mémoire
A7: 2.1- Moyens humains affectés à l’exécution des prestations : qualité et pertinence des profils proposés, sur la base des CV, plans de formation et indicateurs transmis | B7: 0.13 | C7: 5.5 | D7: GER RBA | E7: GEGZ fzef<qd<
A8: 2.2 - Couverture des environnements logiciels et techniques pris en charge pour l’exécution des prestations | B8: 0.13
A9: 2.3 – Méthodologie et organisation proposées pour l’exécution des prestations | B9: 0.06
A10: 2.4 – Démarche RSE et Numérique responsable proposée pour l’exécution des prestations | B10: 0.08
A11: Valeur technique basée sur le mémoire | B11: 0.4 | C11: =SUM(C7:C10) -> 5.5 | F11: =SUM(F7:F10) -> 0

Sheet C & D
C3: C | E3: pli 5 | F3: D | H3: pli 10
A4: Critères d'évaluation | D4: Points positifs | E4: Points négatifs | G4: Points positifs | H4: Points négatifs
A5: 2-Valeur technique de l’offre (Valeur technique basée sur le mémoire) | B5: Pondération (= note maxi) | C5: Note ATTRIBUEE ( / pondération) | F5: Note ATTRIBUEE ( / pondération)
A6: Valeur technique basée sur le mémoire
A7: 2.1- Moyens humains affectés à l’exécution des prestations : qualité et pertinence des profils proposés, sur la base des CV, plans de formation et indicateurs transmis | B7: 0.13
A8: 2.2 - Couverture des environnements logiciels et techniques pris en charge pour l’exécution des prestations | B8: 0.13
A9: 2.3 – Méthodologie et organisation proposées pour l’exécution des prestations | B9: 0.06
A10: 2.4 – Démarche RSE et Numérique responsable proposée pour l’exécution des prestations | B10: 0.08
A11: Valeur technique basée sur le mémoire | B11: 0.4 | C11: =SUM(C7:C10) -> 0 | F11: =SUM(F7:F10) -> 0

Sheet E & F
C3: E | E3: pli 12 | F3: F | H3: pli 15
A4: Critères d'évaluation | D4: Points positifs | E4: Points négatifs | G4: Points positifs | H4: Points négatifs
A5: 2-Valeur technique de l’offre (Valeur technique basée sur le mémoire) | B5: Pondération (= note maxi) | C5: Note ATTRIBUEE ( / pondération) | F5: Note ATTRIBUEE ( / pondération)
A6: Valeur technique basée sur le mémoire
A7: 2.1- Moyens humains affectés à l’exécution des prestations : qualité et pertinence des profils proposés, sur la base des CV, plans de formation et indicateurs transmis | B7: 0.13
A8: 2.2 - Couverture des environnements logiciels et techniques pris en charge pour l’exécution des prestations | B8: 0.13
A9: 2.3 – Méthodologie et organisation proposées pour l’exécution des prestations | B9: 0.06
A10: 2.4 – Démarche RSE et Numérique responsable proposée pour l’exécution des prestations | B10: 0.08
A11: Valeur technique basée sur le mémoire | B11: 0.4 | C11: =SUM(C7:C10) -> 0 | F11: =SUM(F7:F10) -> 0

Sheet G & H
C3: G | E3: pli 21 | F3: H | H3: pli 30
A4: Critères d'évaluation | D4: Points positifs | E4: Points négatifs | G4: Points positifs | H4: Points négatifs
A5: 2-Valeur technique de l’offre (Valeur technique basée sur le mémoire) | B5: Pondération (= note maxi) | C5: Note ATTRIBUEE ( / pondération) | F5: Note ATTRIBUEE ( / pondération)
A6: Valeur technique basée sur le mémoire
A7: 2.1- Moyens humains affectés à l’exécution des prestations : qualité et pertinence des profils proposés, sur la base des CV, plans de formation et indicateurs transmis | B7: 0.13
A8: 2.2 - Couverture des environnements logiciels et techniques pris en charge pour l’exécution des prestations | B8: 0.13
A9: 2.3 – Méthodologie et organisation proposées pour l’exécution des prestations | B9: 0.06
A10: 2.4 – Démarche RSE et Numérique responsable proposée pour l’exécution des prestations | B10: 0.08
A11: Valeur technique basée sur le mémoire | B11: 0.4 | C11: =SUM(C7:C10) -> 0 | F11: =SUM(F7:F10) -> 0
