Workbook

Sheet Poids Colonnes
A1: Metrage | B1: Colonne
A2: 0.1 | B2: 2
A3: 0.2 | B3: 2
A4: 0.3 | B4: 2
A5: 0.4 | B5: 2
A6: 0.5 | B6: 2
A7: 0.6 | B7: 2
A8: 0.7 | B8: 2
A9: 0.8 | B9: 2
A10: 0.9 | B10: 2
A11: 1 | B11: 2
A12: 1.1 | B12: 3
A13: 1.2 | B13: 3
... A141: 14 | B141: 14

Sheet Simulation
A10: SIMULATION XXXX DU MOIS YYYY
K12: TARIFS 2011
B14: POS | C14: PAYS | D14: DEPT | E14: UNITE | F14: Colonne | H14: Prix HT | J14: PAYS | K14: DEPTS | L14: 0 A 1m | M14: 1,1m A 2m | N14: 2,10 A 3m | O14: 3,10 A 4m | P14: 4,10 A 5m | Q14: 5,10 A 6m | R14: 6,10 A 7m | S14: 7,10 A 8m | T14: 8,10 A 9m | U14: 9,10 A 10m | V14: 10,10 A 11m | W14: 11,10 A 12m | X14: 12m & +
B15: =IF( D15>0,1,0) -> 1 | C15: FR | D15: 3 | E15: 1 | F15: =IF(E15="","",VLOOKUP(E15,'Poids Colonnes'!$A$1:$B$131,2,0)) -> 2 | G15: =IF(F15="","",VLOOKUP(C15,$J$15:$X$23,F15,0)) -> 1 | H15: =IF(F15="","",VLOOKUP(D15,$K$15:$X$23,F15,0)) -> 145.35 | J15: FR | K15: 1 | L15: 182.4 | M15: 204.25 | N15: 253 | O15: 291 | P15: 321 | Q15: 352 | R15: 382 | S15: 412 | T15: 442 | U15: 473 | V15: 503 | W15: 533 | X15: 564
B16: =IF( D16>0,1,0) -> 1 | C16: FR | D16: 6 | E16: 2 | F16: =IF(E16="","",VLOOKUP(E16,'Poids Colonnes'!$A$1:$B$131,2,0)) -> 3 | G16: =IF(F16="","",VLOOKUP(C16,$J$15:$X$23,F16,0)) -> 182.4 | H16: =IF(F16="","",VLOOKUP(D16,$K$15:$X$23,F16,0)) -> 339.15 | J16: FR | K16: 2 | L16: 170.05 | M16: 190 | N16: 215 | O16: 246 | P16: 276 | Q16: 306 | R16: 322 | S16: 352 | T16: 382 | U16: 413 | V16: 443 | W16: 473 | X16: 504
B17: =IF( D17>0,1,0) -> 1 | C17: ES | D17: 30 | E17: 4 | F17: =IF(E17="","",VLOOKUP(E17,'Poids Colonnes'!$A$1:$B$131,2,0)) -> 5 | H17: =IF(F17="","",VLOOKUP(D17,$K$15:$X$23,F17,0)) -> #N/A | J17: FR | K17: 3 | L17: 145.35 | M17: 162.45 | N17: 196 | O17: 230 | P17: 246 | Q17: 272 | R17: 288 | S17: 321 | T17: 339 | U17: 355 | V17: 271 | W17: 388 | X17: 406
B18: =IF( D18>0,1,0) -> 1 | C18: FR | D18: 9 | E18: 10 | F18: =IF(E18="","",VLOOKUP(E18,'Poids Colonnes'!$A$1:$B$131,2,0)) -> 11 | H18: =IF(F18="","",VLOOKUP(D18,$K$15:$X$23,F18,0)) -> 578 | J18: FR | K18: 4 | L18: 304 | M18: 389.5 | N18: 455 | O18: 532 | P18: 620 | Q18: 685 | R18: 740 | S18: 810 | T18: 877 | U18: 935 | V18: 970 | W18: 990 | X18: 1020
B19: =IF( D19>0,1,0) -> 1 | C19: IT | D19: 30 | E19: 5 | F19: =IF(E19="","",VLOOKUP(E19,'Poids Colonnes'!$A$1:$B$131,2,0)) -> 6 | H19: =IF(F19="","",VLOOKUP(D19,$K$15:$X$23,F19,0)) -> #N/A | J19: FR | K19: 5 | L19: 304 | M19: 389.5 | N19: 455 | O19: 532 | P19: 620 | Q19: 685 | R19: 740 | S19: 810 | T19: 877 | U19: 935 | V19: 970 | W19: 990 | X19: 1020
B20: =IF( D20>0,1,0) -> 1 | C20: FR | D20: 2 | E20: 6 | F20: =IF(E20="","",VLOOKUP(E20,'Poids Colonnes'!$A$1:$B$131,2,0)) -> 7 | H20: =IF(F20="","",VLOOKUP(D20,$K$15:$X$23,F20,0)) -> 306 | J20: FR | K20: 6 | L20: 313.5 | M20: 339.15 | N20: 441 | O20: 526 | P20: 572 | Q20: 680 | R20: 754 | S20: 812 | T20: 862 | U20: 938 | V20: 1015 | W20: 1072 | X20: 1130
B21: =IF( D21>0,1,0) -> 1 | C21: ES | D21: 45 | E21: 13 | F21: =IF(E21="","",VLOOKUP(E21,'Poids Colonnes'!$A$1:$B$131,2,0)) -> 14 | H21: =IF(F21="","",VLOOKUP(D21,$K$15:$X$23,F21,0)) -> #N/A | J21: FR | K21: 7 | L21: 206.15 | M21: 230.85 | N21: 290 | O21: 338 | P21: 370 | Q21: 402 | R21: 434 | S21: 466 | T21: 498 | U21: 530 | V21: 578 | W21: 626 | X21: 658
B22: =IF( D22>0,1,0) -> 1 | C22: FR | D22: 1 | E22: 6 | F22: =IF(E22="","",VLOOKUP(E22,'Poids Colonnes'!$A$1:$B$131,2,0)) -> 7 | H22: =IF(F22="","",VLOOKUP(D22,$K$15:$X$23,F22,0)) -> 352 | J22: FR | K22: 8 | L22: 191.9 | M22: 215.65 | N22: 266 | O22: 307 | P22: 338 | Q22: 370 | R22: 402 | S22: 434 | T22: 466 | U22: 498 | V22: 530 | W22: 562 | X22: 594
B23: =IF( D23>0,1,0) -> 1 | C23: IT | D23: 20 | E23: 3 | F23: =IF(E23="","",VLOOKUP(E23,'Poids Colonnes'!$A$1:$B$131,2,0)) -> 4 | H23: =IF(F23="","",VLOOKUP(D23,$K$15:$X$23,F23,0)) -> #N/A | J23: FR | K23: 9 | L23: 219.45 | M23: 246.05 | N23: 307 | O23: 354 | P23: 402 | Q23: 450 | R23: 482 | S23: 514 | T23: 546 | U23: 578 | V23: 626 | W23: 674 | X23: 722
J24: ES | K24: 8 | L24: 206.15 | M24: 230.85 | N24: 290 | O24: 338 | P24: 370 | Q24: 402 | R24: 434 | S24: 466 | T24: 498 | U24: 530 | V24: 578 | W24: 626 | X24: 658
J25: ES | K25: 30 | L25: 145.35 | M25: 162.45 | N25: 196 | O25: 230 | P25: 246 | Q25: 272 | R25: 288 | S25: 321 | T25: 339 | U25: 355 | V25: 271 | W25: 388 | X25: 406
J26: ES | K26: 45 | L26: 219.45 | M26: 246.05 | N26: 307 | O26: 354 | P26: 402 | Q26: 450 | R26: 482 | S26: 514 | T26: 546 | U26: 578 | V26: 626 | W26: 674 | X26: 722
J27: IT | K27: 20 | L27: =+L26*1.4 -> 307.23 | M27: =+M26*1.4 -> 344.47 | N27: =+N26*1.4 -> 429.8 | O27: =+O26*1.4 -> 495.6 | P27: =+P26*1.4 -> 562.8 | Q27: =+Q26*1.4 -> 630 | R27: =+R26*1.4 -> 674.8 | S27: =+S26*1.4 -> 719.6 | ... X27: =+X26*1.4 -> 1010.8
J28: IT | K28: 30 | L28: =+L27*1.3 -> 399.399 | M28: =+M27*1.3 -> 447.811 | N28: =+N27*1.3 -> 558.74 | O28: =+O27*1.3 -> 644.28 | P28: =+P27*1.3 -> 731.64 | Q28: =+Q27*1.3 -> 819 | R28: =+R27*1.3 -> 877.24 | S28: =+S27*1.3 -> 935.48 | ... X28: =+X27*1.3 -> 1314.04
