Workbook

Sheet listing
A1: Numéro de badge | B1: Date évènements | C1: Heure évènements | D1: Prénom
A2: 1 | B2: 40819.441 | C2: 0.44108796 | D2: Christophe
A3: 1 | B3: 40819.441 | C3: 0.44111111 | D3: Christophe
A4: 1 | B4: 40821.34 | C4: 0.34002315 | D4: Christophe
A5: 1 | B5: 40822.344 | C5: 0.34391204 | D5: Christophe
A6: 1 | B6: 40823.327 | C6: 0.32753472 | D6: Christophe
A7: 1 | B7: 40826.347 | C7: 0.3471412 | D7: Christophe
A8: 1 | B8: 40826.659 | C8: 0.65918981 | D8: Christophe
A9: 1 | B9: 40827.336 | C9: 0.33619213 | D9: Christophe
A10: 1 | B10: 40827.747 | C10: 0.74717593 | D10: Christophe
A11: 1 | B11: 40828.326 | C11: 0.32631944 | D11: Christophe
A12: 5 | B12: 40827.583 | C12: 0.58270833 | D12: Julien
A13: 5 | B13: 40827.624 | C13: 0.62414352 | D13: Julien
... A326: 66 | B326: 40828.333 | C326: 0.33310185 | D326: LAURA
A327: 76 | B327: 40824.652 | C327: 0.65261574
A328: 76 | B328: 40817.728 | C328: 0.72828704
A329: 65535 | B329: 40817.728 | C329: 0.72802083
A330: 65535 | B330: 40817.728 | C330: 0.72814815
A331: 65535 | B331: 40817.728 | C331: 0.72815972
A332: 65535 | B332: 40817.728 | C332: 0.72820602
A333: 65535 | B333: 40817.728 | C333: 0.72827546
A334: 65535 | B334: 40824.652 | C334: 0.65247685
A335: 65535 | B335: 40827.435 | C335: 0.43578704
A336: 65535 | B336: 40827.438 | C336: 0.4384375
A337: 65535 | B337: 40827.625 | C337: 0.62563657

Sheet Feuil2
A1: Numero de badge(si possible recup auto du listing sans doublons) | B1: compteur passage | C1: Prenom
A2: 1 | B2: =COUNTIF(listing!A:A,A2) -> 10 | C2: prenom du 1
A3: =A2+1 -> 2 | B3: =COUNTIF(listing!A:A,A3) -> 0
A4: =A3+1 -> 3 | B4: =COUNTIF(listing!A:A,A4) -> 0
A5: =A4+1 -> 4 | B5: =COUNTIF(listing!A:A,A5) -> 0
A6: =A5+1 -> 5 | B6: =COUNTIF(listing!A:A,A6) -> 43
A7: =A6+1 -> 6 | B7: =COUNTIF(listing!A:A,A7) -> 0
A8: =A7+1 -> 7 | B8: =COUNTIF(listing!A:A,A8) -> 0
A9: =A8+1 -> 8 | B9: =COUNTIF(listing!A:A,A9) -> 0
A10: =A9+1 -> 9 | B10: =COUNTIF(listing!A:A,A10) -> 45
A11: =A10+1 -> 10 | B11: =COUNTIF(listing!A:A,A11) -> 0
A12: =A11+1 -> 11 | B12: =COUNTIF(listing!A:A,A12) -> 23
A13: =A12+1 -> 12 | B13: =COUNTIF(listing!A:A,A13) -> 4
A14: =A13+1 -> 13 | B14: =COUNTIF(listing!A:A,A14) -> 12
... A276: =A275+1 -> 275 | B276: =COUNTIF(listing!A:A,A276) -> 0
A277: =A276+1 -> 276
A278: =A277+1 -> 277
A279: =A278+1 -> 278
A280: =A279+1 -> 279
A281: =A280+1 -> 280
A282: =A281+1 -> 281
A283: =A282+1 -> 282
A284: =A283+1 -> 283
A285: =A284+1 -> 284
A286: =A285+1 -> 285
A287: =A286+1 -> 286
A288: =A287+1 -> 287
... A1036: =A1035+1 -> 1035
