Workbook

Sheet Consanguinité
E3: =VLOOKUP($D$4,ascendant!$A:$C,2,FALSE) -> 6111
D4: =VLOOKUP($C$6,ascendant!$A:$C,2,FALSE) -> 7619
E5: =VLOOKUP($D$4,ascendant!$A:$C,3,FALSE) -> 5348
C6: =VLOOKUP($B$10,ascendant!$A:$C,2,FALSE) -> 12277
E7: =VLOOKUP($D$8,ascendant!$A:$C,2,FALSE) -> 7561
D8: =VLOOKUP($C$6,ascendant!$A:$C,3,FALSE) -> 11166
E9: =VLOOKUP($D$8,ascendant!$A:$C,3,FALSE) -> 8057
B10: 16005
E11: =VLOOKUP($D$12,ascendant!$A:$C,2,FALSE) -> 8029
D12: =VLOOKUP($C$14,ascendant!$A:$C,2,FALSE) -> 12017
E13: =VLOOKUP($D$12,ascendant!$A:$C,3,FALSE) -> 5513
C14: =VLOOKUP($B$10,ascendant!A:C,3,FALSE) -> 13276
E15: =VLOOKUP($D$16,ascendant!$A:$C,2,FALSE) -> 7546
D16: =VLOOKUP($C$14,ascendant!$A:$C,3,FALSE) -> 11065
E17: =VLOOKUP($D$16,ascendant!$A:$C,3,FALSE) -> 9527
E19: =VLOOKUP($D$20,ascendant!$A:$C,2,FALSE) -> a chercher
D20: =VLOOKUP($C$22,ascendant!$A:$C,2,FALSE) -> 8029
E21: =VLOOKUP($D$20,ascendant!$A:$C,3,FALSE) -> 2034
C22: =VLOOKUP($B$26,ascendant!$A:$C,2,FALSE) -> 12017
E23: =VLOOKUP($D$24,ascendant!$A:$C,2,FALSE) -> 3658
D24: =VLOOKUP($C$22,ascendant!$A:$C,3,FALSE) -> 5513
E25: =VLOOKUP($D$24,ascendant!$A:$C,3,FALSE) -> 3068
B26: 13276
E27: =VLOOKUP($D$28,ascendant!$A:$C,2,FALSE) -> 5341
D28: =VLOOKUP($C$30,ascendant!$A:$C,2,FALSE) -> 7546
E29: =VLOOKUP($D$28,ascendant!$A:$C,3,FALSE) -> 2077
C30: =VLOOKUP($B$26,ascendant!A:C,3,FALSE) -> 11065
E31: =VLOOKUP($D$28,ascendant!$A:$C,2,FALSE) -> 5341
D32: =VLOOKUP($C$30,ascendant!$A:$C,3,FALSE) -> 9527
E33: =VLOOKUP($D$28,ascendant!$A:$C,3,FALSE) -> 2077

Sheet Lutte 2017
A1: brebis | B1: jy ou pas | C1: bélier
A2: 1081 | B2: JY | C2: 3235
A3: 1095 | B3: JY | C3: 3235
A4: 1200 | B4: JY | C4: 3235
A5: 3226 | C5: 6005
A6: 3232 | C6: 3235
A7: 3237 | C7: 6001
A8: 3238 | C8: 6005 | D8: 3235
A9: 3250 | C9: 6005
A10: 3257 | C10: 6005 | D10: 3235
A11: 3265 | C11: peu importe
A12: 3271 | C12: 6005 | D12: 3235
A13: 3274 | C13: 6005 | D13: 3235
A14: 3275 | C14: 6001
A15: 3284 | C15: 6001
A16: 3285 | C16: 6001
A17: 4004 | C17: peu importe
A18: 4012 | C18: 6001
A19: 4032 | C19: 6001
A20: 4033 | C20: 6001
A21: 4070 | C21: peu importe
A22: 4071 | C22: peu importe
A23: 4075 | C23: peu importe
A24: 4083 | C24: 6005 | D24: 3235
A25: 4089 | B25: JY | C25: 3235
A26: 4099 | C26: 6005 | D26: 3235
A27: 4100 | C27: 6005 | D27: 3235
A28: 4129 | B28: JY | C28: 3235
A29: 4152 | C29: 6001
A30: 4163 | C30: peu importe
A31: 4164 | C31: peu importe
A32: 4166 | C32: peu importe
A33: 4167 | C33: peu importe
A34: 4168 | C34: peu importe
A35: 4172 | C35: peu importe
A36: 4177 | C36: peu importe
A37: 4182 | C37: peu importe
A38: 4183 | C38: peu importe
A39: 4185 | C39: peu importe
A40: 5001 | C40: 6001
...

Sheet 3226
A1: 3226 | B1: née le 227/8/13 | D1: ARR/ARR
A2: triple
D3: =VLOOKUP($C$4,ascendant!$A:$C,2,FALSE) -> a chercher
C4: =VLOOKUP($B$6,ascendant!$A:$C,2,FALSE) -> 8058
D5: =VLOOKUP($C$4,ascendant!$A:$C,3,FALSE) -> 4390
B6: =VLOOKUP($A$10,ascendant!$A:$C,2,FALSE) -> 11209
D7: =VLOOKUP($C$8,ascendant!$A:$C,2,FALSE) -> 3658
C8: =VLOOKUP($B$6,ascendant!$A:$C,3,FALSE) -> 5513
D9: =VLOOKUP($C$8,ascendant!$A:$C,3,FALSE) -> 3068
A10: 13226
D11: =VLOOKUP($C$12,ascendant!$A:$C,2,FALSE) -> a chercher
C12: =VLOOKUP($B$14,ascendant!$A:$C,2,FALSE) -> 9455
D13: =VLOOKUP($C$12,ascendant!$A:$C,3,FALSE) -> 5304
B14: =VLOOKUP($A$10,ascendant!A:C,3,FALSE) -> 12078
D15: =VLOOKUP($C$16,ascendant!$A:$C,2,FALSE) -> a chercher
C16: =VLOOKUP($B$14,ascendant!$A:$C,3,FALSE) -> 9637
D17: =VLOOKUP($C$16,ascendant!$A:$C,3,FALSE) -> 1640
A20: nés le | B20: père | C20: numéro | D20: sexe | E20: élevé | F20: sortie le | G20: poids | H20: confo | I20: prix
A21: 42334 | B21: 2274 | C21: 6024 | D21: M | E21: D | F21: 42472 | G21: 21.2 | H21: U3
A22: 42334 | B22: 2274 | C22: 6025 | D22: F | E22: D
A23: 42700 | C23: 7076 | D23: M | E23: D
A24: 42700 | C24: 7077 | D24: M | E24: D
A25: 42700 | C25: 7078 | D25: F | E25: D

Sheet 3232
A1: 3232 | B1: née le 28/8/13 | D1: ARR/ARR
A2: double
D3: =VLOOKUP($C$4,ascendant!$A:$C,2,FALSE) -> a chercher
C4: =VLOOKUP($B$6,ascendant!$A:$C,2,FALSE) -> 8058
D5: =VLOOKUP($C$4,ascendant!$A:$C,3,FALSE) -> 4390
B6: =VLOOKUP($A$10,ascendant!$A:$C,2,FALSE) -> 12008
D7: =VLOOKUP($C$8,ascendant!$A:$C,2,FALSE) -> a chercher
C8: =VLOOKUP($B$6,ascendant!$A:$C,3,FALSE) -> 8099
D9: =VLOOKUP($C$8,ascendant!$A:$C,3,FALSE) -> 4356
A10: 13232
D11: =VLOOKUP($C$12,ascendant!$A:$C,2,FALSE) -> 5341
C12: =VLOOKUP($B$14,ascendant!$A:$C,2,FALSE) -> 7546
D13: =VLOOKUP($C$12,ascendant!$A:$C,3,FALSE) -> 2077
B14: =VLOOKUP($A$10,ascendant!A:C,3,FALSE) -> 11214
D15: =VLOOKUP($C$16,ascendant!$A:$C,2,FALSE) -> a chercher
C16: =VLOOKUP($B$14,ascendant!$A:$C,3,FALSE) -> 9473
D17: =VLOOKUP($C$16,ascendant!$A:$C,3,FALSE) -> 5684
A20: nés le | B20: père | C20: numéro | D20: sexe | E20: élevé | F20: sortie le | G20: poids | H20: confo | I20: prix
A21: 42347 | B21: inc | C21: 6051 | D21: F | E21: D
A22: 42689 | C22: 7004 | D22: F | E22: D | F22: mort entéro
A23: 42689 | C23: 7005 | D23: M | E23: D

Sheet 3237
A1: 3237 | B1: née le 30/8/13 | D1: ARR/ARR
A2: triple
D3: =VLOOKUP($C$4,ascendant!$A:$C,2,FALSE) -> a chercher
C4: =VLOOKUP($B$6,ascendant!$A:$C,2,FALSE) -> 8029
D5: =VLOOKUP($C$4,ascendant!$A:$C,3,FALSE) -> 2034
B6: =VLOOKUP($A$10,ascendant!$A:$C,2,FALSE) -> 12017
D7: =VLOOKUP($C$8,ascendant!$A:$C,2,FALSE) -> 3658
C8: =VLOOKUP($B$6,ascendant!$A:$C,3,FALSE) -> 5513
D9: =VLOOKUP($C$8,ascendant!$A:$C,3,FALSE) -> 3068
A10: 13237
D11: =VLOOKUP($C$12,ascendant!$A:$C,2,FALSE) -> 6111
C12: =VLOOKUP($B$14,ascendant!$A:$C,2,FALSE) -> 7619
D13: =VLOOKUP($C$12,ascendant!$A:$C,3,FALSE) -> 5348
B14: =VLOOKUP($A$10,ascendant!A:C,3,FALSE) -> 9691
D15: =VLOOKUP($C$16,ascendant!$A:$C,2,FALSE) -> 4378
C16: =VLOOKUP($B$14,ascendant!$A:$C,3,FALSE) -> 7384
D17: =VLOOKUP($C$16,ascendant!$A:$C,3,FALSE) -> 4356
A20: nés le | B20: père | C20: numéro | D20: sexe | E20: élevé | F20: sortie le | G20: poids | H20: confo | I20: prix
A21: 42315 | B21: 2274 | C21: 6018 | D21: M | E21: S | F21: 42808 | G21: repro
A22: 42700 | C22: / | F22: schmallemberg
A23: 42700 | C23: / | F23: schmallemberg

Sheet 3238
A1: 3238 | B1: née le 30/8/13 | D1: ARR/ARR
A2: double
D3: =VLOOKUP($C$4,ascendant!$A:$C,2,FALSE) -> a chercher
C4: =VLOOKUP($B$6,ascendant!$A:$C,2,FALSE) -> 8058
D5: =VLOOKUP($C$4,ascendant!$A:$C,3,FALSE) -> 4390
B6: =VLOOKUP($A$10,ascendant!$A:$C,2,FALSE) -> 12008
D7: =VLOOKUP($C$8,ascendant!$A:$C,2,FALSE) -> a chercher
C8: =VLOOKUP($B$6,ascendant!$A:$C,3,FALSE) -> 8099
D9: =VLOOKUP($C$8,ascendant!$A:$C,3,FALSE) -> 4356
A10: 13238
D11: =VLOOKUP($C$12,ascendant!$A:$C,2,FALSE) -> 3033
C12: =VLOOKUP($B$14,ascendant!$A:$C,2,FALSE) -> 5341
D13: =VLOOKUP($C$12,ascendant!$A:$C,3,FALSE) -> 2039
B14: =VLOOKUP($A$10,ascendant!A:C,3,FALSE) -> 8007
D15: =VLOOKUP($C$16,ascendant!$A:$C,2,FALSE) -> inconnu
C16: =VLOOKUP($B$14,ascendant!$A:$C,3,FALSE) -> 4428
D17: =VLOOKUP($C$16,ascendant!$A:$C,3,FALSE) -> 2662
A20: nés le | B20: père | C20: numéro | D20: sexe | E20: élevé | F20: sortie le | G20: poids | H20: confo | I20: prix
A21: 42345 | B21: inc | C21: 6044 | D21: M | E21: D | F21: 42478 | G21: 22.8 | H21: U3
A22: 42345 | B22: inc | C22: 6045 | D22: M | E22: D
A23: 42694 | C23: 7026 | D23: M | E23: D
A24: 42694 | C24: 7027 | D24: F | E24: D

Sheet 3250
A1: 3250 | B1: née le 02/09/13 | D1: ARR/ARR
A2: double
D3: =VLOOKUP($C$4,ascendant!$A:$C,2,FALSE) -> a chercher
C4: =VLOOKUP($B$6,ascendant!$A:$C,2,FALSE) -> 8018
D5: =VLOOKUP($C$4,ascendant!$A:$C,3,FALSE) -> 1647
B6: =VLOOKUP($A$10,ascendant!$A:$C,2,FALSE) -> 12072
D7: =VLOOKUP($C$8,ascendant!$A:$C,2,FALSE) -> a chercher
C8: =VLOOKUP($B$6,ascendant!$A:$C,3,FALSE) -> 8001
D9: =VLOOKUP($C$8,ascendant!$A:$C,3,FALSE) -> 5475
A10: 13250
D11: =VLOOKUP($C$12,ascendant!$A:$C,2,FALSE) -> 6111
C12: =VLOOKUP($B$14,ascendant!$A:$C,2,FALSE) -> 7619
D13: =VLOOKUP($C$12,ascendant!$A:$C,3,FALSE) -> 5348
B14: =VLOOKUP($A$10,ascendant!A:C,3,FALSE) -> 11200
D15: =VLOOKUP($C$16,ascendant!$A:$C,2,FALSE) -> a chercher
C16: =VLOOKUP($B$14,ascendant!$A:$C,3,FALSE) -> 9309
D17: =VLOOKUP($C$16,ascendant!$A:$C,3,FALSE) -> 7381
A20: nés le | B20: père | C20: numéro | D20: sexe | E20: élevé | F20: sortie le | G20: poids | H20: confo | I20: prix
A21: 42351 | B21: inc | C21: 6074 | D21: M | E21: D | F21: 42478 | G21: 20.3 | H21: R3
A22: 42351 | B22: inc | C22: 6075 | D22: F | E22: D
A23: 42351 | B23: inc | C23: MN
A24: 42691 | C24: 7015 | D24: F | E24: D | F24: repro
A25: 42691 | C25: 7016 | D25: F | E25: D
A26: 42691 | C26: 7017 | D26: M | E26: D | F26: mort ecrasé

Sheet 3257
A1: 3257 | B1: née le 03/09/13 | D1: ARR/ARR
A2: double
D3: =VLOOKUP($C$4,ascendant!$A:$C,2,FALSE) -> a chercher
C4: =VLOOKUP($B$6,ascendant!$A:$C,2,FALSE) -> 8058
D5: =VLOOKUP($C$4,ascendant!$A:$C,3,FALSE) -> 4390
B6: =VLOOKUP($A$10,ascendant!$A:$C,2,FALSE) -> 12008
D7: =VLOOKUP($C$8,ascendant!$A:$C,2,FALSE) -> a chercher
C8: =VLOOKUP($B$6,ascendant!$A:$C,3,FALSE) -> 8099
D9: =VLOOKUP($C$8,ascendant!$A:$C,3,FALSE) -> 4356
A10: 13257
D11: =VLOOKUP($C$12,ascendant!$A:$C,2,FALSE) -> 94112
C12: =VLOOKUP($B$14,ascendant!$A:$C,2,FALSE) -> 3658
D13: =VLOOKUP($C$12,ascendant!$A:$C,3,FALSE) -> 1038
B14: =VLOOKUP($A$10,ascendant!A:C,3,FALSE) -> 7354
D15: =VLOOKUP($C$16,ascendant!$A:$C,2,FALSE) -> 88719
C16: =VLOOKUP($B$14,ascendant!$A:$C,3,FALSE) -> 91654
D17: =VLOOKUP($C$16,ascendant!$A:$C,3,FALSE) -> 88650
A20: nés le | B20: père | C20: numéro | D20: sexe | E20: élevé | F20: sortie le | G20: poids | H20: confo | I20: prix
A21: 42300 | B21: 3235 | C21: MN
A22: 42300 | B22: 3235 | C22: MN
A23: 42300 | B23: 3235 | C23: MN
A24: 42300 | B24: 3235 | C24: MN
A25: 42693 | C25: 7022 | D25: F | E25: D
A26: 42693 | C26: MN
A27: 42693 | C27: MN

Sheet 3262
A1: 3262 | B1: née le 05/09/13 | D1: ARR/ARR
A2: double
D3: =VLOOKUP($C$4,ascendant!$A:$C,2,FALSE) -> inconnu
C4: =VLOOKUP($B$6,ascendant!$A:$C,2,FALSE) -> inconnu
D5: =VLOOKUP($C$4,ascendant!$A:$C,3,FALSE) -> inconnu
B6: =VLOOKUP($A$10,ascendant!$A:$C,2,FALSE) -> inconnu
D7: =VLOOKUP($C$8,ascendant!$A:$C,2,FALSE) -> inconnu
C8: =VLOOKUP($B$6,ascendant!$A:$C,3,FALSE) -> inconnu
D9: =VLOOKUP($C$8,ascendant!$A:$C,3,FALSE) -> inconnu
A10: 13262
D11: =VLOOKUP($C$12,ascendant!$A:$C,2,FALSE) -> inconnu
C12: =VLOOKUP($B$14,ascendant!$A:$C,2,FALSE) -> inconnu
D13: =VLOOKUP($C$12,ascendant!$A:$C,3,FALSE) -> inconnu
B14: =VLOOKUP($A$10,ascendant!A:C,3,FALSE) -> 9587
D15: =VLOOKUP($C$16,ascendant!$A:$C,2,FALSE) -> a chercher
C16: =VLOOKUP($B$14,ascendant!$A:$C,3,FALSE) -> 3738
D17: =VLOOKUP($C$16,ascendant!$A:$C,3,FALSE) -> 93817
A20: nés le | B20: père | C20: numéro | D20: sexe | E20: élevé | F20: sortie le | G20: poids | H20: confo | I20: prix
A21: 42345 | B21: inc | C21: 6041 | D21: M | E21: D | F21: 42472 | G21: 21.8 | H21: R3
A22: 42345 | B22: inc | C22: 6042 | D22: M | E22: D
A23: 42345 | B23: inc | C23: 6043 | D23: M | E23: D | F23: Vendu repro
A24: 42696 | C24: 7044 | D24: F | E24: D | F24: repro
A25: 42696 | C25: 7045 | D25: F | E25: D | F25: repro

Sheet 3265
A1: 3265 | B1: née le 05/09/13 | D1: ARR/ARR
A2: double
D3: =VLOOKUP($C$4,ascendant!$A:$C,2,FALSE) -> a chercher
C4: =VLOOKUP($B$6,ascendant!$A:$C,2,FALSE) -> 8018
D5: =VLOOKUP($C$4,ascendant!$A:$C,3,FALSE) -> 1647
B6: =VLOOKUP($A$10,ascendant!$A:$C,2,FALSE) -> 12072
D7: =VLOOKUP($C$8,ascendant!$A:$C,2,FALSE) -> a chercher
C8: =VLOOKUP($B$6,ascendant!$A:$C,3,FALSE) -> 8001
D9: =VLOOKUP($C$8,ascendant!$A:$C,3,FALSE) -> 5475
A10: 13265
D11: =VLOOKUP($C$12,ascendant!$A:$C,2,FALSE) -> a chercher
C12: =VLOOKUP($B$14,ascendant!$A:$C,2,FALSE) -> 9330
D13: =VLOOKUP($C$12,ascendant!$A:$C,3,FALSE) -> 5513
B14: =VLOOKUP($A$10,ascendant!A:C,3,FALSE) -> 11165
D15: =VLOOKUP($C$16,ascendant!$A:$C,2,FALSE) -> a chercher
C16: =VLOOKUP($B$14,ascendant!$A:$C,3,FALSE) -> 4350
D17: =VLOOKUP($C$16,ascendant!$A:$C,3,FALSE) -> 94628
A20: nés le | B20: père | C20: numéro | D20: sexe | E20: élevé | F20: sortie le | G20: poids | H20: confo | I20: prix
A21: 42351 | B21: inc | C21: 6066 | D21: F | E21: T | F21: 42502 | G21: 20.5 | H21: R3
A22: 42351 | B22: inc | C22: 6067 | D22: F | E22: T
A23: 42351 | B23: inc | C23: 6068 | D23: F | E23: T | F23: entéro
A24: 42700 | C24: 7082 | D24: M | E24: D | F24: écrasé

Sheet 3271
A1: 3271 | B1: née le 08/09/13 | D1: ARR/ARQ
A2: double
D3: =VLOOKUP($C$4,ascendant!$A:$C,2,FALSE) -> a chercher
C4: =VLOOKUP($B$6,ascendant!$A:$C,2,FALSE) -> 8058
D5: =VLOOKUP($C$4,ascendant!$A:$C,3,FALSE) -> 4390
B6: =VLOOKUP($A$10,ascendant!$A:$C,2,FALSE) -> 12008
D7: =VLOOKUP($C$8,ascendant!$A:$C,2,FALSE) -> a chercher
C8: =VLOOKUP($B$6,ascendant!$A:$C,3,FALSE) -> 8099
D9: =VLOOKUP($C$8,ascendant!$A:$C,3,FALSE) -> 4356
A10: 13271
D11: =VLOOKUP($C$12,ascendant!$A:$C,2,FALSE) -> 96028
C12: =VLOOKUP($B$14,ascendant!$A:$C,2,FALSE) -> 3024
D13: =VLOOKUP($C$12,ascendant!$A:$C,3,FALSE) -> 95043
B14: =VLOOKUP($A$10,ascendant!A:C,3,FALSE) -> 5577
D15: =VLOOKUP($C$16,ascendant!$A:$C,2,FALSE) -> 1608
C16: =VLOOKUP($B$14,ascendant!$A:$C,3,FALSE) -> 3049
D17: =VLOOKUP($C$16,ascendant!$A:$C,3,FALSE) -> 96081
A20: nés le | B20: père | C20: numéro | D20: sexe | E20: élevé | F20: sortie le | G20: poids | H20: confo | I20: prix
A21: 42346 | B21: inconnu | C21: 6049 | D21: F | E21: D
A22: 42346 | B22: inconnu | C22: 6050 | D22: F | E22: D | F22: mort 18/1
A23: 42696 | C23: MN
A24: 42696 | C24: MN

Sheet 3274
A1: 3274 | B1: née le 09/09/13 | D1: ARR/ARR
A2: double
D3: =VLOOKUP($C$4,ascendant!$A:$C,2,FALSE) -> a chercher
C4: =VLOOKUP($B$6,ascendant!$A:$C,2,FALSE) -> 8018
D5: =VLOOKUP($C$4,ascendant!$A:$C,3,FALSE) -> 1647
B6: =VLOOKUP($A$10,ascendant!$A:$C,2,FALSE) -> 12072
D7: =VLOOKUP($C$8,ascendant!$A:$C,2,FALSE) -> a chercher
C8: =VLOOKUP($B$6,ascendant!$A:$C,3,FALSE) -> 8001
D9: =VLOOKUP($C$8,ascendant!$A:$C,3,FALSE) -> 5475
A10: 13274
D11: =VLOOKUP($C$12,ascendant!$A:$C,2,FALSE) -> a chercher
C12: =VLOOKUP($B$14,ascendant!$A:$C,2,FALSE) -> 8058
D13: =VLOOKUP($C$12,ascendant!$A:$C,3,FALSE) -> 4390
B14: =VLOOKUP($A$10,ascendant!A:C,3,FALSE) -> 11090
D15: =VLOOKUP($C$16,ascendant!$A:$C,2,FALSE) -> 2033
C16: =VLOOKUP($B$14,ascendant!$A:$C,3,FALSE) -> 4361
D17: =VLOOKUP($C$16,ascendant!$A:$C,3,FALSE) -> 650
A20: nés le | B20: père | C20: numéro | D20: sexe | E20: élevé | F20: sortie le | G20: poids | H20: confo | I20: prix
A21: 42350 | B21: inconnu | C21: 6062 | D21: M | E21: D | F21: 42478 | G21: 20 | H21: R3
A22: 42350 | B22: inconnu | C22: 6063 | D22: F | E22: D
A23: 42699 | C23: 7070 | D23: F | E23: D
A24: 42699 | C24: 7071 | D24: M | E24: D

Sheet 3275
A1: 3275 | B1: née le 09/09/13 | D1: ARR/ARR
A2: double
D3: =VLOOKUP($C$4,ascendant!$A:$C,2,FALSE) -> a chercher
C4: =VLOOKUP($B$6,ascendant!$A:$C,2,FALSE) -> 8029
D5: =VLOOKUP($C$4,ascendant!$A:$C,3,FALSE) -> 2034
B6: =VLOOKUP($A$10,ascendant!$A:$C,2,FALSE) -> 12017
D7: =VLOOKUP($C$8,ascendant!$A:$C,2,FALSE) -> 3658
C8: =VLOOKUP($B$6,ascendant!$A:$C,3,FALSE) -> 5513
D9: =VLOOKUP($C$8,ascendant!$A:$C,3,FALSE) -> 3068
A10: 13275
D11: =VLOOKUP($C$12,ascendant!$A:$C,2,FALSE) -> 5341
C12: =VLOOKUP($B$14,ascendant!$A:$C,2,FALSE) -> 7546
D13: =VLOOKUP($C$12,ascendant!$A:$C,3,FALSE) -> 2077
B14: =VLOOKUP($A$10,ascendant!A:C,3,FALSE) -> 11065
D15: =VLOOKUP($C$16,ascendant!$A:$C,2,FALSE) -> a chercher
C16: =VLOOKUP($B$14,ascendant!$A:$C,3,FALSE) -> 9527
D17: =VLOOKUP($C$16,ascendant!$A:$C,3,FALSE) -> 6345
A20: nés le | B20: père | C20: numéro | D20: sexe | E20: élevé | F20: sortie le | G20: poids | H20: confo | I20: prix
A21: 42333 | B21: 2274 | C21: 6022 | D21: M | E21: D | F21: 42446
A22: 42333 | B22: 2274 | C22: 6023 | D22: F | E22: D | F22: 42446
A23: 42691 | C23: 7012 | D23: M | E23: D | F23: 42817 | G23: 21.5 | H23: U3
A24: 42691 | C24: 7013 | D24: F | E24: D | F24: repro
A25: 42691 | C25: 7014 | D25: F | E25: D | F25: repro

Sheet 3276
A1: 3276 | B1: née le 09/09/13 | D1: ARR/ARR
A2: double
D3: =VLOOKUP($C$4,ascendant!$A:$C,2,FALSE) -> a chercher
C4: =VLOOKUP($B$6,ascendant!$A:$C,2,FALSE) -> 8029
D5: =VLOOKUP($C$4,ascendant!$A:$C,3,FALSE) -> 2034
B6: =VLOOKUP($A$10,ascendant!$A:$C,2,FALSE) -> 12017
D7: =VLOOKUP($C$8,ascendant!$A:$C,2,FALSE) -> 3658
C8: =VLOOKUP($B$6,ascendant!$A:$C,3,FALSE) -> 5513
D9: =VLOOKUP($C$8,ascendant!$A:$C,3,FALSE) -> 3068
A10: 13276
D11: =VLOOKUP($C$12,ascendant!$A:$C,2,FALSE) -> 5341
C12: =VLOOKUP($B$14,ascendant!$A:$C,2,FALSE) -> 7546
D13: =VLOOKUP($C$12,ascendant!$A:$C,3,FALSE) -> 2077
B14: =VLOOKUP($A$10,ascendant!A:C,3,FALSE) -> 11065
D15: =VLOOKUP($C$16,ascendant!$A:$C,2,FALSE) -> a chercher
C16: =VLOOKUP($B$14,ascendant!$A:$C,3,FALSE) -> 9527
D17: =VLOOKUP($C$16,ascendant!$A:$C,3,FALSE) -> 6345
A20: nés le | B20: père | C20: numéro | D20: sexe | E20: élevé | F20: sortie le | G20: poids | H20: confo | I20: prix
A21: 42302 | B21: 2277 | C21: 6005 | D21: M | E21: D | F21: repro
A22: 42302 | B22: 2277 | C22: 6006 | D22: F | E22: D | F22: repro
A23: 42302 | B23: 2277 | C23: MN
A24: 42696 | C24: 7046 | D24: F | E24: D | F24: 42839 | G24: 34 kg vif
A25: 42696 | C25: 7047 | D25: M | E25: D | F25: mort 31/12
A26: 42696 | C26: 7048 | D26: F | E26: D | F26: mort 2/1

Sheet 3284
A1: 3284 | B1: née le 11/09/13 | D1: ARR/ARQ
A2: triple
D3: =VLOOKUP($C$4,ascendant!$A:$C,2,FALSE) -> a chercher
C4: =VLOOKUP($B$6,ascendant!$A:$C,2,FALSE) -> 8029
D5: =VLOOKUP($C$4,ascendant!$A:$C,3,FALSE) -> 2034
B6: =VLOOKUP($A$10,ascendant!$A:$C,2,FALSE) -> 12017
D7: =VLOOKUP($C$8,ascendant!$A:$C,2,FALSE) -> 3658
C8: =VLOOKUP($B$6,ascendant!$A:$C,3,FALSE) -> 5513
D9: =VLOOKUP($C$8,ascendant!$A:$C,3,FALSE) -> 3068
A10: 13284
D11: =VLOOKUP($C$12,ascendant!$A:$C,2,FALSE) -> inconnu
C12: =VLOOKUP($B$14,ascendant!$A:$C,2,FALSE) -> 6106
D13: =VLOOKUP($C$12,ascendant!$A:$C,3,FALSE) -> inconnu
B14: =VLOOKUP($A$10,ascendant!A:C,3,FALSE) -> 8043
D15: =VLOOKUP($C$16,ascendant!$A:$C,2,FALSE) -> inconnu
C16: =VLOOKUP($B$14,ascendant!$A:$C,3,FALSE) -> 3140
D17: =VLOOKUP($C$16,ascendant!$A:$C,3,FALSE) -> 39
A20: nés le | B20: père | C20: numéro | D20: sexe | E20: élevé | F20: sortie le | G20: poids | H20: confo | I20: prix
A21: 42300 | B21: 2274 | C21: 6002 | D21: F | E21: D
A22: 45953 | B22: 2274 | C22: 6003 | D22: F | E22: D
A23: 42699 | C23: 7074 | D23: M | E23: D
A24: 42699 | C24: 7075 | D24: F | E24: D

Sheet 3285
A1: 3285 | B1: née le 11/09/13 | D1: ARR/ARR
A2: triple
D3: =VLOOKUP($C$4,ascendant!$A:$C,2,FALSE) -> a chercher
C4: =VLOOKUP($B$6,ascendant!$A:$C,2,FALSE) -> 8029
D5: =VLOOKUP($C$4,ascendant!$A:$C,3,FALSE) -> 2034
B6: =VLOOKUP($A$10,ascendant!$A:$C,2,FALSE) -> 12017
D7: =VLOOKUP($C$8,ascendant!$A:$C,2,FALSE) -> 3658
C8: =VLOOKUP($B$6,ascendant!$A:$C,3,FALSE) -> 5513
D9: =VLOOKUP($C$8,ascendant!$A:$C,3,FALSE) -> 3068
A10: 13285
D11: =VLOOKUP($C$12,ascendant!$A:$C,2,FALSE) -> inconnu
C12: =VLOOKUP($B$14,ascendant!$A:$C,2,FALSE) -> 6106
D13: =VLOOKUP($C$12,ascendant!$A:$C,3,FALSE) -> inconnu
B14: =VLOOKUP($A$10,ascendant!A:C,3,FALSE) -> 8043
D15: =VLOOKUP($C$16,ascendant!$A:$C,2,FALSE) -> inconnu
C16: =VLOOKUP($B$14,ascendant!$A:$C,3,FALSE) -> 3140
D17: =VLOOKUP($C$16,ascendant!$A:$C,3,FALSE) -> 39
A20: nés le | B20: père | C20: numéro | D20: sexe | E20: élevé | F20: sortie le | G20: poids | H20: confo | I20: prix
A21: 42350 | B21: inconnu | C21: 6064 | D21: F | E21: D
A22: 42350 | B22: inconnu | C22: 6065 | D22: M | E22: D
A23: 42699 | C23: 7049 | D23: M | E23: D
A24: 42699 | C24: 7050 | D24: F | E24: D

Sheet 4004
A1: 4004 | B1: née le 13/09/13 | D1: ARR/ARR
A2: triple
D3: =VLOOKUP($C$4,ascendant!$A:$C,2,FALSE) -> inconnu
C4: =VLOOKUP($B$6,ascendant!$A:$C,2,FALSE) -> inconnu
D5: =VLOOKUP($C$4,ascendant!$A:$C,3,FALSE) -> inconnu
B6: =VLOOKUP($A$10,ascendant!$A:$C,2,FALSE) -> inconnu
D7: =VLOOKUP($C$8,ascendant!$A:$C,2,FALSE) -> inconnu
C8: =VLOOKUP($B$6,ascendant!$A:$C,3,FALSE) -> inconnu
D9: =VLOOKUP($C$8,ascendant!$A:$C,3,FALSE) -> inconnu
A10: 14004
D11: =VLOOKUP($C$12,ascendant!$A:$C,2,FALSE) -> inconnu
C12: =VLOOKUP($B$14,ascendant!$A:$C,2,FALSE) -> inconnu
D13: =VLOOKUP($C$12,ascendant!$A:$C,3,FALSE) -> inconnu
B14: =VLOOKUP($A$10,ascendant!A:C,3,FALSE) -> 9645
D15: =VLOOKUP($C$16,ascendant!$A:$C,2,FALSE) -> 2033
C16: =VLOOKUP($B$14,ascendant!$A:$C,3,FALSE) -> 4114
D17: =VLOOKUP($C$16,ascendant!$A:$C,3,FALSE) -> 94016
A20: nés le | B20: père | C20: numéro | D20: sexe | E20: élevé | F20: sortie le | G20: poids | H20: confo | I20: prix
A21: 42333 | B21: 3093 | C21: 6021 | D21: F | E21: S
A22: 42333 | B22: 3093 | C22: MN | D22: F
A23: 42695 | C23: 7028 | D23: M | E23: D
A24: 42695 | C24: MN | D24: M | E24: S | F24: 42817 | G24: 20.4 | H24: U3
A25: 42695 | C25: MN
A26: 42695 | C26: MN

Sheet 4012
A1: 4012 | B1: née le 13/9/13 | D1: ARR/ARR | E1: noire
A2: triple
D3: =VLOOKUP($C$4,ascendant!$A:$C,2,FALSE) -> a chercher
C4: =VLOOKUP($B$6,ascendant!$A:$C,2,FALSE) -> 8029
D5: =VLOOKUP($C$4,ascendant!$A:$C,3,FALSE) -> 2034
B6: =VLOOKUP($A$10,ascendant!$A:$C,2,FALSE) -> 12017
D7: =VLOOKUP($C$8,ascendant!$A:$C,2,FALSE) -> 3658
C8: =VLOOKUP($B$6,ascendant!$A:$C,3,FALSE) -> 5513
D9: =VLOOKUP($C$8,ascendant!$A:$C,3,FALSE) -> 3068
A10: 14012
D11: =VLOOKUP($C$12,ascendant!$A:$C,2,FALSE) -> 5341
C12: =VLOOKUP($B$14,ascendant!$A:$C,2,FALSE) -> 7546
D13: =VLOOKUP($C$12,ascendant!$A:$C,3,FALSE) -> 2077
B14: =VLOOKUP($A$10,ascendant!A:C,3,FALSE) -> 11064
D15: =VLOOKUP($C$16,ascendant!$A:$C,2,FALSE) -> a chercher
C16: =VLOOKUP($B$14,ascendant!$A:$C,3,FALSE) -> 9527
D17: =VLOOKUP($C$16,ascendant!$A:$C,3,FALSE) -> 6345
A20: nés le | B20: père | C20: numéro | D20: sexe | E20: élevé | F20: sortie le | G20: poids | H20: confo | I20: prix
A21: 42342 | B21: 2277 | C21: 6033 | D21: M | E21: D | F21: 42472 | G21: 21.4 | H21: R3
A22: 42342 | B22: 2277 | C22: 6034 | D22: F | E22: D
A23: 42342 | B23: 2277 | C23: 6035 | D23: M | E23: D | F23: 42472 | G23: 20.3 | H23: R3
A24: 42687 | C24: 7002 | D24: M | E24: S
A25: 42687 | C25: mort

Sheet 4032
A1: 4032 | B1: née le 16/9/13 | D1: ARR/ARR
A2: double
D3: =VLOOKUP($C$4,ascendant!$A:$C,2,FALSE) -> a chercher
C4: =VLOOKUP($B$6,ascendant!$A:$C,2,FALSE) -> 8029
D5: =VLOOKUP($C$4,ascendant!$A:$C,3,FALSE) -> 2034
B6: =VLOOKUP($A$10,ascendant!$A:$C,2,FALSE) -> 12017
D7: =VLOOKUP($C$8,ascendant!$A:$C,2,FALSE) -> 3658
C8: =VLOOKUP($B$6,ascendant!$A:$C,3,FALSE) -> 5513
D9: =VLOOKUP($C$8,ascendant!$A:$C,3,FALSE) -> 3068
A10: 14032
D11: =VLOOKUP($C$12,ascendant!$A:$C,2,FALSE) -> 1660
C12: =VLOOKUP($B$14,ascendant!$A:$C,2,FALSE) -> 6701
D13: =VLOOKUP($C$12,ascendant!$A:$C,3,FALSE) -> 3022
B14: =VLOOKUP($A$10,ascendant!A:C,3,FALSE) -> 9333
D15: =VLOOKUP($C$16,ascendant!$A:$C,2,FALSE) -> 1601
C16: =VLOOKUP($B$14,ascendant!$A:$C,3,FALSE) -> 4381
D17: =VLOOKUP($C$16,ascendant!$A:$C,3,FALSE) -> 1647
A20: nés le | B20: père | C20: numéro | D20: sexe | E20: élevé | F20: sortie le | G20: poids | H20: confo | I20: prix
A21: 42343 | B21: inconnu | C21: 6039 | D21: F | E21: D | F21: 42502 | G21: 18.1 | H21: R3
A22: 42343 | B22: inconnu | C22: 6040 | D22: M | E22: D | F22: 42446
A23: 42343 | B23: inconnu | C23: MN
A24: 42699 | C24: 7068 | D24: F | E24: D | F24: mort maigre
A25: 42699 | C25: 7069 | D25: M | E25: D
A26: 42699 | C26: MN
A27: 42699 | C27: MN
A28: 42699 | C28: MN

Sheet 4033
A1: 4033 | B1: née le 16/9/13 | D1: ARR/ARR
A2: double
D3: =VLOOKUP($C$4,ascendant!$A:$C,2,FALSE) -> a chercher
C4: =VLOOKUP($B$6,ascendant!$A:$C,2,FALSE) -> 8029
D5: =VLOOKUP($C$4,ascendant!$A:$C,3,FALSE) -> 2034
B6: =VLOOKUP($A$10,ascendant!$A:$C,2,FALSE) -> 12017
D7: =VLOOKUP($C$8,ascendant!$A:$C,2,FALSE) -> 3658
C8: =VLOOKUP($B$6,ascendant!$A:$C,3,FALSE) -> 5513
D9: =VLOOKUP($C$8,ascendant!$A:$C,3,FALSE) -> 3068
A10: 14033
D11: =VLOOKUP($C$12,ascendant!$A:$C,2,FALSE) -> 1660
C12: =VLOOKUP($B$14,ascendant!$A:$C,2,FALSE) -> 6701
D13: =VLOOKUP($C$12,ascendant!$A:$C,3,FALSE) -> 3022
B14: =VLOOKUP($A$10,ascendant!A:C,3,FALSE) -> 9333
D15: =VLOOKUP($C$16,ascendant!$A:$C,2,FALSE) -> 1601
C16: =VLOOKUP($B$14,ascendant!$A:$C,3,FALSE) -> 4381
D17: =VLOOKUP($C$16,ascendant!$A:$C,3,FALSE) -> 1647
A20: nés le | B20: père | C20: numéro | D20: sexe | E20: élevé | F20: sortie le | G20: poids | H20: confo | I20: prix
A21: 42351 | B21: inconnu | C21: 6069 | D21: F | E21: D
A22: 42351 | B22: inconnu | C22: MN
A23: 42351 | B23: inconnu | C23: MN
A24: 42711 | C24: 7087 | D24: F | E24: D
A25: 42711 | C25: 7088 | D25: M | E25: D

Sheet 4070
A1: 4070 | B1: née le 18/9/13 | D1: ARR/ARR
A2: double
D3: =VLOOKUP($C$4,ascendant!$A:$C,2,FALSE) -> a chercher
C4: =VLOOKUP($B$6,ascendant!$A:$C,2,FALSE) -> 8018
D5: =VLOOKUP($C$4,ascendant!$A:$C,3,FALSE) -> 1647
B6: =VLOOKUP($A$10,ascendant!$A:$C,2,FALSE) -> 12072
D7: =VLOOKUP($C$8,ascendant!$A:$C,2,FALSE) -> a chercher
C8: =VLOOKUP($B$6,ascendant!$A:$C,3,FALSE) -> 8001
D9: =VLOOKUP($C$8,ascendant!$A:$C,3,FALSE) -> 5475
A10: 14070
D11: =VLOOKUP($C$12,ascendant!$A:$C,2,FALSE) -> 6111
C12: =VLOOKUP($B$14,ascendant!$A:$C,2,FALSE) -> 7619
D13: =VLOOKUP($C$12,ascendant!$A:$C,3,FALSE) -> 5348
B14: =VLOOKUP($A$10,ascendant!A:C,3,FALSE) -> 11267
D15: =VLOOKUP($C$16,ascendant!$A:$C,2,FALSE) -> a chercher
C16: =VLOOKUP($B$14,ascendant!$A:$C,3,FALSE) -> 9327
D17: =VLOOKUP($C$16,ascendant!$A:$C,3,FALSE) -> 2039
A20: nés le | B20: père | C20: numéro | D20: sexe | E20: élevé | F20: sortie le | G20: poids | H20: confo | I20: prix
A21: 42353 | B21: inconnu | C21: 6081 | D21: F | E21: D
A22: 42353 | B22: inconnu | C22: 6082 | D22: F | E22: D
A23: 42699 | C23: 7072 | D23: F | E23: D | F23: mort 30/12
A24: 42699 | C24: 7073 | D24: F | E24: D | F24: Repro

Sheet 4071
A1: 4071 | B1: née le 18/9/13 | D1: ARR/ARR
A2: double
D3: =VLOOKUP($C$4,ascendant!$A:$C,2,FALSE) -> a chercher
C4: =VLOOKUP($B$6,ascendant!$A:$C,2,FALSE) -> 8018
D5: =VLOOKUP($C$4,ascendant!$A:$C,3,FALSE) -> 1647
B6: =VLOOKUP($A$10,ascendant!$A:$C,2,FALSE) -> 12072
D7: =VLOOKUP($C$8,ascendant!$A:$C,2,FALSE) -> a chercher
C8: =VLOOKUP($B$6,ascendant!$A:$C,3,FALSE) -> 8001
D9: =VLOOKUP($C$8,ascendant!$A:$C,3,FALSE) -> 5475
A10: 14071
D11: =VLOOKUP($C$12,ascendant!$A:$C,2,FALSE) -> 6111
C12: =VLOOKUP($B$14,ascendant!$A:$C,2,FALSE) -> 7619
D13: =VLOOKUP($C$12,ascendant!$A:$C,3,FALSE) -> 5348
B14: =VLOOKUP($A$10,ascendant!A:C,3,FALSE) -> 11267
D15: =VLOOKUP($C$16,ascendant!$A:$C,2,FALSE) -> a chercher
C16: =VLOOKUP($B$14,ascendant!$A:$C,3,FALSE) -> 9327
D17: =VLOOKUP($C$16,ascendant!$A:$C,3,FALSE) -> 2039
A20: nés le | B20: père | C20: numéro | D20: sexe | E20: élevé | F20: sortie le | G20: poids | H20: confo | I20: prix
A21: 42315 | B21: 2274 | C21: 6017 | D21: M | E21: S | F21: 42418
A22: 42699 | C22: 7053 | D22: F | E22: D | F22: repro
A23: 42699 | C23: 7054 | D23: F | E23: D

Sheet 4075
A1: 4075 | B1: née le 18/9/13 | D1: ARR/ARR
A2: double
D3: =VLOOKUP($C$4,ascendant!$A:$C,2,FALSE) -> inconnu
C4: =VLOOKUP($B$6,ascendant!$A:$C,2,FALSE) -> inconnu
D5: =VLOOKUP($C$4,ascendant!$A:$C,3,FALSE) -> inconnu
B6: =VLOOKUP($A$10,ascendant!$A:$C,2,FALSE) -> inconnu
D7: =VLOOKUP($C$8,ascendant!$A:$C,2,FALSE) -> inconnu
C8: =VLOOKUP($B$6,ascendant!$A:$C,3,FALSE) -> inconnu
D9: =VLOOKUP($C$8,ascendant!$A:$C,3,FALSE) -> inconnu
A10: 14075
D11: =VLOOKUP($C$12,ascendant!$A:$C,2,FALSE) -> inconnu
C12: =VLOOKUP($B$14,ascendant!$A:$C,2,FALSE) -> inconnu
D13: =VLOOKUP($C$12,ascendant!$A:$C,3,FALSE) -> inconnu
B14: =VLOOKUP($A$10,ascendant!A:C,3,FALSE) -> 10059
D15: =VLOOKUP($C$16,ascendant!$A:$C,2,FALSE) -> 5038
C16: =VLOOKUP($B$14,ascendant!$A:$C,3,FALSE) -> 6490
D17: =VLOOKUP($C$16,ascendant!$A:$C,3,FALSE) -> 2621
A20: nés le | B20: père | C20: numéro | D20: sexe | E20: élevé | F20: sortie le | G20: poids | H20: confo | I20: prix
A21: 42332 | B21: 3093 | C21: 6019 | D21: M | E21: D | F21: 42478 | G21: 19.5 | H21: R3
A22: 42332 | B22: 3093 | C22: 6020 | D22: F | E22: D
A23: 42332 | B23: 3093 | C23: MN
A24: 42687 | C24: 7001 | D24: M | E24: S | F24: 42817 | G24: 20.8 | H24: U3
A25: 42687 | C25: MN
A26: 42687 | C26: MN

Sheet 4083
A1: 4083 | B1: née le 18/9/13 | D1: ARR/ARR
A2: double
D3: =VLOOKUP($C$4,ascendant!$A:$C,2,FALSE) -> a chercher
C4: =VLOOKUP($B$6,ascendant!$A:$C,2,FALSE) -> 8058
D5: =VLOOKUP($C$4,ascendant!$A:$C,3,FALSE) -> 4390
B6: =VLOOKUP($A$10,ascendant!$A:$C,2,FALSE) -> 12008
D7: =VLOOKUP($C$8,ascendant!$A:$C,2,FALSE) -> a chercher
C8: =VLOOKUP($B$6,ascendant!$A:$C,3,FALSE) -> 8099
D9: =VLOOKUP($C$8,ascendant!$A:$C,3,FALSE) -> 4356
A10: 14083
D11: =VLOOKUP($C$12,ascendant!$A:$C,2,FALSE) -> 94112
C12: =VLOOKUP($B$14,ascendant!$A:$C,2,FALSE) -> 3658
D13: =VLOOKUP($C$12,ascendant!$A:$C,3,FALSE) -> 1038
B14: =VLOOKUP($A$10,ascendant!A:C,3,FALSE) -> 7331
D15: =VLOOKUP($C$16,ascendant!$A:$C,2,FALSE) -> 630
C16: =VLOOKUP($B$14,ascendant!$A:$C,3,FALSE) -> 3629
D17: =VLOOKUP($C$16,ascendant!$A:$C,3,FALSE) -> 668
A20: nés le | B20: père | C20: numéro | D20: sexe | E20: élevé | F20: sortie le | G20: poids | H20: confo | I20: prix
A21: 42348 | B21: inconnu | C21: 6057 | D21: M | E21: D | F21: 42478 | G21: 20.5 | H21: R4
A22: 42348 | B22: inconnu | C22: 6058 | D22: M | E22: D | F22: 42478 | G22: 23 | H22: R3
A23: 42699 | C23: 7055 | D23: M | E23: D | F23: 42817 | G23: 21.2 | H23: U3
A24: 42699 | C24: 7056 | D24: F | E24: D

Sheet 4099
A1: 4099 | B1: née le 19/9/13 | D1: ARR/ARR
A2: double
D3: =VLOOKUP($C$4,ascendant!$A:$C,2,FALSE) -> a chercher
C4: =VLOOKUP($B$6,ascendant!$A:$C,2,FALSE) -> 8058
D5: =VLOOKUP($C$4,ascendant!$A:$C,3,FALSE) -> 4390
B6: =VLOOKUP($A$10,ascendant!$A:$C,2,FALSE) -> 12008
D7: =VLOOKUP($C$8,ascendant!$A:$C,2,FALSE) -> a chercher
C8: =VLOOKUP($B$6,ascendant!$A:$C,3,FALSE) -> 8099
D9: =VLOOKUP($C$8,ascendant!$A:$C,3,FALSE) -> 4356
A10: 14099
D11: =VLOOKUP($C$12,ascendant!$A:$C,2,FALSE) -> 94112
C12: =VLOOKUP($B$14,ascendant!$A:$C,2,FALSE) -> 3658
D13: =VLOOKUP($C$12,ascendant!$A:$C,3,FALSE) -> 1038
B14: =VLOOKUP($A$10,ascendant!A:C,3,FALSE) -> 7381
D15: =VLOOKUP($C$16,ascendant!$A:$C,2,FALSE) -> 1660
C16: =VLOOKUP($B$14,ascendant!$A:$C,3,FALSE) -> 4648
D17: =VLOOKUP($C$16,ascendant!$A:$C,3,FALSE) -> 3652
A20: nés le | B20: père | C20: numéro | D20: sexe | E20: élevé | F20: sortie le | G20: poids | H20: confo | I20: prix
A21: 42348 | B21: inconnu | C21: 6055 | D21: M | E21: D | F21: 42502 | G21: 19.7 | H21: R3
A22: 42348 | B22: inconnu | C22: 6056 | D22: M | E22: D | F22: 42472 | G22: 22.1 | H22: U3
A23: 42697 | C23: 7057 | D23: M | E23: D
A24: 42697 | C24: 7058 | D24: F | E24: D
A25: 42697 | C25: MN

Sheet 4100
A1: 4100 | B1: née le 19/9/13 | D1: ARR/ARR
A2: double
D3: =VLOOKUP($C$4,ascendant!$A:$C,2,FALSE) -> a chercher
C4: =VLOOKUP($B$6,ascendant!$A:$C,2,FALSE) -> 8058
D5: =VLOOKUP($C$4,ascendant!$A:$C,3,FALSE) -> 4390
B6: =VLOOKUP($A$10,ascendant!$A:$C,2,FALSE) -> 12008
D7: =VLOOKUP($C$8,ascendant!$A:$C,2,FALSE) -> a chercher
C8: =VLOOKUP($B$6,ascendant!$A:$C,3,FALSE) -> 8099
D9: =VLOOKUP($C$8,ascendant!$A:$C,3,FALSE) -> 4356
A10: 14100
D11: =VLOOKUP($C$12,ascendant!$A:$C,2,FALSE) -> 94112
C12: =VLOOKUP($B$14,ascendant!$A:$C,2,FALSE) -> 3658
D13: =VLOOKUP($C$12,ascendant!$A:$C,3,FALSE) -> 1038
B14: =VLOOKUP($A$10,ascendant!A:C,3,FALSE) -> 7381
D15: =VLOOKUP($C$16,ascendant!$A:$C,2,FALSE) -> 1660
C16: =VLOOKUP($B$14,ascendant!$A:$C,3,FALSE) -> 4648
D17: =VLOOKUP($C$16,ascendant!$A:$C,3,FALSE) -> 3652
A20: nés le | B20: père | C20: numéro | D20: sexe | E20: élevé | F20: sortie le | G20: poids | H20: confo | I20: prix
A21: 42343 | B21: inconnu | C21: 6036 | D21: M | E21: D | F21: 42472 | G21: 21.3 | H21: U3
A22: 42343 | B22: inconnu | C22: tué poneys
A23: 42698 | C23: 7065 | D23: F | E23: D
A24: 42698 | C24: 7066 | D24: F | E24: D

Sheet 4152
A1: 4152 | B1: née le 29/9/13 | D1: ARR/ARR
A2: triple
D3: =VLOOKUP($C$4,ascendant!$A:$C,2,FALSE) -> a chercher
C4: =VLOOKUP($B$6,ascendant!$A:$C,2,FALSE) -> 8029
D5: =VLOOKUP($C$4,ascendant!$A:$C,3,FALSE) -> 2034
B6: =VLOOKUP($A$10,ascendant!$A:$C,2,FALSE) -> 12017
D7: =VLOOKUP($C$8,ascendant!$A:$C,2,FALSE) -> 3658
C8: =VLOOKUP($B$6,ascendant!$A:$C,3,FALSE) -> 5513
D9: =VLOOKUP($C$8,ascendant!$A:$C,3,FALSE) -> 3068
A10: 14152
D11: =VLOOKUP($C$12,ascendant!$A:$C,2,FALSE) -> #N/A
C12: =VLOOKUP($B$14,ascendant!$A:$C,2,FALSE) -> a chercher
D13: =VLOOKUP($C$12,ascendant!$A:$C,3,FALSE) -> #N/A
B14: =VLOOKUP($A$10,ascendant!A:C,3,FALSE) -> 9450
D15: =VLOOKUP($C$16,ascendant!$A:$C,2,FALSE) -> 3658
C16: =VLOOKUP($B$14,ascendant!$A:$C,3,FALSE) -> 5572
D17: =VLOOKUP($C$16,ascendant!$A:$C,3,FALSE) -> 3091
A20: nés le | B20: père | C20: numéro | D20: sexe | E20: élevé | F20: sortie le | G20: poids | H20: confo | I20: prix
A21: 42317 | B21: 2274 | C21: 6013 | D21: M | E21: D | F21: 42443 | G21: Vendu repro
A22: 42317 | B22: 2274 | C22: 6014 | D22: F | E22: D
A23: 42697 | C23: 7059 | D23: M | E23: D
A24: 42697 | C24: 7060 | D24: M | E24: D

Sheet 4163
A1: 4163 | B1: née le 10/1/14 | D1: ARR/ARR
A2: double
D3: =VLOOKUP($C$4,ascendant!$A:$C,2,FALSE) -> inconnu
C4: =VLOOKUP($B$6,ascendant!$A:$C,2,FALSE) -> inconnu
D5: =VLOOKUP($C$4,ascendant!$A:$C,3,FALSE) -> inconnu
B6: =VLOOKUP($A$10,ascendant!$A:$C,2,FALSE) -> inconnu
D7: =VLOOKUP($C$8,ascendant!$A:$C,2,FALSE) -> inconnu
C8: =VLOOKUP($B$6,ascendant!$A:$C,3,FALSE) -> inconnu
D9: =VLOOKUP($C$8,ascendant!$A:$C,3,FALSE) -> inconnu
A10: 14163
D11: =VLOOKUP($C$12,ascendant!$A:$C,2,FALSE) -> #N/A
C12: =VLOOKUP($B$14,ascendant!$A:$C,2,FALSE) -> a chercher
D13: =VLOOKUP($C$12,ascendant!$A:$C,3,FALSE) -> #N/A
B14: =VLOOKUP($A$10,ascendant!A:C,3,FALSE) -> 9309
D15: =VLOOKUP($C$16,ascendant!$A:$C,2,FALSE) -> 3658
C16: =VLOOKUP($B$14,ascendant!$A:$C,3,FALSE) -> 7381
D17: =VLOOKUP($C$16,ascendant!$A:$C,3,FALSE) -> 4648
A20: nés le | B20: père | C20: numéro | D20: sexe | E20: élevé | F20: sortie le | G20: poids | H20: confo | I20: prix
A21: 42351 | B21: inconnu | C21: 6072 | D21: F | E21: D | F21: 42502 | G21: 20.1 | H21: R3
A22: 42351 | B22: inconnu | C22: 6073 | D22: M | E22: D
A23: 42715 | C23: 7089 | D23: F | E23: D

Sheet 4164
A1: 4164 | B1: née le 10/1/14 | D1: ARR/ARR
A2: double
D3: =VLOOKUP($C$4,ascendant!$A:$C,2,FALSE) -> inconnu
C4: =VLOOKUP($B$6,ascendant!$A:$C,2,FALSE) -> inconnu
D5: =VLOOKUP($C$4,ascendant!$A:$C,3,FALSE) -> inconnu
B6: =VLOOKUP($A$10,ascendant!$A:$C,2,FALSE) -> inconnu
D7: =VLOOKUP($C$8,ascendant!$A:$C,2,FALSE) -> inconnu
C8: =VLOOKUP($B$6,ascendant!$A:$C,3,FALSE) -> inconnu
D9: =VLOOKUP($C$8,ascendant!$A:$C,3,FALSE) -> inconnu
A10: 14164
D11: =VLOOKUP($C$12,ascendant!$A:$C,2,FALSE) -> #N/A
C12: =VLOOKUP($B$14,ascendant!$A:$C,2,FALSE) -> a chercher
D13: =VLOOKUP($C$12,ascendant!$A:$C,3,FALSE) -> #N/A
B14: =VLOOKUP($A$10,ascendant!A:C,3,FALSE) -> 9309
D15: =VLOOKUP($C$16,ascendant!$A:$C,2,FALSE) -> 3658
C16: =VLOOKUP($B$14,ascendant!$A:$C,3,FALSE) -> 7381
D17: =VLOOKUP($C$16,ascendant!$A:$C,3,FALSE) -> 4648
A20: nés le | B20: père | C20: numéro | D20: sexe | E20: élevé | F20: sortie le | G20: poids | H20: confo | I20: prix
A21: 42304 | B21: 3093 | C21: 6007 | D21: F | E21: D
A22: 42304 | B22: 3093 | C22: 6008 | D22: F | E22: D
A23: 42304 | B23: 3093 | C23: MN
A24: 42682 | C24: préma
A25: 42682 | C25: préma
A26: 42682 | C26: préma

Sheet 4166
A1: 4166 | B1: née le 12/1/14 | D1: ARR/ARR
A2: triple
D3: =VLOOKUP($C$4,ascendant!$A:$C,2,FALSE) -> inconnu
C4: =VLOOKUP($B$6,ascendant!$A:$C,2,FALSE) -> inconnu
D5: =VLOOKUP($C$4,ascendant!$A:$C,3,FALSE) -> inconnu
B6: =VLOOKUP($A$10,ascendant!$A:$C,2,FALSE) -> inconnu
D7: =VLOOKUP($C$8,ascendant!$A:$C,2,FALSE) -> inconnu
C8: =VLOOKUP($B$6,ascendant!$A:$C,3,FALSE) -> inconnu
D9: =VLOOKUP($C$8,ascendant!$A:$C,3,FALSE) -> inconnu
A10: 14166
D11: =VLOOKUP($C$12,ascendant!$A:$C,2,FALSE) -> #N/A
C12: =VLOOKUP($B$14,ascendant!$A:$C,2,FALSE) -> a chercher
D13: =VLOOKUP($C$12,ascendant!$A:$C,3,FALSE) -> #N/A
B14: =VLOOKUP($A$10,ascendant!A:C,3,FALSE) -> 11274
D15: =VLOOKUP($C$16,ascendant!$A:$C,2,FALSE) -> a chercher
C16: =VLOOKUP($B$14,ascendant!$A:$C,3,FALSE) -> 9310
D17: =VLOOKUP($C$16,ascendant!$A:$C,3,FALSE) -> 7381
A20: nés le | B20: père | C20: numéro | D20: sexe | E20: élevé | F20: sortie le | G20: poids | H20: confo | I20: prix
A21: 42300 | B21: 3093 | C21: 6004 | D21: M | E21: S | F21: 42383
A22: 42696 | C22: 7037 | D22: F | E22: T
A23: 42696 | C23: 7038 | D23: F | E23: T
A24: 42696 | C24: 7039 | D24: F | E24: T
A25: 42696 | C25: 7040 | D25: M | E25: D

Sheet 4167
A1: 4167 | B1: née le 12/1/14 | D1: ARR/ARR
A2: triple
D3: =VLOOKUP($C$4,ascendant!$A:$C,2,FALSE) -> inconnu
C4: =VLOOKUP($B$6,ascendant!$A:$C,2,FALSE) -> inconnu
D5: =VLOOKUP($C$4,ascendant!$A:$C,3,FALSE) -> inconnu
B6: =VLOOKUP($A$10,ascendant!$A:$C,2,FALSE) -> inconnu
D7: =VLOOKUP($C$8,ascendant!$A:$C,2,FALSE) -> inconnu
C8: =VLOOKUP($B$6,ascendant!$A:$C,3,FALSE) -> inconnu
D9: =VLOOKUP($C$8,ascendant!$A:$C,3,FALSE) -> inconnu
A10: 14167
D11: =VLOOKUP($C$12,ascendant!$A:$C,2,FALSE) -> #N/A
C12: =VLOOKUP($B$14,ascendant!$A:$C,2,FALSE) -> a chercher
D13: =VLOOKUP($C$12,ascendant!$A:$C,3,FALSE) -> #N/A
B14: =VLOOKUP($A$10,ascendant!A:C,3,FALSE) -> 11274
D15: =VLOOKUP($C$16,ascendant!$A:$C,2,FALSE) -> a chercher
C16: =VLOOKUP($B$14,ascendant!$A:$C,3,FALSE) -> 9310
D17: =VLOOKUP($C$16,ascendant!$A:$C,3,FALSE) -> 7381
A20: nés le | B20: père | C20: numéro | D20: sexe | E20: élevé | F20: sortie le | G20: poids | H20: confo | I20: prix
A21: 42317 | B21: 3093 | C21: 6011 | D21: F | E21: D
A22: 42317 | B22: 3093 | C22: 6012 | D22: F | E22: D
A23: 42695 | C23: 7033 | D23: F | E23: D

Sheet 4168
A1: 4168 | B1: née le 14/1/14 | D1: ARR/ARR
A2: simple
D3: =VLOOKUP($C$4,ascendant!$A:$C,2,FALSE) -> inconnu
C4: =VLOOKUP($B$6,ascendant!$A:$C,2,FALSE) -> inconnu
D5: =VLOOKUP($C$4,ascendant!$A:$C,3,FALSE) -> inconnu
B6: =VLOOKUP($A$10,ascendant!$A:$C,2,FALSE) -> inconnu
D7: =VLOOKUP($C$8,ascendant!$A:$C,2,FALSE) -> inconnu
C8: =VLOOKUP($B$6,ascendant!$A:$C,3,FALSE) -> inconnu
D9: =VLOOKUP($C$8,ascendant!$A:$C,3,FALSE) -> inconnu
A10: 14168
D11: =VLOOKUP($C$12,ascendant!$A:$C,2,FALSE) -> #N/A
C12: =VLOOKUP($B$14,ascendant!$A:$C,2,FALSE) -> a chercher
D13: =VLOOKUP($C$12,ascendant!$A:$C,3,FALSE) -> #N/A
B14: =VLOOKUP($A$10,ascendant!A:C,3,FALSE) -> 8001
D15: =VLOOKUP($C$16,ascendant!$A:$C,2,FALSE) -> inconnu
C16: =VLOOKUP($B$14,ascendant!$A:$C,3,FALSE) -> 5475
D17: =VLOOKUP($C$16,ascendant!$A:$C,3,FALSE) -> 3601
A20: nés le | B20: père | C20: numéro | D20: sexe | E20: élevé | F20: sortie le | G20: poids | H20: confo | I20: prix
A21: 42313 | B21: 3093 | C21: 6009 | D21: M | E21: D | F21: 42418
A22: 42313 | B22: 3093 | C22: 6010 | D22: M | E22: D | F22: 42439
A23: 42313 | B23: 3093 | C23: MN
A24: 42689 | C24: 7006 | D24: M | E24: S
A25: 42689 | C25: MN

Sheet 4172
A1: 4172 | B1: née le 23/8/14
A2: simple
D3: =VLOOKUP($C$4,ascendant!$A:$C,2,FALSE) -> inconnu
C4: =VLOOKUP($B$6,ascendant!$A:$C,2,FALSE) -> inconnu
D5: =VLOOKUP($C$4,ascendant!$A:$C,3,FALSE) -> inconnu
B6: =VLOOKUP($A$10,ascendant!$A:$C,2,FALSE) -> inconnu
D7: =VLOOKUP($C$8,ascendant!$A:$C,2,FALSE) -> inconnu
C8: =VLOOKUP($B$6,ascendant!$A:$C,3,FALSE) -> inconnu
D9: =VLOOKUP($C$8,ascendant!$A:$C,3,FALSE) -> inconnu
A10: 14172
D11: =VLOOKUP($C$12,ascendant!$A:$C,2,FALSE) -> inconnu
C12: =VLOOKUP($B$14,ascendant!$A:$C,2,FALSE) -> 6106
D13: =VLOOKUP($C$12,ascendant!$A:$C,3,FALSE) -> inconnu
B14: =VLOOKUP($A$10,ascendant!A:C,3,FALSE) -> 8043
D15: =VLOOKUP($C$16,ascendant!$A:$C,2,FALSE) -> inconnu
C16: =VLOOKUP($B$14,ascendant!$A:$C,3,FALSE) -> 3140
D17: =VLOOKUP($C$16,ascendant!$A:$C,3,FALSE) -> 39
A20: nés le | B20: père | C20: numéro | D20: sexe | E20: élevé | F20: sortie le | G20: poids | H20: confo | I20: prix
A21: 42690 | C21: 7009 | D21: F | E21: S | F21: mort maigre
A22: 42690 | C22: /
A23: 42690 | C23: /
A24: 42690 | C24: /

Sheet 4177
A1: 4177 | B1: née le 26/8/14
A2: triple
D3: =VLOOKUP($C$4,ascendant!$A:$C,2,FALSE) -> 96122
C4: =VLOOKUP($B$6,ascendant!$A:$C,2,FALSE) -> 1078
D5: =VLOOKUP($C$4,ascendant!$A:$C,3,FALSE) -> 96081
B6: =VLOOKUP($A$10,ascendant!$A:$C,2,FALSE) -> 12274
D7: =VLOOKUP($C$8,ascendant!$A:$C,2,FALSE) -> a chercher
C8: =VLOOKUP($B$6,ascendant!$A:$C,3,FALSE) -> 8057
D9: =VLOOKUP($C$8,ascendant!$A:$C,3,FALSE) -> 4390
A10: 14177
D11: =VLOOKUP($C$12,ascendant!$A:$C,2,FALSE) -> 1660
C12: =VLOOKUP($B$14,ascendant!$A:$C,2,FALSE) -> 6701
D13: =VLOOKUP($C$12,ascendant!$A:$C,3,FALSE) -> 3022
B14: =VLOOKUP($A$10,ascendant!A:C,3,FALSE) -> 9442
D15: =VLOOKUP($C$16,ascendant!$A:$C,2,FALSE) -> a chercher
C16: =VLOOKUP($B$14,ascendant!$A:$C,3,FALSE) -> 5382
D17: =VLOOKUP($C$16,ascendant!$A:$C,3,FALSE) -> 1647
A20: nés le | B20: père | C20: numéro | D20: sexe | E20: élevé | F20: sortie le | G20: poids | H20: confo | I20: prix
A21: 42725 | C21: 7093 | D21: M | E21: S
A22: 42725 | C22: / | F22: schmallemberg

Sheet 4182
A1: 4182 | B1: née le 27/8/14
A2: triple
D3: =VLOOKUP($C$4,ascendant!$A:$C,2,FALSE) -> inconnu
C4: =VLOOKUP($B$6,ascendant!$A:$C,2,FALSE) -> inconnu
D5: =VLOOKUP($C$4,ascendant!$A:$C,3,FALSE) -> inconnu
B6: =VLOOKUP($A$10,ascendant!$A:$C,2,FALSE) -> inconnu
D7: =VLOOKUP($C$8,ascendant!$A:$C,2,FALSE) -> inconnu
C8: =VLOOKUP($B$6,ascendant!$A:$C,3,FALSE) -> inconnu
D9: =VLOOKUP($C$8,ascendant!$A:$C,3,FALSE) -> inconnu
A10: 14182
D11: =VLOOKUP($C$12,ascendant!$A:$C,2,FALSE) -> 94112
C12: =VLOOKUP($B$14,ascendant!$A:$C,2,FALSE) -> 3658
D13: =VLOOKUP($C$12,ascendant!$A:$C,3,FALSE) -> 1038
B14: =VLOOKUP($A$10,ascendant!A:C,3,FALSE) -> 7355
D15: =VLOOKUP($C$16,ascendant!$A:$C,2,FALSE) -> 88719
C16: =VLOOKUP($B$14,ascendant!$A:$C,3,FALSE) -> 91654
D17: =VLOOKUP($C$16,ascendant!$A:$C,3,FALSE) -> 88650
A20: nés le | B20: père | C20: numéro | D20: sexe | E20: élevé | F20: sortie le | G20: poids | H20: confo | I20: prix
A21: 42708 | C21: 7085 | D21: F | E21: D
A22: 42708 | C22: 7086 | D22: F | E22: D

Sheet 4183
A1: 4182 | B1: née le 27/8/14
A2: triple
D3: =VLOOKUP($C$4,ascendant!$A:$C,2,FALSE) -> inconnu
C4: =VLOOKUP($B$6,ascendant!$A:$C,2,FALSE) -> inconnu
D5: =VLOOKUP($C$4,ascendant!$A:$C,3,FALSE) -> inconnu
B6: =VLOOKUP($A$10,ascendant!$A:$C,2,FALSE) -> inconnu
D7: =VLOOKUP($C$8,ascendant!$A:$C,2,FALSE) -> inconnu
C8: =VLOOKUP($B$6,ascendant!$A:$C,3,FALSE) -> inconnu
D9: =VLOOKUP($C$8,ascendant!$A:$C,3,FALSE) -> inconnu
A10: 14183
D11: =VLOOKUP($C$12,ascendant!$A:$C,2,FALSE) -> 94112
C12: =VLOOKUP($B$14,ascendant!$A:$C,2,FALSE) -> 3658
D13: =VLOOKUP($C$12,ascendant!$A:$C,3,FALSE) -> 1038
B14: =VLOOKUP($A$10,ascendant!A:C,3,FALSE) -> 7355
D15: =VLOOKUP($C$16,ascendant!$A:$C,2,FALSE) -> 88719
C16: =VLOOKUP($B$14,ascendant!$A:$C,3,FALSE) -> 91654
D17: =VLOOKUP($C$16,ascendant!$A:$C,3,FALSE) -> 88650
A20: nés le | B20: père | C20: numéro | D20: sexe | E20: élevé | F20: sortie le | G20: poids | H20: confo | I20: prix
A21: 42689 | C21: 7007 | D21: M | E21: D
A22: 42689 | C22: 7008 | D22: M | E22: D

Sheet 4185
A1: 4185 | B1: née le 28/8/14
A2: double
D3: =VLOOKUP($C$4,ascendant!$A:$C,2,FALSE) -> inconnu
C4: =VLOOKUP($B$6,ascendant!$A:$C,2,FALSE) -> inconnu
D5: =VLOOKUP($C$4,ascendant!$A:$C,3,FALSE) -> inconnu
B6: =VLOOKUP($A$10,ascendant!$A:$C,2,FALSE) -> inconnu
D7: =VLOOKUP($C$8,ascendant!$A:$C,2,FALSE) -> inconnu
C8: =VLOOKUP($B$6,ascendant!$A:$C,3,FALSE) -> inconnu
D9: =VLOOKUP($C$8,ascendant!$A:$C,3,FALSE) -> inconnu
A10: 14185
D11: =VLOOKUP($C$12,ascendant!$A:$C,2,FALSE) -> inconnu
C12: =VLOOKUP($B$14,ascendant!$A:$C,2,FALSE) -> inconnu
D13: =VLOOKUP($C$12,ascendant!$A:$C,3,FALSE) -> inconnu
B14: =VLOOKUP($A$10,ascendant!A:C,3,FALSE) -> 6433
D15: =VLOOKUP($C$16,ascendant!$A:$C,2,FALSE) -> #N/A
C16: =VLOOKUP($B$14,ascendant!$A:$C,3,FALSE) -> 4326
D17: =VLOOKUP($C$16,ascendant!$A:$C,3,FALSE) -> #N/A
A20: nés le | B20: père | C20: numéro | D20: sexe | E20: élevé | F20: sortie le | G20: poids | H20: confo | I20: prix
A21: 42701 | C21: 7084 | D21: F | E21: S | F21: mort 1 mois
A22: 42701 | C22: /

Sheet 5001
A1: 5001 | B1: née le 10/9/14
A2: quadruple
D3: =VLOOKUP($C$4,ascendant!$A:$C,2,FALSE) -> 6111
C4: =VLOOKUP($B$6,ascendant!$A:$C,2,FALSE) -> 7619
D5: =VLOOKUP($C$4,ascendant!$A:$C,3,FALSE) -> 5348
B6: =VLOOKUP($A$10,ascendant!$A:$C,2,FALSE) -> 12277
D7: =VLOOKUP($C$8,ascendant!$A:$C,2,FALSE) -> 7561
C8: =VLOOKUP($B$6,ascendant!$A:$C,3,FALSE) -> 11166
D9: =VLOOKUP($C$8,ascendant!$A:$C,3,FALSE) -> 8057
A10: 15001
D11: =VLOOKUP($C$12,ascendant!$A:$C,2,FALSE) -> 5341
C12: =VLOOKUP($B$14,ascendant!$A:$C,2,FALSE) -> 7546
D13: =VLOOKUP($C$12,ascendant!$A:$C,3,FALSE) -> 2077
B14: =VLOOKUP($A$10,ascendant!A:C,3,FALSE) -> 11021
D15: =VLOOKUP($C$16,ascendant!$A:$C,2,FALSE) -> a chercher
C16: =VLOOKUP($B$14,ascendant!$A:$C,3,FALSE) -> 9388
D17: =VLOOKUP($C$16,ascendant!$A:$C,3,FALSE) -> 6465
A20: nés le | B20: père | C20: numéro | D20: sexe | E20: élevé | F20: sortie le | G20: poids | H20: confo | I20: prix
A21: 42699 | C21: 7051 | D21: F | E21: D
A22: 42699 | C22: 7052 | D22: F | E22: D | F22: repro
A23: 42699 | C23: /

Sheet 5003
A1: 5003 | B1: née le 10/9/14
A2: quadruple
D3: =VLOOKUP($C$4,ascendant!$A:$C,2,FALSE) -> 6111
C4: =VLOOKUP($B$6,ascendant!$A:$C,2,FALSE) -> 7619
D5: =VLOOKUP($C$4,ascendant!$A:$C,3,FALSE) -> 5348
B6: =VLOOKUP($A$10,ascendant!$A:$C,2,FALSE) -> 12277
D7: =VLOOKUP($C$8,ascendant!$A:$C,2,FALSE) -> 7561
C8: =VLOOKUP($B$6,ascendant!$A:$C,3,FALSE) -> 11166
D9: =VLOOKUP($C$8,ascendant!$A:$C,3,FALSE) -> 8057
A10: 15001
D11: =VLOOKUP($C$12,ascendant!$A:$C,2,FALSE) -> 5341
C12: =VLOOKUP($B$14,ascendant!$A:$C,2,FALSE) -> 7546
D13: =VLOOKUP($C$12,ascendant!$A:$C,3,FALSE) -> 2077
B14: =VLOOKUP($A$10,ascendant!A:C,3,FALSE) -> 11021
D15: =VLOOKUP($C$16,ascendant!$A:$C,2,FALSE) -> a chercher
C16: =VLOOKUP($B$14,ascendant!$A:$C,3,FALSE) -> 9388
D17: =VLOOKUP($C$16,ascendant!$A:$C,3,FALSE) -> 6465
A20: nés le | B20: père | C20: numéro | D20: sexe | E20: élevé | F20: sortie le | G20: poids | H20: confo | I20: prix
A21: 42698 | C21: 7067 | D21: M | E21: S | F21: mort entéro
A22: 42698 | C22: /
A23: 42698 | C23: /

Sheet 5006
A1: 5006 | B1: née le 10/9/14
A2: double
D3: =VLOOKUP($C$4,ascendant!$A:$C,2,FALSE) -> inconnu
C4: =VLOOKUP($B$6,ascendant!$A:$C,2,FALSE) -> inconnu
D5: =VLOOKUP($C$4,ascendant!$A:$C,3,FALSE) -> inconnu
B6: =VLOOKUP($A$10,ascendant!$A:$C,2,FALSE) -> inconnu
D7: =VLOOKUP($C$8,ascendant!$A:$C,2,FALSE) -> inconnu
C8: =VLOOKUP($B$6,ascendant!$A:$C,3,FALSE) -> inconnu
D9: =VLOOKUP($C$8,ascendant!$A:$C,3,FALSE) -> inconnu
A10: 15006
D11: =VLOOKUP($C$12,ascendant!$A:$C,2,FALSE) -> inconnu
C12: =VLOOKUP($B$14,ascendant!$A:$C,2,FALSE) -> inconnu
D13: =VLOOKUP($C$12,ascendant!$A:$C,3,FALSE) -> inconnu
B14: =VLOOKUP($A$10,ascendant!A:C,3,FALSE) -> 8032
D15: =VLOOKUP($C$16,ascendant!$A:$C,2,FALSE) -> a chercher
C16: =VLOOKUP($B$14,ascendant!$A:$C,3,FALSE) -> 3758
D17: =VLOOKUP($C$16,ascendant!$A:$C,3,FALSE) -> 2620
A20: nés le | B20: père | C20: numéro | D20: sexe | E20: élevé | F20: sortie le | G20: poids | H20: confo | I20: prix
A21: 42694 | C21: ???
A22: 42694 | C22: ???
A23: 42694 | C23: ???

Sheet 5008
A1: 5008 | B1: née le 12/9/14
A2: triple
D3: =VLOOKUP($C$4,ascendant!$A:$C,2,FALSE) -> 6111
C4: =VLOOKUP($B$6,ascendant!$A:$C,2,FALSE) -> 7619
D5: =VLOOKUP($C$4,ascendant!$A:$C,3,FALSE) -> 5348
B6: =VLOOKUP($A$10,ascendant!$A:$C,2,FALSE) -> 12277
D7: =VLOOKUP($C$8,ascendant!$A:$C,2,FALSE) -> 7561
C8: =VLOOKUP($B$6,ascendant!$A:$C,3,FALSE) -> 11166
D9: =VLOOKUP($C$8,ascendant!$A:$C,3,FALSE) -> 8057
A10: 15008
D11: =VLOOKUP($C$12,ascendant!$A:$C,2,FALSE) -> 94112
C12: =VLOOKUP($B$14,ascendant!$A:$C,2,FALSE) -> 3658
D13: =VLOOKUP($C$12,ascendant!$A:$C,3,FALSE) -> 1038
B14: =VLOOKUP($A$10,ascendant!A:C,3,FALSE) -> 7381
D15: =VLOOKUP($C$16,ascendant!$A:$C,2,FALSE) -> 1660
C16: =VLOOKUP($B$14,ascendant!$A:$C,3,FALSE) -> 4648
D17: =VLOOKUP($C$16,ascendant!$A:$C,3,FALSE) -> 3652
A20: nés le | B20: père | C20: numéro | D20: sexe | E20: élevé | F20: sortie le | G20: poids | H20: confo | I20: prix
A21: 42694 | C21: 7023 | D21: F | E21: D
A22: 42694 | C22: 7024 | D22: F | E22: D

Sheet 5011
A1: 5011 | B1: née le 14/9/14
A2: simple
D3: =VLOOKUP($C$4,ascendant!$A:$C,2,FALSE) -> 6111
C4: =VLOOKUP($B$6,ascendant!$A:$C,2,FALSE) -> 7619
D5: =VLOOKUP($C$4,ascendant!$A:$C,3,FALSE) -> 5348
B6: =VLOOKUP($A$10,ascendant!$A:$C,2,FALSE) -> 12277
D7: =VLOOKUP($C$8,ascendant!$A:$C,2,FALSE) -> 7561
C8: =VLOOKUP($B$6,ascendant!$A:$C,3,FALSE) -> 11166
D9: =VLOOKUP($C$8,ascendant!$A:$C,3,FALSE) -> 8057
A10: 15011
D11: =VLOOKUP($C$12,ascendant!$A:$C,2,FALSE) -> 3033
C12: =VLOOKUP($B$14,ascendant!$A:$C,2,FALSE) -> 5341
D13: =VLOOKUP($C$12,ascendant!$A:$C,3,FALSE) -> 2039
B14: =VLOOKUP($A$10,ascendant!A:C,3,FALSE) -> 8008
D15: =VLOOKUP($C$16,ascendant!$A:$C,2,FALSE) -> inconnu
C16: =VLOOKUP($B$14,ascendant!$A:$C,3,FALSE) -> 4428
D17: =VLOOKUP($C$16,ascendant!$A:$C,3,FALSE) -> 2662
A20: nés le | B20: père | C20: numéro | D20: sexe | E20: élevé | F20: sortie le | G20: poids | H20: confo | I20: prix
A21: 42699 | C21: 5094 | D21: M | E21: D
A22: 42699 | C22: 5095 | D22: M | E22: D
A23: 42699 | C23: 5096 | D23: M | E23: D

Sheet 6002
A1: 6002 | B1: née le 25/10/15 | D1: ARR/???
A2: double
D3: =VLOOKUP($C$4,ascendant!$A:$C,2,FALSE) -> 96122
C4: =VLOOKUP($B$6,ascendant!$A:$C,2,FALSE) -> 1078
D5: =VLOOKUP($C$4,ascendant!$A:$C,3,FALSE) -> 96081
B6: =VLOOKUP($A$10,ascendant!$A:$C,2,FALSE) -> 12274
D7: =VLOOKUP($C$8,ascendant!$A:$C,2,FALSE) -> a chercher
C8: =VLOOKUP($B$6,ascendant!$A:$C,3,FALSE) -> 8057
D9: =VLOOKUP($C$8,ascendant!$A:$C,3,FALSE) -> 4390
A10: 16002
D11: =VLOOKUP($C$12,ascendant!$A:$C,2,FALSE) -> 8029
C12: =VLOOKUP($B$14,ascendant!$A:$C,2,FALSE) -> 12017
D13: =VLOOKUP($C$12,ascendant!$A:$C,3,FALSE) -> 5513
B14: =VLOOKUP($A$10,ascendant!A:C,3,FALSE) -> 13284
D15: =VLOOKUP($C$16,ascendant!$A:$C,2,FALSE) -> 6106
C16: =VLOOKUP($B$14,ascendant!$A:$C,3,FALSE) -> 8043
D17: =VLOOKUP($C$16,ascendant!$A:$C,3,FALSE) -> 3140
A20: nés le | B20: père | C20: numéro | D20: sexe | E20: élevé | F20: sortie le | G20: poids | H20: confo | I20: prix

Sheet 6003
A1: 6003 | B1: née le 25/10/15 | D1: ARR/???
A2: double
D3: =VLOOKUP($C$4,ascendant!$A:$C,2,FALSE) -> 96122
C4: =VLOOKUP($B$6,ascendant!$A:$C,2,FALSE) -> 1078
D5: =VLOOKUP($C$4,ascendant!$A:$C,3,FALSE) -> 96081
B6: =VLOOKUP($A$10,ascendant!$A:$C,2,FALSE) -> 12274
D7: =VLOOKUP($C$8,ascendant!$A:$C,2,FALSE) -> a chercher
C8: =VLOOKUP($B$6,ascendant!$A:$C,3,FALSE) -> 8057
D9: =VLOOKUP($C$8,ascendant!$A:$C,3,FALSE) -> 4390
A10: 16003
D11: =VLOOKUP($C$12,ascendant!$A:$C,2,FALSE) -> 8029
C12: =VLOOKUP($B$14,ascendant!$A:$C,2,FALSE) -> 12017
D13: =VLOOKUP($C$12,ascendant!$A:$C,3,FALSE) -> 5513
B14: =VLOOKUP($A$10,ascendant!A:C,3,FALSE) -> 13284
D15: =VLOOKUP($C$16,ascendant!$A:$C,2,FALSE) -> 6106
C16: =VLOOKUP($B$14,ascendant!$A:$C,3,FALSE) -> 8043
D17: =VLOOKUP($C$16,ascendant!$A:$C,3,FALSE) -> 3140
A20: nés le | B20: père | C20: numéro | D20: sexe | E20: élevé | F20: sortie le | G20: poids | H20: confo | I20: prix

Sheet 6006
A1: 6006 | B1: née le 25/10/15 | D1: ARR/ARR
A2: double
D3: =VLOOKUP($C$4,ascendant!$A:$C,2,FALSE) -> 6111
C4: =VLOOKUP($B$6,ascendant!$A:$C,2,FALSE) -> 7619
D5: =VLOOKUP($C$4,ascendant!$A:$C,3,FALSE) -> 5348
B6: =VLOOKUP($A$10,ascendant!$A:$C,2,FALSE) -> 12277
D7: =VLOOKUP($C$8,ascendant!$A:$C,2,FALSE) -> 7561
C8: =VLOOKUP($B$6,ascendant!$A:$C,3,FALSE) -> 11166
D9: =VLOOKUP($C$8,ascendant!$A:$C,3,FALSE) -> 8057
A10: 16006
D11: =VLOOKUP($C$12,ascendant!$A:$C,2,FALSE) -> 8029
C12: =VLOOKUP($B$14,ascendant!$A:$C,2,FALSE) -> 12017
D13: =VLOOKUP($C$12,ascendant!$A:$C,3,FALSE) -> 5513
B14: =VLOOKUP($A$10,ascendant!A:C,3,FALSE) -> 13276
D15: =VLOOKUP($C$16,ascendant!$A:$C,2,FALSE) -> 7546
C16: =VLOOKUP($B$14,ascendant!$A:$C,3,FALSE) -> 11065
D17: =VLOOKUP($C$16,ascendant!$A:$C,3,FALSE) -> 9527
A20: nés le | B20: père | C20: numéro | D20: sexe | E20: élevé | F20: sortie le | G20: poids | H20: confo | I20: prix

Sheet 6007
A1: 6007 | B1: née le 27/10/15 | D1: ARR/ARR
A2: triple
D3: =VLOOKUP($C$4,ascendant!$A:$C,2,FALSE) -> 8058
C4: =VLOOKUP($B$6,ascendant!$A:$C,2,FALSE) -> 11209
D5: =VLOOKUP($C$4,ascendant!$A:$C,3,FALSE) -> 5513
B6: =VLOOKUP($A$10,ascendant!$A:$C,2,FALSE) -> 13093
D7: =VLOOKUP($C$8,ascendant!$A:$C,2,FALSE) -> a chercher
C8: =VLOOKUP($B$6,ascendant!$A:$C,3,FALSE) -> 12117
D9: =VLOOKUP($C$8,ascendant!$A:$C,3,FALSE) -> 10005
A10: 16007
D11: =VLOOKUP($C$12,ascendant!$A:$C,2,FALSE) -> inconnu
C12: =VLOOKUP($B$14,ascendant!$A:$C,2,FALSE) -> inconnu
D13: =VLOOKUP($C$12,ascendant!$A:$C,3,FALSE) -> inconnu
B14: =VLOOKUP($A$10,ascendant!A:C,3,FALSE) -> 14164
D15: =VLOOKUP($C$16,ascendant!$A:$C,2,FALSE) -> a chercher
C16: =VLOOKUP($B$14,ascendant!$A:$C,3,FALSE) -> 9309
D17: =VLOOKUP($C$16,ascendant!$A:$C,3,FALSE) -> 7381
A20: nés le | B20: père | C20: numéro | D20: sexe | E20: élevé | F20: sortie le | G20: poids | H20: confo | I20: prix

Sheet 6008
A1: 6008 | B1: née le 27/10/15 | D1: ARR/ARR
A2: triple
D3: =VLOOKUP($C$4,ascendant!$A:$C,2,FALSE) -> 8058
C4: =VLOOKUP($B$6,ascendant!$A:$C,2,FALSE) -> 11209
D5: =VLOOKUP($C$4,ascendant!$A:$C,3,FALSE) -> 5513
B6: =VLOOKUP($A$10,ascendant!$A:$C,2,FALSE) -> 13093
D7: =VLOOKUP($C$8,ascendant!$A:$C,2,FALSE) -> a chercher
C8: =VLOOKUP($B$6,ascendant!$A:$C,3,FALSE) -> 12117
D9: =VLOOKUP($C$8,ascendant!$A:$C,3,FALSE) -> 10005
A10: 16008
D11: =VLOOKUP($C$12,ascendant!$A:$C,2,FALSE) -> inconnu
C12: =VLOOKUP($B$14,ascendant!$A:$C,2,FALSE) -> inconnu
D13: =VLOOKUP($C$12,ascendant!$A:$C,3,FALSE) -> inconnu
B14: =VLOOKUP($A$10,ascendant!A:C,3,FALSE) -> 14164
D15: =VLOOKUP($C$16,ascendant!$A:$C,2,FALSE) -> a chercher
C16: =VLOOKUP($B$14,ascendant!$A:$C,3,FALSE) -> 9309
D17: =VLOOKUP($C$16,ascendant!$A:$C,3,FALSE) -> 7381
A20: nés le | B20: père | C20: numéro | D20: sexe | E20: élevé | F20: sortie le | G20: poids | H20: confo | I20: prix

Sheet 6012
A1: 6012 | B1: née le 09/11/15 | D1: ARR/ARR
A2: double
D3: =VLOOKUP($C$4,ascendant!$A:$C,2,FALSE) -> 8058
C4: =VLOOKUP($B$6,ascendant!$A:$C,2,FALSE) -> 11209
D5: =VLOOKUP($C$4,ascendant!$A:$C,3,FALSE) -> 5513
B6: =VLOOKUP($A$10,ascendant!$A:$C,2,FALSE) -> 13093
D7: =VLOOKUP($C$8,ascendant!$A:$C,2,FALSE) -> a chercher
C8: =VLOOKUP($B$6,ascendant!$A:$C,3,FALSE) -> 12117
D9: =VLOOKUP($C$8,ascendant!$A:$C,3,FALSE) -> 10005
A10: 16012
D11: =VLOOKUP($C$12,ascendant!$A:$C,2,FALSE) -> inconnu
C12: =VLOOKUP($B$14,ascendant!$A:$C,2,FALSE) -> inconnu
D13: =VLOOKUP($C$12,ascendant!$A:$C,3,FALSE) -> inconnu
B14: =VLOOKUP($A$10,ascendant!A:C,3,FALSE) -> 14167
D15: =VLOOKUP($C$16,ascendant!$A:$C,2,FALSE) -> a chercher
C16: =VLOOKUP($B$14,ascendant!$A:$C,3,FALSE) -> 11274
D17: =VLOOKUP($C$16,ascendant!$A:$C,3,FALSE) -> 9310
A20: nés le | B20: père | C20: numéro | D20: sexe | E20: élevé | F20: sortie le | G20: poids | H20: confo | I20: prix

Sheet 6014
A1: 6014 | B1: née le 09/11/15 | D1: ARR/ARR
A2: double
D3: =VLOOKUP($C$4,ascendant!$A:$C,2,FALSE) -> 96122
C4: =VLOOKUP($B$6,ascendant!$A:$C,2,FALSE) -> 1078
D5: =VLOOKUP($C$4,ascendant!$A:$C,3,FALSE) -> 96081
B6: =VLOOKUP($A$10,ascendant!$A:$C,2,FALSE) -> 12274
D7: =VLOOKUP($C$8,ascendant!$A:$C,2,FALSE) -> a chercher
C8: =VLOOKUP($B$6,ascendant!$A:$C,3,FALSE) -> 8057
D9: =VLOOKUP($C$8,ascendant!$A:$C,3,FALSE) -> 4390
A10: 16014
D11: =VLOOKUP($C$12,ascendant!$A:$C,2,FALSE) -> 8029
C12: =VLOOKUP($B$14,ascendant!$A:$C,2,FALSE) -> 12017
D13: =VLOOKUP($C$12,ascendant!$A:$C,3,FALSE) -> 5513
B14: =VLOOKUP($A$10,ascendant!A:C,3,FALSE) -> 14152
D15: =VLOOKUP($C$16,ascendant!$A:$C,2,FALSE) -> a chercher
C16: =VLOOKUP($B$14,ascendant!$A:$C,3,FALSE) -> 9450
D17: =VLOOKUP($C$16,ascendant!$A:$C,3,FALSE) -> 5572
A20: nés le | B20: père | C20: numéro | D20: sexe | E20: élevé | F20: sortie le | G20: poids | H20: confo | I20: prix

Sheet 6015
A1: 6015 | B1: née le 09/11/15 | D1: ARR/ARR
A2: double
D3: =VLOOKUP($C$4,ascendant!$A:$C,2,FALSE) -> 96122
C4: =VLOOKUP($B$6,ascendant!$A:$C,2,FALSE) -> 1078
D5: =VLOOKUP($C$4,ascendant!$A:$C,3,FALSE) -> 96081
B6: =VLOOKUP($A$10,ascendant!$A:$C,2,FALSE) -> 12274
D7: =VLOOKUP($C$8,ascendant!$A:$C,2,FALSE) -> a chercher
C8: =VLOOKUP($B$6,ascendant!$A:$C,3,FALSE) -> 8057
D9: =VLOOKUP($C$8,ascendant!$A:$C,3,FALSE) -> 4390
A10: 16015
D11: =VLOOKUP($C$12,ascendant!$A:$C,2,FALSE) -> 8029
C12: =VLOOKUP($B$14,ascendant!$A:$C,2,FALSE) -> 12017
D13: =VLOOKUP($C$12,ascendant!$A:$C,3,FALSE) -> 5513
B14: =VLOOKUP($A$10,ascendant!A:C,3,FALSE) -> 14011
D15: =VLOOKUP($C$16,ascendant!$A:$C,2,FALSE) -> 7546
C16: =VLOOKUP($B$14,ascendant!$A:$C,3,FALSE) -> 11064
D17: =VLOOKUP($C$16,ascendant!$A:$C,3,FALSE) -> 9527
A20: nés le | B20: père | C20: numéro | D20: sexe | E20: élevé | F20: sortie le | G20: poids | H20: confo | I20: prix

Sheet 6021
A1: 6021 | B1: née le 25/11/15 | D1: ARR/ARR
A2: double
D3: =VLOOKUP($C$4,ascendant!$A:$C,2,FALSE) -> 8058
C4: =VLOOKUP($B$6,ascendant!$A:$C,2,FALSE) -> 11209
D5: =VLOOKUP($C$4,ascendant!$A:$C,3,FALSE) -> 5513
B6: =VLOOKUP($A$10,ascendant!$A:$C,2,FALSE) -> 13093
D7: =VLOOKUP($C$8,ascendant!$A:$C,2,FALSE) -> a chercher
C8: =VLOOKUP($B$6,ascendant!$A:$C,3,FALSE) -> 12117
D9: =VLOOKUP($C$8,ascendant!$A:$C,3,FALSE) -> 10005
A10: 16021
D11: =VLOOKUP($C$12,ascendant!$A:$C,2,FALSE) -> inconnu
C12: =VLOOKUP($B$14,ascendant!$A:$C,2,FALSE) -> inconnu
D13: =VLOOKUP($C$12,ascendant!$A:$C,3,FALSE) -> inconnu
B14: =VLOOKUP($A$10,ascendant!A:C,3,FALSE) -> 14004
D15: =VLOOKUP($C$16,ascendant!$A:$C,2,FALSE) -> inconnu
C16: =VLOOKUP($B$14,ascendant!$A:$C,3,FALSE) -> 9645
D17: =VLOOKUP($C$16,ascendant!$A:$C,3,FALSE) -> 4114
A20: nés le | B20: père | C20: numéro | D20: sexe | E20: élevé | F20: sortie le | G20: poids | H20: confo | I20: prix

Sheet 6030
A1: 6030 | B1: née le 3/12/15 | D1: ARR/ARR
A2: double
D3: =VLOOKUP($C$4,ascendant!$A:$C,2,FALSE) -> 96122
C4: =VLOOKUP($B$6,ascendant!$A:$C,2,FALSE) -> 1078
D5: =VLOOKUP($C$4,ascendant!$A:$C,3,FALSE) -> 96081
B6: =VLOOKUP($A$10,ascendant!$A:$C,2,FALSE) -> 12274
D7: =VLOOKUP($C$8,ascendant!$A:$C,2,FALSE) -> a chercher
C8: =VLOOKUP($B$6,ascendant!$A:$C,3,FALSE) -> 8057
D9: =VLOOKUP($C$8,ascendant!$A:$C,3,FALSE) -> 4390
A10: 16030
D11: =VLOOKUP($C$12,ascendant!$A:$C,2,FALSE) -> 8029
C12: =VLOOKUP($B$14,ascendant!$A:$C,2,FALSE) -> 12017
D13: =VLOOKUP($C$12,ascendant!$A:$C,3,FALSE) -> 5513
B14: 14111
D15: =VLOOKUP($C$16,ascendant!$A:$C,2,FALSE) -> 7609
C16: =VLOOKUP($B$14,ascendant!$A:$C,3,FALSE) -> 11051
D17: =VLOOKUP($C$16,ascendant!$A:$C,3,FALSE) -> 8032
A20: nés le | B20: père | C20: numéro | D20: sexe | E20: élevé | F20: sortie le | G20: poids | H20: confo | I20: prix

Sheet 6037
A1: 6037 | B1: née le 5/12/15 | D1: ARR/ARR
A2: triple
D3: =VLOOKUP($C$4,ascendant!$A:$C,2,FALSE) -> inconnu
C4: =VLOOKUP($B$6,ascendant!$A:$C,2,FALSE) -> inconnu
D5: =VLOOKUP($C$4,ascendant!$A:$C,3,FALSE) -> inconnu
B6: =VLOOKUP($A$10,ascendant!$A:$C,2,FALSE) -> inconnu
D7: =VLOOKUP($C$8,ascendant!$A:$C,2,FALSE) -> inconnu
C8: =VLOOKUP($B$6,ascendant!$A:$C,3,FALSE) -> inconnu
D9: =VLOOKUP($C$8,ascendant!$A:$C,3,FALSE) -> inconnu
A10: 16037
D11: =VLOOKUP($C$12,ascendant!$A:$C,2,FALSE) -> 8018
C12: =VLOOKUP($B$14,ascendant!$A:$C,2,FALSE) -> 12072
D13: =VLOOKUP($C$12,ascendant!$A:$C,3,FALSE) -> 8001
B14: =VLOOKUP($A$10,ascendant!A:C,3,FALSE) -> 14053
D15: =VLOOKUP($C$16,ascendant!$A:$C,2,FALSE) -> 9330
C16: =VLOOKUP($B$14,ascendant!$A:$C,3,FALSE) -> 11156
D17: =VLOOKUP($C$16,ascendant!$A:$C,3,FALSE) -> 4390
A20: nés le | B20: père | C20: numéro | D20: sexe | E20: élevé | F20: sortie le | G20: poids | H20: confo | I20: prix

Sheet 6038
A1: 6038 | B1: née le 5/12/15 | D1: ARR/ARR
A2: triple
D3: =VLOOKUP($C$4,ascendant!$A:$C,2,FALSE) -> inconnu
C4: =VLOOKUP($B$6,ascendant!$A:$C,2,FALSE) -> inconnu
D5: =VLOOKUP($C$4,ascendant!$A:$C,3,FALSE) -> inconnu
B6: =VLOOKUP($A$10,ascendant!$A:$C,2,FALSE) -> inconnu
D7: =VLOOKUP($C$8,ascendant!$A:$C,2,FALSE) -> inconnu
C8: =VLOOKUP($B$6,ascendant!$A:$C,3,FALSE) -> inconnu
D9: =VLOOKUP($C$8,ascendant!$A:$C,3,FALSE) -> inconnu
A10: 16038
D11: =VLOOKUP($C$12,ascendant!$A:$C,2,FALSE) -> 8018
C12: =VLOOKUP($B$14,ascendant!$A:$C,2,FALSE) -> 12072
D13: =VLOOKUP($C$12,ascendant!$A:$C,3,FALSE) -> 8001
B14: =VLOOKUP($A$10,ascendant!A:C,3,FALSE) -> 14053
D15: =VLOOKUP($C$16,ascendant!$A:$C,2,FALSE) -> 9330
C16: =VLOOKUP($B$14,ascendant!$A:$C,3,FALSE) -> 11156
D17: =VLOOKUP($C$16,ascendant!$A:$C,3,FALSE) -> 4390
A20: nés le | B20: père | C20: numéro | D20: sexe | E20: élevé | F20: sortie le | G20: poids | H20: confo | I20: prix

Sheet 6049
A1: 6049 | B1: née le 8/12/15 | D1: ARR/???
A2: double
D3: =VLOOKUP($C$4,ascendant!$A:$C,2,FALSE) -> inconnu
C4: =VLOOKUP($B$6,ascendant!$A:$C,2,FALSE) -> inconnu
D5: =VLOOKUP($C$4,ascendant!$A:$C,3,FALSE) -> inconnu
B6: =VLOOKUP($A$10,ascendant!$A:$C,2,FALSE) -> inconnu
D7: =VLOOKUP($C$8,ascendant!$A:$C,2,FALSE) -> inconnu
