Workbook

Sheet Consanguinité
E3: =VLOOKUP($D$4,ascendant!$A:$C,2,FALSE) -> 6111
D4: =VLOOKUP($C$6,ascendant!$A:$C,2,FALSE) -> 7619
E5: =VLOOKUP($D$4,ascendant!$A:$C,3,FALSE) -> 5348
C6: =VLOOKUP($B$10,ascendant!$A:$C,2,FALSE) -> 12277
E7: =VLOOKUP($D$8,ascendant!$A:$C,2,FALSE) -> 7561
D8: =VLOOKUP($C$6,ascendant!$A:$C,3,FALSE) -> 11166
E9: =VLOOKUP($D$8,ascendant!$A:$C,3,FALSE) -> 8057
B10: 16005
E11: =VLOOKUP($D$12,ascendant!$A:$C,2,FALSE) -> 8029
D12: =VLOOKUP($C$14,ascendant!$A:$C,2,FALSE) -> 12017
E13: =VLOOKUP($D$12,ascendant!$A:$C,3,FALSE) -> 5513
C14: =VLOOKUP($B$10,ascendant!A:C,3,FALSE) -> 13276
E15: =VLOOKUP($D$16,ascendant!$A:$C,2,FALSE) -> 7546
D16: =VLOOKUP($C$14,ascendant!$A:$C,3,FALSE) -> 11065
E17: =VLOOKUP($D$16,ascendant!$A:$C,3,FALSE) -> 9527
E19: =VLOOKUP($D$20,ascendant!$A:$C,2,FALSE) -> a chercher
D20: =VLOOKUP($C$22,ascendant!$A:$C,2,FALSE) -> 8029
E21: =VLOOKUP($D$20,ascendant!$A:$C,3,FALSE) -> 2034
C22: =VLOOKUP($B$26,ascendant!$A:$C,2,FALSE) -> 12017
E23: =VLOOKUP($D$24,ascendant!$A:$C,2,FALSE) -> 3658
D24: =VLOOKUP($C$22,ascendant!$A:$C,3,FALSE) -> 5513
E25: =VLOOKUP($D$24,ascendant!$A:$C,3,FALSE) -> 3068
B26: 13276
E27: =VLOOKUP($D$28,ascendant!$A:$C,2,FALSE) -> 5341
D28: =VLOOKUP($C$30,ascendant!$A:$C,2,FALSE) -> 7546
E29: =VLOOKUP($D$28,ascendant!$A:$C,3,FALSE) -> 2077
C30: =VLOOKUP($B$26,ascendant!A:C,3,FALSE) -> 11065
E31: =VLOOKUP($D$28,ascendant!$A:$C,2,FALSE) -> 5341
D32: =VLOOKUP($C$30,ascendant!$A:$C,3,FALSE) -> 9527
E33: =VLOOKUP($D$28,ascendant!$A:$C,3,FALSE) -> 2077

Sheet Lutte 2017
A1: brebis | B1: jy ou pas | C1: bélier
A2: 1081 | B2: JY | C2: 3235
A3: 1095 | B3: JY | C3: 3235
A4: 1200 | B4: JY | C4: 3235
A5: 3226 | C5: 6005
A6: 3232 | C6: 3235
A7: 3237 | C7: 6001
A8: 3238 | C8: 6005 | D8: 3235
A9: 3250 | C9: 6005
A10: 3257 | C10: 6005 | D10: 3235
A11: 3265 | C11: peu importe
A12: 3271 | C12: 6005 | D12: 3235
A13: 3274 | C13: 6005 | D13: 3235
A14: 3275 | C14: 6001
A15: 3284 | C15: 6001
A16: 3285 | C16: 6001
A17: 4004 | C17: peu importe
A18: 4012 | C18: 6001
A19: 4032 | C19: 6001
A20: 4033 | C20: 6001
A21: 4070 | C21: peu importe
A22: 4071 | C22: peu importe
A23: 4075 | C23: peu importe
A24: 4083 | C24: 6005 | D24: 3235
A25: 4089 | B25: JY | C25: 3235
A26: 4099 | C26: 6005 | D26: 3235
A27: 4100 | C27: 6005 | D27: 3235
A28: 4129 | B28: JY | C28: 3235
A29: 4152 | C29: 6001
A30: 4163 | C30: peu importe
A31: 4164 | C31: peu importe
A32: 4166 | C32: peu importe
A33: 4167 | C33: peu importe
A34: 4168 | C34: peu importe
A35: 4172 | C35: peu importe
A36: 4177 | C36: peu importe
A37: 4182 | C37: peu importe
A38: 4183 | C38: peu importe
A39: 4185 | C39: peu importe
A40: 5001 | C40: 6001
A41: 5003 | C41: 6001
A42: 5008 | C42: 6001
A43: 5041 | B43: JY | C43: 3235
A44: 8014
A45: ?
A46: ?6
A50: 3235 | C50: 6001 | E50: 6005 | G50: 5093
A52: 1081 | B52: JY | C52: 3237 | E52: 3226 | G52: 6006
A53: 1095 | B53: JY | C53: 3275 | E53: 5011 | G53: 6081
A54: 1200 | B54: JY | C54: 3284 | E54: 4099 | G54: 6015
A55: 3232 | C55: 3285 | E55: 8014 | G55: 6038
A56: 4089 | B56: JY | C56: 4012 | E56: 5006 | G56: 6078
A57: 4129 | B57: JY | C57: 4032 | E57: 4083 | G57: 6064
A58: 5041 | B58: JY | C58: 4033 | E58: 4163 | G58: 6021
A59: 4100 | C59: 4152 | E59: 4166 | G59: 6082
A60: 3257 | C60: 5001 | E60: 4070 | G60: 6008
A61: 3271 | C61: 5003 | E61: 3265 | G61: 6037
A62: 3274 | C62: 5008 | E62: 4004 | G62: 6051
A63: 3276 | C63: 4168 | E63: 4075 | G63: 6030
A64: 4167 | C64: 4182 | E64: 4172 | G64: 6052
A65: 4071 | C65: 4183 | E65: 4177 | G65: 6049
C66: 4185 | G66: 6003
G67: 6007
G68: 6012
G69: 6002
G70: 6014

Sheet 3226
A1: 3226 | B1: née le 227/8/13 | D1: ARR/ARR
A2: triple
D3: =VLOOKUP($C$4,ascendant!$A:$C,2,FALSE) -> a chercher
C4: =VLOOKUP($B$6,ascendant!$A:$C,2,FALSE) -> 8058
D5: =VLOOKUP($C$4,ascendant!$A:$C,3,FALSE) -> 4390
B6: =VLOOKUP($A$10,ascendant!$A:$C,2,FALSE) -> 11209
D7: =VLOOKUP($C$8,ascendant!$A:$C,2,FALSE) -> 3658
C8: =VLOOKUP($B$6,ascendant!$A:$C,3,FALSE) -> 5513
D9: =VLOOKUP($C$8,ascendant!$A:$C,3,FALSE) -> 3068
A10: 13226
D11: =VLOOKUP($C$12,ascendant!$A:$C,2,FALSE) -> a chercher
C12: =VLOOKUP($B$14,ascendant!$A:$C,2,FALSE) -> 9455
D13: =VLOOKUP($C$12,ascendant!$A:$C,3,FALSE) -> 5304
B14: =VLOOKUP($A$10,ascendant!A:C,3,FALSE) -> 12078
D15: =VLOOKUP($C$16,ascendant!$A:$C,2,FALSE) -> a chercher
C16: =VLOOKUP($B$14,ascendant!$A:$C,3,FALSE) -> 9637
D17: =VLOOKUP($C$16,ascendant!$A:$C,3,FALSE) -> 1640
A20: nés le | B20: père | C20: numéro | D20: sexe | E20: élevé | F20: sortie le | G20: poids | H20: confo | I20: prix
A21: 42334 | B21: 2274 | C21: 6024 | D21: M | E21: D | F21: 42472 | G21: 21.2 | H21: U3
A22: 42334 | B22: 2274 | C22: 6025 | D22: F | E22: D
A23: 42700 | C23: 7076 | D23: M | E23: D
A24: 42700 | C24: 7077 | D24: M | E24: D
A25: 42700 | C25: 7078 | D25: F | E25: D

Sheet 3232
A1: 3232 | B1: née le 28/8/13 | D1: ARR/ARR
A2: double
D3: =VLOOKUP($C$4,ascendant!$A:$C,2,FALSE) -> a chercher
C4: =VLOOKUP($B$6,ascendant!$A:$C,2,FALSE) -> 8058
D5: =VLOOKUP($C$4,ascendant!$A:$C,3,FALSE) -> 4390
B6: =VLOOKUP($A$10,ascendant!$A:$C,2,FALSE) -> 12008
D7: =VLOOKUP($C$8,ascendant!$A:$C,2,FALSE) -> a chercher
C8: =VLOOKUP($B$6,ascendant!$A:$C,3,FALSE) -> 8099
D9: =VLOOKUP($C$8,ascendant!$A:$C,3,FALSE) -> 4356
A10: 13232
D11: =VLOOKUP($C$12,ascendant!$A:$C,2,FALSE) -> 5341
C12: =VLOOKUP($B$14,ascendant!$A:$C,2,FALSE) -> 7546
D13: =VLOOKUP($C$12,ascendant!$A:$C,3,FALSE) -> 2077
B14: =VLOOKUP($A$10,ascendant!A:C,3,FALSE) -> 11214
D15: =VLOOKUP($C$16,ascendant!$A:$C,2,FALSE) -> a chercher
C16: =VLOOKUP($B$14,ascendant!$A:$C,3,FALSE) -> 9473
D17: =VLOOKUP($C$16,ascendant!$A:$C,3,FALSE) -> 5684
A20: nés le | B20: père | C20: numéro | D20: sexe | E20: élevé | F20: sortie le | G20: poids | H20: confo | I20: prix
A21: 42347 | B21: inc | C21: 6051 | D21: F | E21: D
A22: 42689 | C22: 7004 | D22: F | E22: D | F22: mort entéro
A23: 42689 | C23: 7005 | D23: M | E23: D

Sheet 3237
A1: 3237 | B1: née le 30/8/13 | D1: ARR/ARR
A2: triple
D3: =VLOOKUP($C$4,ascendant!$A:$C,2,FALSE) -> a chercher
C4: =VLOOKUP($B$6,ascendant!$A:$C,2,FALSE) -> 8029
D5: =VLOOKUP($C$4,ascendant!$A:$C,3,FALSE) -> 2034
B6: =VLOOKUP($A$10,ascendant!$A:$C,2,FALSE) -> 12017
D7: =VLOOKUP($C$8,ascendant!$A:$C,2,FALSE) -> 3658
C8: =VLOOKUP($B$6,ascendant!$A:$C,3,FALSE) -> 5513
D9: =VLOOKUP($C$8,ascendant!$A:$C,3,FALSE) -> 3068
A10: 13237
D11: =VLOOKUP($C$12,ascendant!$A:$C,2,FALSE) -> 6111
C12: =VLOOKUP($B$14,ascendant!$A:$C,2,FALSE) -> 7619
D13: =VLOOKUP($C$12,ascendant!$A:$C,3,FALSE) -> 5348
B14: =VLOOKUP($A$10,ascendant!A:C,3,FALSE) -> 9691
D15: =VLOOKUP($C$16,ascendant!$A:$C,2,FALSE) -> 4378
C16: =VLOOKUP($B$14,ascendant!$A:$C,3,FALSE) -> 7384
D17: =VLOOKUP($C$16,ascendant!$A:$C,3,FALSE) -> 4356
A20: nés le | B20: père | C20: numéro | D20: sexe | E20: élevé | F20: sortie le | G20: poids | H20: confo | I20: prix
A21: 42315 | B21: 2274 | C21: 6018 | D21: M | E21: S | F21: 42808 | G21: repro
A22: 42700 | C22: / | F22: schmallemberg
A23: 42700 | C23: / | F23: schmallemberg

Sheet 3238
A1: 3238 | B1: née le 30/8/13 | D1: ARR/ARR
A2: double
D3: =VLOOKUP($C$4,ascendant!$A:$C,2,FALSE) -> a chercher
C4: =VLOOKUP($B$6,ascendant!$A:$C,2,FALSE) -> 8058
D5: =VLOOKUP($C$4,ascendant!$A:$C,3,FALSE) -> 4390
B6: =VLOOKUP($A$10,ascendant!$A:$C,2,FALSE) -> 12008
D7: =VLOOKUP($C$8,ascendant!$A:$C,2,FALSE) -> a chercher
C8: =VLOOKUP($B$6,ascendant!$A:$C,3,FALSE) -> 8099
D9: =VLOOKUP($C$8,ascendant!$A:$C,3,FALSE) -> 4356
A10: 13238
D11: =VLOOKUP($C$12,ascendant!$A:$C,2,FALSE) -> 3033
C12: =VLOOKUP($B$14,ascendant!$A:$C,2,FALSE) -> 5341
D13: =VLOOKUP($C$12,ascendant!$A:$C,3,FALSE) -> 2039
B14: =VLOOKUP($A$10,ascendant!A:C,3,FALSE) -> 8007
D15: =VLOOKUP($C$16,ascendant!$A:$C,2,FALSE) -> inconnu
C16: =VLOOKUP($B$14,ascendant!$A:$C,3,FALSE) -> 4428
D17: =VLOOKUP($C$16,ascendant!$A:$C,3,FALSE) -> 2662
A20: nés le | B20: père | C20: numéro | D20: sexe | E20: élevé | F20: sortie le | G20: poids | H20: confo | I20: prix
A21: 42345 | B21: inc | C21: 6044 | D21: M | E21: D | F21: 42478 | G21: 22.8 | H21: U3
A22: 42345 | B22: inc | C22: 6045 | D22: M | E22: D
A23: 42694 | C23: 7026 | D23: M | E23: D
A24: 42694 | C24: 7027 | D24: F | E24: D

Sheet 3250
A1: 3250 | B1: née le 02/09/13 | D1: ARR/ARR
A2: double
D3: =VLOOKUP($C$4,ascendant!$A:$C,2,FALSE) -> a chercher
C4: =VLOOKUP($B$6,ascendant!$A:$C,2,FALSE) -> 8018
D5: =VLOOKUP($C$4,ascendant!$A:$C,3,FALSE) -> 1647
B6: =VLOOKUP($A$10,ascendant!$A:$C,2,FALSE) -> 12072
D7: =VLOOKUP($C$8,ascendant!$A:$C,2,FALSE) -> a chercher
C8: =VLOOKUP($B$6,ascendant!$A:$C,3,FALSE) -> 8001
D9: =VLOOKUP($C$8,ascendant!$A:$C,3,FALSE) -> 5475
A10: 13250
D11: =VLOOKUP($C$12,ascendant!$A:$C,2,FALSE) -> 6111
C12: =VLOOKUP($B$14,ascendant!$A:$C,2,FALSE) -> 7619
D13: =VLOOKUP($C$12,ascendant!$A:$C,3,FALSE) -> 5348
B14: =VLOOKUP($A$10,ascendant!A:C,3,FALSE) -> 11200
D15: =VLOOKUP($C$16,ascendant!$A:$C,2,FALSE) -> a chercher
C16: =VLOOKUP($B$14,ascendant!$A:$C,3,FALSE) -> 9309
D17: =VLOOKUP($C$16,ascendant!$A:$C,3,FALSE) -> 7381
A20: nés le | B20: père | C20: numéro | D20: sexe | E20: élevé | F20: sortie le | G20: poids | H20: confo | I20: prix
A21: 42351 | B21: inc | C21: 6074 | D21: M | E21: D | F21: 42478 | G21: 20.3 | H21: R3
A22: 42351 | B22: inc | C22: 6075 | D22: F | E22: D
A23: 42351 | B23: inc | C23: MN
A24: 42691 | C24: 7015 | D24: F | E24: D | F24: repro
A25: 42691 | C25: 7016 | D25: F | E25: D
A26: 42691 | C26: 7017 | D26: M | E26: D | F26: mort ecrasé

Sheet 3257
A1: 3257 | B1: née le 03/09/13 | D1: ARR/ARR
A2: double
D3: =VLOOKUP($C$4,ascendant!$A:$C,2,FALSE) -> a chercher
C4: =VLOOKUP($B$6,ascendant!$A:$C,2,FALSE) -> 8058
D5: =VLOOKUP($C$4,ascendant!$A:$C,3,FALSE) -> 4390
B6: =VLOOKUP($A$10,ascendant!$A:$C,2,FALSE) -> 12008
D7: =VLOOKUP($C$8,ascendant!$A:$C,2,FALSE) -> a chercher
C8: =VLOOKUP($B$6,ascendant!$A:$C,3,FALSE) -> 8099
D9: =VLOOKUP($C$8,ascendant!$A:$C,3,FALSE) -> 4356
A10: 13257
D11: =VLOOKUP($C$12,ascendant!$A:$C,2,FALSE) -> 94112
C12: =VLOOKUP($B$14,ascendant!$A:$C,2,FALSE) -> 3658
D13: =VLOOKUP($C$12,ascendant!$A:$C,3,FALSE) -> 1038
B14: =VLOOKUP($A$10,ascendant!A:C,3,FALSE) -> 7354
D15: =VLOOKUP($C$16,ascendant!$A:$C,2,FALSE) -> 88719
C16: =VLOOKUP($B$14,ascendant!$A:$C,3,FALSE) -> 91654
D17: =VLOOKUP($C$16,ascendant!$A:$C,3,FALSE) -> 88650
A20: nés le | B20: père | C20: numéro | D20: sexe | E20: élevé | F20: sortie le | G20: poids | H20: confo | I20: prix
A21: 42300 | B21: 3235 | C21: MN
A22: 42300 | B22: 3235 | C22: MN
A23: 42300 | B23: 3235 | C23: MN
A24: 42300 | B24: 3235 | C24: MN
A25: 42693 | C25: 7022 | D25: F | E25: D
A26: 42693 | C26: MN
A27: 42693 | C27: MN

Sheet 3262
A1: 3262 | B1: née le 05/09/13 | D1: ARR/ARR
A2: double
D3: =VLOOKUP($C$4,ascendant!$A:$C,2,FALSE) -> inconnu
C4: =VLOOKUP($B$6,ascendant!$A:$C,2,FALSE) -> inconnu
D5: =VLOOKUP($C$4,ascendant!$A:$C,3,FALSE) -> inconnu
B6: =VLOOKUP($A$10,ascendant!$A:$C,2,FALSE) -> inconnu
D7: =VLOOKUP($C$8,ascendant!$A:$C,2,FALSE) -> inconnu
C8: =VLOOKUP($B$6,ascendant!$A:$C,3,FALSE) -> inconnu
D9: =VLOOKUP($C$8,ascendant!$A:$C,3,FALSE) -> inconnu
A10: 13262
D11: =VLOOKUP($C$12,ascendant!$A:$C,2,FALSE) -> inconnu
C12: =VLOOKUP($B$14,ascendant!$A:$C,2,FALSE) -> inconnu
D13: =VLOOKUP($C$12,ascendant!$A:$C,3,FALSE) -> inconnu
B14: =VLOOKUP($A$10,ascendant!A:C,3,FALSE) -> 9587
D15: =VLOOKUP($C$16,ascendant!$A:$C,2,FALSE) -> a chercher
C16: =VLOOKUP($B$14,ascendant!$A:$C,3,FALSE) -> 3738
D17: =VLOOKUP($C$16,ascendant!$A:$C,3,FALSE) -> 93817
A20: nés le | B20: père | C20: numéro | D20: sexe | E20: élevé | F20: sortie le | G20: poids | H20: confo | I20: prix
A21: 42345 | B21: inc | C21: 6041 | D21: M | E21: D | F21: 42472 | G21: 21.8 | H21: R3
A22: 42345 | B22: inc | C22: 6042 | D22: M | E22: D
A23: 42345 | B23: inc | C23: 6043 | D23: M | E23: D | F23: Vendu repro
A24: 42696 | C24: 7044 | D24: F | E24: D | F24: repro
A25: 42696 | C25: 7045 | D25: F | E25: D | F25: repro

Sheet 3265
A1: 3265 | B1: née le 05/09/13 | D1: ARR/ARR
A2: double
D3: =VLOOKUP($C$4,ascendant!$A:$C,2,FALSE) -> a chercher
C4: =VLOOKUP($B$6,ascendant!$A:$C,2,FALSE) -> 8018
D5: =VLOOKUP($C$4,ascendant!$A:$C,3,FALSE) -> 1647
B6: =VLOOKUP($A$10,ascendant!$A:$C,2,FALSE) -> 12072
D7: =VLOOKUP($C$8,ascendant!$A:$C,2,FALSE) -> a chercher
C8: =VLOOKUP($B$6,ascendant!$A:$C,3,FALSE) -> 8001
D9: =VLOOKUP($C$8,ascendant!$A:$C,3,FALSE) -> 5475
A10: 13265
D11: =VLOOKUP($C$12,ascendant!$A:$C,2,FALSE) -> a chercher
C12: =VLOOKUP($B$14,ascendant!$A:$C,2,FALSE) -> 9330
D13: =VLOOKUP($C$12,ascendant!$A:$C,3,FALSE) -> 5513
B14: =VLOOKUP($A$10,ascendant!A:C,3,FALSE) -> 11165
D15: =VLOOKUP($C$16,ascendant!$A:$C,2,FALSE) -> a chercher
C16: =VLOOKUP($B$14,ascendant!$A:$C,3,FALSE) -> 4350
D17: =VLOOKUP($C$16,ascendant!$A:$C,3,FALSE) -> 94628
A20: nés le | B20: père | C20: numéro | D20: sexe | E20: élevé | F20: sortie le | G20: poids | H20: confo | I20: prix
A21: 42351 | B21: inc | C21: 6066 | D21: F | E21: T | F21: 42502 | G21: 20.5 | H21: R3
A22: 42351 | B22: inc | C22: 6067 | D22: F | E22: T
A23: 42351 | B23: inc | C23: 6068 | D23: F | E23: T | F23: entéro
A24: 42700 | C24: 7082 | D24: M | E24: D | F24: écrasé

Sheet 3271
A1: 3271 | B1: née le 08/09/13 | D1: ARR/ARQ
A2: double
D3: =VLOOKUP($C$4,ascendant!$A:$C,2,FALSE) -> a chercher
C4: =VLOOKUP($B$6,ascendant!$A:$C,2,FALSE) -> 8058
D5: =VLOOKUP($C$4,ascendant!$A:$C,3,FALSE) -> 4390
B6: =VLOOKUP($A$10,ascendant!$A:$C,2,FALSE) -> 12008
D7: =VLOOKUP($C$8,ascendant!$A:$C,2,FALSE) -> a chercher
C8: =VLOOKUP($B$6,ascendant!$A:$C,3,FALSE) -> 8099
D9: =VLOOKUP($C$8,ascendant!$A:$C,3,FALSE) -> 4356
A10: 13271
D11: =VLOOKUP($C$12,ascendant!$A:$C,2,FALSE) -> 96028
C12: =VLOOKUP($B$14,ascendant!$A:$C,2,FALSE) -> 3024
D13: =VLOOKUP($C$12,ascendant!$A:$C,3,FALSE) -> 95043
B14: =VLOOKUP($A$10,ascendant!A:C,3,FALSE) -> 5577
D15: =VLOOKUP($C$16,ascendant!$A:$C,2,FALSE) -> 1608
C16: =VLOOKUP($B$14,ascendant!$A:$C,3,FALSE) -> 3049
D17: =VLOOKUP($C$16,ascendant!$A:$C,3,FALSE) -> 96081
A20: nés le | B20: père | C20: numéro | D20: sexe | E20: élevé | F20: sortie le | G20: poids | H20: confo | I20: prix
A21: 42346 | B21: inconnu | C21: 6049 | D21: F | E21: D
A22: 42346 | B22: inconnu | C22: 6050 | D22: F | E22: D | F22: mort 18/1
A23: 42696 | C23: MN
A24: 42696 | C24: MN

Sheet 3274
A1: 3274 | B1: née le 09/09/13 | D1: ARR/ARR
A2: double
D3: =VLOOKUP($C$4,ascendant!$A:$C,2,FALSE) -> a chercher
C4: =VLOOKUP($B$6,ascendant!$A:$C,2,FALSE) -> 8018
D5: =VLOOKUP($C$4,ascendant!$A:$C,3,FALSE) -> 1647
B6: =VLOOKUP($A$10,ascendant!$A:$C,2,FALSE) -> 12072
D7: =VLOOKUP($C$8,ascendant!$A:$C,2,FALSE) -> a chercher
C8: =VLOOKUP($B$6,ascendant!$A:$C,3,FALSE) -> 8001
D9: =VLOOKUP($C$8,ascendant!$A:$C,3,FALSE) -> 5475
A10: 13274
D11: =VLOOKUP($C$12,ascendant!$A:$C,2,FALSE) -> a chercher
C12: =VLOOKUP($B$14,ascendant!$A:$C,2,FALSE) -> 8058
D13: =VLOOKUP($C$12,ascendant!$A:$C,3,FALSE) -> 4390
B14: =VLOOKUP($A$10,ascendant!A:C,3,FALSE) -> 11090
D15: =VLOOKUP($C$16,ascendant!$A:$C,2,FALSE) -> 2033
C16: =VLOOKUP($B$14,ascendant!$A:$C,3,FALSE) -> 4361
D17: =VLOOKUP($C$16,ascendant!$A:$C,3,FALSE) -> 650
A20: nés le | B20: père | C20: numéro | D20: sexe | E20: élevé | F20: sortie le | G20: poids | H20: confo | I20: prix
A21: 42350 | B21: inconnu | C21: 6062 | D21: M | E21: D | F21: 42478 | G21: 20 | H21: R3
A22: 42350 | B22: inconnu | C22: 6063 | D22: F | E22: D
A23: 42699 | C23: 7070 | D23: F | E23: D
A24: 42699 | C24: 7071 | D24: M | E24: D

Sheet 3275
A1: 3275 | B1: née le 09/09/13 | D1: ARR/ARR
A2: double
D3: =VLOOKUP($C$4,ascendant!$A:$C,2,FALSE) -> a chercher
C4: =VLOOKUP($B$6,ascendant!$A:$C,2,FALSE) -> 8029
D5: =VLOOKUP($C$4,ascendant!$A:$C,3,FALSE) -> 2034
B6: =VLOOKUP($A$10,ascendant!$A:$C,2,FALSE) -> 12017
D7: =VLOOKUP($C$8,ascendant!$A:$C,2,FALSE) -> 3658
C8: =VLOOKUP($B$6,ascendant!$A:$C,3,FALSE) -> 5513
D9: =VLOOKUP($C$8,ascendant!$A:$C,3,FALSE) -> 3068
A10: 13275
D11: =VLOOKUP($C$12,ascendant!$A:$C,2,FALSE) -> 5341
C12: =VLOOKUP($B$14,ascendant!$A:$C,2,FALSE) -> 7546
D13: =VLOOKUP($C$12,ascendant!$A:$C,3,FALSE) -> 2077
B14: =VLOOKUP($A$10,ascendant!A:C,3,FALSE) -> 11065
D15: =VLOOKUP($C$16,ascendant!$A:$C,2,FALSE) -> a chercher
C16: =VLOOKUP($B$14,ascendant!$A:$C,3,FALSE) -> 9527
D17: =VLOOKUP($C$16,ascendant!$A:$C,3,FALSE) -> 6345
A20: nés le | B20: père | C20: numéro | D20: sexe | E20: élevé | F20: sortie le | G20: poids | H20: confo | I20: prix
A21: 42333 | B21: 2274 | C21: 6022 | D21: M | E21: D | F21: 42446
A22: 42333 | B22: 2274 | C22: 6023 | D22: F | E22: D | F22: 42446
A23: 42691 | C23: 7012 | D23: M | E23: D | F23: 42817 | G23: 21.5 | H23: U3
A24: 42691 | C24: 7013 | D24: F | E24: D | F24: repro
A25: 42691 | C25: 7014 | D25: F | E25: D | F25: repro

Sheet 3276
A1: 3276 | B1: née le 09/09/13 | D1: ARR/ARR
A2: double
D3: =VLOOKUP($C$4,ascendant!$A:$C,2,FALSE) -> a chercher
C4: =VLOOKUP($B$6,ascendant!$A:$C,2,FALSE) -> 8029
D5: =VLOOKUP($C$4,ascendant!$A:$C,3,FALSE) -> 2034
B6: =VLOOKUP($A$10,ascendant!$A:$C,2,FALSE) -> 12017
D7: =VLOOKUP($C$8,ascendant!$A:$C,2,FALSE) -> 3658
C8: =VLOOKUP($B$6,ascendant!$A:$C,3,FALSE) -> 5513
D9: =VLOOKUP($C$8,ascendant!$A:$C,3,FALSE) -> 3068
A10: 13276
D11: =VLOOKUP($C$12,ascendant!$A:$C,2,FALSE) -> 5341
C12: =VLOOKUP($B$14,ascendant!$A:$C,2,FALSE) -> 7546
D13: =VLOOKUP($C$12,ascendant!$A:$C,3,FALSE) -> 2077
B14: =VLOOKUP($A$10,ascendant!A:C,3,FALSE) -> 11065
D15: =VLOOKUP($C$16,ascendant!$A:$C,2,FALSE) -> a chercher
C16: =VLOOKUP($B$14,ascendant!$A:$C,3,FALSE) -> 9527
D17: =VLOOKUP($C$16,ascendant!$A:$C,3,FALSE) -> 6345
A20: nés le | B20: père | C20: numéro | D20: sexe | E20: élevé | F20: sortie le | G20: poids | H20: confo | I20: prix
A21: 42302 | B21: 2277 | C21: 6005 | D21: M | E21: D | F21: repro
A22: 42302 | B22: 2277 | C22: 6006 | D22: F | E22: D | F22: repro
A23: 42302 | B23: 2277 | C23: MN
A24: 42696 | C24: 7046 | D24: F | E24: D | F24: 42839 | G24: 34 kg vif
A25: 42696 | C25: 7047 | D25: M | E25: D | F25: mort 31/12
A26: 42696 | C26: 7048 | D26: F | E26: D | F26: mort 2/1

Sheet 3284
A1: 3284 | B1: née le 11/09/13 | D1: ARR/ARQ
A2: triple
D3: =VLOOKUP($C$4,ascendant!$A:$C,2,FALSE) -> a chercher
C4: =VLOOKUP($B$6,ascendant!$A:$C,2,FALSE) -> 8029
D5: =VLOOKUP($C$4,ascendant!$A:$C,3,FALSE) -> 2034
B6: =VLOOKUP($A$10,ascendant!$A:$C,2,FALSE) -> 12017
D7: =VLOOKUP($C$8,ascendant!$A:$C,2,FALSE) -> 3658
C8: =VLOOKUP($B$6,ascendant!$A:$C,3,FALSE) -> 5513
D9: =VLOOKUP($C$8,ascendant!$A:$C,3,FALSE) -> 3068
A10: 13284
D11: =VLOOKUP($C$12,ascendant!$A:$C,2,FALSE) -> inconnu
C12: =VLOOKUP($B$14,ascendant!$A:$C,2,FALSE) -> 6106
D13: =VLOOKUP($C$12,ascendant!$A:$C,3,FALSE) -> inconnu
B14: =VLOOKUP($A$10,ascendant!A:C,3,FALSE) -> 8043
D15: =VLOOKUP($C$16,ascendant!$A:$C,2,FALSE) -> inconnu
C16: =VLOOKUP($B$14,ascendant!$A:$C,3,FALSE) -> 3140
D17: =VLOOKUP($C$16,ascendant!$A:$C,3,FALSE) -> 39
A20: nés le | B20: père | C20: numéro | D20: sexe | E20: élevé | F20: sortie le | G20: poids | H20: confo | I20: prix
A21: 42300 | B21: 2274 | C21: 6002 | D21: F | E21: D
A22: 45953 | B22: 2274 | C22: 6003 | D22: F | E22: D
A23: 42699 | C23: 7074 | D23: M | E23: D
A24: 42699 | C24: 7075 | D24: F | E24: D

Sheet 3285
A1: 3285 | B1: née le 11/09/13 | D1: ARR/ARR
A2: triple
D3: =VLOOKUP($C$4,ascendant!$A:$C,2,FALSE) -> a chercher
C4: =VLOOKUP($B$6,ascendant!$A:$C,2,FALSE) -> 8029
D5: =VLOOKUP($C$4,ascendant!$A:$C,3,FALSE) -> 2034
B6: =VLOOKUP($A$10,ascendant!$A:$C,2,FALSE) -> 12017
D7: =VLOOKUP($C$8,ascendant!$A:$C,2,FALSE) -> 3658
C8: =VLOOKUP($B$6,ascendant!$A:$C,3,FALSE) -> 5513
D9: =VLOOKUP($C$8,ascendant!$A:$C,3,FALSE) -> 3068
A10: 13285
D11: =VLOOKUP($C$12,ascendant!$A:$C,2,FALSE) -> inconnu
C12: =VLOOKUP($B$14,ascendant!$A:$C,2,FALSE) -> 6106
D13: =VLOOKUP($C$12,ascendant!$A:$C,3,FALSE) -> inconnu
B14: =VLOOKUP($A$10,ascendant!A:C,3,FALSE) -> 8043
D15: =VLOOKUP($C$16,ascendant!$A:$C,2,FALSE) -> inconnu
C16: =VLOOKUP($B$14,ascendant!$A:$C,3,FALSE) -> 3140
D17: =VLOOKUP($C$16,ascendant!$A:$C,3,FALSE) -> 39
A20: nés le | B20: père | C20: numéro | D20: sexe | E20: élevé | F20: sortie le | G20: poids | H20: confo | I20: prix
A21: 42350 | B21: inconnu | C21: 6064 | D21: F | E21: D
A22: 42350 | B22: inconnu | C22: 6065 | D22: M | E22: D
A23: 42699 | C23: 7049 | D23: M | E23: D
A24: 42699 | C24: 7050 | D24: F | E24: D

Sheet 4004
A1: 4004 | B1: née le 13/09/13 | D1: ARR/ARR
A2: triple
D3: =VLOOKUP($C$4,ascendant!$A:$C,2,FALSE) -> inconnu
C4: =VLOOKUP($B$6,ascendant!$A:$C,2,FALSE) -> inconnu
D5: =VLOOKUP($C$4,ascendant!$A:$C,3,FALSE) -> inconnu
B6: =VLOOKUP($A$10,ascendant!$A:$C,2,FALSE) -> inconnu
D7: =VLOOKUP($C$8,ascendant!$A:$C,2,FALSE) -> inconnu
C8: =VLOOKUP($B$6,ascendant!$A:$C,3,FALSE) -> inconnu
D9: =VLOOKUP($C$8,ascendant!$A:$C,3,FALSE) -> inconnu
A10: 14004
D11: =VLOOKUP($C$12,ascendant!$A:$C,2,FALSE) -> inconnu
C12: =VLOOKUP($B$14,ascendant!$A:$C,2,FALSE) -> inconnu
D13: =VLOOKUP($C$12,ascendant!$A:$C,3,FALSE) -> inconnu
B14: =VLOOKUP($A$10,ascendant!A:C,3,FALSE) -> 9645
D15: =VLOOKUP($C$16,ascendant!$A:$C,2,FALSE) -> 2033
C16: =VLOOKUP($B$14,ascendant!$A:$C,3,FALSE) -> 4114
D17: =VLOOKUP($C$16,ascendant!$A:$C,3,FALSE) -> 94016
A20: nés le | B20: père | C20: numéro | D20: sexe | E20: élevé | F20: sortie le | G20: poids | H20: confo | I20: prix
A21: 42333 | B21: 3093 | C21: 6021 | D21: F | E21: S
A22: 42333 | B22: 3093 | C22: MN | D22: F
A23: 42695 | C23: 7028 | D23: M | E23: D
A24: 42695 | C24: MN | D24: M | E24: S | F24: 42817 | G24: 20.4 | H24: U3
A25: 42695 | C25: MN
A26: 42695 | C26: MN

Sheet 4012
A1: 4012 | B1: née le 13/9/13 | D1: ARR/ARR | E1: noire
A2: triple
D3: =VLOOKUP($C$4,ascendant!$A:$C,2,FALSE) -> a chercher
C4: =VLOOKUP($B$6,ascendant!$A:$C,2,FALSE) -> 8029
D5: =VLOOKUP($C$4,ascendant!$A:$C,3,FALSE) -> 2034
B6: =VLOOKUP($A$10,ascendant!$A:$C,2,FALSE) -> 12017
D7: =VLOOKUP($C$8,ascendant!$A:$C,2,FALSE) -> 3658
C8: =VLOOKUP($B$6,ascendant!$A:$C,3,FALSE) -> 5513
D9: =VLOOKUP($C$8,ascendant!$A:$C,3,FALSE) -> 3068
A10: 14012
D11: =VLOOKUP($C$12,ascendant!$A:$C,2,FALSE) -> 5341
C12: =VLOOKUP($B$14,ascendant!$A:$C,2,FALSE) -> 7546
D13: =VLOOKUP($C$12,ascendant!$A:$C,3,FALSE) -> 2077
B14: =VLOOKUP($A$10,ascendant!A:C,3,FALSE) -> 11064
D15: =VLOOKUP($C$16,ascendant!$A:$C,2,FALSE) -> a chercher
C16: =VLOOKUP($B$14,ascendant!$A:$C,3,FALSE) -> 9527
D17: =VLOOKUP($C$16,ascendant!$A:$C,3,FALSE) -> 6345
A20: nés le | B20: père | C20: numéro | D20: sexe | E20: élevé | F20: sortie le | G20: poids | H20: confo | I20: prix
A21: 42342 | B21: 2277 | C21: 6033 | D21: M | E21: D | F21: 42472 | G21: 21.4 | H21: R3
A22: 42342 | B22: 2277 | C22: 6034 | D22: F | E22: D
A23: 42342 | B23: 2277 | C23: 6035 | D23: M | E23: D | F23: 42472 | G23: 20.3 | H23: R3
A24: 42687 | C24: 7002 | D24: M | E24: S
A25: 42687 | C25: mort

Sheet 4032
A1: 4032 | B1: née le 16/9/13 | D1: ARR/ARR
A2: double
D3: =VLOOKUP($C$4,ascendant!$A:$C,2,FALSE) -> a chercher
C4: =VLOOKUP($B$6,ascendant!$A:$C,2,FALSE) -> 8029
D5: =VLOOKUP($C$4,ascendant!$A:$C,3,FALSE) -> 2034
B6: =VLOOKUP($A$10,ascendant!$A:$C,2,FALSE) -> 12017
D7: =VLOOKUP($C$8,ascendant!$A:$C,2,FALSE) -> 3658
C8: =VLOOKUP($B$6,ascendant!$A:$C,3,FALSE) -> 5513
D9: =VLOOKUP($C$8,ascendant!$A:$C,3,FALSE) -> 3068
A10: 14032
D11: =VLOOKUP($C$12,ascendant!$A:$C,2,FALSE) -> 1660
C12: =VLOOKUP($B$14,ascendant!$A:$C,2,FALSE) -> 6701
D13: =VLOOKUP($C$12,ascendant!$A:$C,3,FALSE) -> 3022
B14: =VLOOKUP($A$10,ascendant!A:C,3,FALSE) -> 9333
D15: =VLOOKUP($C$16,ascendant!$A:$C,2,FALSE) -> 1601
C16: =VLOOKUP($B$14,ascendant!$A:$C,3,FALSE) -> 4381
D17: =VLOOKUP($C$16,ascendant!$A:$C,3,FALSE) -> 1647
A20: nés le | B20: père | C20: numéro | D20: sexe | E20: élevé | F20: sortie le | G20: poids | H20: confo | I20: prix
A21: 42343 | B21: inconnu | C21: 6039 | D21: F | E21: D | F21: 42502 | G21: 18.1 | H21: R3
A22: 42343 | B22: inconnu | C22: 6040 | D22: M | E22: D | F22: 42446
A23: 42343 | B23: inconnu | C23: MN
A24: 42699 | C24: 7068 | D24: F | E24: D | F24: mort maigre
A25: 42699 | C25: 7069 | D25: M | E25: D
A26: 42699 | C26: MN
A27: 42699 | C27: MN
A28: 42699 | C28: MN

Sheet 4033
A1: 4033 | B1: née le 16/9/13 | D1: ARR/ARR
A2: double
D3: =VLOOKUP($C$4,ascendant!$A:$C,2,FALSE) -> a chercher
C4: =VLOOKUP($B$6,ascendant!$A:$C,2,FALSE) -> 8029
D5: =VLOOKUP($C$4,ascendant!$A:$C,3,FALSE) -> 2034
B6: =VLOOKUP($A$10,ascendant!$A:$C,2,FALSE) -> 12017
D7: =VLOOKUP($C$8,ascendant!$A:$C,2,FALSE) -> 3658
C8: =VLOOKUP($B$6,ascendant!$A:$C,3,FALSE) -> 5513
D9: =VLOOKUP($C$8,ascendant!$A:$C,3,FALSE) -> 3068
A10: 14033
D11: =VLOOKUP($C$12,ascendant!$A:$C,2,FALSE) -> 1660
C12: =VLOOKUP($B$14,ascendant!$A:$C,2,FALSE) -> 6701
D13: =VLOOKUP($C$12,ascendant!$A:$C,3,FALSE) -> 3022
B14: =VLOOKUP($A$10,ascendant!A:C,3,FALSE) -> 9333
D15: =VLOOKUP($C$16,ascendant!$A:$C,2,FALSE) -> 1601
C16: =VLOOKUP($B$14,ascendant!$A:$C,3,FALSE) -> 4381
D17: =VLOOKUP($C$16,ascendant!$A:$C,3,FALSE) -> 1647
A20: nés le | B20: père | C20: numéro | D20: sexe | E20: élevé | F20: sortie le | G20: poids | H20: confo | I20: prix
A21: 42351 | B21: inconnu | C21: 6069 | D21: F | E21: D
A22: 42351 | B22: inconnu | C22: MN
A23: 42351 | B23: inconnu | C23: MN
A24: 42711 | C24: 7087 | D24: F | E24: D
A25: 42711 | C25: 7088 | D25: M | E25: D

Sheet 4070
A1: 4070 | B1: née le 18/9/13 | D1: ARR/ARR
A2: double
D3: =VLOOKUP($C$4,ascendant!$A:$C,2,FALSE) -> a chercher
C4: =VLOOKUP($B$6,ascendant!$A:$C,2,FALSE) -> 8018
D5: =VLOOKUP($C$4,ascendant!$A:$C,3,FALSE) -> 1647
B6: =VLOOKUP($A$10,ascendant!$A:$C,2,FALSE) -> 12072
D7: =VLOOKUP($C$8,ascendant!$A:$C,2,FALSE) -> a chercher
C8: =VLOOKUP($B$6,ascendant!$A:$C,3,FALSE) -> 8001
D9: =VLOOKUP($C$8,ascendant!$A:$C,3,FALSE) -> 5475
A10: 14070
D11: =VLOOKUP($C$12,ascendant!$A:$C,2,FALSE) -> 6111
C12: =VLOOKUP($B$14,ascendant!$A:$C,2,FALSE) -> 7619
D13: =VLOOKUP($C$12,ascendant!$A:$C,3,FALSE) -> 5348
B14: =VLOOKUP($A$10,ascendant!A:C,3,FALSE) -> 11267
D15: =VLOOKUP($C$16,ascendant!$A:$C,2,FALSE) -> a chercher
C16: =VLOOKUP($B$14,ascendant!$A:$C,3,FALSE) -> 9327
D17: =VLOOKUP($C$16,ascendant!$A:$C,3,FALSE) -> 2039
A20: nés le | B20: père | C20: numéro | D20: sexe | E20: élevé | F20: sortie le | G20: poids | H20: confo | I20: prix
A21: 42353 | B21: inconnu | C21: 6081 | D21: F | E21: D
A22: 42353 | B22: inconnu | C22: 6082 | D22: F | E22: D
A23: 42699 | C23: 7072 | D23: F | E23: D | F23: mort 30/12
A24: 42699 | C24: 7073 | D24: F | E24: D | F24: Repro

Sheet 4071
A1: 4071 | B1: née le 18/9/13 | D1: ARR/ARR
A2: double
D3: =VLOOKUP($C$4,ascendant!$A:$C,2,FALSE) -> a chercher
C4: =VLOOKUP($B$6,ascendant!$A:$C,2,FALSE) -> 8018
D5: =VLOOKUP($C$4,ascendant!$A:$C,3,FALSE) -> 1647
B6: =VLOOKUP($A$10,ascendant!$A:$C,2,FALSE) -> 12072
D7: =VLOOKUP($C$8,ascendant!$A:$C,2,FALSE) -> a chercher
C8: =VLOOKUP($B$6,ascendant!$A:$C,3,FALSE) -> 8001
D9: =VLOOKUP($C$8,ascendant!$A:$C,3,FALSE) -> 5475
A10: 14071
D11: =VLOOKUP($C$12,ascendant!$A:$C,2,FALSE) -> 6111
C12: =VLOOKUP($B$14,ascendant!$A:$C,2,FALSE) -> 7619
D13: =VLOOKUP($C$12,ascendant!$A:$C,3,FALSE) -> 5348
B14: =VLOOKUP($A$10,ascendant!A:C,3,FALSE) -> 11267
D15: =VLOOKUP($C$16,ascendant!$A:$C,2,FALSE) -> a chercher
C16: =VLOOKUP($B$14,ascendant!$A:$C,3,FALSE) -> 9327
D17: =VLOOKUP($C$16,ascendant!$A:$C,3,FALSE) -> 2039
A20: nés le | B20: père | C20: numéro | D20: sexe | E20: élevé | F20: sortie le | G20: poids | H20: confo | I20: prix
A21: 42315 | B21: 2274 | C21: 6017 | D21: M | E21: S | F21: 42418
A22: 42699 | C22: 7053 | D22: F | E22: D | F22: repro
A23: 42699 | C23: 7054 | D23: F | E23: D

Sheet 4075
A1: 4075 | B1: née le 18/9/13 | D1: ARR/ARR
A2: double
D3: =VLOOKUP($C$4,ascendant!$A:$C,2,FALSE) -> inconnu
C4: =VLOOKUP($B$6,ascendant!$A:$C,2,FALSE) -> inconnu
D5: =VLOOKUP($C$4,ascendant!$A:$C,3,FALSE) -> inconnu
B6: =VLOOKUP($A$10,ascendant!$A:$C,2,FALSE) -> inconnu
D7: =VLOOKUP($C$8,ascendant!$A:$C,2,FALSE) -> inconnu
C8: =VLOOKUP($B$6,ascendant!$A:$C,3,FALSE) -> inconnu
D9: =VLOOKUP($C$8,ascendant!$A:$C,3,FALSE) -> inconnu
A10: 14075
D11: =VLOOKUP($C$12,ascendant!$A:$C,2,FALSE) -> inconnu
C12: =VLOOKUP($B$14,ascendant!$A:$C,2,FALSE) -> inconnu
D13: =VLOOKUP($C$12,ascendant!$A:$C,3,FALSE) -> inconnu
B14: =VLOOKUP($A$10,ascendant!A:C,3,FALSE) -> 10059
D15: =VLOOKUP($C$16,ascendant!$A:$C,2,FALSE) -> 5038
C16: =VLOOKUP($B$14,ascendant!$A:$C,3,FALSE) -> 6490
D17: =VLOOKUP($C$16,ascendant!$A:$C,3,FALSE) -> 2621
A20: nés le | B20: père | C20: numéro | D20: sexe | E20: élevé | F20: sortie le | G20: poids | H20: confo | I20: prix
A21: 42332 | B21: 3093 | C21: 6019 | D21: M | E21: D | F21: 42478 | G21: 19.5 | H21: R3
A22: 42332 | B22: 3093 | C22: 6020 | D22: F | E22: D
A23: 42332 | B23: 3093 | C23: MN
A24: 42687 | C24: 7001 | D24: M | E24: S | F24: 42817 | G24: 20.8 | H24: U3
A25: 42687 | C25: MN
A26: 42687 | C26: MN

Sheet 4083
A1: 4083 | B1: née le 18/9/13 | D1: ARR/ARR
A2: double
D3: =VLOOKUP($C$4,ascendant!$A:$C,2,FALSE) -> a chercher
C4: =VLOOKUP($B$6,ascendant!$A:$C,2,FALSE) -> 8058
D5: =VLOOKUP($C$4,ascendant!$A:$C,3,FALSE) -> 4390
B6: =VLOOKUP($A$10,ascendant!$A:$C,2,FALSE) -> 12008
D7: =VLOOKUP($C$8,ascendant!$A:$C,2,FALSE) -> a chercher
C8: =VLOOKUP($B$6,ascendant!$A:$C,3,FALSE) -> 8099
D9: =VLOOKUP($C$8,ascendant!$A:$C,3,FALSE) -> 4356
A10: 14083
D11: =VLOOKUP($C$12,ascendant!$A:$C,2,FALSE) -> 94112
C12: =VLOOKUP($B$14,ascendant!$A:$C,2,FALSE) -> 3658
D13: =VLOOKUP($C$12,ascendant!$A:$C,3,FALSE) -> 1038
B14: =VLOOKUP($A$10,ascendant!A:C,3,FALSE) -> 7331
D15: =VLOOKUP($C$16,ascendant!$A:$C,2,FALSE) -> 630
C16: =VLOOKUP($B$14,ascendant!$A:$C,3,FALSE) -> 3629
D17: =VLOOKUP($C$16,ascendant!$A:$C,3,FALSE) -> 668
A20: nés le | B20: père | C20: numéro | D20: sexe | E20: élevé | F20: sortie le | G20: poids | H20: confo | I20: prix
A21: 42348 | B21: inconnu | C21: 6057 | D21: M | E21: D | F21: 42478 | G21: 20.5 | H21: R4
A22: 42348 | B22: inconnu | C22: 6058 | D22: M | E22: D | F22: 42478 | G22: 23 | H22: R3
A23: 42699 | C23: 7055 | D23: M | E23: D | F23: 42817 | G23: 21.2 | H23: U3
A24: 42699 | C24: 7056 | D24: F | E24: D

Sheet 4099
A1: 4099 | B1: née le 19/9/13 | D1: ARR/ARR
A2: double
D3: =VLOOKUP($C$4,ascendant!$A:$C,2,FALSE) -> a chercher
C4: =VLOOKUP($B$6,ascendant!$A:$C,2,FALSE) -> 8058
D5: =VLOOKUP($C$4,ascendant!$A:$C,3,FALSE) -> 4390
B6: =VLOOKUP($A$10,ascendant!$A:$C,2,FALSE) -> 12008
D7: =VLOOKUP($C$8,ascendant!$A:$C,2,FALSE) -> a chercher
C8: =VLOOKUP($B$6,ascendant!$A:$C,3,FALSE) -> 8099
D9: =VLOOKUP($C$8,ascendant!$A:$C,3,FALSE) -> 4356
A10: 14099
D11: =VLOOKUP($C$12,ascendant!$A:$C,2,FALSE) -> 94112
C12: =VLOOKUP($B$14,ascendant!$A:$C,2,FALSE) -> 3658
D13: =VLOOKUP($C$12,ascendant!$A:$C,3,FALSE) -> 1038
B14: =VLOOKUP($A$10,ascendant!A:C,3,FALSE) -> 7381
D15: =VLOOKUP($C$16,ascendant!$A:$C,2,FALSE) -> 1660
C16: =VLOOKUP($B$14,ascendant!$A:$C,3,FALSE) -> 4648
D17: =VLOOKUP($C$16,ascendant!$A:$C,3,FALSE) -> 3652
A20: nés le | B20: père | C20: numéro | D20: sexe | E20: élevé | F20: sortie le | G20: poids | H20: confo | I20: prix
A21: 42348 | B21: inconnu | C21: 6055 | D21: M | E21: D | F21: 42502 | G21: 19.7 | H21: R3
A22: 42348 | B22: inconnu | C22: 6056 | D22: M | E22: D | F22: 42472 | G22: 22.1 | H22: U3
A23: 42697 | C23: 7057 | D23: M | E23: D
A24: 42697 | C24: 7058 | D24: F | E24: D
A25: 42697 | C25: MN

Sheet 4100
A1: 4100 | B1: née le 19/9/13 | D1: ARR/ARR
A2: double
D3: =VLOOKUP($C$4,ascendant!$A:$C,2,FALSE) -> a chercher
C4: =VLOOKUP($B$6,ascendant!$A:$C,2,FALSE) -> 8058
D5: =VLOOKUP($C$4,ascendant!$A:$C,3,FALSE) -> 4390
B6: =VLOOKUP($A$10,ascendant!$A:$C,2,FALSE) -> 12008
D7: =VLOOKUP($C$8,ascendant!$A:$C,2,FALSE) -> a chercher
C8: =VLOOKUP($B$6,ascendant!$A:$C,3,FALSE) -> 8099
D9: =VLOOKUP($C$8,ascendant!$A:$C,3,FALSE) -> 4356
A10: 14100
D11: =VLOOKUP($C$12,ascendant!$A:$C,2,FALSE) -> 94112
C12: =VLOOKUP($B$14,ascendant!$A:$C,2,FALSE) -> 3658
D13: =VLOOKUP($C$12,ascendant!$A:$C,3,FALSE) -> 1038
B14: =VLOOKUP($A$10,ascendant!A:C,3,FALSE) -> 7381
D15: =VLOOKUP($C$16,ascendant!$A:$C,2,FALSE) -> 1660
C16: =VLOOKUP($B$14,ascendant!$A:$C,3,FALSE) -> 4648
D17: =VLOOKUP($C$16,ascendant!$A:$C,3,FALSE) -> 3652
A20: nés le | B20: père | C20: numéro | D20: sexe | E20: élevé | F20: sortie le | G20: poids | H20: confo | I20: prix
A21: 42343 | B21: inconnu | C21: 6036 | D21: M | E21: D | F21: 42472 | G21: 21.3 | H21: U3
A22: 42343 | B22: inconnu | C22: tué poneys
A23: 42698 | C23: 7065 | D23: F | E23: D
A24: 42698 | C24: 7066 | D24: F | E24: D

Sheet 4152
A1: 4152 | B1: née le 29/9/13 | D1: ARR/ARR
A2: triple
D3: =VLOOKUP($C$4,ascendant!$A:$C,2,FALSE) -> a chercher
C4: =VLOOKUP($B$6,ascendant!$A:$C,2,FALSE) -> 8029
D5: =VLOOKUP($C$4,ascendant!$A:$C,3,FALSE) -> 2034
B6: =VLOOKUP($A$10,ascendant!$A:$C,2,FALSE) -> 12017
D7: =VLOOKUP($C$8,ascendant!$A:$C,2,FALSE) -> 3658
C8: =VLOOKUP($B$6,ascendant!$A:$C,3,FALSE) -> 5513
D9: =VLOOKUP($C$8,ascendant!$A:$C,3,FALSE) -> 3068
A10: 14152
D11: =VLOOKUP($C$12,ascendant!$A:$C,2,FALSE) -> #N/A
C12: =VLOOKUP($B$14,ascendant!$A:$C,2,FALSE) -> a chercher
D13: =VLOOKUP($C$12,ascendant!$A:$C,3,FALSE) -> #N/A
B14: =VLOOKUP($A$10,ascendant!A:C,3,FALSE) -> 9450
D15: =VLOOKUP($C$16,ascendant!$A:$C,2,FALSE) -> 3658
C16: =VLOOKUP($B$14,ascendant!$A:$C,3,FALSE) -> 5572
D17: =VLOOKUP($C$16,ascendant!$A:$C,3,FALSE) -> 3091
A20: nés le | B20: père | C20: numéro | D20: sexe | E20: élevé | F20: sortie le | G20: poids | H20: confo | I20: prix
A21: 42317 | B21: 2274 | C21: 6013 | D21: M | E21: D | F21: 42443 | G21: Vendu repro
A22: 42317 | B22: 2274 | C22: 6014 | D22: F | E22: D
A23: 42697 | C23: 7059 | D23: M | E23: D
A24: 42697 | C24: 7060 | D24: M | E24: D

Sheet 4163
A1: 4163 | B1: née le 10/1/14 | D1: ARR/ARR
A2: double
D3: =VLOOKUP($C$4,ascendant!$A:$C,2,FALSE) -> inconnu
C4: =VLOOKUP($B$6,ascendant!$A:$C,2,FALSE) -> inconnu
D5: =VLOOKUP($C$4,ascendant!$A:$C,3,FALSE) -> inconnu
B6: =VLOOKUP($A$10,ascendant!$A:$C,2,FALSE) -> inconnu
D7: =VLOOKUP($C$8,ascendant!$A:$C,2,FALSE) -> inconnu
C8: =VLOOKUP($B$6,ascendant!$A:$C,3,FALSE) -> inconnu
D9: =VLOOKUP($C$8,ascendant!$A:$C,3,FALSE) -> inconnu
A10: 14163
D11: =VLOOKUP($C$12,ascendant!$A:$C,2,FALSE) -> #N/A
C12: =VLOOKUP($B$14,ascendant!$A:$C,2,FALSE) -> a chercher
D13: =VLOOKUP($C$12,ascendant!$A:$C,3,FALSE) -> #N/A
B14: =VLOOKUP($A$10,ascendant!A:C,3,FALSE) -> 9309
D15: =VLOOKUP($C$16,ascendant!$A:$C,2,FALSE) -> 3658
C16: =VLOOKUP($B$14,ascendant!$A:$C,3,FALSE) -> 7381
D17: =VLOOKUP($C$16,ascendant!$A:$C,3,FALSE) -> 4648
A20: nés le | B20: père | C20: numéro | D20: sexe | E20: élevé | F20: sortie le | G20: poids | H20: confo | I20: prix
A21: 42351 | B21: inconnu | C21: 6072 | D21: F | E21: D | F21: 42502 | G21: 20.1 | H21: R3
A22: 42351 | B22: inconnu | C22: 6073 | D22: M | E22: D
A23: 42715 | C23: 7089 | D23: F | E23: D

Sheet 4164
A1: 4164 | B1: née le 10/1/14 | D1: ARR/ARR
A2: double
D3: =VLOOKUP($C$4,ascendant!$A:$C,2,FALSE) -> inconnu
C4: =VLOOKUP($B$6,ascendant!$A:$C,2,FALSE) -> inconnu
D5: =VLOOKUP($C$4,ascendant!$A:$C,3,FALSE) -> inconnu
B6: =VLOOKUP($A$10,ascendant!$A:$C,2,FALSE) -> inconnu
D7: =VLOOKUP($C$8,ascendant!$A:$C,2,FALSE) -> inconnu
C8: =VLOOKUP($B$6,ascendant!$A:$C,3,FALSE) -> inconnu
D9: =VLOOKUP($C$8,ascendant!$A:$C,3,FALSE) -> inconnu
A10: 14164
D11: =VLOOKUP($C$12,ascendant!$A:$C,2,FALSE) -> #N/A
C12: =VLOOKUP($B$14,ascendant!$A:$C,2,FALSE) -> a chercher
D13: =VLOOKUP($C$12,ascendant!$A:$C,3,FALSE) -> #N/A
B14: =VLOOKUP($A$10,ascendant!A:C,3,FALSE) -> 9309
D15: =VLOOKUP($C$16,ascendant!$A:$C,2,FALSE) -> 3658
C16: =VLOOKUP($B$14,ascendant!$A:$C,3,FALSE) -> 7381
D17: =VLOOKUP($C$16,ascendant!$A:$C,3,FALSE) -> 4648
A20: nés le | B20: père | C20: numéro | D20: sexe | E20: élevé | F20: sortie le | G20: poids | H20: confo | I20: prix
A21: 42304 | B21: 3093 | C21: 6007 | D21: F | E21: D
A22: 42304 | B22: 3093 | C22: 6008 | D22: F | E22: D
A23: 42304 | B23: 3093 | C23: MN
A24: 42682 | C24: préma
A25: 42682 | C25: préma
A26: 42682 | C26: préma

Sheet 4166
A1: 4166 | B1: née le 12/1/14 | D1: ARR/ARR
A2: triple
D3: =VLOOKUP($C$4,ascendant!$A:$C,2,FALSE) -> inconnu
C4: =VLOOKUP($B$6,ascendant!$A:$C,2,FALSE) -> inconnu
D5: =VLOOKUP($C$4,ascendant!$A:$C,3,FALSE) -> inconnu
B6: =VLOOKUP($A$10,ascendant!$A:$C,2,FALSE) -> inconnu
D7: =VLOOKUP($C$8,ascendant!$A:$C,2,FALSE) -> inconnu
C8: =VLOOKUP($B$6,ascendant!$A:$C,3,FALSE) -> inconnu
D9: =VLOOKUP($C$8,ascendant!$A:$C,3,FALSE) -> inconnu
A10: 14166
D11: =VLOOKUP($C$12,ascendant!$A:$C,2,FALSE) -> #N/A
C12: =VLOOKUP($B$14,ascendant!$A:$C,2,FALSE) -> a chercher
D13: =VLOOKUP($C$12,ascendant!$A:$C,3,FALSE) -> #N/A
B14: =VLOOKUP($A$10,ascendant!A:C,3,FALSE) -> 11274
D15: =VLOOKUP($C$16,ascendant!$A:$C,2,FALSE) -> a chercher
C16: =VLOOKUP($B$14,ascendant!$A:$C,3,FALSE) -> 9310
D17: =VLOOKUP($C$16,ascendant!$A:$C,3,FALSE) -> 7381
A20: nés le | B20: père | C20: numéro | D20: sexe | E20: élevé | F20: sortie le | G20: poids | H20: confo | I20: prix
A21: 42300 | B21: 3093 | C21: 6004 | D21: M | E21: S | F21: 42383
A22: 42696 | C22: 7037 | D22: F | E22: T
A23: 42696 | C23: 7038 | D23: F | E23: T
A24: 42696 | C24: 7039 | D24: F | E24: T
A25: 42696 | C25: 7040 | D25: M | E25: D

Sheet 4167
A1: 4167 | B1: née le 12/1/14 | D1: ARR/ARR
A2: triple
D3: =VLOOKUP($C$4,ascendant!$A:$C,2,FALSE) -> inconnu
C4: =VLOOKUP($B$6,ascendant!$A:$C,2,FALSE) -> inconnu
D5: =VLOOKUP($C$4,ascendant!$A:$C,3,FALSE) -> inconnu
B6: =VLOOKUP($A$10,ascendant!$A:$C,2,FALSE) -> inconnu
D7: =VLOOKUP($C$8,ascendant!$A:$C,2,FALSE) -> inconnu
C8: =VLOOKUP($B$6,ascendant!$A:$C,3,FALSE) -> inconnu
D9: =VLOOKUP($C$8,ascendant!$A:$C,3,FALSE) -> inconnu
A10: 14167
D11: =VLOOKUP($C$12,ascendant!$A:$C,2,FALSE) -> #N/A
C12: =VLOOKUP($B$14,ascendant!$A:$C,2,FALSE) -> a chercher
D13: =VLOOKUP($C$12,ascendant!$A:$C,3,FALSE) -> #N/A
B14: =VLOOKUP($A$10,ascendant!A:C,3,FALSE) -> 11274
D15: =VLOOKUP($C$16,ascendant!$A:$C,2,FALSE) -> a chercher
C16: =VLOOKUP($B$14,ascendant!$A:$C,3,FALSE) -> 9310
D17: =VLOOKUP($C$16,ascendant!$A:$C,3,FALSE) -> 7381
A20: nés le | B20: père | C20: numéro | D20: sexe | E20: élevé | F20: sortie le | G20: poids | H20: confo | I20: prix
A21: 42317 | B21: 3093 | C21: 6011 | D21: F | E21: D
A22: 42317 | B22: 3093 | C22: 6012 | D22: F | E22: D
A23: 42695 | C23: 7033 | D23: F | E23: D

Sheet 4168
A1: 4168 | B1: née le 14/1/14 | D1: ARR/ARR
A2: simple
D3: =VLOOKUP($C$4,ascendant!$A:$C,2,FALSE) -> inconnu
C4: =VLOOKUP($B$6,ascendant!$A:$C,2,FALSE) -> inconnu
D5: =VLOOKUP($C$4,ascendant!$A:$C,3,FALSE) -> inconnu
B6: =VLOOKUP($A$10,ascendant!$A:$C,2,FALSE) -> inconnu
D7: =VLOOKUP($C$8,ascendant!$A:$C,2,FALSE) -> inconnu
C8: =VLOOKUP($B$6,ascendant!$A:$C,3,FALSE) -> inconnu
D9: =VLOOKUP($C$8,ascendant!$A:$C,3,FALSE) -> inconnu
A10: 14168
D11: =VLOOKUP($C$12,ascendant!$A:$C,2,FALSE) -> #N/A
C12: =VLOOKUP($B$14,ascendant!$A:$C,2,FALSE) -> a chercher
D13: =VLOOKUP($C$12,ascendant!$A:$C,3,FALSE) -> #N/A
B14: =VLOOKUP($A$10,ascendant!A:C,3,FALSE) -> 8001
D15: =VLOOKUP($C$16,ascendant!$A:$C,2,FALSE) -> inconnu
C16: =VLOOKUP($B$14,ascendant!$A:$C,3,FALSE) -> 5475
D17: =VLOOKUP($C$16,ascendant!$A:$C,3,FALSE) -> 3601
A20: nés le | B20: père | C20: numéro | D20: sexe | E20: élevé | F20: sortie le | G20: poids | H20: confo | I20: prix
A21: 42313 | B21: 3093 | C21: 6009 | D21: M | E21: D | F21: 42418
A22: 42313 | B22: 3093 | C22: 6010 | D22: M | E22: D | F22: 42439
A23: 42313 | B23: 3093 | C23: MN
A24: 42689 | C24: 7006 | D24: M | E24: S
A25: 42689 | C25: MN

Sheet 4172
A1: 4172 | B1: née le 23/8/14
A2: simple
D3: =VLOOKUP($C$4,ascendant!$A:$C,2,FALSE) -> inconnu
C4: =VLOOKUP($B$6,ascendant!$A:$C,2,FALSE) -> inconnu
D5: =VLOOKUP($C$4,ascendant!$A:$C,3,FALSE) -> inconnu
B6: =VLOOKUP($A$10,ascendant!$A:$C,2,FALSE) -> inconnu
D7: =VLOOKUP($C$8,ascendant!$A:$C,2,FALSE) -> inconnu
C8: =VLOOKUP($B$6,ascendant!$A:$C,3,FALSE) -> inconnu
D9: =VLOOKUP($C$8,ascendant!$A:$C,3,FALSE) -> inconnu
A10: 14172
D11: =VLOOKUP($C$12,ascendant!$A:$C,2,FALSE) -> inconnu
C12: =VLOOKUP($B$14,ascendant!$A:$C,2,FALSE) -> 6106
D13: =VLOOKUP($C$12,ascendant!$A:$C,3,FALSE) -> inconnu
B14: =VLOOKUP($A$10,ascendant!A:C,3,FALSE) -> 8043
D15: =VLOOKUP($C$16,ascendant!$A:$C,2,FALSE) -> inconnu
C16: =VLOOKUP($B$14,ascendant!$A:$C,3,FALSE) -> 3140
D17: =VLOOKUP($C$16,ascendant!$A:$C,3,FALSE) -> 39
A20: nés le | B20: père | C20: numéro | D20: sexe | E20: élevé | F20: sortie le | G20: poids | H20: confo | I20: prix
A21: 42690 | C21: 7009 | D21: F | E21: S | F21: mort maigre
A22: 42690 | C22: /
A23: 42690 | C23: /
A24: 42690 | C24: /

Sheet 4177
A1: 4177 | B1: née le 26/8/14
A2: triple
D3: =VLOOKUP($C$4,ascendant!$A:$C,2,FALSE) -> 96122
C4: =VLOOKUP($B$6,ascendant!$A:$C,2,FALSE) -> 1078
D5: =VLOOKUP($C$4,ascendant!$A:$C,3,FALSE) -> 96081
B6: =VLOOKUP($A$10,ascendant!$A:$C,2,FALSE) -> 12274
D7: =VLOOKUP($C$8,ascendant!$A:$C,2,FALSE) -> a chercher
C8: =VLOOKUP($B$6,ascendant!$A:$C,3,FALSE) -> 8057
D9: =VLOOKUP($C$8,ascendant!$A:$C,3,FALSE) -> 4390
A10: 14177
D11: =VLOOKUP($C$12,ascendant!$A:$C,2,FALSE) -> 1660
C12: =VLOOKUP($B$14,ascendant!$A:$C,2,FALSE) -> 6701
D13: =VLOOKUP($C$12,ascendant!$A:$C,3,FALSE) -> 3022
B14: =VLOOKUP($A$10,ascendant!A:C,3,FALSE) -> 9442
D15: =VLOOKUP($C$16,ascendant!$A:$C,2,FALSE) -> a chercher
C16: =VLOOKUP($B$14,ascendant!$A:$C,3,FALSE) -> 5382
D17: =VLOOKUP($C$16,ascendant!$A:$C,3,FALSE) -> 1647
A20: nés le | B20: père | C20: numéro | D20: sexe | E20: élevé | F20: sortie le | G20: poids | H20: confo | I20: prix
A21: 42725 | C21: 7093 | D21: M | E21: S
A22: 42725 | C22: / | F22: schmallemberg

Sheet 4182
A1: 4182 | B1: née le 27/8/14
A2: triple
D3: =VLOOKUP($C$4,ascendant!$A:$C,2,FALSE) -> inconnu
C4: =VLOOKUP($B$6,ascendant!$A:$C,2,FALSE) -> inconnu
D5: =VLOOKUP($C$4,ascendant!$A:$C,3,FALSE) -> inconnu
B6: =VLOOKUP($A$10,ascendant!$A:$C,2,FALSE) -> inconnu
D7: =VLOOKUP($C$8,ascendant!$A:$C,2,FALSE) -> inconnu
C8: =VLOOKUP($B$6,ascendant!$A:$C,3,FALSE) -> inconnu
D9: =VLOOKUP($C$8,ascendant!$A:$C,3,FALSE) -> inconnu
A10: 14182
D11: =VLOOKUP($C$12,ascendant!$A:$C,2,FALSE) -> 94112
C12: =VLOOKUP($B$14,ascendant!$A:$C,2,FALSE) -> 3658
D13: =VLOOKUP($C$12,ascendant!$A:$C,3,FALSE) -> 1038
B14: =VLOOKUP($A$10,ascendant!A:C,3,FALSE) -> 7355
D15: =VLOOKUP($C$16,ascendant!$A:$C,2,FALSE) -> 88719
C16: =VLOOKUP($B$14,ascendant!$A:$C,3,FALSE) -> 91654
D17: =VLOOKUP($C$16,ascendant!$A:$C,3,FALSE) -> 88650
A20: nés le | B20: père | C20: numéro | D20: sexe | E20: élevé | F20: sortie le | G20: poids | H20: confo | I20: prix
A21: 42708 | C21: 7085 | D21: F | E21: D
A22: 42708 | C22: 7086 | D22: F | E22: D

Sheet 4183
A1: 4182 | B1: née le 27/8/14
A2: triple
D3: =VLOOKUP($C$4,ascendant!$A:$C,2,FALSE) -> inconnu
C4: =VLOOKUP($B$6,ascendant!$A:$C,2,FALSE) -> inconnu
D5: =VLOOKUP($C$4,ascendant!$A:$C,3,FALSE) -> inconnu
B6: =VLOOKUP($A$10,ascendant!$A:$C,2,FALSE) -> inconnu
D7: =VLOOKUP($C$8,ascendant!$A:$C,2,FALSE) -> inconnu
C8: =VLOOKUP($B$6,ascendant!$A:$C,3,FALSE) -> inconnu
D9: =VLOOKUP($C$8,ascendant!$A:$C,3,FALSE) -> inconnu
A10: 14183
D11: =VLOOKUP($C$12,ascendant!$A:$C,2,FALSE) -> 94112
C12: =VLOOKUP($B$14,ascendant!$A:$C,2,FALSE) -> 3658
D13: =VLOOKUP($C$12,ascendant!$A:$C,3,FALSE) -> 1038
B14: =VLOOKUP($A$10,ascendant!A:C,3,FALSE) -> 7355
D15: =VLOOKUP($C$16,ascendant!$A:$C,2,FALSE) -> 88719
C16: =VLOOKUP($B$14,ascendant!$A:$C,3,FALSE) -> 91654
D17: =VLOOKUP($C$16,ascendant!$A:$C,3,FALSE) -> 88650
A20: nés le | B20: père | C20: numéro | D20: sexe | E20: élevé | F20: sortie le | G20: poids | H20: confo | I20: prix
A21: 42689 | C21: 7007 | D21: M | E21: D
A22: 42689 | C22: 7008 | D22: M | E22: D

Sheet 4185
A1: 4185 | B1: née le 28/8/14
A2: double
D3: =VLOOKUP($C$4,ascendant!$A:$C,2,FALSE) -> inconnu
C4: =VLOOKUP($B$6,ascendant!$A:$C,2,FALSE) -> inconnu
D5: =VLOOKUP($C$4,ascendant!$A:$C,3,FALSE) -> inconnu
B6: =VLOOKUP($A$10,ascendant!$A:$C,2,FALSE) -> inconnu
D7: =VLOOKUP($C$8,ascendant!$A:$C,2,FALSE) -> inconnu
C8: =VLOOKUP($B$6,ascendant!$A:$C,3,FALSE) -> inconnu
D9: =VLOOKUP($C$8,ascendant!$A:$C,3,FALSE) -> inconnu
A10: 14185
D11: =VLOOKUP($C$12,ascendant!$A:$C,2,FALSE) -> inconnu
C12: =VLOOKUP($B$14,ascendant!$A:$C,2,FALSE) -> inconnu
D13: =VLOOKUP($C$12,ascendant!$A:$C,3,FALSE) -> inconnu
B14: =VLOOKUP($A$10,ascendant!A:C,3,FALSE) -> 6433
D15: =VLOOKUP($C$16,ascendant!$A:$C,2,FALSE) -> #N/A
C16: =VLOOKUP($B$14,ascendant!$A:$C,3,FALSE) -> 4326
D17: =VLOOKUP($C$16,ascendant!$A:$C,3,FALSE) -> #N/A
A20: nés le | B20: père | C20: numéro | D20: sexe | E20: élevé | F20: sortie le | G20: poids | H20: confo | I20: prix
A21: 42701 | C21: 7084 | D21: F | E21: S | F21: mort 1 mois
A22: 42701 | C22: /

Sheet 5001
A1: 5001 | B1: née le 10/9/14
A2: quadruple
D3: =VLOOKUP($C$4,ascendant!$A:$C,2,FALSE) -> 6111
C4: =VLOOKUP($B$6,ascendant!$A:$C,2,FALSE) -> 7619
D5: =VLOOKUP($C$4,ascendant!$A:$C,3,FALSE) -> 5348
B6: =VLOOKUP($A$10,ascendant!$A:$C,2,FALSE) -> 12277
D7: =VLOOKUP($C$8,ascendant!$A:$C,2,FALSE) -> 7561
C8: =VLOOKUP($B$6,ascendant!$A:$C,3,FALSE) -> 11166
D9: =VLOOKUP($C$8,ascendant!$A:$C,3,FALSE) -> 8057
A10: 15001
D11: =VLOOKUP($C$12,ascendant!$A:$C,2,FALSE) -> 5341
C12: =VLOOKUP($B$14,ascendant!$A:$C,2,FALSE) -> 7546
D13: =VLOOKUP($C$12,ascendant!$A:$C,3,FALSE) -> 2077
B14: =VLOOKUP($A$10,ascendant!A:C,3,FALSE) -> 11021
D15: =VLOOKUP($C$16,ascendant!$A:$C,2,FALSE) -> a chercher
C16: =VLOOKUP($B$14,ascendant!$A:$C,3,FALSE) -> 9388
D17: =VLOOKUP($C$16,ascendant!$A:$C,3,FALSE) -> 6465
A20: nés le | B20: père | C20: numéro | D20: sexe | E20: élevé | F20: sortie le | G20: poids | H20: confo | I20: prix
A21: 42699 | C21: 7051 | D21: F | E21: D
A22: 42699 | C22: 7052 | D22: F | E22: D | F22: repro
A23: 42699 | C23: /

Sheet 5003
A1: 5003 | B1: née le 10/9/14
A2: quadruple
D3: =VLOOKUP($C$4,ascendant!$A:$C,2,FALSE) -> 6111
C4: =VLOOKUP($B$6,ascendant!$A:$C,2,FALSE) -> 7619
D5: =VLOOKUP($C$4,ascendant!$A:$C,3,FALSE) -> 5348
B6: =VLOOKUP($A$10,ascendant!$A:$C,2,FALSE) -> 12277
D7: =VLOOKUP($C$8,ascendant!$A:$C,2,FALSE) -> 7561
C8: =VLOOKUP($B$6,ascendant!$A:$C,3,FALSE) -> 11166
D9: =VLOOKUP($C$8,ascendant!$A:$C,3,FALSE) -> 8057
A10: 15001
D11: =VLOOKUP($C$12,ascendant!$A:$C,2,FALSE) -> 5341
C12: =VLOOKUP($B$14,ascendant!$A:$C,2,FALSE) -> 7546
D13: =VLOOKUP($C$12,ascendant!$A:$C,3,FALSE) -> 2077
B14: =VLOOKUP($A$10,ascendant!A:C,3,FALSE) -> 11021
D15: =VLOOKUP($C$16,ascendant!$A:$C,2,FALSE) -> a chercher
C16: =VLOOKUP($B$14,ascendant!$A:$C,3,FALSE) -> 9388
D17: =VLOOKUP($C$16,ascendant!$A:$C,3,FALSE) -> 6465
A20: nés le | B20: père | C20: numéro | D20: sexe | E20: élevé | F20: sortie le | G20: poids | H20: confo | I20: prix
A21: 42698 | C21: 7067 | D21: M | E21: S | F21: mort entéro
A22: 42698 | C22: /
A23: 42698 | C23: /

Sheet 5006
A1: 5006 | B1: née le 10/9/14
A2: double
D3: =VLOOKUP($C$4,ascendant!$A:$C,2,FALSE) -> inconnu
C4: =VLOOKUP($B$6,ascendant!$A:$C,2,FALSE) -> inconnu
D5: =VLOOKUP($C$4,ascendant!$A:$C,3,FALSE) -> inconnu
B6: =VLOOKUP($A$10,ascendant!$A:$C,2,FALSE) -> inconnu
D7: =VLOOKUP($C$8,ascendant!$A:$C,2,FALSE) -> inconnu
C8: =VLOOKUP($B$6,ascendant!$A:$C,3,FALSE) -> inconnu
D9: =VLOOKUP($C$8,ascendant!$A:$C,3,FALSE) -> inconnu
A10: 15006
D11: =VLOOKUP($C$12,ascendant!$A:$C,2,FALSE) -> inconnu
C12: =VLOOKUP($B$14,ascendant!$A:$C,2,FALSE) -> inconnu
D13: =VLOOKUP($C$12,ascendant!$A:$C,3,FALSE) -> inconnu
B14: =VLOOKUP($A$10,ascendant!A:C,3,FALSE) -> 8032
D15: =VLOOKUP($C$16,ascendant!$A:$C,2,FALSE) -> a chercher
C16: =VLOOKUP($B$14,ascendant!$A:$C,3,FALSE) -> 3758
D17: =VLOOKUP($C$16,ascendant!$A:$C,3,FALSE) -> 2620
A20: nés le | B20: père | C20: numéro | D20: sexe | E20: élevé | F20: sortie le | G20: poids | H20: confo | I20: prix
A21: 42694 | C21: ???
A22: 42694 | C22: ???
A23: 42694 | C23: ???

Sheet 5008
A1: 5008 | B1: née le 12/9/14
A2: triple
D3: =VLOOKUP($C$4,ascendant!$A:$C,2,FALSE) -> 6111
C4: =VLOOKUP($B$6,ascendant!$A:$C,2,FALSE) -> 7619
D5: =VLOOKUP($C$4,ascendant!$A:$C,3,FALSE) -> 5348
B6: =VLOOKUP($A$10,ascendant!$A:$C,2,FALSE) -> 12277
D7: =VLOOKUP($C$8,ascendant!$A:$C,2,FALSE) -> 7561
C8: =VLOOKUP($B$6,ascendant!$A:$C,3,FALSE) -> 11166
D9: =VLOOKUP($C$8,ascendant!$A:$C,3,FALSE) -> 8057
A10: 15008
D11: =VLOOKUP($C$12,ascendant!$A:$C,2,FALSE) -> 94112
C12: =VLOOKUP($B$14,ascendant!$A:$C,2,FALSE) -> 3658
D13: =VLOOKUP($C$12,ascendant!$A:$C,3,FALSE) -> 1038
B14: =VLOOKUP($A$10,ascendant!A:C,3,FALSE) -> 7381
D15: =VLOOKUP($C$16,ascendant!$A:$C,2,FALSE) -> 1660
C16: =VLOOKUP($B$14,ascendant!$A:$C,3,FALSE) -> 4648
D17: =VLOOKUP($C$16,ascendant!$A:$C,3,FALSE) -> 3652
A20: nés le | B20: père | C20: numéro | D20: sexe | E20: élevé | F20: sortie le | G20: poids | H20: confo | I20: prix
A21: 42694 | C21: 7023 | D21: F | E21: D
A22: 42694 | C22: 7024 | D22: F | E22: D

Sheet 5011
A1: 5011 | B1: née le 14/9/14
A2: simple
D3: =VLOOKUP($C$4,ascendant!$A:$C,2,FALSE) -> 6111
C4: =VLOOKUP($B$6,ascendant!$A:$C,2,FALSE) -> 7619
D5: =VLOOKUP($C$4,ascendant!$A:$C,3,FALSE) -> 5348
B6: =VLOOKUP($A$10,ascendant!$A:$C,2,FALSE) -> 12277
D7: =VLOOKUP($C$8,ascendant!$A:$C,2,FALSE) -> 7561
C8: =VLOOKUP($B$6,ascendant!$A:$C,3,FALSE) -> 11166
D9: =VLOOKUP($C$8,ascendant!$A:$C,3,FALSE) -> 8057
A10: 15011
D11: =VLOOKUP($C$12,ascendant!$A:$C,2,FALSE) -> 3033
C12: =VLOOKUP($B$14,ascendant!$A:$C,2,FALSE) -> 5341
D13: =VLOOKUP($C$12,ascendant!$A:$C,3,FALSE) -> 2039
B14: =VLOOKUP($A$10,ascendant!A:C,3,FALSE) -> 8008
D15: =VLOOKUP($C$16,ascendant!$A:$C,2,FALSE) -> inconnu
C16: =VLOOKUP($B$14,ascendant!$A:$C,3,FALSE) -> 4428
D17: =VLOOKUP($C$16,ascendant!$A:$C,3,FALSE) -> 2662
A20: nés le | B20: père | C20: numéro | D20: sexe | E20: élevé | F20: sortie le | G20: poids | H20: confo | I20: prix
A21: 42699 | C21: 5094 | D21: M | E21: D
A22: 42699 | C22: 5095 | D22: M | E22: D
A23: 42699 | C23: 5096 | D23: M | E23: D

Sheet 6002
A1: 6002 | B1: née le 25/10/15 | D1: ARR/???
A2: double
D3: =VLOOKUP($C$4,ascendant!$A:$C,2,FALSE) -> 96122
C4: =VLOOKUP($B$6,ascendant!$A:$C,2,FALSE) -> 1078
D5: =VLOOKUP($C$4,ascendant!$A:$C,3,FALSE) -> 96081
B6: =VLOOKUP($A$10,ascendant!$A:$C,2,FALSE) -> 12274
D7: =VLOOKUP($C$8,ascendant!$A:$C,2,FALSE) -> a chercher
C8: =VLOOKUP($B$6,ascendant!$A:$C,3,FALSE) -> 8057
D9: =VLOOKUP($C$8,ascendant!$A:$C,3,FALSE) -> 4390
A10: 16002
D11: =VLOOKUP($C$12,ascendant!$A:$C,2,FALSE) -> 8029
C12: =VLOOKUP($B$14,ascendant!$A:$C,2,FALSE) -> 12017
D13: =VLOOKUP($C$12,ascendant!$A:$C,3,FALSE) -> 5513
B14: =VLOOKUP($A$10,ascendant!A:C,3,FALSE) -> 13284
D15: =VLOOKUP($C$16,ascendant!$A:$C,2,FALSE) -> 6106
C16: =VLOOKUP($B$14,ascendant!$A:$C,3,FALSE) -> 8043
D17: =VLOOKUP($C$16,ascendant!$A:$C,3,FALSE) -> 3140
A20: nés le | B20: père | C20: numéro | D20: sexe | E20: élevé | F20: sortie le | G20: poids | H20: confo | I20: prix

Sheet 6003
A1: 6003 | B1: née le 25/10/15 | D1: ARR/???
A2: double
D3: =VLOOKUP($C$4,ascendant!$A:$C,2,FALSE) -> 96122
C4: =VLOOKUP($B$6,ascendant!$A:$C,2,FALSE) -> 1078
D5: =VLOOKUP($C$4,ascendant!$A:$C,3,FALSE) -> 96081
B6: =VLOOKUP($A$10,ascendant!$A:$C,2,FALSE) -> 12274
D7: =VLOOKUP($C$8,ascendant!$A:$C,2,FALSE) -> a chercher
C8: =VLOOKUP($B$6,ascendant!$A:$C,3,FALSE) -> 8057
D9: =VLOOKUP($C$8,ascendant!$A:$C,3,FALSE) -> 4390
A10: 16003
D11: =VLOOKUP($C$12,ascendant!$A:$C,2,FALSE) -> 8029
C12: =VLOOKUP($B$14,ascendant!$A:$C,2,FALSE) -> 12017
D13: =VLOOKUP($C$12,ascendant!$A:$C,3,FALSE) -> 5513
B14: =VLOOKUP($A$10,ascendant!A:C,3,FALSE) -> 13284
D15: =VLOOKUP($C$16,ascendant!$A:$C,2,FALSE) -> 6106
C16: =VLOOKUP($B$14,ascendant!$A:$C,3,FALSE) -> 8043
D17: =VLOOKUP($C$16,ascendant!$A:$C,3,FALSE) -> 3140
A20: nés le | B20: père | C20: numéro | D20: sexe | E20: élevé | F20: sortie le | G20: poids | H20: confo | I20: prix

Sheet 6006
A1: 6006 | B1: née le 25/10/15 | D1: ARR/ARR
A2: double
D3: =VLOOKUP($C$4,ascendant!$A:$C,2,FALSE) -> 6111
C4: =VLOOKUP($B$6,ascendant!$A:$C,2,FALSE) -> 7619
D5: =VLOOKUP($C$4,ascendant!$A:$C,3,FALSE) -> 5348
B6: =VLOOKUP($A$10,ascendant!$A:$C,2,FALSE) -> 12277
D7: =VLOOKUP($C$8,ascendant!$A:$C,2,FALSE) -> 7561
C8: =VLOOKUP($B$6,ascendant!$A:$C,3,FALSE) -> 11166
D9: =VLOOKUP($C$8,ascendant!$A:$C,3,FALSE) -> 8057
A10: 16006
D11: =VLOOKUP($C$12,ascendant!$A:$C,2,FALSE) -> 8029
C12: =VLOOKUP($B$14,ascendant!$A:$C,2,FALSE) -> 12017
D13: =VLOOKUP($C$12,ascendant!$A:$C,3,FALSE) -> 5513
B14: =VLOOKUP($A$10,ascendant!A:C,3,FALSE) -> 13276
D15: =VLOOKUP($C$16,ascendant!$A:$C,2,FALSE) -> 7546
C16: =VLOOKUP($B$14,ascendant!$A:$C,3,FALSE) -> 11065
D17: =VLOOKUP($C$16,ascendant!$A:$C,3,FALSE) -> 9527
A20: nés le | B20: père | C20: numéro | D20: sexe | E20: élevé | F20: sortie le | G20: poids | H20: confo | I20: prix

Sheet 6007
A1: 6007 | B1: née le 27/10/15 | D1: ARR/ARR
A2: triple
D3: =VLOOKUP($C$4,ascendant!$A:$C,2,FALSE) -> 8058
C4: =VLOOKUP($B$6,ascendant!$A:$C,2,FALSE) -> 11209
D5: =VLOOKUP($C$4,ascendant!$A:$C,3,FALSE) -> 5513
B6: =VLOOKUP($A$10,ascendant!$A:$C,2,FALSE) -> 13093
D7: =VLOOKUP($C$8,ascendant!$A:$C,2,FALSE) -> a chercher
C8: =VLOOKUP($B$6,ascendant!$A:$C,3,FALSE) -> 12117
D9: =VLOOKUP($C$8,ascendant!$A:$C,3,FALSE) -> 10005
A10: 16007
D11: =VLOOKUP($C$12,ascendant!$A:$C,2,FALSE) -> inconnu
C12: =VLOOKUP($B$14,ascendant!$A:$C,2,FALSE) -> inconnu
D13: =VLOOKUP($C$12,ascendant!$A:$C,3,FALSE) -> inconnu
B14: =VLOOKUP($A$10,ascendant!A:C,3,FALSE) -> 14164
D15: =VLOOKUP($C$16,ascendant!$A:$C,2,FALSE) -> a chercher
C16: =VLOOKUP($B$14,ascendant!$A:$C,3,FALSE) -> 9309
D17: =VLOOKUP($C$16,ascendant!$A:$C,3,FALSE) -> 7381
A20: nés le | B20: père | C20: numéro | D20: sexe | E20: élevé | F20: sortie le | G20: poids | H20: confo | I20: prix

Sheet 6008
A1: 6008 | B1: née le 27/10/15 | D1: ARR/ARR
A2: triple
D3: =VLOOKUP($C$4,ascendant!$A:$C,2,FALSE) -> 8058
C4: =VLOOKUP($B$6,ascendant!$A:$C,2,FALSE) -> 11209
D5: =VLOOKUP($C$4,ascendant!$A:$C,3,FALSE) -> 5513
B6: =VLOOKUP($A$10,ascendant!$A:$C,2,FALSE) -> 13093
D7: =VLOOKUP($C$8,ascendant!$A:$C,2,FALSE) -> a chercher
C8: =VLOOKUP($B$6,ascendant!$A:$C,3,FALSE) -> 12117
D9: =VLOOKUP($C$8,ascendant!$A:$C,3,FALSE) -> 10005
A10: 16008
D11: =VLOOKUP($C$12,ascendant!$A:$C,2,FALSE) -> inconnu
C12: =VLOOKUP($B$14,ascendant!$A:$C,2,FALSE) -> inconnu
D13: =VLOOKUP($C$12,ascendant!$A:$C,3,FALSE) -> inconnu
B14: =VLOOKUP($A$10,ascendant!A:C,3,FALSE) -> 14164
D15: =VLOOKUP($C$16,ascendant!$A:$C,2,FALSE) -> a chercher
C16: =VLOOKUP($B$14,ascendant!$A:$C,3,FALSE) -> 9309
D17: =VLOOKUP($C$16,ascendant!$A:$C,3,FALSE) -> 7381
A20: nés le | B20: père | C20: numéro | D20: sexe | E20: élevé | F20: sortie le | G20: poids | H20: confo | I20: prix

Sheet 6012
A1: 6012 | B1: née le 09/11/15 | D1: ARR/ARR
A2: double
D3: =VLOOKUP($C$4,ascendant!$A:$C,2,FALSE) -> 8058
C4: =VLOOKUP($B$6,ascendant!$A:$C,2,FALSE) -> 11209
D5: =VLOOKUP($C$4,ascendant!$A:$C,3,FALSE) -> 5513
B6: =VLOOKUP($A$10,ascendant!$A:$C,2,FALSE) -> 13093
D7: =VLOOKUP($C$8,ascendant!$A:$C,2,FALSE) -> a chercher
C8: =VLOOKUP($B$6,ascendant!$A:$C,3,FALSE) -> 12117
D9: =VLOOKUP($C$8,ascendant!$A:$C,3,FALSE) -> 10005
A10: 16012
D11: =VLOOKUP($C$12,ascendant!$A:$C,2,FALSE) -> inconnu
C12: =VLOOKUP($B$14,ascendant!$A:$C,2,FALSE) -> inconnu
D13: =VLOOKUP($C$12,ascendant!$A:$C,3,FALSE) -> inconnu
B14: =VLOOKUP($A$10,ascendant!A:C,3,FALSE) -> 14167
D15: =VLOOKUP($C$16,ascendant!$A:$C,2,FALSE) -> a chercher
C16: =VLOOKUP($B$14,ascendant!$A:$C,3,FALSE) -> 11274
D17: =VLOOKUP($C$16,ascendant!$A:$C,3,FALSE) -> 9310
A20: nés le | B20: père | C20: numéro | D20: sexe | E20: élevé | F20: sortie le | G20: poids | H20: confo | I20: prix

Sheet 6014
A1: 6014 | B1: née le 09/11/15 | D1: ARR/ARR
A2: double
D3: =VLOOKUP($C$4,ascendant!$A:$C,2,FALSE) -> 96122
C4: =VLOOKUP($B$6,ascendant!$A:$C,2,FALSE) -> 1078
D5: =VLOOKUP($C$4,ascendant!$A:$C,3,FALSE) -> 96081
B6: =VLOOKUP($A$10,ascendant!$A:$C,2,FALSE) -> 12274
D7: =VLOOKUP($C$8,ascendant!$A:$C,2,FALSE) -> a chercher
C8: =VLOOKUP($B$6,ascendant!$A:$C,3,FALSE) -> 8057
D9: =VLOOKUP($C$8,ascendant!$A:$C,3,FALSE) -> 4390
A10: 16014
D11: =VLOOKUP($C$12,ascendant!$A:$C,2,FALSE) -> 8029
C12: =VLOOKUP($B$14,ascendant!$A:$C,2,FALSE) -> 12017
D13: =VLOOKUP($C$12,ascendant!$A:$C,3,FALSE) -> 5513
B14: =VLOOKUP($A$10,ascendant!A:C,3,FALSE) -> 14152
D15: =VLOOKUP($C$16,ascendant!$A:$C,2,FALSE) -> a chercher
C16: =VLOOKUP($B$14,ascendant!$A:$C,3,FALSE) -> 9450
D17: =VLOOKUP($C$16,ascendant!$A:$C,3,FALSE) -> 5572
A20: nés le | B20: père | C20: numéro | D20: sexe | E20: élevé | F20: sortie le | G20: poids | H20: confo | I20: prix

Sheet 6015
A1: 6015 | B1: née le 09/11/15 | D1: ARR/ARR
A2: double
D3: =VLOOKUP($C$4,ascendant!$A:$C,2,FALSE) -> 96122
C4: =VLOOKUP($B$6,ascendant!$A:$C,2,FALSE) -> 1078
D5: =VLOOKUP($C$4,ascendant!$A:$C,3,FALSE) -> 96081
B6: =VLOOKUP($A$10,ascendant!$A:$C,2,FALSE) -> 12274
D7: =VLOOKUP($C$8,ascendant!$A:$C,2,FALSE) -> a chercher
C8: =VLOOKUP($B$6,ascendant!$A:$C,3,FALSE) -> 8057
D9: =VLOOKUP($C$8,ascendant!$A:$C,3,FALSE) -> 4390
A10: 16015
D11: =VLOOKUP($C$12,ascendant!$A:$C,2,FALSE) -> 8029
C12: =VLOOKUP($B$14,ascendant!$A:$C,2,FALSE) -> 12017
D13: =VLOOKUP($C$12,ascendant!$A:$C,3,FALSE) -> 5513
B14: =VLOOKUP($A$10,ascendant!A:C,3,FALSE) -> 14011
D15: =VLOOKUP($C$16,ascendant!$A:$C,2,FALSE) -> 7546
C16: =VLOOKUP($B$14,ascendant!$A:$C,3,FALSE) -> 11064
D17: =VLOOKUP($C$16,ascendant!$A:$C,3,FALSE) -> 9527
A20: nés le | B20: père | C20: numéro | D20: sexe | E20: élevé | F20: sortie le | G20: poids | H20: confo | I20: prix

Sheet 6021
A1: 6021 | B1: née le 25/11/15 | D1: ARR/ARR
A2: double
D3: =VLOOKUP($C$4,ascendant!$A:$C,2,FALSE) -> 8058
C4: =VLOOKUP($B$6,ascendant!$A:$C,2,FALSE) -> 11209
D5: =VLOOKUP($C$4,ascendant!$A:$C,3,FALSE) -> 5513
B6: =VLOOKUP($A$10,ascendant!$A:$C,2,FALSE) -> 13093
D7: =VLOOKUP($C$8,ascendant!$A:$C,2,FALSE) -> a chercher
C8: =VLOOKUP($B$6,ascendant!$A:$C,3,FALSE) -> 12117
D9: =VLOOKUP($C$8,ascendant!$A:$C,3,FALSE) -> 10005
A10: 16021
D11: =VLOOKUP($C$12,ascendant!$A:$C,2,FALSE) -> inconnu
C12: =VLOOKUP($B$14,ascendant!$A:$C,2,FALSE) -> inconnu
D13: =VLOOKUP($C$12,ascendant!$A:$C,3,FALSE) -> inconnu
B14: =VLOOKUP($A$10,ascendant!A:C,3,FALSE) -> 14004
D15: =VLOOKUP($C$16,ascendant!$A:$C,2,FALSE) -> inconnu
C16: =VLOOKUP($B$14,ascendant!$A:$C,3,FALSE) -> 9645
D17: =VLOOKUP($C$16,ascendant!$A:$C,3,FALSE) -> 4114
A20: nés le | B20: père | C20: numéro | D20: sexe | E20: élevé | F20: sortie le | G20: poids | H20: confo | I20: prix

Sheet 6030
A1: 6030 | B1: née le 3/12/15 | D1: ARR/ARR
A2: double
D3: =VLOOKUP($C$4,ascendant!$A:$C,2,FALSE) -> 96122
C4: =VLOOKUP($B$6,ascendant!$A:$C,2,FALSE) -> 1078
D5: =VLOOKUP($C$4,ascendant!$A:$C,3,FALSE) -> 96081
B6: =VLOOKUP($A$10,ascendant!$A:$C,2,FALSE) -> 12274
D7: =VLOOKUP($C$8,ascendant!$A:$C,2,FALSE) -> a chercher
C8: =VLOOKUP($B$6,ascendant!$A:$C,3,FALSE) -> 8057
D9: =VLOOKUP($C$8,ascendant!$A:$C,3,FALSE) -> 4390
A10: 16030
D11: =VLOOKUP($C$12,ascendant!$A:$C,2,FALSE) -> 8029
C12: =VLOOKUP($B$14,ascendant!$A:$C,2,FALSE) -> 12017
D13: =VLOOKUP($C$12,ascendant!$A:$C,3,FALSE) -> 5513
B14: 14111
D15: =VLOOKUP($C$16,ascendant!$A:$C,2,FALSE) -> 7609
C16: =VLOOKUP($B$14,ascendant!$A:$C,3,FALSE) -> 11051
D17: =VLOOKUP($C$16,ascendant!$A:$C,3,FALSE) -> 8032
A20: nés le | B20: père | C20: numéro | D20: sexe | E20: élevé | F20: sortie le | G20: poids | H20: confo | I20: prix

Sheet 6037
A1: 6037 | B1: née le 5/12/15 | D1: ARR/ARR
A2: triple
D3: =VLOOKUP($C$4,ascendant!$A:$C,2,FALSE) -> inconnu
C4: =VLOOKUP($B$6,ascendant!$A:$C,2,FALSE) -> inconnu
D5: =VLOOKUP($C$4,ascendant!$A:$C,3,FALSE) -> inconnu
B6: =VLOOKUP($A$10,ascendant!$A:$C,2,FALSE) -> inconnu
D7: =VLOOKUP($C$8,ascendant!$A:$C,2,FALSE) -> inconnu
C8: =VLOOKUP($B$6,ascendant!$A:$C,3,FALSE) -> inconnu
D9: =VLOOKUP($C$8,ascendant!$A:$C,3,FALSE) -> inconnu
A10: 16037
D11: =VLOOKUP($C$12,ascendant!$A:$C,2,FALSE) -> 8018
C12: =VLOOKUP($B$14,ascendant!$A:$C,2,FALSE) -> 12072
D13: =VLOOKUP($C$12,ascendant!$A:$C,3,FALSE) -> 8001
B14: =VLOOKUP($A$10,ascendant!A:C,3,FALSE) -> 14053
D15: =VLOOKUP($C$16,ascendant!$A:$C,2,FALSE) -> 9330
C16: =VLOOKUP($B$14,ascendant!$A:$C,3,FALSE) -> 11156
D17: =VLOOKUP($C$16,ascendant!$A:$C,3,FALSE) -> 4390
A20: nés le | B20: père | C20: numéro | D20: sexe | E20: élevé | F20: sortie le | G20: poids | H20: confo | I20: prix

Sheet 6038
A1: 6038 | B1: née le 5/12/15 | D1: ARR/ARR
A2: triple
D3: =VLOOKUP($C$4,ascendant!$A:$C,2,FALSE) -> inconnu
C4: =VLOOKUP($B$6,ascendant!$A:$C,2,FALSE) -> inconnu
D5: =VLOOKUP($C$4,ascendant!$A:$C,3,FALSE) -> inconnu
B6: =VLOOKUP($A$10,ascendant!$A:$C,2,FALSE) -> inconnu
D7: =VLOOKUP($C$8,ascendant!$A:$C,2,FALSE) -> inconnu
C8: =VLOOKUP($B$6,ascendant!$A:$C,3,FALSE) -> inconnu
D9: =VLOOKUP($C$8,ascendant!$A:$C,3,FALSE) -> inconnu
A10: 16038
D11: =VLOOKUP($C$12,ascendant!$A:$C,2,FALSE) -> 8018
C12: =VLOOKUP($B$14,ascendant!$A:$C,2,FALSE) -> 12072
D13: =VLOOKUP($C$12,ascendant!$A:$C,3,FALSE) -> 8001
B14: =VLOOKUP($A$10,ascendant!A:C,3,FALSE) -> 14053
D15: =VLOOKUP($C$16,ascendant!$A:$C,2,FALSE) -> 9330
C16: =VLOOKUP($B$14,ascendant!$A:$C,3,FALSE) -> 11156
D17: =VLOOKUP($C$16,ascendant!$A:$C,3,FALSE) -> 4390
A20: nés le | B20: père | C20: numéro | D20: sexe | E20: élevé | F20: sortie le | G20: poids | H20: confo | I20: prix

Sheet 6049
A1: 6049 | B1: née le 8/12/15 | D1: ARR/???
A2: double
D3: =VLOOKUP($C$4,ascendant!$A:$C,2,FALSE) -> inconnu
C4: =VLOOKUP($B$6,ascendant!$A:$C,2,FALSE) -> inconnu
D5: =VLOOKUP($C$4,ascendant!$A:$C,3,FALSE) -> inconnu
B6: =VLOOKUP($A$10,ascendant!$A:$C,2,FALSE) -> inconnu
D7: =VLOOKUP($C$8,ascendant!$A:$C,2,FALSE) -> inconnu
C8: =VLOOKUP($B$6,ascendant!$A:$C,3,FALSE) -> inconnu
D9: =VLOOKUP($C$8,ascendant!$A:$C,3,FALSE) -> inconnu
A10: 16049
D11: =VLOOKUP($C$12,ascendant!$A:$C,2,FALSE) -> 8058
C12: =VLOOKUP($B$14,ascendant!$A:$C,2,FALSE) -> 12008
D13: =VLOOKUP($C$12,ascendant!$A:$C,3,FALSE) -> 8099
B14: =VLOOKUP($A$10,ascendant!A:C,3,FALSE) -> 13271
D15: =VLOOKUP($C$16,ascendant!$A:$C,2,FALSE) -> 3024
C16: =VLOOKUP($B$14,ascendant!$A:$C,3,FALSE) -> 5577
D17: =VLOOKUP($C$16,ascendant!$A:$C,3,FALSE) -> 3049
A20: nés le | B20: père | C20: numéro | D20: sexe | E20: élevé | F20: sortie le | G20: poids | H20: confo | I20: prix

Sheet 6051
A1: 6051 | B1: née le 9/12/15 | D1: ARR/ARR
A2: simple
D3: =VLOOKUP($C$4,ascendant!$A:$C,2,FALSE) -> inconnu
C4: =VLOOKUP($B$6,ascendant!$A:$C,2,FALSE) -> inconnu
D5: =VLOOKUP($C$4,ascendant!$A:$C,3,FALSE) -> inconnu
B6: =VLOOKUP($A$10,ascendant!$A:$C,2,FALSE) -> inconnu
D7: =VLOOKUP($C$8,ascendant!$A:$C,2,FALSE) -> inconnu
C8: =VLOOKUP($B$6,ascendant!$A:$C,3,FALSE) -> inconnu
D9: =VLOOKUP($C$8,ascendant!$A:$C,3,FALSE) -> inconnu
A10: 16051
D11: =VLOOKUP($C$12,ascendant!$A:$C,2,FALSE) -> 8058
C12: =VLOOKUP($B$14,ascendant!$A:$C,2,FALSE) -> 12008
D13: =VLOOKUP($C$12,ascendant!$A:$C,3,FALSE) -> 8099
B14: =VLOOKUP($A$10,ascendant!A:C,3,FALSE) -> 13232
D15: =VLOOKUP($C$16,ascendant!$A:$C,2,FALSE) -> 7546
C16: =VLOOKUP($B$14,ascendant!$A:$C,3,FALSE) -> 11214
D17: =VLOOKUP($C$16,ascendant!$A:$C,3,FALSE) -> 9473
A20: nés le | B20: père | C20: numéro | D20: sexe | E20: élevé | F20: sortie le | G20: poids | H20: confo | I20: prix

Sheet 6052
A1: 6052 | B1: née le 9/12/15 | D1: ARR/???
A2: triple
D3: =VLOOKUP($C$4,ascendant!$A:$C,2,FALSE) -> inconnu
C4: =VLOOKUP($B$6,ascendant!$A:$C,2,FALSE) -> inconnu
D5: =VLOOKUP($C$4,ascendant!$A:$C,3,FALSE) -> inconnu
B6: =VLOOKUP($A$10,ascendant!$A:$C,2,FALSE) -> inconnu
D7: =VLOOKUP($C$8,ascendant!$A:$C,2,FALSE) -> inconnu
C8: =VLOOKUP($B$6,ascendant!$A:$C,3,FALSE) -> inconnu
D9: =VLOOKUP($C$8,ascendant!$A:$C,3,FALSE) -> inconnu
A10: 16052
D11: =VLOOKUP($C$12,ascendant!$A:$C,2,FALSE) -> inconnu
C12: =VLOOKUP($B$14,ascendant!$A:$C,2,FALSE) -> 6106
D13: =VLOOKUP($C$12,ascendant!$A:$C,3,FALSE) -> inconnu
B14: =VLOOKUP($A$10,ascendant!A:C,3,FALSE) -> 8043
D15: =VLOOKUP($C$16,ascendant!$A:$C,2,FALSE) -> inconnu
C16: =VLOOKUP($B$14,ascendant!$A:$C,3,FALSE) -> 3140
D17: =VLOOKUP($C$16,ascendant!$A:$C,3,FALSE) -> 39
A20: nés le | B20: père | C20: numéro | D20: sexe | E20: élevé | F20: sortie le | G20: poids | H20: confo | I20: prix

Sheet 6064
A1: 6064 | B1: née le 12/12/15 | D1: ARR/ARR
A2: double
D3: =VLOOKUP($C$4,ascendant!$A:$C,2,FALSE) -> inconnu
C4: =VLOOKUP($B$6,ascendant!$A:$C,2,FALSE) -> inconnu
D5: =VLOOKUP($C$4,ascendant!$A:$C,3,FALSE) -> inconnu
B6: =VLOOKUP($A$10,ascendant!$A:$C,2,FALSE) -> inconnu
D7: =VLOOKUP($C$8,ascendant!$A:$C,2,FALSE) -> inconnu
C8: =VLOOKUP($B$6,ascendant!$A:$C,3,FALSE) -> inconnu
D9: =VLOOKUP($C$8,ascendant!$A:$C,3,FALSE) -> inconnu
A10: 16064
D11: =VLOOKUP($C$12,ascendant!$A:$C,2,FALSE) -> 8029
C12: =VLOOKUP($B$14,ascendant!$A:$C,2,FALSE) -> 12017
D13: =VLOOKUP($C$12,ascendant!$A:$C,3,FALSE) -> 5513
B14: =VLOOKUP($A$10,ascendant!A:C,3,FALSE) -> 13285
D15: =VLOOKUP($C$16,ascendant!$A:$C,2,FALSE) -> 6106
C16: =VLOOKUP($B$14,ascendant!$A:$C,3,FALSE) -> 8043
D17: =VLOOKUP($C$16,ascendant!$A:$C,3,FALSE) -> 3140
A20: nés le | B20: père | C20: numéro | D20: sexe | E20: élevé | F20: sortie le | G20: poids | H20: confo | I20: prix

Sheet 6078
A1: 6078 | B1: née le 15/12/15 | D1: ARR/???
A2: triple
D3: =VLOOKUP($C$4,ascendant!$A:$C,2,FALSE) -> inconnu
C4: =VLOOKUP($B$6,ascendant!$A:$C,2,FALSE) -> inconnu
D5: =VLOOKUP($C$4,ascendant!$A:$C,3,FALSE) -> inconnu
B6: =VLOOKUP($A$10,ascendant!$A:$C,2,FALSE) -> inconnu
D7: =VLOOKUP($C$8,ascendant!$A:$C,2,FALSE) -> inconnu
C8: =VLOOKUP($B$6,ascendant!$A:$C,3,FALSE) -> inconnu
D9: =VLOOKUP($C$8,ascendant!$A:$C,3,FALSE) -> inconnu
A10: 16078
D11: =VLOOKUP($C$12,ascendant!$A:$C,2,FALSE) -> 3033
C12: =VLOOKUP($B$14,ascendant!$A:$C,2,FALSE) -> 5341
D13: =VLOOKUP($C$12,ascendant!$A:$C,3,FALSE) -> 2039
B14: =VLOOKUP($A$10,ascendant!A:C,3,FALSE) -> 8014
D15: =VLOOKUP($C$16,ascendant!$A:$C,2,FALSE) -> #N/A
C16: =VLOOKUP($B$14,ascendant!$A:$C,3,FALSE) -> 98647
D17: =VLOOKUP($C$16,ascendant!$A:$C,3,FALSE) -> #N/A
A20: nés le | B20: père | C20: numéro | D20: sexe | E20: élevé | F20: sortie le | G20: poids | H20: confo | I20: prix

Sheet 6081
A1: 6081 | B1: née le 15/12/15 | D1: ARR/ARR
A2: double
D3: =VLOOKUP($C$4,ascendant!$A:$C,2,FALSE) -> inconnu
C4: =VLOOKUP($B$6,ascendant!$A:$C,2,FALSE) -> inconnu
D5: =VLOOKUP($C$4,ascendant!$A:$C,3,FALSE) -> inconnu
B6: =VLOOKUP($A$10,ascendant!$A:$C,2,FALSE) -> inconnu
D7: =VLOOKUP($C$8,ascendant!$A:$C,2,FALSE) -> inconnu
C8: =VLOOKUP($B$6,ascendant!$A:$C,3,FALSE) -> inconnu
D9: =VLOOKUP($C$8,ascendant!$A:$C,3,FALSE) -> inconnu
A10: 16081
D11: =VLOOKUP($C$12,ascendant!$A:$C,2,FALSE) -> 8018
C12: =VLOOKUP($B$14,ascendant!$A:$C,2,FALSE) -> 12072
D13: =VLOOKUP($C$12,ascendant!$A:$C,3,FALSE) -> 8001
B14: =VLOOKUP($A$10,ascendant!A:C,3,FALSE) -> 14070
D15: =VLOOKUP($C$16,ascendant!$A:$C,2,FALSE) -> 7619
C16: =VLOOKUP($B$14,ascendant!$A:$C,3,FALSE) -> 11267
D17: =VLOOKUP($C$16,ascendant!$A:$C,3,FALSE) -> 9327
A20: nés le | B20: père | C20: numéro | D20: sexe | E20: élevé | F20: sortie le | G20: poids | H20: confo | I20: prix

Sheet 6082
A1: 6082 | B1: née le 15/12/15 | D1: ARR/ARR
A2: double
D3: =VLOOKUP($C$4,ascendant!$A:$C,2,FALSE) -> inconnu
C4: =VLOOKUP($B$6,ascendant!$A:$C,2,FALSE) -> inconnu
D5: =VLOOKUP($C$4,ascendant!$A:$C,3,FALSE) -> inconnu
B6: =VLOOKUP($A$10,ascendant!$A:$C,2,FALSE) -> inconnu
D7: =VLOOKUP($C$8,ascendant!$A:$C,2,FALSE) -> inconnu
C8: =VLOOKUP($B$6,ascendant!$A:$C,3,FALSE) -> inconnu
D9: =VLOOKUP($C$8,ascendant!$A:$C,3,FALSE) -> inconnu
A10: 16082
D11: =VLOOKUP($C$12,ascendant!$A:$C,2,FALSE) -> 8018
C12: =VLOOKUP($B$14,ascendant!$A:$C,2,FALSE) -> 12072
D13: =VLOOKUP($C$12,ascendant!$A:$C,3,FALSE) -> 8001
B14: =VLOOKUP($A$10,ascendant!A:C,3,FALSE) -> 14070
D15: =VLOOKUP($C$16,ascendant!$A:$C,2,FALSE) -> 7619
C16: =VLOOKUP($B$14,ascendant!$A:$C,3,FALSE) -> 11267
D17: =VLOOKUP($C$16,ascendant!$A:$C,3,FALSE) -> 9327
A20: nés le | B20: père | C20: numéro | D20: sexe | E20: élevé | F20: sortie le | G20: poids | H20: confo | I20: prix

Sheet 8014
A1: 8014 | B1: née le 01/01/08 | D1: ARR/ARQ
A2: simple
D3: =VLOOKUP($C$4,ascendant!$A:$C,2,FALSE) -> #N/A
C4: =VLOOKUP($B$6,ascendant!$A:$C,2,FALSE) -> 3033
D5: =VLOOKUP($C$4,ascendant!$A:$C,3,FALSE) -> #N/A
B6: =VLOOKUP($A$10,ascendant!$A:$C,2,FALSE) -> 5341
D7: =VLOOKUP($C$8,ascendant!$A:$C,2,FALSE) -> #N/A
C8: =VLOOKUP($B$6,ascendant!$A:$C,3,FALSE) -> 2039
D9: =VLOOKUP($C$8,ascendant!$A:$C,3,FALSE) -> #N/A
A10: 8014
D11: =VLOOKUP($C$12,ascendant!$A:$C,2,FALSE) -> #N/A
C12: =VLOOKUP($B$14,ascendant!$A:$C,2,FALSE) -> #N/A
D13: =VLOOKUP($C$12,ascendant!$A:$C,3,FALSE) -> #N/A
B14: =VLOOKUP($A$10,ascendant!A:C,3,FALSE) -> 98647
D15: =VLOOKUP($C$16,ascendant!$A:$C,2,FALSE) -> #N/A
C16: =VLOOKUP($B$14,ascendant!$A:$C,3,FALSE) -> #N/A
D17: =VLOOKUP($C$16,ascendant!$A:$C,3,FALSE) -> #N/A
A20: nés le | B20: père | C20: numéro | D20: sexe | E20: élevé | F20: sortie le | G20: poids | H20: confo | I20: prix
A21: 40185 | C21: 165 | D21: M | E21: S
A22: 40185 | C22: MN
A23: 40185 | C23: MN
A24: 40501 | C24: 1320 | D24: M | E24: D
A25: 40501 | C25: 1321 | D25: F | E25: D
A26: 40791 | C26: 2381 | D26: F | E26: S
A27: 40791 | C27: MN
A28: 41153 | B28: 1209 | C28: 3026 | D28: F | E28: D
A29: 41153 | B29: 1209 | C29: 3027 | D29: M | E29: D
A30: 41537 | B30: 2008 | C30: 4105 | D30: M | E30: S
A31: 41888 | C31: 5189 | D31: M | E31: D
A32: 41888 | C32: 5190 | D32: F | E32: D
A33: 42353 | B33: Inconnu | C33: 6078 | D33: F | E33: S | F33: Repro
A34: 42353 | B34: Inconnu | C34: MN
A35: 42353 | B35: Inconnu | C35: mort 2j
A36: 42694 | C36: 7023 | D36: F | E36: D
A37: 42694 | C37: 7024 | D37: F | E37: D

Sheet 6001
A1: 6001 | B1: né le 22/10/15 | D1: ARR/ARQ
A2: triple
D3: =VLOOKUP($C$4,ascendant!$A:$C,2,FALSE) -> 8058
C4: =VLOOKUP($B$6,ascendant!$A:$C,2,FALSE) -> 11209
D5: =VLOOKUP($C$4,ascendant!$A:$C,3,FALSE) -> 5513
B6: =VLOOKUP($A$10,ascendant!$A:$C,2,FALSE) -> 13093
D7: =VLOOKUP($C$8,ascendant!$A:$C,2,FALSE) -> a chercher
C8: =VLOOKUP($B$6,ascendant!$A:$C,3,FALSE) -> 12117
D9: =VLOOKUP($C$8,ascendant!$A:$C,3,FALSE) -> 10005
A10: 16001
D11: =VLOOKUP($C$12,ascendant!$A:$C,2,FALSE) -> #N/A
C12: =VLOOKUP($B$14,ascendant!$A:$C,2,FALSE) -> #N/A
D13: =VLOOKUP($C$12,ascendant!$A:$C,3,FALSE) -> #N/A
B14: =VLOOKUP($A$10,ascendant!A:C,3,FALSE) -> 8226
D15: =VLOOKUP($C$16,ascendant!$A:$C,2,FALSE) -> #N/A
C16: =VLOOKUP($B$14,ascendant!$A:$C,3,FALSE) -> #N/A
D17: =VLOOKUP($C$16,ascendant!$A:$C,3,FALSE) -> #N/A

Sheet 6005
A1: 6005 | B1: né le 25/10/15 | D1: ARR/ARR
A2: double
D3: =VLOOKUP($C$4,ascendant!$A:$C,2,FALSE) -> 6111
C4: =VLOOKUP($B$6,ascendant!$A:$C,2,FALSE) -> 7619
D5: =VLOOKUP($C$4,ascendant!$A:$C,3,FALSE) -> 5348
B6: =VLOOKUP($A$10,ascendant!$A:$C,2,FALSE) -> 12277
D7: =VLOOKUP($C$8,ascendant!$A:$C,2,FALSE) -> 7561
C8: =VLOOKUP($B$6,ascendant!$A:$C,3,FALSE) -> 11166
D9: =VLOOKUP($C$8,ascendant!$A:$C,3,FALSE) -> 8057
A10: 16005
D11: =VLOOKUP($C$12,ascendant!$A:$C,2,FALSE) -> 8029
C12: =VLOOKUP($B$14,ascendant!$A:$C,2,FALSE) -> 12017
D13: =VLOOKUP($C$12,ascendant!$A:$C,3,FALSE) -> 5513
B14: =VLOOKUP($A$10,ascendant!A:C,3,FALSE) -> 13276
D15: =VLOOKUP($C$16,ascendant!$A:$C,2,FALSE) -> 7546
C16: =VLOOKUP($B$14,ascendant!$A:$C,3,FALSE) -> 11065
D17: =VLOOKUP($C$16,ascendant!$A:$C,3,FALSE) -> 9527

Sheet 5093
A1: 5093 | B1: né le 4/10/15 | D1: ARR/ARR | E1: noir
A2: Triple
D3: =VLOOKUP($C$4,ascendant!$A:$C,2,FALSE) -> 1660
C4: =VLOOKUP($B$6,ascendant!$A:$C,2,FALSE) -> 6701
D5: =VLOOKUP($C$4,ascendant!$A:$C,3,FALSE) -> 3022
B6: =VLOOKUP($A$10,ascendant!$A:$C,2,FALSE) -> 12065
D7: =VLOOKUP($C$8,ascendant!$A:$C,2,FALSE) -> 6001
C8: =VLOOKUP($B$6,ascendant!$A:$C,3,FALSE) -> 10049
D9: =VLOOKUP($C$8,ascendant!$A:$C,3,FALSE) -> 4480
A10: 15093
D11: =VLOOKUP($C$12,ascendant!$A:$C,2,FALSE) -> 4378
C12: =VLOOKUP($B$14,ascendant!$A:$C,2,FALSE) -> 6547
D13: =VLOOKUP($C$12,ascendant!$A:$C,3,FALSE) -> 3056
B14: =VLOOKUP($A$10,ascendant!A:C,3,FALSE) -> 11076
D15: =VLOOKUP($C$16,ascendant!$A:$C,2,FALSE) -> inconnu
C16: =VLOOKUP($B$14,ascendant!$A:$C,3,FALSE) -> 7005
D17: =VLOOKUP($C$16,ascendant!$A:$C,3,FALSE) -> 4690

Sheet 3235
A1: 3235 | B1: né le 30/08/13 | D1: ARR/ARR
A2: Triple
D3: =VLOOKUP($C$4,ascendant!$A:$C,2,FALSE) -> a chercher
C4: =VLOOKUP($B$6,ascendant!$A:$C,2,FALSE) -> 8029
D5: =VLOOKUP($C$4,ascendant!$A:$C,3,FALSE) -> 2034
B6: =VLOOKUP($A$10,ascendant!$A:$C,2,FALSE) -> 12017
D7: =VLOOKUP($C$8,ascendant!$A:$C,2,FALSE) -> 3658
C8: =VLOOKUP($B$6,ascendant!$A:$C,3,FALSE) -> 5513
D9: =VLOOKUP($C$8,ascendant!$A:$C,3,FALSE) -> 3068
A10: 13235
D11: =VLOOKUP($C$12,ascendant!$A:$C,2,FALSE) -> 6111
C12: =VLOOKUP($B$14,ascendant!$A:$C,2,FALSE) -> 7619
D13: =VLOOKUP($C$12,ascendant!$A:$C,3,FALSE) -> 5348
B14: =VLOOKUP($A$10,ascendant!A:C,3,FALSE) -> 9691
D15: =VLOOKUP($C$16,ascendant!$A:$C,2,FALSE) -> 4378
C16: =VLOOKUP($B$14,ascendant!$A:$C,3,FALSE) -> 7384
D17: =VLOOKUP($C$16,ascendant!$A:$C,3,FALSE) -> 4356

Sheet ascendant
A1: numéro | B1: père | C1: mère
A2: 10059 | B2: inconnu | C2: 6490
A3: 3658 | B3: 94112 | C3: 1038
A4: 3738 | B4: a chercher | C4: 93817
A5: 4350 | B5: a chercher | C5: 94628
A6: 4378 | B6: 1601 | C6: 1647
A7: 4381 | B7: 1601 | C7: 1647
A8: 5341 | B8: 3033 | C8: 2039
A9: 5513 | B9: 3658 | C9: 3068
A10: 5577 | B10: 3024 | C10: 3049
A11: 6433 | B11: inconnu | C11: 4326
A12: 6547 | B12: 4378 | C12: 3056
A13: 6701 | B13: 1660 | C13: 3022
A14: 6701 | B14: 5038 | C14: 2085
A15: 7005 | B15: inconnu | C15: 4690
A16: 7331 | B16: 3658 | C16: 3629
A17: 7354 | B17: 3658 | C17: 91654
A18: 7355 | B18: 3658 | C18: 91654
A19: 7381 | B19: 3658 | C19: 4648
A20: 7384 | B20: 4378 | C20: 4356
A21: 7546 | B21: 5341 | C21: 2077
A22: 7619 | B22: 6111 | C22: 5348
A23: 8001 | B23: a chercher | C23: 5475
A24: 8007 | B24: 5341 | C24: 4428
A25: 8008 | B25: 5341 | C25: 4428
A26: 8014 | B26: 5341 | C26: 98647
A27: 8018 | B27: a chercher | C27: 1647
A28: 8029 | B28: a chercher | C28: 2034
A29: 8032 | B29: inconnu | C29: 3758
A30: 8043 | B30: 6106 | C30: 3140
A31: 8058 | B31: a chercher | C31: 4390
A32: 8099 | B32: a chercher | C32: 4356
A33: 9330 | B33: a chercher | C33: 5513
A34: 9333 | B34: 6701 | C34: 4381
A35: 9442 | B35: 6701 | C35: 5382
A36: 9455 | B36: a chercher | C36: 5304
A37: 9473 | B37: a chercher | C37: 5684
A38: 9587 | B38: inconnu | C38: 3738
A39: 9637 | B39: a chercher | C39: 1640
A40: 9645 | B40: inconnu | C40: 4114
A41: 9691 | B41: 7619 | C41: 7384
A42: 10049 | B42: 6001 | C42: 4480
A43: 11021 | B43: 7546 | C43: 9388
A44: 11051 | B44: 7609 | C44: 8032
A45: 11064 | B45: 7546 | C45: 9527
A46: 11065 | B46: 7546 | C46: 9527
A47: 11076 | B47: 6547 | C47: 7005
A48: 11090 | B48: 8058 | C48: 4361
A49: 11156 | B49: 9330 | C49: 4390
A50: 11165 | B50: 9330 | C50: 4350
A51: 11166 | B51: 7561 | C51: 8057
A52: 11200 | B52: 7619 | C52: 9309
... A61: 12078 | B61: 9455 | C61: 9637
A62: 12117 | B62: a chercher | C62: 10005
A63: 12274 | B63: 1078 | C63: 8057
A64: 12277 | B64: 7619 | C64: 11166
A65: 13093 | B65: 11209 | C65: 12117
A66: 13226 | B66: 11209 | C66: 12078
A67: 13232 | B67: 12008 | C67: 11214
A68: 13235 | B68: 12017 | C68: 9691
A69: 13237 | B69: 12017 | C69: 9691
A70: 13238 | B70: 12008 | C70: 8007
A71: 13250 | B71: 12072 | C71: 11200
A72: 13257 | B72: 12008 | C72: 7354
A73: 13262 | B73: inconnu | C73: 9587
A74: 13265 | B74: 12072 | C74: 11165
A75: 13271 | B75: 12008 | C75: 5577
A76: 13274 | B76: 12072 | C76: 11090
A77: 13275 | B77: 12017 | C77: 11065
A78: 13276 | B78: 12017 | C78: 11065
A79: 13284 | B79: 12017 | C79: 8043
A80: 13285 | B80: 12017 | C80: 8043
A81: 14004 | B81: inconnu | C81: 9645
A82: 14011 | B82: 12017 | C82: 11064
A83: 14012 | B83: 12017 | C83: 11064
A84: 14032 | B84: 12017 | C84: 9333
A85: 14033 | B85: 12017 | C85: 9333
A86: 14053 | B86: 12072 | C86: 11156
A87: 14070 | B87: 12072 | C87: 11267
A88: 14071 | B88: 12072 | C88: 11267
A89: 14075 | B89: inconnu | C89: 10059
A90: 14083 | B90: 12008 | C90: 7331
A91: 14099 | B91: 12008 | C91: 7381
A92: 14100 | B92: 12008 | C92: 7381
A93: 14111 | B93: 12017 | C93: 11051
A94: 14152 | B94: 12017 | C94: 9450
A95: 14163 | B95: inconnu | C95: 9309
A96: 14164 | B96: inconnu | C96: 9309
A97: 14166 | B97: inconnu | C97: 11274
A98: 14167 | B98: inconnu | C98: 11274
A99: 14168 | B99: inconnu | C99: 8001
A100: 14172 | B100: inconnu | C100: 8043
A101: 14177 | B101: 12274 | C101: 9442
A102: 14182 | B102: inconnu | C102: 7355
A103: 14183 | B103: inconnu | C103: 7355
A104: 14185 | B104: inconnu | C104: 6433
A105: 15001 | B105: 12277 | C105: 11021
A106: 15006 | B106: inconnu | C106: 8032
A107: 15008 | B107: 12277 | C107: 7381
A108: 15011 | B108: 12277 | C108: 8008
...
