Workbook

Sheet Paramètres
A1: Paramètres de suivi (modifiable)
A3: Date de référence (aujourd'hui) | B3: =TODAY()
A4: Délai 1er entretien (mois) | B4: 12
A5: Périodicité entretien (mois) | B5: 48
A6: Périodicité bilan récapitulatif (mois) | B6: 96
A7: Âge indicatif mi-carrière (ans) | B7: 45
A8: Âge indicatif fin de carrière (ans) | B8: 60
A9: Fenêtre alerte (jours) | B9: 90

Sheet Suivi
A1: Nom | B1: Prénom | C1: Fonction / poste | D1: Date d'intégration | E1: Date de naissance | F1: Âge (ans) | G1: Ancienneté (ans) | H1: 1er entretien (échéance) | I1: Dernier entretien (date) | J1: Type du dernier entretien | K1: Prochain entretien (échéance) | L1: Bilan 8 ans (échéance) | M1: Mi-carrière concerné ? | N1: Fin de carrière concerné ? | O1: Entretien à planifier (type) | P1: Date planifiée | Q1: Réalisé ? | R1: Date réalisé | S1: Compte-rendu rédigé ? | T1: Compte-rendu signé ? | U1: Thèmes abordés (résumé) | V1: Actions / formations à prévoir | W1: Responsable action | X1: Échéance action | Y1: Statut action | Z1: Commentaires
F2: =IF($E2="","",DATEDIF($E2,Paramètres!$B$3,"Y")) | G2: =IF($D2="","",DATEDIF($D2,Paramètres!$B$3,"Y")) | H2: =IF($D2="","",EDATE($D2,Paramètres!$B$4)) | K2: =IF($D2="","",IF($I2="",$H2,EDATE($I2,Paramètres!$B$5))) | L2: =IF($D2="","",EDATE($D2,Paramètres!$B$6)) | M2: =IF($F2="","",IF($F2>=Paramètres!$B$7,"Oui","Non")) | N2: =IF($F2="","",IF($F2>=Paramètres!$B$8,"Oui","Non")) | O2: =IF($D2="","",IF($I2="", "Parcours (1ère année)",IF(Paramètres!$B$3>=($L2-Paramètres!$B$9), "Bilan récapitulatif (8 ans)",IF(Paramètres!$B$3>=($K2-Paramètres!$B$9), "Parcours (tous les 4 ans)",IF($N2="Oui","Fin de carrière",IF($M2="Oui","Mi-carrière",""))))))
F3: =IF($E3="","",DATEDIF($E3,Paramètres!$B$3,"Y")) | G3: =IF($D3="","",DATEDIF($D3,Paramètres!$B$3,"Y")) | H3: =IF($D3="","",EDATE($D3,Paramètres!$B$4)) | K3: =IF($D3="","",IF($I3="",$H3,EDATE($I3,Paramètres!$B$5))) | L3: =IF($D3="","",EDATE($D3,Paramètres!$B$6)) | M3: =IF($F3="","",IF($F3>=Paramètres!$B$7,"Oui","Non")) | N3: =IF($F3="","",IF($F3>=Paramètres!$B$8,"Oui","Non")) | O3: =IF($D3="","",IF($I3="", "Parcours (1ère année)",IF(Paramètres!$B$3>=($L3-Paramètres!$B$9), "Bilan récapitulatif (8 ans)",IF(Paramètres!$B$3>=($K3-Paramètres!$B$9), "Parcours (tous les 4 ans)",IF($N3="Oui","Fin de carrière",IF($M3="Oui","Mi-carrière",""))))))
F4: =IF($E4="","",DATEDIF($E4,Paramètres!$B$3,"Y")) | G4: =IF($D4="","",DATEDIF($D4,Paramètres!$B$3,"Y")) | H4: =IF($D4="","",EDATE($D4,Paramètres!$B$4)) | K4: =IF($D4="","",IF($I4="",$H4,EDATE($I4,Paramètres!$B$5))) | L4: =IF($D4="","",EDATE($D4,Paramètres!$B$6)) | M4: =IF($F4="","",IF($F4>=Paramètres!$B$7,"Oui","Non")) | N4: =IF($F4="","",IF($F4>=Paramètres!$B$8,"Oui","Non")) | O4: =IF($D4="","",IF($I4="", "Parcours (1ère année)",IF(Paramètres!$B$3>=($L4-Paramètres!$B$9), "Bilan récapitulatif (8 ans)",IF(Paramètres!$B$3>=($K4-Paramètres!$B$9), "Parcours (tous les 4 ans)",IF($N4="Oui","Fin de carrière",IF($M4="Oui","Mi-carrière",""))))))
F5: =IF($E5="","",DATEDIF($E5,Paramètres!$B$3,"Y")) | G5: =IF($D5="","",DATEDIF($D5,Paramètres!$B$3,"Y")) | H5: =IF($D5="","",EDATE($D5,Paramètres!$B$4)) | K5: =IF($D5="","",IF($I5="",$H5,EDATE($I5,Paramètres!$B$5))) | L5: =IF($D5="","",EDATE($D5,Paramètres!$B$6)) | M5: =IF($F5="","",IF($F5>=Paramètres!$B$7,"Oui","Non")) | N5: =IF($F5="","",IF($F5>=Paramètres!$B$8,"Oui","Non")) | O5: =IF($D5="","",IF($I5="", "Parcours (1ère année)",IF(Paramètres!$B$3>=($L5-Paramètres!$B$9), "Bilan récapitulatif (8 ans)",IF(Paramètres!$B$3>=($K5-Paramètres!$B$9), "Parcours (tous les 4 ans)",IF($N5="Oui","Fin de carrière",IF($M5="Oui","Mi-carrière",""))))))
F6: =IF($E6="","",DATEDIF($E6,Paramètres!$B$3,"Y")) | G6: =IF($D6="","",DATEDIF($D6,Paramètres!$B$3,"Y")) | H6: =IF($D6="","",EDATE($D6,Paramètres!$B$4)) | K6: =IF($D6="","",IF($I6="",$H6,EDATE($I6,Paramètres!$B$5))) | L6: =IF($D6="","",EDATE($D6,Paramètres!$B$6)) | M6: =IF($F6="","",IF($F6>=Paramètres!$B$7,"Oui","Non")) | N6: =IF($F6="","",IF($F6>=Paramètres!$B$8,"Oui","Non")) | O6: =IF($D6="","",IF($I6="", "Parcours (1ère année)",IF(Paramètres!$B$3>=($L6-Paramètres!$B$9), "Bilan récapitulatif (8 ans)",IF(Paramètres!$B$3>=($K6-Paramètres!$B$9), "Parcours (tous les 4 ans)",IF($N6="Oui","Fin de carrière",IF($M6="Oui","Mi-carrière",""))))))
F7: =IF($E7="","",DATEDIF($E7,Paramètres!$B$3,"Y")) | G7: =IF($D7="","",DATEDIF($D7,Paramètres!$B$3,"Y")) | H7: =IF($D7="","",EDATE($D7,Paramètres!$B$4)) | K7: =IF($D7="","",IF($I7="",$H7,EDATE($I7,Paramètres!$B$5))) | L7: =IF($D7="","",EDATE($D7,Paramètres!$B$6)) | M7: =IF($F7="","",IF($F7>=Paramètres!$B$7,"Oui","Non")) | N7: =IF($F7="","",IF($F7>=Paramètres!$B$8,"Oui","Non")) | O7: =IF($D7="","",IF($I7="", "Parcours (1ère année)",IF(Paramètres!$B$3>=($L7-Paramètres!$B$9), "Bilan récapitulatif (8 ans)",IF(Paramètres!$B$3>=($K7-Paramètres!$B$9), "Parcours (tous les 4 ans)",IF($N7="Oui","Fin de carrière",IF($M7="Oui","Mi-carrière",""))))))
F8: =IF($E8="","",DATEDIF($E8,Paramètres!$B$3,"Y")) | G8: =IF($D8="","",DATEDIF($D8,Paramètres!$B$3,"Y")) | H8: =IF($D8="","",EDATE($D8,Paramètres!$B$4)) | K8: =IF($D8="","",IF($I8="",$H8,EDATE($I8,Paramètres!$B$5))) | L8: =IF($D8="","",EDATE($D8,Paramètres!$B$6)) | M8: =IF($F8="","",IF($F8>=Paramètres!$B$7,"Oui","Non")) | N8: =IF($F8="","",IF($F8>=Paramètres!$B$8,"Oui","Non")) | O8: =IF($D8="","",IF($I8="", "Parcours (1ère année)",IF(Paramètres!$B$3>=($L8-Paramètres!$B$9), "Bilan récapitulatif (8 ans)",IF(Paramètres!$B$3>=($K8-Paramètres!$B$9), "Parcours (tous les 4 ans)",IF($N8="Oui","Fin de carrière",IF($M8="Oui","Mi-carrière",""))))))
F9: =IF($E9="","",DATEDIF($E9,Paramètres!$B$3,"Y")) | G9: =IF($D9="","",DATEDIF($D9,Paramètres!$B$3,"Y")) | H9: =IF($D9="","",EDATE($D9,Paramètres!$B$4)) | K9: =IF($D9="","",IF($I9="",$H9,EDATE($I9,Paramètres!$B$5))) | L9: =IF($D9="","",EDATE($D9,Paramètres!$B$6)) | M9: =IF($F9="","",IF($F9>=Paramètres!$B$7,"Oui","Non")) | N9: =IF($F9="","",IF($F9>=Paramètres!$B$8,"Oui","Non")) | O9: =IF($D9="","",IF($I9="", "Parcours (1ère année)",IF(Paramètres!$B$3>=($L9-Paramètres!$B$9), "Bilan récapitulatif (8 ans)",IF(Paramètres!$B$3>=($K9-Paramètres!$B$9), "Parcours (tous les 4 ans)",IF($N9="Oui","Fin de carrière",IF($M9="Oui","Mi-carrière",""))))))
F10: =IF($E10="","",DATEDIF($E10,Paramètres!$B$3,"Y")) | G10: =IF($D10="","",DATEDIF($D10,Paramètres!$B$3,"Y")) | H10: =IF($D10="","",EDATE($D10,Paramètres!$B$4)) | K10: =IF($D10="","",IF($I10="",$H10,EDATE($I10,Paramètres!$B$5))) | L10: =IF($D10="","",EDATE($D10,Paramètres!$B$6)) | M10: =IF($F10="","",IF($F10>=Paramètres!$B$7,"Oui","Non")) | N10: =IF($F10="","",IF($F10>=Paramètres!$B$8,"Oui","Non")) | O10: =IF($D10="","",IF($I10="", "Parcours (1ère année)",IF(Paramètres!$B$3>=($L10-Paramètres!$B$9), "Bilan récapitulatif (8 ans)",IF(Paramètres!$B$3>=($K10-Paramètres!$B$9), "Parcours (tous les 4 ans)",IF($N10="Oui","Fin de carrière",IF($M10="Oui","Mi-carrière",""))))))
F11: =IF($E11="","",DATEDIF($E11,Paramètres!$B$3,"Y")) | G11: =IF($D11="","",DATEDIF($D11,Paramètres!$B$3,"Y")) | H11: =IF($D11="","",EDATE($D11,Paramètres!$B$4)) | K11: =IF($D11="","",IF($I11="",$H11,EDATE($I11,Paramètres!$B$5))) | L11: =IF($D11="","",EDATE($D11,Paramètres!$B$6)) | M11: =IF($F11="","",IF($F11>=Paramètres!$B$7,"Oui","Non")) | N11: =IF($F11="","",IF($F11>=Paramètres!$B$8,"Oui","Non")) | O11: =IF($D11="","",IF($I11="", "Parcours (1ère année)",IF(Paramètres!$B$3>=($L11-Paramètres!$B$9), "Bilan récapitulatif (8 ans)",IF(Paramètres!$B$3>=($K11-Paramètres!$B$9), "Parcours (tous les 4 ans)",IF($N11="Oui","Fin de carrière",IF($M11="Oui","Mi-carrière",""))))))
F12: =IF($E12="","",DATEDIF($E12,Paramètres!$B$3,"Y")) | G12: =IF($D12="","",DATEDIF($D12,Paramètres!$B$3,"Y")) | H12: =IF($D12="","",EDATE($D12,Paramètres!$B$4)) | K12: =IF($D12="","",IF($I12="",$H12,EDATE($I12,Paramètres!$B$5))) | L12: =IF($D12="","",EDATE($D12,Paramètres!$B$6)) | M12: =IF($F12="","",IF($F12>=Paramètres!$B$7,"Oui","Non")) | N12: =IF($F12="","",IF($F12>=Paramètres!$B$8,"Oui","Non")) | O12: =IF($D12="","",IF($I12="", "Parcours (1ère année)",IF(Paramètres!$B$3>=($L12-Paramètres!$B$9), "Bilan récapitulatif (8 ans)",IF(Paramètres!$B$3>=($K12-Paramètres!$B$9), "Parcours (tous les 4 ans)",IF($N12="Oui","Fin de carrière",IF($M12="Oui","Mi-carrière",""))))))
F13: =IF($E13="","",DATEDIF($E13,Paramètres!$B$3,"Y")) | G13: =IF($D13="","",DATEDIF($D13,Paramètres!$B$3,"Y")) | H13: =IF($D13="","",EDATE($D13,Paramètres!$B$4)) | K13: =IF($D13="","",IF($I13="",$H13,EDATE($I13,Paramètres!$B$5))) | L13: =IF($D13="","",EDATE($D13,Paramètres!$B$6)) | M13: =IF($F13="","",IF($F13>=Paramètres!$B$7,"Oui","Non")) | N13: =IF($F13="","",IF($F13>=Paramètres!$B$8,"Oui","Non")) | O13: =IF($D13="","",IF($I13="", "Parcours (1ère année)",IF(Paramètres!$B$3>=($L13-Paramètres!$B$9), "Bilan récapitulatif (8 ans)",IF(Paramètres!$B$3>=($K13-Paramètres!$B$9), "Parcours (tous les 4 ans)",IF($N13="Oui","Fin de carrière",IF($M13="Oui","Mi-carrière",""))))))
... F500: =IF($E500="","",DATEDIF($E500,Paramètres!$B$3,"Y")) | G500: =IF($D500="","",DATEDIF($D500,Paramètres!$B$3,"Y")) | H500: =IF($D500="","",EDATE($D500,Paramètres!$B$4)) | K500: =IF($D500="","",IF($I500="",$H500,EDATE($I500,Paramètres!$B$5))) | L500: =IF($D500="","",EDATE($D500,Paramètres!$B$6)) | M500: =IF($F500="","",IF($F500>=Paramètres!$B$7,"Oui","Non")) | N500: =IF($F500="","",IF($F500>=Paramètres!$B$8,"Oui","Non")) | O500: =IF($D500="","",IF($I500="", "Parcours (1ère année)",IF(Paramètres!$B$3>=($L500-Paramètres!$B$9), "Bilan récapitulatif (8 ans)",IF(Paramètres!$B$3>=($K500-Paramètres!$B$9), "Parcours (tous les 4 ans)",IF($N500="Oui","Fin de carrière",IF($M500="Oui","Mi-carrière",""))))))

Sheet Alertes
A1: Tableau de pilotage – Échéances et retards
A3: Indicateurs (basés sur l'onglet Suivi et la Date de référence)
A4: Indicateur | B4: Valeur
A5: Effectif suivi (lignes avec date d’intégration) | B5: =COUNTIF(Suivi!$D:$D,">0")-1
A6: Entretiens en retard | B6: =COUNTIFS(Suivi!$D:$D,">0",Suivi!$K:$K,"<"&Paramètres!$B$3,Suivi!$Q:$Q,"<>Oui")
A7: Entretiens à faire sous la fenêtre d’alerte | B7: =COUNTIFS(Suivi!$D:$D,">0",Suivi!$K:$K,">="&Paramètres!$B$3,Suivi!$K:$K,"<="&(Paramètres!$B$3+Paramètres!$B$9),Suivi!$Q:$Q,"<>Oui")
A8: Bilans 8 ans à faire sous la fenêtre d’alerte | B8: =COUNTIFS(Suivi!$D:$D,">0",Suivi!$L:$L,">="&Paramètres!$B$3,Suivi!$L:$L,"<="&(Paramètres!$B$3+Paramètres!$B$9))
A9: Salariés concernés mi-carrière (≥ seuil) | B9: =COUNTIF(Suivi!$M:$M,"Oui")
A10: Salariés concernés fin de carrière (≥ seuil) | B10: =COUNTIF(Suivi!$N:$N,"Oui")
A13: Légende (onglet Suivi)
A14: Rouge : entretien en retard (selon prochaine échéance)
A15: Jaune : entretien à réaliser sous la fenêtre d’alerte (par défaut 90 jours)
A16: Seuils et périodicités modifiables dans l’onglet Paramètres.
