Workbook
Name Segment_Alignement_stratégique: #N/A
Name Segment_Complexité___risque: #N/A
Name Segment_Engagement_politique: #N/A
Name Segment_Impact_attendu: #N/A
Name Segment_Priorité: #N/A
Name Segment_Ressources_dispo: #N/A
Name Segment_Urgence_échéance: #N/A

Sheet Projets 2025 (2)
R1: PLANIFICATION 2025 | AE1: FINANCES
A2: No. | B2: Engagements (CFA) | C2: Nom du projet | D2: Envergure du projet | E2: Premier grand jalon du projet | F2: Période du période (trimestre) | G2: Division | H2: Ressources humaines : as-tu les ressouces humaines pour livrer le projet | I2: Ressources financières : as-tu les ressources financières pour mener à bien le projet | J2: / | K2: Date de fin | L2: Priorité | M2: Matrice | N2: Promoteur·ice | O2: Porteur·e | P2: Équipe-projet | Q2: Notes | R2: Janvier | S2: Février | T2: Mars | U2: Avril | V2: Mai | W2: Juin | X2: Juillet | Y2: Août | Z2: Septembre | AA2: Octobre | AB2: Novembre | AC2: Décembre | AD2: Total | AE2: Projections BF non taggées | AF2: Notes | AG2: Décision suggérée 23/07/2025 | AH2: Commentaires | AI2: Théma
A3: 1 | B3: Déployer des mesures pour favoriser l'inclusion​ | C3: Consultation sur les conditions de succès visant à assurer une intégration harmonieuse des ressources dédiées aux personnes en situation d’itinérance dans les quartiers de la métropole | G3: Stratégie | J3: 45481 | K3: 45838 | L3: P1 | M3: PRIORITÉ STRATÉGIQUE | N3: Andréanne | O3: Annie Lar. | P3: - | R3: 60 | S3: 60 | T3: 0 | U3: 0 | V3: 10 | W3: 20 | X3: 0 | Y3: 0 | Z3: 0 | AA3: 0 | AB3: 0 | AC3: 0 | AD3: =SUM(R3:AC3) -> 150 | AE3: 0 | AF3: Il est possible que des projets additionnels découlent du rapport qui sera produit par l'OCPM. Ceux-ci pourraient engendrer des dépenses supplémentaires imprévues, mais il est probable que les répercussions soient surtout sur l'année financière 2026. | AG3: Terminé
A4: 2 | B4: Déployer des mesures pour favoriser la cohabitation sociale​​ | C4: Politique d'accès aux services municipaux sans peur | G4: Stratégie | L4: P3 | M4: PRIORITÉ STRATÉGIQUE | N4: Andréanne | O4: Marie-Claude | P4: Oui | Q4: Gestion de la carte sans peur par Dina H. Audrey B Audrey M Patricia H | R4: 70 | S4: 70 | T4: 70 | U4: 70 | V4: 70 | W4: 35 | X4: 20 | Y4: 50 | Z4: 50 | AA4: 50 | AB4: 20 | AC4: 10 | AD4: =SUM(R4:AC4) -> 585 | AE4: 0 | AF4: Il est probable que la révision de la Politique d'accès aux services municipaux sans peur engendre le déploiement de nouvelles initiatives qui devront être financées. Cela devrait toutefois surtout se répercuter sur l'année financière 2026. | AG4: Orientations attendues
A5: 4 | B5: Déployer des mesures pour intervenir en matière d'itinérance​ | C5: Par et pour les jeunes 2025-2026 | G5: Programmes | J5: 01-01-2025 | K5: 31-01-2027 | L5: P1 | M5: DO IT | N5: Karine-Myrgianie | O5: Anne Laurence | P5: Mourad Myriam Cateline | R5: 40 | S5: 60 | T5: 70 | U5: 70 | V5: 50 | W5: 50 | X5: 50 | Y5: 50 | Z5: 70 | AA5: 70 | AB5: 70 | AC5: 45 | AD5: =SUM(R5:AC5) -> 695 | AE5: 25000 | AF5: 25 k $ pour offre de service (similaire a 2023) en contrat de service : clé budgétaire encore inconnue (mais approuvé par Jessica). 1M$ du MSP (FBSC) permettant de financer les projets. Total du projet : 1 025 000$ | AG5: En cours
A6: 5 | B6: Réduire les inégalités et lutter contre les discriminations​ | C6: Forum montréalais pour la lutte contre la violence 2025 | G6: Intervention territoriale | J6: 45716 | K6: 45777 | L6: P1 | M6: DO IT | N6: Dina | O6: Cateline | P6: Oui | Q6: événement jour J : 26 avril . | R6: 70 | S6: 85 | T6: 100 | U6: 130 | V6: 20 | W6: 5 | AD6: =SUM(R6:AC6) -> 410 | AE6: 70000 | AF6: clé budgétaire encore inconnue. 70 k$ inclut logistique (salle, traiteur, autres) // demande approuvé par JLB et MJM | AG6: Terminé
A7: 6 | C7: Bilan des réalisations en accessibilité universelle 2024 de la Ville de Montréal | G7: Stratégie | L7: P1 | M7: DO IT | N7: Andréanne | O7: Alix | P7: Annie Laf Cecilia | Q7: Transfert au BC en 2026 | R7: 70 | S7: 35 | T7: 50 | U7: 70 | V7: 70 | W7: 30 | X7: 10 | Y7: 10 | AD7: =SUM(R7:AC7) -> 345 | AG7: En cours
A8: 7 | B8: Soutenir l'aménagement de quartiers inclusifs et résilients (QIR)​ | C8: Plan municipal en accessibilité universelle 2024-2030 | G8: Stratégie | L8: P1 | M8: DO IT | N8: Andréanne | O8: Annie Laf. | P8: Alix Cecilia | Q8: Incluant le transfert vers le BC | AD8: =SUM(R8:AC8) -> 0 | AG8: Terminé | AH8: Transfert en cours au BdC
A9: 8 | C9: Fonds dédiés aux projets de développement d'expertise et de renforcement de capacités en accessibilité universelle (FDPAU) 2025 | G9: Programmes | J9: 45748 | K9: 46082 | L9: P2 | M9: DELEGATE | N9: Thibault | O9: Jean-Pierre | P9: - | R9: 40 | S9: 35 | T9: 40 | U9: 35 | V9: 40 | W9: 35 | X9: 70 | Y9: 30 | Z9: 10 | AA9: 10 | AB9: 10 | AC9: 10 | AD9: =SUM(R9:AC9) -> 365 | AG9: En cours
A10: 9 | B10: Réduire les inégalités et lutter contre les discriminations​ | C10: Innovation en accessibilité universelle | D10: BAS | E10: Octroi du contre de service | F10: T2 2026 | G10: Stratégie | H10: oui | I10: NON | K10: 45930 | L10: P2 | M10: DO IT | N10: Andréanne | O10: Annie Laf. | P10: Oui | R10: 20 | S10: 40 | T10: 30 | U10: 15 | V10: 30 | W10: 15 | X10: 15 | Y10: 30 | Z10: 30 | AA10: 40 | AB10: 40 | AC10: 15 | AD10: =SUM(R10:AC10) -> 320 | AG10: En cours
A11: 10 | B11: Réduire les inégalités et lutter contre les discriminations​ | C11: Bilan de la démarche du chantier en accessibilité universelle 2020-2024 | D11: HAUT | E11: Dépot du bilan | F11: T3 2026 | G11: Stratégie | H11: OUI | I11: NON | L11: P2 | M11: PRIORITÉ STRATÉGIQUE | N11: Andréanne | O11: Annie Laf. | P11: - | R11: 15 | S11: 30 | T11: 30 | U11: 15 | V11: 10 | W11: 0 | X11: 0 | Y11: 0 | Z11: 0 | AA11: 0 | AB11: 0 | AC11: 0 | AD11: =SUM(R11:AC11) -> 100 | AG11: En cours
A12: 11 | C12: Agir ensemble contre la pauvreté et l'exclusion sociale 2024-2029 | G12: Programmes | J12: 01-04-2024 | K12: 30-05-2029 | L12: P1 | M12: DO IT | N12: Geneviève | O12: Yan | P12: Caroline Isabelle Louise-Michel Marcela | R12: =169 -> 169 | S12: =218+291 -> 509 | T12: =480+347 -> 827 | U12: =81+58 -> 139 | AD12: =SUM(R12:AC12) -> 1644 | AG12: En cours
A13: 12 | C13: Stratégie municipale pour les personnes aînées 2023-2030 | G13: Stratégie | L13: P3 | M13: DELEGATE | N13: Andréanne | O13: Phillip | P13: Oui | Q13: Suivi de la stratégie municipale - À intégrer dans le plan SEI. Supprimer la ligne ? | R13: 40 | S13: 28 | T13: 91 | U13: 40 | V13: 40 | W13: 75 | X13: 70 | Y13: 0 | Z13: 0 | AA13: 0 | AB13: 0 | AC13: 0 | AD13: =SUM(R13:AC13) -> 384 | AG13: Terminé | AH13: Affaires courantes
A14: 13 | C14: Campagne ''Témoins, agissons'' - Volet 3 | G14: Stratégie | K14: 46171 | L14: P1 | M14: PRIORITÉ STRATÉGIQUE | N14: Andréanne | O14: Marie-Claude | P14: Oui | Q14: marianne C. participe | R14: 14 | S14: 35 | T14: 35 | U14: 35 | V14: 35 | W14: 35 | X14: 70 | Y14: 70 | Z14: 70 | AA14: 140 | AB14: 140 | AC14: 140 | AD14: =SUM(R14:AC14) -> 819 | AG14: Reporté
A15: 14 | C15: Programme aménagement urbain et inclusif (PAUI) | G15: Programmes | J15: 2022 | K15: Jusqu'à épuisement du budget | L15: P2 | M15: DELEGATE | N15: Thibault | O15: Jean-Pierre | P15: Mourad | Q15: Manque un porteur pour ce dossier | R15: 0 | S15: 5 | T15: 5 | U15: =(19*1)+15+15 -> 49 | V15: =(19*1)+15+15 -> 49 | W15: =(19*1)+15+15 -> 49 | X15: 5 | Y15: 5 | Z15: =W15 -> 49 | AA15: 19 | AB15: 19 | AC15: 5 | AD15: =SUM(R15:AC15) -> 259 | AF15: Info des finances : Le règlement d'emprunt 22-031 Travaux espace public sécuritaire CM22 0997 a été adopté en 2022. Bien que les montants des règlements d'emprunts soient calculés sur la base des hypothèses des coûts annuels (ex. 2022 à 2024 pour le CM22 0997) , les règlements d'emprunts n'ont pas de date de fin tant qu'il y a des crédits disponibles. | AG15: En cours
A16: 15 | C16: Habitations modulaires avec accompagnement | G16: Intervention territoriale | J16: 06-2025 | K16: 03-2035 | L16: P1 | M16: DO IT | N16: Marie-France | O16: Patricia | P16: Audrey B. Audrey M. Gaëlle | R16: 320 | S16: 340 | T16: 340 | U16: 320 | V16: 320 | W16: 320 | X16: 300 | Y16: 300 | Z16: 300 | AA16: 300 | AB16: 300 | AC16: 300 | AD16: =SUM(R16:AC16) -> 3760 | AE16: 1000000 | AF16: 1 Million : pour HMA et SHU | AG16: En cours
A17: 16 | C17: Stratégie de recherche de sites (SHU, HC, HMA) | G17: Intervention territoriale | J17: 02-2025 | K17: 03-2035 | L17: P1 | M17: DO IT | N17: Marie-France | O17: Anthony | R17: 280 | S17: 260 | T17: 260 | U17: 220 | V17: 160 | W17: 160 | X17: 160 | Y17: 200 | Z17: 200 | AA17: 200 | AB17: 200 | AC17: 200 | AD17: =SUM(R17:AC17) -> 2500 | AG17: En cours
A18: 17 | C18: Rapport des échanges du comité ad hoc sur les enjeux et les besoins des personnes ​qui n'accèdent pas à l'hébergement / au logement​ | G18: Intervention territoriale | J18: 45413 | K18: 45716 | L18: P1 | M18: DO IT | N18: Nicolas | O18: Maude | P18: - | R18: 30 | S18: 30 | T18: 30 | U18: 15 | V18: 15 | W18: 10 | X18: 10 | Y18: 10 | Z18: 10 | AA18: 10 | AB18: 10 | AC18: 10 | AD18: =SUM(R18:AC18) -> 190 | AE18: 550000 | AG18: Orientations attendues
A19: 18 | C19: Calculer la pauvreté depuis la pandémie | G19: DIASO | L19: P3 | M19: DELETE | N19: Thibault | O19: Victoria | P19: - | T19: 30 | AD19: =SUM(R19:AC19) -> 30 | AE19: 20000 | AG19: Reporté
A20: 19 | C20: Suivi des plans du Service de la diversité et de l'inclusion sociale (SDIS) | G20: DIASO | J20: 45809 | K20: - | L20: P1 | M20: PRIORITÉ STRATÉGIQUE | N20: Thibault | O20: Louiza | P20: Oui | Q20: Plan en cours de construction dans une logique d'arrimage avec plan AU, ADS+, MADA, réconciliation autochtone, SEI et Montréal 2030 | R20: 0 | S20: 0 | T20: 10 | U20: 10 | V20: 50 | W20: 50 | X20: 10 | Y20: 10 | Z20: 20 | AD20: =SUM(R20:AC20) -> 160 | AE20: 30000 | AG20: En cours
A21: 20 | C21: Accompagnement des organismes à but non lucratif avec enjeux locatifs et soutien financier | G21: Intervention territoriale | L21: P2 | M21: DELEGATE | N21: Nicolas | O21: Ève | P21: Yan | Q21: YMCA (+), Jeunesse au soleil (+), Ali et les princes de la rue, IJQ, CoCo, Transfret progressive en 2026 la période P1 a PROGRAMME | R21: 28 | S21: 28 | T21: 28 | U21: 28 | V21: 28 | W21: 28 | X21: 28 | Y21: 28 | Z21: 28 | AA21: 28 | AB21: 28 | AC21: 28 | AD21: =SUM(R21:AC21) -> 336 | AG21: Orientations attendues | AH21: I.e. : YMCA, Jeunesse au soleil, etc.
A22: 21 | C22: Aide financière aux organismes à but non lucratif locataires 2026 | G22: Stratégie | L22: P2 | M22: DELETE | N22: Andréanne | O22: Rabia | P22: Oui | R22: 0 | S22: 35 | T22: 7 | U22: 7 | V22: 7 | W22: 7 | X22: 0 | Y22: 0 | Z22: 0 | AA22: 0 | AB22: 0 | AC22: 0 | AD22: =SUM(R22:AC22) -> 63 | AG22: Reporté
A23: 22 | C23: Aide financière aux organismes à but non lucratif locataires 2025 | G23: Programmes | J23: 01-03-2025 | K23: 31-12-2025 | L23: P1 | M23: DELEGATE | N23: Karine-Myrgianie | O23: Stéphanie V | P23: Isabelle Maulore | Q23: Mesure OBNL Locataires | R23: 10 | S23: 10 | T23: 10 | U23: 50 | V23: 50 | W23: 50 | X23: 150 | Y23: 150 | Z23: 150 | AA23: 150 | AB23: 150 | AC23: 150 | AD23: =SUM(R23:AC23) -> 1080 | AG23: En cours
A24: 23 | C24: Stratégie de reconnaissance des regroupements d'organismes communautaires | G24: Programmes | K24: 31-dec-2025 | L24: P2 | M24: DELETE | N24: Thibault | O24: Louise-Michel | Q24: on parle d'un déploiement 2026 | AD24: =SUM(R24:AC24) -> 0 | AG24: Orientations attendues
A25: 24 | C25: Offre de service d'accompagnement en accessibilité universelle et analyse différenciée selon les sexes dans une perspective intersectionnelle (ADS+) | G25: Programmes | J25: 01-01-2025 | K25: 31-12-2025 | L25: P1 | M25: DO IT | N25: Thibault | O25: Marie-Anne | P25: Guylaine Karine-Myrgianie Marianne Rabia | Q25: ! tous les produits ADS+ sont contenus ici : communauté de pratique, accompagnement et cohorte ainsi que tous les accompangements AU | R25: 150 | S25: 150 | T25: 150 | U25: 150 | V25: 150 | W25: 150 | AD25: =SUM(R25:AC25) -> 900 | AG25: En cours
A27: 26 | C27: Stratégie de planification, suivi, évaluation et apprentissage (PSEA) | G27: DIASO | L27: P1 | M27: DO IT | N27: Thibault | O27: Louiza | P27: Oui | Q27: Ce projet pourrait être soit terminé soir vu comme la transfo organisationnelle qui reprend les éléments et les amplifie | S27: 40 | T27: 40 | U27: 40 | V27: 40 | W27: 40 | X27: 40 | Y27: 40 | Z27: 40 | AA27: 40 | AB27: 40 | AC27: 40 | AD27: =SUM(R27:AC27) -> 440 | AG27: Terminé | AH27: Basculé dans la T.O. et les processus
A28: 27 | C28: Cadre d’intervention en Accès Loisir (CIALM) 2025-2027 | G28: Programmes | J28: 01-01-2025 | K28: 30-04-2027 | L28: P1 | M28: DELEGATE | N28: Geneviève | O28: Mona | P28: Stéphanie V | R28: 140 | S28: 144 | T28: 140 | U28: 26 | V28: 49 | W28: 14 | X28: 0 | Y28: 0 | Z28: 0 | AA28: 0 | AB28: 0 | AC28: 0 | AD28: =SUM(R28:AC28) -> 513 | AG28: En cours
A29: 28 | C29: Cadre de référence en itinérance 2026-2028 | G29: Stratégie | L29: P3 | M29: DO IT | N29: Andréanne | O29: Annie Lar. | P29: Louise-Michel Maude | R29: 0 | S29: 0 | T29: 0 | U29: 70 | V29: 70 | W29: 70 | X29: 0 | Y29: 70 | Z29: 0 | AA29: 0 | AB29: 0 | AC29: 0 | AD29: =SUM(R29:AC29) -> 280 | AG29: En cours
A30: 29 | C30: Municipalité amie des enfants (MAE) | G30: Stratégie | L30: P4 | M30: DELETE | N30: Marie-Josée | O30: Marie-Josée | P30: - | AD30: =SUM(R30:AC30) -> 0 | AG30: Terminé | AH30: vers le delete
A31: 31 | C31: Décriminalisation de la possession simple de drogues | G31: Stratégie | L31: P4 | M31: DELETE | N31: Marie-Josée | O31: Marie-Josée | P31: - | AD31: =SUM(R31:AC31) -> 0 | AG31: Orientations attendues | AH31: vers le delete
A32: 32 | C32: Centre de prévention de la radicalisation menant à la violence (CPRMV) - Gouvernance | G32: Stratégie | L32: P3 | M32: DELEGATE | N32: Jessica | O32: Jessica | P32: - | R32: 0 | S32: 4 | T32: 0 | U32: 4 | V32: 0 | W32: 4 | X32: 0 | Y32: 0 | Z32: 0 | AA32: 0 | AB32: 0 | AC32: 0 | AD32: =SUM(R32:AC32) -> 12 | AG32: Terminé | AH32: affaires courantes
A33: 33 | C33: Soutien et accompagnement des locataires 2025-2027 | G33: Programmes | J33: 45449 | K33: 46752 | L33: P1 | M33: DELEGATE | N33: Andréanne | O33: Louise-Michel | P33: Marianne Stéphanie M | R33: 119 | S33: 63 | T33: 140 | U33: 28 | AD33: =SUM(R33:AC33) -> 350 | AG33: En cours
A34: 34 | C34: Initiative montréalaise de soutien au développement social local (IMSDSL) 2025 | G34: Intervention territoriale | L34: P2 | M34: PRIORITÉ STRATÉGIQUE | N34: Nicolas | O34: Ève | P34: - | Q34: Incluant le Grand RDV | R34: 50 | S34: 50 | T34: 50 | U34: 50 | V34: 50 | W34: 50 | X34: 30 | Y34: 30 | Z34: 60 | AA34: 60 | AB34: 60 | AC34: 60 | AD34: =SUM(R34:AC34) -> 600 | AG34: En cours
A35: 35 | C35: Cahier de breffage des élu·e·s 2025-2029 | G35: Stratégie | J35: 45658 | K35: 45961 | L35: P2 | M35: PRIORITÉ STRATÉGIQUE | N35: Andréanne | O35: Rabia | P35: Oui | R35: 0 | S35: 0 | T35: 0 | U35: 0 | V35: 0 | W35: 20 | X35: 20 | Y35: 20 | Z35: 40 | AA35: 50 | AB35: 50 | AC35: 0 | AD35: =SUM(R35:AC35) -> 200 | AG35: Orientations à suggérer
A36: 36 | C36: Plan d'action solidarité, équité et inclusion 2026-2030 | G36: Stratégie | J36: 45658 | K36: 46326 | L36: P2 | M36: PRIORITÉ STRATÉGIQUE | N36: Andréanne | O36: Phillip | P36: Marianne Marilyne | R36: 100 | S36: 200 | T36: 200 | U36: 200 | V36: 200 | W36: 200 | X36: 200 | Y36: 200 | Z36: 200 | AA36: 200 | AB36: 200 | AC36: 200 | AD36: =SUM(R36:AC36) -> 2300 | AG36: En cours
A37: 37 | C37: Processus cartographié optimisé de gestion de requêtes au Service de la diversité et de l'inclusion sociale (SDIS) | G37: Intervention territoriale | L37: P1 | M37: DO IT | N37: Thibaullt | O37: Eve | P37: Oui | R37: 16 | S37: 16 | T37: 24 | U37: 24 | V37: 24 | W37: 16 | X37: 16 | Y37: 16 | Z37: 8 | AA37: 8 | AB37: 8 | AC37: 8 | AD37: =SUM(R37:AC37) -> 184 | AE37: 0 | AG37: Terminé | AH37: t
A38: 38 | C38: Cadre stratégique en diversité sexuelle et pluralité des genres | G38: Stratégie | L38: P2 | M38: PRIORITÉ STRATÉGIQUE | N38: Andréanne | O38: Marilyne | P38: Oui | R38: 35 | S38: 85 | T38: 85 | U38: 85 | V38: 85 | W38: 85 | X38: 85 | Y38: 85 | Z38: 85 | AA38: 85 | AB38: 85 | AC38: 85 | AD38: =SUM(R38:AC38) -> 970 | AG38: Orientations attendues | AH38: En cours. Plan SEI ?
A39: 39 | C39: Cadre stratégique en sécurité alimentaire | G39: Stratégie | K39: 46022 | L39: P2 | M39: PRIORITÉ STRATÉGIQUE | N39: Andréanne | O39: Stéphanie M | P39: - | R39: 15 | S39: 35 | T39: 35 | U39: 0 | V39: 70 | W39: 70 | X39: 70 | Y39: 70 | Z39: 70 | AA39: 70 | AB39: 70 | AC39: 70 | AD39: =SUM(R39:AC39) -> 645 | AG39: Orientations attendues | AH39: En cours. Plan SEI ?
A40: 41 | C40: Pré-conférence - 3e Conférence Internationale Francophone LGBTQI | G40: Intervention territoriale | L40: P2 | M40: DELEGATE | N40: Nicolas | O40: Marianne | P40: Oui | R40: 30 | S40: 30 | T40: 25 | U40: 25 | V40: 25 | W40: 25 | X40: 35 | Y40: 35 | Z40: 10 | AA40: 0 | AB40: 0 | AC40: 0 | AD40: =SUM(R40:AC40) -> 240 | AG40: En cours | AH40: affaires courantes
A41: 42 | C41: Montréal Inclusive 2024-2026 | G41: Programmes | J41: 45642 | K41: 46112 | L41: P1 | M41: DO IT | N41: Karine-Myrgianie | O41: Manuel | P41: Anne Laurence Audrey MM Cateline, Gaëlle, Myriam | R41: 420 | S41: 370 | T41: 400 | U41: 250 | V41: 280 | AD41: =SUM(R41:AC41) -> 1720 | AG41: En cours
...

Sheet Projets 2025
L1: PLANIFICATION 2025 | Y1: FINANCES
A2: No. | B2: Nom du projet | C2: / | D2: Date de fin | E2: Priorité | F2: Matrice | G2: Division | H2: Promoteur·ice | I2: Porteur·e | J2: Équipe-projet | K2: Notes | L2: Janvier | M2: Février | N2: Mars | O2: Avril | P2: Mai | Q2: Juin | R2: Juillet | S2: Août | T2: Septembre | U2: Octobre | V2: Novembre | W2: Décembre | X2: Total | Y2: Projections BF non taggées | Z2: Notes | AA2: Décision suggérée 23/07/2025 | AB2: Commentaires | AC2: Théma
A3: 1 | B3: Consultation sur les conditions de succès visant à assurer une intégration harmonieuse des ressources dédiées aux personnes en situation d’itinérance dans les quartiers de la métropole | C3: 45481 | D3: 45838 | E3: P1 | F3: PRIORITÉ STRATÉGIQUE | G3: Stratégie | H3: Andréanne | I3: Annie Lar. | J3: - | L3: 60 | M3: 60 | N3: 0 | O3: 0 | P3: 10 | Q3: 20 | R3: 0 | S3: 0 | T3: 0 | U3: 0 | V3: 0 | W3: 0 | X3: =SUM(L3:W3) -> 150 | Y3: 0 | Z3: Il est possible que des projets additionnels découlent du rapport qui sera produit par l'OCPM. Ceux-ci pourraient engendrer des dépenses supplémentaires imprévues, mais il est probable que les répercussions soient surtout sur l'année financière 2026. | AA3: Terminé
A4: 2 | B4: Politique d'accès aux services municipaux sans peur | E4: P3 | F4: PRIORITÉ STRATÉGIQUE | G4: Stratégie | H4: Andréanne | I4: Marie-Claude | J4: Oui | K4: Gestion de la carte sans peur par Dina H. Audrey B Audrey M Patricia H | L4: 70 | M4: 70 | N4: 70 | O4: 70 | P4: 70 | Q4: 35 | R4: 20 | S4: 50 | T4: 50 | U4: 50 | V4: 20 | W4: 10 | X4: =SUM(L4:W4) -> 585 | Y4: 0 | Z4: Il est probable que la révision de la Politique d'accès aux services municipaux sans peur engendre le déploiement de nouvelles initiatives qui devront être financées. Cela devrait toutefois surtout se répercuter sur l'année financière 2026. | AA4: Orientations attendues
A5: 4 | B5: Par et pour les jeunes 2025-2026 | C5: 01-01-2025 | D5: 31-01-2027 | E5: P1 | F5: DO IT | G5: Programmes | H5: Karine-Myrgianie | I5: Anne Laurence | J5: Mourad Myriam Cateline | L5: 40 | M5: 60 | N5: 70 | O5: 70 | P5: 50 | Q5: 50 | R5: 50 | S5: 50 | T5: 70 | U5: 70 | V5: 70 | W5: 45 | X5: =SUM(L5:W5) -> 695 | Y5: 25000 | Z5: 25 k $ pour offre de service (similaire a 2023) en contrat de service : clé budgétaire encore inconnue (mais approuvé par Jessica). 1M$ du MSP (FBSC) permettant de financer les projets. Total du projet : 1 025 000$ | AA5: En cours
A6: 5 | B6: Forum montréalais pour la lutte contre la violence 2025 | C6: 45716 | D6: 45777 | E6: P1 | F6: DO IT | G6: Intervention territoriale | H6: Dina | I6: Cateline | J6: Oui | K6: événement jour J : 26 avril . | L6: 70 | M6: 85 | N6: 100 | O6: 130 | P6: 20 | Q6: 5 | X6: =SUM(L6:W6) -> 410 | Y6: 70000 | Z6: clé budgétaire encore inconnue. 70 k$ inclut logistique (salle, traiteur, autres) // demande approuvé par JLB et MJM | AA6: Terminé
A7: 6 | B7: Bilan des réalisations en accessibilité universelle 2024 de la Ville de Montréal | E7: P1 | F7: DO IT | G7: Stratégie | H7: Andréanne | I7: Alix | J7: Annie Laf Cecilia | K7: Transfert au BC en 2026 | L7: 70 | M7: 35 | N7: 50 | O7: 70 | P7: 70 | Q7: 30 | R7: 10 | S7: 10 | X7: =SUM(L7:W7) -> 345 | AA7: En cours
A8: 7 | B8: Plan municipal en accessibilité universelle 2024-2030 | E8: P1 | F8: DO IT | G8: Stratégie | H8: Andréanne | I8: Annie Laf. | J8: Alix Cecilia | K8: Incluant le transfert vers le BC | X8: =SUM(L8:W8) -> 0 | AA8: Terminé | AB8: Transfert en cours au BdC
A9: 8 | B9: Fonds dédiés aux projets de développement d'expertise et de renforcement de capacités en accessibilité universelle (FDPAU) 2025 | C9: 45748 | D9: 46082 | E9: P2 | F9: DELEGATE | G9: Programmes | H9: Thibault | I9: Jean-Pierre | J9: - | L9: 40 | M9: 35 | N9: 40 | O9: 35 | P9: 40 | Q9: 35 | R9: 70 | S9: 30 | T9: 10 | U9: 10 | V9: 10 | W9: 10 | X9: =SUM(L9:W9) -> 365 | AA9: En cours
A10: 9 | B10: Innovation en accessibilité universelle | D10: 45930 | E10: P2 | F10: DO IT | G10: Stratégie | H10: Andréanne | I10: Annie Laf. | J10: Oui | L10: 20 | M10: 40 | N10: 30 | O10: 15 | P10: 30 | Q10: 15 | R10: 15 | S10: 30 | T10: 30 | U10: 40 | V10: 40 | W10: 15 | X10: =SUM(L10:W10) -> 320 | AA10: En cours | AB10: Alix reprend
A11: 10 | B11: Bilan de la démarche du chantier en accessibilité universelle 2020-2024 | E11: P2 | F11: PRIORITÉ STRATÉGIQUE | G11: Stratégie | H11: Andréanne | I11: Annie Laf. | J11: - | L11: 15 | M11: 30 | N11: 30 | O11: 15 | P11: 10 | Q11: 0 | R11: 0 | S11: 0 | T11: 0 | U11: 0 | V11: 0 | W11: 0 | X11: =SUM(L11:W11) -> 100 | AA11: En cours
A12: 11 | B12: Agir ensemble contre la pauvreté et l'exclusion sociale 2024-2029 | C12: 01-04-2024 | D12: 30-05-2029 | E12: P1 | F12: DO IT | G12: Programmes | H12: Geneviève | I12: Yan | J12: Caroline Isabelle Louise-Michel Marcela | L12: =169 -> 169 | M12: =218+291 -> 509 | N12: =480+347 -> 827 | O12: =81+58 -> 139 | X12: =SUM(L12:W12) -> 1644 | AA12: En cours
A13: 12 | B13: Stratégie municipale pour les personnes aînées 2023-2030 | E13: P3 | F13: DELEGATE | G13: Stratégie | H13: Andréanne | I13: Phillip | J13: Oui | K13: Suivi de la stratégie municipale - À intégrer dans le plan SEI. Supprimer la ligne ? | L13: 40 | M13: 28 | N13: 91 | O13: 40 | P13: 40 | Q13: 75 | R13: 70 | S13: 0 | T13: 0 | U13: 0 | V13: 0 | W13: 0 | X13: =SUM(L13:W13) -> 384 | AA13: Terminé | AB13: Affaires courantes
A14: 13 | B14: Campagne ''Témoins, agissons'' - Volet 3 | D14: 46171 | E14: P1 | F14: PRIORITÉ STRATÉGIQUE | G14: Stratégie | H14: Andréanne | I14: Marie-Claude | J14: Oui | K14: marianne C. participe | L14: 14 | M14: 35 | N14: 35 | O14: 35 | P14: 35 | Q14: 35 | R14: 70 | S14: 70 | T14: 70 | U14: 140 | V14: 140 | W14: 140 | X14: =SUM(L14:W14) -> 819 | AA14: Reporté
A15: 14 | B15: Programme aménagement urbain et inclusif (PAUI) | C15: 2022 | D15: Jusqu'à épuisement du budget | E15: P2 | F15: DELEGATE | G15: Programmes | H15: Thibault | I15: Jean-Pierre | J15: Mourad | K15: Manque un porteur pour ce dossier | L15: 0 | M15: 5 | N15: 5 | O15: =(19*1)+15+15 -> 49 | P15: =(19*1)+15+15 -> 49 | Q15: =(19*1)+15+15 -> 49 | R15: 5 | S15: 5 | T15: =Q15 -> 49 | U15: 19 | V15: 19 | W15: 5 | X15: =SUM(L15:W15) -> 259 | Z15: Info des finances : Le règlement d'emprunt 22-031 Travaux espace public sécuritaire CM22 0997 a été adopté en 2022. Bien que les montants des règlements d'emprunts soient calculés sur la base des hypothèses des coûts annuels (ex. 2022 à 2024 pour le CM22 0997) , les règlements d'emprunts n'ont pas de date de fin tant qu'il y a des crédits disponibles. | AA15: En cours
A16: 15 | B16: Habitations modulaires avec accompagnement | C16: 06-2025 | D16: 03-2035 | E16: P1 | F16: DO IT | G16: Intervention territoriale | H16: Marie-France | I16: Patricia | J16: Audrey B. Audrey M. Gaëlle | L16: 320 | M16: 340 | N16: 340 | O16: 320 | P16: 320 | Q16: 320 | R16: 300 | S16: 300 | T16: 300 | U16: 300 | V16: 300 | W16: 300 | X16: =SUM(L16:W16) -> 3760 | Y16: 1000000 | Z16: 1 Million : pour HMA et SHU | AA16: En cours
A17: 16 | B17: Stratégie de recherche de sites (SHU, HC, HMA) | C17: 02-2025 | D17: 03-2035 | E17: P1 | F17: DO IT | G17: Intervention territoriale | H17: Marie-France | I17: Anthony | L17: 280 | M17: 260 | N17: 260 | O17: 220 | P17: 160 | Q17: 160 | R17: 160 | S17: 200 | T17: 200 | U17: 200 | V17: 200 | W17: 200 | X17: =SUM(L17:W17) -> 2500 | AA17: En cours
A18: 17 | B18: Rapport des échanges du comité ad hoc sur les enjeux et les besoins des personnes ​qui n'accèdent pas à l'hébergement / au logement​ | C18: 45413 | D18: 45716 | E18: P1 | F18: DO IT | G18: Intervention territoriale | H18: Nicolas | I18: Maude | J18: - | L18: 30 | M18: 30 | N18: 30 | O18: 15 | P18: 15 | Q18: 10 | R18: 10 | S18: 10 | T18: 10 | U18: 10 | V18: 10 | W18: 10 | X18: =SUM(L18:W18) -> 190 | Y18: 550000 | AA18: Terminé
A19: 18 | B19: Calculer la pauvreté depuis la pandémie | E19: P3 | F19: DELETE | G19: DIASO | H19: Thibault | I19: Victoria | J19: - | N19: 30 | X19: =SUM(L19:W19) -> 30 | Y19: 20000 | AA19: Reporté
A20: 19 | B20: Suivi des plans du Service de la diversité et de l'inclusion sociale (SDIS) | C20: 45809 | D20: - | E20: P1 | F20: PRIORITÉ STRATÉGIQUE | G20: DIASO | H20: Thibault | I20: Louiza | J20: Oui | K20: Plan en cours de construction dans une logique d'arrimage avec plan AU, ADS+, MADA, réconciliation autochtone, SEI et Montréal 2030 | L20: 0 | M20: 0 | N20: 10 | O20: 10 | P20: 50 | Q20: 50 | R20: 10 | S20: 10 | T20: 20 | X20: =SUM(L20:W20) -> 160 | Y20: 30000 | AA20: En cours
A21: 20 | B21: Accompagnement des organismes à but non lucratif avec enjeux locatifs et soutien financier | E21: P2 | F21: DELEGATE | G21: Intervention territoriale | H21: Nicolas | I21: Ève | J21: Yan | K21: YMCA (+), Jeunesse au soleil (+), Ali et les princes de la rue, IJQ, CoCo, Transfret progressive en 2026 la période P1 a PROGRAMME | L21: 28 | M21: 28 | N21: 28 | O21: 28 | P21: 28 | Q21: 28 | R21: 28 | S21: 28 | T21: 28 | U21: 28 | V21: 28 | W21: 28 | X21: =SUM(L21:W21) -> 336 | AA21: Orientations attendues | AB21: I.e. : YMCA, Jeunesse au soleil, etc.
A22: 21 | B22: Aide financière aux organismes à but non lucratif locataires 2026 | E22: P2 | F22: DELETE | G22: Stratégie | H22: Andréanne | I22: Rabia | J22: Oui | L22: 0 | M22: 35 | N22: 7 | O22: 7 | P22: 7 | Q22: 7 | R22: 0 | S22: 0 | T22: 0 | U22: 0 | V22: 0 | W22: 0 | X22: =SUM(L22:W22) -> 63 | AA22: Reporté
A23: 22 | B23: Aide financière aux organismes à but non lucratif locataires 2025 | C23: 01-03-2025 | D23: 31-12-2025 | E23: P1 | F23: DELEGATE | G23: Programmes | H23: Karine-Myrgianie | I23: Stéphanie V | J23: Isabelle Maulore | K23: Mesure OBNL Locataires | L23: 10 | M23: 10 | N23: 10 | O23: 50 | P23: 50 | Q23: 50 | R23: 150 | S23: 150 | T23: 150 | U23: 150 | V23: 150 | W23: 150 | X23: =SUM(L23:W23) -> 1080 | AA23: En cours
A24: 23 | B24: Stratégie de reconnaissance des regroupements d'organismes communautaires | D24: 31-dec-2025 | E24: P2 | F24: DELETE | G24: Programmes | H24: Thibault | I24: Louise-Michel | K24: on parle d'un déploiement 2026 | X24: =SUM(L24:W24) -> 0 | AA24: Orientations attendues
A25: 24 | B25: Offre de service d'accompagnement en accessibilité universelle et analyse différenciée selon les sexes dans une perspective intersectionnelle (ADS+) | C25: 01-01-2025 | D25: 31-12-2025 | E25: P1 | F25: DO IT | G25: Programmes | H25: Thibault | I25: Marie-Anne | J25: Guylaine Karine-Myrgianie Marianne Rabia | K25: ! tous les produits ADS+ sont contenus ici : communauté de pratique, accompagnement et cohorte ainsi que tous les accompangements AU | L25: 150 | M25: 150 | N25: 150 | O25: 150 | P25: 150 | Q25: 150 | X25: =SUM(L25:W25) -> 900 | AA25: En cours
A26: 25 | B26: Tableau de bord services ÉMMIS | C26: 45544 | D26: 45777 | E26: P1 | F26: DO IT | G26: PRÉMIS | H26: Elizabeth | J26: Oui | K26: Outil PowerBI | L26: 70 | M26: 120 | N26: 120 | O26: 120 | X26: =SUM(L26:W26) -> 430 | AA26: En cours
A27: 26 | B27: Stratégie de planification, suivi, évaluation et apprentissage (PSEA) | E27: P1 | F27: DO IT | G27: DIASO | H27: Thibault | I27: Louiza | J27: Oui | K27: Ce projet pourrait être soit terminé soir vu comme la transfo organisationnelle qui reprend les éléments et les amplifie | M27: 40 | N27: 40 | O27: 40 | P27: 40 | Q27: 40 | R27: 40 | S27: 40 | T27: 40 | U27: 40 | V27: 40 | W27: 40 | X27: =SUM(L27:W27) -> 440 | AA27: Terminé | AB27: Basculé dans la T.O. et les processus
A28: 27 | B28: Cadre d’intervention en Accès Loisir (CIALM) 2025-2027 | C28: 01-01-2025 | D28: 30-04-2027 | E28: P1 | F28: DELEGATE | G28: Programmes | H28: Geneviève | I28: Mona | J28: Stéphanie V | L28: 140 | M28: 144 | N28: 140 | O28: 26 | P28: 49 | Q28: 14 | R28: 0 | S28: 0 | T28: 0 | U28: 0 | V28: 0 | W28: 0 | X28: =SUM(L28:W28) -> 513 | AA28: En cours
A29: 28 | B29: Cadre de référence en itinérance 2026-2028 | E29: P3 | F29: DO IT | G29: Stratégie | H29: Andréanne | I29: Annie Lar. | J29: Louise-Michel Maude | L29: 0 | M29: 0 | N29: 0 | O29: 70 | P29: 70 | Q29: 70 | R29: 0 | S29: 70 | T29: 0 | U29: 0 | V29: 0 | W29: 0 | X29: =SUM(L29:W29) -> 280 | AA29: En cours
A30: 29 | B30: Municipalité amie des enfants (MAE) | E30: P4 | F30: DELETE | G30: Stratégie | H30: Marie-Josée | I30: Marie-Josée | J30: - | X30: =SUM(L30:W30) -> 0 | AA30: Terminé | AB30: vers le delete
A31: 31 | B31: Décriminalisation de la possession simple de drogues | E31: P4 | F31: DELETE | G31: Stratégie | H31: Marie-Josée | I31: Marie-Josée | J31: - | X31: =SUM(L31:W31) -> 0 | AA31: En cours | AB31: vers le delete
A32: 32 | B32: Centre de prévention de la radicalisation menant à la violence (CPRMV) - Gouvernance | E32: P3 | F32: DELEGATE | G32: Stratégie | H32: Jessica | I32: Jessica | J32: - | L32: 0 | M32: 4 | N32: 0 | O32: 4 | P32: 0 | Q32: 4 | R32: 0 | S32: 0 | T32: 0 | U32: 0 | V32: 0 | W32: 0 | X32: =SUM(L32:W32) -> 12 | AA32: Terminé | AB32: affaires courantes
A33: 33 | B33: Soutien et accompagnement des locataires 2025-2027 | C33: 45449 | D33: 46752 | E33: P1 | F33: DELEGATE | G33: Programmes | H33: Andréanne | I33: Louise-Michel | J33: Marianne Stéphanie M | L33: 119 | M33: 63 | N33: 140 | O33: 28 | X33: =SUM(L33:W33) -> 350 | AA33: En cours
A34: 34 | B34: Initiative montréalaise de soutien au développement social local (IMSDSL) 2025 | E34: P2 | F34: PRIORITÉ STRATÉGIQUE | G34: Intervention territoriale | H34: Nicolas | I34: Ève | J34: - | K34: Incluant le Grand RDV | L34: 50 | M34: 50 | N34: 50 | O34: 50 | P34: 50 | Q34: 50 | R34: 30 | S34: 30 | T34: 60 | U34: 60 | V34: 60 | W34: 60 | X34: =SUM(L34:W34) -> 600 | AA34: En cours
A35: 35 | B35: Cahier de breffage des élu·e·s 2025-2029 | C35: 45658 | D35: 45961 | E35: P2 | F35: PRIORITÉ STRATÉGIQUE | G35: Stratégie | H35: Andréanne | I35: Rabia | J35: Oui | L35: 0 | M35: 0 | N35: 0 | O35: 0 | P35: 0 | Q35: 20 | R35: 20 | S35: 20 | T35: 40 | U35: 50 | V35: 50 | W35: 0 | X35: =SUM(L35:W35) -> 200 | AA35: En cours
A36: 36 | B36: Plan d'action solidarité, équité et inclusion 2026-2030 | C36: 45658 | D36: 46326 | E36: P2 | F36: PRIORITÉ STRATÉGIQUE | G36: Stratégie | H36: Andréanne | I36: Phillip | J36: Marianne Marilyne | L36: 100 | M36: 200 | N36: 200 | O36: 200 | P36: 200 | Q36: 200 | R36: 200 | S36: 200 | T36: 200 | U36: 200 | V36: 200 | W36: 200 | X36: =SUM(L36:W36) -> 2300 | AA36: En cours
A37: 37 | B37: Processus cartographié optimisé de gestion de requêtes au Service de la diversité et de l'inclusion sociale (SDIS) | E37: P1 | F37: DO IT | G37: Intervention territoriale | H37: Thibaullt | I37: Eve | J37: Oui | L37: 16 | M37: 16 | N37: 24 | O37: 24 | P37: 24 | Q37: 16 | R37: 16 | S37: 16 | T37: 8 | U37: 8 | V37: 8 | W37: 8 | X37: =SUM(L37:W37) -> 184 | Y37: 0 | AA37: Terminé | AB37: t
A38: 38 | B38: Cadre stratégique en diversité sexuelle et pluralité des genres | E38: P2 | F38: PRIORITÉ STRATÉGIQUE | G38: Stratégie | H38: Andréanne | I38: Marilyne | J38: Oui | L38: 35 | M38: 85 | N38: 85 | O38: 85 | P38: 85 | Q38: 85 | R38: 85 | S38: 85 | T38: 85 | U38: 85 | V38: 85 | W38: 85 | X38: =SUM(L38:W38) -> 970 | AA38: Terminé | AB38: En cours. Plan SEI ?
A39: 39 | B39: Cadre stratégique en sécurité alimentaire | D39: 46022 | E39: P2 | F39: PRIORITÉ STRATÉGIQUE | G39: Stratégie | H39: Andréanne | I39: Stéphanie M | J39: - | L39: 15 | M39: 35 | N39: 35 | O39: 0 | P39: 70 | Q39: 70 | R39: 70 | S39: 70 | T39: 70 | U39: 70 | V39: 70 | W39: 70 | X39: =SUM(L39:W39) -> 645 | AA39: Orientations attendues | AB39: En cours. Plan SEI ?
A40: 41 | B40: Pré-conférence - 3e Conférence Internationale Francophone LGBTQI | E40: P2 | F40: DELEGATE | G40: Intervention territoriale | H40: Nicolas | I40: Marianne | J40: Oui | L40: 30 | M40: 30 | N40: 25 | O40: 25 | P40: 25 | Q40: 25 | R40: 35 | S40: 35 | T40: 10 | U40: 0 | V40: 0 | W40: 0 | X40: =SUM(L40:W40) -> 240 | AA40: En cours | AB40: affaires courantes
...

Sheet Affaires courantes
A1: Nom | B1: Type | C1: Statut | D1: Géré par le SDIS | E1: Handicap | F1: Aîné-e-s | G1: Priorité | H1: Division | I1: Promoteur·ice | J1: Porteur·e | K1: Notes | L1: Heures/mois
A2: Comité de pilotage - Dénombrement 2025 | B2: Comité | G2: P1 | H2: Stratégie | I2: Andréanne | J2: Annie Lar.
A3: Comité d'Accueil de la Conférence pan-canadienne du Mouvement pour mettre fin à l'itinérance (CAEH) à Montréal | B3: Comité | G3: P2 | H3: Intervention territoriale | J3: Maude | L3: 4
A4: Opération 1er juillet avec Service de l'habitation | B4: Comité | G4: P2 | H4: Intervention territoriale | I4: Nicolas | J4: Audrey MM | K4: seulement en mai-juin-juillet donc je fais une moyenne sur année | L4: 1
A5: Gestion des évictions Centre de service scolaire de Montréal (CSSDM)/Coalition régional pour l'accès aux locaux communautaires | B5: Comité | G5: P1 | H5: Intervention territoriale | I5: Nicolas | J5: Ève | L5: 16
A6: Réseau d’aide volontaire des employées et employés interprètes (RAVEI) | B6: Comité | G6: P4 | H6: Programmes | I6: Thibault | J6: Manuel | K6: Stratégie retrait : On ne peut plus - c.f. commissaire langue française
A7: Comité Approvisionnement Responsable (AR) | B7: Comité | G7: P3 | H7: DIASO | I7: Thibault | J7: Mourad
A8: Centre canadien pour des communautés plus sûres (CCCS) | B8: Comité | G8: P2 | H8: Stratégie | I8: Andréanne | J8: Pier Alexandre
A9: Instance Montréalaise de la Sécurité Communautaire en HLM (IMSC) | B9: Comité | G9: P2 | H9: Intervention territoriale | I9: Dina | J9: Cateline | L9: 3
A10: Comité interne en alimentation (CIA) | B10: Comité | G10: P2 | H10: Stratégie | I10: Andréanne | J10: Stéphanie
A11: Production agricole du Grand parc de l'Ouest | B11: Comité | G11: P3 | H11: Stratégie | I11: Andréanne | J11: Stéphanie | L11: 1.5
A12: Comité aviseur migrants statut précaire | B12: Comité | G12: P3 | H12: Stratégie | I12: Andréanne | J12: Marie-Claude | K12: Audrey MM coordonne le comité.
A13: Accueil demandeurs d'asile du Québec (ADAQ) | B13: Comité | H13: Stratégie | I13: Andréanne | J13: Audrey MM
A14: Comité d'accueil local pour les personnes en demande d'asile d'Ahuntsic-Cartierville (CALDA) | B14: Comité | G14: P2 | H14: Intervention territoriale | I14: Dina | J14: Audrey MM | L14: 3
A15: Comité consultatif - personnes migrantes sans couverture médicale | B15: Comité | H15: Stratégie | I15: Andréanne | J15: Audrey MM
A16: Coalition québécoise pour la prévention de l'itinérance (CQPI) - volet immigration MSP | B16: Comité | H16: Stratégie | I16: Andréanne | J16: Annie Larouche | K16: On ne sait pas c'est quoi ? / verifier audrey m
A17: Conseil canadien pour les réfugiés (CCR) | B17: Comité | G17: P3 | H17: Stratégie | I17: Andréanne | J17: Marie-Claude
A18: Regroupement des grandes villes accessibles | B18: Comité | G18: P2 | H18: Stratégie | I18: Andréanne | J18: Annie Laf.
A19: Plan de réponse communautaire aux campements (PRCC) - Régional | B19: Comité | G19: P1 | H19: Intervention territoriale | I19: Nicolas | J19: Maude | K19: sur janvier a Février donc moyenne | L19: 1
A20: Plan de réponse communautaire aux campements (PRCC) - Local | B20: Comité | G20: P1 | H20: Intervention territoriale | I20: Nicolas | J20: Antony | K20: sur janvier a Février donc moyenne | L20: 1
A21: Comité de la gouvernance PCMI ( plan concerté montréalais en itinérance) | B21: Comité | G21: P1 | H21: Intervention territoriale | I21: Nicolas | J21: Maude
A22: Conseil du système alimentaire montréalais (CSAM) | B22: Comité | G22: P2 | H22: Stratégie | I22: Andréanne | J22: Stéphanie
A23: Comités consultatifs | B23: Comité | G23: P2 | H23: Stratégie | I23: Andréanne | J23: Medhi
A24: Comité de pilotage du plan d'impact collectif Réseau résilience aîné·es Montréal (PIC-RRAM) | B24: Comité | H24: Stratégie | I24: Andréanne | J24: Marilyne | K24: Se termine le 31 mars 2025.
A25: Groupe de travail expérience de vie | B25: Comité | H25: Stratégie | I25: Andréanne | J25: Annie Lar. | K25: Est-ce un doublon ?
A26: Comité régional du Panier à provision nutritif et économique (PPNE) | B26: Comité | G26: P3 | H26: Stratégie | I26: Andréanne | J26: Stéphanie
A27: Participation au Réseau Rainbow cities | B27: Comité | G27: P2 | H27: Stratégie | I27: Andréanne | J27: Maryline
A28: Boîte bienvenue bébé Mandat du DG - 2023-014 | Projet - Bienvenue bébé | B28: Comité | G28: P4 | H28: Programmes | I28: Thibault | J28: Guylaine | K28: Boîte Bienvenue bébé pour les bébés montréalais | L28: 10
A29: Comité d'orientation montréalais de lutte à la maltraitance | B29: Comité | G29: P2 | H29: Stratégie | I29: Andréanne | J29: Maryline
A30: Comité national de sensibilisation dans le cadre du plan d'action de lutte contre la maltraitance envers les personnes aînées de communautés culturelles et celles d'expression anglaise | B30: Comité | G30: P2 | H30: Stratégie | I30: Andréanne | J30: Maryline
A31: Instance stratégique en investissement social (ISIS) | B31: Comité | G31: P1 | H31: Stratégie | I31: Andréanne | J31: Karine | L31: 14
A33: Réseau des grandes villes MADA | B33: Comité | G33: P3 | H33: Stratégie | I33: Andréanne
A34: Comité stratégique intergouvernemental sur l'itinérance inuite | B34: Comité | G34: P2 | H34: Stratégie | I34: Andréanne | J34: Annie Lar.
A35: CRI-Jade | B35: Comité | H35: Stratégie | I35: Andréanne | J35: Pier Alexandre
A36: Enquête québécoise sur la santé des jeunes du secondaire (EQSJS) | B36: comité | G36: P2 | H36: Intervention territoriale | I36: Dina | J36: Cateline
A37: RÉMIRI | B37: Comité | H37: Stratégie | I37: Andréanne | J37: Marie-Claude
A38: Instance Montréalaise de la Sécurité Communautaire en HLM (IMSC) | B38: Comité | G38: p2 | H38: Intervention territoriale | I38: Dina | J38: Cateline
A39: Comité stratégique en sécurité urbaine de Montréal (CoSSUM) | B39: Comité | D39: Oui | G39: p2 | H39: Intervention territoriale | I39: Dina | J39: Pier Alexandre | K39: Dossier stratégique en sécurité urbaine nécessitant la participation à 3 comités dont 1 avec la direction SDIS, 1 avec la DGA , 1 pro . rencontre mensuel de 30 min avec le MSP pour des suivis | L39: 4
A40: Comité de suivi du chantier en accessibilité universelle | B40: Comité | D40: Oui | E40: X
A41: Comité d'expertise du chantier en accessibilité univeselle | B41: Comité | D41: Oui | E41: X
...

Sheet Programmes soutien financier
E1: 2024 | F1: 2025 | J1: 2026 | N1: 2027 | R1: 2028 | V1: 2029
B2: Programmes | C2: Étapes | E2: T4 | F2: T1 | G2: T2 | H2: T3 | I2: T4 | J2: T1 | K2: T2 | L2: T3 | M2: T4 | N2: T1 | O2: T2 | P2: T3 | Q2: T4 | R2: T1 | S2: T2 | T2: T3 | U2: T4 | V2: T1 | W2: T2 | X2: T3 | Y2: T4 | Z2: Commentaires
B4: Agir ensemble (MESS-SDIS) | C4: Lancement et dépôt projets
C5: Sélection et GDD | Z5: Besoins T2 : 2-3 Expertises lutte à la pauvreté pour les comités de sélection (Séc. alimentaire + Général)
C6: Suivis et contrôle | V6: F | W6: RDC
C7: Conception
B9: Appels locaux (MESS) | C9: Lancement et dépôt projets
C10: Sélection et parties prenantes | Z10: Besoin T1-T2 Appui 2-3 RH - Terr (Q et R GSS et prog. régional vs local, comités de sélection en arrondissement)
C11: Suivis et contrôle
B13: Gestion de l'Entente 2024-2029 | C13: Suivis et contrôle | V13: F
C14: RDC annuelle | W14: RDC
C15: Négociation et Conception
B17: Programme itinérance et milieu de vie inclusif
B18: (MESS et BF) | C18: Suivis et contrôle | I18: F | J18: RDC
C19: Conception
C20: Lancement et dépôt projets | Z20: Lancement prévu au printemps
C21: Sélection et GDD | Z21: GDD à adopter en septembre
C22: Suivis et contrôle | Z22: Reddition de compte pas prévue encore
B24: Accompagner et soutenir les locataires | C24: Conception | Z24: Clairifier l'équipe projet + Promoteur
C25: Lancement et dépôt projets | Z25: Stéphanie-S, Louise-Michel
C26: Sélection et GDD
C27: Suivis et contrôle
B29: Prévention Montréal - Volet régional | C29: Suivis et contrôle | I29: F | J29: RDC | Z29: Fin de l'Entente au 31 décembre 2026
C30: Prolongation | Z30: Prolongation d'un an ?
B32: Prévention Montréal - Local | C32: Suivis et contrôle | I32: F | J32: RDC | Z32: Fin de l'Entente au 31 décembre 2026
C33: Prolongation | Z33: Prolongation d'un an ?
B35: Évaluation Prévention Montréal
C36: Évaluation
B38: CIALM (accessibilité universel) - | C38: Lancement et dépôt projets | Z38: Mehdi-S, Cédric (?), Janie (janvier)
C39: Sélection et GDD
C40: Suivis et contrôle
B42: Par et pour (2e appel) | C42: Conception (mise à jour) | Z42: Budget à attacher : 1 M$ (Emputerait Prév. Mtl)
C43: Lancement et dépôt projets | Z43: Gabrielle
C44: Sélection et GDD | Z44: Gros dossier - Attentes politiques
C45: Suivis et contrôle | Z45: Équipe projet : Cateline, Mehdi (?Jeunesse)
B47: Programme pers. sans statut ou à statut précaire | C47: Suivis et contrôle | Z47: Audrey MM
C48: RDC et Bilan final
B51: RUI | C51: Suivis et contrôle | I51: F | J51: RDC | Z51: Ce sera porté par Nicolas (??)
C52: Bilan final | Z52: Jessyca C
B54: OBNL Locataire | Z54: Porteur Cédric, Mandat à préciser
...

Sheet Capacités réelles
A1: Nom | B1: Équipe | C1: Présent?
A2: Alix Lefebvre-Dugré | B2: Programmes | C2: Oui
A3: Amélie Billette | B3: Partenariats | C3: Oui
A4: Andréanne St-Gelais | B4: Stratégies | C4: Oui
A5: Annie Lafrenière | B5: Stratégies | C5: Oui
A6: Annie Larouche | B6: Stratégies | C6: Oui
A7: Antony Santiago | B7: Partenariats | C7: Oui
A8: Ariane Lanoue | B8: PRÉMIS | C8: Oui
A9: Audrey Bady | B9: Partenariats | C9: Oui
A10: Audrey Mailloux Moquin | B10: Partenariats | C10: Oui
A11: Camille Blondin | B11: PRÉMIS | C11: Oui
A12: Cateline Autixier | B12: Partenariats | C12: Oui
... A28: Jean-Pierre Gauthier | B28: Programmes | C28: Oui
A29: Jessica Lagacé-Banville | C29: Oui
A30: Jessyca Cloutier | B30: Partenariats | C30: Oui
A31: Julie Taillon | B31: DIASO | C31: Non
A32: Karine Jalbert | C32: Oui
A33: Karine-Myrgianie Jean-François | B33: Programmes | C33: Oui
A34: Lamine Cissé | B34: DIASO | C34: Oui
A35: Louiza Lebtahi | B35: DIASO | C35: Oui
A36: Louise-Michel Laurence | B36: Programmes | C36: Oui
A37: Lyne Marie Beaudry | C37: Oui
A38: Lyne Raymond | C38: Oui
A39: Manuel Ardila | B39: Programmes | C39: Oui
A40: Margaux Bennardi | B40: PRÉMIS | C40: Oui
A41: Marianne Carle Marsan | B41: Partenariats | C41: Oui
A42: Marilyne Alerte | B42: Stratégies | C42: Oui
A43: Marie-Anne Cantin | B43: Programmes | C43: Oui
A44: Marie-Claude Haince | B44: Stratégies | C44: Oui
A45: Marie-France René | B45: Partenariats | C45: Oui
A46: Marie-Joëlle Carbonneau | B46: PRÉMIS | C46: Oui
A47: Marie-Josée Meilleur | C47: Oui
A48: Maroua Aïkous | B48: DIASO | C48: Oui
A49: Martine Roux | B49: Programmes | C49: Oui
A50: Maude Séguin | B50: Partenariats | C50: Oui
A51: Maulore Marina Gnagnie | C51: Oui
A52: Mehdi Mokhtar Lekehal | B52: Stratégies | C52: Oui
A53: Mona Al Boukhari | B53: Programmes | C53: Oui
A54: Mourad Benzidane | B54: Programmes | C54: Oui
A55: Nicolas Pagot | B55: Partenariats | C55: Oui
...

Sheet Feuil1
A2: Décision suggérée 23/07/2025 | B2: Nom du projet | C2: Nombre de No.
A3: Annulé | C3: 1
A4: En cours | C4: 43
A5: Orientations à suggérer | B5: Cahier de breffage des élu·e·s 2025-2029 | C5: 1 | D5: Traité en one&one
A6: Total Orientations à suggérer | C6: 1
A7: Orientations attendues | B7: Accompagnement des organismes à but non lucratif avec enjeux locatifs et soutien financier | C7: 1 | D7: 13/08/2025
B8: Cadre stratégique en diversité sexuelle et pluralité des genres | C8: 1 | D8: Traité en one&one
B9: Cadre stratégique en sécurité alimentaire | C9: 1 | D9: 24/09/2025
B10: Cité-des-hospitalières | C10: 1 | D10: 20/08/2025
B11: Décriminalisation de la possession simple de drogues | C11: 1 | D11: Terminé
B12: ÉMMIS - Évaluation 2025-2028 | C12: 1
B13: ÉMMIS - Évaluation projet pilote 2021-2024 | C13: 1
B14: Municipalité amie des enfants (MAE) | C14: 1 | D14: terminé | E14: MJ 16/09/25
B15: Politique d'accès aux services municipaux sans peur | C15: 1
B16: Programme de revitalisation urbaine intégrée (RUI) 2002-2025 | C16: 1 | D16: 27/08/2025
B17: Rapport des échanges du comité ad hoc sur les enjeux et les besoins des personnes ​qui n'accèdent pas à l'hébergement / au logement​ | C17: 1 | D17: 03/09/2025
B18: Stratégie de reconnaissance des regroupements d'organismes communautaires | C18: 1 | D18: 03/09/2025
A19: Total Orientations attendues | C19: 12
A20: Reporté | B20: Aide financière aux organismes à but non lucratif locataires 2026 | C20: 1
B21: Calculer la pauvreté depuis la pandémie | C21: 1
B22: Campagne ''Témoins, agissons'' - Volet 3 | C22: 1
B23: Développer et lancer un parcours de formation en accessibilité universelle pour le personnel de la Ville
A24: Total Reporté | C24: 3
A25: Terminé | B25: Appel de projet Centre de jour sites LS et STM | C25: 1
B26: Approche municipale - Partage de l'espace public | C26: 1
B27: Centre de prévention de la radicalisation menant à la violence (CPRMV) - Gouvernance | C27: 1
B28: Consultation sur les conditions de succès visant à assurer une intégration harmonieuse des ressources dédiées aux personnes en situation d’itinérance dans les quartiers de la métropole | C28: 1
B29: ÉMMIS - Implantation - Centrale d'appel 211 et système d'information | C29: 1
B30: ÉMMIS - Implantation - Zone Nord-Est | C30: 1
B31: Forum montréalais pour la lutte contre la violence 2025 | C31: 1
B32: Plan municipal en accessibilité universelle 2024-2030 | C32: 1
B33: Programme Accès-Loisirs de la Ville de Montréal (PALM) 2023-2025 | C33: 1
B34: Programme de reconnaissance et de soutien financier des organismes panmontréalais (PANAM) 2021-2024 | C34: 1
B35: Stratégie de planification, suivi, évaluation et apprentissage (PSEA) | C35: 1
B36: Stratégie municipale pour les personnes aînées 2023-2030 | C36: 1
A37: Total Terminé | C37: 12
A38: (vide) | C38: 1
A39: Total général | C39: 73

Sheet ListeProjets_A faire
A1: No. | B1: Engagements | C1: Nom du projet - Ajouter des lignes a la suite | D1: Phase T1 2026 | E1: Phase T2 2026 | F1: Phase T3 2026 | G1: Phase T4 2026 | H1: Envergure du projet | I1: Division | J1: RH dispo ? | K1: $ dispo? | L1: Priorité (voir onglet Priorité)
B2: Grands partenariats | C2: Projet 1 | D2: Besoin d'orientation | E2: Exécution | F2: Suivi et controle | H2: Haute | I2: Programmes | J2: Oui | K2: Non Applicable | L2: =VLOOKUP(C2,'priorité_A faire (2)'!$B$2:$K$35,10,0) -> P3
B3: Grands partenariats | C3: Projet 2 | D3: Conception | E3: Planification | F3: Exécution | G3: Suivi et controle | H3: Haute | I3: Programmes | J3: Oui | K3: Non Applicable | L3: =VLOOKUP(C3,'priorité_A faire (2)'!$B$2:$K$35,10,0) -> P1
B4: Grands partenariats | C4: Projet 3X | D4: Planification | E4: Planification | F4: Exécution | G4: Exécution | H4: Haute | I4: PLAUS | J4: Oui | K4: Non Applicable | L4: =VLOOKUP(C4,'priorité_A faire (2)'!$B$2:$K$35,10,0) -> P3
B5: Transformation - | C5: Projet 4 | D5: Conception | E5: Planification | F5: Exécution | G5: Suivi et controle | H5: Moyenne | I5: Interventions | J5: Oui | K5: Oui | L5: =VLOOKUP(C5,'priorité_A faire (2)'!$B$2:$K$35,10,0) -> P1
B6: Grands partenariats | C6: Projet 5 | D6: Conception | E6: Planification | F6: Planification | G6: Exécution | H6: Haute | I6: Interventions | J6: Oui | K6: Oui
C7: projet 7 | I7: DIPEC

Sheet priorité_A faire (2)
B1: Projet (ne pas modifier) | C1: Division (ne pas modifier) | D1: Engagement politique | E1: Alignement stratégique | F1: Impact attendu | G1: Urgence/échéance | H1: Ressources dispo | I1: Complexité / risque | J1: Total | K1: Priorité
B2: ='ListeProjets_A faire'!C2 -> Projet 1 | C2: ='ListeProjets_A faire'!I2 -> Programmes | D2: 0 | E2: 2 | F2: 2 | G2: 3 | H2: 2 | I2: 0 | J2: =SUM(D2:I2) -> 9 | K2: =IF(J2>=15,"P1",IF(J2>=10,"P2","P3")) -> P3
B3: ='ListeProjets_A faire'!C3 -> Projet 2 | C3: ='ListeProjets_A faire'!I3 -> Programmes | D3: 5 | E3: 4 | F3: 4 | G3: 1 | H3: 2 | I3: 2 | J3: =SUM(D3:I3) -> 18 | K3: =IF(J3>=15,"P1",IF(J3>=10,"P2","P3")) -> P1
B4: ='ListeProjets_A faire'!C4 -> Projet 3X | C4: ='ListeProjets_A faire'!I4 -> PLAUS | D4: 0 | E4: 4 | F4: 2 | G4: 1 | H4: 2 | I4: 0 | J4: =SUM(D4:I4) -> 9 | K4: =IF(J4>=15,"P1",IF(J4>=10,"P2","P3")) -> P3
B5: ='ListeProjets_A faire'!C5 -> Projet 4 | C5: ='ListeProjets_A faire'!I5 -> Interventions | D5: 5 | E5: 4 | F5: 2 | G5: 1 | H5: 2 | I5: 2 | J5: =SUM(D5:I5) -> 16 | K5: =IF(J5>=15,"P1",IF(J5>=10,"P2","P3")) -> P1
B6: ='ListeProjets_A faire'!C6 -> Projet 5 | C6: ='ListeProjets_A faire'!I6 -> Interventions | J6: =SUM(D6:I6) -> 0 | K6: =IF(J6>=15,"P1",IF(J6>=10,"P2","P3")) -> P3
B7: ='ListeProjets_A faire'!C7 -> projet 7 | C7: ='ListeProjets_A faire'!I7 -> DIPEC | J7: =SUM(D7:I7) -> 0 | K7: =IF(J7>=15,"P1",IF(J7>=10,"P2","P3")) -> P3
B8: ='ListeProjets_A faire'!C8 -> 0 | C8: ='ListeProjets_A faire'!I8 -> 0 | J8: =SUM(D8:I8) -> 0 | K8: =IF(J8>=15,"P1",IF(J8>=10,"P2","P3")) -> P3
B9: ='ListeProjets_A faire'!C9 -> 0 | C9: ='ListeProjets_A faire'!I9 -> 0 | J9: =SUM(D9:I9) -> 0 | K9: =IF(J9>=15,"P1",IF(J9>=10,"P2","P3")) -> P3
B10: ='ListeProjets_A faire'!C10 -> 0 | C10: ='ListeProjets_A faire'!I10 -> 0
B11: ='ListeProjets_A faire'!C11 -> 0 | C11: ='ListeProjets_A faire'!I11 -> 0
B12: ='ListeProjets_A faire'!C12 -> 0 | C12: ='ListeProjets_A faire'!I12 -> 0
B13: ='ListeProjets_A faire'!C13 -> 0 | C13: ='ListeProjets_A faire'!I13 -> 0
B14: ='ListeProjets_A faire'!C14 -> 0 | C14: ='ListeProjets_A faire'!I14 -> 0
B15: ='ListeProjets_A faire'!C15 -> 0 | C15: ='ListeProjets_A faire'!I15 -> 0
B16: ='ListeProjets_A faire'!C16 -> 0 | C16: ='ListeProjets_A faire'!I16 -> 0
B17: ='ListeProjets_A faire'!C17 -> 0 | C17: ='ListeProjets_A faire'!I17 -> 0
B18: ='ListeProjets_A faire'!C18 -> 0 | C18: ='ListeProjets_A faire'!I18 -> 0
B19: ='ListeProjets_A faire'!C19 -> 0 | C19: ='ListeProjets_A faire'!I19 -> 0
B20: ='ListeProjets_A faire'!C20 -> 0 | C20: ='ListeProjets_A faire'!I20 -> 0

Sheet Listes_Ne pas modifier
A1: NE PAS MODIFIER CECI
A3: Engagement | D3: Équipes | G3: Envergure
A4: Réduire les problèmes | D4: DIPEC | G4: Haute | H4: Impact majeu
A5: Grands partenariats | D5: Direction | G5: Moyenne | H5: Impact sur plusieurs clients
A6: Innovations​ | D6: Interventions | G6: Basse | H6: Impact local
A7: Transformation - | D7: PLAUS | G7: Affaires courantes | H7: Activité récurrente, pas de livrable unique, pas de décision stratégique
A8: Autres | D8: Programmes
A9: - | D9: Projets spéciaux
D10: Stratégie
A11: Phase du projet
A12: Besoin d'orientation | G12: Boleen
A13: Conception | G13: Oui
A14: Planification | G14: Non Applicable
A15: Exécution | G15: Non
A16: Suivi et controle
A17: Fermeture
A21: Engagement politique | D21: Impact attendu
A22: 5 | B22: Oui | D22: 4 | E22: Fort impact | H22: 2
A23: 0 | B23: Non | D23: 2 | E23: Impact limité
A25: Alignement stratégique | D25: Urgence/Échéance
A26: 4 | B26: Contribue directement à un engagement | D26: 3 | E26: < 6 mois
A27: 2 | B27: Contribue indirectement | D27: 1 | E27: 6 mois
A28: 0 | B28: HS
A30: Ressources dispo | D30: Complexité/Risque
A31: 2 | B31: RH et budget confirmés | D31: 2 | E31: Faible complexité
A32: 1 | B32: Partiellement confirmés | D32: 0 | E32: Complexité élevée
A33: 0 | B33: Non confirmés

Sheet Feuil3
A2: Décision suggérée 23/07/2025 | B2: Nom du projet | C2: Nombre de Décision suggérée 23/07/2025
A3: À venir | B3: PAUI 2026-2028 | C3: 1
A4: À venir Total | C4: 1
A5: Annulé | B5: Planification et mise en opération Centre du jour 2025-2026 | C5: 1
A6: Annulé Total | C6: 1
A7: En cours | B7: 50 - MIFI-Ville - Gestion de l'entente 2024-2026 | C7: 1
B8: Agir ensemble contre la pauvreté et l'exclusion sociale 2024-2029 | C8: 1
B9: Aide financière aux organismes à but non lucratif locataires 2025 | C9: 1
B10: Alliances pour la solidarité 2018-2024 - Gestion de l'entente | C10: 1
B11: Alliances pour la solidarité 2024-2029 - Gestion de l'entente | C11: 1
B12: Appel de projet HMA - Cohabitation sociale | C12: 1
B13: Bilan de la démarche du chantier en accessibilité universelle 2020-2024 | C13: 1
B14: Bilan des réalisations en accessibilité universelle 2024 de la Ville de Montréal | C14: 1
B15: Cadre d’intervention en Accès Loisir (CIALM) 2025-2027 | C15: 1
B16: Cadre de référence en itinérance 2026-2028 | C16: 1
B17: Cahier de breffage des élu·e·s 2025-2029 | C17: 1
B18: Calendrier SDIS des activités + projets en arrondissements | C18: 1
B19: Cité-des-hospitalières | C19: 1
... B60: Trousse d'accompagnement aux arrondissements | C60: 1
A61: En cours Total | C61: 54
A62: Orientations attendues | B62: Accompagnement des organismes à but non lucratif avec enjeux locatifs et soutien financier | C62: 1
B63: Cadre stratégique en sécurité alimentaire | C63: 1
B64: Politique d'accès aux services municipaux sans peur | C64: 1
B65: Stratégie de reconnaissance des regroupements d'organismes communautaires | C65: 1
A66: Orientations attendues Total | C66: 4
A67: Reporté | B67: Aide financière aux organismes à but non lucratif locataires 2026 | C67: 1
B68: Calculer la pauvreté depuis la pandémie | C68: 1
B69: Campagne ''Témoins, agissons'' - Volet 3 | C69: 1
B70: Développer et lancer un parcours de formation en accessibilité universelle pour le personnel de la Ville | C70: 1
A71: Reporté Total | C71: 4
A72: Terminé | B72: Appel de projet Centre de jour sites LS et STM | C72: 1
B73: Approche municipale - Partage de l'espace public | C73: 1
B74: Cadre stratégique en diversité sexuelle et pluralité des genres | C74: 1
B75: Centre de prévention de la radicalisation menant à la violence (CPRMV) - Gouvernance | C75: 1
B76: Consultation sur les conditions de succès visant à assurer une intégration harmonieuse des ressources dédiées aux personnes en situation d’itinérance dans les quartiers de la métropole | C76: 1
B77: ÉMMIS - Implantation - Centrale d'appel 211 et système d'information | C77: 1
B78: ÉMMIS - Implantation - Zone Nord-Est | C78: 1
B79: Forum montréalais pour la lutte contre la violence 2025 | C79: 1
B80: Municipalité amie des enfants (MAE) | C80: 1
B81: Plan municipal en accessibilité universelle 2024-2030 | C81: 1
...

Sheet Tableau de bord
B2: Projet
B3: Accompagnement des organismes à but non lucratif avec enjeux locatifs et soutien financier
B4: Agir ensemble contre la pauvreté et l'exclusion sociale 2024-2029
B5: Alliances pour la solidarité 2018-2024 - Gestion de l'entente
B6: Bilan de la démarche du chantier en accessibilité universelle 2020-2024
B7: Cadre d’intervention en Accès Loisir (CIALM) 2025-2027
B8: Cadre de référence en itinérance 2026-2028
B9: Cadre stratégique en sécurité alimentaire
B10: Cahier de breffage des élu·e·s 2025-2029
B11: Calculer la pauvreté depuis la pandémie
B12: Calendrier SDIS des activités + projets en arrondissements
B13: Campagne ''Témoins, agissons'' - Volet 3
... B43: Total général

Sheet priorité_A faire
B1: Projet | C1: Division | D1: Engagement politique | E1: Alignement stratégique | F1: Impact attendu | G1: Urgence/échéance | H1: Ressources dispo | I1: Complexité / risque | J1: Total | K1: Priorité | L1: Commentaires
B2: Attention les noms de projets doivent être identiques ici et dans l'onglet liste de projet. Formule. Ne pas modifier. | D2: Oui = 5 points (projet lié à une orientation DG/DGA, décision du conseil, ou enjeu médiatique fort) Non = 0 point | E2: Contribue directement à un engagement (ex. Réduire les inégalités, Cohabitation sociale) = 4 points Contribue indirectement = 2 points HS = 0 point | F2: Fort impact populationnel ou visibilité externe = 4 points Impact limité = 2 points | G2: Exécution dans : < 6 mois = 3 points 6 mois = 1 point | H2: RH et budget confirmés = 2 points Partiellement confirmés = 1 point Non confirmés = 0 point | I2: Attention logique inverse afin de favoriser la réalisation Faible complexité = 2 points Complexité élevée = 0 point | K2: 1.Engagement politique : 5 (oui 5, non 0) 2.Alignement stratégique Ville/SDIS/CFA : 4 (direct, partiel, ou pas du 0) 3.Impact populationnel ou visibilité externe: 4 (fort) limité (2) 4.Urgence /date (légal, politique, média) : 3 (moins de 6 mois) +6 mois, 1 5.Ressources : 2 RH et $; Partiel 1 ; Non confirmé , 0 6.Complexité/risque : Faible 2 ; élevé 0
B3: ='ListeProjets_A faire'!C2 -> Projet 1 | C3: ='ListeProjets_A faire'!I2 -> Programmes | D3: 5 | E3: 2 | F3: 2 | G3: 3 | H3: 2 | I3: 0 | J3: =SUM(D3:I3) -> 14 | K3: =IF(J3>=15,"P1",IF(J3>=10,"P2","P3")) -> P2
B4: ='ListeProjets_A faire'!C3 -> Projet 2 | C4: ='ListeProjets_A faire'!I3 -> Programmes | D4: 5 | E4: 4 | F4: 4 | G4: 1 | H4: 2 | I4: 2 | J4: =SUM(D4:I4) -> 18 | K4: =IF(J4>=15,"P1",IF(J4>=10,"P2","P3")) -> P1 | L4: Complexité normale, mais risque élevé
B5: ='ListeProjets_A faire'!C4 -> Projet 3X | C5: ='ListeProjets_A faire'!I4 -> PLAUS | D5: 0 | E5: 4 | F5: 2 | G5: 1 | H5: 2 | I5: 0 | J5: =SUM(D5:I5) -> 9 | K5: =IF(J5>=15,"P1",IF(J5>=10,"P2","P3")) -> P3
B6: ='ListeProjets_A faire'!#REF! -> #REF! | C6: ='ListeProjets_A faire'!#REF! -> #REF! | D6: 0 | E6: 4 | F6: 2 | G6: 1 | H6: 2 | I6: 2 | J6: =SUM(D6:I6) -> 11 | K6: =IF(J6>=15,"P1",IF(J6>=10,"P2","P3")) -> P2
B7: ='ListeProjets_A faire'!C5 -> Projet 4 | C7: ='ListeProjets_A faire'!I5 -> Interventions | D7: 0 | E7: 4 | F7: 2 | G7: 3 | H7: 1 | I7: 2 | J7: =SUM(D7:I7) -> 12 | K7: =IF(J7>=15,"P1",IF(J7>=10,"P2","P3")) -> P2 | L7: $ il manque le virement pour rehausser les TQ
B8: ='ListeProjets_A faire'!C6 -> Projet 5 | C8: ='ListeProjets_A faire'!I6 -> Interventions | D8: 0 | E8: 2 | J8: =SUM(D8:I8) -> 2 | K8: =IF(J8>=15,"P1",IF(J8>=10,"P2","P3")) -> P3
B9: ='ListeProjets_A faire'!C17 -> 0 | C9: ='ListeProjets_A faire'!I17 -> 0 | J9: =SUM(D9:I9) -> 0 | K9: =IF(J9>=15,"P1",IF(J9>=10,"P2","P3")) -> P3
B10: ='ListeProjets_A faire'!C18 -> 0 | C10: ='ListeProjets_A faire'!I18 -> 0 | D10: 5 | E10: 2 | F10: 4 | G10: 1 | H10: 2 | I10: 2 | J10: =SUM(D10:I10) -> 16 | K10: =IF(J10>=15,"P1",IF(J10>=10,"P2","P3")) -> P1
B11: ='ListeProjets_A faire'!#REF! -> #REF! | C11: ='ListeProjets_A faire'!#REF! -> #REF! | J11: =SUM(D11:I11) -> 0 | K11: =IF(J11>=15,"P1",IF(J11>=10,"P2","P3")) -> P3
B12: ='ListeProjets_A faire'!#REF! -> #REF! | C12: ='ListeProjets_A faire'!#REF! -> #REF! | D12: 0 | E12: 4 | F12: 2 | G12: 1 | H12: 2 | I12: 2 | J12: =SUM(D12:I12) -> 11 | K12: =IF(J12>=15,"P1",IF(J12>=10,"P2","P3")) -> P2
B13: ='ListeProjets_A faire'!#REF! -> #REF! | C13: ='ListeProjets_A faire'!#REF! -> #REF! | D13: 0 | E13: 2 | F13: 2 | G13: 1 | H13: 1 | I13: 0 | J13: =SUM(D13:I13) -> 6 | K13: =IF(J13>=15,"P1",IF(J13>=10,"P2","P3")) -> P3 | L13: Important dans l'ofs du sdis et la relation partenariale- Grande attente des arros.
B14: ='ListeProjets_A faire'!#REF! -> #REF! | C14: ='ListeProjets_A faire'!#REF! -> #REF! | D14: 5 | E14: 4 | F14: 2 | G14: 3 | H14: 1 | I14: 2 | J14: =SUM(D14:I14) -> 17 | K14: =IF(J14>=15,"P1",IF(J14>=10,"P2","P3")) -> P1
B15: ='ListeProjets_A faire'!#REF! -> #REF! | C15: ='ListeProjets_A faire'!#REF! -> #REF! | J15: =SUM(D15:I15) -> 0 | K15: =IF(J15>=15,"P1",IF(J15>=10,"P2","P3")) -> P3
