Workbook

Sheet Dates contrats
A1: Données du salarié | C1: Données contractuelles de l'année 2011 | H1: Données contractuelles de l'année 2012
C2: Dates du contrat de base | E2: Avenants Entrée Sortie | G2: Commentaires | H2: Dates du contrat de base | J2: Avenants | L2: Commentaires | M2: Service
A3: A | B3: Gaël | C3: 40714 | D3: 40831 | E3: 40695 | M3: TECH
A4: B | B4: Daniel | C4: 40644 | D4: 40838 | H4: 41008 | I4: 41202 | M4: TECH
A5: C | B5: Christophe | C5: 40644 | D5: 40838 | H5: 41029 | I5: 41202 | J5: 41008 | L5: Report à la demande du salarié | M5: TECH
A6: D | B6: Christophe | C6: 40665 | D6: 40719 | H6: 41029 | I6: 41038 | L6: Proposition au 20-10-12 refusée par C.Ecalle | M6: TECH
A7: E | B7: Rémi | C7: 40721 | D7: 40761 | M7: TECH
A8: H | B8: Philippe | C8: 40791 | D8: 40810 | F8: 40838 | H8: 41038 | I8: 41181 | L8: rempl. Houssat démissionnaire | M8: TECH
A9: B | B9: Thomas | C9: 40763 | D9: 40810 | F9: 40831 | H9: 41029 | I9: 41175 | J9: 41009 | L9: Démission au 05-05-2012 | M9: TECH
A10: C | B10: Laurent | C10: 40525 | D10: 40621 | G10: CDI 01/07/11 | L10: CDI | M10: TECH
A11: A | B11: Laurent | C11: 40644 | D11: CDI | G11: CDI 01/07/11 | L11: CDI | M11: TECH
A12: B | B12: David | H12: 41068 | I12: 41118 | M12: TECH
A13: A | B13: Thomas | H13: 41083 | I13: 41086 | M13: TECH
A14: B | B14: Théo | H14: 41083 | I14: 41086 | M14: TECH
A15: A | B15: José | C15: 40546 | D15: 40656 | H15: 40910 | I15: 41020 | M15: TECH
A16: B | B16: José | C16: 40693 | D16: 40859 | H16: 41057 | I16: 41223 | M16: TECH
A17: C | B17: Simon | C17: 40623 | D17: 40845 | H17: 40896 | I17: 40978 | M17: TECH
A18: A | B18: Simon | H18: 41001 | I18: 41209 | M18: TECH
A19: B | B19: Eddie | C19: 40721 | D19: 40810 | F19: 40859 | H19: 41029 | I19: 41174 | M19: TECH
A20: C | B20: J. Bernard | C20: 40637 | D20: 40845 | L20: Travail Pecheney | M20: TECH
A21: A | B21: Christophe | C21: 40791 | D21: 40810 | F21: 40817 | H21: 41156 | I21: 41181 | M21: TECH
A22: B | B22: Didier | C22: 40546 | D22: 40677 | H22: 40910 | I22: 41041 | M22: TECH
A23: C | B23: Didier | C23: 40693 | D23: 40859 | G23: prévu 06-06-2011 par Mch | H23: 41057 | I23: 41223 | M23: TECH
A24: A | B24: Adrien | H24: 41040 | I24: 41181 | M24: TECH

Sheet Durée des contrats
A1: Données du salarié | C1: Données contractuelles de l'année 2011 | L1: Données contractuelles de l'année 2012
C2: Dates du contrat de base | E2: Avenants en entrée | G2: Avenants en sortie | I2: Durée | L2: Dates du contrat de base | N2: Avenants en entrée | P2: Avenants en sortie | R2: Durée
I3: Contrat de base | J3: Avenants | K3: Totale | R3: Contrat de base | S3: Avenants | T3: Totale
A4: ='Dates contrats'!A3 -> A | B4: ='Dates contrats'!B3 -> Gaël | C4: ='Dates contrats'!C3 -> 40714 | D4: ='Dates contrats'!D3 -> 40831 | E4: 40695 | F4: =IF(E4>0,C4-1,0) -> 40713 | I4: =(IF(AND(D4>0,C4>0),(D4-C4+1),0))/30 -> 3.9333333 | J4: =(IF(AND(F4>0,E4>0),(F4-E4+1),0)+IF(AND(H4>0,G4>0),(H4-G4+1),0))/30 -> 0.63333333 | K4: =I4+J4 -> 4.5666667 | L4: ='Dates contrats'!H3 -> 0 | M4: ='[1]Dates contrats'!I3 -> 0 | R4: =(IF(AND(M4>0,L4>0),(M4-L4+1),0))/30 -> 0 | S4: =(IF(AND(O4>0,N4>0),(O4-N4+1),0)+IF(AND(Q4>0,P4>0),(Q4-P4+1),0))/30 -> 0 | T4: =R4+S4 -> 0
A5: ='Dates contrats'!A4 -> B | B5: ='Dates contrats'!B4 -> Daniel | C5: ='Dates contrats'!C4 -> 40644 | D5: ='Dates contrats'!D4 -> 40838 | I5: =(IF(AND(D5>0,C5>0),(D5-C5+1),0))/30 -> 6.5 | J5: =(IF(AND(F5>0,E5>0),(F5-E5+1),0)+IF(AND(H5>0,G5>0),(H5-G5+1),0))/30 -> 0 | K5: =I5+J5 -> 6.5 | L5: ='Dates contrats'!H4 -> 41008 | M5: ='Dates contrats'!I4 -> 41202 | R5: =(IF(AND(M5>0,L5>0),(M5-L5+1),0))/30 -> 6.5 | S5: =(IF(AND(O5>0,N5>0),(O5-N5+1),0)+IF(AND(Q5>0,P5>0),(Q5-P5+1),0))/30 -> 0 | T5: =R5+S5 -> 6.5
A6: ='Dates contrats'!A5 -> C | B6: ='Dates contrats'!B5 -> Christophe | C6: ='Dates contrats'!C5 -> 40644 | D6: ='Dates contrats'!D5 -> 40838 | I6: =(IF(AND(D6>0,C6>0),(D6-C6+1),0))/30 -> 6.5 | J6: =(IF(AND(F6>0,E6>0),(F6-E6+1),0)+IF(AND(H6>0,G6>0),(H6-G6+1),0))/30 -> 0 | K6: =I6+J6 -> 6.5 | L6: ='Dates contrats'!H5 -> 41029 | M6: ='Dates contrats'!I5 -> 41202 | R6: =(IF(AND(M6>0,L6>0),(M6-L6+1),0))/30 -> 5.8 | S6: =(IF(AND(O6>0,N6>0),(O6-N6+1),0)+IF(AND(Q6>0,P6>0),(Q6-P6+1),0))/30 -> 0 | T6: =R6+S6 -> 5.8
A7: ='Dates contrats'!A6 -> D | B7: ='Dates contrats'!B6 -> Christophe | C7: ='Dates contrats'!C6 -> 40665 | D7: ='Dates contrats'!D6 -> 40719 | I7: =(IF(AND(D7>0,C7>0),(D7-C7+1),0))/30 -> 1.8333333 | J7: =(IF(AND(F7>0,E7>0),(F7-E7+1),0)+IF(AND(H7>0,G7>0),(H7-G7+1),0))/30 -> 0 | K7: =I7+J7 -> 1.8333333 | L7: ='Dates contrats'!H6 -> 41029 | M7: ='Dates contrats'!I6 -> 41038 | R7: =(IF(AND(M7>0,L7>0),(M7-L7+1),0))/30 -> 0.33333333 | S7: =(IF(AND(O7>0,N7>0),(O7-N7+1),0)+IF(AND(Q7>0,P7>0),(Q7-P7+1),0))/30 -> 0 | T7: =R7+S7 -> 0.33333333
A8: ='Dates contrats'!A7 -> E | B8: ='Dates contrats'!B7 -> Rémi | C8: ='Dates contrats'!C7 -> 40721 | D8: ='Dates contrats'!D7 -> 40761 | G8: =IF(H8>0,D8+1,0) -> 0 | I8: =(IF(AND(D8>0,C8>0),(D8-C8+1),0))/30 -> 1.3666667 | J8: =(IF(AND(F8>0,E8>0),(F8-E8+1),0)+IF(AND(H8>0,G8>0),(H8-G8+1),0))/30 -> 0 | K8: =I8+J8 -> 1.3666667 | L8: ='Dates contrats'!H7 -> 0 | M8: ='Dates contrats'!I7 -> 0 | R8: =(IF(AND(M8>0,L8>0),(M8-L8+1),0))/30 -> 0 | S8: =(IF(AND(O8>0,N8>0),(O8-N8+1),0)+IF(AND(Q8>0,P8>0),(Q8-P8+1),0))/30 -> 0 | T8: =R8+S8 -> 0
A9: ='Dates contrats'!A8 -> H | B9: ='Dates contrats'!B8 -> Philippe | C9: ='Dates contrats'!C8 -> 40791 | D9: ='Dates contrats'!D8 -> 40810 | G9: =IF(H9>0,D9+1,0) -> 40811 | H9: 40838 | I9: =(IF(AND(D9>0,C9>0),(D9-C9+1),0))/30 -> 0.66666667 | J9: =(IF(AND(F9>0,E9>0),(F9-E9+1),0)+IF(AND(H9>0,G9>0),(H9-G9+1),0))/30 -> 0.93333333 | K9: =I9+J9 -> 1.6 | L9: ='Dates contrats'!H8 -> 41038 | M9: ='Dates contrats'!I8 -> 41181 | R9: =(IF(AND(M9>0,L9>0),(M9-L9+1),0))/30 -> 4.8 | S9: =(IF(AND(O9>0,N9>0),(O9-N9+1),0)+IF(AND(Q9>0,P9>0),(Q9-P9+1),0))/30 -> 0 | T9: =R9+S9 -> 4.8
A10: ='Dates contrats'!A9 -> B | B10: ='Dates contrats'!B9 -> Thomas | C10: ='Dates contrats'!C9 -> 40763 | D10: ='Dates contrats'!D9 -> 40810 | H10: 40831 | I10: =(IF(AND(D10>0,C10>0),(D10-C10+1),0))/30 -> 1.6 | J10: =(IF(AND(F10>0,E10>0),(F10-E10+1),0)+IF(AND(H10>0,G10>0),(H10-G10+1),0))/30 -> 0 | K10: =I10+J10 -> 1.6 | L10: ='Dates contrats'!H9 -> 41029 | M10: ='Dates contrats'!I9 -> 41175 | R10: =(IF(AND(M10>0,L10>0),(M10-L10+1),0))/30 -> 4.9 | S10: =(IF(AND(O10>0,N10>0),(O10-N10+1),0)+IF(AND(Q10>0,P10>0),(Q10-P10+1),0))/30 -> 0 | T10: =R10+S10 -> 4.9
A11: ='Dates contrats'!A10 -> C | B11: ='Dates contrats'!B10 -> Laurent | C11: ='Dates contrats'!C10 -> 40525 | D11: ='Dates contrats'!D10 -> 40621 | I11: =(IF(AND(D11>0,C11>0),(D11-C11+1),0))/30 -> 3.2333333 | J11: =(IF(AND(F11>0,E11>0),(F11-E11+1),0)+IF(AND(H11>0,G11>0),(H11-G11+1),0))/30 -> 0 | K11: =I11+J11 -> 3.2333333 | L11: ='Dates contrats'!H10 -> 0 | M11: ='Dates contrats'!I10 -> 0 | R11: =(IF(AND(M11>0,L11>0),(M11-L11+1),0))/30 -> 0 | S11: =(IF(AND(O11>0,N11>0),(O11-N11+1),0)+IF(AND(Q11>0,P11>0),(Q11-P11+1),0))/30 -> 0 | T11: =R11+S11 -> 0
A12: ='Dates contrats'!A11 -> A | B12: ='Dates contrats'!B11 -> Laurent | I12: =(IF(AND(D12>0,C12>0),(D12-C12+1),0))/30 -> 0 | J12: =(IF(AND(F12>0,E12>0),(F12-E12+1),0)+IF(AND(H12>0,G12>0),(H12-G12+1),0))/30 -> 0 | K12: =I12+J12 -> 0 | L12: ='Dates contrats'!H11 -> 0 | M12: ='Dates contrats'!I11 -> 0 | R12: =(IF(AND(M12>0,L12>0),(M12-L12+1),0))/30 -> 0 | S12: =(IF(AND(O12>0,N12>0),(O12-N12+1),0)+IF(AND(Q12>0,P12>0),(Q12-P12+1),0))/30 -> 0 | T12: =R12+S12 -> 0
A13: ='Dates contrats'!A12 -> B | B13: ='Dates contrats'!B12 -> David | I13: =(IF(AND(D13>0,C13>0),(D13-C13+1),0))/30 -> 0 | J13: =(IF(AND(F13>0,E13>0),(F13-E13+1),0)+IF(AND(H13>0,G13>0),(H13-G13+1),0))/30 -> 0 | K13: =I13+J13 -> 0 | L13: ='Dates contrats'!H12 -> 41068 | M13: ='Dates contrats'!I12 -> 41118 | R13: =(IF(AND(M13>0,L13>0),(M13-L13+1),0))/30 -> 1.7 | S13: =(IF(AND(O13>0,N13>0),(O13-N13+1),0)+IF(AND(Q13>0,P13>0),(Q13-P13+1),0))/30 -> 0 | T13: =R13+S13 -> 1.7
A14: ='Dates contrats'!A13 -> A | B14: ='Dates contrats'!B13 -> Thomas | I14: =(IF(AND(D14>0,C14>0),(D14-C14+1),0))/30 -> 0 | J14: =(IF(AND(F14>0,E14>0),(F14-E14+1),0)+IF(AND(H14>0,G14>0),(H14-G14+1),0))/30 -> 0 | K14: =I14+J14 -> 0 | L14: ='Dates contrats'!H13 -> 41083 | M14: ='Dates contrats'!I13 -> 41086 | R14: =(IF(AND(M14>0,L14>0),(M14-L14+1),0))/30 -> 0.13333333 | S14: =(IF(AND(O14>0,N14>0),(O14-N14+1),0)+IF(AND(Q14>0,P14>0),(Q14-P14+1),0))/30 -> 0 | T14: =R14+S14 -> 0.13333333
A15: ='Dates contrats'!A14 -> B | B15: ='Dates contrats'!B14 -> Théo | C15: ='Dates contrats'!C14 -> 0 | D15: ='Dates contrats'!D14 -> 0 | I15: =(IF(AND(D15>0,C15>0),(D15-C15+1),0))/30 -> 0 | J15: =(IF(AND(F15>0,E15>0),(F15-E15+1),0)+IF(AND(H15>0,G15>0),(H15-G15+1),0))/30 -> 0 | K15: =I15+J15 -> 0 | L15: ='Dates contrats'!H14 -> 41083 | M15: ='Dates contrats'!I14 -> 41086 | R15: =(IF(AND(M15>0,L15>0),(M15-L15+1),0))/30 -> 0.13333333 | S15: =(IF(AND(O15>0,N15>0),(O15-N15+1),0)+IF(AND(Q15>0,P15>0),(Q15-P15+1),0))/30 -> 0 | T15: =R15+S15 -> 0.13333333
A16: ='Dates contrats'!A15 -> A | B16: ='Dates contrats'!B15 -> José | C16: ='Dates contrats'!C15 -> 40546 | D16: ='Dates contrats'!D15 -> 40656 | I16: =(IF(AND(D16>0,C16>0),(D16-C16+1),0))/30 -> 3.7 | J16: =(IF(AND(F16>0,E16>0),(F16-E16+1),0)+IF(AND(H16>0,G16>0),(H16-G16+1),0))/30 -> 0 | K16: =I16+J16 -> 3.7 | L16: ='Dates contrats'!H15 -> 40910 | M16: ='Dates contrats'!I15 -> 41020 | R16: =(IF(AND(M16>0,L16>0),(M16-L16+1),0))/30 -> 3.7 | S16: =(IF(AND(O16>0,N16>0),(O16-N16+1),0)+IF(AND(Q16>0,P16>0),(Q16-P16+1),0))/30 -> 0 | T16: =R16+S16 -> 3.7
A17: ='Dates contrats'!A16 -> B | B17: ='Dates contrats'!B16 -> José | C17: ='Dates contrats'!C16 -> 40693 | D17: ='Dates contrats'!D16 -> 40859 | I17: =(IF(AND(D17>0,C17>0),(D17-C17+1),0))/30 -> 5.5666667 | J17: =(IF(AND(F17>0,E17>0),(F17-E17+1),0)+IF(AND(H17>0,G17>0),(H17-G17+1),0))/30 -> 0 | K17: =I17+J17 -> 5.5666667 | L17: ='Dates contrats'!H16 -> 41057 | M17: ='Dates contrats'!I16 -> 41223 | R17: =(IF(AND(M17>0,L17>0),(M17-L17+1),0))/30 -> 5.5666667 | S17: =(IF(AND(O17>0,N17>0),(O17-N17+1),0)+IF(AND(Q17>0,P17>0),(Q17-P17+1),0))/30 -> 0 | T17: =R17+S17 -> 5.5666667
A18: ='Dates contrats'!A17 -> C | B18: ='Dates contrats'!B17 -> Simon | I18: =(IF(AND(D18>0,C18>0),(D18-C18+1),0))/30 -> 0 | J18: =(IF(AND(F18>0,E18>0),(F18-E18+1),0)+IF(AND(H18>0,G18>0),(H18-G18+1),0))/30 -> 0 | K18: =I18+J18 -> 0 | L18: ='Dates contrats'!H17 -> 40896 | M18: ='Dates contrats'!I17 -> 40978 | R18: =(IF(AND(M18>0,L18>0),(M18-L18+1),0))/30 -> 2.7666667 | S18: =(IF(AND(O18>0,N18>0),(O18-N18+1),0)+IF(AND(Q18>0,P18>0),(Q18-P18+1),0))/30 -> 0 | T18: =R18+S18 -> 2.7666667
A19: ='Dates contrats'!A18 -> A | B19: ='Dates contrats'!B18 -> Simon | C19: ='Dates contrats'!C18 -> 0 | D19: ='Dates contrats'!D18 -> 0 | H19: 40859 | I19: =(IF(AND(D19>0,C19>0),(D19-C19+1),0))/30 -> 0 | J19: =(IF(AND(F19>0,E19>0),(F19-E19+1),0)+IF(AND(H19>0,G19>0),(H19-G19+1),0))/30 -> 0 | K19: =I19+J19 -> 0 | L19: ='Dates contrats'!H18 -> 41001 | M19: ='Dates contrats'!I18 -> 41209 | R19: =(IF(AND(M19>0,L19>0),(M19-L19+1),0))/30 -> 6.9666667 | S19: =(IF(AND(O19>0,N19>0),(O19-N19+1),0)+IF(AND(Q19>0,P19>0),(Q19-P19+1),0))/30 -> 0 | T19: =R19+S19 -> 6.9666667
A20: ='Dates contrats'!A19 -> B | B20: ='Dates contrats'!B19 -> Eddie | C20: ='Dates contrats'!C19 -> 40721 | D20: ='Dates contrats'!D19 -> 40810 | I20: =(IF(AND(D20>0,C20>0),(D20-C20+1),0))/30 -> 3 | J20: =(IF(AND(F20>0,E20>0),(F20-E20+1),0)+IF(AND(H20>0,G20>0),(H20-G20+1),0))/30 -> 0 | K20: =I20+J20 -> 3 | L20: ='Dates contrats'!H19 -> 41029 | M20: ='Dates contrats'!I19 -> 41174 | R20: =(IF(AND(M20>0,L20>0),(M20-L20+1),0))/30 -> 4.8666667 | S20: =(IF(AND(O20>0,N20>0),(O20-N20+1),0)+IF(AND(Q20>0,P20>0),(Q20-P20+1),0))/30 -> 0 | T20: =R20+S20 -> 4.8666667
A21: ='Dates contrats'!A20 -> C | B21: ='Dates contrats'!B20 -> J. Bernard | C21: ='Dates contrats'!C20 -> 40637 | D21: ='Dates contrats'!D20 -> 40845 | H21: 40817 | I21: =(IF(AND(D21>0,C21>0),(D21-C21+1),0))/30 -> 6.9666667 | J21: =(IF(AND(F21>0,E21>0),(F21-E21+1),0)+IF(AND(H21>0,G21>0),(H21-G21+1),0))/30 -> 0 | K21: =I21+J21 -> 6.9666667 | L21: ='Dates contrats'!H20 -> 0 | M21: ='Dates contrats'!I20 -> 0 | R21: =(IF(AND(M21>0,L21>0),(M21-L21+1),0))/30 -> 0 | S21: =(IF(AND(O21>0,N21>0),(O21-N21+1),0)+IF(AND(Q21>0,P21>0),(Q21-P21+1),0))/30 -> 0 | T21: =R21+S21 -> 0
A22: ='Dates contrats'!A21 -> A | B22: ='Dates contrats'!B21 -> Christophe | C22: ='Dates contrats'!C21 -> 40791 | D22: ='Dates contrats'!D21 -> 40810 | I22: =(IF(AND(D22>0,C22>0),(D22-C22+1),0))/30 -> 0.66666667 | J22: =(IF(AND(F22>0,E22>0),(F22-E22+1),0)+IF(AND(H22>0,G22>0),(H22-G22+1),0))/30 -> 0 | K22: =I22+J22 -> 0.66666667 | L22: ='Dates contrats'!H21 -> 41156 | M22: ='Dates contrats'!I21 -> 41181 | R22: =(IF(AND(M22>0,L22>0),(M22-L22+1),0))/30 -> 0.86666667 | S22: =(IF(AND(O22>0,N22>0),(O22-N22+1),0)+IF(AND(Q22>0,P22>0),(Q22-P22+1),0))/30 -> 0 | T22: =R22+S22 -> 0.86666667
A23: ='Dates contrats'!A22 -> B | B23: ='Dates contrats'!B22 -> Didier | C23: ='Dates contrats'!C22 -> 40546 | D23: ='Dates contrats'!D22 -> 40677 | I23: =(IF(AND(D23>0,C23>0),(D23-C23+1),0))/30 -> 4.4 | J23: =(IF(AND(F23>0,E23>0),(F23-E23+1),0)+IF(AND(H23>0,G23>0),(H23-G23+1),0))/30 -> 0 | K23: =I23+J23 -> 4.4 | L23: ='Dates contrats'!H22 -> 40910 | M23: ='Dates contrats'!I22 -> 41041 | R23: =(IF(AND(M23>0,L23>0),(M23-L23+1),0))/30 -> 4.4 | S23: =(IF(AND(O23>0,N23>0),(O23-N23+1),0)+IF(AND(Q23>0,P23>0),(Q23-P23+1),0))/30 -> 0 | T23: =R23+S23 -> 4.4
A24: ='Dates contrats'!A23 -> C | B24: ='Dates contrats'!B23 -> Didier | I24: =(IF(AND(D24>0,C24>0),(D24-C24+1),0))/30 -> 0 | J24: =(IF(AND(F24>0,E24>0),(F24-E24+1),0)+IF(AND(H24>0,G24>0),(H24-G24+1),0))/30 -> 0 | K24: =I24+J24 -> 0 | L24: ='Dates contrats'!H23 -> 41057 | M24: ='Dates contrats'!I23 -> 41223 | R24: =(IF(AND(M24>0,L24>0),(M24-L24+1),0))/30 -> 5.5666667 | S24: =(IF(AND(O24>0,N24>0),(O24-N24+1),0)+IF(AND(Q24>0,P24>0),(Q24-P24+1),0))/30 -> 0 | T24: =R24+S24 -> 5.5666667
