Workbook

Sheet Feuil1
A1: 7821415 | B1: 7821415 | C1: 7821415
A2: 6762774 | B2: 6762774 | C2: 6762774
A3: 6769799 | B3: 7821415 | C3: 7821415
A4: 6782564 | B4: 6762774 | C4: 6762774
A5: 6782570 | B5: 6769799 | C5: 6769799
A6: 6782618 | B6: 6782564 | C6: 7821415
A7: 6782624 | B7: 6782570 | C7: 6762774
A8: 6782512 | B8: 6782618 | C8: 6769799
A9: 6782529 | B9: 6782624 | C9: 6782564
A10: 8000620 | B10: 6782512 | C10: 6782570
A11: 6757313 | B11: 6782529 | C11: 6782618
A12: 7305122 | B12: 8000620 | C12: 6782624
... A17: 8017030 | B17: 8017052 | C17: 7305122
B18: 8017023 | C18: 6846353
B19: 8017030 | C19: 8003653
C20: 8017052
C21: 8017023
C22: 8017030

Sheet Feuil2
A1: 7821415 | B1: 7821415 | C1: 7821415
A2: 6762774 | B2: 6762774 | C2: 6762774
A3: 6769799 | B3: 7821415 | C3: 7821415
A4: 6782564 | B4: 6762774 | C4: 6762774
A5: 6782570 | B5: 6769799 | C5: 6769799
A6: 6782618 | B6: 6782564 | C6: 7821415
A7: 6782624 | B7: 6782570 | C7: 6762774
A8: 6782512 | B8: 6782618 | C8: 6769799
A9: 6782529 | B9: 6782624 | C9: 6782564
A10: 8000620 | B10: 6782512 | C10: 6782570
A11: 6757313 | B11: 6782529 | C11: 6782618
A12: 7305122 | B12: 8000620 | C12: 6782625
... A17: 8017030 | B17: 8017052 | C17: 7305122
B18: 8017023 | C18: 6846353
B19: 8017030 | C19: 8003653
C20: 8017052
C21: 8017023
C22: 8017030

Sheet Feuil3
A1: =IF(Feuil1!A1=Feuil2!A1,0,1) -> 0 | B1: =IF(Feuil1!B1=Feuil2!B1,0,1) -> 0 | C1: =IF(Feuil1!C1=Feuil2!C1,0,1) -> 0 | D1: =IF(Feuil1!D1=Feuil2!D1,0,1) -> 0 | E1: =IF(Feuil1!E1=Feuil2!E1,0,1) -> 0 | G1: =MAX(A1:E1) -> 0
A2: =IF(Feuil1!A2=Feuil2!A2,0,1) -> 0 | B2: =IF(Feuil1!B2=Feuil2!B2,0,1) -> 0 | C2: =IF(Feuil1!C2=Feuil2!C2,0,1) -> 0 | D2: =IF(Feuil1!D2=Feuil2!D2,0,1) -> 0 | E2: =IF(Feuil1!E2=Feuil2!E2,0,1) -> 0 | G2: =MAX(A2:E2) -> 0
A3: =IF(Feuil1!A3=Feuil2!A3,0,1) -> 0 | B3: =IF(Feuil1!B3=Feuil2!B3,0,1) -> 0 | C3: =IF(Feuil1!C3=Feuil2!C3,0,1) -> 0 | D3: =IF(Feuil1!D3=Feuil2!D3,0,1) -> 0 | E3: =IF(Feuil1!E3=Feuil2!E3,0,1) -> 0 | G3: =MAX(A3:E3) -> 0 | I3: =MATCH(1,G1:G27,0) -> 12
A4: =IF(Feuil1!A4=Feuil2!A4,0,1) -> 0 | B4: =IF(Feuil1!B4=Feuil2!B4,0,1) -> 0 | C4: =IF(Feuil1!C4=Feuil2!C4,0,1) -> 0 | D4: =IF(Feuil1!D4=Feuil2!D4,0,1) -> 0 | E4: =IF(Feuil1!E4=Feuil2!E4,0,1) -> 0 | G4: =MAX(A4:E4) -> 0 | I4: =MATCH(1,A29:F29,0) -> 3
A5: =IF(Feuil1!A5=Feuil2!A5,0,1) -> 0 | B5: =IF(Feuil1!B5=Feuil2!B5,0,1) -> 0 | C5: =IF(Feuil1!C5=Feuil2!C5,0,1) -> 0 | D5: =IF(Feuil1!D5=Feuil2!D5,0,1) -> 0 | E5: =IF(Feuil1!E5=Feuil2!E5,0,1) -> 0 | G5: =MAX(A5:E5) -> 0
A6: =IF(Feuil1!A6=Feuil2!A6,0,1) -> 0 | B6: =IF(Feuil1!B6=Feuil2!B6,0,1) -> 0 | C6: =IF(Feuil1!C6=Feuil2!C6,0,1) -> 0 | D6: =IF(Feuil1!D6=Feuil2!D6,0,1) -> 0 | E6: =IF(Feuil1!E6=Feuil2!E6,0,1) -> 0 | G6: =MAX(A6:E6) -> 0
A7: =IF(Feuil1!A7=Feuil2!A7,0,1) -> 0 | B7: =IF(Feuil1!B7=Feuil2!B7,0,1) -> 0 | C7: =IF(Feuil1!C7=Feuil2!C7,0,1) -> 0 | D7: =IF(Feuil1!D7=Feuil2!D7,0,1) -> 0 | E7: =IF(Feuil1!E7=Feuil2!E7,0,1) -> 0 | G7: =MAX(A7:E7) -> 0 | I7: Modifiée
A8: =IF(Feuil1!A8=Feuil2!A8,0,1) -> 0 | B8: =IF(Feuil1!B8=Feuil2!B8,0,1) -> 0 | C8: =IF(Feuil1!C8=Feuil2!C8,0,1) -> 0 | D8: =IF(Feuil1!D8=Feuil2!D8,0,1) -> 0 | E8: =IF(Feuil1!E8=Feuil2!E8,0,1) -> 0 | G8: =MAX(A8:E8) -> 0 | I8: =ADDRESS(I3,I4) -> $C$12
A9: =IF(Feuil1!A9=Feuil2!A9,0,1) -> 0 | B9: =IF(Feuil1!B9=Feuil2!B9,0,1) -> 0 | C9: =IF(Feuil1!C9=Feuil2!C9,0,1) -> 0 | D9: =IF(Feuil1!D9=Feuil2!D9,0,1) -> 0 | E9: =IF(Feuil1!E9=Feuil2!E9,0,1) -> 0 | G9: =MAX(A9:E9) -> 0
A10: =IF(Feuil1!A10=Feuil2!A10,0,1) -> 0 | B10: =IF(Feuil1!B10=Feuil2!B10,0,1) -> 0 | C10: =IF(Feuil1!C10=Feuil2!C10,0,1) -> 0 | D10: =IF(Feuil1!D10=Feuil2!D10,0,1) -> 0 | E10: =IF(Feuil1!E10=Feuil2!E10,0,1) -> 0 | G10: =MAX(A10:E10) -> 0
A11: =IF(Feuil1!A11=Feuil2!A11,0,1) -> 0 | B11: =IF(Feuil1!B11=Feuil2!B11,0,1) -> 0 | C11: =IF(Feuil1!C11=Feuil2!C11,0,1) -> 0 | D11: =IF(Feuil1!D11=Feuil2!D11,0,1) -> 0 | E11: =IF(Feuil1!E11=Feuil2!E11,0,1) -> 0 | G11: =MAX(A11:E11) -> 0
A12: =IF(Feuil1!A12=Feuil2!A12,0,1) -> 0 | B12: =IF(Feuil1!B12=Feuil2!B12,0,1) -> 0 | C12: =IF(Feuil1!C12=Feuil2!C12,0,1) -> 1 | D12: =IF(Feuil1!D12=Feuil2!D12,0,1) -> 0 | E12: =IF(Feuil1!E12=Feuil2!E12,0,1) -> 0 | G12: =MAX(A12:E12) -> 1
A13: =IF(Feuil1!A13=Feuil2!A13,0,1) -> 0 | B13: =IF(Feuil1!B13=Feuil2!B13,0,1) -> 0 | C13: =IF(Feuil1!C13=Feuil2!C13,0,1) -> 0 | D13: =IF(Feuil1!D13=Feuil2!D13,0,1) -> 0 | E13: =IF(Feuil1!E13=Feuil2!E13,0,1) -> 0 | G13: =MAX(A13:E13) -> 0
A14: =IF(Feuil1!A14=Feuil2!A14,0,1) -> 0 | B14: =IF(Feuil1!B14=Feuil2!B14,0,1) -> 0 | C14: =IF(Feuil1!C14=Feuil2!C14,0,1) -> 0 | D14: =IF(Feuil1!D14=Feuil2!D14,0,1) -> 0 | E14: =IF(Feuil1!E14=Feuil2!E14,0,1) -> 0 | G14: =MAX(A14:E14) -> 0
A15: =IF(Feuil1!A15=Feuil2!A15,0,1) -> 0 | B15: =IF(Feuil1!B15=Feuil2!B15,0,1) -> 0 | C15: =IF(Feuil1!C15=Feuil2!C15,0,1) -> 0 | D15: =IF(Feuil1!D15=Feuil2!D15,0,1) -> 0 | E15: =IF(Feuil1!E15=Feuil2!E15,0,1) -> 0 | G15: =MAX(A15:E15) -> 0
A16: =IF(Feuil1!A16=Feuil2!A16,0,1) -> 0 | B16: =IF(Feuil1!B16=Feuil2!B16,0,1) -> 0 | C16: =IF(Feuil1!C16=Feuil2!C16,0,1) -> 0 | D16: =IF(Feuil1!D16=Feuil2!D16,0,1) -> 0 | E16: =IF(Feuil1!E16=Feuil2!E16,0,1) -> 0 | G16: =MAX(A16:E16) -> 0
A17: =IF(Feuil1!A17=Feuil2!A17,0,1) -> 0 | B17: =IF(Feuil1!B17=Feuil2!B17,0,1) -> 0 | C17: =IF(Feuil1!C17=Feuil2!C17,0,1) -> 0 | D17: =IF(Feuil1!D17=Feuil2!D17,0,1) -> 0 | E17: =IF(Feuil1!E17=Feuil2!E17,0,1) -> 0 | G17: =MAX(A17:E17) -> 0
A18: =IF(Feuil1!A18=Feuil2!A18,0,1) -> 0 | B18: =IF(Feuil1!B18=Feuil2!B18,0,1) -> 0 | C18: =IF(Feuil1!C18=Feuil2!C18,0,1) -> 0 | D18: =IF(Feuil1!D18=Feuil2!D18,0,1) -> 0 | E18: =IF(Feuil1!E18=Feuil2!E18,0,1) -> 0 | G18: =MAX(A18:E18) -> 0
A19: =IF(Feuil1!A19=Feuil2!A19,0,1) -> 0 | B19: =IF(Feuil1!B19=Feuil2!B19,0,1) -> 0 | C19: =IF(Feuil1!C19=Feuil2!C19,0,1) -> 0 | D19: =IF(Feuil1!D19=Feuil2!D19,0,1) -> 0 | E19: =IF(Feuil1!E19=Feuil2!E19,0,1) -> 0 | G19: =MAX(A19:E19) -> 0
A20: =IF(Feuil1!A20=Feuil2!A20,0,1) -> 0 | B20: =IF(Feuil1!B20=Feuil2!B20,0,1) -> 0 | C20: =IF(Feuil1!C20=Feuil2!C20,0,1) -> 0 | D20: =IF(Feuil1!D20=Feuil2!D20,0,1) -> 0 | E20: =IF(Feuil1!E20=Feuil2!E20,0,1) -> 0 | G20: =MAX(A20:E20) -> 0
... A27: =IF(Feuil1!A27=Feuil2!A27,0,1) -> 0 | B27: =IF(Feuil1!B27=Feuil2!B27,0,1) -> 0 | C27: =IF(Feuil1!C27=Feuil2!C27,0,1) -> 0 | D27: =IF(Feuil1!D27=Feuil2!D27,0,1) -> 0 | E27: =IF(Feuil1!E27=Feuil2!E27,0,1) -> 0 | G27: =MAX(A27:E27) -> 0
A29: =MAX(A1:A27) -> 0 | B29: =MAX(B1:B27) -> 0 | C29: =MAX(C1:C27) -> 1 | D29: =MAX(D1:D27) -> 0 | E29: =MAX(E1:E27) -> 0 | F29: =MAX(F1:F27) -> 0
