Workbook

Sheet Octobre
A1: Pierre BENDJOUYA | F1: Delphine BRESSY-RÄNSCH | K1: Pierre BRUNO | P1: CABINET DELAFON | U1: Véronique GARCIA-GOMEZ | Z1: Audrey GRANDGONNET | AE1: Eric LE GULLUDEC | AJ1: L'ELECT | AO1: ERIC PAGE | AT1: TELL US
A3: Date | B3: Dossier | C3: Durée | D3: Minutes | E3: Facturé | F3: Date | G3: Dossier | H3: Durée | I3: Minutes | J3: Facturé | K3: Date | L3: Dossier | M3: Type | N3: Pages | O3: Facturé | P3: Date | Q3: Dossier | R3: Durée | S3: Minutes | T3: Facturé | U3: Date | V3: Dossier | W3: Durée | X3: Minutes | Y3: Facturé | Z3: Date | AA3: Dossier | AB3: Durée | AC3: Minutes | AD3: Facturé | AE3: Date | AF3: Dossier | AG3: Durée | AH3: Minutes | AI3: Facturé | AJ3: Date | AK3: N° Devis | AL3: Nom client | AM3: Pages | AN3: Facturé | AO3: Date | AP3: Dossier | AQ3: Durée | AR3: Minutes | AS3: Facturé | AT3: Date | AU3: Dossier | AV3: Durée | AW3: Minutes | AX3: Facturé
A4: 26 | B4: ECA Courrier AVIVA | D4: =((HOUR(C4)*3600)+(MINUTE(C4)*60)+SECOND(C4))/60 -> 0 | E4: =SUM(D4*2) -> 0 | F4: 7 | G4: 7 | H4: 0.0017592593 | I4: =((HOUR(H4)*3600)+(MINUTE(H4)*60)+SECOND(H4))/60 -> 2.5333333 | J4: =SUM(I4*2.5) -> 6.3333333 | K4: 12 | L4: 364 | M4: LISTANN | N4: 1 | O4: =SUM(N4*4.5) -> 4.5 | P4: 11 | Q4: JOUBERT Mémoire TA | S4: =((HOUR(R4)*3600)+(MINUTE(R4)*60)+SECOND(R4))/60 -> 0 | T4: =SUM(S4*2) -> 0 | U4: 19 | V4: BEYER Conclusions | W4: 0.009849537 | X4: =((HOUR(W4)*3600)+(MINUTE(W4)*60)+SECOND(W4))/60 -> 14.183333 | Y4: =SUM(X4*2) -> 28.366667 | Z4: 31 | AC4: =((HOUR(AB4)*3600)+(MINUTE(AB4)*60)+SECOND(AB4))/60 -> 0 | AD4: =SUM(AC4*2) -> 0 | AE4: 31 | AH4: =((HOUR(AG4)*3600)+(MINUTE(AG4)*60)+SECOND(AG4))/60 -> 0 | AI4: =SUM(AH4*2) -> 0 | AJ4: 31 | AN4: =SUM(AM4*4.5) -> 0 | AO4: 25 | AP4: GRASSANO Antonietta lettre Dr JOUET-PASTRE | AQ4: 0.001712963 | AR4: =((HOUR(AQ4)*3600)+(MINUTE(AQ4)*60)+SECOND(AQ4))/60 -> 2.4666667 | AS4: =SUM(AR4*2) -> 4.9333333 | AT4: 31 | AW4: =((HOUR(AV4)*3600)+(MINUTE(AV4)*60)+SECOND(AV4))/60 -> 0 | AX4: =SUM(AW4*2) -> 0
A5: 26 | B5: AVRILLON Courrier AVIVA | D5: =((HOUR(C5)*3600)+(MINUTE(C5)*60)+SECOND(C5))/60 -> 0 | E5: =SUM(D5*2) -> 0 | F5: 7 | G5: 7 | H5: 0.0069560185 | I5: =((HOUR(H5)*3600)+(MINUTE(H5)*60)+SECOND(H5))/60 -> 10.016667 | J5: =SUM(I5*2.5) -> 25.041667 | K5: 12 | L5: 332 | M5: FRAPPE-3 | N5: 0.8 | O5: =SUM(N5*4.5) -> 3.6 | P5: 11 | Q5: JOUBERT Courrier client | S5: =((HOUR(R5)*3600)+(MINUTE(R5)*60)+SECOND(R5))/60 -> 0 | T5: =SUM(S5*2) -> 0 | U5: Total 19 | X5: =SUBTOTAL(9,X4:X4) -> 14.183333 | Y5: =SUBTOTAL(9,Y4:Y4) -> 28.366667 | Z5: Total 31 | AC5: =SUBTOTAL(9,AC4:AC4) -> 0 | AD5: =SUBTOTAL(9,AD4:AD4) -> 0 | AE5: Total 31 | AH5: =SUBTOTAL(9,AH4:AH4) -> 0 | AI5: =SUBTOTAL(9,AI4:AI4) -> 0 | AJ5: Total 31 | AM5: =SUBTOTAL(9,AM4:AM4) -> 0 | AN5: =SUBTOTAL(9,AN4:AN4) -> 0 | AO5: Total 25 | AR5: =SUBTOTAL(9,AR4:AR4) -> 2.4666667 | AS5: =SUBTOTAL(9,AS4:AS4) -> 4.9333333 | AT5: Total 31 | AW5: =SUBTOTAL(9,AW4:AW4) -> 0 | AX5: =SUBTOTAL(9,AX4:AX4) -> 0
A6: 26 | B6: CATTET Lettre ACM | D6: =((HOUR(C6)*3600)+(MINUTE(C6)*60)+SECOND(C6))/60 -> 0 | E6: =SUM(D6*2) -> 0 | F6: 7 | G6: 7 | H6: 0.0034606481 | I6: =((HOUR(H6)*3600)+(MINUTE(H6)*60)+SECOND(H6))/60 -> 4.9833333 | J6: =SUM(I6*2.5) -> 12.458333 | K6: 12 | L6: 336 | M6: Lettre BCF & Associés-16 | N6: 0.5 | O6: =SUM(N6*4.5) -> 2.25 | P6: 11 | Q6: Total | R6: 0.015231481 | S6: =((HOUR(R6)*3600)+(MINUTE(R6)*60)+SECOND(R6))/60 -> 21.933333 | T6: =SUM(S6*2) -> 43.866667 | U6: 28 | V6: MEYNET lettre Me ABBO | W6: 0.0045486111 | X6: =((HOUR(W6)*3600)+(MINUTE(W6)*60)+SECOND(W6))/60 -> 6.55 | Y6: =SUM(X6*2) -> 13.1 | Z6: Total | AC6: =SUBTOTAL(9,AC4:AC4) -> 0 | AD6: =SUBTOTAL(9,AD4:AD4) -> 0 | AE6: Total | AH6: =SUBTOTAL(9,AH4:AH4) -> 0 | AI6: =SUBTOTAL(9,AI4:AI4) -> 0 | AJ6: Total | AM6: =SUBTOTAL(9,AM4:AM4) -> 0 | AN6: =SUBTOTAL(9,AN4:AN4) -> 0 | AO6: 26 | AP6: DUVAL Thomas lettre Dr BESSON-ENGELS | AQ6: 0.0021180556 | AR6: =((HOUR(AQ6)*3600)+(MINUTE(AQ6)*60)+SECOND(AQ6))/60 -> 3.05 | AS6: =SUM(AR6*2) -> 6.1 | AT6: Total | AW6: =SUBTOTAL(9,AW4:AW4) -> 0 | AX6: =SUBTOTAL(9,AX4:AX4) -> 0
A7: 26 | B7: DELAYE Lettre AVIVA | D7: =((HOUR(C7)*3600)+(MINUTE(C7)*60)+SECOND(C7))/60 -> 0 | E7: =SUM(D7*2) -> 0 | F7: 7 | G7: 7 | H7: 0.0021990741 | I7: =((HOUR(H7)*3600)+(MINUTE(H7)*60)+SECOND(H7))/60 -> 3.1666667 | J7: =SUM(I7*2.5) -> 7.9166667 | K7: 12 | L7: 336 | M7: Lettre expert ESTELLER-7 | N7: 0.7 | O7: =SUM(N7*4.5) -> 3.15 | P7: Total 11 | S7: =SUBTOTAL(9,S4:S6) -> 21.933333 | T7: =SUBTOTAL(9,T4:T6) -> 43.866667 | U7: Total 28 | X7: =SUBTOTAL(9,X6:X6) -> 6.55 | Y7: =SUBTOTAL(9,Y6:Y6) -> 13.1 | AO7: 26 | AP7: SCHIFFMACHER René lettre Dr OUVRARD | AQ7: 0.0018287037 | AR7: =((HOUR(AQ7)*3600)+(MINUTE(AQ7)*60)+SECOND(AQ7))/60 -> 2.6333333 | AS7: =SUM(AR7*2) -> 5.2666667
A8: 26 | B8: PELLAT-FINET Lettre AVIVA | D8: =((HOUR(C8)*3600)+(MINUTE(C8)*60)+SECOND(C8))/60 -> 0 | E8: =SUM(D8*2) -> 0 | F8: 7 | G8: 7 | H8: 0.0071527778 | I8: =((HOUR(H8)*3600)+(MINUTE(H8)*60)+SECOND(H8))/60 -> 10.3 | J8: =SUM(I8*2.5) -> 25.75 | K8: Total 12 | N8: =SUBTOTAL(9,N4:N7) -> 3 | O8: =SUBTOTAL(9,O4:O7) -> 13.5 | P8: 14 | Q8: CH ST EGREVE - GIMENEZ Conclusions | S8: =((HOUR(R8)*3600)+(MINUTE(R8)*60)+SECOND(R8))/60 -> 0 | T8: =SUM(S8*2) -> 0 | U8: Total | X8: =SUBTOTAL(9,X4:X7) -> 20.733333 | Y8: =SUBTOTAL(9,Y4:Y7) -> 41.466667 | AO8: Total 26 | AR8: =SUBTOTAL(9,AR6:AR7) -> 5.6833333 | AS8: =SUBTOTAL(9,AS6:AS7) -> 11.366667
A9: 26 | B9: Total Face 1 | C9: 0.010601852 | D9: =((HOUR(C9)*3600)+(MINUTE(C9)*60)+SECOND(C9))/60 -> 15.266667 | E9: =SUM(D9*2) -> 30.533333 | F9: 7 | G9: 7 | H9: 0.0035416667 | I9: =((HOUR(H9)*3600)+(MINUTE(H9)*60)+SECOND(H9))/60 -> 5.1 | J9: =SUM(I9*2.5) -> 12.75 | K9: 13 | L9: 357 | M9: NOTE N°X-2 | N9: 2.2 | O9: =SUM(N9*4.5) -> 9.9 | P9: 14 | Q9: CH ST EGREVE - GIMENEZ Courrier client | S9: =((HOUR(R9)*3600)+(MINUTE(R9)*60)+SECOND(R9))/60 -> 0 | T9: =SUM(S9*2) -> 0 | AO9: 27 | AP9: LELONG Cédric lettre Dr LELONG | AQ9: 0.001099537 | AR9: =((HOUR(AQ9)*3600)+(MINUTE(AQ9)*60)+SECOND(AQ9))/60 -> 1.5833333 | AS9: =SUM(AR9*2) -> 3.1666667
A10: 26 | B10: CARRET BOUVIER lettre AVIVA | D10: =((HOUR(C10)*3600)+(MINUTE(C10)*60)+SECOND(C10))/60 -> 0 | E10: =SUM(D10*2) -> 0 | F10: Total 7 | I10: =SUBTOTAL(9,I4:I9) -> 36.1 | J10: =SUBTOTAL(9,J4:J9) -> 90.25 | K10: 13 | L10: 357 | M10: Lettre Me ESQUÉ-2 | N10: 0.7 | O10: =SUM(N10*4.5) -> 3.15 | P10: 14 | Q10: Total | R10: 0.022847222 | S10: =((HOUR(R10)*3600)+(MINUTE(R10)*60)+SECOND(R10))/60 -> 32.9 | T10: =SUM(S10*2) -> 65.8 | AO10: 27 | AP10: CLEMENT Bruno lettre Dr IMBERT | AQ10: 0.0019097222 | AR10: =((HOUR(AQ10)*3600)+(MINUTE(AQ10)*60)+SECOND(AQ10))/60 -> 2.75 | AS10: =SUM(AR10*2) -> 5.5
A11: 26 | B11: LE CLOS DES ILES Assignation | D11: =((HOUR(C11)*3600)+(MINUTE(C11)*60)+SECOND(C11))/60 -> 0 | E11: =SUM(D11*2) -> 0 | F11: 22 | G11: SURDON Conclusions (rappel des faits) | H11: 0.0030787037 | I11: =((HOUR(H11)*3600)+(MINUTE(H11)*60)+SECOND(H11))/60 -> 4.4333333 | J11: =SUM(I11*2.5) -> 11.083333 | K11: 13 | L11: 357 | M11: FRAPPE-1 | N11: 1.5 | O11: =SUM(N11*4.5) -> 6.75 | P11: Total 14 | S11: =SUBTOTAL(9,S8:S10) -> 32.9 | T11: =SUBTOTAL(9,T8:T10) -> 65.8 | AO11: 27 | AP11: BERTHET François lettre Dr CADENCE | AQ11: 0.0016319444 | AR11: =((HOUR(AQ11)*3600)+(MINUTE(AQ11)*60)+SECOND(AQ11))/60 -> 2.35 | AS11: =SUM(AR11*2) -> 4.7
A12: 26 | B12: Total Face 2 | C12: 0.0086689815 | D12: =((HOUR(C12)*3600)+(MINUTE(C12)*60)+SECOND(C12))/60 -> 12.483333 | E12: =SUM(D12*2) -> 24.966667 | F12: 22 | G12: SURDON Conclusions (discussion - 1ère partie) | H12: 0.0034490741 | I12: =((HOUR(H12)*3600)+(MINUTE(H12)*60)+SECOND(H12))/60 -> 4.9666667 | J12: =SUM(I12*2.5) -> 12.416667 | K12: 13 | L12: PERSO | M12: Lettre procureur général-3 | N12: 0.5 | O12: =SUM(N12*4.5) -> 2.25 | P12: 25 | Q12: AXA-DI BILIO - Conclusions | S12: =((HOUR(R12)*3600)+(MINUTE(R12)*60)+SECOND(R12))/60 -> 0 | T12: =SUM(S12*2) -> 0 | AO12: Total 27 | AR12: =SUBTOTAL(9,AR9:AR11) -> 6.6833333 | AS12: =SUBTOTAL(9,AS9:AS11) -> 13.366667
A13: Total 26 | D13: =SUBTOTAL(9,D4:D12) -> 27.75 | E13: =SUBTOTAL(9,E4:E12) -> 55.5 | F13: 22 | G13: SURDON Conclusions (discussion - 2ème partie) | H13: 0.0048032407 | I13: =((HOUR(H13)*3600)+(MINUTE(H13)*60)+SECOND(H13))/60 -> 6.9166667 | J13: =SUM(I13*2.5) -> 17.291667 | K13: 13 | L13: 360 | M13: Lettre Commune-1 | N13: 0.6 | O13: =SUM(N13*4.5) -> 2.7 | P13: 25 | Q13: AXA-DI BILIO - Courrier client | S13: =((HOUR(R13)*3600)+(MINUTE(R13)*60)+SECOND(R13))/60 -> 0 | T13: =SUM(S13*2) -> 0 | AO13: 28 | AP13: MERICHE Hocine lettre Dr ORMIERES | AQ13: 0.0022800926 | AR13: =((HOUR(AQ13)*3600)+(MINUTE(AQ13)*60)+SECOND(AQ13))/60 -> 3.2833333 | AS13: =SUM(AR13*2) -> 6.5666667
A14: Total | D14: =SUBTOTAL(9,D4:D13) -> 27.75 | E14: =SUBTOTAL(9,E4:E13) -> 55.5 | F14: 22 | G14: SURDON Conclusions (discussion - 3ème partie) | H14: 0.0057638889 | I14: =((HOUR(H14)*3600)+(MINUTE(H14)*60)+SECOND(H14))/60 -> 8.3 | J14: =SUM(I14*2.5) -> 20.75 | K14: 13 | L14: 337 | M14: Lettre TGI Besançon-5 | N14: 0.9 | O14: =SUM(N14*4.5) -> 4.05 | P14: 25 | Q14: Total | R14: 0.014814815 | S14: =((HOUR(R14)*3600)+(MINUTE(R14)*60)+SECOND(R14))/60 -> 21.333333 | T14: =SUM(S14*2) -> 42.666667 | AO14: 28 | AP14: VIROT Maud lettre Dr CHARRAS | AQ14: 0.0009375 | AR14: =((HOUR(AQ14)*3600)+(MINUTE(AQ14)*60)+SECOND(AQ14))/60 -> 1.35 | AS14: =SUM(AR14*2) -> 2.7
F15: Total 22 | I15: =SUBTOTAL(9,I11:I14) -> 24.616667 | J15: =SUBTOTAL(9,J11:J14) -> 61.541667 | K15: Total 13 | N15: =SUBTOTAL(9,N9:N14) -> 6.4 | O15: =SUBTOTAL(9,O9:O14) -> 28.8 | P15: 25 | Q15: 11889 ALTROS Conclusions TC REIMS | S15: =((HOUR(R15)*3600)+(MINUTE(R15)*60)+SECOND(R15))/60 -> 0 | T15: =SUM(S15*2) -> 0 | AO15: 28 | AP15: NGUYEN Henri lettre Dr KAUFMAN | AQ15: 0.0020601852 | AR15: =((HOUR(AQ15)*3600)+(MINUTE(AQ15)*60)+SECOND(AQ15))/60 -> 2.9666667 | AS15: =SUM(AR15*2) -> 5.9333333
F16: Total | I16: =SUBTOTAL(9,I4:I15) -> 60.716667 | J16: =SUBTOTAL(9,J4:J15) -> 151.79167 | K16: 20 | L16: 362 | M16: Relevé paramètres automate | N16: 1 | O16: =SUM(N16*4.5) -> 4.5 | P16: 25 | Q16: 11889 ALTROS Courrier client | S16: =((HOUR(R16)*3600)+(MINUTE(R16)*60)+SECOND(R16))/60 -> 0 | T16: =SUM(S16*2) -> 0 | AO16: Total 28 | AR16: =SUBTOTAL(9,AR13:AR15) -> 7.6 | AS16: =SUBTOTAL(9,AS13:AS15) -> 15.2
K17: Total 20 | N17: =SUBTOTAL(9,N16:N16) -> 1 | O17: =SUBTOTAL(9,O16:O16) -> 4.5 | P17: 25 | Q17: Total | R17: 0.011458333 | S17: =((HOUR(R17)*3600)+(MINUTE(R17)*60)+SECOND(R17))/60 -> 16.5 | T17: =SUM(S17*2) -> 33 | AO17: 29 | AP17: GAY Serge lettre Dr ARBET | AQ17: 0.001712963 | AR17: =((HOUR(AQ17)*3600)+(MINUTE(AQ17)*60)+SECOND(AQ17))/60 -> 2.4666667 | AS17: =SUM(AR17*2) -> 4.9333333
K18: 21 | L18: 362 | M18: Relevé paramètres automate | N18: 1 | O18: =SUM(N18*4.5) -> 4.5 | P18: Total 25 | S18: =SUBTOTAL(9,S12:S17) -> 37.833333 | T18: =SUBTOTAL(9,T12:T17) -> 75.666667 | AO18: 29 | AP18: AMOUSSOU Colette lettre Dr SIBILLE | AQ18: 0.0012962963 | AR18: =((HOUR(AQ18)*3600)+(MINUTE(AQ18)*60)+SECOND(AQ18))/60 -> 1.8666667 | AS18: =SUM(AR18*2) -> 3.7333333
K19: Total 21 | N19: =SUBTOTAL(9,N18:N18) -> 1 | O19: =SUBTOTAL(9,O18:O18) -> 4.5 | P19: Total | S19: =SUBTOTAL(9,S4:S18) -> 92.666667 | T19: =SUBTOTAL(9,T4:T18) -> 185.33333 | AO19: 29 | AP19: CUGNOD Marinette lettre Dr MICHEL | AQ19: 0.00081018519 | AR19: =((HOUR(AQ19)*3600)+(MINUTE(AQ19)*60)+SECOND(AQ19))/60 -> 1.1666667 | AS19: =SUM(AR19*2) -> 2.3333333
K20: 22 | L20: 337 | M20: NOTE N° 24 | N20: 1 | O20: =SUM(N20*4.5) -> 4.5 | AO20: 29 | AP20: BANACHE Yves lettre Dr LEVET | AQ20: 0.0015046296 | AR20: =((HOUR(AQ20)*3600)+(MINUTE(AQ20)*60)+SECOND(AQ20))/60 -> 2.1666667 | AS20: =SUM(AR20*2) -> 4.3333333
K21: Total 22 | N21: =SUBTOTAL(9,N20:N20) -> 1 | O21: =SUBTOTAL(9,O20:O20) -> 4.5 | AO21: 29 | AP21: VOLPATO Gérard lettre Dr DELORME | AQ21: 0.0013657407 | AR21: =((HOUR(AQ21)*3600)+(MINUTE(AQ21)*60)+SECOND(AQ21))/60 -> 1.9666667 | AS21: =SUM(AR21*2) -> 3.9333333
K22: 25 | L22: 336 | M22: Lettre BCF & Associés-17 | N22: 0.5 | O22: =SUM(N22*4.5) -> 2.25 | AO22: Total 29 | AR22: =SUBTOTAL(9,AR17:AR21) -> 9.6333333 | AS22: =SUBTOTAL(9,AS17:AS21) -> 19.266667
K23: 25 | L23: 336 | M23: Lettre expert ESTELLER-8 | N23: 0.7 | O23: =SUM(N23*4.5) -> 3.15 | AO23: Total | AR23: =SUBTOTAL(9,AR4:AR22) -> 32.066667 | AS23: =SUBTOTAL(9,AS4:AS22) -> 64.133333
K24: 25 | L24: 336 | M24: Lettre OFFICINE DORIN-12 | N24: 0.5 | O24: =SUM(N24*4.5) -> 2.25
K25: 25 | L25: 342 | M25: Lettre ART GRAPHIC MEDIA | N25: 0.9 | O25: =SUM(N25*4.5) -> 4.05
K26: 25 | L26: 342 | M26: Lettre Me PLAUT | N26: 0.5 | O26: =SUM(N26*4.5) -> 2.25
K27: 25 | L27: 360 | M27: LISTANN | N27: 0.2 | O27: =SUM(N27*4.5) -> 0.9
K28: Total 25 | N28: =SUBTOTAL(9,N22:N27) -> 3.3 | O28: =SUBTOTAL(9,O22:O27) -> 14.85
K29: 27 | L29: 357 | M29: LISTANN FM | N29: 0.3 | O29: =SUM(N29*4.5) -> 1.35
K30: 27 | L30: 357 | M30: Lettre TGI-2 | N30: 0.9 | O30: =SUM(N30*4.5) -> 4.05
K31: 27 | L31: 357 | M31: FRAPPE-2 | N31: 4 | O31: =SUM(N31*4.5) -> 18
K32: 27 | L32: 357 | M32: FRAPPE-3 | N32: 0.3 | O32: =SUM(N32*4.5) -> 1.35
K33: 27 | L33: 369 | M33: Projet de Note | N33: 0.8 | O33: =SUM(N33*4.5) -> 3.6
K34: 27 | L34: 334 | M34: FRAPPE-1 | N34: 1 | O34: =SUM(N34*4.5) -> 4.5
K35: Total 27 | N35: =SUBTOTAL(9,N29:N34) -> 7.3 | O35: =SUBTOTAL(9,O29:O34) -> 32.85
K36: 29 | L36: 360 | M36: Lettre TA-2 | N36: 0.8 | O36: =SUM(N36*4.5) -> 3.6
K37: 29 | L37: 336 | M37: Lettre BCF & Associés-18 | N37: 0.6 | O37: =SUM(N37*4.5) -> 2.7
K38: 29 | L38: 334 | M38: FRAPPE-2 | N38: 1.4 | O38: =SUM(N38*4.5) -> 6.3
K39: 29 | L39: 332 | M39: Lettre TGI-6 | N39: 0.8 | O39: =SUM(N39*4.5) -> 3.6
K40: 29 | L40: 334 | M40: FRAPPE-3 | N40: 0.1 | O40: =SUM(N40*4.5) -> 0.45
K41: Total 29 | N41: =SUBTOTAL(9,N36:N40) -> 3.7 | O41: =SUBTOTAL(9,O36:O40) -> 16.65
...

Sheet Novembre
A1: Pierre BENDJOUYA | F1: Delphine BRESSY-RÄNSCH | K1: Pierre BRUNO | P1: CABINET DELAFON | U1: Véronique GARCIA-GOMEZ | Z1: Audrey GRANDGONNET | AE1: Eric LE GULLUDEC | AJ1: L'ELECT | AO1: ERIC PAGE | AT1: TELL US
A3: Date | B3: Dossier | C3: Durée | D3: Minutes | E3: Facturé | F3: Date | G3: Dossier | H3: Durée | I3: Minutes | J3: Facturé | K3: Date | L3: Dossier | M3: Type | N3: Pages | O3: Facturé | P3: Date | Q3: Dossier | R3: Durée | S3: Minutes | T3: Facturé | U3: Date | V3: Dossier | W3: Durée | X3: Minutes | Y3: Facturé | Z3: Date | AA3: Dossier | AB3: Durée | AC3: Minutes | AD3: Facturé | AE3: Date | AF3: Dossier | AG3: Durée | AH3: Minutes | AI3: Facturé | AJ3: Date | AK3: N° Devis | AL3: Nom client | AM3: Pages | AN3: Facturé | AO3: Date | AP3: Dossier | AQ3: Durée | AR3: Minutes | AS3: Facturé | AT3: Date | AU3: Dossier | AV3: Durée | AW3: Minutes | AX3: Facturé
A4: 19 | B4: PELLAT-FINET Conclusions | D4: =((HOUR(C4)*3600)+(MINUTE(C4)*60)+SECOND(C4))/60 -> 0 | E4: =SUM(D4*2) -> 0 | F4: 16 | G4: LECLERE conclusions CPH | I4: =((HOUR(H4)*3600)+(MINUTE(H4)*60)+SECOND(H4))/60 -> 0 | J4: =SUM(I4*2.5) -> 0 | K4: 2 | L4: 332 | M4: FRAPPE-4 | N4: 0.2 | O4: =SUM(N4*4.5) -> 0.9 | P4: 31 | S4: =((HOUR(R4)*3600)+(MINUTE(R4)*60)+SECOND(R4))/60 -> 0 | T4: =SUM(S4*2) -> 0 | U4: 12 | V4: 107/634 MAGGUILLI Lettre Me GIRARD | X4: =((HOUR(W4)*3600)+(MINUTE(W4)*60)+SECOND(W4))/60 -> 0 | Y4: =SUM(X4*2) -> 0 | Z4: 8 | AA4: GRANON-MATTIA Conclusions JAF | AC4: =((HOUR(AB4)*3600)+(MINUTE(AB4)*60)+SECOND(AB4))/60 -> 0 | AD4: =SUM(AC4*2) -> 0 | AE4: 31 | AH4: =((HOUR(AG4)*3600)+(MINUTE(AG4)*60)+SECOND(AG4))/60 -> 0 | AI4: =SUM(AH4*2) -> 0 | AJ4: 18 | AK4: 4822 | AL4: GLE Martine | AM4: 5 | AN4: =SUM(AM4*4.5) -> 22.5 | AO4: 10 | AP4: RIVIERE Elisabeth lettre Dr COLUSSI | AQ4: 0.00097222222 | AR4: =((HOUR(AQ4)*3600)+(MINUTE(AQ4)*60)+SECOND(AQ4))/60 -> 1.4 | AS4: =SUM(AR4*2) -> 2.8 | AU4: SCHNEIDER SUISSE AGENCE LAUSANNE | AV4: 0.088761574 | AW4: =((HOUR(AV4)*3600)+(MINUTE(AV4)*60)+SECOND(AV4))/60 -> 127.81667 | AX4: =SUM(AW4*2) -> 255.63333
A5: 19 | B5: Face 1 | C5: 0.010636574 | D5: =((HOUR(C5)*3600)+(MINUTE(C5)*60)+SECOND(C5))/60 -> 15.316667 | E5: =SUM(D5*2) -> 30.633333 | F5: 16 | G5: 1 - Rappel des faits | H5: 0.0052893519 | I5: =((HOUR(H5)*3600)+(MINUTE(H5)*60)+SECOND(H5))/60 -> 7.6166667 | J5: =SUM(I5*2.5) -> 19.041667 | K5: 2 | L5: 359 | M5: Lettre Me BETTON-1 | N5: 0.7 | O5: =SUM(N5*4.5) -> 3.15 | P5: Total 31 | S5: =SUBTOTAL(9,S4:S4) -> 0 | T5: =SUBTOTAL(9,T4:T4) -> 0 | U5: 12 | V5: 110791 BENSAADA Lettre Mr et Mme BENSAADA | X5: =((HOUR(W5)*3600)+(MINUTE(W5)*60)+SECOND(W5))/60 -> 0 | Y5: =SUM(X5*2) -> 0 | Z5: 8 | AA5: FRESSONNET-CREUSAT Conclusions | AC5: =((HOUR(AB5)*3600)+(MINUTE(AB5)*60)+SECOND(AB5))/60 -> 0 | AD5: =SUM(AC5*2) -> 0 | AE5: Total 31 | AH5: =SUBTOTAL(9,AH4:AH4) -> 0 | AI5: =SUBTOTAL(9,AI4:AI4) -> 0 | AJ5: Total 18 | AM5: =SUBTOTAL(9,AM4:AM4) -> 5 | AN5: =SUBTOTAL(9,AN4:AN4) -> 22.5 | AO5: 10 | AP5: BUSSON Pierre lettre Dr ANDERSON | AQ5: 0.0021412037 | AR5: =((HOUR(AQ5)*3600)+(MINUTE(AQ5)*60)+SECOND(AQ5))/60 -> 3.0833333 | AS5: =SUM(AR5*2) -> 6.1666667 | AU5: BUL 101007 BEAMSTEIN SUISSE | AV5: 0.048854167 | AW5: =((HOUR(AV5)*3600)+(MINUTE(AV5)*60)+SECOND(AV5))/60 -> 70.35 | AX5: =SUM(AW5*2) -> 140.7
A6: 19 | B6: Face 2 | C6: 0.0035069444 | D6: =((HOUR(C6)*3600)+(MINUTE(C6)*60)+SECOND(C6))/60 -> 5.05 | E6: =SUM(D6*2) -> 10.1 | F6: 16 | G6: 2 - Discussion I | H6: 0.002337963 | I6: =((HOUR(H6)*3600)+(MINUTE(H6)*60)+SECOND(H6))/60 -> 3.3666667 | J6: =SUM(I6*2.5) -> 8.4166667 | K6: 2 | L6: 359 | M6: Lettre Me SEON-1 | N6: 0.8 | O6: =SUM(N6*4.5) -> 3.6 | P6: Total | S6: =SUBTOTAL(9,S4:S4) -> 0 | T6: =SUBTOTAL(9,T4:T4) -> 0 | U6: 12 | V6: 106545 VETULI Lettre Mr VETULI | X6: =((HOUR(W6)*3600)+(MINUTE(W6)*60)+SECOND(W6))/60 -> 0 | Y6: =SUM(X6*2) -> 0 | Z6: 8 | AA6: Total | AB6: 0.026377315 | AC6: =((HOUR(AB6)*3600)+(MINUTE(AB6)*60)+SECOND(AB6))/60 -> 37.983333 | AD6: =SUM(AC6*2) -> 75.966667 | AE6: Total | AH6: =SUBTOTAL(9,AH4:AH4) -> 0 | AI6: =SUBTOTAL(9,AI4:AI4) -> 0 | AJ6: 19 | AK6: 4820 | AL6: SCHNEIDER ELECTRIC | AM6: 2 | AN6: =SUM(AM6*4.5) -> 9 | AO6: 10 | AP6: GODAT Odile lettre Dr RAVIX | AQ6: 0.0020601852 | AR6: =((HOUR(AQ6)*3600)+(MINUTE(AQ6)*60)+SECOND(AQ6))/60 -> 2.9666667 | AS6: =SUM(AR6*2) -> 5.9333333 | AW6: =SUBTOTAL(9,AW4:AW5) -> 198.16667 | AX6: =SUBTOTAL(9,AX4:AX5) -> 396.33333
A7: Total 19 | D7: =SUBTOTAL(9,D4:D6) -> 20.366667 | E7: =SUBTOTAL(9,E4:E6) -> 40.733333 | F7: 16 | G7: 3 - Discussion II | H7: 0.0053356481 | I7: =((HOUR(H7)*3600)+(MINUTE(H7)*60)+SECOND(H7))/60 -> 7.6833333 | J7: =SUM(I7*2.5) -> 19.208333 | K7: 2 | L7: 332 | M7: FRAPPE-5 | N7: 0.8 | O7: =SUM(N7*4.5) -> 3.6 | U7: 12 | V7: Total | W7: 0.0031712963 | X7: =((HOUR(W7)*3600)+(MINUTE(W7)*60)+SECOND(W7))/60 -> 4.5666667 | Y7: =SUM(X7*2) -> 9.1333333 | Z7: Total 8 | AC7: =SUBTOTAL(9,AC4:AC6) -> 37.983333 | AD7: =SUBTOTAL(9,AD4:AD6) -> 75.966667 | AJ7: Total 19 | AM7: =SUBTOTAL(9,AM6:AM6) -> 2 | AN7: =SUBTOTAL(9,AN6:AN6) -> 9 | AO7: 10 | AP7: TORRES Ruth lettre Dr MERLE | AQ7: 0.0015740741 | AR7: =((HOUR(AQ7)*3600)+(MINUTE(AQ7)*60)+SECOND(AQ7))/60 -> 2.2666667 | AS7: =SUM(AR7*2) -> 4.5333333 | AT7: Total | AW7: =SUBTOTAL(9,AW4:AW6) -> 198.16667 | AX7: =SUBTOTAL(9,AX4:AX6) -> 396.33333
A8: 25 | B8: RHONE-ALPES ISOLATION Bordereau de pièces | D8: =((HOUR(C8)*3600)+(MINUTE(C8)*60)+SECOND(C8))/60 -> 0 | E8: =SUM(D8*2) -> 0 | F8: 16 | G8: 4 - Discussion II suite 1 | H8: 0.0063657407 | I8: =((HOUR(H8)*3600)+(MINUTE(H8)*60)+SECOND(H8))/60 -> 9.1666667 | J8: =SUM(I8*2.5) -> 22.916667 | K8: 2 | L8: 332 | M8: Envoi rapport TGI | N8: 1 | O8: =SUM(N8*4.5) -> 4.5 | U8: Total 12 | X8: =SUBTOTAL(9,X4:X7) -> 4.5666667 | Y8: =SUBTOTAL(9,Y4:Y7) -> 9.1333333 | Z8: Total | AC8: =SUBTOTAL(9,AC4:AC7) -> 37.983333 | AD8: =SUBTOTAL(9,AD4:AD7) -> 75.966667 | AJ8: Total | AM8: =SUBTOTAL(9,AM4:AM7) -> 7 | AN8: =SUBTOTAL(9,AN4:AN7) -> 31.5 | AO8: Total 10 | AR8: =SUBTOTAL(9,AR4:AR7) -> 9.7166667 | AS8: =SUBTOTAL(9,AS4:AS7) -> 19.433333
A9: 25 | B9: CARRET Lettre BOUVIER-LABROSSE | D9: =((HOUR(C9)*3600)+(MINUTE(C9)*60)+SECOND(C9))/60 -> 0 | E9: =SUM(D9*2) -> 0 | F9: 16 | G9: 5 - Discussion II suite 2 | H9: 0.002037037 | I9: =((HOUR(H9)*3600)+(MINUTE(H9)*60)+SECOND(H9))/60 -> 2.9333333 | J9: =SUM(I9*2.5) -> 7.3333333 | L9: 332 | M9: Envoi rapport greffe | N9: 1 | O9: =SUM(N9*4.5) -> 4.5 | U9: 18 | V9: 109736 HODÉ Requête modif mesures provisoires | W9: 0.0070833333 | X9: =((HOUR(W9)*3600)+(MINUTE(W9)*60)+SECOND(W9))/60 -> 10.2 | Y9: =SUM(X9*2) -> 20.4 | AO9: 15 | AP9: CHOVIN Jean-Claude lettre Dr CAHEN | AQ9: 0.0011574074 | AR9: =((HOUR(AQ9)*3600)+(MINUTE(AQ9)*60)+SECOND(AQ9))/60 -> 1.6666667 | AS9: =SUM(AR9*2) -> 3.3333333
A10: 25 | B10: LES AMIS DU GRAND ALBERT Lettre SCI DU GRAND ALBERT | D10: =((HOUR(C10)*3600)+(MINUTE(C10)*60)+SECOND(C10))/60 -> 0 | E10: =SUM(D10*2) -> 0 | F10: 16 | G10: 6 - Discussion III fin | H10: 0.0041319444 | I10: =((HOUR(H10)*3600)+(MINUTE(H10)*60)+SECOND(H10))/60 -> 5.95 | J10: =SUM(I10*2.5) -> 14.875 | K10: 2 | L10: 332 | M10: Envoi rapport parties | N10: 3 | O10: =SUM(N10*4.5) -> 13.5 | U10: Total 18 | X10: =SUBTOTAL(9,X9:X9) -> 10.2 | Y10: =SUBTOTAL(9,Y9:Y9) -> 20.4 | AO10: 15 | AP10: BARDONE Hugues lettre Dr VERLHAC | AQ10: 0.0013310185 | AR10: =((HOUR(AQ10)*3600)+(MINUTE(AQ10)*60)+SECOND(AQ10))/60 -> 1.9166667 | AS10: =SUM(AR10*2) -> 3.8333333
A11: 25 | B11: AMAZZONI-GAUTHIER Assignation | D11: =((HOUR(C11)*3600)+(MINUTE(C11)*60)+SECOND(C11))/60 -> 0 | E11: =SUM(D11*2) -> 0 | F11: Total 16 | I11: =SUBTOTAL(9,I4:I10) -> 36.716667 | J11: =SUBTOTAL(9,J4:J10) -> 91.791667 | K11: 2 | L11: 332 | M11: Envoi rapport avocats | N11: 2 | O11: =SUM(N11*4.5) -> 9 | U11: 29 | V11: 110787 JEBARI Assignation TGI | W11: 0.0044444444 | X11: =((HOUR(W11)*3600)+(MINUTE(W11)*60)+SECOND(W11))/60 -> 6.4 | Y11: =SUM(X11*2) -> 12.8 | AO11: 15 | AP11: MAVRAGANIS Annie lettre Dr CAEN | AQ11: 0.0017939815 | AR11: =((HOUR(AQ11)*3600)+(MINUTE(AQ11)*60)+SECOND(AQ11))/60 -> 2.5833333 | AS11: =SUM(AR11*2) -> 5.1666667
A12: 25 | B12: PELLAT-FINET Conclusions | D12: =((HOUR(C12)*3600)+(MINUTE(C12)*60)+SECOND(C12))/60 -> 0 | E12: =SUM(D12*2) -> 0 | F12: Total | I12: =SUBTOTAL(9,I4:I11) -> 36.716667 | J12: =SUBTOTAL(9,J4:J11) -> 91.791667 | K12: 2 | L12: 247 | M12: Lettre Ministère-3 | N12: 1 | O12: =SUM(N12*4.5) -> 4.5 | U12: Total 29 | X12: =SUBTOTAL(9,X11:X11) -> 6.4 | Y12: =SUBTOTAL(9,Y11:Y11) -> 12.8 | AO12: 15 | AP12: ESPINOS Jacqueline lettre Dr GABARD | AQ12: 0.0014930556 | AR12: =((HOUR(AQ12)*3600)+(MINUTE(AQ12)*60)+SECOND(AQ12))/60 -> 2.15 | AS12: =SUM(AR12*2) -> 4.3
A13: 25 | B13: Total | C13: 0.015833333 | D13: =((HOUR(C13)*3600)+(MINUTE(C13)*60)+SECOND(C13))/60 -> 22.8 | E13: =SUM(D13*2) -> 45.6 | K13: Total 2 | N13: =SUBTOTAL(9,N4:N12) -> 10.5 | O13: =SUBTOTAL(9,O4:O12) -> 47.25 | U13: Total | X13: =SUBTOTAL(9,X4:X12) -> 21.166667 | Y13: =SUBTOTAL(9,Y4:Y12) -> 42.333333 | AO13: 15 | AP13: BASSET Raymond lettre Dr PINEY | AQ13: 0.0011921296 | AR13: =((HOUR(AQ13)*3600)+(MINUTE(AQ13)*60)+SECOND(AQ13))/60 -> 1.7166667 | AS13: =SUM(AR13*2) -> 3.4333333
A14: Total 25 | D14: =SUBTOTAL(9,D8:D13) -> 22.8 | E14: =SUBTOTAL(9,E8:E13) -> 45.6 | K14: 5 | L14: 332 | M14: Notification paiement | N14: 1 | O14: =SUM(N14*4.5) -> 4.5 | AO14: 15 | AP14: BASSET Ginette lettre Dr THORET | AQ14: 0.0010763889 | AR14: =((HOUR(AQ14)*3600)+(MINUTE(AQ14)*60)+SECOND(AQ14))/60 -> 1.55 | AS14: =SUM(AR14*2) -> 3.1
A15: Total | D15: =SUBTOTAL(9,D4:D14) -> 43.166667 | E15: =SUBTOTAL(9,E4:E14) -> 86.333333 | K15: 5 | L15: 332 | M15: Notification parties | N15: 1.6 | O15: =SUM(N15*4.5) -> 7.2 | AO15: Total 15 | AR15: =SUBTOTAL(9,AR9:AR14) -> 11.583333 | AS15: =SUBTOTAL(9,AS9:AS14) -> 23.166667
K16: 5 | L16: 332 | M16: Notification avocats | N16: 1.6 | O16: =SUM(N16*4.5) -> 7.2 | AO16: 16 | AP16: CHABANE Gérard lettre Dr LEHODEY | AQ16: 0.0014236111 | AR16: =((HOUR(AQ16)*3600)+(MINUTE(AQ16)*60)+SECOND(AQ16))/60 -> 2.05 | AS16: =SUM(AR16*2) -> 4.1
K17: Total 5 | N17: =SUBTOTAL(9,N14:N16) -> 4.2 | O17: =SUBTOTAL(9,O14:O16) -> 18.9 | AO17: 16 | AP17: BRUN Camille lettre Dr MAZZILLI | AQ17: 0.0011111111 | AR17: =((HOUR(AQ17)*3600)+(MINUTE(AQ17)*60)+SECOND(AQ17))/60 -> 1.6 | AS17: =SUM(AR17*2) -> 3.2
K18: 6 | L18: 332 | M18: Conclusions-1 | N18: 2 | O18: =SUM(N18*4.5) -> 9 | AO18: Total 16 | AR18: =SUBTOTAL(9,AR16:AR17) -> 3.65 | AS18: =SUBTOTAL(9,AS16:AS17) -> 7.3
K19: Total 6 | N19: =SUBTOTAL(9,N18:N18) -> 2 | O19: =SUBTOTAL(9,O18:O18) -> 9 | AO19: 17 | AP19: BUDIN Gérard lettre Dr OUVRARD | AQ19: 0.0012962963 | AR19: =((HOUR(AQ19)*3600)+(MINUTE(AQ19)*60)+SECOND(AQ19))/60 -> 1.8666667 | AS19: =SUM(AR19*2) -> 3.7333333
K20: 8 | L20: 357 | M20: Lettre TGI-3 | N20: 0.9 | O20: =SUM(N20*4.5) -> 4.05 | AO20: 17 | AP20: MOREL Marie-Jeanne lettre Dr REBOUD | AQ20: 0.0011805556 | AR20: =((HOUR(AQ20)*3600)+(MINUTE(AQ20)*60)+SECOND(AQ20))/60 -> 1.7 | AS20: =SUM(AR20*2) -> 3.4
K21: 8 | L21: 362 | M21: NOTE N° 9 | N21: 0.8 | O21: =SUM(N21*4.5) -> 3.6 | AO21: 17 | AP21: COGNE Germaine lettre Dr BLACHON | AQ21: 0.0016203704 | AR21: =((HOUR(AQ21)*3600)+(MINUTE(AQ21)*60)+SECOND(AQ21))/60 -> 2.3333333 | AS21: =SUM(AR21*2) -> 4.6666667
K22: Total 8 | N22: =SUBTOTAL(9,N20:N21) -> 1.7 | O22: =SUBTOTAL(9,O20:O21) -> 7.65 | AO22: 17 | AP22: CHAUVET Anna lettre Dr SAOU | AQ22: 0.001087963 | AR22: =((HOUR(AQ22)*3600)+(MINUTE(AQ22)*60)+SECOND(AQ22))/60 -> 1.5666667 | AS22: =SUM(AR22*2) -> 3.1333333
K23: 9 | L23: 360 | M23: LISTANN | N23: 0.3 | O23: =SUM(N23*4.5) -> 1.35 | AO23: Total 17 | AR23: =SUBTOTAL(9,AR19:AR22) -> 7.4666667 | AS23: =SUBTOTAL(9,AS19:AS22) -> 14.933333
K24: Total 9 | N24: =SUBTOTAL(9,N23:N23) -> 0.3 | O24: =SUBTOTAL(9,O23:O23) -> 1.35 | AO24: 18 | AP24: BOSSY Jean-Claude lettre Dr STAQUET | AQ24: 0.0012152778 | AR24: =((HOUR(AQ24)*3600)+(MINUTE(AQ24)*60)+SECOND(AQ24))/60 -> 1.75 | AS24: =SUM(AR24*2) -> 3.5
K25: 11 | L25: PERSO | M25: Lettre SLB CIC FM | N25: 0.5 | O25: =SUM(N25*4.5) -> 2.25 | AO25: 18 | AP25: GARNIER Jeanine lettre Dr LAGABRIELLE | AQ25: 0.0022106481 | AR25: =((HOUR(AQ25)*3600)+(MINUTE(AQ25)*60)+SECOND(AQ25))/60 -> 3.1833333 | AS25: =SUM(AR25*2) -> 6.3666667
K26: 11 | L26: 368 | M26: LISTANN | N26: 0.5 | O26: =SUM(N26*4.5) -> 2.25 | AO26: 18 | AP26: MARTIN Jean-Marie lettre Dr MALHOMME | AQ26: 0.0015277778 | AR26: =((HOUR(AQ26)*3600)+(MINUTE(AQ26)*60)+SECOND(AQ26))/60 -> 2.2 | AS26: =SUM(AR26*2) -> 4.4
K27: Total 11 | N27: =SUBTOTAL(9,N25:N26) -> 1 | O27: =SUBTOTAL(9,O25:O26) -> 4.5 | AO27: 18 | AP27: Courrier Mme GOBART, société ATE | AQ27: 0.0021412037 | AR27: =((HOUR(AQ27)*3600)+(MINUTE(AQ27)*60)+SECOND(AQ27))/60 -> 3.0833333 | AS27: =SUM(AR27*2) -> 6.1666667
K28: 12 | L28: 351 | M28: Lettre Me ANGELI-1 | N28: 1 | O28: =SUM(N28*4.5) -> 4.5 | AO28: 18 | AP28: MONCENIS Geneviève lettre Dr DIAB | AR28: =((HOUR(AQ28)*3600)+(MINUTE(AQ28)*60)+SECOND(AQ28))/60 -> 0 | AS28: =SUM(AR28*2) -> 0
K29: Total 12 | N29: =SUBTOTAL(9,N28:N28) -> 1 | O29: =SUBTOTAL(9,O28:O28) -> 4.5 | AO29: 18 | AP29: BONA Stefano lettre Dr DAVID | AQ29: 0.0018518519 | AR29: =((HOUR(AQ29)*3600)+(MINUTE(AQ29)*60)+SECOND(AQ29))/60 -> 2.6666667 | AS29: =SUM(AR29*2) -> 5.3333333
K30: 17 | L30: 360 | M30: Lettre Me ALBERTINI-1 | N30: 1 | O30: =SUM(N30*4.5) -> 4.5 | AO30: Total 18 | AR30: =SUBTOTAL(9,AR24:AR29) -> 12.883333 | AS30: =SUBTOTAL(9,AS24:AS29) -> 25.766667
K31: Total 17 | N31: =SUBTOTAL(9,N30:N30) -> 1 | O31: =SUBTOTAL(9,O30:O30) -> 4.5 | AO31: 19 | AP31: HAMANI Rabah lettre Dr GOURGUE | AQ31: 0.0011226852 | AR31: =((HOUR(AQ31)*3600)+(MINUTE(AQ31)*60)+SECOND(AQ31))/60 -> 1.6166667 | AS31: =SUM(AR31*2) -> 3.2333333
K32: 18 | L32: 364 | M32: NOTE N° 4 | N32: 0.9 | O32: =SUM(N32*4.5) -> 4.05 | AO32: 19 | AP32: FAUCARD Jacques lettre cardio mutualiste | AQ32: 0.0018402778 | AR32: =((HOUR(AQ32)*3600)+(MINUTE(AQ32)*60)+SECOND(AQ32))/60 -> 2.65 | AS32: =SUM(AR32*2) -> 5.3
K33: 18 | L33: 365 | M33: Tableau températures | N33: 0.5 | O33: =SUM(N33*4.5) -> 2.25 | AO33: 19 | AP33: JANSEM Elisabeth lettre Dr JEANMART | AQ33: 0.001400463 | AR33: =((HOUR(AQ33)*3600)+(MINUTE(AQ33)*60)+SECOND(AQ33))/60 -> 2.0166667 | AS33: =SUM(AR33*2) -> 4.0333333
K34: 18 | L34: 365 | M34: NOTE N° 5 | N34: 3.1 | O34: =SUM(N34*4.5) -> 13.95 | AO34: Total 19 | AR34: =SUBTOTAL(9,AR31:AR33) -> 6.2833333 | AS34: =SUBTOTAL(9,AS31:AS33) -> 12.566667
K35: Total 18 | N35: =SUBTOTAL(9,N32:N34) -> 4.5 | O35: =SUBTOTAL(9,O32:O34) -> 20.25 | AO35: 22 | AP35: CHANCEL Jean lettre Dr FAVRE-JUVIN | AQ35: 0.0018171296 | AR35: =((HOUR(AQ35)*3600)+(MINUTE(AQ35)*60)+SECOND(AQ35))/60 -> 2.6166667 | AS35: =SUM(AR35*2) -> 5.2333333
K36: 22 | L36: 337 | M36: Lettre AERMEC-2 | N36: 0.8 | O36: =SUM(N36*4.5) -> 3.6 | AO36: 22 | AP36: BALBO Norma lettre Dr SUSCILLON | AQ36: 0.001412037 | AR36: =((HOUR(AQ36)*3600)+(MINUTE(AQ36)*60)+SECOND(AQ36))/60 -> 2.0333333 | AS36: =SUM(AR36*2) -> 4.0666667
K37: 22 | L37: 337 | M37: LISTADR | N37: 2.8 | O37: =SUM(N37*4.5) -> 12.6 | AO37: 22 | AP37: BEIDA Slamet lettre Dr SANZ | AQ37: 0.0012152778 | AR37: =((HOUR(AQ37)*3600)+(MINUTE(AQ37)*60)+SECOND(AQ37))/60 -> 1.75 | AS37: =SUM(AR37*2) -> 3.5
K38: 22 | L38: 337 | M38: FIADR | N38: 1.9 | O38: =SUM(N38*4.5) -> 8.55 | AO38: 22 | AP38: CAZALIS Jean lettre Dr MONTEAGUDO | AQ38: 0.0024652778 | AR38: =((HOUR(AQ38)*3600)+(MINUTE(AQ38)*60)+SECOND(AQ38))/60 -> 3.55 | AS38: =SUM(AR38*2) -> 7.1
K39: 22 | L39: 337 | M39: Lettre FG THERMIQUE-2 | N39: 0.8 | O39: =SUM(N39*4.5) -> 3.6 | AO39: 22 | AP39: GENDROLINI Palma lettre CM LES GRANGES | AQ39: 0.0012847222 | AR39: =((HOUR(AQ39)*3600)+(MINUTE(AQ39)*60)+SECOND(AQ39))/60 -> 1.85 | AS39: =SUM(AR39*2) -> 3.7
K40: 22 | L40: 337 | M40: Lettre AERMEC-3 | N40: 0.7 | O40: =SUM(N40*4.5) -> 3.15 | AO40: Total 22 | AR40: =SUBTOTAL(9,AR35:AR39) -> 11.8 | AS40: =SUBTOTAL(9,AS35:AS39) -> 23.6
K41: 22 | L41: 337 | M41: lettre TGI Besançon-6 | N41: 0.9 | O41: =SUM(N41*4.5) -> 4.05 | AO41: 23 | AP41: CHAMPENOIS Jean-Pierre lettre Dr GOUZY-OLMOS | AQ41: 0.0022337963 | AR41: =((HOUR(AQ41)*3600)+(MINUTE(AQ41)*60)+SECOND(AQ41))/60 -> 3.2166667 | AS41: =SUM(AR41*2) -> 6.4333333
...

Sheet Août
A1: CLIENT A | F1: CLIENT B | K1: CLIENT C | P1: CLIENT D | U1: CLIENT E | Z1: CLIENT F | AE1: CLIENT G | AJ1: CLIENT H | AO1: CLIENT I | AT1: CLIENT J
A3: Date | B3: Dossier | C3: Durée | D3: Minutes | E3: Facturé | F3: Date | G3: Dossier | H3: Durée | I3: Minutes | J3: Facturé | K3: Date | L3: Dossier | M3: Type | N3: Pages | O3: Facturé | P3: Date | Q3: Dossier | R3: Durée | S3: Minutes | T3: Facturé | U3: Date | V3: Dossier | W3: Durée | X3: Minutes | Y3: Facturé | Z3: Date | AA3: Dossier | AB3: Durée | AC3: Minutes | AD3: Facturé | AE3: Date | AF3: Dossier | AG3: Durée | AH3: Minutes | AI3: Facturé | AJ3: Date | AK3: N° Devis | AL3: Nom client | AM3: Pages | AN3: Facturé | AO3: Date | AP3: Dossier | AQ3: Durée | AR3: Minutes | AS3: Facturé | AT3: Date | AU3: Dossier | AV3: Durée | AW3: Minutes | AX3: Facturé
A4: 1 | D4: =((HOUR(C4)*3600)+(MINUTE(C4)*60)+SECOND(C4))/60 -> 0 | E4: =SUM(D4*2) -> 0 | F4: 1 | I4: =((HOUR(H4)*3600)+(MINUTE(H4)*60)+SECOND(H4))/60 -> 0 | J4: =SUM(I4*2.5) -> 0 | K4: 21 | L4: 362 | M4: Rapport CET FM | N4: 18 | O4: =SUM(N4*4.5) -> 81 | P4: 21 | Q4: AXA FRANCE / MARGEL Assignation | R4: 0.0077083333 | S4: =((HOUR(R4)*3600)+(MINUTE(R4)*60)+SECOND(R4))/60 -> 11.1 | T4: =SUM(S4*2) -> 22.2 | U4: 3 | V4: LARIVE LIQUIDATION - Conclusions en réponse sur incident | W4: 0.011365741 | X4: =((HOUR(W4)*3600)+(MINUTE(W4)*60)+SECOND(W4))/60 -> 16.366667 | Y4: =SUM(X4*2) -> 32.733333 | Z4: 1 | AC4: =((HOUR(AB4)*3600)+(MINUTE(AB4)*60)+SECOND(AB4))/60 -> 0 | AD4: =SUM(AC4*2) -> 0 | AE4: 1 | AH4: =((HOUR(AG4)*3600)+(MINUTE(AG4)*60)+SECOND(AG4))/60 -> 0 | AI4: =SUM(AH4*2) -> 0 | AJ4: 1 | AN4: =SUM(AM4*4.5) -> 0 | AO4: 1 | AP4: ARMAND Roger lettre Dr RUELLE | AQ4: 0.0020949074 | AR4: =((HOUR(AQ4)*3600)+(MINUTE(AQ4)*60)+SECOND(AQ4))/60 -> 3.0166667 | AS4: =SUM(AR4*2) -> 6.0333333 | AT4: 1 | AW4: =((HOUR(AV4)*3600)+(MINUTE(AV4)*60)+SECOND(AV4))/60 -> 0 | AX4: =SUM(AW4*2) -> 0
A5: 1 | D5: =((HOUR(C5)*3600)+(MINUTE(C5)*60)+SECOND(C5))/60 -> 0 | E5: =SUM(D5*2) -> 0 | F5: 1 | I5: =((HOUR(H5)*3600)+(MINUTE(H5)*60)+SECOND(H5))/60 -> 0 | J5: =SUM(I5*2.5) -> 0 | K5: Total 21 | N5: =SUBTOTAL(9,N4:N4) -> 18 | O5: =SUBTOTAL(9,O4:O4) -> 81 | P5: Total 21 | S5: =SUBTOTAL(9,S4:S4) -> 11.1 | T5: =SUBTOTAL(9,T4:T4) -> 22.2 | U5: Total 3 | X5: =SUBTOTAL(9,X4:X4) -> 16.366667 | Y5: =SUBTOTAL(9,Y4:Y4) -> 32.733333 | Z5: 1 | AC5: =((HOUR(AB5)*3600)+(MINUTE(AB5)*60)+SECOND(AB5))/60 -> 0 | AD5: =SUM(AC5*2) -> 0 | AE5: 1 | AH5: =((HOUR(AG5)*3600)+(MINUTE(AG5)*60)+SECOND(AG5))/60 -> 0 | AI5: =SUM(AH5*2) -> 0 | AJ5: 1 | AN5: =SUM(AM5*4.5) -> 0 | AO5: Total 1 | AR5: =SUBTOTAL(9,AR4:AR4) -> 3.0166667 | AS5: =SUBTOTAL(9,AS4:AS4) -> 6.0333333 | AT5: 1 | AW5: =((HOUR(AV5)*3600)+(MINUTE(AV5)*60)+SECOND(AV5))/60 -> 0 | AX5: =SUM(AW5*2) -> 0
A6: 1 | D6: =((HOUR(C6)*3600)+(MINUTE(C6)*60)+SECOND(C6))/60 -> 0 | E6: =SUM(D6*2) -> 0 | F6: 1 | I6: =((HOUR(H6)*3600)+(MINUTE(H6)*60)+SECOND(H6))/60 -> 0 | J6: =SUM(I6*2.5) -> 0 | K6: Total | N6: =SUBTOTAL(9,N4:N5) -> 18 | O6: =SUBTOTAL(9,O4:O5) -> 81 | P6: 22 | Q6: SANISERE c. SCI LES LAUREADES - Conclusions TGI | R6: 0.01537037 | S6: =((HOUR(R6)*3600)+(MINUTE(R6)*60)+SECOND(R6))/60 -> 22.133333 | T6: =SUM(S6*2) -> 44.266667 | U6: 29 | V6: FINET c. GIRARD - Assignation TGI | X6: =((HOUR(W6)*3600)+(MINUTE(W6)*60)+SECOND(W6))/60 -> 0 | Y6: =SUM(X6*2) -> 0 | Z6: 1 | AC6: =((HOUR(AB6)*3600)+(MINUTE(AB6)*60)+SECOND(AB6))/60 -> 0 | AD6: =SUM(AC6*2) -> 0 | AE6: 1 | AH6: =((HOUR(AG6)*3600)+(MINUTE(AG6)*60)+SECOND(AG6))/60 -> 0 | AI6: =SUM(AH6*2) -> 0 | AJ6: 1 | AN6: =SUM(AM6*4.5) -> 0 | AO6: 2 | AP6: SCHIFFMACHER René lettre Dr OUVRARD | AQ6: 0.0024421296 | AR6: =((HOUR(AQ6)*3600)+(MINUTE(AQ6)*60)+SECOND(AQ6))/60 -> 3.5166667 | AS6: =SUM(AR6*2) -> 7.0333333 | AT6: 1 | AW6: =((HOUR(AV6)*3600)+(MINUTE(AV6)*60)+SECOND(AV6))/60 -> 0 | AX6: =SUM(AW6*2) -> 0
A7: 1 | D7: =((HOUR(C7)*3600)+(MINUTE(C7)*60)+SECOND(C7))/60 -> 0 | E7: =SUM(D7*2) -> 0 | F7: 1 | I7: =((HOUR(H7)*3600)+(MINUTE(H7)*60)+SECOND(H7))/60 -> 0 | J7: =SUM(I7*2.5) -> 0 | P7: Total 22 | S7: =SUBTOTAL(9,S6:S6) -> 22.133333 | T7: =SUBTOTAL(9,T6:T6) -> 44.266667 | U7: 29 | V7: 111805 VLAJCIC - Lettre Me POIZAT | X7: =((HOUR(W7)*3600)+(MINUTE(W7)*60)+SECOND(W7))/60 -> 0 | Y7: =SUM(X7*2) -> 0 | Z7: 1 | AC7: =((HOUR(AB7)*3600)+(MINUTE(AB7)*60)+SECOND(AB7))/60 -> 0 | AD7: =SUM(AC7*2) -> 0 | AE7: 1 | AH7: =((HOUR(AG7)*3600)+(MINUTE(AG7)*60)+SECOND(AG7))/60 -> 0 | AI7: =SUM(AH7*2) -> 0 | AJ7: 1 | AN7: =SUM(AM7*4.5) -> 0 | AO7: 2 | AP7: ROUX-MARCHAND Serge lettre Dr TRAMAILLE | AQ7: 0.0024074074 | AR7: =((HOUR(AQ7)*3600)+(MINUTE(AQ7)*60)+SECOND(AQ7))/60 -> 3.4666667 | AS7: =SUM(AR7*2) -> 6.9333333 | AT7: 1 | AW7: =((HOUR(AV7)*3600)+(MINUTE(AV7)*60)+SECOND(AV7))/60 -> 0 | AX7: =SUM(AW7*2) -> 0
A8: 1 | D8: =((HOUR(C8)*3600)+(MINUTE(C8)*60)+SECOND(C8))/60 -> 0 | E8: =SUM(D8*2) -> 0 | F8: 1 | I8: =((HOUR(H8)*3600)+(MINUTE(H8)*60)+SECOND(H8))/60 -> 0 | J8: =SUM(I8*2.5) -> 0 | P8: 23 | Q8: SASSENAGE c. GOLDEN CAR - Conclusions TI Valence | R8: 0.01244213 | S8: =((HOUR(R8)*3600)+(MINUTE(R8)*60)+SECOND(R8))/60 -> 17.916667 | T8: =SUM(S8*2) -> 35.833333 | U8: 29 | V8: Total | W8: 0.011296296 | X8: =((HOUR(W8)*3600)+(MINUTE(W8)*60)+SECOND(W8))/60 -> 16.266667 | Y8: =SUM(X8*2) -> 32.533333 | Z8: 1 | AC8: =((HOUR(AB8)*3600)+(MINUTE(AB8)*60)+SECOND(AB8))/60 -> 0 | AD8: =SUM(AC8*2) -> 0 | AE8: 1 | AH8: =((HOUR(AG8)*3600)+(MINUTE(AG8)*60)+SECOND(AG8))/60 -> 0 | AI8: =SUM(AH8*2) -> 0 | AJ8: 1 | AN8: =SUM(AM8*4.5) -> 0 | AO8: 2 | AP8: GIFFARD Andrée lettre Dr BOURLARD | AQ8: 0.0025578704 | AR8: =((HOUR(AQ8)*3600)+(MINUTE(AQ8)*60)+SECOND(AQ8))/60 -> 3.6833333 | AS8: =SUM(AR8*2) -> 7.3666667 | AT8: 1 | AW8: =((HOUR(AV8)*3600)+(MINUTE(AV8)*60)+SECOND(AV8))/60 -> 0 | AX8: =SUM(AW8*2) -> 0
A9: 1 | D9: =((HOUR(C9)*3600)+(MINUTE(C9)*60)+SECOND(C9))/60 -> 0 | E9: =SUM(D9*2) -> 0 | F9: 1 | I9: =((HOUR(H9)*3600)+(MINUTE(H9)*60)+SECOND(H9))/60 -> 0 | J9: =SUM(I9*2.5) -> 0 | P9: Total 23 | S9: =SUBTOTAL(9,S8:S8) -> 17.916667 | T9: =SUBTOTAL(9,T8:T8) -> 35.833333 | U9: Total 29 | X9: =SUBTOTAL(9,X6:X8) -> 16.266667 | Y9: =SUBTOTAL(9,Y6:Y8) -> 32.533333 | Z9: 1 | AC9: =((HOUR(AB9)*3600)+(MINUTE(AB9)*60)+SECOND(AB9))/60 -> 0 | AD9: =SUM(AC9*2) -> 0 | AE9: 1 | AH9: =((HOUR(AG9)*3600)+(MINUTE(AG9)*60)+SECOND(AG9))/60 -> 0 | AI9: =SUM(AH9*2) -> 0 | AJ9: 1 | AN9: =SUM(AM9*4.5) -> 0 | AO9: 2 | AP9: PENIN Serge lettre Dr GUEULLE | AQ9: 0.0016087963 | AR9: =((HOUR(AQ9)*3600)+(MINUTE(AQ9)*60)+SECOND(AQ9))/60 -> 2.3166667 | AS9: =SUM(AR9*2) -> 4.6333333 | AT9: 1 | AW9: =((HOUR(AV9)*3600)+(MINUTE(AV9)*60)+SECOND(AV9))/60 -> 0 | AX9: =SUM(AW9*2) -> 0
A10: 1 | D10: =((HOUR(C10)*3600)+(MINUTE(C10)*60)+SECOND(C10))/60 -> 0 | E10: =SUM(D10*2) -> 0 | F10: 1 | I10: =((HOUR(H10)*3600)+(MINUTE(H10)*60)+SECOND(H10))/60 -> 0 | J10: =SUM(I10*2.5) -> 0 | P10: 24 | Q10: FAVRE D'ANNE c RA - Assignation | R10: 0.012789352 | S10: =((HOUR(R10)*3600)+(MINUTE(R10)*60)+SECOND(R10))/60 -> 18.416667 | T10: =SUM(S10*2) -> 36.833333 | U10: Total | X10: =SUBTOTAL(9,X4:X9) -> 32.633333 | Y10: =SUBTOTAL(9,Y4:Y9) -> 65.266667 | Z10: 1 | AC10: =((HOUR(AB10)*3600)+(MINUTE(AB10)*60)+SECOND(AB10))/60 -> 0 | AD10: =SUM(AC10*2) -> 0 | AE10: 1 | AH10: =((HOUR(AG10)*3600)+(MINUTE(AG10)*60)+SECOND(AG10))/60 -> 0 | AI10: =SUM(AH10*2) -> 0 | AJ10: 1 | AN10: =SUM(AM10*4.5) -> 0 | AO10: Total 2 | AR10: =SUBTOTAL(9,AR6:AR9) -> 12.983333 | AS10: =SUBTOTAL(9,AS6:AS9) -> 25.966667 | AT10: 1 | AW10: =((HOUR(AV10)*3600)+(MINUTE(AV10)*60)+SECOND(AV10))/60 -> 0 | AX10: =SUM(AW10*2) -> 0
A11: 1 | D11: =((HOUR(C11)*3600)+(MINUTE(C11)*60)+SECOND(C11))/60 -> 0 | E11: =SUM(D11*2) -> 0 | F11: 1 | I11: =((HOUR(H11)*3600)+(MINUTE(H11)*60)+SECOND(H11))/60 -> 0 | J11: =SUM(I11*2.5) -> 0 | P11: Total 24 | S11: =SUBTOTAL(9,S10:S10) -> 18.416667 | T11: =SUBTOTAL(9,T10:T10) -> 36.833333 | Z11: 1 | AC11: =((HOUR(AB11)*3600)+(MINUTE(AB11)*60)+SECOND(AB11))/60 -> 0 | AD11: =SUM(AC11*2) -> 0 | AE11: 1 | AH11: =((HOUR(AG11)*3600)+(MINUTE(AG11)*60)+SECOND(AG11))/60 -> 0 | AI11: =SUM(AH11*2) -> 0 | AJ11: 1 | AN11: =SUM(AM11*4.5) -> 0 | AO11: 3 | AP11: GAULT Colette lettre Dr DEHER | AQ11: 0.0024305556 | AR11: =((HOUR(AQ11)*3600)+(MINUTE(AQ11)*60)+SECOND(AQ11))/60 -> 3.5 | AS11: =SUM(AR11*2) -> 7 | AT11: 1 | AW11: =((HOUR(AV11)*3600)+(MINUTE(AV11)*60)+SECOND(AV11))/60 -> 0 | AX11: =SUM(AW11*2) -> 0
A12: Total 1 | D12: =SUBTOTAL(9,D4:D11) -> 0 | E12: =SUBTOTAL(9,E4:E11) -> 0 | F12: Total 1 | I12: =SUBTOTAL(9,I4:I11) -> 0 | J12: =SUBTOTAL(9,J4:J11) -> 0 | P12: 25 | Q12: AXA FRANCE c. REY - Conclusions TGI | R12: 0.022743056 | S12: =((HOUR(R12)*3600)+(MINUTE(R12)*60)+SECOND(R12))/60 -> 32.75 | T12: =SUM(S12*2) -> 65.5 | Z12: Total 1 | AC12: =SUBTOTAL(9,AC4:AC11) -> 0 | AD12: =SUBTOTAL(9,AD4:AD11) -> 0 | AE12: Total 1 | AH12: =SUBTOTAL(9,AH4:AH11) -> 0 | AI12: =SUBTOTAL(9,AI4:AI11) -> 0 | AJ12: Total 1 | AM12: =SUBTOTAL(9,AM4:AM11) -> 0 | AN12: =SUBTOTAL(9,AN4:AN11) -> 0 | AO12: 3 | AP12: STUBLIN Gisèle lettre Dr CHAVANON | AQ12: 0.0030671296 | AR12: =((HOUR(AQ12)*3600)+(MINUTE(AQ12)*60)+SECOND(AQ12))/60 -> 4.4166667 | AS12: =SUM(AR12*2) -> 8.8333333 | AT12: Total 1 | AW12: =SUBTOTAL(9,AW4:AW11) -> 0 | AX12: =SUBTOTAL(9,AX4:AX11) -> 0
A13: 2 | D13: =((HOUR(C13)*3600)+(MINUTE(C13)*60)+SECOND(C13))/60 -> 0 | E13: =SUM(D13*2) -> 0 | F13: 2 | I13: =((HOUR(H13)*3600)+(MINUTE(H13)*60)+SECOND(H13))/60 -> 0 | J13: =SUM(I13*2.5) -> 0 | P13: Total 25 | S13: =SUBTOTAL(9,S12:S12) -> 32.75 | T13: =SUBTOTAL(9,T12:T12) -> 65.5 | Z13: 2 | AC13: =((HOUR(AB13)*3600)+(MINUTE(AB13)*60)+SECOND(AB13))/60 -> 0 | AD13: =SUM(AC13*2) -> 0 | AE13: 2 | AH13: =((HOUR(AG13)*3600)+(MINUTE(AG13)*60)+SECOND(AG13))/60 -> 0 | AI13: =SUM(AH13*2) -> 0 | AJ13: 2 | AN13: =SUM(AM13*4.5) -> 0 | AO13: Total 3 | AR13: =SUBTOTAL(9,AR11:AR12) -> 7.9166667 | AS13: =SUBTOTAL(9,AS11:AS12) -> 15.833333 | AT13: 2 | AW13: =((HOUR(AV13)*3600)+(MINUTE(AV13)*60)+SECOND(AV13))/60 -> 0 | AX13: =SUM(AW13*2) -> 0
A14: 2 | D14: =((HOUR(C14)*3600)+(MINUTE(C14)*60)+SECOND(C14))/60 -> 0 | E14: =SUM(D14*2) -> 0 | F14: 2 | I14: =((HOUR(H14)*3600)+(MINUTE(H14)*60)+SECOND(H14))/60 -> 0 | J14: =SUM(I14*2.5) -> 0 | P14: 29 | Q14: BNP PARIBAS c. YAHYA BEY - Assignation TI | R14: 0.0080324074 | S14: =((HOUR(R14)*3600)+(MINUTE(R14)*60)+SECOND(R14))/60 -> 11.566667 | T14: =SUM(S14*2) -> 23.133333 | Z14: 2 | AC14: =((HOUR(AB14)*3600)+(MINUTE(AB14)*60)+SECOND(AB14))/60 -> 0 | AD14: =SUM(AC14*2) -> 0 | AE14: 2 | AH14: =((HOUR(AG14)*3600)+(MINUTE(AG14)*60)+SECOND(AG14))/60 -> 0 | AI14: =SUM(AH14*2) -> 0 | AJ14: 2 | AN14: =SUM(AM14*4.5) -> 0 | AO14: 4 | AP14: GASSAUD François-Xavier lettre Dr PETERSCHMIDT | AQ14: 0.0019560185 | AR14: =((HOUR(AQ14)*3600)+(MINUTE(AQ14)*60)+SECOND(AQ14))/60 -> 2.8166667 | AS14: =SUM(AR14*2) -> 5.6333333 | AT14: 2 | AW14: =((HOUR(AV14)*3600)+(MINUTE(AV14)*60)+SECOND(AV14))/60 -> 0 | AX14: =SUM(AW14*2) -> 0
A15: 2 | D15: =((HOUR(C15)*3600)+(MINUTE(C15)*60)+SECOND(C15))/60 -> 0 | E15: =SUM(D15*2) -> 0 | F15: 2 | I15: =((HOUR(H15)*3600)+(MINUTE(H15)*60)+SECOND(H15))/60 -> 0 | J15: =SUM(I15*2.5) -> 0 | P15: 29 | Q15: AXA FRANCE c. COPRO LE BELVEDERE - Conclusions TGI | R15: 0.021388889 | S15: =((HOUR(R15)*3600)+(MINUTE(R15)*60)+SECOND(R15))/60 -> 30.8 | T15: =SUM(S15*2) -> 61.6 | Z15: 2 | AC15: =((HOUR(AB15)*3600)+(MINUTE(AB15)*60)+SECOND(AB15))/60 -> 0 | AD15: =SUM(AC15*2) -> 0 | AE15: 2 | AH15: =((HOUR(AG15)*3600)+(MINUTE(AG15)*60)+SECOND(AG15))/60 -> 0 | AI15: =SUM(AH15*2) -> 0 | AJ15: 2 | AN15: =SUM(AM15*4.5) -> 0 | AO15: 4 | AP15: BOLLON Anne lettre Dr PELLET | AQ15: 0.0025462963 | AR15: =((HOUR(AQ15)*3600)+(MINUTE(AQ15)*60)+SECOND(AQ15))/60 -> 3.6666667 | AS15: =SUM(AR15*2) -> 7.3333333 | AT15: 2 | AW15: =((HOUR(AV15)*3600)+(MINUTE(AV15)*60)+SECOND(AV15))/60 -> 0 | AX15: =SUM(AW15*2) -> 0
A16: 2 | D16: =((HOUR(C16)*3600)+(MINUTE(C16)*60)+SECOND(C16))/60 -> 0 | E16: =SUM(D16*2) -> 0 | F16: 2 | I16: =((HOUR(H16)*3600)+(MINUTE(H16)*60)+SECOND(H16))/60 -> 0 | J16: =SUM(I16*2.5) -> 0 | P16: Total 29 | S16: =SUBTOTAL(9,S14:S15) -> 42.366667 | T16: =SUBTOTAL(9,T14:T15) -> 84.733333 | Z16: 2 | AC16: =((HOUR(AB16)*3600)+(MINUTE(AB16)*60)+SECOND(AB16))/60 -> 0 | AD16: =SUM(AC16*2) -> 0 | AE16: 2 | AH16: =((HOUR(AG16)*3600)+(MINUTE(AG16)*60)+SECOND(AG16))/60 -> 0 | AI16: =SUM(AH16*2) -> 0 | AJ16: 2 | AN16: =SUM(AM16*4.5) -> 0 | AO16: 4 | AP16: VARGAS Marie lettre Dr CAUSSÉ | AQ16: 0.0013541667 | AR16: =((HOUR(AQ16)*3600)+(MINUTE(AQ16)*60)+SECOND(AQ16))/60 -> 1.95 | AS16: =SUM(AR16*2) -> 3.9 | AT16: 2 | AW16: =((HOUR(AV16)*3600)+(MINUTE(AV16)*60)+SECOND(AV16))/60 -> 0 | AX16: =SUM(AW16*2) -> 0
A17: 2 | D17: =((HOUR(C17)*3600)+(MINUTE(C17)*60)+SECOND(C17))/60 -> 0 | E17: =SUM(D17*2) -> 0 | F17: 2 | I17: =((HOUR(H17)*3600)+(MINUTE(H17)*60)+SECOND(H17))/60 -> 0 | J17: =SUM(I17*2.5) -> 0 | P17: Total | S17: =SUBTOTAL(9,S4:S16) -> 144.68333 | T17: =SUBTOTAL(9,T4:T16) -> 289.36667 | Z17: 2 | AC17: =((HOUR(AB17)*3600)+(MINUTE(AB17)*60)+SECOND(AB17))/60 -> 0 | AD17: =SUM(AC17*2) -> 0 | AE17: 2 | AH17: =((HOUR(AG17)*3600)+(MINUTE(AG17)*60)+SECOND(AG17))/60 -> 0 | AI17: =SUM(AH17*2) -> 0 | AJ17: 2 | AN17: =SUM(AM17*4.5) -> 0 | AO17: Total 4 | AR17: =SUBTOTAL(9,AR14:AR16) -> 8.4333333 | AS17: =SUBTOTAL(9,AS14:AS16) -> 16.866667 | AT17: 2 | AW17: =((HOUR(AV17)*3600)+(MINUTE(AV17)*60)+SECOND(AV17))/60 -> 0 | AX17: =SUM(AW17*2) -> 0
A18: 2 | D18: =((HOUR(C18)*3600)+(MINUTE(C18)*60)+SECOND(C18))/60 -> 0 | E18: =SUM(D18*2) -> 0 | F18: 2 | I18: =((HOUR(H18)*3600)+(MINUTE(H18)*60)+SECOND(H18))/60 -> 0 | J18: =SUM(I18*2.5) -> 0 | Z18: 2 | AC18: =((HOUR(AB18)*3600)+(MINUTE(AB18)*60)+SECOND(AB18))/60 -> 0 | AD18: =SUM(AC18*2) -> 0 | AE18: 2 | AH18: =((HOUR(AG18)*3600)+(MINUTE(AG18)*60)+SECOND(AG18))/60 -> 0 | AI18: =SUM(AH18*2) -> 0 | AJ18: 2 | AN18: =SUM(AM18*4.5) -> 0 | AO18: 8 | AP18: ARNAUD Jacques lettre Dr ROUX | AQ18: 0.0046759259 | AR18: =((HOUR(AQ18)*3600)+(MINUTE(AQ18)*60)+SECOND(AQ18))/60 -> 6.7333333 | AS18: =SUM(AR18*2) -> 13.466667 | AT18: 2 | AW18: =((HOUR(AV18)*3600)+(MINUTE(AV18)*60)+SECOND(AV18))/60 -> 0 | AX18: =SUM(AW18*2) -> 0
A19: 2 | D19: =((HOUR(C19)*3600)+(MINUTE(C19)*60)+SECOND(C19))/60 -> 0 | E19: =SUM(D19*2) -> 0 | F19: 2 | I19: =((HOUR(H19)*3600)+(MINUTE(H19)*60)+SECOND(H19))/60 -> 0 | J19: =SUM(I19*2.5) -> 0 | Z19: 2 | AC19: =((HOUR(AB19)*3600)+(MINUTE(AB19)*60)+SECOND(AB19))/60 -> 0 | AD19: =SUM(AC19*2) -> 0 | AE19: 2 | AH19: =((HOUR(AG19)*3600)+(MINUTE(AG19)*60)+SECOND(AG19))/60 -> 0 | AI19: =SUM(AH19*2) -> 0 | AJ19: 2 | AN19: =SUM(AM19*4.5) -> 0 | AO19: 8 | AP19: LAGADEC Jean lettre Dr LAGADEC | AQ19: 0.0029513889 | AR19: =((HOUR(AQ19)*3600)+(MINUTE(AQ19)*60)+SECOND(AQ19))/60 -> 4.25 | AS19: =SUM(AR19*2) -> 8.5 | AT19: 2 | AW19: =((HOUR(AV19)*3600)+(MINUTE(AV19)*60)+SECOND(AV19))/60 -> 0 | AX19: =SUM(AW19*2) -> 0
A20: 2 | D20: =((HOUR(C20)*3600)+(MINUTE(C20)*60)+SECOND(C20))/60 -> 0 | E20: =SUM(D20*2) -> 0 | F20: 2 | I20: =((HOUR(H20)*3600)+(MINUTE(H20)*60)+SECOND(H20))/60 -> 0 | J20: =SUM(I20*2.5) -> 0 | Z20: 2 | AC20: =((HOUR(AB20)*3600)+(MINUTE(AB20)*60)+SECOND(AB20))/60 -> 0 | AD20: =SUM(AC20*2) -> 0 | AE20: 2 | AH20: =((HOUR(AG20)*3600)+(MINUTE(AG20)*60)+SECOND(AG20))/60 -> 0 | AI20: =SUM(AH20*2) -> 0 | AJ20: 2 | AN20: =SUM(AM20*4.5) -> 0 | AO20: Total 8 | AR20: =SUBTOTAL(9,AR18:AR19) -> 10.983333 | AS20: =SUBTOTAL(9,AS18:AS19) -> 21.966667 | AT20: 2 | AW20: =((HOUR(AV20)*3600)+(MINUTE(AV20)*60)+SECOND(AV20))/60 -> 0 | AX20: =SUM(AW20*2) -> 0
A21: Total 2 | D21: =SUBTOTAL(9,D13:D20) -> 0 | E21: =SUBTOTAL(9,E13:E20) -> 0 | F21: Total 2 | I21: =SUBTOTAL(9,I13:I20) -> 0 | J21: =SUBTOTAL(9,J13:J20) -> 0 | Z21: Total 2 | AC21: =SUBTOTAL(9,AC13:AC20) -> 0 | AD21: =SUBTOTAL(9,AD13:AD20) -> 0 | AE21: Total 2 | AH21: =SUBTOTAL(9,AH13:AH20) -> 0 | AI21: =SUBTOTAL(9,AI13:AI20) -> 0 | AJ21: Total 2 | AM21: =SUBTOTAL(9,AM13:AM20) -> 0 | AN21: =SUBTOTAL(9,AN13:AN20) -> 0 | AO21: 9 | AP21: BAUTISTA Serge lettre Dr CORRAL | AQ21: 0.0021875 | AR21: =((HOUR(AQ21)*3600)+(MINUTE(AQ21)*60)+SECOND(AQ21))/60 -> 3.15 | AS21: =SUM(AR21*2) -> 6.3 | AT21: Total 2 | AW21: =SUBTOTAL(9,AW13:AW20) -> 0 | AX21: =SUBTOTAL(9,AX13:AX20) -> 0
A22: 3 | D22: =((HOUR(C22)*3600)+(MINUTE(C22)*60)+SECOND(C22))/60 -> 0 | E22: =SUM(D22*2) -> 0 | F22: 3 | I22: =((HOUR(H22)*3600)+(MINUTE(H22)*60)+SECOND(H22))/60 -> 0 | J22: =SUM(I22*2.5) -> 0 | Z22: 3 | AC22: =((HOUR(AB22)*3600)+(MINUTE(AB22)*60)+SECOND(AB22))/60 -> 0 | AD22: =SUM(AC22*2) -> 0 | AE22: 3 | AH22: =((HOUR(AG22)*3600)+(MINUTE(AG22)*60)+SECOND(AG22))/60 -> 0 | AI22: =SUM(AH22*2) -> 0 | AJ22: 3 | AN22: =SUM(AM22*4.5) -> 0 | AO22: 9 | AP22: SYLLA Hamidou lettre Dr ELKHOLTI | AQ22: 0.0016898148 | AR22: =((HOUR(AQ22)*3600)+(MINUTE(AQ22)*60)+SECOND(AQ22))/60 -> 2.4333333 | AS22: =SUM(AR22*2) -> 4.8666667 | AT22: 3 | AW22: =((HOUR(AV22)*3600)+(MINUTE(AV22)*60)+SECOND(AV22))/60 -> 0 | AX22: =SUM(AW22*2) -> 0
A23: 3 | D23: =((HOUR(C23)*3600)+(MINUTE(C23)*60)+SECOND(C23))/60 -> 0 | E23: =SUM(D23*2) -> 0 | F23: 3 | I23: =((HOUR(H23)*3600)+(MINUTE(H23)*60)+SECOND(H23))/60 -> 0 | J23: =SUM(I23*2.5) -> 0 | Z23: 3 | AC23: =((HOUR(AB23)*3600)+(MINUTE(AB23)*60)+SECOND(AB23))/60 -> 0 | AD23: =SUM(AC23*2) -> 0 | AE23: 3 | AH23: =((HOUR(AG23)*3600)+(MINUTE(AG23)*60)+SECOND(AG23))/60 -> 0 | AI23: =SUM(AH23*2) -> 0 | AJ23: 3 | AN23: =SUM(AM23*4.5) -> 0 | AO23: 9 | AP23: DURAND Liliane lettre Dr BINDER | AQ23: 0.0031481481 | AR23: =((HOUR(AQ23)*3600)+(MINUTE(AQ23)*60)+SECOND(AQ23))/60 -> 4.5333333 | AS23: =SUM(AR23*2) -> 9.0666667 | AT23: 3 | AW23: =((HOUR(AV23)*3600)+(MINUTE(AV23)*60)+SECOND(AV23))/60 -> 0 | AX23: =SUM(AW23*2) -> 0
A24: 3 | D24: =((HOUR(C24)*3600)+(MINUTE(C24)*60)+SECOND(C24))/60 -> 0 | E24: =SUM(D24*2) -> 0 | F24: 3 | I24: =((HOUR(H24)*3600)+(MINUTE(H24)*60)+SECOND(H24))/60 -> 0 | J24: =SUM(I24*2.5) -> 0 | Z24: 3 | AC24: =((HOUR(AB24)*3600)+(MINUTE(AB24)*60)+SECOND(AB24))/60 -> 0 | AD24: =SUM(AC24*2) -> 0 | AE24: 3 | AH24: =((HOUR(AG24)*3600)+(MINUTE(AG24)*60)+SECOND(AG24))/60 -> 0 | AI24: =SUM(AH24*2) -> 0 | AJ24: 3 | AN24: =SUM(AM24*4.5) -> 0 | AO24: 9 | AP24: SPINELLI Joseph lettre Dr MOREAU | AQ24: 0.0026967593 | AR24: =((HOUR(AQ24)*3600)+(MINUTE(AQ24)*60)+SECOND(AQ24))/60 -> 3.8833333 | AS24: =SUM(AR24*2) -> 7.7666667 | AT24: 3 | AW24: =((HOUR(AV24)*3600)+(MINUTE(AV24)*60)+SECOND(AV24))/60 -> 0 | AX24: =SUM(AW24*2) -> 0
A25: 3 | D25: =((HOUR(C25)*3600)+(MINUTE(C25)*60)+SECOND(C25))/60 -> 0 | E25: =SUM(D25*2) -> 0 | F25: 3 | I25: =((HOUR(H25)*3600)+(MINUTE(H25)*60)+SECOND(H25))/60 -> 0 | J25: =SUM(I25*2.5) -> 0 | Z25: 3 | AC25: =((HOUR(AB25)*3600)+(MINUTE(AB25)*60)+SECOND(AB25))/60 -> 0 | AD25: =SUM(AC25*2) -> 0 | AE25: 3 | AH25: =((HOUR(AG25)*3600)+(MINUTE(AG25)*60)+SECOND(AG25))/60 -> 0 | AI25: =SUM(AH25*2) -> 0 | AJ25: 3 | AN25: =SUM(AM25*4.5) -> 0 | AO25: 9 | AP25: SESTIER Eliane lettre Dr PELLET | AQ25: 0.0022800926 | AR25: =((HOUR(AQ25)*3600)+(MINUTE(AQ25)*60)+SECOND(AQ25))/60 -> 3.2833333 | AS25: =SUM(AR25*2) -> 6.5666667 | AT25: 3 | AW25: =((HOUR(AV25)*3600)+(MINUTE(AV25)*60)+SECOND(AV25))/60 -> 0 | AX25: =SUM(AW25*2) -> 0
A26: 3 | D26: =((HOUR(C26)*3600)+(MINUTE(C26)*60)+SECOND(C26))/60 -> 0 | E26: =SUM(D26*2) -> 0 | F26: 3 | I26: =((HOUR(H26)*3600)+(MINUTE(H26)*60)+SECOND(H26))/60 -> 0 | J26: =SUM(I26*2.5) -> 0 | Z26: 3 | AC26: =((HOUR(AB26)*3600)+(MINUTE(AB26)*60)+SECOND(AB26))/60 -> 0 | AD26: =SUM(AC26*2) -> 0 | AE26: 3 | AH26: =((HOUR(AG26)*3600)+(MINUTE(AG26)*60)+SECOND(AG26))/60 -> 0 | AI26: =SUM(AH26*2) -> 0 | AJ26: 3 | AN26: =SUM(AM26*4.5) -> 0 | AO26: 9 | AP26: CARTIER Gérald lettre Dr JULLIEN-PALLETIER | AQ26: 0.0013657407 | AR26: =((HOUR(AQ26)*3600)+(MINUTE(AQ26)*60)+SECOND(AQ26))/60 -> 1.9666667 | AS26: =SUM(AR26*2) -> 3.9333333 | AT26: 3 | AW26: =((HOUR(AV26)*3600)+(MINUTE(AV26)*60)+SECOND(AV26))/60 -> 0 | AX26: =SUM(AW26*2) -> 0
A27: 3 | D27: =((HOUR(C27)*3600)+(MINUTE(C27)*60)+SECOND(C27))/60 -> 0 | E27: =SUM(D27*2) -> 0 | F27: 3 | I27: =((HOUR(H27)*3600)+(MINUTE(H27)*60)+SECOND(H27))/60 -> 0 | J27: =SUM(I27*2.5) -> 0 | Z27: 3 | AC27: =((HOUR(AB27)*3600)+(MINUTE(AB27)*60)+SECOND(AB27))/60 -> 0 | AD27: =SUM(AC27*2) -> 0 | AE27: 3 | AH27: =((HOUR(AG27)*3600)+(MINUTE(AG27)*60)+SECOND(AG27))/60 -> 0 | AI27: =SUM(AH27*2) -> 0 | AJ27: 3 | AN27: =SUM(AM27*4.5) -> 0 | AO27: 9 | AP27: LEIVA-MARCON Benoît lettre Dr PELLET | AQ27: 0.0028703704 | AR27: =((HOUR(AQ27)*3600)+(MINUTE(AQ27)*60)+SECOND(AQ27))/60 -> 4.1333333 | AS27: =SUM(AR27*2) -> 8.2666667 | AT27: 3 | AW27: =((HOUR(AV27)*3600)+(MINUTE(AV27)*60)+SECOND(AV27))/60 -> 0 | AX27: =SUM(AW27*2) -> 0
A28: 3 | D28: =((HOUR(C28)*3600)+(MINUTE(C28)*60)+SECOND(C28))/60 -> 0 | E28: =SUM(D28*2) -> 0 | F28: 3 | I28: =((HOUR(H28)*3600)+(MINUTE(H28)*60)+SECOND(H28))/60 -> 0 | J28: =SUM(I28*2.5) -> 0 | Z28: 3 | AC28: =((HOUR(AB28)*3600)+(MINUTE(AB28)*60)+SECOND(AB28))/60 -> 0 | AD28: =SUM(AC28*2) -> 0 | AE28: 3 | AH28: =((HOUR(AG28)*3600)+(MINUTE(AG28)*60)+SECOND(AG28))/60 -> 0 | AI28: =SUM(AH28*2) -> 0 | AJ28: 3 | AN28: =SUM(AM28*4.5) -> 0 | AO28: Total 9 | AR28: =SUBTOTAL(9,AR21:AR27) -> 23.383333 | AS28: =SUBTOTAL(9,AS21:AS27) -> 46.766667 | AT28: 3 | AW28: =((HOUR(AV28)*3600)+(MINUTE(AV28)*60)+SECOND(AV28))/60 -> 0 | AX28: =SUM(AW28*2) -> 0
A29: 3 | D29: =((HOUR(C29)*3600)+(MINUTE(C29)*60)+SECOND(C29))/60 -> 0 | E29: =SUM(D29*2) -> 0 | F29: 3 | I29: =((HOUR(H29)*3600)+(MINUTE(H29)*60)+SECOND(H29))/60 -> 0 | J29: =SUM(I29*2.5) -> 0 | Z29: 3 | AC29: =((HOUR(AB29)*3600)+(MINUTE(AB29)*60)+SECOND(AB29))/60 -> 0 | AD29: =SUM(AC29*2) -> 0 | AE29: 3 | AH29: =((HOUR(AG29)*3600)+(MINUTE(AG29)*60)+SECOND(AG29))/60 -> 0 | AI29: =SUM(AH29*2) -> 0 | AJ29: 3 | AN29: =SUM(AM29*4.5) -> 0 | AO29: 23 | AP29: LAURENT Michèle lettre Pr PUGEAT | AQ29: 0.0030092593 | AR29: =((HOUR(AQ29)*3600)+(MINUTE(AQ29)*60)+SECOND(AQ29))/60 -> 4.3333333 | AS29: =SUM(AR29*2) -> 8.6666667 | AT29: 3 | AW29: =((HOUR(AV29)*3600)+(MINUTE(AV29)*60)+SECOND(AV29))/60 -> 0 | AX29: =SUM(AW29*2) -> 0
A30: Total 3 | D30: =SUBTOTAL(9,D22:D29) -> 0 | E30: =SUBTOTAL(9,E22:E29) -> 0 | F30: Total 3 | I30: =SUBTOTAL(9,I22:I29) -> 0 | J30: =SUBTOTAL(9,J22:J29) -> 0 | Z30: Total 3 | AC30: =SUBTOTAL(9,AC22:AC29) -> 0 | AD30: =SUBTOTAL(9,AD22:AD29) -> 0 | AE30: Total 3 | AH30: =SUBTOTAL(9,AH22:AH29) -> 0 | AI30: =SUBTOTAL(9,AI22:AI29) -> 0 | AJ30: Total 3 | AM30: =SUBTOTAL(9,AM22:AM29) -> 0 | AN30: =SUBTOTAL(9,AN22:AN29) -> 0 | AO30: 23 | AP30: VILLARD Damien lettre Dr GOUZY-OLMOS | AQ30: 0.0017592593 | AR30: =((HOUR(AQ30)*3600)+(MINUTE(AQ30)*60)+SECOND(AQ30))/60 -> 2.5333333 | AS30: =SUM(AR30*2) -> 5.0666667 | AT30: Total 3 | AW30: =SUBTOTAL(9,AW22:AW29) -> 0 | AX30: =SUBTOTAL(9,AX22:AX29) -> 0
A31: 4 | D31: =((HOUR(C31)*3600)+(MINUTE(C31)*60)+SECOND(C31))/60 -> 0 | E31: =SUM(D31*2) -> 0 | F31: 4 | I31: =((HOUR(H31)*3600)+(MINUTE(H31)*60)+SECOND(H31))/60 -> 0 | J31: =SUM(I31*2.5) -> 0 | Z31: 4 | AC31: =((HOUR(AB31)*3600)+(MINUTE(AB31)*60)+SECOND(AB31))/60 -> 0 | AD31: =SUM(AC31*2) -> 0 | AE31: 4 | AH31: =((HOUR(AG31)*3600)+(MINUTE(AG31)*60)+SECOND(AG31))/60 -> 0 | AI31: =SUM(AH31*2) -> 0 | AJ31: 4 | AN31: =SUM(AM31*4.5) -> 0 | AO31: 23 | AP31: VICARD Dominique lettre Dr BRAILLON | AQ31: 0.0020833333 | AR31: =((HOUR(AQ31)*3600)+(MINUTE(AQ31)*60)+SECOND(AQ31))/60 -> 3 | AS31: =SUM(AR31*2) -> 6 | AT31: 4 | AW31: =((HOUR(AV31)*3600)+(MINUTE(AV31)*60)+SECOND(AV31))/60 -> 0 | AX31: =SUM(AW31*2) -> 0
A32: 4 | D32: =((HOUR(C32)*3600)+(MINUTE(C32)*60)+SECOND(C32))/60 -> 0 | E32: =SUM(D32*2) -> 0 | F32: 4 | I32: =((HOUR(H32)*3600)+(MINUTE(H32)*60)+SECOND(H32))/60 -> 0 | J32: =SUM(I32*2.5) -> 0 | Z32: 4 | AC32: =((HOUR(AB32)*3600)+(MINUTE(AB32)*60)+SECOND(AB32))/60 -> 0 | AD32: =SUM(AC32*2) -> 0 | AE32: 4 | AH32: =((HOUR(AG32)*3600)+(MINUTE(AG32)*60)+SECOND(AG32))/60 -> 0 | AI32: =SUM(AH32*2) -> 0 | AJ32: 4 | AN32: =SUM(AM32*4.5) -> 0 | AO32: Total 23 | AR32: =SUBTOTAL(9,AR29:AR31) -> 9.8666667 | AS32: =SUBTOTAL(9,AS29:AS31) -> 19.733333 | AT32: 4 | AW32: =((HOUR(AV32)*3600)+(MINUTE(AV32)*60)+SECOND(AV32))/60 -> 0 | AX32: =SUM(AW32*2) -> 0
A33: 4 | D33: =((HOUR(C33)*3600)+(MINUTE(C33)*60)+SECOND(C33))/60 -> 0 | E33: =SUM(D33*2) -> 0 | F33: 4 | I33: =((HOUR(H33)*3600)+(MINUTE(H33)*60)+SECOND(H33))/60 -> 0 | J33: =SUM(I33*2.5) -> 0 | Z33: 4 | AC33: =((HOUR(AB33)*3600)+(MINUTE(AB33)*60)+SECOND(AB33))/60 -> 0 | AD33: =SUM(AC33*2) -> 0 | AE33: 4 | AH33: =((HOUR(AG33)*3600)+(MINUTE(AG33)*60)+SECOND(AG33))/60 -> 0 | AI33: =SUM(AH33*2) -> 0 | AJ33: 4 | AN33: =SUM(AM33*4.5) -> 0 | AO33: 24 | AP33: DE SALVADORE Nella lettre Dr YVARD | AQ33: 0.0017824074 | AR33: =((HOUR(AQ33)*3600)+(MINUTE(AQ33)*60)+SECOND(AQ33))/60 -> 2.5666667 | AS33: =SUM(AR33*2) -> 5.1333333 | AT33: 4 | AW33: =((HOUR(AV33)*3600)+(MINUTE(AV33)*60)+SECOND(AV33))/60 -> 0 | AX33: =SUM(AW33*2) -> 0
A34: 4 | D34: =((HOUR(C34)*3600)+(MINUTE(C34)*60)+SECOND(C34))/60 -> 0 | E34: =SUM(D34*2) -> 0 | F34: 4 | I34: =((HOUR(H34)*3600)+(MINUTE(H34)*60)+SECOND(H34))/60 -> 0 | J34: =SUM(I34*2.5) -> 0 | Z34: 4 | AC34: =((HOUR(AB34)*3600)+(MINUTE(AB34)*60)+SECOND(AB34))/60 -> 0 | AD34: =SUM(AC34*2) -> 0 | AE34: 4 | AH34: =((HOUR(AG34)*3600)+(MINUTE(AG34)*60)+SECOND(AG34))/60 -> 0 | AI34: =SUM(AH34*2) -> 0 | AJ34: 4 | AN34: =SUM(AM34*4.5) -> 0 | AO34: 24 | AP34: VALENTINI Enzo lettre Dr MABILON | AQ34: 0.0034027778 | AR34: =((HOUR(AQ34)*3600)+(MINUTE(AQ34)*60)+SECOND(AQ34))/60 -> 4.9 | AS34: =SUM(AR34*2) -> 9.8 | AT34: 4 | AW34: =((HOUR(AV34)*3600)+(MINUTE(AV34)*60)+SECOND(AV34))/60 -> 0 | AX34: =SUM(AW34*2) -> 0
A35: 4 | D35: =((HOUR(C35)*3600)+(MINUTE(C35)*60)+SECOND(C35))/60 -> 0 | E35: =SUM(D35*2) -> 0 | F35: 4 | I35: =((HOUR(H35)*3600)+(MINUTE(H35)*60)+SECOND(H35))/60 -> 0 | J35: =SUM(I35*2.5) -> 0 | Z35: 4 | AC35: =((HOUR(AB35)*3600)+(MINUTE(AB35)*60)+SECOND(AB35))/60 -> 0 | AD35: =SUM(AC35*2) -> 0 | AE35: 4 | AH35: =((HOUR(AG35)*3600)+(MINUTE(AG35)*60)+SECOND(AG35))/60 -> 0 | AI35: =SUM(AH35*2) -> 0 | AJ35: 4 | AN35: =SUM(AM35*4.5) -> 0 | AO35: Total 24 | AR35: =SUBTOTAL(9,AR33:AR34) -> 7.4666667 | AS35: =SUBTOTAL(9,AS33:AS34) -> 14.933333 | AT35: 4 | AW35: =((HOUR(AV35)*3600)+(MINUTE(AV35)*60)+SECOND(AV35))/60 -> 0 | AX35: =SUM(AW35*2) -> 0
A36: 4 | D36: =((HOUR(C36)*3600)+(MINUTE(C36)*60)+SECOND(C36))/60 -> 0 | E36: =SUM(D36*2) -> 0 | F36: 4 | I36: =((HOUR(H36)*3600)+(MINUTE(H36)*60)+SECOND(H36))/60 -> 0 | J36: =SUM(I36*2.5) -> 0 | Z36: 4 | AC36: =((HOUR(AB36)*3600)+(MINUTE(AB36)*60)+SECOND(AB36))/60 -> 0 | AD36: =SUM(AC36*2) -> 0 | AE36: 4 | AH36: =((HOUR(AG36)*3600)+(MINUTE(AG36)*60)+SECOND(AG36))/60 -> 0 | AI36: =SUM(AH36*2) -> 0 | AJ36: 4 | AN36: =SUM(AM36*4.5) -> 0 | AO36: 25 | AP36: AMORE Louis lettre Dr CHAMPIER | AQ36: 0.0022569444 | AR36: =((HOUR(AQ36)*3600)+(MINUTE(AQ36)*60)+SECOND(AQ36))/60 -> 3.25 | AS36: =SUM(AR36*2) -> 6.5 | AT36: 4 | AW36: =((HOUR(AV36)*3600)+(MINUTE(AV36)*60)+SECOND(AV36))/60 -> 0 | AX36: =SUM(AW36*2) -> 0
A37: 4 | D37: =((HOUR(C37)*3600)+(MINUTE(C37)*60)+SECOND(C37))/60 -> 0 | E37: =SUM(D37*2) -> 0 | F37: 4 | I37: =((HOUR(H37)*3600)+(MINUTE(H37)*60)+SECOND(H37))/60 -> 0 | J37: =SUM(I37*2.5) -> 0 | Z37: 4 | AC37: =((HOUR(AB37)*3600)+(MINUTE(AB37)*60)+SECOND(AB37))/60 -> 0 | AD37: =SUM(AC37*2) -> 0 | AE37: 4 | AH37: =((HOUR(AG37)*3600)+(MINUTE(AG37)*60)+SECOND(AG37))/60 -> 0 | AI37: =SUM(AH37*2) -> 0 | AJ37: 4 | AN37: =SUM(AM37*4.5) -> 0 | AO37: Total 25 | AR37: =SUBTOTAL(9,AR36:AR36) -> 3.25 | AS37: =SUBTOTAL(9,AS36:AS36) -> 6.5 | AT37: 4 | AW37: =((HOUR(AV37)*3600)+(MINUTE(AV37)*60)+SECOND(AV37))/60 -> 0 | AX37: =SUM(AW37*2) -> 0
A38: 4 | D38: =((HOUR(C38)*3600)+(MINUTE(C38)*60)+SECOND(C38))/60 -> 0 | E38: =SUM(D38*2) -> 0 | F38: 4 | I38: =((HOUR(H38)*3600)+(MINUTE(H38)*60)+SECOND(H38))/60 -> 0 | J38: =SUM(I38*2.5) -> 0 | Z38: 4 | AC38: =((HOUR(AB38)*3600)+(MINUTE(AB38)*60)+SECOND(AB38))/60 -> 0 | AD38: =SUM(AC38*2) -> 0 | AE38: 4 | AH38: =((HOUR(AG38)*3600)+(MINUTE(AG38)*60)+SECOND(AG38))/60 -> 0 | AI38: =SUM(AH38*2) -> 0 | AJ38: 4 | AN38: =SUM(AM38*4.5) -> 0 | AO38: 26 | AP38: DEMARTINI Lison lettre Dr DENOIX | AQ38: 0.003125 | AR38: =((HOUR(AQ38)*3600)+(MINUTE(AQ38)*60)+SECOND(AQ38))/60 -> 4.5 | AS38: =SUM(AR38*2) -> 9 | AT38: 4 | AW38: =((HOUR(AV38)*3600)+(MINUTE(AV38)*60)+SECOND(AV38))/60 -> 0 | AX38: =SUM(AW38*2) -> 0
A39: Total 4 | D39: =SUBTOTAL(9,D31:D38) -> 0 | E39: =SUBTOTAL(9,E31:E38) -> 0 | F39: Total 4 | I39: =SUBTOTAL(9,I31:I38) -> 0 | J39: =SUBTOTAL(9,J31:J38) -> 0 | Z39: Total 4 | AC39: =SUBTOTAL(9,AC31:AC38) -> 0 | AD39: =SUBTOTAL(9,AD31:AD38) -> 0 | AE39: Total 4 | AH39: =SUBTOTAL(9,AH31:AH38) -> 0 | AI39: =SUBTOTAL(9,AI31:AI38) -> 0 | AJ39: Total 4 | AM39: =SUBTOTAL(9,AM31:AM38) -> 0 | AN39: =SUBTOTAL(9,AN31:AN38) -> 0 | AO39: 26 | AP39: VALLON Michel lettre Dr CAEN | AQ39: 0.0024074074 | AR39: =((HOUR(AQ39)*3600)+(MINUTE(AQ39)*60)+SECOND(AQ39))/60 -> 3.4666667 | AS39: =SUM(AR39*2) -> 6.9333333 | AT39: Total 4 | AW39: =SUBTOTAL(9,AW31:AW38) -> 0 | AX39: =SUBTOTAL(9,AX31:AX38) -> 0
A40: 5 | D40: =((HOUR(C40)*3600)+(MINUTE(C40)*60)+SECOND(C40))/60 -> 0 | E40: =SUM(D40*2) -> 0 | F40: 5 | I40: =((HOUR(H40)*3600)+(MINUTE(H40)*60)+SECOND(H40))/60 -> 0 | J40: =SUM(I40*2.5) -> 0 | Z40: 5 | AC40: =((HOUR(AB40)*3600)+(MINUTE(AB40)*60)+SECOND(AB40))/60 -> 0 | AD40: =SUM(AC40*2) -> 0 | AE40: 5 | AH40: =((HOUR(AG40)*3600)+(MINUTE(AG40)*60)+SECOND(AG40))/60 -> 0 | AI40: =SUM(AH40*2) -> 0 | AJ40: 5 | AN40: =SUM(AM40*4.5) -> 0 | AO40: 26 | AP40: ROUSSET Marc lettre Dr HUEBER | AQ40: 0.0030324074 | AR40: =((HOUR(AQ40)*3600)+(MINUTE(AQ40)*60)+SECOND(AQ40))/60 -> 4.3666667 | AS40: =SUM(AR40*2) -> 8.7333333 | AT40: 5 | AW40: =((HOUR(AV40)*3600)+(MINUTE(AV40)*60)+SECOND(AV40))/60 -> 0 | AX40: =SUM(AW40*2) -> 0
A41: 5 | D41: =((HOUR(C41)*3600)+(MINUTE(C41)*60)+SECOND(C41))/60 -> 0 | E41: =SUM(D41*2) -> 0 | F41: 5 | I41: =((HOUR(H41)*3600)+(MINUTE(H41)*60)+SECOND(H41))/60 -> 0 | J41: =SUM(I41*2.5) -> 0 | Z41: 5 | AC41: =((HOUR(AB41)*3600)+(MINUTE(AB41)*60)+SECOND(AB41))/60 -> 0 | AD41: =SUM(AC41*2) -> 0 | AE41: 5 | AH41: =((HOUR(AG41)*3600)+(MINUTE(AG41)*60)+SECOND(AG41))/60 -> 0 | AI41: =SUM(AH41*2) -> 0 | AJ41: 5 | AN41: =SUM(AM41*4.5) -> 0 | AO41: 26 | AP41: ONTORAL René lettre Dr PISON | AQ41: 0.0021875 | AR41: =((HOUR(AQ41)*3600)+(MINUTE(AQ41)*60)+SECOND(AQ41))/60 -> 3.15 | AS41: =SUM(AR41*2) -> 6.3 | AT41: 5 | AW41: =((HOUR(AV41)*3600)+(MINUTE(AV41)*60)+SECOND(AV41))/60 -> 0 | AX41: =SUM(AW41*2) -> 0
...

Sheet Septembre
