Workbook

Sheet Octobre
A1: Pierre BENDJOUYA | F1: Delphine BRESSY-RÄNSCH | K1: Pierre BRUNO | P1: CABINET DELAFON | U1: Véronique GARCIA-GOMEZ | Z1: Audrey GRANDGONNET | AE1: Eric LE GULLUDEC | AJ1: L'ELECT | AO1: ERIC PAGE | AT1: TELL US
A3: Date | B3: Dossier | C3: Durée | D3: Minutes | E3: Facturé | F3: Date | G3: Dossier | H3: Durée | I3: Minutes | J3: Facturé | K3: Date | L3: Dossier | M3: Type | N3: Pages | O3: Facturé | P3: Date | Q3: Dossier | R3: Durée | S3: Minutes | T3: Facturé | U3: Date | V3: Dossier | W3: Durée | X3: Minutes | Y3: Facturé | Z3: Date | AA3: Dossier | AB3: Durée | AC3: Minutes | AD3: Facturé | AE3: Date | AF3: Dossier | AG3: Durée | AH3: Minutes | AI3: Facturé | AJ3: Date | AK3: N° Devis | AL3: Nom client | AM3: Pages | AN3: Facturé | AO3: Date | AP3: Dossier | AQ3: Durée | AR3: Minutes | AS3: Facturé | AT3: Date | AU3: Dossier | AV3: Durée | AW3: Minutes | AX3: Facturé
A4: 26 | B4: ECA Courrier AVIVA | D4: =((HOUR(C4)*3600)+(MINUTE(C4)*60)+SECOND(C4))/60 -> 0 | E4: =SUM(D4*2) -> 0 | F4: 7 | G4: 7 | H4: 0.0017592593 | I4: =((HOUR(H4)*3600)+(MINUTE(H4)*60)+SECOND(H4))/60 -> 2.5333333 | J4: =SUM(I4*2.5) -> 6.3333333 | K4: 12 | L4: 364 | M4: LISTANN | N4: 1 | O4: =SUM(N4*4.5) -> 4.5 | P4: 11 | Q4: JOUBERT Mémoire TA | S4: =((HOUR(R4)*3600)+(MINUTE(R4)*60)+SECOND(R4))/60 -> 0 | T4: =SUM(S4*2) -> 0 | U4: 19 | V4: BEYER Conclusions | W4: 0.009849537 | X4: =((HOUR(W4)*3600)+(MINUTE(W4)*60)+SECOND(W4))/60 -> 14.183333 | Y4: =SUM(X4*2) -> 28.366667 | Z4: 31 | AC4: =((HOUR(AB4)*3600)+(MINUTE(AB4)*60)+SECOND(AB4))/60 -> 0 | AD4: =SUM(AC4*2) -> 0 | AE4: 31 | AH4: =((HOUR(AG4)*3600)+(MINUTE(AG4)*60)+SECOND(AG4))/60 -> 0 | AI4: =SUM(AH4*2) -> 0 | AJ4: 31 | AN4: =SUM(AM4*4.5) -> 0 | AO4: 25 | AP4: GRASSANO Antonietta lettre Dr JOUET-PASTRE | AQ4: 0.001712963 | AR4: =((HOUR(AQ4)*3600)+(MINUTE(AQ4)*60)+SECOND(AQ4))/60 -> 2.4666667 | AS4: =SUM(AR4*2) -> 4.9333333 | AT4: 31 | AW4: =((HOUR(AV4)*3600)+(MINUTE(AV4)*60)+SECOND(AV4))/60 -> 0 | AX4: =SUM(AW4*2) -> 0
A5: 26 | B5: AVRILLON Courrier AVIVA | D5: =((HOUR(C5)*3600)+(MINUTE(C5)*60)+SECOND(C5))/60 -> 0 | E5: =SUM(D5*2) -> 0 | F5: 7 | G5: 7 | H5: 0.0069560185 | I5: =((HOUR(H5)*3600)+(MINUTE(H5)*60)+SECOND(H5))/60 -> 10.016667 | J5: =SUM(I5*2.5) -> 25.041667 | K5: 12 | L5: 332 | M5: FRAPPE-3 | N5: 0.8 | O5: =SUM(N5*4.5) -> 3.6 | P5: 11 | Q5: JOUBERT Courrier client | S5: =((HOUR(R5)*3600)+(MINUTE(R5)*60)+SECOND(R5))/60 -> 0 | T5: =SUM(S5*2) -> 0 | U5: Total 19 | X5: =SUBTOTAL(9,X4:X4) -> 14.183333 | Y5: =SUBTOTAL(9,Y4:Y4) -> 28.366667 | Z5: Total 31 | AC5: =SUBTOTAL(9,AC4:AC4) -> 0 | AD5: =SUBTOTAL(9,AD4:AD4) -> 0 | AE5: Total 31 | AH5: =SUBTOTAL(9,AH4:AH4) -> 0 | AI5: =SUBTOTAL(9,AI4:AI4) -> 0 | AJ5: Total 31 | AM5: =SUBTOTAL(9,AM4:AM4) -> 0 | AN5: =SUBTOTAL(9,AN4:AN4) -> 0 | AO5: Total 25 | AR5: =SUBTOTAL(9,AR4:AR4) -> 2.4666667 | AS5: =SUBTOTAL(9,AS4:AS4) -> 4.9333333 | AT5: Total 31 | AW5: =SUBTOTAL(9,AW4:AW4) -> 0 | AX5: =SUBTOTAL(9,AX4:AX4) -> 0
A6: 26 | B6: CATTET Lettre ACM | D6: =((HOUR(C6)*3600)+(MINUTE(C6)*60)+SECOND(C6))/60 -> 0 | E6: =SUM(D6*2) -> 0 | F6: 7 | G6: 7 | H6: 0.0034606481 | I6: =((HOUR(H6)*3600)+(MINUTE(H6)*60)+SECOND(H6))/60 -> 4.9833333 | J6: =SUM(I6*2.5) -> 12.458333 | K6: 12 | L6: 336 | M6: Lettre BCF & Associés-16 | N6: 0.5 | O6: =SUM(N6*4.5) -> 2.25 | P6: 11 | Q6: Total | R6: 0.015231481 | S6: =((HOUR(R6)*3600)+(MINUTE(R6)*60)+SECOND(R6))/60 -> 21.933333 | T6: =SUM(S6*2) -> 43.866667 | U6: 28 | V6: MEYNET lettre Me ABBO | W6: 0.0045486111 | X6: =((HOUR(W6)*3600)+(MINUTE(W6)*60)+SECOND(W6))/60 -> 6.55 | Y6: =SUM(X6*2) -> 13.1 | Z6: Total | AC6: =SUBTOTAL(9,AC4:AC4) -> 0 | AD6: =SUBTOTAL(9,AD4:AD4) -> 0 | AE6: Total | AH6: =SUBTOTAL(9,AH4:AH4) -> 0 | AI6: =SUBTOTAL(9,AI4:AI4) -> 0 | AJ6: Total | AM6: =SUBTOTAL(9,AM4:AM4) -> 0 | AN6: =SUBTOTAL(9,AN4:AN4) -> 0 | AO6: 26 | AP6: DUVAL Thomas lettre Dr BESSON-ENGELS | AQ6: 0.0021180556 | AR6: =((HOUR(AQ6)*3600)+(MINUTE(AQ6)*60)+SECOND(AQ6))/60 -> 3.05 | AS6: =SUM(AR6*2) -> 6.1 | AT6: Total | AW6: =SUBTOTAL(9,AW4:AW4) -> 0 | AX6: =SUBTOTAL(9,AX4:AX4) -> 0
A7: 26 | B7: DELAYE Lettre AVIVA | D7: =((HOUR(C7)*3600)+(MINUTE(C7)*60)+SECOND(C7))/60 -> 0 | E7: =SUM(D7*2) -> 0 | F7: 7 | G7: 7 | H7: 0.0021990741 | I7: =((HOUR(H7)*3600)+(MINUTE(H7)*60)+SECOND(H7))/60 -> 3.1666667 | J7: =SUM(I7*2.5) -> 7.9166667 | K7: 12 | L7: 336 | M7: Lettre expert ESTELLER-7 | N7: 0.7 | O7: =SUM(N7*4.5) -> 3.15 | P7: Total 11 | S7: =SUBTOTAL(9,S4:S6) -> 21.933333 | T7: =SUBTOTAL(9,T4:T6) -> 43.866667 | U7: Total 28 | X7: =SUBTOTAL(9,X6:X6) -> 6.55 | Y7: =SUBTOTAL(9,Y6:Y6) -> 13.1 | AO7: 26 | AP7: SCHIFFMACHER René lettre Dr OUVRARD | AQ7: 0.0018287037 | AR7: =((HOUR(AQ7)*3600)+(MINUTE(AQ7)*60)+SECOND(AQ7))/60 -> 2.6333333 | AS7: =SUM(AR7*2) -> 5.2666667
A8: 26 | B8: PELLAT-FINET Lettre AVIVA | D8: =((HOUR(C8)*3600)+(MINUTE(C8)*60)+SECOND(C8))/60 -> 0 | E8: =SUM(D8*2) -> 0 | F8: 7 | G8: 7 | H8: 0.0071527778 | I8: =((HOUR(H8)*3600)+(MINUTE(H8)*60)+SECOND(H8))/60 -> 10.3 | J8: =SUM(I8*2.5) -> 25.75 | K8: Total 12 | N8: =SUBTOTAL(9,N4:N7) -> 3 | O8: =SUBTOTAL(9,O4:O7) -> 13.5 | P8: 14 | Q8: CH ST EGREVE - GIMENEZ Conclusions | S8: =((HOUR(R8)*3600)+(MINUTE(R8)*60)+SECOND(R8))/60 -> 0 | T8: =SUM(S8*2) -> 0 | U8: Total | X8: =SUBTOTAL(9,X4:X7) -> 20.733333 | Y8: =SUBTOTAL(9,Y4:Y7) -> 41.466667 | AO8: Total 26 | AR8: =SUBTOTAL(9,AR6:AR7) -> 5.6833333 | AS8: =SUBTOTAL(9,AS6:AS7) -> 11.366667
A9: 26 | B9: Total Face 1 | C9: 0.010601852 | D9: =((HOUR(C9)*3600)+(MINUTE(C9)*60)+SECOND(C9))/60 -> 15.266667 | E9: =SUM(D9*2) -> 30.533333 | F9: 7 | G9: 7 | H9: 0.0035416667 | I9: =((HOUR(H9)*3600)+(MINUTE(H9)*60)+SECOND(H9))/60 -> 5.1 | J9: =SUM(I9*2.5) -> 12.75 | K9: 13 | L9: 357 | M9: NOTE N°X-2 | N9: 2.2 | O9: =SUM(N9*4.5) -> 9.9 | P9: 14 | Q9: CH ST EGREVE - GIMENEZ Courrier client | S9: =((HOUR(R9)*3600)+(MINUTE(R9)*60)+SECOND(R9))/60 -> 0 | T9: =SUM(S9*2) -> 0 | AO9: 27 | AP9: LELONG Cédric lettre Dr LELONG | AQ9: 0.001099537 | AR9: =((HOUR(AQ9)*3600)+(MINUTE(AQ9)*60)+SECOND(AQ9))/60 -> 1.5833333 | AS9: =SUM(AR9*2) -> 3.1666667
A10: 26 | B10: CARRET BOUVIER lettre AVIVA | D10: =((HOUR(C10)*3600)+(MINUTE(C10)*60)+SECOND(C10))/60 -> 0 | E10: =SUM(D10*2) -> 0 | F10: Total 7 | I10: =SUBTOTAL(9,I4:I9) -> 36.1 | J10: =SUBTOTAL(9,J4:J9) -> 90.25 | K10: 13 | L10: 357 | M10: Lettre Me ESQUÉ-2 | N10: 0.7 | O10: =SUM(N10*4.5) -> 3.15 | P10: 14 | Q10: Total | R10: 0.022847222 | S10: =((HOUR(R10)*3600)+(MINUTE(R10)*60)+SECOND(R10))/60 -> 32.9 | T10: =SUM(S10*2) -> 65.8 | AO10: 27 | AP10: CLEMENT Bruno lettre Dr IMBERT | AQ10: 0.0019097222 | AR10: =((HOUR(AQ10)*3600)+(MINUTE(AQ10)*60)+SECOND(AQ10))/60 -> 2.75 | AS10: =SUM(AR10*2) -> 5.5
A11: 26 | B11: LE CLOS DES ILES Assignation | D11: =((HOUR(C11)*3600)+(MINUTE(C11)*60)+SECOND(C11))/60 -> 0 | E11: =SUM(D11*2) -> 0 | F11: 22 | G11: SURDON Conclusions (rappel des faits) | H11: 0.0030787037 | I11: =((HOUR(H11)*3600)+(MINUTE(H11)*60)+SECOND(H11))/60 -> 4.4333333 | J11: =SUM(I11*2.5) -> 11.083333 | K11: 13 | L11: 357 | M11: FRAPPE-1 | N11: 1.5 | O11: =SUM(N11*4.5) -> 6.75 | P11: Total 14 | S11: =SUBTOTAL(9,S8:S10) -> 32.9 | T11: =SUBTOTAL(9,T8:T10) -> 65.8 | AO11: 27 | AP11: BERTHET François lettre Dr CADENCE | AQ11: 0.0016319444 | AR11: =((HOUR(AQ11)*3600)+(MINUTE(AQ11)*60)+SECOND(AQ11))/60 -> 2.35 | AS11: =SUM(AR11*2) -> 4.7
A12: 26 | B12: Total Face 2 | C12: 0.0086689815 | D12: =((HOUR(C12)*3600)+(MINUTE(C12)*60)+SECOND(C12))/60 -> 12.483333 | E12: =SUM(D12*2) -> 24.966667 | F12: 22 | G12: SURDON Conclusions (discussion - 1ère partie) | H12: 0.0034490741 | I12: =((HOUR(H12)*3600)+(MINUTE(H12)*60)+SECOND(H12))/60 -> 4.9666667 | J12: =SUM(I12*2.5) -> 12.416667 | K12: 13 | L12: PERSO | M12: Lettre procureur général-3 | N12: 0.5 | O12: =SUM(N12*4.5) -> 2.25 | P12: 25 | Q12: AXA-DI BILIO - Conclusions | S12: =((HOUR(R12)*3600)+(MINUTE(R12)*60)+SECOND(R12))/60 -> 0 | T12: =SUM(S12*2) -> 0 | AO12: Total 27 | AR12: =SUBTOTAL(9,AR9:AR11) -> 6.6833333 | AS12: =SUBTOTAL(9,AS9:AS11) -> 13.366667
A13: Total 26 | D13: =SUBTOTAL(9,D4:D12) -> 27.75 | E13: =SUBTOTAL(9,E4:E12) -> 55.5 | F13: 22 | G13: SURDON Conclusions (discussion - 2ème partie) | H13: 0.0048032407 | I13: =((HOUR(H13)*3600)+(MINUTE(H13)*60)+SECOND(H13))/60 -> 6.9166667 | J13: =SUM(I13*2.5) -> 17.291667 | K13: 13 | L13: 360 | M13: Lettre Commune-1 | N13: 0.6 | O13: =SUM(N13*4.5) -> 2.7 | P13: 25 | Q13: AXA-DI BILIO - Courrier client | S13: =((HOUR(R13)*3600)+(MINUTE(R13)*60)+SECOND(R13))/60 -> 0 | T13: =SUM(S13*2) -> 0 | AO13: 28 | AP13: MERICHE Hocine lettre Dr ORMIERES | AQ13: 0.0022800926 | AR13: =((HOUR(AQ13)*3600)+(MINUTE(AQ13)*60)+SECOND(AQ13))/60 -> 3.2833333 | AS13: =SUM(AR13*2) -> 6.5666667
A14: Total | D14: =SUBTOTAL(9,D4:D13) -> 27.75 | E14: =SUBTOTAL(9,E4:E13) -> 55.5 | F14: 22 | G14: SURDON Conclusions (discussion - 3ème partie) | H14: 0.0057638889 | I14: =((HOUR(H14)*3600)+(MINUTE(H14)*60)+SECOND(H14))/60 -> 8.3 | J14: =SUM(I14*2.5) -> 20.75 | K14: 13 | L14: 337 | M14: Lettre TGI Besançon-5 | N14: 0.9 | O14: =SUM(N14*4.5) -> 4.05 | P14: 25 | Q14: Total | R14: 0.014814815 | S14: =((HOUR(R14)*3600)+(MINUTE(R14)*60)+SECOND(R14))/60 -> 21.333333 | T14: =SUM(S14*2) -> 42.666667 | AO14: 28 | AP14: VIROT Maud lettre Dr CHARRAS | AQ14: 0.0009375 | AR14: =((HOUR(AQ14)*3600)+(MINUTE(AQ14)*60)+SECOND(AQ14))/60 -> 1.35 | AS14: =SUM(AR14*2) -> 2.7
F15: Total 22 | I15: =SUBTOTAL(9,I11:I14) -> 24.616667 | J15: =SUBTOTAL(9,J11:J14) -> 61.541667 | K15: Total 13 | N15: =SUBTOTAL(9,N9:N14) -> 6.4 | O15: =SUBTOTAL(9,O9:O14) -> 28.8 | P15: 25 | Q15: 11889 ALTROS Conclusions TC REIMS | S15: =((HOUR(R15)*3600)+(MINUTE(R15)*60)+SECOND(R15))/60 -> 0 | T15: =SUM(S15*2) -> 0 | AO15: 28 | AP15: NGUYEN Henri lettre Dr KAUFMAN | AQ15: 0.0020601852 | AR15: =((HOUR(AQ15)*3600)+(MINUTE(AQ15)*60)+SECOND(AQ15))/60 -> 2.9666667 | AS15: =SUM(AR15*2) -> 5.9333333
F16: Total | I16: =SUBTOTAL(9,I4:I15) -> 60.716667 | J16: =SUBTOTAL(9,J4:J15) -> 151.79167 | K16: 20 | L16: 362 | M16: Relevé paramètres automate | N16: 1 | O16: =SUM(N16*4.5) -> 4.5 | P16: 25 | Q16: 11889 ALTROS Courrier client | S16: =((HOUR(R16)*3600)+(MINUTE(R16)*60)+SECOND(R16))/60 -> 0 | T16: =SUM(S16*2) -> 0 | AO16: Total 28 | AR16: =SUBTOTAL(9,AR13:AR15) -> 7.6 | AS16: =SUBTOTAL(9,AS13:AS15) -> 15.2
K17: Total 20 | N17: =SUBTOTAL(9,N16:N16) -> 1 | O17: =SUBTOTAL(9,O16:O16) -> 4.5 | P17: 25 | Q17: Total | R17: 0.011458333 | S17: =((HOUR(R17)*3600)+(MINUTE(R17)*60)+SECOND(R17))/60 -> 16.5 | T17: =SUM(S17*2) -> 33 | AO17: 29 | AP17: GAY Serge lettre Dr ARBET | AQ17: 0.001712963 | AR17: =((HOUR(AQ17)*3600)+(MINUTE(AQ17)*60)+SECOND(AQ17))/60 -> 2.4666667 | AS17: =SUM(AR17*2) -> 4.9333333
K18: 21 | L18: 362 | M18: Relevé paramètres automate | N18: 1 | O18: =SUM(N18*4.5) -> 4.5 | P18: Total 25 | S18: =SUBTOTAL(9,S12:S17) -> 37.833333 | T18: =SUBTOTAL(9,T12:T17) -> 75.666667 | AO18: 29 | AP18: AMOUSSOU Colette lettre Dr SIBILLE | AQ18: 0.0012962963 | AR18: =((HOUR(AQ18)*3600)+(MINUTE(AQ18)*60)+SECOND(AQ18))/60 -> 1.8666667 | AS18: =SUM(AR18*2) -> 3.7333333
K19: Total 21 | N19: =SUBTOTAL(9,N18:N18) -> 1 | O19: =SUBTOTAL(9,O18:O18) -> 4.5 | P19: Total | S19: =SUBTOTAL(9,S4:S18) -> 92.666667 | T19: =SUBTOTAL(9,T4:T18) -> 185.33333 | AO19: 29 | AP19: CUGNOD Marinette lettre Dr MICHEL | AQ19: 0.00081018519 | AR19: =((HOUR(AQ19)*3600)+(MINUTE(AQ19)*60)+SECOND(AQ19))/60 -> 1.1666667 | AS19: =SUM(AR19*2) -> 2.3333333
K20: 22 | L20: 337 | M20: NOTE N° 24 | N20: 1 | O20: =SUM(N20*4.5) -> 4.5 | AO20: 29 | AP20: BANACHE Yves lettre Dr LEVET | AQ20: 0.0015046296 | AR20: =((HOUR(AQ20)*3600)+(MINUTE(AQ20)*60)+SECOND(AQ20))/60 -> 2.1666667 | AS20: =SUM(AR20*2) -> 4.3333333
K21: Total 22 | N21: =SUBTOTAL(9,N20:N20) -> 1 | O21: =SUBTOTAL(9,O20:O20) -> 4.5 | AO21: 29 | AP21: VOLPATO Gérard lettre Dr DELORME | AQ21: 0.0013657407 | AR21: =((HOUR(AQ21)*3600)+(MINUTE(AQ21)*60)+SECOND(AQ21))/60 -> 1.9666667 | AS21: =SUM(AR21*2) -> 3.9333333
K22: 25 | L22: 336 | M22: Lettre BCF & Associés-17 | N22: 0.5 | O22: =SUM(N22*4.5) -> 2.25 | AO22: Total 29 | AR22: =SUBTOTAL(9,AR17:AR21) -> 9.6333333 | AS22: =SUBTOTAL(9,AS17:AS21) -> 19.266667
K23: 25 | L23: 336 | M23: Lettre expert ESTELLER-8 | N23: 0.7 | O23: =SUM(N23*4.5) -> 3.15 | AO23: Total | AR23: =SUBTOTAL(9,AR4:AR22) -> 32.066667 | AS23: =SUBTOTAL(9,AS4:AS22) -> 64.133333
K24: 25 | L24: 336 | M24: Lettre OFFICINE DORIN-12 | N24: 0.5 | O24: =SUM(N24*4.5) -> 2.25
K25: 25 | L25: 342 | M25: Lettre ART GRAPHIC MEDIA | N25: 0.9 | O25: =SUM(N25*4.5) -> 4.05
K26: 25 | L26: 342 | M26: Lettre Me PLAUT | N26: 0.5 | O26: =SUM(N26*4.5) -> 2.25
K27: 25 | L27: 360 | M27: LISTANN | N27: 0.2 | O27: =SUM(N27*4.5) -> 0.9
K28: Total 25 | N28: =SUBTOTAL(9,N22:N27) -> 3.3 | O28: =SUBTOTAL(9,O22:O27) -> 14.85
K29: 27 | L29: 357 | M29: LISTANN FM | N29: 0.3 | O29: =SUM(N29*4.5) -> 1.35
K30: 27 | L30: 357 | M30: Lettre TGI-2 | N30: 0.9 | O30: =SUM(N30*4.5) -> 4.05
K31: 27 | L31: 357 | M31: FRAPPE-2 | N31: 4 | O31: =SUM(N31*4.5) -> 18
K32: 27 | L32: 357 | M32: FRAPPE-3 | N32: 0.3 | O32: =SUM(N32*4.5) -> 1.35
K33: 27 | L33: 369 | M33: Projet de Note | N33: 0.8 | O33: =SUM(N33*4.5) -> 3.6
K34: 27 | L34: 334 | M34: FRAPPE-1 | N34: 1 | O34: =SUM(N34*4.5) -> 4.5
K35: Total 27 | N35: =SUBTOTAL(9,N29:N34) -> 7.3 | O35: =SUBTOTAL(9,O29:O34) -> 32.85
K36: 29 | L36: 360 | M36: Lettre TA-2 | N36: 0.8 | O36: =SUM(N36*4.5) -> 3.6
K37: 29 | L37: 336 | M37: Lettre BCF & Associés-18 | N37: 0.6 | O37: =SUM(N37*4.5) -> 2.7
K38: 29 | L38: 334 | M38: FRAPPE-2 | N38: 1.4 | O38: =SUM(N38*4.5) -> 6.3
K39: 29 | L39: 332 | M39: Lettre TGI-6 | N39: 0.8 | O39: =SUM(N39*4.5) -> 3.6
K40: 29 | L40: 334 | M40: FRAPPE-3 | N40: 0.1 | O40: =SUM(N40*4.5) -> 0.45
K41: Total 29 | N41: =SUBTOTAL(9,N36:N40) -> 3.7 | O41: =SUBTOTAL(9,O36:O40) -> 16.65
K42: 30 | L42: 368 | M42: Lettre SDEEC-1 | N42: 1 | O42: =SUM(N42*4.5) -> 4.5
K43: 30 | L43: 368 | M43: CR réunion 29.10.10 | N43: 1.5 | O43: =SUM(N43*4.5) -> 6.75
K44: 30 | N44: =SUBTOTAL(9,N42:N43) -> 2.5 | O44: =SUBTOTAL(9,O42:O43) -> 11.25
K45: 30 | N45: =SUBTOTAL(9,N4:N43) -> 29.2 | O45: =SUM(O44,O41,O35,O28,O21,O19,O17,O15,O8) -> 131.4
K46: 30
K47: 30
K48: 30
K49: 30
K50: Total 30
K51: 31
K52: 31
K53: 31
K54: 31
K55: 31
K56: 31
K57: 31
K58: 31
K59: Total 31
K60: Total

Sheet Novembre
A1: Pierre BENDJOUYA | F1: Delphine BRESSY-RÄNSCH | K1: Pierre BRUNO | P1: CABINET DELAFON | U1: Véronique GARCIA-GOMEZ | Z1: Audrey GRANDGONNET | AE1: Eric LE GULLUDEC | AJ1: L'ELECT | AO1: ERIC PAGE | AT1: TELL US
A3: Date | B3: Dossier | C3: Durée | D3: Minutes | E3: Facturé | F3: Date | G3: Dossier | H3: Durée | I3: Minutes | J3: Facturé | K3: Date | L3: Dossier | M3: Type | N3: Pages | O3: Facturé | P3: Date | Q3: Dossier | R3: Durée | S3: Minutes | T3: Facturé | U3: Date | V3: Dossier | W3: Durée | X3: Minutes | Y3: Facturé | Z3: Date | AA3: Dossier | AB3: Durée | AC3: Minutes | AD3: Facturé | AE3: Date | AF3: Dossier | AG3: Durée | AH3: Minutes | AI3: Facturé | AJ3: Date | AK3: N° Devis | AL3: Nom client | AM3: Pages | AN3: Facturé | AO3: Date | AP3: Dossier | AQ3: Durée | AR3: Minutes | AS3: Facturé | AT3: Date | AU3: Dossier | AV3: Durée | AW3: Minutes | AX3: Facturé
A4: 19 | B4: PELLAT-FINET Conclusions | D4: =((HOUR(C4)*3600)+(MINUTE(C4)*60)+SECOND(C4))/60 -> 0 | E4: =SUM(D4*2) -> 0 | F4: 16 | G4: LECLERE conclusions CPH | I4: =((HOUR(H4)*3600)+(MINUTE(H4)*60)+SECOND(H4))/60 -> 0 | J4: =SUM(I4*2.5) -> 0 | K4: 2 | L4: 332 | M4: FRAPPE-4 | N4: 0.2 | O4: =SUM(N4*4.5) -> 0.9 | P4: 31 | S4: =((HOUR(R4)*3600)+(MINUTE(R4)*60)+SECOND(R4))/60 -> 0 | T4: =SUM(S4*2) -> 0 | U4: 12 | V4: 107/634 MAGGUILLI Lettre Me GIRARD | X4: =((HOUR(W4)*3600)+(MINUTE(W4)*60)+SECOND(W4))/60 -> 0 | Y4: =SUM(X4*2) -> 0 | Z4: 8 | AA4: GRANON-MATTIA Conclusions JAF | AC4: =((HOUR(AB4)*3600)+(MINUTE(AB4)*60)+SECOND(AB4))/60 -> 0 | AD4: =SUM(AC4*2) -> 0 | AE4: 31 | AH4: =((HOUR(AG4)*3600)+(MINUTE(AG4)*60)+SECOND(AG4))/60 -> 0 | AI4: =SUM(AH4*2) -> 0 | AJ4: 18 | AK4: 4822 | AL4: GLE Martine | AM4: 5 | AN4: =SUM(AM4*4.5) -> 22.5 | AO4: 10 | AP4: RIVIERE Elisabeth lettre Dr COLUSSI | AQ4: 0.00097222222 | AR4: =((HOUR(AQ4)*3600)+(MINUTE(AQ4)*60)+SECOND(AQ4))/60 -> 1.4 | AS4: =SUM(AR4*2) -> 2.8 | AU4: SCHNEIDER SUISSE AGENCE LAUSANNE | AV4: 0.088761574 | AW4: =((HOUR(AV4)*3600)+(MINUTE(AV4)*60)+SECOND(AV4))/60 -> 127.81667 | AX4: =SUM(AW4*2) -> 255.63333
A5: 19 | B5: Face 1 | C5: 0.010636574 | D5: =((HOUR(C5)*3600)+(MINUTE(C5)*60)+SECOND(C5))/60 -> 15.316667 | E5: =SUM(D5*2) -> 30.633333 | F5: 16 | G5: 1 - Rappel des faits | H5: 0.0052893519 | I5: =((HOUR(H5)*3600)+(MINUTE(H5)*60)+SECOND(H5))/60 -> 7.6166667 | J5: =SUM(I5*2.5) -> 19.041667 | K5: 2 | L5: 359 | M5: Lettre Me BETTON-1 | N5: 0.7 | O5: =SUM(N5*4.5) -> 3.15 | P5: Total 31 | S5: =SUBTOTAL(9,S4:S4) -> 0 | T5: =SUBTOTAL(9,T4:T4) -> 0 | U5: 12 | V5: 110791 BENSAADA Lettre Mr et Mme BENSAADA | X5: =((HOUR(W5)*3600)+(MINUTE(W5)*60)+SECOND(W5))/60 -> 0 | Y5: =SUM(X5*2) -> 0 | Z5: 8 | AA5: FRESSONNET-CREUSAT Conclusions | AC5: =((HOUR(AB5)*3600)+(MINUTE(AB5)*60)+SECOND(AB5))/60 -> 0 | AD5: =SUM(AC5*2) -> 0 | AE5: Total 31 | AH5: =SUBTOTAL(9,AH4:AH4) -> 0 | AI5: =SUBTOTAL(9,AI4:AI4) -> 0 | AJ5: Total 18 | AM5: =SUBTOTAL(9,AM4:AM4) -> 5 | AN5: =SUBTOTAL(9,AN4:AN4) -> 22.5 | AO5: 10 | AP5: BUSSON Pierre lettre Dr ANDERSON | AQ5: 0.0021412037 | AR5: =((HOUR(AQ5)*3600)+(MINUTE(AQ5)*60)+SECOND(AQ5))/60 -> 3.0833333 | AS5: =SUM(AR5*2) -> 6.1666667 | AU5: BUL 101007 BEAMSTEIN SUISSE | AV5: 0.048854167 | AW5: =((HOUR(AV5)*3600)+(MINUTE(AV5)*60)+SECOND(AV5))/60 -> 70.35 | AX5: =SUM(AW5*2) -> 140.7
A6: 19 | B6: Face 2 | C6: 0.0035069444 | D6: =((HOUR(C6)*3600)+(MINUTE(C6)*60)+SECOND(C6))/60 -> 5.05 | E6: =SUM(D6*2) -> 10.1 | F6: 16 | G6: 2 - Discussion I | H6: 0.002337963 | I6: =((HOUR(H6)*3600)+(MINUTE(H6)*60)+SECOND(H6))/60 -> 3.3666667 | J6: =SUM(I6*2.5) -> 8.4166667 | K6: 2 | L6: 359 | M6: Lettre Me SEON-1 | N6: 0.8 | O6: =SUM(N6*4.5) -> 3.6 | P6: Total | S6: =SUBTOTAL(9,S4:S4) -> 0 | T6: =SUBTOTAL(9,T4:T4) -> 0 | U6: 12 | V6: 106545 VETULI Lettre Mr VETULI | X6: =((HOUR(W6)*3600)+(MINUTE(W6)*60)+SECOND(W6))/60 -> 0 | Y6: =SUM(X6*2) -> 0 | Z6: 8 | AA6: Total | AB6: 0.026377315 | AC6: =((HOUR(AB6)*3600)+(MINUTE(AB6)*60)+SECOND(AB6))/60 -> 37.983333 | AD6: =SUM(AC6*2) -> 75.966667 | AE6: Total | AH6: =SUBTOTAL(9,AH4:AH4) -> 0 | AI6: =SUBTOTAL(9,AI4:AI4) -> 0 | AJ6: 19 | AK6: 4820 | AL6: SCHNEIDER ELECTRIC | AM6: 2 | AN6: =SUM(AM6*4.5) -> 9 | AO6: 10 | AP6: GODAT Odile lettre Dr RAVIX | AQ6: 0.0020601852 | AR6: =((HOUR(AQ6)*3600)+(MINUTE(AQ6)*60)+SECOND(AQ6))/60 -> 2.9666667 | AS6: =SUM(AR6*2) -> 5.9333333 | AW6: =SUBTOTAL(9,AW4:AW5) -> 198.16667 | AX6: =SUBTOTAL(9,AX4:AX5) -> 396.33333
A7: Total 19 | D7: =SUBTOTAL(9,D4:D6) -> 20.366667 | E7: =SUBTOTAL(9,E4:E6) -> 40.733333 | F7: 16 | G7: 3 - Discussion II | H7: 0.0053356481 | I7: =((HOUR(H7)*3600)+(MINUTE(H7)*60)+SECOND(H7))/60 -> 7.6833333 | J7: =SUM(I7*2.5) -> 19.208333 | K7: 2 | L7: 332 | M7: FRAPPE-5 | N7: 0.8 | O7: =SUM(N7*4.5) -> 3.6 | U7: 12 | V7: Total | W7: 0.0031712963 | X7: =((HOUR(W7)*3600)+(MINUTE(W7)*60)+SECOND(W7))/60 -> 4.5666667 | Y7: =SUM(X7*2) -> 9.1333333 | Z7: Total 8 | AC7: =SUBTOTAL(9,AC4:AC6) -> 37.983333 | AD7: =SUBTOTAL(9,AD4:AD6) -> 75.966667 | AJ7: Total 19 | AM7: =SUBTOTAL(9,AM6:AM6) -> 2 | AN7: =SUBTOTAL(9,AN6:AN6) -> 9 | AO7: 10 | AP7: TORRES Ruth lettre Dr MERLE | AQ7: 0.0015740741 | AR7: =((HOUR(AQ7)*3600)+(MINUTE(AQ7)*60)+SECOND(AQ7))/60 -> 2.2666667 | AS7: =SUM(AR7*2) -> 4.5333333 | AT7: Total | AW7: =SUBTOTAL(9,AW4:AW6) -> 198.16667 | AX7: =SUBTOTAL(9,AX4:AX6) -> 396.33333
A8: 25 | B8: RHONE-ALPES ISOLATION Bordereau de pièces | D8: =((HOUR(C8)*3600)+(MINUTE(C8)*60)+SECOND(C8))/60 -> 0 | E8: =SUM(D8*2) -> 0 | F8: 16 | G8: 4 - Discussion II suite 1 | H8: 0.0063657407 | I8: =((HOUR(H8)*3600)+(MINUTE(H8)*60)+SECOND(H8))/60 -> 9.1666667 | J8: =SUM(I8*2.5) -> 22.916667 | K8: 2 | L8: 332 | M8: Envoi rapport TGI | N8: 1 | O8: =SUM(N8*4.5) -> 4.5 | U8: Total 12 | X8: =SUBTOTAL(9,X4:X7) -> 4.5666667 | Y8: =SUBTOTAL(9,Y4:Y7) -> 9.1333333 | Z8: Total | AC8: =SUBTOTAL(9,AC4:AC7) -> 37.983333 | AD8: =SUBTOTAL(9,AD4:AD7) -> 75.966667 | AJ8: Total | AM8: =SUBTOTAL(9,AM4:AM7) -> 7 | AN8: =SUBTOTAL(9,AN4:AN7) -> 31.5 | AO8: Total 10 | AR8: =SUBTOTAL(9,AR4:AR7) -> 9.7166667 | AS8: =SUBTOTAL(9,AS4:AS7) -> 19.433333
A9: 25 | B9: CARRET Lettre BOUVIER-LABROSSE | D9: =((HOUR(C9)*3600)+(MINUTE(C9)*60)+SECOND(C9))/60 -> 0 | E9: =SUM(D9*2) -> 0 | F9: 16 | G9: 5 - Discussion II suite 2 | H9: 0.002037037 | I9: =((HOUR(H9)*3600)+(MINUTE(H9)*60)+SECOND(H9))/60 -> 2.9333333 | J9: =SUM(I9*2.5) -> 7.3333333 | L9: 332 | M9: Envoi rapport greffe | N9: 1 | O9: =SUM(N9*4.5) -> 4.5 | U9: 18 | V9: 109736 HODÉ Requête modif mesures provisoires | W9: 0.0070833333 | X9: =((HOUR(W9)*3600)+(MINUTE(W9)*60)+SECOND(W9))/60 -> 10.2 | Y9: =SUM(X9*2) -> 20.4 | AO9: 15 | AP9: CHOVIN Jean-Claude lettre Dr CAHEN | AQ9: 0.0011574074 | AR9: =((HOUR(AQ9)*3600)+(MINUTE(AQ9)*60)+SECOND(AQ9))/60 -> 1.6666667 | AS9: =SUM(AR9*2) -> 3.3333333
A10: 25 | B10: LES AMIS DU GRAND ALBERT Lettre SCI DU GRAND ALBERT | D10: =((HOUR(C10)*3600)+(MINUTE(C10)*60)+SECOND(C10))/60 -> 0 | E10: =SUM(D10*2) -> 0 | F10: 16 | G10: 6 - Discussion III fin | H10: 0.0041319444 | I10: =((HOUR(H10)*3600)+(MINUTE(H10)*60)+SECOND(H10))/60 -> 5.95 | J10: =SUM(I10*2.5) -> 14.875 | K10: 2 | L10: 332 | M10: Envoi rapport parties | N10: 3 | O10: =SUM(N10*4.5) -> 13.5 | U10: Total 18 | X10: =SUBTOTAL(9,X9:X9) -> 10.2 | Y10: =SUBTOTAL(9,Y9:Y9) -> 20.4 | AO10: 15 | AP10: BARDONE Hugues lettre Dr VERLHAC | AQ10: 0.0013310185 | AR10: =((HOUR(AQ10)*3600)+(MINUTE(AQ10)*60)+SECOND(AQ10))/60 -> 1.9166667 | AS10: =SUM(AR10*2) -> 3.8333333
A11: 25 | B11: AMAZZONI-GAUTHIER Assignation | D11: =((HOUR(C11)*3600)+(MINUTE(C11)*60)+SECOND(C11))/60 -> 0 | E11: =SUM(D11*2) -> 0 | F11: Total 16 | I11: =SUBTOTAL(9,I4:I10) -> 36.716667 | J11: =SUBTOTAL(9,J4:J10) -> 91.791667 | K11: 2 | L11: 332 | M11: Envoi rapport avocats | N11: 2 | O11: =SUM(N11*4.5) -> 9 | U11: 29 | V11: 110787 JEBARI Assignation TGI | W11: 0.0044444444 | X11: =((HOUR(W11)*3600)+(MINUTE(W11)*60)+SECOND(W11))/60 -> 6.4 | Y11: =SUM(X11*2) -> 12.8 | AO11: 15 | AP11: MAVRAGANIS Annie lettre Dr CAEN | AQ11: 0.0017939815 | AR11: =((HOUR(AQ11)*3600)+(MINUTE(AQ11)*60)+SECOND(AQ11))/60 -> 2.5833333 | AS11: =SUM(AR11*2) -> 5.1666667
A12: 25 | B12: PELLAT-FINET Conclusions | D12: =((HOUR(C12)*3600)+(MINUTE(C12)*60)+SECOND(C12))/60 -> 0 | E12: =SUM(D12*2) -> 0 | F12: Total | I12: =SUBTOTAL(9,I4:I11) -> 36.716667 | J12: =SUBTOTAL(9,J4:J11) -> 91.791667 | K12: 2 | L12: 247 | M12: Lettre Ministère-3 | N12: 1 | O12: =SUM(N12*4.5) -> 4.5 | U12: Total 29 | X12: =SUBTOTAL(9,X11:X11) -> 6.4 | Y12: =SUBTOTAL(9,Y11:Y11) -> 12.8 | AO12: 15 | AP12: ESPINOS Jacqueline lettre Dr GABARD | AQ12: 0.0014930556 | AR12: =((HOUR(AQ12)*3600)+(MINUTE(AQ12)*60)+SECOND(AQ12))/60 -> 2.15 | AS12: =SUM(AR12*2) -> 4.3
A13: 25 | B13: Total | C13: 0.015833333 | D13: =((HOUR(C13)*3600)+(MINUTE(C13)*60)+SECOND(C13))/60 -> 22.8 | E13: =SUM(D13*2) -> 45.6 | K13: Total 2 | N13: =SUBTOTAL(9,N4:N12) -> 10.5 | O13: =SUBTOTAL(9,O4:O12) -> 47.25 | U13: Total | X13: =SUBTOTAL(9,X4:X12) -> 21.166667 | Y13: =SUBTOTAL(9,Y4:Y12) -> 42.333333 | AO13: 15 | AP13: BASSET Raymond lettre Dr PINEY | AQ13: 0.0011921296 | AR13: =((HOUR(AQ13)*3600)+(MINUTE(AQ13)*60)+SECOND(AQ13))/60 -> 1.7166667 | AS13: =SUM(AR13*2) -> 3.4333333
A14: Total 25 | D14: =SUBTOTAL(9,D8:D13) -> 22.8 | E14: =SUBTOTAL(9,E8:E13) -> 45.6 | K14: 5 | L14: 332 | M14: Notification paiement | N14: 1 | O14: =SUM(N14*4.5) -> 4.5 | AO14: 15 | AP14: BASSET Ginette lettre Dr THORET | AQ14: 0.0010763889 | AR14: =((HOUR(AQ14)*3600)+(MINUTE(AQ14)*60)+SECOND(AQ14))/60 -> 1.55 | AS14: =SUM(AR14*2) -> 3.1
A15: Total | D15: =SUBTOTAL(9,D4:D14) -> 43.166667 | E15: =SUBTOTAL(9,E4:E14) -> 86.333333 | K15: 5 | L15: 332 | M15: Notification parties | N15: 1.6 | O15: =SUM(N15*4.5) -> 7.2 | AO15: Total 15 | AR15: =SUBTOTAL(9,AR9:AR14) -> 11.583333 | AS15: =SUBTOTAL(9,AS9:AS14) -> 23.166667
K16: 5 | L16: 332 | M16: Notification avocats | N16: 1.6 | O16: =SUM(N16*4.5) -> 7.2 | AO16: 16 | AP16: CHABANE Gérard lettre Dr LEHODEY | AQ16: 0.0014236111 | AR16: =((HOUR(AQ16)*3600)+(MINUTE(AQ16)*60)+SECOND(AQ16))/60 -> 2.05 | AS16: =SUM(AR16*2) -> 4.1
K17: Total 5 | N17: =SUBTOTAL(9,N14:N16) -> 4.2 | O17: =SUBTOTAL(9,O14:O16) -> 18.9 | AO17: 16 | AP17: BRUN Camille lettre Dr MAZZILLI | AQ17: 0.0011111111 | AR17: =((HOUR(AQ17)*3600)+(MINUTE(AQ17)*60)+SECOND(AQ17))/60 -> 1.6 | AS17: =SUM(AR17*2) -> 3.2
K18: 6 | L18: 332 | M18: Conclusions-1 | N18: 2 | O18: =SUM(N18*4.5) -> 9 | AO18: Total 16 | AR18: =SUBTOTAL(9,AR16:AR17) -> 3.65 | AS18: =SUBTOTAL(9,AS16:AS17) -> 7.3
K19: Total 6 | N19: =SUBTOTAL(9,N18:N18) -> 2 | O19: =SUBTOTAL(9,O18:O18) -> 9 | AO19: 17 | AP19: BUDIN Gérard lettre Dr OUVRARD | AQ19: 0.0012962963 | AR19: =((HOUR(AQ19)*3600)+(MINUTE(AQ19)*60)+SECOND(AQ19))/60 -> 1.8666667 | AS19: =SUM(AR19*2) -> 3.7333333
K20: 8 | L20: 357 | M20: Lettre TGI-3 | N20: 0.9 | O20: =SUM(N20*4.5) -> 4.05 | AO20: 17 | AP20: MOREL Marie-Jeanne lettre Dr REBOUD | AQ20: 0.0011805556 | AR20: =((HOUR(AQ20)*3600)+(MINUTE(AQ20)*60)+SECOND(AQ20))/60 -> 1.7 | AS20: =SUM(AR20*2) -> 3.4
K21: 8 | L21: 362 | M21: NOTE N° 9 | N21: 0.8 | O21: =SUM(N21*4.5) -> 3.6 | AO21: 17 | AP21: COGNE Germaine lettre Dr BLACHON | AQ21: 0.0016203704 | AR21: =((HOUR(AQ21)*3600)+(MINUTE(AQ21)*60)+SECOND(AQ21))/60 -> 2.3333333 | AS21: =SUM(AR21*2) -> 4.6666667
K22: Total 8 | N22: =SUBTOTAL(9,N20:N21) -> 1.7 | O22: =SUBTOTAL(9,O20:O21) -> 7.65 | AO22: 17 | AP22: CHAUVET Anna lettre Dr SAOU | AQ22: 0.001087963 | AR22: =((HOUR(AQ22)*3600)+(MINUTE(AQ22)*60)+SECOND(AQ22))/60 -> 1.5666667 | AS22: =SUM(AR22*2) -> 3.1333333
K23: 9 | L23: 360 | M23: LISTANN | N23: 0.3 | O23: =SUM(N23*4.5) -> 1.35 | AO23: Total 17 | AR23: =SUBTOTAL(9,AR19:AR22) -> 7.4666667 | AS23: =SUBTOTAL(9,AS19:AS22) -> 14.933333
K24: Total 9 | N24: =SUBTOTAL(9,N23:N23) -> 0.3 | O24: =SUBTOTAL(9,O23:O23) -> 1.35 | AO24: 18 | AP24: BOSSY Jean-Claude lettre Dr STAQUET | AQ24: 0.0012152778 | AR24: =((HOUR(AQ24)*3600)+(MINUTE(AQ24)*60)+SECOND(AQ24))/60 -> 1.75 | AS24: =SUM(AR24*2) -> 3.5
K25: 11 | L25: PERSO | M25: Lettre SLB CIC FM | N25: 0.5 | O25: =SUM(N25*4.5) -> 2.25 | AO25: 18 | AP25: GARNIER Jeanine lettre Dr LAGABRIELLE | AQ25: 0.0022106481 | AR25: =((HOUR(AQ25)*3600)+(MINUTE(AQ25)*60)+SECOND(AQ25))/60 -> 3.1833333 | AS25: =SUM(AR25*2) -> 6.3666667
K26: 11 | L26: 368 | M26: LISTANN | N26: 0.5 | O26: =SUM(N26*4.5) -> 2.25 | AO26: 18 | AP26: MARTIN Jean-Marie lettre Dr MALHOMME | AQ26: 0.0015277778 | AR26: =((HOUR(AQ26)*3600)+(MINUTE(AQ26)*60)+SECOND(AQ26))/60 -> 2.2 | AS26: =SUM(AR26*2) -> 4.4
K27: Total 11 | N27: =SUBTOTAL(9,N25:N26) -> 1 | O27: =SUBTOTAL(9,O25:O26) -> 4.5 | AO27: 18 | AP27: Courrier Mme GOBART, société ATE | AQ27: 0.0021412037 | AR27: =((HOUR(AQ27)*3600)+(MINUTE(AQ27)*60)+SECOND(AQ27))/60 -> 3.0833333 | AS27: =SUM(AR27*2) -> 6.1666667
K28: 12 | L28: 351 | M28: Lettre Me ANGELI-1 | N28: 1 | O28: =SUM(N28*4.5) -> 4.5 | AO28: 18 | AP28: MONCENIS Geneviève lettre Dr DIAB | AR28: =((HOUR(AQ28)*3600)+(MINUTE(AQ28)*60)+SECOND(AQ28))/60 -> 0 | AS28: =SUM(AR28*2) -> 0
K29: Total 12 | N29: =SUBTOTAL(9,N28:N28) -> 1 | O29: =SUBTOTAL(9,O28:O28) -> 4.5 | AO29: 18 | AP29: BONA Stefano lettre Dr DAVID | AQ29: 0.0018518519 | AR29: =((HOUR(AQ29)*3600)+(MINUTE(AQ29)*60)+SECOND(AQ29))/60 -> 2.6666667 | AS29: =SUM(AR29*2) -> 5.3333333
K30: 17 | L30: 360 | M30: Lettre Me ALBERTINI-1 | N30: 1 | O30: =SUM(N30*4.5) -> 4.5 | AO30: Total 18 | AR30: =SUBTOTAL(9,AR24:AR29) -> 12.883333 | AS30: =SUBTOTAL(9,AS24:AS29) -> 25.766667
K31: Total 17 | N31: =SUBTOTAL(9,N30:N30) -> 1 | O31: =SUBTOTAL(9,O30:O30) -> 4.5 | AO31: 19 | AP31: HAMANI Rabah lettre Dr GOURGUE | AQ31: 0.0011226852 | AR31: =((HOUR(AQ31)*3600)+(MINUTE(AQ31)*60)+SECOND(AQ31))/60 -> 1.6166667 | AS31: =SUM(AR31*2) -> 3.2333333
K32: 18 | L32: 364 | M32: NOTE N° 4 | N32: 0.9 | O32: =SUM(N32*4.5) -> 4.05 | AO32: 19 | AP32: FAUCARD Jacques lettre cardio mutualiste | AQ32: 0.0018402778 | AR32: =((HOUR(AQ32)*3600)+(MINUTE(AQ32)*60)+SECOND(AQ32))/60 -> 2.65 | AS32: =SUM(AR32*2) -> 5.3
K33: 18 | L33: 365 | M33: Tableau températures | N33: 0.5 | O33: =SUM(N33*4.5) -> 2.25 | AO33: 19 | AP33: JANSEM Elisabeth lettre Dr JEANMART | AQ33: 0.001400463 | AR33: =((HOUR(AQ33)*3600)+(MINUTE(AQ33)*60)+SECOND(AQ33))/60 -> 2.0166667 | AS33: =SUM(AR33*2) -> 4.0333333
K34: 18 | L34: 365 | M34: NOTE N° 5 | N34: 3.1 | O34: =SUM(N34*4.5) -> 13.95 | AO34: Total 19 | AR34: =SUBTOTAL(9,AR31:AR33) -> 6.2833333 | AS34: =SUBTOTAL(9,AS31:AS33) -> 12.566667
K35: Total 18 | N35: =SUBTOTAL(9,N32:N34) -> 4.5 | O35: =SUBTOTAL(9,O32:O34) -> 20.25 | AO35: 22 | AP35: CHANCEL Jean lettre Dr FAVRE-JUVIN | AQ35: 0.0018171296 | AR35: =((HOUR(AQ35)*3600)+(MINUTE(AQ35)*60)+SECOND(AQ35))/60 -> 2.6166667 | AS35: =SUM(AR35*2) -> 5.2333333
K36: 22 | L36: 337 | M36: Lettre AERMEC-2 | N36: 0.8 | O36: =SUM(N36*4.5) -> 3.6 | AO36: 22 | AP36: BALBO Norma lettre Dr SUSCILLON | AQ36: 0.001412037 | AR36: =((HOUR(AQ36)*3600)+(MINUTE(AQ36)*60)+SECOND(AQ36))/60 -> 2.0333333 | AS36: =SUM(AR36*2) -> 4.0666667
K37: 22 | L37: 337 | M37: LISTADR | N37: 2.8 | O37: =SUM(N37*4.5) -> 12.6 | AO37: 22 | AP37: BEIDA Slamet lettre Dr SANZ | AQ37: 0.0012152778 | AR37: =((HOUR(AQ37)*3600)+(MINUTE(AQ37)*60)+SECOND(AQ37))/60 -> 1.75 | AS37: =SUM(AR37*2) -> 3.5
K38: 22 | L38: 337 | M38: FIADR | N38: 1.9 | O38: =SUM(N38*4.5) -> 8.55 | AO38: 22 | AP38: CAZALIS Jean lettre Dr MONTEAGUDO | AQ38: 0.0024652778 | AR38: =((HOUR(AQ38)*3600)+(MINUTE(AQ38)*60)+SECOND(AQ38))/60 -> 3.55 | AS38: =SUM(AR38*2) -> 7.1
K39: 22 | L39: 337 | M39: Lettre FG THERMIQUE-2 | N39: 0.8 | O39: =SUM(N39*4.5) -> 3.6 | AO39: 22 | AP39: GENDROLINI Palma lettre CM LES GRANGES | AQ39: 0.0012847222 | AR39: =((HOUR(AQ39)*3600)+(MINUTE(AQ39)*60)+SECOND(AQ39))/60 -> 1.85 | AS39: =SUM(AR39*2) -> 3.7
K40: 22 | L40: 337 | M40: Lettre AERMEC-3 | N40: 0.7 | O40: =SUM(N40*4.5) -> 3.15 | AO40: Total 22 | AR40: =SUBTOTAL(9,AR35:AR39) -> 11.8 | AS40: =SUBTOTAL(9,AS35:AS39) -> 23.6
K41: 22 | L41: 337 | M41: lettre TGI Besançon-6 | N41: 0.9 | O41: =SUM(N41*4.5) -> 4.05 | AO41: 23 | AP41: CHAMPENOIS Jean-Pierre lettre Dr GOUZY-OLMOS | AQ41: 0.0022337963 | AR41: =((HOUR(AQ41)*3600)+(MINUTE(AQ41)*60)+SECOND(AQ41))/60 -> 3.2166667 | AS41: =SUM(AR41*2) -> 6.4333333
K42: 22 | L42: 337 | M42: NOTE N° 25 | N42: 0.9 | O42: =SUM(N42*4.5) -> 4.05 | AO42: 23 | AP42: MADIA Alexis lettre Dr OGIER | AQ42: 0.0019791667 | AR42: =((HOUR(AQ42)*3600)+(MINUTE(AQ42)*60)+SECOND(AQ42))/60 -> 2.85 | AS42: =SUM(AR42*2) -> 5.7
K43: 22 | L43: 365 | M43: NOTE N° 6 | N43: 1.5 | O43: =SUM(N43*4.5) -> 6.75 | AO43: Total 23 | AR43: =SUBTOTAL(9,AR41:AR42) -> 6.0666667 | AS43: =SUBTOTAL(9,AS41:AS42) -> 12.133333
K44: 22 | L44: 337 | M44: Pour intégration lettre AERMEC | N44: 0.1 | O44: =SUM(N44*4.5) -> 0.45 | AO44: 24 | AP44: SAUER Holger lettre Dr FROMENT | AQ44: 0.00094907407 | AR44: =((HOUR(AQ44)*3600)+(MINUTE(AQ44)*60)+SECOND(AQ44))/60 -> 1.3666667 | AS44: =SUM(AR44*2) -> 2.7333333
K45: 22 | L45: 337 | M45: Lettre DUARTE-2 | N45: 0.8 | O45: =SUM(N45*4.5) -> 3.6 | AO45: 24 | AP45: KERIOUDJ Lanes lettre Dr ORMIERES | AQ45: 0.001087963 | AR45: =((HOUR(AQ45)*3600)+(MINUTE(AQ45)*60)+SECOND(AQ45))/60 -> 1.5666667 | AS45: =SUM(AR45*2) -> 3.1333333
K46: 22 | L46: 337 | M46: Lettre BOITEUX-1 | N46: 0.8 | O46: =SUM(N46*4.5) -> 3.6 | AO46: 24 | AP46: SARFATI Jocelyne lettre Dr PONARD | AQ46: 0.0021759259 | AR46: =((HOUR(AQ46)*3600)+(MINUTE(AQ46)*60)+SECOND(AQ46))/60 -> 3.1333333 | AS46: =SUM(AR46*2) -> 6.2666667
K47: 22 | L47: 321 | M47: NOTE N° 38 | N47: 1 | O47: =SUM(N47*4.5) -> 4.5 | AO47: Total 24 | AR47: =SUBTOTAL(9,AR44:AR46) -> 6.0666667 | AS47: =SUBTOTAL(9,AS44:AS46) -> 12.133333
K48: Total 22 | N48: =SUBTOTAL(9,N36:N47) -> 13 | O48: =SUBTOTAL(9,O36:O47) -> 58.5 | AO48: 25 | AP48: VIDAL André lettre Dr FAURIE | AQ48: 0.00094907407 | AR48: =((HOUR(AQ48)*3600)+(MINUTE(AQ48)*60)+SECOND(AQ48))/60 -> 1.3666667 | AS48: =SUM(AR48*2) -> 2.7333333
K49: Total | N49: =SUBTOTAL(9,N4:N48) -> 39.2 | O49: =SUBTOTAL(9,O4:O48) -> 176.4 | AO49: 25 | AP49: GIRARD Pierre lettre Dr DEHER | AQ49: 0.0016666667 | AR49: =((HOUR(AQ49)*3600)+(MINUTE(AQ49)*60)+SECOND(AQ49))/60 -> 2.4 | AS49: =SUM(AR49*2) -> 4.8
AO50: 25 | AP50: CUSSIGH Alain lettre Dr BAYLE | AQ50: 0.0008912037 | AR50: =((HOUR(AQ50)*3600)+(MINUTE(AQ50)*60)+SECOND(AQ50))/60 -> 1.2833333 | AS50: =SUM(AR50*2) -> 2.5666667
AO51: 25 | AP51: MANCA Stéphane lettre Dr LEVET | AQ51: 0.0016898148 | AR51: =((HOUR(AQ51)*3600)+(MINUTE(AQ51)*60)+SECOND(AQ51))/60 -> 2.4333333 | AS51: =SUM(AR51*2) -> 4.8666667
AO52: Total 25 | AR52: =SUBTOTAL(9,AR48:AR51) -> 7.4833333 | AS52: =SUBTOTAL(9,AS48:AS51) -> 14.966667
AO53: 26 | AP53: BALLOT Michel lettre Dr PERRET | AQ53: 0.0021990741 | AR53: =((HOUR(AQ53)*3600)+(MINUTE(AQ53)*60)+SECOND(AQ53))/60 -> 3.1666667 | AS53: =SUM(AR53*2) -> 6.3333333
AO54: 26 | AP54: LAZZAROTTO Marc lettre Dr BERTRAND-DALECHAMPS | AQ54: 0.0023726852 | AR54: =((HOUR(AQ54)*3600)+(MINUTE(AQ54)*60)+SECOND(AQ54))/60 -> 3.4166667 | AS54: =SUM(AR54*2) -> 6.8333333
AO55: Total 26 | AR55: =SUBTOTAL(9,AR53:AR54) -> 6.5833333 | AS55: =SUBTOTAL(9,AS53:AS54) -> 13.166667
AO56: 29 | AP56: BIE Hervé lettre Dr ROMANET | AQ56: 0.0025347222 | AR56: =((HOUR(AQ56)*3600)+(MINUTE(AQ56)*60)+SECOND(AQ56))/60 -> 3.65 | AS56: =SUM(AR56*2) -> 7.3
AO57: 29 | AP57: BOUBRAK Rabah lettre Dr ORMIERES | AQ57: 0.0017476852 | AR57: =((HOUR(AQ57)*3600)+(MINUTE(AQ57)*60)+SECOND(AQ57))/60 -> 2.5166667 | AS57: =SUM(AR57*2) -> 5.0333333
AO58: Total 29 | AR58: =SUBTOTAL(9,AR56:AR57) -> 6.1666667 | AS58: =SUBTOTAL(9,AS56:AS57) -> 12.333333
AO59: Total | AR59: =SUBTOTAL(9,AR4:AR58) -> 95.75 | AS59: =SUBTOTAL(9,AS4:AS58) -> 191.5

Sheet Août
A1: CLIENT A | F1: CLIENT B | K1: CLIENT C | P1: CLIENT D | U1: CLIENT E | Z1: CLIENT F | AE1: CLIENT G | AJ1: CLIENT H | AO1: CLIENT I | AT1: CLIENT J
A3: Date | B3: Dossier | C3: Durée | D3: Minutes | E3: Facturé | F3: Date | G3: Dossier | H3: Durée | I3: Minutes | J3: Facturé | K3: Date | L3: Dossier | M3: Type | N3: Pages | O3: Facturé | P3: Date | Q3: Dossier | R3: Durée | S3: Minutes | T3: Facturé | U3: Date | V3: Dossier | W3: Durée | X3: Minutes | Y3: Facturé | Z3: Date | AA3: Dossier | AB3: Durée | AC3: Minutes | AD3: Facturé | AE3: Date | AF3: Dossier | AG3: Durée | AH3: Minutes | AI3: Facturé | AJ3: Date | AK3: N° Devis | AL3: Nom client | AM3: Pages | AN3: Facturé | AO3: Date | AP3: Dossier | AQ3: Durée | AR3: Minutes | AS3: Facturé | AT3: Date | AU3: Dossier | AV3: Durée | AW3: Minutes | AX3: Facturé
A4: 1 | D4: =((HOUR(C4)*3600)+(MINUTE(C4)*60)+SECOND(C4))/60 -> 0 | E4: =SUM(D4*2) -> 0 | F4: 1 | I4: =((HOUR(H4)*3600)+(MINUTE(H4)*60)+SECOND(H4))/60 -> 0 | J4: =SUM(I4*2.5) -> 0 | K4: 21 | L4: 362 | M4: Rapport CET FM | N4: 18 | O4: =SUM(N4*4.5) -> 81 | P4: 21 | Q4: AXA FRANCE / MARGEL Assignation | R4: 0.0077083333 | S4: =((HOUR(R4)*3600)+(MINUTE(R4)*60)+SECOND(R4))/60 -> 11.1 | T4: =SUM(S4*2) -> 22.2 | U4: 3 | V4: LARIVE LIQUIDATION - Conclusions en réponse sur incident | W4: 0.011365741 | X4: =((HOUR(W4)*3600)+(MINUTE(W4)*60)+SECOND(W4))/60 -> 16.366667 | Y4: =SUM(X4*2) -> 32.733333 | Z4: 1 | AC4: =((HOUR(AB4)*3600)+(MINUTE(AB4)*60)+SECOND(AB4))/60 -> 0 | AD4: =SUM(AC4*2) -> 0 | AE4: 1 | AH4: =((HOUR(AG4)*3600)+(MINUTE(AG4)*60)+SECOND(AG4))/60 -> 0 | AI4: =SUM(AH4*2) -> 0 | AJ4: 1 | AN4: =SUM(AM4*4.5) -> 0 | AO4: 1 | AP4: ARMAND Roger lettre Dr RUELLE | AQ4: 0.0020949074 | AR4: =((HOUR(AQ4)*3600)+(MINUTE(AQ4)*60)+SECOND(AQ4))/60 -> 3.0166667 | AS4: =SUM(AR4*2) -> 6.0333333 | AT4: 1 | AW4: =((HOUR(AV4)*3600)+(MINUTE(AV4)*60)+SECOND(AV4))/60 -> 0 | AX4: =SUM(AW4*2) -> 0
A5: 1 | D5: =((HOUR(C5)*3600)+(MINUTE(C5)*60)+SECOND(C5))/60 -> 0 | E5: =SUM(D5*2) -> 0 | F5: 1 | I5: =((HOUR(H5)*3600)+(MINUTE(H5)*60)+SECOND(H5))/60 -> 0 | J5: =SUM(I5*2.5) -> 0 | K5: Total 21 | N5: =SUBTOTAL(9,N4:N4) -> 18 | O5: =SUBTOTAL(9,O4:O4) -> 81 | P5: Total 21 | S5: =SUBTOTAL(9,S4:S4) -> 11.1 | T5: =SUBTOTAL(9,T4:T4) -> 22.2 | U5: Total 3 | X5: =SUBTOTAL(9,X4:X4) -> 16.366667 | Y5: =SUBTOTAL(9,Y4:Y4) -> 32.733333 | Z5: 1 | AC5: =((HOUR(AB5)*3600)+(MINUTE(AB5)*60)+SECOND(AB5))/60 -> 0 | AD5: =SUM(AC5*2) -> 0 | AE5: 1 | AH5: =((HOUR(AG5)*3600)+(MINUTE(AG5)*60)+SECOND(AG5))/60 -> 0 | AI5: =SUM(AH5*2) -> 0 | AJ5: 1 | AN5: =SUM(AM5*4.5) -> 0 | AO5: Total 1 | AR5: =SUBTOTAL(9,AR4:AR4) -> 3.0166667 | AS5: =SUBTOTAL(9,AS4:AS4) -> 6.0333333 | AT5: 1 | AW5: =((HOUR(AV5)*3600)+(MINUTE(AV5)*60)+SECOND(AV5))/60 -> 0 | AX5: =SUM(AW5*2) -> 0
A6: 1 | D6: =((HOUR(C6)*3600)+(MINUTE(C6)*60)+SECOND(C6))/60 -> 0 | E6: =SUM(D6*2) -> 0 | F6: 1 | I6: =((HOUR(H6)*3600)+(MINUTE(H6)*60)+SECOND(H6))/60 -> 0 | J6: =SUM(I6*2.5) -> 0 | K6: Total | N6: =SUBTOTAL(9,N4:N5) -> 18 | O6: =SUBTOTAL(9,O4:O5) -> 81 | P6: 22 | Q6: SANISERE c. SCI LES LAUREADES - Conclusions TGI | R6: 0.01537037 | S6: =((HOUR(R6)*3600)+(MINUTE(R6)*60)+SECOND(R6))/60 -> 22.133333 | T6: =SUM(S6*2) -> 44.266667 | U6: 29 | V6: FINET c. GIRARD - Assignation TGI | X6: =((HOUR(W6)*3600)+(MINUTE(W6)*60)+SECOND(W6))/60 -> 0 | Y6: =SUM(X6*2) -> 0 | Z6: 1 | AC6: =((HOUR(AB6)*3600)+(MINUTE(AB6)*60)+SECOND(AB6))/60 -> 0 | AD6: =SUM(AC6*2) -> 0 | AE6: 1 | AH6: =((HOUR(AG6)*3600)+(MINUTE(AG6)*60)+SECOND(AG6))/60 -> 0 | AI6: =SUM(AH6*2) -> 0 | AJ6: 1 | AN6: =SUM(AM6*4.5) -> 0 | AO6: 2 | AP6: SCHIFFMACHER René lettre Dr OUVRARD | AQ6: 0.0024421296 | AR6: =((HOUR(AQ6)*3600)+(MINUTE(AQ6)*60)+SECOND(AQ6))/60 -> 3.5166667 | AS6: =SUM(AR6*2) -> 7.0333333 | AT6: 1 | AW6: =((HOUR(AV6)*3600)+(MINUTE(AV6)*60)+SECOND(AV6))/60 -> 0 | AX6: =SUM(AW6*2) -> 0
A7: 1 | D7: =((HOUR(C7)*3600)+(MINUTE(C7)*60)+SECOND(C7))/60 -> 0 | E7: =SUM(D7*2) -> 0 | F7: 1 | I7: =((HOUR(H7)*3600)+(MINUTE(H7)*60)+SECOND(H7))/60 -> 0 | J7: =SUM(I7*2.5) -> 0 | P7: Total 22 | S7: =SUBTOTAL(9,S6:S6) -> 22.133333 | T7: =SUBTOTAL(9,T6:T6) -> 44.266667 | U7: 29 | V7: 111805 VLAJCIC - Lettre Me POIZAT | X7: =((HOUR(W7)*3600)+(MINUTE(W7)*60)+SECOND(W7))/60 -> 0 | Y7: =SUM(X7*2) -> 0 | Z7: 1 | AC7: =((HOUR(AB7)*3600)+(MINUTE(AB7)*60)+SECOND(AB7))/60 -> 0 | AD7: =SUM(AC7*2) -> 0 | AE7: 1 | AH7: =((HOUR(AG7)*3600)+(MINUTE(AG7)*60)+SECOND(AG7))/60 -> 0 | AI7: =SUM(AH7*2) -> 0 | AJ7: 1 | AN7: =SUM(AM7*4.5) -> 0 | AO7: 2 | AP7: ROUX-MARCHAND Serge lettre Dr TRAMAILLE | AQ7: 0.0024074074 | AR7: =((HOUR(AQ7)*3600)+(MINUTE(AQ7)*60)+SECOND(AQ7))/60 -> 3.4666667 | AS7: =SUM(AR7*2) -> 6.9333333 | AT7: 1 | AW7: =((HOUR(AV7)*3600)+(MINUTE(AV7)*60)+SECOND(AV7))/60 -> 0 | AX7: =SUM(AW7*2) -> 0
A8: 1 | D8: =((HOUR(C8)*3600)+(MINUTE(C8)*60)+SECOND(C8))/60 -> 0 | E8: =SUM(D8*2) -> 0 | F8: 1 | I8: =((HOUR(H8)*3600)+(MINUTE(H8)*60)+SECOND(H8))/60 -> 0 | J8: =SUM(I8*2.5) -> 0 | P8: 23 | Q8: SASSENAGE c. GOLDEN CAR - Conclusions TI Valence | R8: 0.01244213 | S8: =((HOUR(R8)*3600)+(MINUTE(R8)*60)+SECOND(R8))/60 -> 17.916667 | T8: =SUM(S8*2) -> 35.833333 | U8: 29 | V8: Total | W8: 0.011296296 | X8: =((HOUR(W8)*3600)+(MINUTE(W8)*60)+SECOND(W8))/60 -> 16.266667 | Y8: =SUM(X8*2) -> 32.533333 | Z8: 1 | AC8: =((HOUR(AB8)*3600)+(MINUTE(AB8)*60)+SECOND(AB8))/60 -> 0 | AD8: =SUM(AC8*2) -> 0 | AE8: 1 | AH8: =((HOUR(AG8)*3600)+(MINUTE(AG8)*60)+SECOND(AG8))/60 -> 0 | AI8: =SUM(AH8*2) -> 0 | AJ8: 1 | AN8: =SUM(AM8*4.5) -> 0 | AO8: 2 | AP8: GIFFARD Andrée lettre Dr BOURLARD | AQ8: 0.0025578704 | AR8: =((HOUR(AQ8)*3600)+(MINUTE(AQ8)*60)+SECOND(AQ8))/60 -> 3.6833333 | AS8: =SUM(AR8*2) -> 7.3666667 | AT8: 1 | AW8: =((HOUR(AV8)*3600)+(MINUTE(AV8)*60)+SECOND(AV8))/60 -> 0 | AX8: =SUM(AW8*2) -> 0
A9: 1 | D9: =((HOUR(C9)*3600)+(MINUTE(C9)*60)+SECOND(C9))/60 -> 0 | E9: =SUM(D9*2) -> 0 | F9: 1 | I9: =((HOUR(H9)*3600)+(MINUTE(H9)*60)+SECOND(H9))/60 -> 0 | J9: =SUM(I9*2.5) -> 0 | P9: Total 23 | S9: =SUBTOTAL(9,S8:S8) -> 17.916667 | T9: =SUBTOTAL(9,T8:T8) -> 35.833333 | U9: Total 29 | X9: =SUBTOTAL(9,X6:X8) -> 16.266667 | Y9: =SUBTOTAL(9,Y6:Y8) -> 32.533333 | Z9: 1 | AC9: =((HOUR(AB9)*3600)+(MINUTE(AB9)*60)+SECOND(AB9))/60 -> 0 | AD9: =SUM(AC9*2) -> 0 | AE9: 1 | AH9: =((HOUR(AG9)*3600)+(MINUTE(AG9)*60)+SECOND(AG9))/60 -> 0 | AI9: =SUM(AH9*2) -> 0 | AJ9: 1 | AN9: =SUM(AM9*4.5) -> 0 | AO9: 2 | AP9: PENIN Serge lettre Dr GUEULLE | AQ9: 0.0016087963 | AR9: =((HOUR(AQ9)*3600)+(MINUTE(AQ9)*60)+SECOND(AQ9))/60 -> 2.3166667 | AS9: =SUM(AR9*2) -> 4.6333333 | AT9: 1 | AW9: =((HOUR(AV9)*3600)+(MINUTE(AV9)*60)+SECOND(AV9))/60 -> 0 | AX9: =SUM(AW9*2) -> 0
A10: 1 | D10: =((HOUR(C10)*3600)+(MINUTE(C10)*60)+SECOND(C10))/60 -> 0 | E10: =SUM(D10*2) -> 0 | F10: 1 | I10: =((HOUR(H10)*3600)+(MINUTE(H10)*60)+SECOND(H10))/60 -> 0 | J10: =SUM(I10*2.5) -> 0 | P10: 24 | Q10: FAVRE D'ANNE c RA - Assignation | R10: 0.012789352 | S10: =((HOUR(R10)*3600)+(MINUTE(R10)*60)+SECOND(R10))/60 -> 18.416667 | T10: =SUM(S10*2) -> 36.833333 | U10: Total | X10: =SUBTOTAL(9,X4:X9) -> 32.633333 | Y10: =SUBTOTAL(9,Y4:Y9) -> 65.266667 | Z10: 1 | AC10: =((HOUR(AB10)*3600)+(MINUTE(AB10)*60)+SECOND(AB10))/60 -> 0 | AD10: =SUM(AC10*2) -> 0 | AE10: 1 | AH10: =((HOUR(AG10)*3600)+(MINUTE(AG10)*60)+SECOND(AG10))/60 -> 0 | AI10: =SUM(AH10*2) -> 0 | AJ10: 1 | AN10: =SUM(AM10*4.5) -> 0 | AO10: Total 2 | AR10: =SUBTOTAL(9,AR6:AR9) -> 12.983333 | AS10: =SUBTOTAL(9,AS6:AS9) -> 25.966667 | AT10: 1 | AW10: =((HOUR(AV10)*3600)+(MINUTE(AV10)*60)+SECOND(AV10))/60 -> 0 | AX10: =SUM(AW10*2) -> 0
A11: 1 | D11: =((HOUR(C11)*3600)+(MINUTE(C11)*60)+SECOND(C11))/60 -> 0 | E11: =SUM(D11*2) -> 0 | F11: 1 | I11: =((HOUR(H11)*3600)+(MINUTE(H11)*60)+SECOND(H11))/60 -> 0 | J11: =SUM(I11*2.5) -> 0 | P11: Total 24 | S11: =SUBTOTAL(9,S10:S10) -> 18.416667 | T11: =SUBTOTAL(9,T10:T10) -> 36.833333 | Z11: 1 | AC11: =((HOUR(AB11)*3600)+(MINUTE(AB11)*60)+SECOND(AB11))/60 -> 0 | AD11: =SUM(AC11*2) -> 0 | AE11: 1 | AH11: =((HOUR(AG11)*3600)+(MINUTE(AG11)*60)+SECOND(AG11))/60 -> 0 | AI11: =SUM(AH11*2) -> 0 | AJ11: 1 | AN11: =SUM(AM11*4.5) -> 0 | AO11: 3 | AP11: GAULT Colette lettre Dr DEHER | AQ11: 0.0024305556 | AR11: =((HOUR(AQ11)*3600)+(MINUTE(AQ11)*60)+SECOND(AQ11))/60 -> 3.5 | AS11: =SUM(AR11*2) -> 7 | AT11: 1 | AW11: =((HOUR(AV11)*3600)+(MINUTE(AV11)*60)+SECOND(AV11))/60 -> 0 | AX11: =SUM(AW11*2) -> 0
A12: Total 1 | D12: =SUBTOTAL(9,D4:D11) -> 0 | E12: =SUBTOTAL(9,E4:E11) -> 0 | F12: Total 1 | I12: =SUBTOTAL(9,I4:I11) -> 0 | J12: =SUBTOTAL(9,J4:J11) -> 0 | P12: 25 | Q12: AXA FRANCE c. REY - Conclusions TGI | R12: 0.022743056 | S12: =((HOUR(R12)*3600)+(MINUTE(R12)*60)+SECOND(R12))/60 -> 32.75 | T12: =SUM(S12*2) -> 65.5 | Z12: Total 1 | AC12: =SUBTOTAL(9,AC4:AC11) -> 0 | AD12: =SUBTOTAL(9,AD4:AD11) -> 0 | AE12: Total 1 | AH12: =SUBTOTAL(9,AH4:AH11) -> 0 | AI12: =SUBTOTAL(9,AI4:AI11) -> 0 | AJ12: Total 1 | AM12: =SUBTOTAL(9,AM4:AM11) -> 0 | AN12: =SUBTOTAL(9,AN4:AN11) -> 0 | AO12: 3 | AP12: STUBLIN Gisèle lettre Dr CHAVANON | AQ12: 0.0030671296 | AR12: =((HOUR(AQ12)*3600)+(MINUTE(AQ12)*60)+SECOND(AQ12))/60 -> 4.4166667 | AS12: =SUM(AR12*2) -> 8.8333333 | AT12: Total 1 | AW12: =SUBTOTAL(9,AW4:AW11) -> 0 | AX12: =SUBTOTAL(9,AX4:AX11) -> 0
A13: 2 | D13: =((HOUR(C13)*3600)+(MINUTE(C13)*60)+SECOND(C13))/60 -> 0 | E13: =SUM(D13*2) -> 0 | F13: 2 | I13: =((HOUR(H13)*3600)+(MINUTE(H13)*60)+SECOND(H13))/60 -> 0 | J13: =SUM(I13*2.5) -> 0 | P13: Total 25 | S13: =SUBTOTAL(9,S12:S12) -> 32.75 | T13: =SUBTOTAL(9,T12:T12) -> 65.5 | Z13: 2 | AC13: =((HOUR(AB13)*3600)+(MINUTE(AB13)*60)+SECOND(AB13))/60 -> 0 | AD13: =SUM(AC13*2) -> 0 | AE13: 2 | AH13: =((HOUR(AG13)*3600)+(MINUTE(AG13)*60)+SECOND(AG13))/60 -> 0 | AI13: =SUM(AH13*2) -> 0 | AJ13: 2 | AN13: =SUM(AM13*4.5) -> 0 | AO13: Total 3 | AR13: =SUBTOTAL(9,AR11:AR12) -> 7.9166667 | AS13: =SUBTOTAL(9,AS11:AS12) -> 15.833333 | AT13: 2 | AW13: =((HOUR(AV13)*3600)+(MINUTE(AV13)*60)+SECOND(AV13))/60 -> 0 | AX13: =SUM(AW13*2) -> 0
A14: 2 | D14: =((HOUR(C14)*3600)+(MINUTE(C14)*60)+SECOND(C14))/60 -> 0 | E14: =SUM(D14*2) -> 0 | F14: 2 | I14: =((HOUR(H14)*3600)+(MINUTE(H14)*60)+SECOND(H14))/60 -> 0 | J14: =SUM(I14*2.5) -> 0 | P14: 29 | Q14: BNP PARIBAS c. YAHYA BEY - Assignation TI | R14: 0.0080324074 | S14: =((HOUR(R14)*3600)+(MINUTE(R14)*60)+SECOND(R14))/60 -> 11.566667 | T14: =SUM(S14*2) -> 23.133333 | Z14: 2 | AC14: =((HOUR(AB14)*3600)+(MINUTE(AB14)*60)+SECOND(AB14))/60 -> 0 | AD14: =SUM(AC14*2) -> 0 | AE14: 2 | AH14: =((HOUR(AG14)*3600)+(MINUTE(AG14)*60)+SECOND(AG14))/60 -> 0 | AI14: =SUM(AH14*2) -> 0 | AJ14: 2 | AN14: =SUM(AM14*4.5) -> 0 | AO14: 4 | AP14: GASSAUD François-Xavier lettre Dr PETERSCHMIDT | AQ14: 0.0019560185 | AR14: =((HOUR(AQ14)*3600)+(MINUTE(AQ14)*60)+SECOND(AQ14))/60 -> 2.8166667 | AS14: =SUM(AR14*2) -> 5.6333333 | AT14: 2 | AW14: =((HOUR(AV14)*3600)+(MINUTE(AV14)*60)+SECOND(AV14))/60 -> 0 | AX14: =SUM(AW14*2) -> 0
A15: 2 | D15: =((HOUR(C15)*3600)+(MINUTE(C15)*60)+SECOND(C15))/60 -> 0 | E15: =SUM(D15*2) -> 0 | F15: 2 | I15: =((HOUR(H15)*3600)+(MINUTE(H15)*60)+SECOND(H15))/60 -> 0 | J15: =SUM(I15*2.5) -> 0 | P15: 29 | Q15: AXA FRANCE c. COPRO LE BELVEDERE - Conclusions TGI | R15: 0.021388889 | S15: =((HOUR(R15)*3600)+(MINUTE(R15)*60)+SECOND(R15))/60 -> 30.8 | T15: =SUM(S15*2) -> 61.6 | Z15: 2 | AC15: =((HOUR(AB15)*3600)+(MINUTE(AB15)*60)+SECOND(AB15))/60 -> 0 | AD15: =SUM(AC15*2) -> 0 | AE15: 2 | AH15: =((HOUR(AG15)*3600)+(MINUTE(AG15)*60)+SECOND(AG15))/60 -> 0 | AI15: =SUM(AH15*2) -> 0 | AJ15: 2 | AN15: =SUM(AM15*4.5) -> 0 | AO15: 4 | AP15: BOLLON Anne lettre Dr PELLET | AQ15: 0.0025462963 | AR15: =((HOUR(AQ15)*3600)+(MINUTE(AQ15)*60)+SECOND(AQ15))/60 -> 3.6666667 | AS15: =SUM(AR15*2) -> 7.3333333 | AT15: 2 | AW15: =((HOUR(AV15)*3600)+(MINUTE(AV15)*60)+SECOND(AV15))/60 -> 0 | AX15: =SUM(AW15*2) -> 0
A16: 2 | D16: =((HOUR(C16)*3600)+(MINUTE(C16)*60)+SECOND(C16))/60 -> 0 | E16: =SUM(D16*2) -> 0 | F16: 2 | I16: =((HOUR(H16)*3600)+(MINUTE(H16)*60)+SECOND(H16))/60 -> 0 | J16: =SUM(I16*2.5) -> 0 | P16: Total 29 | S16: =SUBTOTAL(9,S14:S15) -> 42.366667 | T16: =SUBTOTAL(9,T14:T15) -> 84.733333 | Z16: 2 | AC16: =((HOUR(AB16)*3600)+(MINUTE(AB16)*60)+SECOND(AB16))/60 -> 0 | AD16: =SUM(AC16*2) -> 0 | AE16: 2 | AH16: =((HOUR(AG16)*3600)+(MINUTE(AG16)*60)+SECOND(AG16))/60 -> 0 | AI16: =SUM(AH16*2) -> 0 | AJ16: 2 | AN16: =SUM(AM16*4.5) -> 0 | AO16: 4 | AP16: VARGAS Marie lettre Dr CAUSSÉ | AQ16: 0.0013541667 | AR16: =((HOUR(AQ16)*3600)+(MINUTE(AQ16)*60)+SECOND(AQ16))/60 -> 1.95 | AS16: =SUM(AR16*2) -> 3.9 | AT16: 2 | AW16: =((HOUR(AV16)*3600)+(MINUTE(AV16)*60)+SECOND(AV16))/60 -> 0 | AX16: =SUM(AW16*2) -> 0
A17: 2 | D17: =((HOUR(C17)*3600)+(MINUTE(C17)*60)+SECOND(C17))/60 -> 0 | E17: =SUM(D17*2) -> 0 | F17: 2 | I17: =((HOUR(H17)*3600)+(MINUTE(H17)*60)+SECOND(H17))/60 -> 0 | J17: =SUM(I17*2.5) -> 0 | P17: Total | S17: =SUBTOTAL(9,S4:S16) -> 144.68333 | T17: =SUBTOTAL(9,T4:T16) -> 289.36667 | Z17: 2 | AC17: =((HOUR(AB17)*3600)+(MINUTE(AB17)*60)+SECOND(AB17))/60 -> 0 | AD17: =SUM(AC17*2) -> 0 | AE17: 2 | AH17: =((HOUR(AG17)*3600)+(MINUTE(AG17)*60)+SECOND(AG17))/60 -> 0 | AI17: =SUM(AH17*2) -> 0 | AJ17: 2 | AN17: =SUM(AM17*4.5) -> 0 | AO17: Total 4 | AR17: =SUBTOTAL(9,AR14:AR16) -> 8.4333333 | AS17: =SUBTOTAL(9,AS14:AS16) -> 16.866667 | AT17: 2 | AW17: =((HOUR(AV17)*3600)+(MINUTE(AV17)*60)+SECOND(AV17))/60 -> 0 | AX17: =SUM(AW17*2) -> 0
A18: 2 | D18: =((HOUR(C18)*3600)+(MINUTE(C18)*60)+SECOND(C18))/60 -> 0 | E18: =SUM(D18*2) -> 0 | F18: 2 | I18: =((HOUR(H18)*3600)+(MINUTE(H18)*60)+SECOND(H18))/60 -> 0 | J18: =SUM(I18*2.5) -> 0 | Z18: 2 | AC18: =((HOUR(AB18)*3600)+(MINUTE(AB18)*60)+SECOND(AB18))/60 -> 0 | AD18: =SUM(AC18*2) -> 0 | AE18: 2 | AH18: =((HOUR(AG18)*3600)+(MINUTE(AG18)*60)+SECOND(AG18))/60 -> 0 | AI18: =SUM(AH18*2) -> 0 | AJ18: 2 | AN18: =SUM(AM18*4.5) -> 0 | AO18: 8 | AP18: ARNAUD Jacques lettre Dr ROUX | AQ18: 0.0046759259 | AR18: =((HOUR(AQ18)*3600)+(MINUTE(AQ18)*60)+SECOND(AQ18))/60 -> 6.7333333 | AS18: =SUM(AR18*2) -> 13.466667 | AT18: 2 | AW18: =((HOUR(AV18)*3600)+(MINUTE(AV18)*60)+SECOND(AV18))/60 -> 0 | AX18: =SUM(AW18*2) -> 0
A19: 2 | D19: =((HOUR(C19)*3600)+(MINUTE(C19)*60)+SECOND(C19))/60 -> 0 | E19: =SUM(D19*2) -> 0 | F19: 2 | I19: =((HOUR(H19)*3600)+(MINUTE(H19)*60)+SECOND(H19))/60 -> 0 | J19: =SUM(I19*2.5) -> 0 | Z19: 2 | AC19: =((HOUR(AB19)*3600)+(MINUTE(AB19)*60)+SECOND(AB19))/60 -> 0 | AD19: =SUM(AC19*2) -> 0 | AE19: 2 | AH19: =((HOUR(AG19)*3600)+(MINUTE(AG19)*60)+SECOND(AG19))/60 -> 0 | AI19: =SUM(AH19*2) -> 0 | AJ19: 2 | AN19: =SUM(AM19*4.5) -> 0 | AO19: 8 | AP19: LAGADEC Jean lettre Dr LAGADEC | AQ19: 0.0029513889 | AR19: =((HOUR(AQ19)*3600)+(MINUTE(AQ19)*60)+SECOND(AQ19))/60 -> 4.25 | AS19: =SUM(AR19*2) -> 8.5 | AT19: 2 | AW19: =((HOUR(AV19)*3600)+(MINUTE(AV19)*60)+SECOND(AV19))/60 -> 0 | AX19: =SUM(AW19*2) -> 0
A20: 2 | D20: =((HOUR(C20)*3600)+(MINUTE(C20)*60)+SECOND(C20))/60 -> 0 | E20: =SUM(D20*2) -> 0 | F20: 2 | I20: =((HOUR(H20)*3600)+(MINUTE(H20)*60)+SECOND(H20))/60 -> 0 | J20: =SUM(I20*2.5) -> 0 | Z20: 2 | AC20: =((HOUR(AB20)*3600)+(MINUTE(AB20)*60)+SECOND(AB20))/60 -> 0 | AD20: =SUM(AC20*2) -> 0 | AE20: 2 | AH20: =((HOUR(AG20)*3600)+(MINUTE(AG20)*60)+SECOND(AG20))/60 -> 0 | AI20: =SUM(AH20*2) -> 0 | AJ20: 2 | AN20: =SUM(AM20*4.5) -> 0 | AO20: Total 8 | AR20: =SUBTOTAL(9,AR18:AR19) -> 10.983333 | AS20: =SUBTOTAL(9,AS18:AS19) -> 21.966667 | AT20: 2 | AW20: =((HOUR(AV20)*3600)+(MINUTE(AV20)*60)+SECOND(AV20))/60 -> 0 | AX20: =SUM(AW20*2) -> 0
A21: Total 2 | D21: =SUBTOTAL(9,D13:D20) -> 0 | E21: =SUBTOTAL(9,E13:E20) -> 0 | F21: Total 2 | I21: =SUBTOTAL(9,I13:I20) -> 0 | J21: =SUBTOTAL(9,J13:J20) -> 0 | Z21: Total 2 | AC21: =SUBTOTAL(9,AC13:AC20) -> 0 | AD21: =SUBTOTAL(9,AD13:AD20) -> 0 | AE21: Total 2 | AH21: =SUBTOTAL(9,AH13:AH20) -> 0 | AI21: =SUBTOTAL(9,AI13:AI20) -> 0 | AJ21: Total 2 | AM21: =SUBTOTAL(9,AM13:AM20) -> 0 | AN21: =SUBTOTAL(9,AN13:AN20) -> 0 | AO21: 9 | AP21: BAUTISTA Serge lettre Dr CORRAL | AQ21: 0.0021875 | AR21: =((HOUR(AQ21)*3600)+(MINUTE(AQ21)*60)+SECOND(AQ21))/60 -> 3.15 | AS21: =SUM(AR21*2) -> 6.3 | AT21: Total 2 | AW21: =SUBTOTAL(9,AW13:AW20) -> 0 | AX21: =SUBTOTAL(9,AX13:AX20) -> 0
A22: 3 | D22: =((HOUR(C22)*3600)+(MINUTE(C22)*60)+SECOND(C22))/60 -> 0 | E22: =SUM(D22*2) -> 0 | F22: 3 | I22: =((HOUR(H22)*3600)+(MINUTE(H22)*60)+SECOND(H22))/60 -> 0 | J22: =SUM(I22*2.5) -> 0 | Z22: 3 | AC22: =((HOUR(AB22)*3600)+(MINUTE(AB22)*60)+SECOND(AB22))/60 -> 0 | AD22: =SUM(AC22*2) -> 0 | AE22: 3 | AH22: =((HOUR(AG22)*3600)+(MINUTE(AG22)*60)+SECOND(AG22))/60 -> 0 | AI22: =SUM(AH22*2) -> 0 | AJ22: 3 | AN22: =SUM(AM22*4.5) -> 0 | AO22: 9 | AP22: SYLLA Hamidou lettre Dr ELKHOLTI | AQ22: 0.0016898148 | AR22: =((HOUR(AQ22)*3600)+(MINUTE(AQ22)*60)+SECOND(AQ22))/60 -> 2.4333333 | AS22: =SUM(AR22*2) -> 4.8666667 | AT22: 3 | AW22: =((HOUR(AV22)*3600)+(MINUTE(AV22)*60)+SECOND(AV22))/60 -> 0 | AX22: =SUM(AW22*2) -> 0
A23: 3 | D23: =((HOUR(C23)*3600)+(MINUTE(C23)*60)+SECOND(C23))/60 -> 0 | E23: =SUM(D23*2) -> 0 | F23: 3 | I23: =((HOUR(H23)*3600)+(MINUTE(H23)*60)+SECOND(H23))/60 -> 0 | J23: =SUM(I23*2.5) -> 0 | Z23: 3 | AC23: =((HOUR(AB23)*3600)+(MINUTE(AB23)*60)+SECOND(AB23))/60 -> 0 | AD23: =SUM(AC23*2) -> 0 | AE23: 3 | AH23: =((HOUR(AG23)*3600)+(MINUTE(AG23)*60)+SECOND(AG23))/60 -> 0 | AI23: =SUM(AH23*2) -> 0 | AJ23: 3 | AN23: =SUM(AM23*4.5) -> 0 | AO23: 9 | AP23: DURAND Liliane lettre Dr BINDER | AQ23: 0.0031481481 | AR23: =((HOUR(AQ23)*3600)+(MINUTE(AQ23)*60)+SECOND(AQ23))/60 -> 4.5333333 | AS23: =SUM(AR23*2) -> 9.0666667 | AT23: 3 | AW23: =((HOUR(AV23)*3600)+(MINUTE(AV23)*60)+SECOND(AV23))/60 -> 0 | AX23: =SUM(AW23*2) -> 0
A24: 3 | D24: =((HOUR(C24)*3600)+(MINUTE(C24)*60)+SECOND(C24))/60 -> 0 | E24: =SUM(D24*2) -> 0 | F24: 3 | I24: =((HOUR(H24)*3600)+(MINUTE(H24)*60)+SECOND(H24))/60 -> 0 | J24: =SUM(I24*2.5) -> 0 | Z24: 3 | AC24: =((HOUR(AB24)*3600)+(MINUTE(AB24)*60)+SECOND(AB24))/60 -> 0 | AD24: =SUM(AC24*2) -> 0 | AE24: 3 | AH24: =((HOUR(AG24)*3600)+(MINUTE(AG24)*60)+SECOND(AG24))/60 -> 0 | AI24: =SUM(AH24*2) -> 0 | AJ24: 3 | AN24: =SUM(AM24*4.5) -> 0 | AO24: 9 | AP24: SPINELLI Joseph lettre Dr MOREAU | AQ24: 0.0026967593 | AR24: =((HOUR(AQ24)*3600)+(MINUTE(AQ24)*60)+SECOND(AQ24))/60 -> 3.8833333 | AS24: =SUM(AR24*2) -> 7.7666667 | AT24: 3 | AW24: =((HOUR(AV24)*3600)+(MINUTE(AV24)*60)+SECOND(AV24))/60 -> 0 | AX24: =SUM(AW24*2) -> 0
A25: 3 | D25: =((HOUR(C25)*3600)+(MINUTE(C25)*60)+SECOND(C25))/60 -> 0 | E25: =SUM(D25*2) -> 0 | F25: 3 | I25: =((HOUR(H25)*3600)+(MINUTE(H25)*60)+SECOND(H25))/60 -> 0 | J25: =SUM(I25*2.5) -> 0 | Z25: 3 | AC25: =((HOUR(AB25)*3600)+(MINUTE(AB25)*60)+SECOND(AB25))/60 -> 0 | AD25: =SUM(AC25*2) -> 0 | AE25: 3 | AH25: =((HOUR(AG25)*3600)+(MINUTE(AG25)*60)+SECOND(AG25))/60 -> 0 | AI25: =SUM(AH25*2) -> 0 | AJ25: 3 | AN25: =SUM(AM25*4.5) -> 0 | AO25: 9 | AP25: SESTIER Eliane lettre Dr PELLET | AQ25: 0.0022800926 | AR25: =((HOUR(AQ25)*3600)+(MINUTE(AQ25)*60)+SECOND(AQ25))/60 -> 3.2833333 | AS25: =SUM(AR25*2) -> 6.5666667 | AT25: 3 | AW25: =((HOUR(AV25)*3600)+(MINUTE(AV25)*60)+SECOND(AV25))/60 -> 0 | AX25: =SUM(AW25*2) -> 0
A26: 3 | D26: =((HOUR(C26)*3600)+(MINUTE(C26)*60)+SECOND(C26))/60 -> 0 | E26: =SUM(D26*2) -> 0 | F26: 3 | I26: =((HOUR(H26)*3600)+(MINUTE(H26)*60)+SECOND(H26))/60 -> 0 | J26: =SUM(I26*2.5) -> 0 | Z26: 3 | AC26: =((HOUR(AB26)*3600)+(MINUTE(AB26)*60)+SECOND(AB26))/60 -> 0 | AD26: =SUM(AC26*2) -> 0 | AE26: 3 | AH26: =((HOUR(AG26)*3600)+(MINUTE(AG26)*60)+SECOND(AG26))/60 -> 0 | AI26: =SUM(AH26*2) -> 0 | AJ26: 3 | AN26: =SUM(AM26*4.5) -> 0 | AO26: 9 | AP26: CARTIER Gérald lettre Dr JULLIEN-PALLETIER | AQ26: 0.0013657407 | AR26: =((HOUR(AQ26)*3600)+(MINUTE(AQ26)*60)+SECOND(AQ26))/60 -> 1.9666667 | AS26: =SUM(AR26*2) -> 3.9333333 | AT26: 3 | AW26: =((HOUR(AV26)*3600)+(MINUTE(AV26)*60)+SECOND(AV26))/60 -> 0 | AX26: =SUM(AW26*2) -> 0
A27: 3 | D27: =((HOUR(C27)*3600)+(MINUTE(C27)*60)+SECOND(C27))/60 -> 0 | E27: =SUM(D27*2) -> 0 | F27: 3 | I27: =((HOUR(H27)*3600)+(MINUTE(H27)*60)+SECOND(H27))/60 -> 0 | J27: =SUM(I27*2.5) -> 0 | Z27: 3 | AC27: =((HOUR(AB27)*3600)+(MINUTE(AB27)*60)+SECOND(AB27))/60 -> 0 | AD27: =SUM(AC27*2) -> 0 | AE27: 3 | AH27: =((HOUR(AG27)*3600)+(MINUTE(AG27)*60)+SECOND(AG27))/60 -> 0 | AI27: =SUM(AH27*2) -> 0 | AJ27: 3 | AN27: =SUM(AM27*4.5) -> 0 | AO27: 9 | AP27: LEIVA-MARCON Benoît lettre Dr PELLET | AQ27: 0.0028703704 | AR27: =((HOUR(AQ27)*3600)+(MINUTE(AQ27)*60)+SECOND(AQ27))/60 -> 4.1333333 | AS27: =SUM(AR27*2) -> 8.2666667 | AT27: 3 | AW27: =((HOUR(AV27)*3600)+(MINUTE(AV27)*60)+SECOND(AV27))/60 -> 0 | AX27: =SUM(AW27*2) -> 0
A28: 3 | D28: =((HOUR(C28)*3600)+(MINUTE(C28)*60)+SECOND(C28))/60 -> 0 | E28: =SUM(D28*2) -> 0 | F28: 3 | I28: =((HOUR(H28)*3600)+(MINUTE(H28)*60)+SECOND(H28))/60 -> 0 | J28: =SUM(I28*2.5) -> 0 | Z28: 3 | AC28: =((HOUR(AB28)*3600)+(MINUTE(AB28)*60)+SECOND(AB28))/60 -> 0 | AD28: =SUM(AC28*2) -> 0 | AE28: 3 | AH28: =((HOUR(AG28)*3600)+(MINUTE(AG28)*60)+SECOND(AG28))/60 -> 0 | AI28: =SUM(AH28*2) -> 0 | AJ28: 3 | AN28: =SUM(AM28*4.5) -> 0 | AO28: Total 9 | AR28: =SUBTOTAL(9,AR21:AR27) -> 23.383333 | AS28: =SUBTOTAL(9,AS21:AS27) -> 46.766667 | AT28: 3 | AW28: =((HOUR(AV28)*3600)+(MINUTE(AV28)*60)+SECOND(AV28))/60 -> 0 | AX28: =SUM(AW28*2) -> 0
A29: 3 | D29: =((HOUR(C29)*3600)+(MINUTE(C29)*60)+SECOND(C29))/60 -> 0 | E29: =SUM(D29*2) -> 0 | F29: 3 | I29: =((HOUR(H29)*3600)+(MINUTE(H29)*60)+SECOND(H29))/60 -> 0 | J29: =SUM(I29*2.5) -> 0 | Z29: 3 | AC29: =((HOUR(AB29)*3600)+(MINUTE(AB29)*60)+SECOND(AB29))/60 -> 0 | AD29: =SUM(AC29*2) -> 0 | AE29: 3 | AH29: =((HOUR(AG29)*3600)+(MINUTE(AG29)*60)+SECOND(AG29))/60 -> 0 | AI29: =SUM(AH29*2) -> 0 | AJ29: 3 | AN29: =SUM(AM29*4.5) -> 0 | AO29: 23 | AP29: LAURENT Michèle lettre Pr PUGEAT | AQ29: 0.0030092593 | AR29: =((HOUR(AQ29)*3600)+(MINUTE(AQ29)*60)+SECOND(AQ29))/60 -> 4.3333333 | AS29: =SUM(AR29*2) -> 8.6666667 | AT29: 3 | AW29: =((HOUR(AV29)*3600)+(MINUTE(AV29)*60)+SECOND(AV29))/60 -> 0 | AX29: =SUM(AW29*2) -> 0
A30: Total 3 | D30: =SUBTOTAL(9,D22:D29) -> 0 | E30: =SUBTOTAL(9,E22:E29) -> 0 | F30: Total 3 | I30: =SUBTOTAL(9,I22:I29) -> 0 | J30: =SUBTOTAL(9,J22:J29) -> 0 | Z30: Total 3 | AC30: =SUBTOTAL(9,AC22:AC29) -> 0 | AD30: =SUBTOTAL(9,AD22:AD29) -> 0 | AE30: Total 3 | AH30: =SUBTOTAL(9,AH22:AH29) -> 0 | AI30: =SUBTOTAL(9,AI22:AI29) -> 0 | AJ30: Total 3 | AM30: =SUBTOTAL(9,AM22:AM29) -> 0 | AN30: =SUBTOTAL(9,AN22:AN29) -> 0 | AO30: 23 | AP30: VILLARD Damien lettre Dr GOUZY-OLMOS | AQ30: 0.0017592593 | AR30: =((HOUR(AQ30)*3600)+(MINUTE(AQ30)*60)+SECOND(AQ30))/60 -> 2.5333333 | AS30: =SUM(AR30*2) -> 5.0666667 | AT30: Total 3 | AW30: =SUBTOTAL(9,AW22:AW29) -> 0 | AX30: =SUBTOTAL(9,AX22:AX29) -> 0
A31: 4 | D31: =((HOUR(C31)*3600)+(MINUTE(C31)*60)+SECOND(C31))/60 -> 0 | E31: =SUM(D31*2) -> 0 | F31: 4 | I31: =((HOUR(H31)*3600)+(MINUTE(H31)*60)+SECOND(H31))/60 -> 0 | J31: =SUM(I31*2.5) -> 0 | Z31: 4 | AC31: =((HOUR(AB31)*3600)+(MINUTE(AB31)*60)+SECOND(AB31))/60 -> 0 | AD31: =SUM(AC31*2) -> 0 | AE31: 4 | AH31: =((HOUR(AG31)*3600)+(MINUTE(AG31)*60)+SECOND(AG31))/60 -> 0 | AI31: =SUM(AH31*2) -> 0 | AJ31: 4 | AN31: =SUM(AM31*4.5) -> 0 | AO31: 23 | AP31: VICARD Dominique lettre Dr BRAILLON | AQ31: 0.0020833333 | AR31: =((HOUR(AQ31)*3600)+(MINUTE(AQ31)*60)+SECOND(AQ31))/60 -> 3 | AS31: =SUM(AR31*2) -> 6 | AT31: 4 | AW31: =((HOUR(AV31)*3600)+(MINUTE(AV31)*60)+SECOND(AV31))/60 -> 0 | AX31: =SUM(AW31*2) -> 0
A32: 4 | D32: =((HOUR(C32)*3600)+(MINUTE(C32)*60)+SECOND(C32))/60 -> 0 | E32: =SUM(D32*2) -> 0 | F32: 4 | I32: =((HOUR(H32)*3600)+(MINUTE(H32)*60)+SECOND(H32))/60 -> 0 | J32: =SUM(I32*2.5) -> 0 | Z32: 4 | AC32: =((HOUR(AB32)*3600)+(MINUTE(AB32)*60)+SECOND(AB32))/60 -> 0 | AD32: =SUM(AC32*2) -> 0 | AE32: 4 | AH32: =((HOUR(AG32)*3600)+(MINUTE(AG32)*60)+SECOND(AG32))/60 -> 0 | AI32: =SUM(AH32*2) -> 0 | AJ32: 4 | AN32: =SUM(AM32*4.5) -> 0 | AO32: Total 23 | AR32: =SUBTOTAL(9,AR29:AR31) -> 9.8666667 | AS32: =SUBTOTAL(9,AS29:AS31) -> 19.733333 | AT32: 4 | AW32: =((HOUR(AV32)*3600)+(MINUTE(AV32)*60)+SECOND(AV32))/60 -> 0 | AX32: =SUM(AW32*2) -> 0
A33: 4 | D33: =((HOUR(C33)*3600)+(MINUTE(C33)*60)+SECOND(C33))/60 -> 0 | E33: =SUM(D33*2) -> 0 | F33: 4 | I33: =((HOUR(H33)*3600)+(MINUTE(H33)*60)+SECOND(H33))/60 -> 0 | J33: =SUM(I33*2.5) -> 0 | Z33: 4 | AC33: =((HOUR(AB33)*3600)+(MINUTE(AB33)*60)+SECOND(AB33))/60 -> 0 | AD33: =SUM(AC33*2) -> 0 | AE33: 4 | AH33: =((HOUR(AG33)*3600)+(MINUTE(AG33)*60)+SECOND(AG33))/60 -> 0 | AI33: =SUM(AH33*2) -> 0 | AJ33: 4 | AN33: =SUM(AM33*4.5) -> 0 | AO33: 24 | AP33: DE SALVADORE Nella lettre Dr YVARD | AQ33: 0.0017824074 | AR33: =((HOUR(AQ33)*3600)+(MINUTE(AQ33)*60)+SECOND(AQ33))/60 -> 2.5666667 | AS33: =SUM(AR33*2) -> 5.1333333 | AT33: 4 | AW33: =((HOUR(AV33)*3600)+(MINUTE(AV33)*60)+SECOND(AV33))/60 -> 0 | AX33: =SUM(AW33*2) -> 0
A34: 4 | D34: =((HOUR(C34)*3600)+(MINUTE(C34)*60)+SECOND(C34))/60 -> 0 | E34: =SUM(D34*2) -> 0 | F34: 4 | I34: =((HOUR(H34)*3600)+(MINUTE(H34)*60)+SECOND(H34))/60 -> 0 | J34: =SUM(I34*2.5) -> 0 | Z34: 4 | AC34: =((HOUR(AB34)*3600)+(MINUTE(AB34)*60)+SECOND(AB34))/60 -> 0 | AD34: =SUM(AC34*2) -> 0 | AE34: 4 | AH34: =((HOUR(AG34)*3600)+(MINUTE(AG34)*60)+SECOND(AG34))/60 -> 0 | AI34: =SUM(AH34*2) -> 0 | AJ34: 4 | AN34: =SUM(AM34*4.5) -> 0 | AO34: 24 | AP34: VALENTINI Enzo lettre Dr MABILON | AQ34: 0.0034027778 | AR34: =((HOUR(AQ34)*3600)+(MINUTE(AQ34)*60)+SECOND(AQ34))/60 -> 4.9 | AS34: =SUM(AR34*2) -> 9.8 | AT34: 4 | AW34: =((HOUR(AV34)*3600)+(MINUTE(AV34)*60)+SECOND(AV34))/60 -> 0 | AX34: =SUM(AW34*2) -> 0
A35: 4 | D35: =((HOUR(C35)*3600)+(MINUTE(C35)*60)+SECOND(C35))/60 -> 0 | E35: =SUM(D35*2) -> 0 | F35: 4 | I35: =((HOUR(H35)*3600)+(MINUTE(H35)*60)+SECOND(H35))/60 -> 0 | J35: =SUM(I35*2.5) -> 0 | Z35: 4 | AC35: =((HOUR(AB35)*3600)+(MINUTE(AB35)*60)+SECOND(AB35))/60 -> 0 | AD35: =SUM(AC35*2) -> 0 | AE35: 4 | AH35: =((HOUR(AG35)*3600)+(MINUTE(AG35)*60)+SECOND(AG35))/60 -> 0 | AI35: =SUM(AH35*2) -> 0 | AJ35: 4 | AN35: =SUM(AM35*4.5) -> 0 | AO35: Total 24 | AR35: =SUBTOTAL(9,AR33:AR34) -> 7.4666667 | AS35: =SUBTOTAL(9,AS33:AS34) -> 14.933333 | AT35: 4 | AW35: =((HOUR(AV35)*3600)+(MINUTE(AV35)*60)+SECOND(AV35))/60 -> 0 | AX35: =SUM(AW35*2) -> 0
A36: 4 | D36: =((HOUR(C36)*3600)+(MINUTE(C36)*60)+SECOND(C36))/60 -> 0 | E36: =SUM(D36*2) -> 0 | F36: 4 | I36: =((HOUR(H36)*3600)+(MINUTE(H36)*60)+SECOND(H36))/60 -> 0 | J36: =SUM(I36*2.5) -> 0 | Z36: 4 | AC36: =((HOUR(AB36)*3600)+(MINUTE(AB36)*60)+SECOND(AB36))/60 -> 0 | AD36: =SUM(AC36*2) -> 0 | AE36: 4 | AH36: =((HOUR(AG36)*3600)+(MINUTE(AG36)*60)+SECOND(AG36))/60 -> 0 | AI36: =SUM(AH36*2) -> 0 | AJ36: 4 | AN36: =SUM(AM36*4.5) -> 0 | AO36: 25 | AP36: AMORE Louis lettre Dr CHAMPIER | AQ36: 0.0022569444 | AR36: =((HOUR(AQ36)*3600)+(MINUTE(AQ36)*60)+SECOND(AQ36))/60 -> 3.25 | AS36: =SUM(AR36*2) -> 6.5 | AT36: 4 | AW36: =((HOUR(AV36)*3600)+(MINUTE(AV36)*60)+SECOND(AV36))/60 -> 0 | AX36: =SUM(AW36*2) -> 0
A37: 4 | D37: =((HOUR(C37)*3600)+(MINUTE(C37)*60)+SECOND(C37))/60 -> 0 | E37: =SUM(D37*2) -> 0 | F37: 4 | I37: =((HOUR(H37)*3600)+(MINUTE(H37)*60)+SECOND(H37))/60 -> 0 | J37: =SUM(I37*2.5) -> 0 | Z37: 4 | AC37: =((HOUR(AB37)*3600)+(MINUTE(AB37)*60)+SECOND(AB37))/60 -> 0 | AD37: =SUM(AC37*2) -> 0 | AE37: 4 | AH37: =((HOUR(AG37)*3600)+(MINUTE(AG37)*60)+SECOND(AG37))/60 -> 0 | AI37: =SUM(AH37*2) -> 0 | AJ37: 4 | AN37: =SUM(AM37*4.5) -> 0 | AO37: Total 25 | AR37: =SUBTOTAL(9,AR36:AR36) -> 3.25 | AS37: =SUBTOTAL(9,AS36:AS36) -> 6.5 | AT37: 4 | AW37: =((HOUR(AV37)*3600)+(MINUTE(AV37)*60)+SECOND(AV37))/60 -> 0 | AX37: =SUM(AW37*2) -> 0
A38: 4 | D38: =((HOUR(C38)*3600)+(MINUTE(C38)*60)+SECOND(C38))/60 -> 0 | E38: =SUM(D38*2) -> 0 | F38: 4 | I38: =((HOUR(H38)*3600)+(MINUTE(H38)*60)+SECOND(H38))/60 -> 0 | J38: =SUM(I38*2.5) -> 0 | Z38: 4 | AC38: =((HOUR(AB38)*3600)+(MINUTE(AB38)*60)+SECOND(AB38))/60 -> 0 | AD38: =SUM(AC38*2) -> 0 | AE38: 4 | AH38: =((HOUR(AG38)*3600)+(MINUTE(AG38)*60)+SECOND(AG38))/60 -> 0 | AI38: =SUM(AH38*2) -> 0 | AJ38: 4 | AN38: =SUM(AM38*4.5) -> 0 | AO38: 26 | AP38: DEMARTINI Lison lettre Dr DENOIX | AQ38: 0.003125 | AR38: =((HOUR(AQ38)*3600)+(MINUTE(AQ38)*60)+SECOND(AQ38))/60 -> 4.5 | AS38: =SUM(AR38*2) -> 9 | AT38: 4 | AW38: =((HOUR(AV38)*3600)+(MINUTE(AV38)*60)+SECOND(AV38))/60 -> 0 | AX38: =SUM(AW38*2) -> 0
A39: Total 4 | D39: =SUBTOTAL(9,D31:D38) -> 0 | E39: =SUBTOTAL(9,E31:E38) -> 0 | F39: Total 4 | I39: =SUBTOTAL(9,I31:I38) -> 0 | J39: =SUBTOTAL(9,J31:J38) -> 0 | Z39: Total 4 | AC39: =SUBTOTAL(9,AC31:AC38) -> 0 | AD39: =SUBTOTAL(9,AD31:AD38) -> 0 | AE39: Total 4 | AH39: =SUBTOTAL(9,AH31:AH38) -> 0 | AI39: =SUBTOTAL(9,AI31:AI38) -> 0 | AJ39: Total 4 | AM39: =SUBTOTAL(9,AM31:AM38) -> 0 | AN39: =SUBTOTAL(9,AN31:AN38) -> 0 | AO39: 26 | AP39: VALLON Michel lettre Dr CAEN | AQ39: 0.0024074074 | AR39: =((HOUR(AQ39)*3600)+(MINUTE(AQ39)*60)+SECOND(AQ39))/60 -> 3.4666667 | AS39: =SUM(AR39*2) -> 6.9333333 | AT39: Total 4 | AW39: =SUBTOTAL(9,AW31:AW38) -> 0 | AX39: =SUBTOTAL(9,AX31:AX38) -> 0
A40: 5 | D40: =((HOUR(C40)*3600)+(MINUTE(C40)*60)+SECOND(C40))/60 -> 0 | E40: =SUM(D40*2) -> 0 | F40: 5 | I40: =((HOUR(H40)*3600)+(MINUTE(H40)*60)+SECOND(H40))/60 -> 0 | J40: =SUM(I40*2.5) -> 0 | Z40: 5 | AC40: =((HOUR(AB40)*3600)+(MINUTE(AB40)*60)+SECOND(AB40))/60 -> 0 | AD40: =SUM(AC40*2) -> 0 | AE40: 5 | AH40: =((HOUR(AG40)*3600)+(MINUTE(AG40)*60)+SECOND(AG40))/60 -> 0 | AI40: =SUM(AH40*2) -> 0 | AJ40: 5 | AN40: =SUM(AM40*4.5) -> 0 | AO40: 26 | AP40: ROUSSET Marc lettre Dr HUEBER | AQ40: 0.0030324074 | AR40: =((HOUR(AQ40)*3600)+(MINUTE(AQ40)*60)+SECOND(AQ40))/60 -> 4.3666667 | AS40: =SUM(AR40*2) -> 8.7333333 | AT40: 5 | AW40: =((HOUR(AV40)*3600)+(MINUTE(AV40)*60)+SECOND(AV40))/60 -> 0 | AX40: =SUM(AW40*2) -> 0
A41: 5 | D41: =((HOUR(C41)*3600)+(MINUTE(C41)*60)+SECOND(C41))/60 -> 0 | E41: =SUM(D41*2) -> 0 | F41: 5 | I41: =((HOUR(H41)*3600)+(MINUTE(H41)*60)+SECOND(H41))/60 -> 0 | J41: =SUM(I41*2.5) -> 0 | Z41: 5 | AC41: =((HOUR(AB41)*3600)+(MINUTE(AB41)*60)+SECOND(AB41))/60 -> 0 | AD41: =SUM(AC41*2) -> 0 | AE41: 5 | AH41: =((HOUR(AG41)*3600)+(MINUTE(AG41)*60)+SECOND(AG41))/60 -> 0 | AI41: =SUM(AH41*2) -> 0 | AJ41: 5 | AN41: =SUM(AM41*4.5) -> 0 | AO41: 26 | AP41: ONTORAL René lettre Dr PISON | AQ41: 0.0021875 | AR41: =((HOUR(AQ41)*3600)+(MINUTE(AQ41)*60)+SECOND(AQ41))/60 -> 3.15 | AS41: =SUM(AR41*2) -> 6.3 | AT41: 5 | AW41: =((HOUR(AV41)*3600)+(MINUTE(AV41)*60)+SECOND(AV41))/60 -> 0 | AX41: =SUM(AW41*2) -> 0
A42: 5 | D42: =((HOUR(C42)*3600)+(MINUTE(C42)*60)+SECOND(C42))/60 -> 0 | E42: =SUM(D42*2) -> 0 | F42: 5 | I42: =((HOUR(H42)*3600)+(MINUTE(H42)*60)+SECOND(H42))/60 -> 0 | J42: =SUM(I42*2.5) -> 0 | Z42: 5 | AC42: =((HOUR(AB42)*3600)+(MINUTE(AB42)*60)+SECOND(AB42))/60 -> 0 | AD42: =SUM(AC42*2) -> 0 | AE42: 5 | AH42: =((HOUR(AG42)*3600)+(MINUTE(AG42)*60)+SECOND(AG42))/60 -> 0 | AI42: =SUM(AH42*2) -> 0 | AJ42: 5 | AN42: =SUM(AM42*4.5) -> 0 | AO42: Total 26 | AR42: =SUBTOTAL(9,AR38:AR41) -> 15.483333 | AS42: =SUBTOTAL(9,AS38:AS41) -> 30.966667 | AT42: 5 | AW42: =((HOUR(AV42)*3600)+(MINUTE(AV42)*60)+SECOND(AV42))/60 -> 0 | AX42: =SUM(AW42*2) -> 0
A43: 5 | D43: =((HOUR(C43)*3600)+(MINUTE(C43)*60)+SECOND(C43))/60 -> 0 | E43: =SUM(D43*2) -> 0 | F43: 5 | I43: =((HOUR(H43)*3600)+(MINUTE(H43)*60)+SECOND(H43))/60 -> 0 | J43: =SUM(I43*2.5) -> 0 | Z43: 5 | AC43: =((HOUR(AB43)*3600)+(MINUTE(AB43)*60)+SECOND(AB43))/60 -> 0 | AD43: =SUM(AC43*2) -> 0 | AE43: 5 | AH43: =((HOUR(AG43)*3600)+(MINUTE(AG43)*60)+SECOND(AG43))/60 -> 0 | AI43: =SUM(AH43*2) -> 0 | AJ43: 5 | AN43: =SUM(AM43*4.5) -> 0 | AO43: 29 | AP43: BESSY Pierrick lettre Dr CHAILLOT | AQ43: 0.0022685185 | AR43: =((HOUR(AQ43)*3600)+(MINUTE(AQ43)*60)+SECOND(AQ43))/60 -> 3.2666667 | AS43: =SUM(AR43*2) -> 6.5333333 | AT43: 5 | AW43: =((HOUR(AV43)*3600)+(MINUTE(AV43)*60)+SECOND(AV43))/60 -> 0 | AX43: =SUM(AW43*2) -> 0
A44: 5 | D44: =((HOUR(C44)*3600)+(MINUTE(C44)*60)+SECOND(C44))/60 -> 0 | E44: =SUM(D44*2) -> 0 | F44: 5 | I44: =((HOUR(H44)*3600)+(MINUTE(H44)*60)+SECOND(H44))/60 -> 0 | J44: =SUM(I44*2.5) -> 0 | Z44: 5 | AC44: =((HOUR(AB44)*3600)+(MINUTE(AB44)*60)+SECOND(AB44))/60 -> 0 | AD44: =SUM(AC44*2) -> 0 | AE44: 5 | AH44: =((HOUR(AG44)*3600)+(MINUTE(AG44)*60)+SECOND(AG44))/60 -> 0 | AI44: =SUM(AH44*2) -> 0 | AJ44: 5 | AN44: =SUM(AM44*4.5) -> 0 | AO44: Total 29 | AR44: =SUBTOTAL(9,AR43:AR43) -> 3.2666667 | AS44: =SUBTOTAL(9,AS43:AS43) -> 6.5333333 | AT44: 5 | AW44: =((HOUR(AV44)*3600)+(MINUTE(AV44)*60)+SECOND(AV44))/60 -> 0 | AX44: =SUM(AW44*2) -> 0
A45: 5 | D45: =((HOUR(C45)*3600)+(MINUTE(C45)*60)+SECOND(C45))/60 -> 0 | E45: =SUM(D45*2) -> 0 | F45: 5 | I45: =((HOUR(H45)*3600)+(MINUTE(H45)*60)+SECOND(H45))/60 -> 0 | J45: =SUM(I45*2.5) -> 0 | Z45: 5 | AC45: =((HOUR(AB45)*3600)+(MINUTE(AB45)*60)+SECOND(AB45))/60 -> 0 | AD45: =SUM(AC45*2) -> 0 | AE45: 5 | AH45: =((HOUR(AG45)*3600)+(MINUTE(AG45)*60)+SECOND(AG45))/60 -> 0 | AI45: =SUM(AH45*2) -> 0 | AJ45: 5 | AN45: =SUM(AM45*4.5) -> 0 | AO45: 30 | AP45: CORGIER Claude lettre Dr BERTOT | AQ45: 0.0025115741 | AR45: =((HOUR(AQ45)*3600)+(MINUTE(AQ45)*60)+SECOND(AQ45))/60 -> 3.6166667 | AS45: =SUM(AR45*2) -> 7.2333333 | AT45: 5 | AW45: =((HOUR(AV45)*3600)+(MINUTE(AV45)*60)+SECOND(AV45))/60 -> 0 | AX45: =SUM(AW45*2) -> 0
A46: 5 | D46: =((HOUR(C46)*3600)+(MINUTE(C46)*60)+SECOND(C46))/60 -> 0 | E46: =SUM(D46*2) -> 0 | F46: 5 | I46: =((HOUR(H46)*3600)+(MINUTE(H46)*60)+SECOND(H46))/60 -> 0 | J46: =SUM(I46*2.5) -> 0 | Z46: 5 | AC46: =((HOUR(AB46)*3600)+(MINUTE(AB46)*60)+SECOND(AB46))/60 -> 0 | AD46: =SUM(AC46*2) -> 0 | AE46: 5 | AH46: =((HOUR(AG46)*3600)+(MINUTE(AG46)*60)+SECOND(AG46))/60 -> 0 | AI46: =SUM(AH46*2) -> 0 | AJ46: 5 | AN46: =SUM(AM46*4.5) -> 0 | AO46: 30 | AP46: POIMIRO Alain lettre Dr GIRARD | AQ46: 0.0029513889 | AR46: =((HOUR(AQ46)*3600)+(MINUTE(AQ46)*60)+SECOND(AQ46))/60 -> 4.25 | AS46: =SUM(AR46*2) -> 8.5 | AT46: 5 | AW46: =((HOUR(AV46)*3600)+(MINUTE(AV46)*60)+SECOND(AV46))/60 -> 0 | AX46: =SUM(AW46*2) -> 0
A47: 5 | D47: =((HOUR(C47)*3600)+(MINUTE(C47)*60)+SECOND(C47))/60 -> 0 | E47: =SUM(D47*2) -> 0 | F47: 5 | I47: =((HOUR(H47)*3600)+(MINUTE(H47)*60)+SECOND(H47))/60 -> 0 | J47: =SUM(I47*2.5) -> 0 | Z47: 5 | AC47: =((HOUR(AB47)*3600)+(MINUTE(AB47)*60)+SECOND(AB47))/60 -> 0 | AD47: =SUM(AC47*2) -> 0 | AE47: 5 | AH47: =((HOUR(AG47)*3600)+(MINUTE(AG47)*60)+SECOND(AG47))/60 -> 0 | AI47: =SUM(AH47*2) -> 0 | AJ47: 5 | AN47: =SUM(AM47*4.5) -> 0 | AO47: 30 | AP47: AMBREGNIA Vincenza lettre Dr HAFFNER | AQ47: 0.0020023148 | AR47: =((HOUR(AQ47)*3600)+(MINUTE(AQ47)*60)+SECOND(AQ47))/60 -> 2.8833333 | AS47: =SUM(AR47*2) -> 5.7666667 | AT47: 5 | AW47: =((HOUR(AV47)*3600)+(MINUTE(AV47)*60)+SECOND(AV47))/60 -> 0 | AX47: =SUM(AW47*2) -> 0
A48: Total 5 | D48: =SUBTOTAL(9,D40:D47) -> 0 | E48: =SUBTOTAL(9,E40:E47) -> 0 | F48: Total 5 | I48: =SUBTOTAL(9,I40:I47) -> 0 | J48: =SUBTOTAL(9,J40:J47) -> 0 | Z48: Total 5 | AC48: =SUBTOTAL(9,AC40:AC47) -> 0 | AD48: =SUBTOTAL(9,AD40:AD47) -> 0 | AE48: Total 5 | AH48: =SUBTOTAL(9,AH40:AH47) -> 0 | AI48: =SUBTOTAL(9,AI40:AI47) -> 0 | AJ48: Total 5 | AM48: =SUBTOTAL(9,AM40:AM47) -> 0 | AN48: =SUBTOTAL(9,AN40:AN47) -> 0 | AO48: Total 30 | AR48: =SUBTOTAL(9,AR45:AR47) -> 10.75 | AS48: =SUBTOTAL(9,AS45:AS47) -> 21.5 | AT48: Total 5 | AW48: =SUBTOTAL(9,AW40:AW47) -> 0 | AX48: =SUBTOTAL(9,AX40:AX47) -> 0
A49: 6 | D49: =((HOUR(C49)*3600)+(MINUTE(C49)*60)+SECOND(C49))/60 -> 0 | E49: =SUM(D49*2) -> 0 | F49: 6 | I49: =((HOUR(H49)*3600)+(MINUTE(H49)*60)+SECOND(H49))/60 -> 0 | J49: =SUM(I49*2.5) -> 0 | Z49: 6 | AC49: =((HOUR(AB49)*3600)+(MINUTE(AB49)*60)+SECOND(AB49))/60 -> 0 | AD49: =SUM(AC49*2) -> 0 | AE49: 6 | AH49: =((HOUR(AG49)*3600)+(MINUTE(AG49)*60)+SECOND(AG49))/60 -> 0 | AI49: =SUM(AH49*2) -> 0 | AJ49: 6 | AN49: =SUM(AM49*4.5) -> 0 | AO49: 31 | AP49: MITAULT Anne lettre Dr BRAILLON | AQ49: 0.0023958333 | AR49: =((HOUR(AQ49)*3600)+(MINUTE(AQ49)*60)+SECOND(AQ49))/60 -> 3.45 | AS49: =SUM(AR49*2) -> 6.9 | AT49: 6 | AW49: =((HOUR(AV49)*3600)+(MINUTE(AV49)*60)+SECOND(AV49))/60 -> 0 | AX49: =SUM(AW49*2) -> 0
A50: 6 | D50: =((HOUR(C50)*3600)+(MINUTE(C50)*60)+SECOND(C50))/60 -> 0 | E50: =SUM(D50*2) -> 0 | F50: 6 | I50: =((HOUR(H50)*3600)+(MINUTE(H50)*60)+SECOND(H50))/60 -> 0 | J50: =SUM(I50*2.5) -> 0 | Z50: 6 | AC50: =((HOUR(AB50)*3600)+(MINUTE(AB50)*60)+SECOND(AB50))/60 -> 0 | AD50: =SUM(AC50*2) -> 0 | AE50: 6 | AH50: =((HOUR(AG50)*3600)+(MINUTE(AG50)*60)+SECOND(AG50))/60 -> 0 | AI50: =SUM(AH50*2) -> 0 | AJ50: 6 | AN50: =SUM(AM50*4.5) -> 0 | AO50: 31 | AP50: BANACHE Yves lettre Dr LEVET | AQ50: 0.0020486111 | AR50: =((HOUR(AQ50)*3600)+(MINUTE(AQ50)*60)+SECOND(AQ50))/60 -> 2.95 | AS50: =SUM(AR50*2) -> 5.9 | AT50: 6 | AW50: =((HOUR(AV50)*3600)+(MINUTE(AV50)*60)+SECOND(AV50))/60 -> 0 | AX50: =SUM(AW50*2) -> 0
A51: 6 | D51: =((HOUR(C51)*3600)+(MINUTE(C51)*60)+SECOND(C51))/60 -> 0 | E51: =SUM(D51*2) -> 0 | F51: 6 | I51: =((HOUR(H51)*3600)+(MINUTE(H51)*60)+SECOND(H51))/60 -> 0 | J51: =SUM(I51*2.5) -> 0 | Z51: 6 | AC51: =((HOUR(AB51)*3600)+(MINUTE(AB51)*60)+SECOND(AB51))/60 -> 0 | AD51: =SUM(AC51*2) -> 0 | AE51: 6 | AH51: =((HOUR(AG51)*3600)+(MINUTE(AG51)*60)+SECOND(AG51))/60 -> 0 | AI51: =SUM(AH51*2) -> 0 | AJ51: 6 | AN51: =SUM(AM51*4.5) -> 0 | AO51: 31 | AP51: THIEBAUD Robert lettre Dr JOURDAN | AQ51: 0.0032291667 | AR51: =((HOUR(AQ51)*3600)+(MINUTE(AQ51)*60)+SECOND(AQ51))/60 -> 4.65 | AS51: =SUM(AR51*2) -> 9.3 | AT51: 6 | AW51: =((HOUR(AV51)*3600)+(MINUTE(AV51)*60)+SECOND(AV51))/60 -> 0 | AX51: =SUM(AW51*2) -> 0
A52: 6 | D52: =((HOUR(C52)*3600)+(MINUTE(C52)*60)+SECOND(C52))/60 -> 0 | E52: =SUM(D52*2) -> 0 | F52: 6 | I52: =((HOUR(H52)*3600)+(MINUTE(H52)*60)+SECOND(H52))/60 -> 0 | J52: =SUM(I52*2.5) -> 0 | Z52: 6 | AC52: =((HOUR(AB52)*3600)+(MINUTE(AB52)*60)+SECOND(AB52))/60 -> 0 | AD52: =SUM(AC52*2) -> 0 | AE52: 6 | AH52: =((HOUR(AG52)*3600)+(MINUTE(AG52)*60)+SECOND(AG52))/60 -> 0 | AI52: =SUM(AH52*2) -> 0 | AJ52: 6 | AN52: =SUM(AM52*4.5) -> 0 | AO52: 31 | AP52: IALYNKO Dominique lettre Dr RAVIX | AQ52: 0.0034722222 | AR52: =((HOUR(AQ52)*3600)+(MINUTE(AQ52)*60)+SECOND(AQ52))/60 -> 5 | AS52: =SUM(AR52*2) -> 10 | AT52: 6 | AW52: =((HOUR(AV52)*3600)+(MINUTE(AV52)*60)+SECOND(AV52))/60 -> 0 | AX52: =SUM(AW52*2) -> 0
A53: 6 | D53: =((HOUR(C53)*3600)+(MINUTE(C53)*60)+SECOND(C53))/60 -> 0 | E53: =SUM(D53*2) -> 0 | F53: 6 | I53: =((HOUR(H53)*3600)+(MINUTE(H53)*60)+SECOND(H53))/60 -> 0 | J53: =SUM(I53*2.5) -> 0 | Z53: 6 | AC53: =((HOUR(AB53)*3600)+(MINUTE(AB53)*60)+SECOND(AB53))/60 -> 0 | AD53: =SUM(AC53*2) -> 0 | AE53: 6 | AH53: =((HOUR(AG53)*3600)+(MINUTE(AG53)*60)+SECOND(AG53))/60 -> 0 | AI53: =SUM(AH53*2) -> 0 | AJ53: 6 | AN53: =SUM(AM53*4.5) -> 0 | AO53: Total 31 | AR53: =SUBTOTAL(9,AR49:AR52) -> 16.05 | AS53: =SUBTOTAL(9,AS49:AS52) -> 32.1 | AT53: 6 | AW53: =((HOUR(AV53)*3600)+(MINUTE(AV53)*60)+SECOND(AV53))/60 -> 0 | AX53: =SUM(AW53*2) -> 0
A54: 6 | D54: =((HOUR(C54)*3600)+(MINUTE(C54)*60)+SECOND(C54))/60 -> 0 | E54: =SUM(D54*2) -> 0 | F54: 6 | I54: =((HOUR(H54)*3600)+(MINUTE(H54)*60)+SECOND(H54))/60 -> 0 | J54: =SUM(I54*2.5) -> 0 | Z54: 6 | AC54: =((HOUR(AB54)*3600)+(MINUTE(AB54)*60)+SECOND(AB54))/60 -> 0 | AD54: =SUM(AC54*2) -> 0 | AE54: 6 | AH54: =((HOUR(AG54)*3600)+(MINUTE(AG54)*60)+SECOND(AG54))/60 -> 0 | AI54: =SUM(AH54*2) -> 0 | AJ54: 6 | AN54: =SUM(AM54*4.5) -> 0 | AO54: Total | AR54: =SUBTOTAL(9,AR4:AR52) -> 132.85 | AS54: =SUBTOTAL(9,AS4:AS52) -> 265.7 | AT54: 6 | AW54: =((HOUR(AV54)*3600)+(MINUTE(AV54)*60)+SECOND(AV54))/60 -> 0 | AX54: =SUM(AW54*2) -> 0
A55: 6 | D55: =((HOUR(C55)*3600)+(MINUTE(C55)*60)+SECOND(C55))/60 -> 0 | E55: =SUM(D55*2) -> 0 | F55: 6 | I55: =((HOUR(H55)*3600)+(MINUTE(H55)*60)+SECOND(H55))/60 -> 0 | J55: =SUM(I55*2.5) -> 0 | Z55: 6 | AC55: =((HOUR(AB55)*3600)+(MINUTE(AB55)*60)+SECOND(AB55))/60 -> 0 | AD55: =SUM(AC55*2) -> 0 | AE55: 6 | AH55: =((HOUR(AG55)*3600)+(MINUTE(AG55)*60)+SECOND(AG55))/60 -> 0 | AI55: =SUM(AH55*2) -> 0 | AJ55: 6 | AN55: =SUM(AM55*4.5) -> 0 | AT55: 6 | AW55: =((HOUR(AV55)*3600)+(MINUTE(AV55)*60)+SECOND(AV55))/60 -> 0 | AX55: =SUM(AW55*2) -> 0
A56: 6 | D56: =((HOUR(C56)*3600)+(MINUTE(C56)*60)+SECOND(C56))/60 -> 0 | E56: =SUM(D56*2) -> 0 | F56: 6 | I56: =((HOUR(H56)*3600)+(MINUTE(H56)*60)+SECOND(H56))/60 -> 0 | J56: =SUM(I56*2.5) -> 0 | Z56: 6 | AC56: =((HOUR(AB56)*3600)+(MINUTE(AB56)*60)+SECOND(AB56))/60 -> 0 | AD56: =SUM(AC56*2) -> 0 | AE56: 6 | AH56: =((HOUR(AG56)*3600)+(MINUTE(AG56)*60)+SECOND(AG56))/60 -> 0 | AI56: =SUM(AH56*2) -> 0 | AJ56: 6 | AN56: =SUM(AM56*4.5) -> 0 | AT56: 6 | AW56: =((HOUR(AV56)*3600)+(MINUTE(AV56)*60)+SECOND(AV56))/60 -> 0 | AX56: =SUM(AW56*2) -> 0
A57: Total 6 | D57: =SUBTOTAL(9,D49:D56) -> 0 | E57: =SUBTOTAL(9,E49:E56) -> 0 | F57: Total 6 | I57: =SUBTOTAL(9,I49:I56) -> 0 | J57: =SUBTOTAL(9,J49:J56) -> 0 | Z57: Total 6 | AC57: =SUBTOTAL(9,AC49:AC56) -> 0 | AD57: =SUBTOTAL(9,AD49:AD56) -> 0 | AE57: Total 6 | AH57: =SUBTOTAL(9,AH49:AH56) -> 0 | AI57: =SUBTOTAL(9,AI49:AI56) -> 0 | AJ57: Total 6 | AM57: =SUBTOTAL(9,AM49:AM56) -> 0 | AN57: =SUBTOTAL(9,AN49:AN56) -> 0 | AT57: Total 6 | AW57: =SUBTOTAL(9,AW49:AW56) -> 0 | AX57: =SUBTOTAL(9,AX49:AX56) -> 0
A58: 7 | D58: =((HOUR(C58)*3600)+(MINUTE(C58)*60)+SECOND(C58))/60 -> 0 | E58: =SUM(D58*2) -> 0 | F58: 7 | I58: =((HOUR(H58)*3600)+(MINUTE(H58)*60)+SECOND(H58))/60 -> 0 | J58: =SUM(I58*2.5) -> 0 | Z58: 7 | AC58: =((HOUR(AB58)*3600)+(MINUTE(AB58)*60)+SECOND(AB58))/60 -> 0 | AD58: =SUM(AC58*2) -> 0 | AE58: 7 | AH58: =((HOUR(AG58)*3600)+(MINUTE(AG58)*60)+SECOND(AG58))/60 -> 0 | AI58: =SUM(AH58*2) -> 0 | AJ58: 7 | AN58: =SUM(AM58*4.5) -> 0 | AT58: 7 | AW58: =((HOUR(AV58)*3600)+(MINUTE(AV58)*60)+SECOND(AV58))/60 -> 0 | AX58: =SUM(AW58*2) -> 0
A59: 7 | D59: =((HOUR(C59)*3600)+(MINUTE(C59)*60)+SECOND(C59))/60 -> 0 | E59: =SUM(D59*2) -> 0 | F59: 7 | I59: =((HOUR(H59)*3600)+(MINUTE(H59)*60)+SECOND(H59))/60 -> 0 | J59: =SUM(I59*2.5) -> 0 | Z59: 7 | AC59: =((HOUR(AB59)*3600)+(MINUTE(AB59)*60)+SECOND(AB59))/60 -> 0 | AD59: =SUM(AC59*2) -> 0 | AE59: 7 | AH59: =((HOUR(AG59)*3600)+(MINUTE(AG59)*60)+SECOND(AG59))/60 -> 0 | AI59: =SUM(AH59*2) -> 0 | AJ59: 7 | AN59: =SUM(AM59*4.5) -> 0 | AT59: 7 | AW59: =((HOUR(AV59)*3600)+(MINUTE(AV59)*60)+SECOND(AV59))/60 -> 0 | AX59: =SUM(AW59*2) -> 0
A60: 7 | D60: =((HOUR(C60)*3600)+(MINUTE(C60)*60)+SECOND(C60))/60 -> 0 | E60: =SUM(D60*2) -> 0 | F60: 7 | I60: =((HOUR(H60)*3600)+(MINUTE(H60)*60)+SECOND(H60))/60 -> 0 | J60: =SUM(I60*2.5) -> 0 | Z60: 7 | AC60: =((HOUR(AB60)*3600)+(MINUTE(AB60)*60)+SECOND(AB60))/60 -> 0 | AD60: =SUM(AC60*2) -> 0 | AE60: 7 | AH60: =((HOUR(AG60)*3600)+(MINUTE(AG60)*60)+SECOND(AG60))/60 -> 0 | AI60: =SUM(AH60*2) -> 0 | AJ60: 7 | AN60: =SUM(AM60*4.5) -> 0 | AT60: 7 | AW60: =((HOUR(AV60)*3600)+(MINUTE(AV60)*60)+SECOND(AV60))/60 -> 0 | AX60: =SUM(AW60*2) -> 0
A61: 7 | D61: =((HOUR(C61)*3600)+(MINUTE(C61)*60)+SECOND(C61))/60 -> 0 | E61: =SUM(D61*2) -> 0 | F61: 7 | I61: =((HOUR(H61)*3600)+(MINUTE(H61)*60)+SECOND(H61))/60 -> 0 | J61: =SUM(I61*2.5) -> 0 | Z61: 7 | AC61: =((HOUR(AB61)*3600)+(MINUTE(AB61)*60)+SECOND(AB61))/60 -> 0 | AD61: =SUM(AC61*2) -> 0 | AE61: 7 | AH61: =((HOUR(AG61)*3600)+(MINUTE(AG61)*60)+SECOND(AG61))/60 -> 0 | AI61: =SUM(AH61*2) -> 0 | AJ61: 7 | AN61: =SUM(AM61*4.5) -> 0 | AT61: 7 | AW61: =((HOUR(AV61)*3600)+(MINUTE(AV61)*60)+SECOND(AV61))/60 -> 0 | AX61: =SUM(AW61*2) -> 0
A62: 7 | D62: =((HOUR(C62)*3600)+(MINUTE(C62)*60)+SECOND(C62))/60 -> 0 | E62: =SUM(D62*2) -> 0 | F62: 7 | I62: =((HOUR(H62)*3600)+(MINUTE(H62)*60)+SECOND(H62))/60 -> 0 | J62: =SUM(I62*2.5) -> 0 | Z62: 7 | AC62: =((HOUR(AB62)*3600)+(MINUTE(AB62)*60)+SECOND(AB62))/60 -> 0 | AD62: =SUM(AC62*2) -> 0 | AE62: 7 | AH62: =((HOUR(AG62)*3600)+(MINUTE(AG62)*60)+SECOND(AG62))/60 -> 0 | AI62: =SUM(AH62*2) -> 0 | AJ62: 7 | AN62: =SUM(AM62*4.5) -> 0 | AT62: 7 | AW62: =((HOUR(AV62)*3600)+(MINUTE(AV62)*60)+SECOND(AV62))/60 -> 0 | AX62: =SUM(AW62*2) -> 0
A63: 7 | D63: =((HOUR(C63)*3600)+(MINUTE(C63)*60)+SECOND(C63))/60 -> 0 | E63: =SUM(D63*2) -> 0 | F63: 7 | I63: =((HOUR(H63)*3600)+(MINUTE(H63)*60)+SECOND(H63))/60 -> 0 | J63: =SUM(I63*2.5) -> 0 | Z63: 7 | AC63: =((HOUR(AB63)*3600)+(MINUTE(AB63)*60)+SECOND(AB63))/60 -> 0 | AD63: =SUM(AC63*2) -> 0 | AE63: 7 | AH63: =((HOUR(AG63)*3600)+(MINUTE(AG63)*60)+SECOND(AG63))/60 -> 0 | AI63: =SUM(AH63*2) -> 0 | AJ63: 7 | AN63: =SUM(AM63*4.5) -> 0 | AT63: 7 | AW63: =((HOUR(AV63)*3600)+(MINUTE(AV63)*60)+SECOND(AV63))/60 -> 0 | AX63: =SUM(AW63*2) -> 0
A64: 7 | D64: =((HOUR(C64)*3600)+(MINUTE(C64)*60)+SECOND(C64))/60 -> 0 | E64: =SUM(D64*2) -> 0 | F64: 7 | I64: =((HOUR(H64)*3600)+(MINUTE(H64)*60)+SECOND(H64))/60 -> 0 | J64: =SUM(I64*2.5) -> 0 | Z64: 7 | AC64: =((HOUR(AB64)*3600)+(MINUTE(AB64)*60)+SECOND(AB64))/60 -> 0 | AD64: =SUM(AC64*2) -> 0 | AE64: 7 | AH64: =((HOUR(AG64)*3600)+(MINUTE(AG64)*60)+SECOND(AG64))/60 -> 0 | AI64: =SUM(AH64*2) -> 0 | AJ64: 7 | AN64: =SUM(AM64*4.5) -> 0 | AT64: 7 | AW64: =((HOUR(AV64)*3600)+(MINUTE(AV64)*60)+SECOND(AV64))/60 -> 0 | AX64: =SUM(AW64*2) -> 0
A65: 7 | D65: =((HOUR(C65)*3600)+(MINUTE(C65)*60)+SECOND(C65))/60 -> 0 | E65: =SUM(D65*2) -> 0 | F65: 7 | I65: =((HOUR(H65)*3600)+(MINUTE(H65)*60)+SECOND(H65))/60 -> 0 | J65: =SUM(I65*2.5) -> 0 | Z65: 7 | AC65: =((HOUR(AB65)*3600)+(MINUTE(AB65)*60)+SECOND(AB65))/60 -> 0 | AD65: =SUM(AC65*2) -> 0 | AE65: 7 | AH65: =((HOUR(AG65)*3600)+(MINUTE(AG65)*60)+SECOND(AG65))/60 -> 0 | AI65: =SUM(AH65*2) -> 0 | AJ65: 7 | AN65: =SUM(AM65*4.5) -> 0 | AT65: 7 | AW65: =((HOUR(AV65)*3600)+(MINUTE(AV65)*60)+SECOND(AV65))/60 -> 0 | AX65: =SUM(AW65*2) -> 0
A66: Total 7 | D66: =SUBTOTAL(9,D58:D65) -> 0 | E66: =SUBTOTAL(9,E58:E65) -> 0 | F66: Total 7 | I66: =SUBTOTAL(9,I58:I65) -> 0 | J66: =SUBTOTAL(9,J58:J65) -> 0 | Z66: Total 7 | AC66: =SUBTOTAL(9,AC58:AC65) -> 0 | AD66: =SUBTOTAL(9,AD58:AD65) -> 0 | AE66: Total 7 | AH66: =SUBTOTAL(9,AH58:AH65) -> 0 | AI66: =SUBTOTAL(9,AI58:AI65) -> 0 | AJ66: Total 7 | AM66: =SUBTOTAL(9,AM58:AM65) -> 0 | AN66: =SUBTOTAL(9,AN58:AN65) -> 0 | AT66: Total 7 | AW66: =SUBTOTAL(9,AW58:AW65) -> 0 | AX66: =SUBTOTAL(9,AX58:AX65) -> 0
A67: 8 | D67: =((HOUR(C67)*3600)+(MINUTE(C67)*60)+SECOND(C67))/60 -> 0 | E67: =SUM(D67*2) -> 0 | F67: 8 | I67: =((HOUR(H67)*3600)+(MINUTE(H67)*60)+SECOND(H67))/60 -> 0 | J67: =SUM(I67*2.5) -> 0 | Z67: 8 | AC67: =((HOUR(AB67)*3600)+(MINUTE(AB67)*60)+SECOND(AB67))/60 -> 0 | AD67: =SUM(AC67*2) -> 0 | AE67: 8 | AH67: =((HOUR(AG67)*3600)+(MINUTE(AG67)*60)+SECOND(AG67))/60 -> 0 | AI67: =SUM(AH67*2) -> 0 | AJ67: 8 | AN67: =SUM(AM67*4.5) -> 0 | AT67: 8 | AW67: =((HOUR(AV67)*3600)+(MINUTE(AV67)*60)+SECOND(AV67))/60 -> 0 | AX67: =SUM(AW67*2) -> 0
A68: 8 | D68: =((HOUR(C68)*3600)+(MINUTE(C68)*60)+SECOND(C68))/60 -> 0 | E68: =SUM(D68*2) -> 0 | F68: 8 | I68: =((HOUR(H68)*3600)+(MINUTE(H68)*60)+SECOND(H68))/60 -> 0 | J68: =SUM(I68*2.5) -> 0 | Z68: 8 | AC68: =((HOUR(AB68)*3600)+(MINUTE(AB68)*60)+SECOND(AB68))/60 -> 0 | AD68: =SUM(AC68*2) -> 0 | AE68: 8 | AH68: =((HOUR(AG68)*3600)+(MINUTE(AG68)*60)+SECOND(AG68))/60 -> 0 | AI68: =SUM(AH68*2) -> 0 | AJ68: 8 | AN68: =SUM(AM68*4.5) -> 0 | AT68: 8 | AW68: =((HOUR(AV68)*3600)+(MINUTE(AV68)*60)+SECOND(AV68))/60 -> 0 | AX68: =SUM(AW68*2) -> 0
A69: 8 | D69: =((HOUR(C69)*3600)+(MINUTE(C69)*60)+SECOND(C69))/60 -> 0 | E69: =SUM(D69*2) -> 0 | F69: 8 | I69: =((HOUR(H69)*3600)+(MINUTE(H69)*60)+SECOND(H69))/60 -> 0 | J69: =SUM(I69*2.5) -> 0 | Z69: 8 | AC69: =((HOUR(AB69)*3600)+(MINUTE(AB69)*60)+SECOND(AB69))/60 -> 0 | AD69: =SUM(AC69*2) -> 0 | AE69: 8 | AH69: =((HOUR(AG69)*3600)+(MINUTE(AG69)*60)+SECOND(AG69))/60 -> 0 | AI69: =SUM(AH69*2) -> 0 | AJ69: 8 | AN69: =SUM(AM69*4.5) -> 0 | AT69: 8 | AW69: =((HOUR(AV69)*3600)+(MINUTE(AV69)*60)+SECOND(AV69))/60 -> 0 | AX69: =SUM(AW69*2) -> 0
A70: 8 | D70: =((HOUR(C70)*3600)+(MINUTE(C70)*60)+SECOND(C70))/60 -> 0 | E70: =SUM(D70*2) -> 0 | F70: 8 | I70: =((HOUR(H70)*3600)+(MINUTE(H70)*60)+SECOND(H70))/60 -> 0 | J70: =SUM(I70*2.5) -> 0 | Z70: 8 | AC70: =((HOUR(AB70)*3600)+(MINUTE(AB70)*60)+SECOND(AB70))/60 -> 0 | AD70: =SUM(AC70*2) -> 0 | AE70: 8 | AH70: =((HOUR(AG70)*3600)+(MINUTE(AG70)*60)+SECOND(AG70))/60 -> 0 | AI70: =SUM(AH70*2) -> 0 | AJ70: 8 | AN70: =SUM(AM70*4.5) -> 0 | AT70: 8 | AW70: =((HOUR(AV70)*3600)+(MINUTE(AV70)*60)+SECOND(AV70))/60 -> 0 | AX70: =SUM(AW70*2) -> 0
A71: 8 | D71: =((HOUR(C71)*3600)+(MINUTE(C71)*60)+SECOND(C71))/60 -> 0 | E71: =SUM(D71*2) -> 0 | F71: 8 | I71: =((HOUR(H71)*3600)+(MINUTE(H71)*60)+SECOND(H71))/60 -> 0 | J71: =SUM(I71*2.5) -> 0 | Z71: 8 | AC71: =((HOUR(AB71)*3600)+(MINUTE(AB71)*60)+SECOND(AB71))/60 -> 0 | AD71: =SUM(AC71*2) -> 0 | AE71: 8 | AH71: =((HOUR(AG71)*3600)+(MINUTE(AG71)*60)+SECOND(AG71))/60 -> 0 | AI71: =SUM(AH71*2) -> 0 | AJ71: 8 | AN71: =SUM(AM71*4.5) -> 0 | AT71: 8 | AW71: =((HOUR(AV71)*3600)+(MINUTE(AV71)*60)+SECOND(AV71))/60 -> 0 | AX71: =SUM(AW71*2) -> 0
A72: 8 | D72: =((HOUR(C72)*3600)+(MINUTE(C72)*60)+SECOND(C72))/60 -> 0 | E72: =SUM(D72*2) -> 0 | F72: 8 | I72: =((HOUR(H72)*3600)+(MINUTE(H72)*60)+SECOND(H72))/60 -> 0 | J72: =SUM(I72*2.5) -> 0 | Z72: 8 | AC72: =((HOUR(AB72)*3600)+(MINUTE(AB72)*60)+SECOND(AB72))/60 -> 0 | AD72: =SUM(AC72*2) -> 0 | AE72: 8 | AH72: =((HOUR(AG72)*3600)+(MINUTE(AG72)*60)+SECOND(AG72))/60 -> 0 | AI72: =SUM(AH72*2) -> 0 | AJ72: 8 | AN72: =SUM(AM72*4.5) -> 0 | AT72: 8 | AW72: =((HOUR(AV72)*3600)+(MINUTE(AV72)*60)+SECOND(AV72))/60 -> 0 | AX72: =SUM(AW72*2) -> 0
A73: 8 | D73: =((HOUR(C73)*3600)+(MINUTE(C73)*60)+SECOND(C73))/60 -> 0 | E73: =SUM(D73*2) -> 0 | F73: 8 | I73: =((HOUR(H73)*3600)+(MINUTE(H73)*60)+SECOND(H73))/60 -> 0 | J73: =SUM(I73*2.5) -> 0 | Z73: 8 | AC73: =((HOUR(AB73)*3600)+(MINUTE(AB73)*60)+SECOND(AB73))/60 -> 0 | AD73: =SUM(AC73*2) -> 0 | AE73: 8 | AH73: =((HOUR(AG73)*3600)+(MINUTE(AG73)*60)+SECOND(AG73))/60 -> 0 | AI73: =SUM(AH73*2) -> 0 | AJ73: 8 | AN73: =SUM(AM73*4.5) -> 0 | AT73: 8 | AW73: =((HOUR(AV73)*3600)+(MINUTE(AV73)*60)+SECOND(AV73))/60 -> 0 | AX73: =SUM(AW73*2) -> 0
A74: 8 | D74: =((HOUR(C74)*3600)+(MINUTE(C74)*60)+SECOND(C74))/60 -> 0 | E74: =SUM(D74*2) -> 0 | F74: 8 | I74: =((HOUR(H74)*3600)+(MINUTE(H74)*60)+SECOND(H74))/60 -> 0 | J74: =SUM(I74*2.5) -> 0 | Z74: 8 | AC74: =((HOUR(AB74)*3600)+(MINUTE(AB74)*60)+SECOND(AB74))/60 -> 0 | AD74: =SUM(AC74*2) -> 0 | AE74: 8 | AH74: =((HOUR(AG74)*3600)+(MINUTE(AG74)*60)+SECOND(AG74))/60 -> 0 | AI74: =SUM(AH74*2) -> 0 | AJ74: 8 | AN74: =SUM(AM74*4.5) -> 0 | AT74: 8 | AW74: =((HOUR(AV74)*3600)+(MINUTE(AV74)*60)+SECOND(AV74))/60 -> 0 | AX74: =SUM(AW74*2) -> 0
A75: Total 8 | D75: =SUBTOTAL(9,D67:D74) -> 0 | E75: =SUBTOTAL(9,E67:E74) -> 0 | F75: Total 8 | I75: =SUBTOTAL(9,I67:I74) -> 0 | J75: =SUBTOTAL(9,J67:J74) -> 0 | Z75: Total 8 | AC75: =SUBTOTAL(9,AC67:AC74) -> 0 | AD75: =SUBTOTAL(9,AD67:AD74) -> 0 | AE75: Total 8 | AH75: =SUBTOTAL(9,AH67:AH74) -> 0 | AI75: =SUBTOTAL(9,AI67:AI74) -> 0 | AJ75: Total 8 | AM75: =SUBTOTAL(9,AM67:AM74) -> 0 | AN75: =SUBTOTAL(9,AN67:AN74) -> 0 | AT75: Total 8 | AW75: =SUBTOTAL(9,AW67:AW74) -> 0 | AX75: =SUBTOTAL(9,AX67:AX74) -> 0
A76: 9 | D76: =((HOUR(C76)*3600)+(MINUTE(C76)*60)+SECOND(C76))/60 -> 0 | E76: =SUM(D76*2) -> 0 | F76: 9 | I76: =((HOUR(H76)*3600)+(MINUTE(H76)*60)+SECOND(H76))/60 -> 0 | J76: =SUM(I76*2.5) -> 0 | Z76: 9 | AC76: =((HOUR(AB76)*3600)+(MINUTE(AB76)*60)+SECOND(AB76))/60 -> 0 | AD76: =SUM(AC76*2) -> 0 | AE76: 9 | AH76: =((HOUR(AG76)*3600)+(MINUTE(AG76)*60)+SECOND(AG76))/60 -> 0 | AI76: =SUM(AH76*2) -> 0 | AJ76: 9 | AN76: =SUM(AM76*4.5) -> 0 | AT76: 9 | AW76: =((HOUR(AV76)*3600)+(MINUTE(AV76)*60)+SECOND(AV76))/60 -> 0 | AX76: =SUM(AW76*2) -> 0
A77: 9 | D77: =((HOUR(C77)*3600)+(MINUTE(C77)*60)+SECOND(C77))/60 -> 0 | E77: =SUM(D77*2) -> 0 | F77: 9 | I77: =((HOUR(H77)*3600)+(MINUTE(H77)*60)+SECOND(H77))/60 -> 0 | J77: =SUM(I77*2.5) -> 0 | Z77: 9 | AC77: =((HOUR(AB77)*3600)+(MINUTE(AB77)*60)+SECOND(AB77))/60 -> 0 | AD77: =SUM(AC77*2) -> 0 | AE77: 9 | AH77: =((HOUR(AG77)*3600)+(MINUTE(AG77)*60)+SECOND(AG77))/60 -> 0 | AI77: =SUM(AH77*2) -> 0 | AJ77: 9 | AN77: =SUM(AM77*4.5) -> 0 | AT77: 9 | AW77: =((HOUR(AV77)*3600)+(MINUTE(AV77)*60)+SECOND(AV77))/60 -> 0 | AX77: =SUM(AW77*2) -> 0
A78: 9 | D78: =((HOUR(C78)*3600)+(MINUTE(C78)*60)+SECOND(C78))/60 -> 0 | E78: =SUM(D78*2) -> 0 | F78: 9 | I78: =((HOUR(H78)*3600)+(MINUTE(H78)*60)+SECOND(H78))/60 -> 0 | J78: =SUM(I78*2.5) -> 0 | Z78: 9 | AC78: =((HOUR(AB78)*3600)+(MINUTE(AB78)*60)+SECOND(AB78))/60 -> 0 | AD78: =SUM(AC78*2) -> 0 | AE78: 9 | AH78: =((HOUR(AG78)*3600)+(MINUTE(AG78)*60)+SECOND(AG78))/60 -> 0 | AI78: =SUM(AH78*2) -> 0 | AJ78: 9 | AN78: =SUM(AM78*4.5) -> 0 | AT78: 9 | AW78: =((HOUR(AV78)*3600)+(MINUTE(AV78)*60)+SECOND(AV78))/60 -> 0 | AX78: =SUM(AW78*2) -> 0
A79: 9 | D79: =((HOUR(C79)*3600)+(MINUTE(C79)*60)+SECOND(C79))/60 -> 0 | E79: =SUM(D79*2) -> 0 | F79: 9 | I79: =((HOUR(H79)*3600)+(MINUTE(H79)*60)+SECOND(H79))/60 -> 0 | J79: =SUM(I79*2.5) -> 0 | Z79: 9 | AC79: =((HOUR(AB79)*3600)+(MINUTE(AB79)*60)+SECOND(AB79))/60 -> 0 | AD79: =SUM(AC79*2) -> 0 | AE79: 9 | AH79: =((HOUR(AG79)*3600)+(MINUTE(AG79)*60)+SECOND(AG79))/60 -> 0 | AI79: =SUM(AH79*2) -> 0 | AJ79: 9 | AN79: =SUM(AM79*4.5) -> 0 | AT79: 9 | AW79: =((HOUR(AV79)*3600)+(MINUTE(AV79)*60)+SECOND(AV79))/60 -> 0 | AX79: =SUM(AW79*2) -> 0
A80: 9 | D80: =((HOUR(C80)*3600)+(MINUTE(C80)*60)+SECOND(C80))/60 -> 0 | E80: =SUM(D80*2) -> 0 | F80: 9 | I80: =((HOUR(H80)*3600)+(MINUTE(H80)*60)+SECOND(H80))/60 -> 0 | J80: =SUM(I80*2.5) -> 0 | Z80: 9 | AC80: =((HOUR(AB80)*3600)+(MINUTE(AB80)*60)+SECOND(AB80))/60 -> 0 | AD80: =SUM(AC80*2) -> 0 | AE80: 9 | AH80: =((HOUR(AG80)*3600)+(MINUTE(AG80)*60)+SECOND(AG80))/60 -> 0 | AI80: =SUM(AH80*2) -> 0 | AJ80: 9 | AN80: =SUM(AM80*4.5) -> 0 | AT80: 9 | AW80: =((HOUR(AV80)*3600)+(MINUTE(AV80)*60)+SECOND(AV80))/60 -> 0 | AX80: =SUM(AW80*2) -> 0
A81: 9 | D81: =((HOUR(C81)*3600)+(MINUTE(C81)*60)+SECOND(C81))/60 -> 0 | E81: =SUM(D81*2) -> 0 | F81: 9 | I81: =((HOUR(H81)*3600)+(MINUTE(H81)*60)+SECOND(H81))/60 -> 0 | J81: =SUM(I81*2.5) -> 0 | Z81: 9 | AC81: =((HOUR(AB81)*3600)+(MINUTE(AB81)*60)+SECOND(AB81))/60 -> 0 | AD81: =SUM(AC81*2) -> 0 | AE81: 9 | AH81: =((HOUR(AG81)*3600)+(MINUTE(AG81)*60)+SECOND(AG81))/60 -> 0 | AI81: =SUM(AH81*2) -> 0 | AJ81: 9 | AN81: =SUM(AM81*4.5) -> 0 | AT81: 9 | AW81: =((HOUR(AV81)*3600)+(MINUTE(AV81)*60)+SECOND(AV81))/60 -> 0 | AX81: =SUM(AW81*2) -> 0
A82: 9 | D82: =((HOUR(C82)*3600)+(MINUTE(C82)*60)+SECOND(C82))/60 -> 0 | E82: =SUM(D82*2) -> 0 | F82: 9 | I82: =((HOUR(H82)*3600)+(MINUTE(H82)*60)+SECOND(H82))/60 -> 0 | J82: =SUM(I82*2.5) -> 0 | Z82: 9 | AC82: =((HOUR(AB82)*3600)+(MINUTE(AB82)*60)+SECOND(AB82))/60 -> 0 | AD82: =SUM(AC82*2) -> 0 | AE82: 9 | AH82: =((HOUR(AG82)*3600)+(MINUTE(AG82)*60)+SECOND(AG82))/60 -> 0 | AI82: =SUM(AH82*2) -> 0 | AJ82: 9 | AN82: =SUM(AM82*4.5) -> 0 | AT82: 9 | AW82: =((HOUR(AV82)*3600)+(MINUTE(AV82)*60)+SECOND(AV82))/60 -> 0 | AX82: =SUM(AW82*2) -> 0
A83: 9 | D83: =((HOUR(C83)*3600)+(MINUTE(C83)*60)+SECOND(C83))/60 -> 0 | E83: =SUM(D83*2) -> 0 | F83: 9 | I83: =((HOUR(H83)*3600)+(MINUTE(H83)*60)+SECOND(H83))/60 -> 0 | J83: =SUM(I83*2.5) -> 0 | Z83: 9 | AC83: =((HOUR(AB83)*3600)+(MINUTE(AB83)*60)+SECOND(AB83))/60 -> 0 | AD83: =SUM(AC83*2) -> 0 | AE83: 9 | AH83: =((HOUR(AG83)*3600)+(MINUTE(AG83)*60)+SECOND(AG83))/60 -> 0 | AI83: =SUM(AH83*2) -> 0 | AJ83: 9 | AN83: =SUM(AM83*4.5) -> 0 | AT83: 9 | AW83: =((HOUR(AV83)*3600)+(MINUTE(AV83)*60)+SECOND(AV83))/60 -> 0 | AX83: =SUM(AW83*2) -> 0
A84: Total 9 | D84: =SUBTOTAL(9,D76:D83) -> 0 | E84: =SUBTOTAL(9,E76:E83) -> 0 | F84: Total 9 | I84: =SUBTOTAL(9,I76:I83) -> 0 | J84: =SUBTOTAL(9,J76:J83) -> 0 | Z84: Total 9 | AC84: =SUBTOTAL(9,AC76:AC83) -> 0 | AD84: =SUBTOTAL(9,AD76:AD83) -> 0 | AE84: Total 9 | AH84: =SUBTOTAL(9,AH76:AH83) -> 0 | AI84: =SUBTOTAL(9,AI76:AI83) -> 0 | AJ84: Total 9 | AM84: =SUBTOTAL(9,AM76:AM83) -> 0 | AN84: =SUBTOTAL(9,AN76:AN83) -> 0 | AT84: Total 9 | AW84: =SUBTOTAL(9,AW76:AW83) -> 0 | AX84: =SUBTOTAL(9,AX76:AX83) -> 0
A85: 10 | D85: =((HOUR(C85)*3600)+(MINUTE(C85)*60)+SECOND(C85))/60 -> 0 | E85: =SUM(D85*2) -> 0 | F85: 10 | I85: =((HOUR(H85)*3600)+(MINUTE(H85)*60)+SECOND(H85))/60 -> 0 | J85: =SUM(I85*2.5) -> 0 | Z85: 10 | AC85: =((HOUR(AB85)*3600)+(MINUTE(AB85)*60)+SECOND(AB85))/60 -> 0 | AD85: =SUM(AC85*2) -> 0 | AE85: 10 | AH85: =((HOUR(AG85)*3600)+(MINUTE(AG85)*60)+SECOND(AG85))/60 -> 0 | AI85: =SUM(AH85*2) -> 0 | AJ85: 10 | AN85: =SUM(AM85*4.5) -> 0 | AT85: 10 | AW85: =((HOUR(AV85)*3600)+(MINUTE(AV85)*60)+SECOND(AV85))/60 -> 0 | AX85: =SUM(AW85*2) -> 0
A86: 10 | D86: =((HOUR(C86)*3600)+(MINUTE(C86)*60)+SECOND(C86))/60 -> 0 | E86: =SUM(D86*2) -> 0 | F86: 10 | I86: =((HOUR(H86)*3600)+(MINUTE(H86)*60)+SECOND(H86))/60 -> 0 | J86: =SUM(I86*2.5) -> 0 | Z86: 10 | AC86: =((HOUR(AB86)*3600)+(MINUTE(AB86)*60)+SECOND(AB86))/60 -> 0 | AD86: =SUM(AC86*2) -> 0 | AE86: 10 | AH86: =((HOUR(AG86)*3600)+(MINUTE(AG86)*60)+SECOND(AG86))/60 -> 0 | AI86: =SUM(AH86*2) -> 0 | AJ86: 10 | AN86: =SUM(AM86*4.5) -> 0 | AT86: 10 | AW86: =((HOUR(AV86)*3600)+(MINUTE(AV86)*60)+SECOND(AV86))/60 -> 0 | AX86: =SUM(AW86*2) -> 0
A87: 10 | D87: =((HOUR(C87)*3600)+(MINUTE(C87)*60)+SECOND(C87))/60 -> 0 | E87: =SUM(D87*2) -> 0 | F87: 10 | I87: =((HOUR(H87)*3600)+(MINUTE(H87)*60)+SECOND(H87))/60 -> 0 | J87: =SUM(I87*2.5) -> 0 | Z87: 10 | AC87: =((HOUR(AB87)*3600)+(MINUTE(AB87)*60)+SECOND(AB87))/60 -> 0 | AD87: =SUM(AC87*2) -> 0 | AE87: 10 | AH87: =((HOUR(AG87)*3600)+(MINUTE(AG87)*60)+SECOND(AG87))/60 -> 0 | AI87: =SUM(AH87*2) -> 0 | AJ87: 10 | AN87: =SUM(AM87*4.5) -> 0 | AT87: 10 | AW87: =((HOUR(AV87)*3600)+(MINUTE(AV87)*60)+SECOND(AV87))/60 -> 0 | AX87: =SUM(AW87*2) -> 0
A88: 10 | D88: =((HOUR(C88)*3600)+(MINUTE(C88)*60)+SECOND(C88))/60 -> 0 | E88: =SUM(D88*2) -> 0 | F88: 10 | I88: =((HOUR(H88)*3600)+(MINUTE(H88)*60)+SECOND(H88))/60 -> 0 | J88: =SUM(I88*2.5) -> 0 | Z88: 10 | AC88: =((HOUR(AB88)*3600)+(MINUTE(AB88)*60)+SECOND(AB88))/60 -> 0 | AD88: =SUM(AC88*2) -> 0 | AE88: 10 | AH88: =((HOUR(AG88)*3600)+(MINUTE(AG88)*60)+SECOND(AG88))/60 -> 0 | AI88: =SUM(AH88*2) -> 0 | AJ88: 10 | AN88: =SUM(AM88*4.5) -> 0 | AT88: 10 | AW88: =((HOUR(AV88)*3600)+(MINUTE(AV88)*60)+SECOND(AV88))/60 -> 0 | AX88: =SUM(AW88*2) -> 0
A89: 10 | D89: =((HOUR(C89)*3600)+(MINUTE(C89)*60)+SECOND(C89))/60 -> 0 | E89: =SUM(D89*2) -> 0 | F89: 10 | I89: =((HOUR(H89)*3600)+(MINUTE(H89)*60)+SECOND(H89))/60 -> 0 | J89: =SUM(I89*2.5) -> 0 | Z89: 10 | AC89: =((HOUR(AB89)*3600)+(MINUTE(AB89)*60)+SECOND(AB89))/60 -> 0 | AD89: =SUM(AC89*2) -> 0 | AE89: 10 | AH89: =((HOUR(AG89)*3600)+(MINUTE(AG89)*60)+SECOND(AG89))/60 -> 0 | AI89: =SUM(AH89*2) -> 0 | AJ89: 10 | AN89: =SUM(AM89*4.5) -> 0 | AT89: 10 | AW89: =((HOUR(AV89)*3600)+(MINUTE(AV89)*60)+SECOND(AV89))/60 -> 0 | AX89: =SUM(AW89*2) -> 0
A90: 10 | D90: =((HOUR(C90)*3600)+(MINUTE(C90)*60)+SECOND(C90))/60 -> 0 | E90: =SUM(D90*2) -> 0 | F90: 10 | I90: =((HOUR(H90)*3600)+(MINUTE(H90)*60)+SECOND(H90))/60 -> 0 | J90: =SUM(I90*2.5) -> 0 | Z90: 10 | AC90: =((HOUR(AB90)*3600)+(MINUTE(AB90)*60)+SECOND(AB90))/60 -> 0 | AD90: =SUM(AC90*2) -> 0 | AE90: 10 | AH90: =((HOUR(AG90)*3600)+(MINUTE(AG90)*60)+SECOND(AG90))/60 -> 0 | AI90: =SUM(AH90*2) -> 0 | AJ90: 10 | AN90: =SUM(AM90*4.5) -> 0 | AT90: 10 | AW90: =((HOUR(AV90)*3600)+(MINUTE(AV90)*60)+SECOND(AV90))/60 -> 0 | AX90: =SUM(AW90*2) -> 0
A91: 10 | D91: =((HOUR(C91)*3600)+(MINUTE(C91)*60)+SECOND(C91))/60 -> 0 | E91: =SUM(D91*2) -> 0 | F91: 10 | I91: =((HOUR(H91)*3600)+(MINUTE(H91)*60)+SECOND(H91))/60 -> 0 | J91: =SUM(I91*2.5) -> 0 | Z91: 10 | AC91: =((HOUR(AB91)*3600)+(MINUTE(AB91)*60)+SECOND(AB91))/60 -> 0 | AD91: =SUM(AC91*2) -> 0 | AE91: 10 | AH91: =((HOUR(AG91)*3600)+(MINUTE(AG91)*60)+SECOND(AG91))/60 -> 0 | AI91: =SUM(AH91*2) -> 0 | AJ91: 10 | AN91: =SUM(AM91*4.5) -> 0 | AT91: 10 | AW91: =((HOUR(AV91)*3600)+(MINUTE(AV91)*60)+SECOND(AV91))/60 -> 0 | AX91: =SUM(AW91*2) -> 0
A92: 10 | D92: =((HOUR(C92)*3600)+(MINUTE(C92)*60)+SECOND(C92))/60 -> 0 | E92: =SUM(D92*2) -> 0 | F92: 10 | I92: =((HOUR(H92)*3600)+(MINUTE(H92)*60)+SECOND(H92))/60 -> 0 | J92: =SUM(I92*2.5) -> 0 | Z92: 10 | AC92: =((HOUR(AB92)*3600)+(MINUTE(AB92)*60)+SECOND(AB92))/60 -> 0 | AD92: =SUM(AC92*2) -> 0 | AE92: 10 | AH92: =((HOUR(AG92)*3600)+(MINUTE(AG92)*60)+SECOND(AG92))/60 -> 0 | AI92: =SUM(AH92*2) -> 0 | AJ92: 10 | AN92: =SUM(AM92*4.5) -> 0 | AT92: 10 | AW92: =((HOUR(AV92)*3600)+(MINUTE(AV92)*60)+SECOND(AV92))/60 -> 0 | AX92: =SUM(AW92*2) -> 0
A93: Total 10 | D93: =SUBTOTAL(9,D85:D92) -> 0 | E93: =SUBTOTAL(9,E85:E92) -> 0 | F93: Total 10 | I93: =SUBTOTAL(9,I85:I92) -> 0 | J93: =SUBTOTAL(9,J85:J92) -> 0 | Z93: Total 10 | AC93: =SUBTOTAL(9,AC85:AC92) -> 0 | AD93: =SUBTOTAL(9,AD85:AD92) -> 0 | AE93: Total 10 | AH93: =SUBTOTAL(9,AH85:AH92) -> 0 | AI93: =SUBTOTAL(9,AI85:AI92) -> 0 | AJ93: Total 10 | AM93: =SUBTOTAL(9,AM85:AM92) -> 0 | AN93: =SUBTOTAL(9,AN85:AN92) -> 0 | AT93: Total 10 | AW93: =SUBTOTAL(9,AW85:AW92) -> 0 | AX93: =SUBTOTAL(9,AX85:AX92) -> 0
A94: 11 | D94: =((HOUR(C94)*3600)+(MINUTE(C94)*60)+SECOND(C94))/60 -> 0 | E94: =SUM(D94*2) -> 0 | F94: 11 | I94: =((HOUR(H94)*3600)+(MINUTE(H94)*60)+SECOND(H94))/60 -> 0 | J94: =SUM(I94*2.5) -> 0 | Z94: 11 | AC94: =((HOUR(AB94)*3600)+(MINUTE(AB94)*60)+SECOND(AB94))/60 -> 0 | AD94: =SUM(AC94*2) -> 0 | AE94: 11 | AH94: =((HOUR(AG94)*3600)+(MINUTE(AG94)*60)+SECOND(AG94))/60 -> 0 | AI94: =SUM(AH94*2) -> 0 | AJ94: 11 | AN94: =SUM(AM94*4.5) -> 0 | AT94: 11 | AW94: =((HOUR(AV94)*3600)+(MINUTE(AV94)*60)+SECOND(AV94))/60 -> 0 | AX94: =SUM(AW94*2) -> 0
A95: 11 | D95: =((HOUR(C95)*3600)+(MINUTE(C95)*60)+SECOND(C95))/60 -> 0 | E95: =SUM(D95*2) -> 0 | F95: 11 | I95: =((HOUR(H95)*3600)+(MINUTE(H95)*60)+SECOND(H95))/60 -> 0 | J95: =SUM(I95*2.5) -> 0 | Z95: 11 | AC95: =((HOUR(AB95)*3600)+(MINUTE(AB95)*60)+SECOND(AB95))/60 -> 0 | AD95: =SUM(AC95*2) -> 0 | AE95: 11 | AH95: =((HOUR(AG95)*3600)+(MINUTE(AG95)*60)+SECOND(AG95))/60 -> 0 | AI95: =SUM(AH95*2) -> 0 | AJ95: 11 | AN95: =SUM(AM95*4.5) -> 0 | AT95: 11 | AW95: =((HOUR(AV95)*3600)+(MINUTE(AV95)*60)+SECOND(AV95))/60 -> 0 | AX95: =SUM(AW95*2) -> 0
A96: 11 | D96: =((HOUR(C96)*3600)+(MINUTE(C96)*60)+SECOND(C96))/60 -> 0 | E96: =SUM(D96*2) -> 0 | F96: 11 | I96: =((HOUR(H96)*3600)+(MINUTE(H96)*60)+SECOND(H96))/60 -> 0 | J96: =SUM(I96*2.5) -> 0 | Z96: 11 | AC96: =((HOUR(AB96)*3600)+(MINUTE(AB96)*60)+SECOND(AB96))/60 -> 0 | AD96: =SUM(AC96*2) -> 0 | AE96: 11 | AH96: =((HOUR(AG96)*3600)+(MINUTE(AG96)*60)+SECOND(AG96))/60 -> 0 | AI96: =SUM(AH96*2) -> 0 | AJ96: 11 | AN96: =SUM(AM96*4.5) -> 0 | AT96: 11 | AW96: =((HOUR(AV96)*3600)+(MINUTE(AV96)*60)+SECOND(AV96))/60 -> 0 | AX96: =SUM(AW96*2) -> 0
A97: 11 | D97: =((HOUR(C97)*3600)+(MINUTE(C97)*60)+SECOND(C97))/60 -> 0 | E97: =SUM(D97*2) -> 0 | F97: 11 | I97: =((HOUR(H97)*3600)+(MINUTE(H97)*60)+SECOND(H97))/60 -> 0 | J97: =SUM(I97*2.5) -> 0 | Z97: 11 | AC97: =((HOUR(AB97)*3600)+(MINUTE(AB97)*60)+SECOND(AB97))/60 -> 0 | AD97: =SUM(AC97*2) -> 0 | AE97: 11 | AH97: =((HOUR(AG97)*3600)+(MINUTE(AG97)*60)+SECOND(AG97))/60 -> 0 | AI97: =SUM(AH97*2) -> 0 | AJ97: 11 | AN97: =SUM(AM97*4.5) -> 0 | AT97: 11 | AW97: =((HOUR(AV97)*3600)+(MINUTE(AV97)*60)+SECOND(AV97))/60 -> 0 | AX97: =SUM(AW97*2) -> 0
A98: 11 | D98: =((HOUR(C98)*3600)+(MINUTE(C98)*60)+SECOND(C98))/60 -> 0 | E98: =SUM(D98*2) -> 0 | F98: 11 | I98: =((HOUR(H98)*3600)+(MINUTE(H98)*60)+SECOND(H98))/60 -> 0 | J98: =SUM(I98*2.5) -> 0 | Z98: 11 | AC98: =((HOUR(AB98)*3600)+(MINUTE(AB98)*60)+SECOND(AB98))/60 -> 0 | AD98: =SUM(AC98*2) -> 0 | AE98: 11 | AH98: =((HOUR(AG98)*3600)+(MINUTE(AG98)*60)+SECOND(AG98))/60 -> 0 | AI98: =SUM(AH98*2) -> 0 | AJ98: 11 | AN98: =SUM(AM98*4.5) -> 0 | AT98: 11 | AW98: =((HOUR(AV98)*3600)+(MINUTE(AV98)*60)+SECOND(AV98))/60 -> 0 | AX98: =SUM(AW98*2) -> 0
A99: 11 | D99: =((HOUR(C99)*3600)+(MINUTE(C99)*60)+SECOND(C99))/60 -> 0 | E99: =SUM(D99*2) -> 0 | F99: 11 | I99: =((HOUR(H99)*3600)+(MINUTE(H99)*60)+SECOND(H99))/60 -> 0 | J99: =SUM(I99*2.5) -> 0 | Z99: 11 | AC99: =((HOUR(AB99)*3600)+(MINUTE(AB99)*60)+SECOND(AB99))/60 -> 0 | AD99: =SUM(AC99*2) -> 0 | AE99: 11 | AH99: =((HOUR(AG99)*3600)+(MINUTE(AG99)*60)+SECOND(AG99))/60 -> 0 | AI99: =SUM(AH99*2) -> 0 | AJ99: 11 | AN99: =SUM(AM99*4.5) -> 0 | AT99: 11 | AW99: =((HOUR(AV99)*3600)+(MINUTE(AV99)*60)+SECOND(AV99))/60 -> 0 | AX99: =SUM(AW99*2) -> 0
A100: 11 | D100: =((HOUR(C100)*3600)+(MINUTE(C100)*60)+SECOND(C100))/60 -> 0 | E100: =SUM(D100*2) -> 0 | F100: 11 | I100: =((HOUR(H100)*3600)+(MINUTE(H100)*60)+SECOND(H100))/60 -> 0 | J100: =SUM(I100*2.5) -> 0 | Z100: 11 | AC100: =((HOUR(AB100)*3600)+(MINUTE(AB100)*60)+SECOND(AB100))/60 -> 0 | AD100: =SUM(AC100*2) -> 0 | AE100: 11 | AH100: =((HOUR(AG100)*3600)+(MINUTE(AG100)*60)+SECOND(AG100))/60 -> 0 | AI100: =SUM(AH100*2) -> 0 | AJ100: 11 | AN100: =SUM(AM100*4.5) -> 0 | AT100: 11 | AW100: =((HOUR(AV100)*3600)+(MINUTE(AV100)*60)+SECOND(AV100))/60 -> 0 | AX100: =SUM(AW100*2) -> 0
A101: 11 | D101: =((HOUR(C101)*3600)+(MINUTE(C101)*60)+SECOND(C101))/60 -> 0 | E101: =SUM(D101*2) -> 0 | F101: 11 | I101: =((HOUR(H101)*3600)+(MINUTE(H101)*60)+SECOND(H101))/60 -> 0 | J101: =SUM(I101*2.5) -> 0 | Z101: 11 | AC101: =((HOUR(AB101)*3600)+(MINUTE(AB101)*60)+SECOND(AB101))/60 -> 0 | AD101: =SUM(AC101*2) -> 0 | AE101: 11 | AH101: =((HOUR(AG101)*3600)+(MINUTE(AG101)*60)+SECOND(AG101))/60 -> 0 | AI101: =SUM(AH101*2) -> 0 | AJ101: 11 | AN101: =SUM(AM101*4.5) -> 0 | AT101: 11 | AW101: =((HOUR(AV101)*3600)+(MINUTE(AV101)*60)+SECOND(AV101))/60 -> 0 | AX101: =SUM(AW101*2) -> 0
...

Sheet Septembre
A1: CLIENT A | F1: CLIENT B | K1: CLIENT C | P1: CLIENT D | U1: CLIENT E | Z1: CLIENT F | AE1: CLIENT G | AJ1: CLIENT H | AO1: CLIENT I | AT1: CLIENT J
A3: Date | B3: Dossier | C3: Durée | D3: Minutes | E3: Facturé | F3: Date | G3: Dossier | H3: Durée | I3: Minutes | J3: Facturé | K3: Date | L3: Dossier | M3: Type | N3: Pages | O3: Facturé | P3: Date | Q3: Dossier | R3: Durée | S3: Minutes | T3: Facturé | U3: Date | V3: Dossier | W3: Durée | X3: Minutes | Y3: Facturé | Z3: Date | AA3: Dossier | AB3: Durée | AC3: Minutes | AD3: Facturé | AE3: Date | AF3: Dossier | AG3: Durée | AH3: Minutes | AI3: Facturé | AJ3: Date | AK3: N° Devis | AL3: Nom client | AM3: Pages | AN3: Facturé | AO3: Date | AP3: Dossier | AQ3: Durée | AR3: Minutes | AS3: Facturé | AT3: Date | AU3: Dossier | AV3: Durée | AW3: Minutes | AX3: Facturé
A4: 1 | D4: =((HOUR(C4)*3600)+(MINUTE(C4)*60)+SECOND(C4))/60 -> 0 | E4: =SUM(D4*2) -> 0 | F4: 15 | G4: Présence au cabinet | H4: 6.5 | J4: =SUM(H4*25) -> 162.5 | K4: 5 | L4: 336 | M4: Lettre OFFICINE DORIN-15 | N4: 0.5 | O4: =SUM(N4*4.5) -> 2.25 | P4: 5 | Q4: HERTERT - Assignation TGI | R4: 0.0058796296 | S4: =((HOUR(R4)*3600)+(MINUTE(R4)*60)+SECOND(R4))/60 -> 8.4666667 | T4: =SUM(S4*2) -> 16.933333 | U4: 5 | V4: 111818 BERNARD-GUELLE - Courrier Me MARTIN | X4: =((HOUR(W4)*3600)+(MINUTE(W4)*60)+SECOND(W4))/60 -> 0 | Y4: =SUM(X4*2) -> 0 | Z4: 1 | AC4: =((HOUR(AB4)*3600)+(MINUTE(AB4)*60)+SECOND(AB4))/60 -> 0 | AD4: =SUM(AC4*2) -> 0 | AE4: 1 | AH4: =((HOUR(AG4)*3600)+(MINUTE(AG4)*60)+SECOND(AG4))/60 -> 0 | AI4: =SUM(AH4*2) -> 0 | AJ4: 1 | AN4: =SUM(AM4*4.5) -> 0 | AO4: 1 | AP4: ZERGDJENAH Moulkeir lettre Dr PELLET | AQ4: 0.0031134259 | AR4: =((HOUR(AQ4)*3600)+(MINUTE(AQ4)*60)+SECOND(AQ4))/60 -> 4.4833333 | AS4: =SUM(AR4*2) -> 8.9666667 | AT4: 1 | AW4: =((HOUR(AV4)*3600)+(MINUTE(AV4)*60)+SECOND(AV4))/60 -> 0 | AX4: =SUM(AW4*2) -> 0
A5: 1 | D5: =((HOUR(C5)*3600)+(MINUTE(C5)*60)+SECOND(C5))/60 -> 0 | E5: =SUM(D5*2) -> 0 | F5: Total 15 | I5: =SUBTOTAL(9,I4:I4) -> 0 | J5: =SUBTOTAL(9,J4:J4) -> 162.5 | K5: 5 | L5: 351 | M5: Lettre Me ANGELI-2 | N5: 0.5 | O5: =SUM(N5*4.5) -> 2.25 | P5: 5 | Q5: 11357 conclusions d'incident | R5: 0.0056365741 | S5: =((HOUR(R5)*3600)+(MINUTE(R5)*60)+SECOND(R5))/60 -> 8.1166667 | T5: =SUM(S5*2) -> 16.233333 | U5: 5 | V5: 110795 GIRAUD Laure JAF - Courrier MATMUT | X5: =((HOUR(W5)*3600)+(MINUTE(W5)*60)+SECOND(W5))/60 -> 0 | Y5: =SUM(X5*2) -> 0 | Z5: 1 | AC5: =((HOUR(AB5)*3600)+(MINUTE(AB5)*60)+SECOND(AB5))/60 -> 0 | AD5: =SUM(AC5*2) -> 0 | AE5: 1 | AH5: =((HOUR(AG5)*3600)+(MINUTE(AG5)*60)+SECOND(AG5))/60 -> 0 | AI5: =SUM(AH5*2) -> 0 | AJ5: 1 | AN5: =SUM(AM5*4.5) -> 0 | AO5: Total 1 | AR5: =SUBTOTAL(9,AR4:AR4) -> 4.4833333 | AS5: =SUBTOTAL(9,AS4:AS4) -> 8.9666667 | AT5: 1 | AW5: =((HOUR(AV5)*3600)+(MINUTE(AV5)*60)+SECOND(AV5))/60 -> 0 | AX5: =SUM(AW5*2) -> 0
A6: 1 | D6: =((HOUR(C6)*3600)+(MINUTE(C6)*60)+SECOND(C6))/60 -> 0 | E6: =SUM(D6*2) -> 0 | F6: 16 | G6: Présence au cabinet | H6: 6.25 | J6: =SUM(H6*25) -> 156.25 | K6: 5 | L6: 368 | M6: NOTE N° 9 | N6: 0.9 | O6: =SUM(N6*4.5) -> 4.05 | P6: Total 5 | S6: =SUBTOTAL(9,S4:S5) -> 16.583333 | T6: =SUBTOTAL(9,T4:T5) -> 33.166667 | U6: 5 | V6: 110795 GIRAUD Laure JAF - Courrier Service Médiation Pénale | X6: =((HOUR(W6)*3600)+(MINUTE(W6)*60)+SECOND(W6))/60 -> 0 | Y6: =SUM(X6*2) -> 0 | Z6: 1 | AC6: =((HOUR(AB6)*3600)+(MINUTE(AB6)*60)+SECOND(AB6))/60 -> 0 | AD6: =SUM(AC6*2) -> 0 | AE6: 1 | AH6: =((HOUR(AG6)*3600)+(MINUTE(AG6)*60)+SECOND(AG6))/60 -> 0 | AI6: =SUM(AH6*2) -> 0 | AJ6: 1 | AN6: =SUM(AM6*4.5) -> 0 | AO6: 19 | AP6: ROCHE Eliane lettre Dr BLONDIN | AQ6: 0.0027314815 | AR6: =((HOUR(AQ6)*3600)+(MINUTE(AQ6)*60)+SECOND(AQ6))/60 -> 3.9333333 | AS6: =SUM(AR6*2) -> 7.8666667 | AT6: 1 | AW6: =((HOUR(AV6)*3600)+(MINUTE(AV6)*60)+SECOND(AV6))/60 -> 0 | AX6: =SUM(AW6*2) -> 0
A7: 1 | D7: =((HOUR(C7)*3600)+(MINUTE(C7)*60)+SECOND(C7))/60 -> 0 | E7: =SUM(D7*2) -> 0 | F7: Total 16 | I7: =SUBTOTAL(9,I6:I6) -> 0 | J7: =SUBTOTAL(9,J6:J6) -> 156.25 | K7: Total 5 | N7: =SUBTOTAL(9,N4:N6) -> 1.9 | O7: =SUBTOTAL(9,O4:O6) -> 8.55 | P7: 24 | Q7: 10247 SOMAREM Conclusions TGI | R7: 0.0054282407 | S7: =((HOUR(R7)*3600)+(MINUTE(R7)*60)+SECOND(R7))/60 -> 7.8166667 | T7: =SUM(S7*2) -> 15.633333 | U7: 5 | V7: MAZZILI Rosa - Lettre cliente | X7: =((HOUR(W7)*3600)+(MINUTE(W7)*60)+SECOND(W7))/60 -> 0 | Y7: =SUM(X7*2) -> 0 | Z7: 1 | AC7: =((HOUR(AB7)*3600)+(MINUTE(AB7)*60)+SECOND(AB7))/60 -> 0 | AD7: =SUM(AC7*2) -> 0 | AE7: 1 | AH7: =((HOUR(AG7)*3600)+(MINUTE(AG7)*60)+SECOND(AG7))/60 -> 0 | AI7: =SUM(AH7*2) -> 0 | AJ7: 1 | AN7: =SUM(AM7*4.5) -> 0 | AO7: Total 19 | AR7: =SUBTOTAL(9,AR6:AR6) -> 3.9333333 | AS7: =SUBTOTAL(9,AS6:AS6) -> 7.8666667 | AT7: 1 | AW7: =((HOUR(AV7)*3600)+(MINUTE(AV7)*60)+SECOND(AV7))/60 -> 0 | AX7: =SUM(AW7*2) -> 0
A8: 1 | D8: =((HOUR(C8)*3600)+(MINUTE(C8)*60)+SECOND(C8))/60 -> 0 | E8: =SUM(D8*2) -> 0 | F8: 19 | G8: Présence au cabinet | H8: 3.45 | J8: =SUM(H8*25) -> 86.25 | K8: 8 | L8: 362 | M8: CHAPITRE F | N8: 0.8 | O8: =SUM(N8*4.5) -> 3.6 | P8: 24 | S8: =((HOUR(R8)*3600)+(MINUTE(R8)*60)+SECOND(R8))/60 -> 0 | T8: =SUM(S8*2) -> 0 | U8: 5 | V8: Total | W8: 0.0065625 | X8: =((HOUR(W8)*3600)+(MINUTE(W8)*60)+SECOND(W8))/60 -> 9.45 | Y8: =SUM(X8*2) -> 18.9 | Z8: 1 | AC8: =((HOUR(AB8)*3600)+(MINUTE(AB8)*60)+SECOND(AB8))/60 -> 0 | AD8: =SUM(AC8*2) -> 0 | AE8: 1 | AH8: =((HOUR(AG8)*3600)+(MINUTE(AG8)*60)+SECOND(AG8))/60 -> 0 | AI8: =SUM(AH8*2) -> 0 | AJ8: 1 | AN8: =SUM(AM8*4.5) -> 0 | AO8: 21 | AP8: ANTONIADIS Anestis Lettre Dr DIAB | AQ8: 0.0032291667 | AR8: =((HOUR(AQ8)*3600)+(MINUTE(AQ8)*60)+SECOND(AQ8))/60 -> 4.65 | AS8: =SUM(AR8*2) -> 9.3 | AT8: 1 | AW8: =((HOUR(AV8)*3600)+(MINUTE(AV8)*60)+SECOND(AV8))/60 -> 0 | AX8: =SUM(AW8*2) -> 0
A9: 1 | D9: =((HOUR(C9)*3600)+(MINUTE(C9)*60)+SECOND(C9))/60 -> 0 | E9: =SUM(D9*2) -> 0 | F9: Total 19 | I9: =SUBTOTAL(9,I8:I8) -> 0 | J9: =SUBTOTAL(9,J8:J8) -> 86.25 | K9: Total 8 | N9: =SUBTOTAL(9,N8:N8) -> 0.8 | O9: =SUBTOTAL(9,O8:O8) -> 3.6 | P9: 24 | S9: =((HOUR(R9)*3600)+(MINUTE(R9)*60)+SECOND(R9))/60 -> 0 | T9: =SUM(S9*2) -> 0 | U9: Total 5 | X9: =SUBTOTAL(9,X4:X8) -> 9.45 | Y9: =SUBTOTAL(9,Y4:Y8) -> 18.9 | Z9: 1 | AC9: =((HOUR(AB9)*3600)+(MINUTE(AB9)*60)+SECOND(AB9))/60 -> 0 | AD9: =SUM(AC9*2) -> 0 | AE9: 1 | AH9: =((HOUR(AG9)*3600)+(MINUTE(AG9)*60)+SECOND(AG9))/60 -> 0 | AI9: =SUM(AH9*2) -> 0 | AJ9: 1 | AN9: =SUM(AM9*4.5) -> 0 | AO9: 21 | AP9: CHARLES-BERNARD Michel lettre Dr SAEZ | AQ9: 0.0025462963 | AR9: =((HOUR(AQ9)*3600)+(MINUTE(AQ9)*60)+SECOND(AQ9))/60 -> 3.6666667 | AS9: =SUM(AR9*2) -> 7.3333333 | AT9: 1 | AW9: =((HOUR(AV9)*3600)+(MINUTE(AV9)*60)+SECOND(AV9))/60 -> 0 | AX9: =SUM(AW9*2) -> 0
A10: 1 | D10: =((HOUR(C10)*3600)+(MINUTE(C10)*60)+SECOND(C10))/60 -> 0 | E10: =SUM(D10*2) -> 0 | F10: 20 | G10: Présence au cabinet | H10: 4 | J10: =SUM(H10*25) -> 100 | K10: 9 | L10: PERSO | M10: Liste-3 | N10: 0.7 | O10: =SUM(N10*4.5) -> 3.15 | P10: 24 | S10: =((HOUR(R10)*3600)+(MINUTE(R10)*60)+SECOND(R10))/60 -> 0 | T10: =SUM(S10*2) -> 0 | U10: 9 | V10: 111841 - POLOTTI c. MICHON DU MARAIS - Courrier confrère | X10: =((HOUR(W10)*3600)+(MINUTE(W10)*60)+SECOND(W10))/60 -> 0 | Y10: =SUM(X10*2) -> 0 | Z10: 1 | AC10: =((HOUR(AB10)*3600)+(MINUTE(AB10)*60)+SECOND(AB10))/60 -> 0 | AD10: =SUM(AC10*2) -> 0 | AE10: 1 | AH10: =((HOUR(AG10)*3600)+(MINUTE(AG10)*60)+SECOND(AG10))/60 -> 0 | AI10: =SUM(AH10*2) -> 0 | AJ10: 1 | AN10: =SUM(AM10*4.5) -> 0 | AO10: 21 | AP10: MILLET Raphaël lettre Dr PHILIPPE | AQ10: 0.0020023148 | AR10: =((HOUR(AQ10)*3600)+(MINUTE(AQ10)*60)+SECOND(AQ10))/60 -> 2.8833333 | AS10: =SUM(AR10*2) -> 5.7666667 | AT10: 1 | AW10: =((HOUR(AV10)*3600)+(MINUTE(AV10)*60)+SECOND(AV10))/60 -> 0 | AX10: =SUM(AW10*2) -> 0
A11: 1 | D11: =((HOUR(C11)*3600)+(MINUTE(C11)*60)+SECOND(C11))/60 -> 0 | E11: =SUM(D11*2) -> 0 | F11: Total 20 | I11: =SUBTOTAL(9,I10:I10) -> 0 | J11: =SUBTOTAL(9,J10:J10) -> 100 | K11: Total 9 | N11: =SUBTOTAL(9,N10:N10) -> 0.7 | O11: =SUBTOTAL(9,O10:O10) -> 3.15 | P11: 24 | S11: =((HOUR(R11)*3600)+(MINUTE(R11)*60)+SECOND(R11))/60 -> 0 | T11: =SUM(S11*2) -> 0 | U11: 9 | V11: 111841 - POLOTTI c. MICHON DU MARAIS - BCP | X11: =((HOUR(W11)*3600)+(MINUTE(W11)*60)+SECOND(W11))/60 -> 0 | Y11: =SUM(X11*2) -> 0 | Z11: 1 | AC11: =((HOUR(AB11)*3600)+(MINUTE(AB11)*60)+SECOND(AB11))/60 -> 0 | AD11: =SUM(AC11*2) -> 0 | AE11: 1 | AH11: =((HOUR(AG11)*3600)+(MINUTE(AG11)*60)+SECOND(AG11))/60 -> 0 | AI11: =SUM(AH11*2) -> 0 | AJ11: 1 | AN11: =SUM(AM11*4.5) -> 0 | AO11: Total 21 | AR11: =SUBTOTAL(9,AR8:AR10) -> 11.2 | AS11: =SUBTOTAL(9,AS8:AS10) -> 22.4 | AT11: 1 | AW11: =((HOUR(AV11)*3600)+(MINUTE(AV11)*60)+SECOND(AV11))/60 -> 0 | AX11: =SUM(AW11*2) -> 0
A12: Total 1 | D12: =SUBTOTAL(9,D4:D11) -> 0 | E12: =SUBTOTAL(9,E4:E11) -> 0 | F12: 21 | G12: Présence au cabinet | H12: 4 | J12: =SUM(H12*25) -> 100 | K12: 16 | L12: 373 | M12: Lettre Me GUITTET-1 | N12: 1.5 | O12: =SUM(N12*4.5) -> 6.75 | P12: 24 | S12: =((HOUR(R12)*3600)+(MINUTE(R12)*60)+SECOND(R12))/60 -> 0 | T12: =SUM(S12*2) -> 0 | U12: 9 | V12: 111818 - PROMO RESIDENCE c. RES LES 4 VALLEES - Courrier TC | X12: =((HOUR(W12)*3600)+(MINUTE(W12)*60)+SECOND(W12))/60 -> 0 | Y12: =SUM(X12*2) -> 0 | Z12: Total 1 | AC12: =SUBTOTAL(9,AC4:AC11) -> 0 | AD12: =SUBTOTAL(9,AD4:AD11) -> 0 | AE12: Total 1 | AH12: =SUBTOTAL(9,AH4:AH11) -> 0 | AI12: =SUBTOTAL(9,AI4:AI11) -> 0 | AJ12: Total 1 | AM12: =SUBTOTAL(9,AM4:AM11) -> 0 | AN12: =SUBTOTAL(9,AN4:AN11) -> 0 | AO12: 22 | AP12: LAMOURET Robert lettre Dr PISON | AQ12: 0.0024421296 | AR12: =((HOUR(AQ12)*3600)+(MINUTE(AQ12)*60)+SECOND(AQ12))/60 -> 3.5166667 | AS12: =SUM(AR12*2) -> 7.0333333 | AT12: Total 1 | AW12: =SUBTOTAL(9,AW4:AW11) -> 0 | AX12: =SUBTOTAL(9,AX4:AX11) -> 0
A13: 2 | D13: =((HOUR(C13)*3600)+(MINUTE(C13)*60)+SECOND(C13))/60 -> 0 | E13: =SUM(D13*2) -> 0 | F13: Total 21 | I13: =SUBTOTAL(9,I12:I12) -> 0 | J13: =SUBTOTAL(9,J12:J12) -> 100 | K13: 16 | L13: 371 | M13: FRAPPE-1 | N13: 1.5 | O13: =SUM(N13*4.5) -> 6.75 | P13: 24 | S13: =((HOUR(R13)*3600)+(MINUTE(R13)*60)+SECOND(R13))/60 -> 0 | T13: =SUM(S13*2) -> 0 | U13: 9 | V13: Total | W13: 0.0048032407 | X13: =((HOUR(W13)*3600)+(MINUTE(W13)*60)+SECOND(W13))/60 -> 6.9166667 | Y13: =SUM(X13*2) -> 13.833333 | Z13: 2 | AC13: =((HOUR(AB13)*3600)+(MINUTE(AB13)*60)+SECOND(AB13))/60 -> 0 | AD13: =SUM(AC13*2) -> 0 | AE13: 2 | AH13: =((HOUR(AG13)*3600)+(MINUTE(AG13)*60)+SECOND(AG13))/60 -> 0 | AI13: =SUM(AH13*2) -> 0 | AJ13: 2 | AN13: =SUM(AM13*4.5) -> 0 | AO13: 22 | AP13: INGARGIOLA Marcelle Lettre Dr AGUILANIU | AQ13: 0.0020717593 | AR13: =((HOUR(AQ13)*3600)+(MINUTE(AQ13)*60)+SECOND(AQ13))/60 -> 2.9833333 | AS13: =SUM(AR13*2) -> 5.9666667 | AT13: 2 | AW13: =((HOUR(AV13)*3600)+(MINUTE(AV13)*60)+SECOND(AV13))/60 -> 0 | AX13: =SUM(AW13*2) -> 0
A14: 2 | D14: =((HOUR(C14)*3600)+(MINUTE(C14)*60)+SECOND(C14))/60 -> 0 | E14: =SUM(D14*2) -> 0 | F14: 22 | G14: Présence au cabinet | H14: 5.5 | J14: =SUM(H14*25) -> 137.5 | K14: Total 16 | N14: =SUBTOTAL(9,N12:N13) -> 3 | O14: =SUBTOTAL(9,O12:O13) -> 13.5 | P14: 24 | S14: =((HOUR(R14)*3600)+(MINUTE(R14)*60)+SECOND(R14))/60 -> 0 | T14: =SUM(S14*2) -> 0 | U14: Total 9 | X14: =SUBTOTAL(9,X10:X13) -> 6.9166667 | Y14: =SUBTOTAL(9,Y10:Y13) -> 13.833333 | Z14: 2 | AC14: =((HOUR(AB14)*3600)+(MINUTE(AB14)*60)+SECOND(AB14))/60 -> 0 | AD14: =SUM(AC14*2) -> 0 | AE14: 2 | AH14: =((HOUR(AG14)*3600)+(MINUTE(AG14)*60)+SECOND(AG14))/60 -> 0 | AI14: =SUM(AH14*2) -> 0 | AJ14: 2 | AN14: =SUM(AM14*4.5) -> 0 | AO14: 22 | AP14: INGARGIOLA Marcelle Lettre Dr PICHOT | AT14: 2 | AW14: =((HOUR(AV14)*3600)+(MINUTE(AV14)*60)+SECOND(AV14))/60 -> 0 | AX14: =SUM(AW14*2) -> 0
A15: 2 | D15: =((HOUR(C15)*3600)+(MINUTE(C15)*60)+SECOND(C15))/60 -> 0 | E15: =SUM(D15*2) -> 0 | F15: Total 22 | I15: =SUBTOTAL(9,I14:I14) -> 0 | J15: =SUBTOTAL(9,J14:J14) -> 137.5 | K15: 17 | L15: 371 | M15: FRAPPE-2 | N15: 0.3 | O15: =SUM(N15*4.5) -> 1.35 | P15: Total 24 | S15: =SUBTOTAL(9,S7:S14) -> 7.8166667 | T15: =SUBTOTAL(9,T7:T14) -> 15.633333 | U15: 10 | V15: 111841 - POLOTTI c. MICHON DU MARAIS - Conclusions rép | W15: 0.0049305556 | X15: =((HOUR(W15)*3600)+(MINUTE(W15)*60)+SECOND(W15))/60 -> 7.1 | Y15: =SUM(X15*2) -> 14.2 | Z15: 2 | AC15: =((HOUR(AB15)*3600)+(MINUTE(AB15)*60)+SECOND(AB15))/60 -> 0 | AD15: =SUM(AC15*2) -> 0 | AE15: 2 | AH15: =((HOUR(AG15)*3600)+(MINUTE(AG15)*60)+SECOND(AG15))/60 -> 0 | AI15: =SUM(AH15*2) -> 0 | AJ15: 2 | AN15: =SUM(AM15*4.5) -> 0 | AO15: Total 22 | AR15: =SUBTOTAL(9,AR12:AR14) -> 6.5 | AS15: =SUBTOTAL(9,AS12:AS14) -> 13 | AT15: 2 | AW15: =((HOUR(AV15)*3600)+(MINUTE(AV15)*60)+SECOND(AV15))/60 -> 0 | AX15: =SUM(AW15*2) -> 0
A16: 2 | D16: =((HOUR(C16)*3600)+(MINUTE(C16)*60)+SECOND(C16))/60 -> 0 | E16: =SUM(D16*2) -> 0 | F16: 23 | G16: Présence au cabinet | K16: Total 17 | N16: =SUBTOTAL(9,N15:N15) -> 0.3 | O16: =SUBTOTAL(9,O15:O15) -> 1.35 | P16: 25 | S16: =((HOUR(R16)*3600)+(MINUTE(R16)*60)+SECOND(R16))/60 -> 0 | T16: =SUM(S16*2) -> 0 | U16: Total 10 | X16: =SUBTOTAL(9,X15:X15) -> 7.1 | Y16: =SUBTOTAL(9,Y15:Y15) -> 14.2 | Z16: 2 | AC16: =((HOUR(AB16)*3600)+(MINUTE(AB16)*60)+SECOND(AB16))/60 -> 0 | AD16: =SUM(AC16*2) -> 0 | AE16: 2 | AH16: =((HOUR(AG16)*3600)+(MINUTE(AG16)*60)+SECOND(AG16))/60 -> 0 | AI16: =SUM(AH16*2) -> 0 | AJ16: 2 | AN16: =SUM(AM16*4.5) -> 0 | AO16: 23 | AP16: JEZEQUEL Françoise lettre Dr ORMIERES | AQ16: 0.0014467593 | AR16: =((HOUR(AQ16)*3600)+(MINUTE(AQ16)*60)+SECOND(AQ16))/60 -> 2.0833333 | AS16: =SUM(AR16*2) -> 4.1666667 | AT16: 2 | AW16: =((HOUR(AV16)*3600)+(MINUTE(AV16)*60)+SECOND(AV16))/60 -> 0 | AX16: =SUM(AW16*2) -> 0
A17: 2 | D17: =((HOUR(C17)*3600)+(MINUTE(C17)*60)+SECOND(C17))/60 -> 0 | E17: =SUM(D17*2) -> 0 | F17: 23 | G17: PIQUARD 02011190 conclusions.doc | I17: =((HOUR(H17)*3600)+(MINUTE(H17)*60)+SECOND(H17))/60 -> 0 | J17: =SUM(I17*2.5) -> 0 | K17: 19 | L17: PERSO | M17: Lettre-4 | N17: 0.8 | O17: =SUM(N17*4.5) -> 3.6 | P17: 25 | S17: =((HOUR(R17)*3600)+(MINUTE(R17)*60)+SECOND(R17))/60 -> 0 | T17: =SUM(S17*2) -> 0 | U17: 17 | V17: 110788 SAUNIER DUVAL c. KALFRISA - Courrier confrère | X17: =((HOUR(W17)*3600)+(MINUTE(W17)*60)+SECOND(W17))/60 -> 0 | Y17: =SUM(X17*2) -> 0 | Z17: 2 | AC17: =((HOUR(AB17)*3600)+(MINUTE(AB17)*60)+SECOND(AB17))/60 -> 0 | AD17: =SUM(AC17*2) -> 0 | AE17: 2 | AH17: =((HOUR(AG17)*3600)+(MINUTE(AG17)*60)+SECOND(AG17))/60 -> 0 | AI17: =SUM(AH17*2) -> 0 | AJ17: 2 | AN17: =SUM(AM17*4.5) -> 0 | AO17: 23 | AR17: =((HOUR(AQ17)*3600)+(MINUTE(AQ17)*60)+SECOND(AQ17))/60 -> 0 | AS17: =SUM(AR17*2) -> 0 | AT17: 2 | AW17: =((HOUR(AV17)*3600)+(MINUTE(AV17)*60)+SECOND(AV17))/60 -> 0 | AX17: =SUM(AW17*2) -> 0
A18: 2 | D18: =((HOUR(C18)*3600)+(MINUTE(C18)*60)+SECOND(C18))/60 -> 0 | E18: =SUM(D18*2) -> 0 | F18: 23 | G18: PIQUARD 02011190 Courrier cliente | I18: =((HOUR(H18)*3600)+(MINUTE(H18)*60)+SECOND(H18))/60 -> 0 | J18: =SUM(I18*2.5) -> 0 | K18: 19 | L18: 368 | M18: NOTE N° X | N18: 0.8 | O18: =SUM(N18*4.5) -> 3.6 | P18: 25 | S18: =((HOUR(R18)*3600)+(MINUTE(R18)*60)+SECOND(R18))/60 -> 0 | T18: =SUM(S18*2) -> 0 | U18: 17 | V18: CALIN Alexe BEBE - Courrier Procureur | X18: =((HOUR(W18)*3600)+(MINUTE(W18)*60)+SECOND(W18))/60 -> 0 | Y18: =SUM(X18*2) -> 0 | Z18: 2 | AC18: =((HOUR(AB18)*3600)+(MINUTE(AB18)*60)+SECOND(AB18))/60 -> 0 | AD18: =SUM(AC18*2) -> 0 | AE18: 2 | AH18: =((HOUR(AG18)*3600)+(MINUTE(AG18)*60)+SECOND(AG18))/60 -> 0 | AI18: =SUM(AH18*2) -> 0 | AJ18: 2 | AN18: =SUM(AM18*4.5) -> 0 | AO18: 23 | AR18: =((HOUR(AQ18)*3600)+(MINUTE(AQ18)*60)+SECOND(AQ18))/60 -> 0 | AS18: =SUM(AR18*2) -> 0 | AT18: 2 | AW18: =((HOUR(AV18)*3600)+(MINUTE(AV18)*60)+SECOND(AV18))/60 -> 0 | AX18: =SUM(AW18*2) -> 0
A19: 2 | D19: =((HOUR(C19)*3600)+(MINUTE(C19)*60)+SECOND(C19))/60 -> 0 | E19: =SUM(D19*2) -> 0 | F19: 23 | G19: Total dossier PIQUARD | H19: 0.012627315 | I19: =((HOUR(H19)*3600)+(MINUTE(H19)*60)+SECOND(H19))/60 -> 18.183333 | J19: =SUM(I19*2.5) -> 45.458333 | K19: 19 | L19: 365 | M19: NOTE N° X | N19: 2.8 | O19: =SUM(N19*4.5) -> 12.6 | P19: 25 | S19: =((HOUR(R19)*3600)+(MINUTE(R19)*60)+SECOND(R19))/60 -> 0 | T19: =SUM(S19*2) -> 0 | U19: 17 | V19: Total | W19: 0.0033796296 | X19: =((HOUR(W19)*3600)+(MINUTE(W19)*60)+SECOND(W19))/60 -> 4.8666667 | Y19: =SUM(X19*2) -> 9.7333333 | Z19: 2 | AC19: =((HOUR(AB19)*3600)+(MINUTE(AB19)*60)+SECOND(AB19))/60 -> 0 | AD19: =SUM(AC19*2) -> 0 | AE19: 2 | AH19: =((HOUR(AG19)*3600)+(MINUTE(AG19)*60)+SECOND(AG19))/60 -> 0 | AI19: =SUM(AH19*2) -> 0 | AJ19: 2 | AN19: =SUM(AM19*4.5) -> 0 | AO19: 23 | AR19: =((HOUR(AQ19)*3600)+(MINUTE(AQ19)*60)+SECOND(AQ19))/60 -> 0 | AS19: =SUM(AR19*2) -> 0 | AT19: 2 | AW19: =((HOUR(AV19)*3600)+(MINUTE(AV19)*60)+SECOND(AV19))/60 -> 0 | AX19: =SUM(AW19*2) -> 0
A20: 2 | D20: =((HOUR(C20)*3600)+(MINUTE(C20)*60)+SECOND(C20))/60 -> 0 | E20: =SUM(D20*2) -> 0 | F20: Total 23 | I20: =SUBTOTAL(9,I17:I19) -> 18.183333 | J20: =SUBTOTAL(9,J17:J19) -> 45.458333 | K20: Total 19 | N20: =SUBTOTAL(9,N17:N19) -> 4.4 | O20: =SUBTOTAL(9,O17:O19) -> 19.8 | P20: 25 | S20: =((HOUR(R20)*3600)+(MINUTE(R20)*60)+SECOND(R20))/60 -> 0 | T20: =SUM(S20*2) -> 0 | U20: 17 | V20: 111816 CAVOLI c. DUVERNEY-PRET - Conclusions | W20: 0.0062037037 | X20: =((HOUR(W20)*3600)+(MINUTE(W20)*60)+SECOND(W20))/60 -> 8.9333333 | Y20: =SUM(X20*2) -> 17.866667 | Z20: 2 | AC20: =((HOUR(AB20)*3600)+(MINUTE(AB20)*60)+SECOND(AB20))/60 -> 0 | AD20: =SUM(AC20*2) -> 0 | AE20: 2 | AH20: =((HOUR(AG20)*3600)+(MINUTE(AG20)*60)+SECOND(AG20))/60 -> 0 | AI20: =SUM(AH20*2) -> 0 | AJ20: 2 | AN20: =SUM(AM20*4.5) -> 0 | AO20: 23 | AR20: =((HOUR(AQ20)*3600)+(MINUTE(AQ20)*60)+SECOND(AQ20))/60 -> 0 | AS20: =SUM(AR20*2) -> 0 | AT20: 2 | AW20: =((HOUR(AV20)*3600)+(MINUTE(AV20)*60)+SECOND(AV20))/60 -> 0 | AX20: =SUM(AW20*2) -> 0
A21: Total 2 | D21: =SUBTOTAL(9,D13:D20) -> 0 | E21: =SUBTOTAL(9,E13:E20) -> 0 | F21: 24 | G21: 02010261 RIVART Conclusions réplique | I21: =((HOUR(H21)*3600)+(MINUTE(H21)*60)+SECOND(H21))/60 -> 0 | J21: =SUM(I21*2.5) -> 0 | K21: 22 | L21: 371 | M21: Lettre-1 | N21: 1.5 | O21: =SUM(N21*4.5) -> 6.75 | P21: 25 | S21: =((HOUR(R21)*3600)+(MINUTE(R21)*60)+SECOND(R21))/60 -> 0 | T21: =SUM(S21*2) -> 0 | U21: Total 17 | X21: =SUBTOTAL(9,X17:X20) -> 13.8 | Y21: =SUBTOTAL(9,Y17:Y20) -> 27.6 | Z21: Total 2 | AC21: =SUBTOTAL(9,AC13:AC20) -> 0 | AD21: =SUBTOTAL(9,AD13:AD20) -> 0 | AE21: Total 2 | AH21: =SUBTOTAL(9,AH13:AH20) -> 0 | AI21: =SUBTOTAL(9,AI13:AI20) -> 0 | AJ21: Total 2 | AM21: =SUBTOTAL(9,AM13:AM20) -> 0 | AN21: =SUBTOTAL(9,AN13:AN20) -> 0 | AO21: 23 | AR21: =((HOUR(AQ21)*3600)+(MINUTE(AQ21)*60)+SECOND(AQ21))/60 -> 0 | AS21: =SUM(AR21*2) -> 0 | AT21: Total 2 | AW21: =SUBTOTAL(9,AW13:AW20) -> 0 | AX21: =SUBTOTAL(9,AX13:AX20) -> 0
A22: 3 | D22: =((HOUR(C22)*3600)+(MINUTE(C22)*60)+SECOND(C22))/60 -> 0 | E22: =SUM(D22*2) -> 0 | F22: 24 | G22: 02010261 RIVART Courrier cliente | I22: =((HOUR(H22)*3600)+(MINUTE(H22)*60)+SECOND(H22))/60 -> 0 | J22: =SUM(I22*2.5) -> 0 | K22: 22 | O22: =SUM(N22*4.5) -> 0 | P22: 25 | S22: =((HOUR(R22)*3600)+(MINUTE(R22)*60)+SECOND(R22))/60 -> 0 | T22: =SUM(S22*2) -> 0 | U22: 18 | X22: =((HOUR(W22)*3600)+(MINUTE(W22)*60)+SECOND(W22))/60 -> 0 | Y22: =SUM(X22*2) -> 0 | Z22: 3 | AC22: =((HOUR(AB22)*3600)+(MINUTE(AB22)*60)+SECOND(AB22))/60 -> 0 | AD22: =SUM(AC22*2) -> 0 | AE22: 3 | AH22: =((HOUR(AG22)*3600)+(MINUTE(AG22)*60)+SECOND(AG22))/60 -> 0 | AI22: =SUM(AH22*2) -> 0 | AJ22: 3 | AN22: =SUM(AM22*4.5) -> 0 | AO22: 23 | AR22: =((HOUR(AQ22)*3600)+(MINUTE(AQ22)*60)+SECOND(AQ22))/60 -> 0 | AS22: =SUM(AR22*2) -> 0 | AT22: 3 | AW22: =((HOUR(AV22)*3600)+(MINUTE(AV22)*60)+SECOND(AV22))/60 -> 0 | AX22: =SUM(AW22*2) -> 0
A23: 3 | D23: =((HOUR(C23)*3600)+(MINUTE(C23)*60)+SECOND(C23))/60 -> 0 | E23: =SUM(D23*2) -> 0 | F23: 24 | G23: 02010261 RIVART Courrier confrère | I23: =((HOUR(H23)*3600)+(MINUTE(H23)*60)+SECOND(H23))/60 -> 0 | J23: =SUM(I23*2.5) -> 0 | K23: 22 | O23: =SUM(N23*4.5) -> 0 | P23: 25 | S23: =((HOUR(R23)*3600)+(MINUTE(R23)*60)+SECOND(R23))/60 -> 0 | T23: =SUM(S23*2) -> 0 | U23: 18 | X23: =((HOUR(W23)*3600)+(MINUTE(W23)*60)+SECOND(W23))/60 -> 0 | Y23: =SUM(X23*2) -> 0 | Z23: 3 | AC23: =((HOUR(AB23)*3600)+(MINUTE(AB23)*60)+SECOND(AB23))/60 -> 0 | AD23: =SUM(AC23*2) -> 0 | AE23: 3 | AH23: =((HOUR(AG23)*3600)+(MINUTE(AG23)*60)+SECOND(AG23))/60 -> 0 | AI23: =SUM(AH23*2) -> 0 | AJ23: 3 | AN23: =SUM(AM23*4.5) -> 0 | AO23: 23 | AR23: =((HOUR(AQ23)*3600)+(MINUTE(AQ23)*60)+SECOND(AQ23))/60 -> 0 | AS23: =SUM(AR23*2) -> 0 | AT23: 3 | AW23: =((HOUR(AV23)*3600)+(MINUTE(AV23)*60)+SECOND(AV23))/60 -> 0 | AX23: =SUM(AW23*2) -> 0
A24: 3 | D24: =((HOUR(C24)*3600)+(MINUTE(C24)*60)+SECOND(C24))/60 -> 0 | E24: =SUM(D24*2) -> 0 | F24: 24 | G24: 02010261 RIVART Courrier TI | I24: =((HOUR(H24)*3600)+(MINUTE(H24)*60)+SECOND(H24))/60 -> 0 | J24: =SUM(I24*2.5) -> 0 | K24: 22 | O24: =SUM(N24*4.5) -> 0 | P24: Total 25 | S24: =SUBTOTAL(9,S16:S23) -> 0 | T24: =SUBTOTAL(9,T16:T23) -> 0 | U24: 18 | X24: =((HOUR(W24)*3600)+(MINUTE(W24)*60)+SECOND(W24))/60 -> 0 | Y24: =SUM(X24*2) -> 0 | Z24: 3 | AC24: =((HOUR(AB24)*3600)+(MINUTE(AB24)*60)+SECOND(AB24))/60 -> 0 | AD24: =SUM(AC24*2) -> 0 | AE24: 3 | AH24: =((HOUR(AG24)*3600)+(MINUTE(AG24)*60)+SECOND(AG24))/60 -> 0 | AI24: =SUM(AH24*2) -> 0 | AJ24: 3 | AN24: =SUM(AM24*4.5) -> 0 | AO24: Total 23 | AR24: =SUBTOTAL(9,AR16:AR23) -> 2.0833333 | AS24: =SUBTOTAL(9,AS16:AS23) -> 4.1666667 | AT24: 3 | AW24: =((HOUR(AV24)*3600)+(MINUTE(AV24)*60)+SECOND(AV24))/60 -> 0 | AX24: =SUM(AW24*2) -> 0
A25: 3 | D25: =((HOUR(C25)*3600)+(MINUTE(C25)*60)+SECOND(C25))/60 -> 0 | E25: =SUM(D25*2) -> 0 | F25: 24 | G25: Total dossier RIVART | H25: 0.005775463 | I25: =((HOUR(H25)*3600)+(MINUTE(H25)*60)+SECOND(H25))/60 -> 8.3166667 | J25: =SUM(I25*2.5) -> 20.791667 | K25: 22 | O25: =SUM(N25*4.5) -> 0 | P25: 26 | S25: =((HOUR(R25)*3600)+(MINUTE(R25)*60)+SECOND(R25))/60 -> 0 | T25: =SUM(S25*2) -> 0 | U25: 18 | X25: =((HOUR(W25)*3600)+(MINUTE(W25)*60)+SECOND(W25))/60 -> 0 | Y25: =SUM(X25*2) -> 0 | Z25: 3 | AC25: =((HOUR(AB25)*3600)+(MINUTE(AB25)*60)+SECOND(AB25))/60 -> 0 | AD25: =SUM(AC25*2) -> 0 | AE25: 3 | AH25: =((HOUR(AG25)*3600)+(MINUTE(AG25)*60)+SECOND(AG25))/60 -> 0 | AI25: =SUM(AH25*2) -> 0 | AJ25: 3 | AN25: =SUM(AM25*4.5) -> 0 | AO25: 24 | AR25: =((HOUR(AQ25)*3600)+(MINUTE(AQ25)*60)+SECOND(AQ25))/60 -> 0 | AS25: =SUM(AR25*2) -> 0 | AT25: 3 | AW25: =((HOUR(AV25)*3600)+(MINUTE(AV25)*60)+SECOND(AV25))/60 -> 0 | AX25: =SUM(AW25*2) -> 0
A26: 3 | D26: =((HOUR(C26)*3600)+(MINUTE(C26)*60)+SECOND(C26))/60 -> 0 | E26: =SUM(D26*2) -> 0 | F26: 24 | G26: 02009237 LALEVEE Courrier cliente | I26: =((HOUR(H26)*3600)+(MINUTE(H26)*60)+SECOND(H26))/60 -> 0 | J26: =SUM(I26*2.5) -> 0 | K26: 22 | O26: =SUM(N26*4.5) -> 0 | P26: 26 | S26: =((HOUR(R26)*3600)+(MINUTE(R26)*60)+SECOND(R26))/60 -> 0 | T26: =SUM(S26*2) -> 0 | U26: 18 | X26: =((HOUR(W26)*3600)+(MINUTE(W26)*60)+SECOND(W26))/60 -> 0 | Y26: =SUM(X26*2) -> 0 | Z26: 3 | AC26: =((HOUR(AB26)*3600)+(MINUTE(AB26)*60)+SECOND(AB26))/60 -> 0 | AD26: =SUM(AC26*2) -> 0 | AE26: 3 | AH26: =((HOUR(AG26)*3600)+(MINUTE(AG26)*60)+SECOND(AG26))/60 -> 0 | AI26: =SUM(AH26*2) -> 0 | AJ26: 3 | AN26: =SUM(AM26*4.5) -> 0 | AO26: 24 | AR26: =((HOUR(AQ26)*3600)+(MINUTE(AQ26)*60)+SECOND(AQ26))/60 -> 0 | AS26: =SUM(AR26*2) -> 0 | AT26: 3 | AW26: =((HOUR(AV26)*3600)+(MINUTE(AV26)*60)+SECOND(AV26))/60 -> 0 | AX26: =SUM(AW26*2) -> 0
A27: 3 | D27: =((HOUR(C27)*3600)+(MINUTE(C27)*60)+SECOND(C27))/60 -> 0 | E27: =SUM(D27*2) -> 0 | F27: 24 | G27: 02009237 LALEVEE Courrier confrère | I27: =((HOUR(H27)*3600)+(MINUTE(H27)*60)+SECOND(H27))/60 -> 0 | J27: =SUM(I27*2.5) -> 0 | K27: 22 | O27: =SUM(N27*4.5) -> 0 | P27: 26 | S27: =((HOUR(R27)*3600)+(MINUTE(R27)*60)+SECOND(R27))/60 -> 0 | T27: =SUM(S27*2) -> 0 | U27: 18 | X27: =((HOUR(W27)*3600)+(MINUTE(W27)*60)+SECOND(W27))/60 -> 0 | Y27: =SUM(X27*2) -> 0 | Z27: 3 | AC27: =((HOUR(AB27)*3600)+(MINUTE(AB27)*60)+SECOND(AB27))/60 -> 0 | AD27: =SUM(AC27*2) -> 0 | AE27: 3 | AH27: =((HOUR(AG27)*3600)+(MINUTE(AG27)*60)+SECOND(AG27))/60 -> 0 | AI27: =SUM(AH27*2) -> 0 | AJ27: 3 | AN27: =SUM(AM27*4.5) -> 0 | AO27: 24 | AR27: =((HOUR(AQ27)*3600)+(MINUTE(AQ27)*60)+SECOND(AQ27))/60 -> 0 | AS27: =SUM(AR27*2) -> 0 | AT27: 3 | AW27: =((HOUR(AV27)*3600)+(MINUTE(AV27)*60)+SECOND(AV27))/60 -> 0 | AX27: =SUM(AW27*2) -> 0
A28: 3 | D28: =((HOUR(C28)*3600)+(MINUTE(C28)*60)+SECOND(C28))/60 -> 0 | E28: =SUM(D28*2) -> 0 | F28: 24 | G28: Total dossier LALEVEE | H28: 0.00054398148 | I28: =((HOUR(H28)*3600)+(MINUTE(H28)*60)+SECOND(H28))/60 -> 0.78333333 | J28: =SUM(I28*2.5) -> 1.9583333 | K28: 22 | O28: =SUM(N28*4.5) -> 0 | P28: 26 | S28: =((HOUR(R28)*3600)+(MINUTE(R28)*60)+SECOND(R28))/60 -> 0 | T28: =SUM(S28*2) -> 0 | U28: 18 | X28: =((HOUR(W28)*3600)+(MINUTE(W28)*60)+SECOND(W28))/60 -> 0 | Y28: =SUM(X28*2) -> 0 | Z28: 3 | AC28: =((HOUR(AB28)*3600)+(MINUTE(AB28)*60)+SECOND(AB28))/60 -> 0 | AD28: =SUM(AC28*2) -> 0 | AE28: 3 | AH28: =((HOUR(AG28)*3600)+(MINUTE(AG28)*60)+SECOND(AG28))/60 -> 0 | AI28: =SUM(AH28*2) -> 0 | AJ28: 3 | AN28: =SUM(AM28*4.5) -> 0 | AO28: 24 | AR28: =((HOUR(AQ28)*3600)+(MINUTE(AQ28)*60)+SECOND(AQ28))/60 -> 0 | AS28: =SUM(AR28*2) -> 0 | AT28: 3 | AW28: =((HOUR(AV28)*3600)+(MINUTE(AV28)*60)+SECOND(AV28))/60 -> 0 | AX28: =SUM(AW28*2) -> 0
A29: 3 | D29: =((HOUR(C29)*3600)+(MINUTE(C29)*60)+SECOND(C29))/60 -> 0 | E29: =SUM(D29*2) -> 0 | F29: Total 24 | I29: =SUBTOTAL(9,I21:I28) -> 9.1 | J29: =SUBTOTAL(9,J21:J28) -> 22.75 | K29: Total 22 | N29: =SUBTOTAL(9,N21:N28) -> 1.5 | O29: =SUBTOTAL(9,O21:O28) -> 6.75 | P29: 26 | S29: =((HOUR(R29)*3600)+(MINUTE(R29)*60)+SECOND(R29))/60 -> 0 | T29: =SUM(S29*2) -> 0 | U29: 18 | X29: =((HOUR(W29)*3600)+(MINUTE(W29)*60)+SECOND(W29))/60 -> 0 | Y29: =SUM(X29*2) -> 0 | Z29: 3 | AC29: =((HOUR(AB29)*3600)+(MINUTE(AB29)*60)+SECOND(AB29))/60 -> 0 | AD29: =SUM(AC29*2) -> 0 | AE29: 3 | AH29: =((HOUR(AG29)*3600)+(MINUTE(AG29)*60)+SECOND(AG29))/60 -> 0 | AI29: =SUM(AH29*2) -> 0 | AJ29: 3 | AN29: =SUM(AM29*4.5) -> 0 | AO29: 24 | AR29: =((HOUR(AQ29)*3600)+(MINUTE(AQ29)*60)+SECOND(AQ29))/60 -> 0 | AS29: =SUM(AR29*2) -> 0 | AT29: 3 | AW29: =((HOUR(AV29)*3600)+(MINUTE(AV29)*60)+SECOND(AV29))/60 -> 0 | AX29: =SUM(AW29*2) -> 0
A30: Total 3 | D30: =SUBTOTAL(9,D22:D29) -> 0 | E30: =SUBTOTAL(9,E22:E29) -> 0 | F30: 25 | G30: 02010098 BAKHTI Courrier cliente | H30: 0.00046296296 | I30: =((HOUR(H30)*3600)+(MINUTE(H30)*60)+SECOND(H30))/60 -> 0.66666667 | J30: =SUM(I30*2.5) -> 1.6666667 | K30: 23 | O30: =SUM(N30*4.5) -> 0 | P30: 26 | S30: =((HOUR(R30)*3600)+(MINUTE(R30)*60)+SECOND(R30))/60 -> 0 | T30: =SUM(S30*2) -> 0 | U30: Total 18 | X30: =SUBTOTAL(9,X22:X29) -> 0 | Y30: =SUBTOTAL(9,Y22:Y29) -> 0 | Z30: Total 3 | AC30: =SUBTOTAL(9,AC22:AC29) -> 0 | AD30: =SUBTOTAL(9,AD22:AD29) -> 0 | AE30: Total 3 | AH30: =SUBTOTAL(9,AH22:AH29) -> 0 | AI30: =SUBTOTAL(9,AI22:AI29) -> 0 | AJ30: Total 3 | AM30: =SUBTOTAL(9,AM22:AM29) -> 0 | AN30: =SUBTOTAL(9,AN22:AN29) -> 0 | AO30: 24 | AR30: =((HOUR(AQ30)*3600)+(MINUTE(AQ30)*60)+SECOND(AQ30))/60 -> 0 | AS30: =SUM(AR30*2) -> 0 | AT30: Total 3 | AW30: =SUBTOTAL(9,AW22:AW29) -> 0 | AX30: =SUBTOTAL(9,AX22:AX29) -> 0
A31: 4 | D31: =((HOUR(C31)*3600)+(MINUTE(C31)*60)+SECOND(C31))/60 -> 0 | E31: =SUM(D31*2) -> 0 | F31: 25 | G31: 02010370 CHAVASSE FRETTE Courrier cliente | I31: =((HOUR(H31)*3600)+(MINUTE(H31)*60)+SECOND(H31))/60 -> 0 | J31: =SUM(I31*2.5) -> 0 | K31: 23 | O31: =SUM(N31*4.5) -> 0 | P31: 26 | S31: =((HOUR(R31)*3600)+(MINUTE(R31)*60)+SECOND(R31))/60 -> 0 | T31: =SUM(S31*2) -> 0 | U31: 19 | X31: =((HOUR(W31)*3600)+(MINUTE(W31)*60)+SECOND(W31))/60 -> 0 | Y31: =SUM(X31*2) -> 0 | Z31: 4 | AC31: =((HOUR(AB31)*3600)+(MINUTE(AB31)*60)+SECOND(AB31))/60 -> 0 | AD31: =SUM(AC31*2) -> 0 | AE31: 4 | AH31: =((HOUR(AG31)*3600)+(MINUTE(AG31)*60)+SECOND(AG31))/60 -> 0 | AI31: =SUM(AH31*2) -> 0 | AJ31: 4 | AN31: =SUM(AM31*4.5) -> 0 | AO31: 24 | AR31: =((HOUR(AQ31)*3600)+(MINUTE(AQ31)*60)+SECOND(AQ31))/60 -> 0 | AS31: =SUM(AR31*2) -> 0 | AT31: 4 | AW31: =((HOUR(AV31)*3600)+(MINUTE(AV31)*60)+SECOND(AV31))/60 -> 0 | AX31: =SUM(AW31*2) -> 0
A32: 4 | D32: =((HOUR(C32)*3600)+(MINUTE(C32)*60)+SECOND(C32))/60 -> 0 | E32: =SUM(D32*2) -> 0 | F32: 25 | G32: 02010370 CHAVASSE FRETTE Facture | I32: =((HOUR(H32)*3600)+(MINUTE(H32)*60)+SECOND(H32))/60 -> 0 | J32: =SUM(I32*2.5) -> 0 | K32: 23 | O32: =SUM(N32*4.5) -> 0 | P32: 26 | S32: =((HOUR(R32)*3600)+(MINUTE(R32)*60)+SECOND(R32))/60 -> 0 | T32: =SUM(S32*2) -> 0 | U32: 19 | X32: =((HOUR(W32)*3600)+(MINUTE(W32)*60)+SECOND(W32))/60 -> 0 | Y32: =SUM(X32*2) -> 0 | Z32: 4 | AC32: =((HOUR(AB32)*3600)+(MINUTE(AB32)*60)+SECOND(AB32))/60 -> 0 | AD32: =SUM(AC32*2) -> 0 | AE32: 4 | AH32: =((HOUR(AG32)*3600)+(MINUTE(AG32)*60)+SECOND(AG32))/60 -> 0 | AI32: =SUM(AH32*2) -> 0 | AJ32: 4 | AN32: =SUM(AM32*4.5) -> 0 | AO32: 24 | AR32: =((HOUR(AQ32)*3600)+(MINUTE(AQ32)*60)+SECOND(AQ32))/60 -> 0 | AS32: =SUM(AR32*2) -> 0 | AT32: 4 | AW32: =((HOUR(AV32)*3600)+(MINUTE(AV32)*60)+SECOND(AV32))/60 -> 0 | AX32: =SUM(AW32*2) -> 0
A33: 4 | D33: =((HOUR(C33)*3600)+(MINUTE(C33)*60)+SECOND(C33))/60 -> 0 | E33: =SUM(D33*2) -> 0 | F33: 25 | G33: Total dossier CHAVASSE-FRETTE | H33: 0.00053240741 | I33: =((HOUR(H33)*3600)+(MINUTE(H33)*60)+SECOND(H33))/60 -> 0.76666667 | J33: =SUM(I33*2.5) -> 1.9166667 | K33: 23 | O33: =SUM(N33*4.5) -> 0 | P33: Total 26 | S33: =SUBTOTAL(9,S25:S32) -> 0 | T33: =SUBTOTAL(9,T25:T32) -> 0 | U33: 19 | X33: =((HOUR(W33)*3600)+(MINUTE(W33)*60)+SECOND(W33))/60 -> 0 | Y33: =SUM(X33*2) -> 0 | Z33: 4 | AC33: =((HOUR(AB33)*3600)+(MINUTE(AB33)*60)+SECOND(AB33))/60 -> 0 | AD33: =SUM(AC33*2) -> 0 | AE33: 4 | AH33: =((HOUR(AG33)*3600)+(MINUTE(AG33)*60)+SECOND(AG33))/60 -> 0 | AI33: =SUM(AH33*2) -> 0 | AJ33: 4 | AN33: =SUM(AM33*4.5) -> 0 | AO33: Total 24 | AR33: =SUBTOTAL(9,AR25:AR32) -> 0 | AS33: =SUBTOTAL(9,AS25:AS32) -> 0 | AT33: 4 | AW33: =((HOUR(AV33)*3600)+(MINUTE(AV33)*60)+SECOND(AV33))/60 -> 0 | AX33: =SUM(AW33*2) -> 0
A34: 4 | D34: =((HOUR(C34)*3600)+(MINUTE(C34)*60)+SECOND(C34))/60 -> 0 | E34: =SUM(D34*2) -> 0 | F34: 25 | G34: 02009052 FINCK Courrier FXLM | H34: 0.00043981481 | I34: =((HOUR(H34)*3600)+(MINUTE(H34)*60)+SECOND(H34))/60 -> 0.63333333 | J34: =SUM(I34*2.5) -> 1.5833333 | K34: 23 | O34: =SUM(N34*4.5) -> 0 | P34: 27 | S34: =((HOUR(R34)*3600)+(MINUTE(R34)*60)+SECOND(R34))/60 -> 0 | T34: =SUM(S34*2) -> 0 | U34: 19 | X34: =((HOUR(W34)*3600)+(MINUTE(W34)*60)+SECOND(W34))/60 -> 0 | Y34: =SUM(X34*2) -> 0 | Z34: 4 | AC34: =((HOUR(AB34)*3600)+(MINUTE(AB34)*60)+SECOND(AB34))/60 -> 0 | AD34: =SUM(AC34*2) -> 0 | AE34: 4 | AH34: =((HOUR(AG34)*3600)+(MINUTE(AG34)*60)+SECOND(AG34))/60 -> 0 | AI34: =SUM(AH34*2) -> 0 | AJ34: 4 | AN34: =SUM(AM34*4.5) -> 0 | AO34: 25 | AR34: =((HOUR(AQ34)*3600)+(MINUTE(AQ34)*60)+SECOND(AQ34))/60 -> 0 | AS34: =SUM(AR34*2) -> 0 | AT34: 4 | AW34: =((HOUR(AV34)*3600)+(MINUTE(AV34)*60)+SECOND(AV34))/60 -> 0 | AX34: =SUM(AW34*2) -> 0
A35: 4 | D35: =((HOUR(C35)*3600)+(MINUTE(C35)*60)+SECOND(C35))/60 -> 0 | E35: =SUM(D35*2) -> 0 | F35: 25 | G35: 02009095 DESCHAMPS IMBERT Courrier cliente | H35: 0.0003587963 | I35: =((HOUR(H35)*3600)+(MINUTE(H35)*60)+SECOND(H35))/60 -> 0.51666667 | J35: =SUM(I35*2.5) -> 1.2916667 | K35: 23 | O35: =SUM(N35*4.5) -> 0 | P35: 27 | S35: =((HOUR(R35)*3600)+(MINUTE(R35)*60)+SECOND(R35))/60 -> 0 | T35: =SUM(S35*2) -> 0 | U35: 19 | X35: =((HOUR(W35)*3600)+(MINUTE(W35)*60)+SECOND(W35))/60 -> 0 | Y35: =SUM(X35*2) -> 0 | Z35: 4 | AC35: =((HOUR(AB35)*3600)+(MINUTE(AB35)*60)+SECOND(AB35))/60 -> 0 | AD35: =SUM(AC35*2) -> 0 | AE35: 4 | AH35: =((HOUR(AG35)*3600)+(MINUTE(AG35)*60)+SECOND(AG35))/60 -> 0 | AI35: =SUM(AH35*2) -> 0 | AJ35: 4 | AN35: =SUM(AM35*4.5) -> 0 | AO35: 25 | AR35: =((HOUR(AQ35)*3600)+(MINUTE(AQ35)*60)+SECOND(AQ35))/60 -> 0 | AS35: =SUM(AR35*2) -> 0 | AT35: 4 | AW35: =((HOUR(AV35)*3600)+(MINUTE(AV35)*60)+SECOND(AV35))/60 -> 0 | AX35: =SUM(AW35*2) -> 0
A36: 4 | D36: =((HOUR(C36)*3600)+(MINUTE(C36)*60)+SECOND(C36))/60 -> 0 | E36: =SUM(D36*2) -> 0 | F36: 25 | I36: =((HOUR(H36)*3600)+(MINUTE(H36)*60)+SECOND(H36))/60 -> 0 | J36: =SUM(I36*2.5) -> 0 | K36: 23 | O36: =SUM(N36*4.5) -> 0 | P36: 27 | S36: =((HOUR(R36)*3600)+(MINUTE(R36)*60)+SECOND(R36))/60 -> 0 | T36: =SUM(S36*2) -> 0 | U36: 19 | X36: =((HOUR(W36)*3600)+(MINUTE(W36)*60)+SECOND(W36))/60 -> 0 | Y36: =SUM(X36*2) -> 0 | Z36: 4 | AC36: =((HOUR(AB36)*3600)+(MINUTE(AB36)*60)+SECOND(AB36))/60 -> 0 | AD36: =SUM(AC36*2) -> 0 | AE36: 4 | AH36: =((HOUR(AG36)*3600)+(MINUTE(AG36)*60)+SECOND(AG36))/60 -> 0 | AI36: =SUM(AH36*2) -> 0 | AJ36: 4 | AN36: =SUM(AM36*4.5) -> 0 | AO36: 25 | AR36: =((HOUR(AQ36)*3600)+(MINUTE(AQ36)*60)+SECOND(AQ36))/60 -> 0 | AS36: =SUM(AR36*2) -> 0 | AT36: 4 | AW36: =((HOUR(AV36)*3600)+(MINUTE(AV36)*60)+SECOND(AV36))/60 -> 0 | AX36: =SUM(AW36*2) -> 0
A37: 4 | D37: =((HOUR(C37)*3600)+(MINUTE(C37)*60)+SECOND(C37))/60 -> 0 | E37: =SUM(D37*2) -> 0 | F37: 25 | I37: =((HOUR(H37)*3600)+(MINUTE(H37)*60)+SECOND(H37))/60 -> 0 | J37: =SUM(I37*2.5) -> 0 | K37: 23 | O37: =SUM(N37*4.5) -> 0 | P37: 27 | S37: =((HOUR(R37)*3600)+(MINUTE(R37)*60)+SECOND(R37))/60 -> 0 | T37: =SUM(S37*2) -> 0 | U37: 19 | X37: =((HOUR(W37)*3600)+(MINUTE(W37)*60)+SECOND(W37))/60 -> 0 | Y37: =SUM(X37*2) -> 0 | Z37: 4 | AC37: =((HOUR(AB37)*3600)+(MINUTE(AB37)*60)+SECOND(AB37))/60 -> 0 | AD37: =SUM(AC37*2) -> 0 | AE37: 4 | AH37: =((HOUR(AG37)*3600)+(MINUTE(AG37)*60)+SECOND(AG37))/60 -> 0 | AI37: =SUM(AH37*2) -> 0 | AJ37: 4 | AN37: =SUM(AM37*4.5) -> 0 | AO37: 25 | AR37: =((HOUR(AQ37)*3600)+(MINUTE(AQ37)*60)+SECOND(AQ37))/60 -> 0 | AS37: =SUM(AR37*2) -> 0 | AT37: 4 | AW37: =((HOUR(AV37)*3600)+(MINUTE(AV37)*60)+SECOND(AV37))/60 -> 0 | AX37: =SUM(AW37*2) -> 0
A38: 4 | D38: =((HOUR(C38)*3600)+(MINUTE(C38)*60)+SECOND(C38))/60 -> 0 | E38: =SUM(D38*2) -> 0 | F38: Total 25 | I38: =SUBTOTAL(9,I30:I37) -> 2.5833333 | J38: =SUBTOTAL(9,J30:J37) -> 6.4583333 | K38: Total 23 | N38: =SUBTOTAL(9,N30:N37) -> 0 | O38: =SUBTOTAL(9,O30:O37) -> 0 | P38: 27 | S38: =((HOUR(R38)*3600)+(MINUTE(R38)*60)+SECOND(R38))/60 -> 0 | T38: =SUM(S38*2) -> 0 | U38: 19 | X38: =((HOUR(W38)*3600)+(MINUTE(W38)*60)+SECOND(W38))/60 -> 0 | Y38: =SUM(X38*2) -> 0 | Z38: 4 | AC38: =((HOUR(AB38)*3600)+(MINUTE(AB38)*60)+SECOND(AB38))/60 -> 0 | AD38: =SUM(AC38*2) -> 0 | AE38: 4 | AH38: =((HOUR(AG38)*3600)+(MINUTE(AG38)*60)+SECOND(AG38))/60 -> 0 | AI38: =SUM(AH38*2) -> 0 | AJ38: 4 | AN38: =SUM(AM38*4.5) -> 0 | AO38: 25 | AR38: =((HOUR(AQ38)*3600)+(MINUTE(AQ38)*60)+SECOND(AQ38))/60 -> 0 | AS38: =SUM(AR38*2) -> 0 | AT38: 4 | AW38: =((HOUR(AV38)*3600)+(MINUTE(AV38)*60)+SECOND(AV38))/60 -> 0 | AX38: =SUM(AW38*2) -> 0
A39: Total 4 | D39: =SUBTOTAL(9,D31:D38) -> 0 | E39: =SUBTOTAL(9,E31:E38) -> 0 | F39: 26 | I39: =((HOUR(H39)*3600)+(MINUTE(H39)*60)+SECOND(H39))/60 -> 0 | J39: =SUM(I39*2.5) -> 0 | K39: 24 | O39: =SUM(N39*4.5) -> 0 | P39: 27 | S39: =((HOUR(R39)*3600)+(MINUTE(R39)*60)+SECOND(R39))/60 -> 0 | T39: =SUM(S39*2) -> 0 | U39: Total 19 | X39: =SUBTOTAL(9,X31:X38) -> 0 | Y39: =SUBTOTAL(9,Y31:Y38) -> 0 | Z39: Total 4 | AC39: =SUBTOTAL(9,AC31:AC38) -> 0 | AD39: =SUBTOTAL(9,AD31:AD38) -> 0 | AE39: Total 4 | AH39: =SUBTOTAL(9,AH31:AH38) -> 0 | AI39: =SUBTOTAL(9,AI31:AI38) -> 0 | AJ39: Total 4 | AM39: =SUBTOTAL(9,AM31:AM38) -> 0 | AN39: =SUBTOTAL(9,AN31:AN38) -> 0 | AO39: 25 | AR39: =((HOUR(AQ39)*3600)+(MINUTE(AQ39)*60)+SECOND(AQ39))/60 -> 0 | AS39: =SUM(AR39*2) -> 0 | AT39: Total 4 | AW39: =SUBTOTAL(9,AW31:AW38) -> 0 | AX39: =SUBTOTAL(9,AX31:AX38) -> 0
A40: 5 | D40: =((HOUR(C40)*3600)+(MINUTE(C40)*60)+SECOND(C40))/60 -> 0 | E40: =SUM(D40*2) -> 0 | F40: 26 | I40: =((HOUR(H40)*3600)+(MINUTE(H40)*60)+SECOND(H40))/60 -> 0 | J40: =SUM(I40*2.5) -> 0 | K40: 24 | O40: =SUM(N40*4.5) -> 0 | P40: 27 | S40: =((HOUR(R40)*3600)+(MINUTE(R40)*60)+SECOND(R40))/60 -> 0 | T40: =SUM(S40*2) -> 0 | U40: 20 | X40: =((HOUR(W40)*3600)+(MINUTE(W40)*60)+SECOND(W40))/60 -> 0 | Y40: =SUM(X40*2) -> 0 | Z40: 5 | AC40: =((HOUR(AB40)*3600)+(MINUTE(AB40)*60)+SECOND(AB40))/60 -> 0 | AD40: =SUM(AC40*2) -> 0 | AE40: 5 | AH40: =((HOUR(AG40)*3600)+(MINUTE(AG40)*60)+SECOND(AG40))/60 -> 0 | AI40: =SUM(AH40*2) -> 0 | AJ40: 5 | AN40: =SUM(AM40*4.5) -> 0 | AO40: 25 | AR40: =((HOUR(AQ40)*3600)+(MINUTE(AQ40)*60)+SECOND(AQ40))/60 -> 0 | AS40: =SUM(AR40*2) -> 0 | AT40: 5 | AW40: =((HOUR(AV40)*3600)+(MINUTE(AV40)*60)+SECOND(AV40))/60 -> 0 | AX40: =SUM(AW40*2) -> 0
A41: 5 | D41: =((HOUR(C41)*3600)+(MINUTE(C41)*60)+SECOND(C41))/60 -> 0 | E41: =SUM(D41*2) -> 0 | F41: 26 | I41: =((HOUR(H41)*3600)+(MINUTE(H41)*60)+SECOND(H41))/60 -> 0 | J41: =SUM(I41*2.5) -> 0 | K41: 24 | O41: =SUM(N41*4.5) -> 0 | P41: 27 | S41: =((HOUR(R41)*3600)+(MINUTE(R41)*60)+SECOND(R41))/60 -> 0 | T41: =SUM(S41*2) -> 0 | U41: 20 | X41: =((HOUR(W41)*3600)+(MINUTE(W41)*60)+SECOND(W41))/60 -> 0 | Y41: =SUM(X41*2) -> 0 | Z41: 5 | AC41: =((HOUR(AB41)*3600)+(MINUTE(AB41)*60)+SECOND(AB41))/60 -> 0 | AD41: =SUM(AC41*2) -> 0 | AE41: 5 | AH41: =((HOUR(AG41)*3600)+(MINUTE(AG41)*60)+SECOND(AG41))/60 -> 0 | AI41: =SUM(AH41*2) -> 0 | AJ41: 5 | AN41: =SUM(AM41*4.5) -> 0 | AO41: 25 | AR41: =((HOUR(AQ41)*3600)+(MINUTE(AQ41)*60)+SECOND(AQ41))/60 -> 0 | AS41: =SUM(AR41*2) -> 0 | AT41: 5 | AW41: =((HOUR(AV41)*3600)+(MINUTE(AV41)*60)+SECOND(AV41))/60 -> 0 | AX41: =SUM(AW41*2) -> 0
A42: 5 | D42: =((HOUR(C42)*3600)+(MINUTE(C42)*60)+SECOND(C42))/60 -> 0 | E42: =SUM(D42*2) -> 0 | F42: 26 | I42: =((HOUR(H42)*3600)+(MINUTE(H42)*60)+SECOND(H42))/60 -> 0 | J42: =SUM(I42*2.5) -> 0 | K42: 24 | O42: =SUM(N42*4.5) -> 0 | P42: Total 27 | S42: =SUBTOTAL(9,S34:S41) -> 0 | T42: =SUBTOTAL(9,T34:T41) -> 0 | U42: 20 | X42: =((HOUR(W42)*3600)+(MINUTE(W42)*60)+SECOND(W42))/60 -> 0 | Y42: =SUM(X42*2) -> 0 | Z42: 5 | AC42: =((HOUR(AB42)*3600)+(MINUTE(AB42)*60)+SECOND(AB42))/60 -> 0 | AD42: =SUM(AC42*2) -> 0 | AE42: 5 | AH42: =((HOUR(AG42)*3600)+(MINUTE(AG42)*60)+SECOND(AG42))/60 -> 0 | AI42: =SUM(AH42*2) -> 0 | AJ42: 5 | AN42: =SUM(AM42*4.5) -> 0 | AO42: Total 25 | AR42: =SUBTOTAL(9,AR34:AR41) -> 0 | AS42: =SUBTOTAL(9,AS34:AS41) -> 0 | AT42: 5 | AW42: =((HOUR(AV42)*3600)+(MINUTE(AV42)*60)+SECOND(AV42))/60 -> 0 | AX42: =SUM(AW42*2) -> 0
A43: 5 | D43: =((HOUR(C43)*3600)+(MINUTE(C43)*60)+SECOND(C43))/60 -> 0 | E43: =SUM(D43*2) -> 0 | F43: 26 | I43: =((HOUR(H43)*3600)+(MINUTE(H43)*60)+SECOND(H43))/60 -> 0 | J43: =SUM(I43*2.5) -> 0 | K43: 24 | O43: =SUM(N43*4.5) -> 0 | P43: 28 | S43: =((HOUR(R43)*3600)+(MINUTE(R43)*60)+SECOND(R43))/60 -> 0 | T43: =SUM(S43*2) -> 0 | U43: 20 | X43: =((HOUR(W43)*3600)+(MINUTE(W43)*60)+SECOND(W43))/60 -> 0 | Y43: =SUM(X43*2) -> 0 | Z43: 5 | AC43: =((HOUR(AB43)*3600)+(MINUTE(AB43)*60)+SECOND(AB43))/60 -> 0 | AD43: =SUM(AC43*2) -> 0 | AE43: 5 | AH43: =((HOUR(AG43)*3600)+(MINUTE(AG43)*60)+SECOND(AG43))/60 -> 0 | AI43: =SUM(AH43*2) -> 0 | AJ43: 5 | AN43: =SUM(AM43*4.5) -> 0 | AO43: 26 | AR43: =((HOUR(AQ43)*3600)+(MINUTE(AQ43)*60)+SECOND(AQ43))/60 -> 0 | AS43: =SUM(AR43*2) -> 0 | AT43: 5 | AW43: =((HOUR(AV43)*3600)+(MINUTE(AV43)*60)+SECOND(AV43))/60 -> 0 | AX43: =SUM(AW43*2) -> 0
A44: 5 | D44: =((HOUR(C44)*3600)+(MINUTE(C44)*60)+SECOND(C44))/60 -> 0 | E44: =SUM(D44*2) -> 0 | F44: 26 | I44: =((HOUR(H44)*3600)+(MINUTE(H44)*60)+SECOND(H44))/60 -> 0 | J44: =SUM(I44*2.5) -> 0 | K44: 24 | O44: =SUM(N44*4.5) -> 0 | P44: 28 | S44: =((HOUR(R44)*3600)+(MINUTE(R44)*60)+SECOND(R44))/60 -> 0 | T44: =SUM(S44*2) -> 0 | U44: 20 | X44: =((HOUR(W44)*3600)+(MINUTE(W44)*60)+SECOND(W44))/60 -> 0 | Y44: =SUM(X44*2) -> 0 | Z44: 5 | AC44: =((HOUR(AB44)*3600)+(MINUTE(AB44)*60)+SECOND(AB44))/60 -> 0 | AD44: =SUM(AC44*2) -> 0 | AE44: 5 | AH44: =((HOUR(AG44)*3600)+(MINUTE(AG44)*60)+SECOND(AG44))/60 -> 0 | AI44: =SUM(AH44*2) -> 0 | AJ44: 5 | AN44: =SUM(AM44*4.5) -> 0 | AO44: 26 | AR44: =((HOUR(AQ44)*3600)+(MINUTE(AQ44)*60)+SECOND(AQ44))/60 -> 0 | AS44: =SUM(AR44*2) -> 0 | AT44: 5 | AW44: =((HOUR(AV44)*3600)+(MINUTE(AV44)*60)+SECOND(AV44))/60 -> 0 | AX44: =SUM(AW44*2) -> 0
A45: 5 | D45: =((HOUR(C45)*3600)+(MINUTE(C45)*60)+SECOND(C45))/60 -> 0 | E45: =SUM(D45*2) -> 0 | F45: 26 | I45: =((HOUR(H45)*3600)+(MINUTE(H45)*60)+SECOND(H45))/60 -> 0 | J45: =SUM(I45*2.5) -> 0 | K45: 24 | O45: =SUM(N45*4.5) -> 0 | P45: 28 | S45: =((HOUR(R45)*3600)+(MINUTE(R45)*60)+SECOND(R45))/60 -> 0 | T45: =SUM(S45*2) -> 0 | U45: 20 | X45: =((HOUR(W45)*3600)+(MINUTE(W45)*60)+SECOND(W45))/60 -> 0 | Y45: =SUM(X45*2) -> 0 | Z45: 5 | AC45: =((HOUR(AB45)*3600)+(MINUTE(AB45)*60)+SECOND(AB45))/60 -> 0 | AD45: =SUM(AC45*2) -> 0 | AE45: 5 | AH45: =((HOUR(AG45)*3600)+(MINUTE(AG45)*60)+SECOND(AG45))/60 -> 0 | AI45: =SUM(AH45*2) -> 0 | AJ45: 5 | AN45: =SUM(AM45*4.5) -> 0 | AO45: 26 | AR45: =((HOUR(AQ45)*3600)+(MINUTE(AQ45)*60)+SECOND(AQ45))/60 -> 0 | AS45: =SUM(AR45*2) -> 0 | AT45: 5 | AW45: =((HOUR(AV45)*3600)+(MINUTE(AV45)*60)+SECOND(AV45))/60 -> 0 | AX45: =SUM(AW45*2) -> 0
A46: 5 | D46: =((HOUR(C46)*3600)+(MINUTE(C46)*60)+SECOND(C46))/60 -> 0 | E46: =SUM(D46*2) -> 0 | F46: 26 | I46: =((HOUR(H46)*3600)+(MINUTE(H46)*60)+SECOND(H46))/60 -> 0 | J46: =SUM(I46*2.5) -> 0 | K46: 24 | O46: =SUM(N46*4.5) -> 0 | P46: 28 | S46: =((HOUR(R46)*3600)+(MINUTE(R46)*60)+SECOND(R46))/60 -> 0 | T46: =SUM(S46*2) -> 0 | U46: 20 | X46: =((HOUR(W46)*3600)+(MINUTE(W46)*60)+SECOND(W46))/60 -> 0 | Y46: =SUM(X46*2) -> 0 | Z46: 5 | AC46: =((HOUR(AB46)*3600)+(MINUTE(AB46)*60)+SECOND(AB46))/60 -> 0 | AD46: =SUM(AC46*2) -> 0 | AE46: 5 | AH46: =((HOUR(AG46)*3600)+(MINUTE(AG46)*60)+SECOND(AG46))/60 -> 0 | AI46: =SUM(AH46*2) -> 0 | AJ46: 5 | AN46: =SUM(AM46*4.5) -> 0 | AO46: 26 | AR46: =((HOUR(AQ46)*3600)+(MINUTE(AQ46)*60)+SECOND(AQ46))/60 -> 0 | AS46: =SUM(AR46*2) -> 0 | AT46: 5 | AW46: =((HOUR(AV46)*3600)+(MINUTE(AV46)*60)+SECOND(AV46))/60 -> 0 | AX46: =SUM(AW46*2) -> 0
A47: 5 | D47: =((HOUR(C47)*3600)+(MINUTE(C47)*60)+SECOND(C47))/60 -> 0 | E47: =SUM(D47*2) -> 0 | F47: Total 26 | I47: =SUBTOTAL(9,I39:I46) -> 0 | J47: =SUBTOTAL(9,J39:J46) -> 0 | K47: Total 24 | N47: =SUBTOTAL(9,N39:N46) -> 0 | O47: =SUBTOTAL(9,O39:O46) -> 0 | P47: 28 | S47: =((HOUR(R47)*3600)+(MINUTE(R47)*60)+SECOND(R47))/60 -> 0 | T47: =SUM(S47*2) -> 0 | U47: 20 | X47: =((HOUR(W47)*3600)+(MINUTE(W47)*60)+SECOND(W47))/60 -> 0 | Y47: =SUM(X47*2) -> 0 | Z47: 5 | AC47: =((HOUR(AB47)*3600)+(MINUTE(AB47)*60)+SECOND(AB47))/60 -> 0 | AD47: =SUM(AC47*2) -> 0 | AE47: 5 | AH47: =((HOUR(AG47)*3600)+(MINUTE(AG47)*60)+SECOND(AG47))/60 -> 0 | AI47: =SUM(AH47*2) -> 0 | AJ47: 5 | AN47: =SUM(AM47*4.5) -> 0 | AO47: 26 | AR47: =((HOUR(AQ47)*3600)+(MINUTE(AQ47)*60)+SECOND(AQ47))/60 -> 0 | AS47: =SUM(AR47*2) -> 0 | AT47: 5 | AW47: =((HOUR(AV47)*3600)+(MINUTE(AV47)*60)+SECOND(AV47))/60 -> 0 | AX47: =SUM(AW47*2) -> 0
A48: Total 5 | D48: =SUBTOTAL(9,D40:D47) -> 0 | E48: =SUBTOTAL(9,E40:E47) -> 0 | F48: 27 | I48: =((HOUR(H48)*3600)+(MINUTE(H48)*60)+SECOND(H48))/60 -> 0 | J48: =SUM(I48*2.5) -> 0 | K48: 25 | O48: =SUM(N48*4.5) -> 0 | P48: 28 | S48: =((HOUR(R48)*3600)+(MINUTE(R48)*60)+SECOND(R48))/60 -> 0 | T48: =SUM(S48*2) -> 0 | U48: Total 20 | X48: =SUBTOTAL(9,X40:X47) -> 0 | Y48: =SUBTOTAL(9,Y40:Y47) -> 0 | Z48: Total 5 | AC48: =SUBTOTAL(9,AC40:AC47) -> 0 | AD48: =SUBTOTAL(9,AD40:AD47) -> 0 | AE48: Total 5 | AH48: =SUBTOTAL(9,AH40:AH47) -> 0 | AI48: =SUBTOTAL(9,AI40:AI47) -> 0 | AJ48: Total 5 | AM48: =SUBTOTAL(9,AM40:AM47) -> 0 | AN48: =SUBTOTAL(9,AN40:AN47) -> 0 | AO48: 26 | AR48: =((HOUR(AQ48)*3600)+(MINUTE(AQ48)*60)+SECOND(AQ48))/60 -> 0 | AS48: =SUM(AR48*2) -> 0 | AT48: Total 5 | AW48: =SUBTOTAL(9,AW40:AW47) -> 0 | AX48: =SUBTOTAL(9,AX40:AX47) -> 0
A49: 6 | D49: =((HOUR(C49)*3600)+(MINUTE(C49)*60)+SECOND(C49))/60 -> 0 | E49: =SUM(D49*2) -> 0 | F49: 27 | I49: =((HOUR(H49)*3600)+(MINUTE(H49)*60)+SECOND(H49))/60 -> 0 | J49: =SUM(I49*2.5) -> 0 | K49: 25 | O49: =SUM(N49*4.5) -> 0 | P49: 28 | S49: =((HOUR(R49)*3600)+(MINUTE(R49)*60)+SECOND(R49))/60 -> 0 | T49: =SUM(S49*2) -> 0 | U49: 21 | X49: =((HOUR(W49)*3600)+(MINUTE(W49)*60)+SECOND(W49))/60 -> 0 | Y49: =SUM(X49*2) -> 0 | Z49: 6 | AC49: =((HOUR(AB49)*3600)+(MINUTE(AB49)*60)+SECOND(AB49))/60 -> 0 | AD49: =SUM(AC49*2) -> 0 | AE49: 6 | AH49: =((HOUR(AG49)*3600)+(MINUTE(AG49)*60)+SECOND(AG49))/60 -> 0 | AI49: =SUM(AH49*2) -> 0 | AJ49: 6 | AN49: =SUM(AM49*4.5) -> 0 | AO49: 26 | AR49: =((HOUR(AQ49)*3600)+(MINUTE(AQ49)*60)+SECOND(AQ49))/60 -> 0 | AS49: =SUM(AR49*2) -> 0 | AT49: 6 | AW49: =((HOUR(AV49)*3600)+(MINUTE(AV49)*60)+SECOND(AV49))/60 -> 0 | AX49: =SUM(AW49*2) -> 0
A50: 6 | D50: =((HOUR(C50)*3600)+(MINUTE(C50)*60)+SECOND(C50))/60 -> 0 | E50: =SUM(D50*2) -> 0 | F50: 27 | I50: =((HOUR(H50)*3600)+(MINUTE(H50)*60)+SECOND(H50))/60 -> 0 | J50: =SUM(I50*2.5) -> 0 | K50: 25 | O50: =SUM(N50*4.5) -> 0 | P50: 28 | S50: =((HOUR(R50)*3600)+(MINUTE(R50)*60)+SECOND(R50))/60 -> 0 | T50: =SUM(S50*2) -> 0 | U50: 21 | X50: =((HOUR(W50)*3600)+(MINUTE(W50)*60)+SECOND(W50))/60 -> 0 | Y50: =SUM(X50*2) -> 0 | Z50: 6 | AC50: =((HOUR(AB50)*3600)+(MINUTE(AB50)*60)+SECOND(AB50))/60 -> 0 | AD50: =SUM(AC50*2) -> 0 | AE50: 6 | AH50: =((HOUR(AG50)*3600)+(MINUTE(AG50)*60)+SECOND(AG50))/60 -> 0 | AI50: =SUM(AH50*2) -> 0 | AJ50: 6 | AN50: =SUM(AM50*4.5) -> 0 | AO50: 26 | AR50: =((HOUR(AQ50)*3600)+(MINUTE(AQ50)*60)+SECOND(AQ50))/60 -> 0 | AS50: =SUM(AR50*2) -> 0 | AT50: 6 | AW50: =((HOUR(AV50)*3600)+(MINUTE(AV50)*60)+SECOND(AV50))/60 -> 0 | AX50: =SUM(AW50*2) -> 0
A51: 6 | D51: =((HOUR(C51)*3600)+(MINUTE(C51)*60)+SECOND(C51))/60 -> 0 | E51: =SUM(D51*2) -> 0 | F51: 27 | I51: =((HOUR(H51)*3600)+(MINUTE(H51)*60)+SECOND(H51))/60 -> 0 | J51: =SUM(I51*2.5) -> 0 | K51: 25 | O51: =SUM(N51*4.5) -> 0 | P51: Total 28 | S51: =SUBTOTAL(9,S43:S50) -> 0 | T51: =SUBTOTAL(9,T43:T50) -> 0 | U51: 21 | X51: =((HOUR(W51)*3600)+(MINUTE(W51)*60)+SECOND(W51))/60 -> 0 | Y51: =SUM(X51*2) -> 0 | Z51: 6 | AC51: =((HOUR(AB51)*3600)+(MINUTE(AB51)*60)+SECOND(AB51))/60 -> 0 | AD51: =SUM(AC51*2) -> 0 | AE51: 6 | AH51: =((HOUR(AG51)*3600)+(MINUTE(AG51)*60)+SECOND(AG51))/60 -> 0 | AI51: =SUM(AH51*2) -> 0 | AJ51: 6 | AN51: =SUM(AM51*4.5) -> 0 | AO51: Total 26 | AR51: =SUBTOTAL(9,AR43:AR50) -> 0 | AS51: =SUBTOTAL(9,AS43:AS50) -> 0 | AT51: 6 | AW51: =((HOUR(AV51)*3600)+(MINUTE(AV51)*60)+SECOND(AV51))/60 -> 0 | AX51: =SUM(AW51*2) -> 0
A52: 6 | D52: =((HOUR(C52)*3600)+(MINUTE(C52)*60)+SECOND(C52))/60 -> 0 | E52: =SUM(D52*2) -> 0 | F52: 27 | I52: =((HOUR(H52)*3600)+(MINUTE(H52)*60)+SECOND(H52))/60 -> 0 | J52: =SUM(I52*2.5) -> 0 | K52: 25 | O52: =SUM(N52*4.5) -> 0 | P52: 29 | S52: =((HOUR(R52)*3600)+(MINUTE(R52)*60)+SECOND(R52))/60 -> 0 | T52: =SUM(S52*2) -> 0 | U52: 21 | X52: =((HOUR(W52)*3600)+(MINUTE(W52)*60)+SECOND(W52))/60 -> 0 | Y52: =SUM(X52*2) -> 0 | Z52: 6 | AC52: =((HOUR(AB52)*3600)+(MINUTE(AB52)*60)+SECOND(AB52))/60 -> 0 | AD52: =SUM(AC52*2) -> 0 | AE52: 6 | AH52: =((HOUR(AG52)*3600)+(MINUTE(AG52)*60)+SECOND(AG52))/60 -> 0 | AI52: =SUM(AH52*2) -> 0 | AJ52: 6 | AN52: =SUM(AM52*4.5) -> 0 | AO52: 27 | AR52: =((HOUR(AQ52)*3600)+(MINUTE(AQ52)*60)+SECOND(AQ52))/60 -> 0 | AS52: =SUM(AR52*2) -> 0 | AT52: 6 | AW52: =((HOUR(AV52)*3600)+(MINUTE(AV52)*60)+SECOND(AV52))/60 -> 0 | AX52: =SUM(AW52*2) -> 0
A53: 6 | D53: =((HOUR(C53)*3600)+(MINUTE(C53)*60)+SECOND(C53))/60 -> 0 | E53: =SUM(D53*2) -> 0 | F53: 27 | I53: =((HOUR(H53)*3600)+(MINUTE(H53)*60)+SECOND(H53))/60 -> 0 | J53: =SUM(I53*2.5) -> 0 | K53: 25 | O53: =SUM(N53*4.5) -> 0 | P53: 29 | S53: =((HOUR(R53)*3600)+(MINUTE(R53)*60)+SECOND(R53))/60 -> 0 | T53: =SUM(S53*2) -> 0 | U53: 21 | X53: =((HOUR(W53)*3600)+(MINUTE(W53)*60)+SECOND(W53))/60 -> 0 | Y53: =SUM(X53*2) -> 0 | Z53: 6 | AC53: =((HOUR(AB53)*3600)+(MINUTE(AB53)*60)+SECOND(AB53))/60 -> 0 | AD53: =SUM(AC53*2) -> 0 | AE53: 6 | AH53: =((HOUR(AG53)*3600)+(MINUTE(AG53)*60)+SECOND(AG53))/60 -> 0 | AI53: =SUM(AH53*2) -> 0 | AJ53: 6 | AN53: =SUM(AM53*4.5) -> 0 | AO53: 27 | AR53: =((HOUR(AQ53)*3600)+(MINUTE(AQ53)*60)+SECOND(AQ53))/60 -> 0 | AS53: =SUM(AR53*2) -> 0 | AT53: 6 | AW53: =((HOUR(AV53)*3600)+(MINUTE(AV53)*60)+SECOND(AV53))/60 -> 0 | AX53: =SUM(AW53*2) -> 0
A54: 6 | D54: =((HOUR(C54)*3600)+(MINUTE(C54)*60)+SECOND(C54))/60 -> 0 | E54: =SUM(D54*2) -> 0 | F54: 27 | I54: =((HOUR(H54)*3600)+(MINUTE(H54)*60)+SECOND(H54))/60 -> 0 | J54: =SUM(I54*2.5) -> 0 | K54: 25 | O54: =SUM(N54*4.5) -> 0 | P54: 29 | S54: =((HOUR(R54)*3600)+(MINUTE(R54)*60)+SECOND(R54))/60 -> 0 | T54: =SUM(S54*2) -> 0 | U54: 21 | X54: =((HOUR(W54)*3600)+(MINUTE(W54)*60)+SECOND(W54))/60 -> 0 | Y54: =SUM(X54*2) -> 0 | Z54: 6 | AC54: =((HOUR(AB54)*3600)+(MINUTE(AB54)*60)+SECOND(AB54))/60 -> 0 | AD54: =SUM(AC54*2) -> 0 | AE54: 6 | AH54: =((HOUR(AG54)*3600)+(MINUTE(AG54)*60)+SECOND(AG54))/60 -> 0 | AI54: =SUM(AH54*2) -> 0 | AJ54: 6 | AN54: =SUM(AM54*4.5) -> 0 | AO54: 27 | AR54: =((HOUR(AQ54)*3600)+(MINUTE(AQ54)*60)+SECOND(AQ54))/60 -> 0 | AS54: =SUM(AR54*2) -> 0 | AT54: 6 | AW54: =((HOUR(AV54)*3600)+(MINUTE(AV54)*60)+SECOND(AV54))/60 -> 0 | AX54: =SUM(AW54*2) -> 0
A55: 6 | D55: =((HOUR(C55)*3600)+(MINUTE(C55)*60)+SECOND(C55))/60 -> 0 | E55: =SUM(D55*2) -> 0 | F55: 27 | I55: =((HOUR(H55)*3600)+(MINUTE(H55)*60)+SECOND(H55))/60 -> 0 | J55: =SUM(I55*2.5) -> 0 | K55: 25 | O55: =SUM(N55*4.5) -> 0 | P55: 29 | S55: =((HOUR(R55)*3600)+(MINUTE(R55)*60)+SECOND(R55))/60 -> 0 | T55: =SUM(S55*2) -> 0 | U55: 21 | X55: =((HOUR(W55)*3600)+(MINUTE(W55)*60)+SECOND(W55))/60 -> 0 | Y55: =SUM(X55*2) -> 0 | Z55: 6 | AC55: =((HOUR(AB55)*3600)+(MINUTE(AB55)*60)+SECOND(AB55))/60 -> 0 | AD55: =SUM(AC55*2) -> 0 | AE55: 6 | AH55: =((HOUR(AG55)*3600)+(MINUTE(AG55)*60)+SECOND(AG55))/60 -> 0 | AI55: =SUM(AH55*2) -> 0 | AJ55: 6 | AN55: =SUM(AM55*4.5) -> 0 | AO55: 27 | AR55: =((HOUR(AQ55)*3600)+(MINUTE(AQ55)*60)+SECOND(AQ55))/60 -> 0 | AS55: =SUM(AR55*2) -> 0 | AT55: 6 | AW55: =((HOUR(AV55)*3600)+(MINUTE(AV55)*60)+SECOND(AV55))/60 -> 0 | AX55: =SUM(AW55*2) -> 0
A56: 6 | D56: =((HOUR(C56)*3600)+(MINUTE(C56)*60)+SECOND(C56))/60 -> 0 | E56: =SUM(D56*2) -> 0 | F56: Total 27 | I56: =SUBTOTAL(9,I48:I55) -> 0 | J56: =SUBTOTAL(9,J48:J55) -> 0 | K56: Total 25 | N56: =SUBTOTAL(9,N48:N55) -> 0 | O56: =SUBTOTAL(9,O48:O55) -> 0 | P56: 29 | S56: =((HOUR(R56)*3600)+(MINUTE(R56)*60)+SECOND(R56))/60 -> 0 | T56: =SUM(S56*2) -> 0 | U56: 21 | X56: =((HOUR(W56)*3600)+(MINUTE(W56)*60)+SECOND(W56))/60 -> 0 | Y56: =SUM(X56*2) -> 0 | Z56: 6 | AC56: =((HOUR(AB56)*3600)+(MINUTE(AB56)*60)+SECOND(AB56))/60 -> 0 | AD56: =SUM(AC56*2) -> 0 | AE56: 6 | AH56: =((HOUR(AG56)*3600)+(MINUTE(AG56)*60)+SECOND(AG56))/60 -> 0 | AI56: =SUM(AH56*2) -> 0 | AJ56: 6 | AN56: =SUM(AM56*4.5) -> 0 | AO56: 27 | AR56: =((HOUR(AQ56)*3600)+(MINUTE(AQ56)*60)+SECOND(AQ56))/60 -> 0 | AS56: =SUM(AR56*2) -> 0 | AT56: 6 | AW56: =((HOUR(AV56)*3600)+(MINUTE(AV56)*60)+SECOND(AV56))/60 -> 0 | AX56: =SUM(AW56*2) -> 0
A57: Total 6 | D57: =SUBTOTAL(9,D49:D56) -> 0 | E57: =SUBTOTAL(9,E49:E56) -> 0 | F57: 28 | I57: =((HOUR(H57)*3600)+(MINUTE(H57)*60)+SECOND(H57))/60 -> 0 | J57: =SUM(I57*2.5) -> 0 | K57: 26 | O57: =SUM(N57*4.5) -> 0 | P57: 29 | S57: =((HOUR(R57)*3600)+(MINUTE(R57)*60)+SECOND(R57))/60 -> 0 | T57: =SUM(S57*2) -> 0 | U57: Total 21 | X57: =SUBTOTAL(9,X49:X56) -> 0 | Y57: =SUBTOTAL(9,Y49:Y56) -> 0 | Z57: Total 6 | AC57: =SUBTOTAL(9,AC49:AC56) -> 0 | AD57: =SUBTOTAL(9,AD49:AD56) -> 0 | AE57: Total 6 | AH57: =SUBTOTAL(9,AH49:AH56) -> 0 | AI57: =SUBTOTAL(9,AI49:AI56) -> 0 | AJ57: Total 6 | AM57: =SUBTOTAL(9,AM49:AM56) -> 0 | AN57: =SUBTOTAL(9,AN49:AN56) -> 0 | AO57: 27 | AR57: =((HOUR(AQ57)*3600)+(MINUTE(AQ57)*60)+SECOND(AQ57))/60 -> 0 | AS57: =SUM(AR57*2) -> 0 | AT57: Total 6 | AW57: =SUBTOTAL(9,AW49:AW56) -> 0 | AX57: =SUBTOTAL(9,AX49:AX56) -> 0
A58: 7 | D58: =((HOUR(C58)*3600)+(MINUTE(C58)*60)+SECOND(C58))/60 -> 0 | E58: =SUM(D58*2) -> 0 | F58: 28 | I58: =((HOUR(H58)*3600)+(MINUTE(H58)*60)+SECOND(H58))/60 -> 0 | J58: =SUM(I58*2.5) -> 0 | K58: 26 | O58: =SUM(N58*4.5) -> 0 | P58: 29 | S58: =((HOUR(R58)*3600)+(MINUTE(R58)*60)+SECOND(R58))/60 -> 0 | T58: =SUM(S58*2) -> 0 | U58: 22 | X58: =((HOUR(W58)*3600)+(MINUTE(W58)*60)+SECOND(W58))/60 -> 0 | Y58: =SUM(X58*2) -> 0 | Z58: 7 | AC58: =((HOUR(AB58)*3600)+(MINUTE(AB58)*60)+SECOND(AB58))/60 -> 0 | AD58: =SUM(AC58*2) -> 0 | AE58: 7 | AH58: =((HOUR(AG58)*3600)+(MINUTE(AG58)*60)+SECOND(AG58))/60 -> 0 | AI58: =SUM(AH58*2) -> 0 | AJ58: 7 | AN58: =SUM(AM58*4.5) -> 0 | AO58: 27 | AR58: =((HOUR(AQ58)*3600)+(MINUTE(AQ58)*60)+SECOND(AQ58))/60 -> 0 | AS58: =SUM(AR58*2) -> 0 | AT58: 7 | AW58: =((HOUR(AV58)*3600)+(MINUTE(AV58)*60)+SECOND(AV58))/60 -> 0 | AX58: =SUM(AW58*2) -> 0
A59: 7 | D59: =((HOUR(C59)*3600)+(MINUTE(C59)*60)+SECOND(C59))/60 -> 0 | E59: =SUM(D59*2) -> 0 | F59: 28 | I59: =((HOUR(H59)*3600)+(MINUTE(H59)*60)+SECOND(H59))/60 -> 0 | J59: =SUM(I59*2.5) -> 0 | K59: 26 | O59: =SUM(N59*4.5) -> 0 | P59: 29 | S59: =((HOUR(R59)*3600)+(MINUTE(R59)*60)+SECOND(R59))/60 -> 0 | T59: =SUM(S59*2) -> 0 | U59: 22 | X59: =((HOUR(W59)*3600)+(MINUTE(W59)*60)+SECOND(W59))/60 -> 0 | Y59: =SUM(X59*2) -> 0 | Z59: 7 | AC59: =((HOUR(AB59)*3600)+(MINUTE(AB59)*60)+SECOND(AB59))/60 -> 0 | AD59: =SUM(AC59*2) -> 0 | AE59: 7 | AH59: =((HOUR(AG59)*3600)+(MINUTE(AG59)*60)+SECOND(AG59))/60 -> 0 | AI59: =SUM(AH59*2) -> 0 | AJ59: 7 | AN59: =SUM(AM59*4.5) -> 0 | AO59: 27 | AR59: =((HOUR(AQ59)*3600)+(MINUTE(AQ59)*60)+SECOND(AQ59))/60 -> 0 | AS59: =SUM(AR59*2) -> 0 | AT59: 7 | AW59: =((HOUR(AV59)*3600)+(MINUTE(AV59)*60)+SECOND(AV59))/60 -> 0 | AX59: =SUM(AW59*2) -> 0
A60: 7 | D60: =((HOUR(C60)*3600)+(MINUTE(C60)*60)+SECOND(C60))/60 -> 0 | E60: =SUM(D60*2) -> 0 | F60: 28 | I60: =((HOUR(H60)*3600)+(MINUTE(H60)*60)+SECOND(H60))/60 -> 0 | J60: =SUM(I60*2.5) -> 0 | K60: 26 | O60: =SUM(N60*4.5) -> 0 | P60: Total 29 | S60: =SUBTOTAL(9,S52:S59) -> 0 | T60: =SUBTOTAL(9,T52:T59) -> 0 | U60: 22 | X60: =((HOUR(W60)*3600)+(MINUTE(W60)*60)+SECOND(W60))/60 -> 0 | Y60: =SUM(X60*2) -> 0 | Z60: 7 | AC60: =((HOUR(AB60)*3600)+(MINUTE(AB60)*60)+SECOND(AB60))/60 -> 0 | AD60: =SUM(AC60*2) -> 0 | AE60: 7 | AH60: =((HOUR(AG60)*3600)+(MINUTE(AG60)*60)+SECOND(AG60))/60 -> 0 | AI60: =SUM(AH60*2) -> 0 | AJ60: 7 | AN60: =SUM(AM60*4.5) -> 0 | AO60: Total 27 | AR60: =SUBTOTAL(9,AR52:AR59) -> 0 | AS60: =SUBTOTAL(9,AS52:AS59) -> 0 | AT60: 7 | AW60: =((HOUR(AV60)*3600)+(MINUTE(AV60)*60)+SECOND(AV60))/60 -> 0 | AX60: =SUM(AW60*2) -> 0
A61: 7 | D61: =((HOUR(C61)*3600)+(MINUTE(C61)*60)+SECOND(C61))/60 -> 0 | E61: =SUM(D61*2) -> 0 | F61: 28 | I61: =((HOUR(H61)*3600)+(MINUTE(H61)*60)+SECOND(H61))/60 -> 0 | J61: =SUM(I61*2.5) -> 0 | K61: 26 | O61: =SUM(N61*4.5) -> 0 | P61: 30 | S61: =((HOUR(R61)*3600)+(MINUTE(R61)*60)+SECOND(R61))/60 -> 0 | T61: =SUM(S61*2) -> 0 | U61: 22 | X61: =((HOUR(W61)*3600)+(MINUTE(W61)*60)+SECOND(W61))/60 -> 0 | Y61: =SUM(X61*2) -> 0 | Z61: 7 | AC61: =((HOUR(AB61)*3600)+(MINUTE(AB61)*60)+SECOND(AB61))/60 -> 0 | AD61: =SUM(AC61*2) -> 0 | AE61: 7 | AH61: =((HOUR(AG61)*3600)+(MINUTE(AG61)*60)+SECOND(AG61))/60 -> 0 | AI61: =SUM(AH61*2) -> 0 | AJ61: 7 | AN61: =SUM(AM61*4.5) -> 0 | AO61: 28 | AR61: =((HOUR(AQ61)*3600)+(MINUTE(AQ61)*60)+SECOND(AQ61))/60 -> 0 | AS61: =SUM(AR61*2) -> 0 | AT61: 7 | AW61: =((HOUR(AV61)*3600)+(MINUTE(AV61)*60)+SECOND(AV61))/60 -> 0 | AX61: =SUM(AW61*2) -> 0
A62: 7 | D62: =((HOUR(C62)*3600)+(MINUTE(C62)*60)+SECOND(C62))/60 -> 0 | E62: =SUM(D62*2) -> 0 | F62: 28 | I62: =((HOUR(H62)*3600)+(MINUTE(H62)*60)+SECOND(H62))/60 -> 0 | J62: =SUM(I62*2.5) -> 0 | K62: 26 | O62: =SUM(N62*4.5) -> 0 | P62: 30 | S62: =((HOUR(R62)*3600)+(MINUTE(R62)*60)+SECOND(R62))/60 -> 0 | T62: =SUM(S62*2) -> 0 | U62: 22 | X62: =((HOUR(W62)*3600)+(MINUTE(W62)*60)+SECOND(W62))/60 -> 0 | Y62: =SUM(X62*2) -> 0 | Z62: 7 | AC62: =((HOUR(AB62)*3600)+(MINUTE(AB62)*60)+SECOND(AB62))/60 -> 0 | AD62: =SUM(AC62*2) -> 0 | AE62: 7 | AH62: =((HOUR(AG62)*3600)+(MINUTE(AG62)*60)+SECOND(AG62))/60 -> 0 | AI62: =SUM(AH62*2) -> 0 | AJ62: 7 | AN62: =SUM(AM62*4.5) -> 0 | AO62: 28 | AR62: =((HOUR(AQ62)*3600)+(MINUTE(AQ62)*60)+SECOND(AQ62))/60 -> 0 | AS62: =SUM(AR62*2) -> 0 | AT62: 7 | AW62: =((HOUR(AV62)*3600)+(MINUTE(AV62)*60)+SECOND(AV62))/60 -> 0 | AX62: =SUM(AW62*2) -> 0
A63: 7 | D63: =((HOUR(C63)*3600)+(MINUTE(C63)*60)+SECOND(C63))/60 -> 0 | E63: =SUM(D63*2) -> 0 | F63: 28 | I63: =((HOUR(H63)*3600)+(MINUTE(H63)*60)+SECOND(H63))/60 -> 0 | J63: =SUM(I63*2.5) -> 0 | K63: 26 | O63: =SUM(N63*4.5) -> 0 | P63: 30 | S63: =((HOUR(R63)*3600)+(MINUTE(R63)*60)+SECOND(R63))/60 -> 0 | T63: =SUM(S63*2) -> 0 | U63: 22 | X63: =((HOUR(W63)*3600)+(MINUTE(W63)*60)+SECOND(W63))/60 -> 0 | Y63: =SUM(X63*2) -> 0 | Z63: 7 | AC63: =((HOUR(AB63)*3600)+(MINUTE(AB63)*60)+SECOND(AB63))/60 -> 0 | AD63: =SUM(AC63*2) -> 0 | AE63: 7 | AH63: =((HOUR(AG63)*3600)+(MINUTE(AG63)*60)+SECOND(AG63))/60 -> 0 | AI63: =SUM(AH63*2) -> 0 | AJ63: 7 | AN63: =SUM(AM63*4.5) -> 0 | AO63: 28 | AR63: =((HOUR(AQ63)*3600)+(MINUTE(AQ63)*60)+SECOND(AQ63))/60 -> 0 | AS63: =SUM(AR63*2) -> 0 | AT63: 7 | AW63: =((HOUR(AV63)*3600)+(MINUTE(AV63)*60)+SECOND(AV63))/60 -> 0 | AX63: =SUM(AW63*2) -> 0
A64: 7 | D64: =((HOUR(C64)*3600)+(MINUTE(C64)*60)+SECOND(C64))/60 -> 0 | E64: =SUM(D64*2) -> 0 | F64: 28 | I64: =((HOUR(H64)*3600)+(MINUTE(H64)*60)+SECOND(H64))/60 -> 0 | J64: =SUM(I64*2.5) -> 0 | K64: 26 | O64: =SUM(N64*4.5) -> 0 | P64: 30 | S64: =((HOUR(R64)*3600)+(MINUTE(R64)*60)+SECOND(R64))/60 -> 0 | T64: =SUM(S64*2) -> 0 | U64: 22 | X64: =((HOUR(W64)*3600)+(MINUTE(W64)*60)+SECOND(W64))/60 -> 0 | Y64: =SUM(X64*2) -> 0 | Z64: 7 | AC64: =((HOUR(AB64)*3600)+(MINUTE(AB64)*60)+SECOND(AB64))/60 -> 0 | AD64: =SUM(AC64*2) -> 0 | AE64: 7 | AH64: =((HOUR(AG64)*3600)+(MINUTE(AG64)*60)+SECOND(AG64))/60 -> 0 | AI64: =SUM(AH64*2) -> 0 | AJ64: 7 | AN64: =SUM(AM64*4.5) -> 0 | AO64: 28 | AR64: =((HOUR(AQ64)*3600)+(MINUTE(AQ64)*60)+SECOND(AQ64))/60 -> 0 | AS64: =SUM(AR64*2) -> 0 | AT64: 7 | AW64: =((HOUR(AV64)*3600)+(MINUTE(AV64)*60)+SECOND(AV64))/60 -> 0 | AX64: =SUM(AW64*2) -> 0
A65: 7 | D65: =((HOUR(C65)*3600)+(MINUTE(C65)*60)+SECOND(C65))/60 -> 0 | E65: =SUM(D65*2) -> 0 | F65: Total 28 | I65: =SUBTOTAL(9,I57:I64) -> 0 | J65: =SUBTOTAL(9,J57:J64) -> 0 | K65: Total 26 | N65: =SUBTOTAL(9,N57:N64) -> 0 | O65: =SUBTOTAL(9,O57:O64) -> 0 | P65: 30 | S65: =((HOUR(R65)*3600)+(MINUTE(R65)*60)+SECOND(R65))/60 -> 0 | T65: =SUM(S65*2) -> 0 | U65: 22 | X65: =((HOUR(W65)*3600)+(MINUTE(W65)*60)+SECOND(W65))/60 -> 0 | Y65: =SUM(X65*2) -> 0 | Z65: 7 | AC65: =((HOUR(AB65)*3600)+(MINUTE(AB65)*60)+SECOND(AB65))/60 -> 0 | AD65: =SUM(AC65*2) -> 0 | AE65: 7 | AH65: =((HOUR(AG65)*3600)+(MINUTE(AG65)*60)+SECOND(AG65))/60 -> 0 | AI65: =SUM(AH65*2) -> 0 | AJ65: 7 | AN65: =SUM(AM65*4.5) -> 0 | AO65: 28 | AR65: =((HOUR(AQ65)*3600)+(MINUTE(AQ65)*60)+SECOND(AQ65))/60 -> 0 | AS65: =SUM(AR65*2) -> 0 | AT65: 7 | AW65: =((HOUR(AV65)*3600)+(MINUTE(AV65)*60)+SECOND(AV65))/60 -> 0 | AX65: =SUM(AW65*2) -> 0
A66: Total 7 | D66: =SUBTOTAL(9,D58:D65) -> 0 | E66: =SUBTOTAL(9,E58:E65) -> 0 | F66: 29 | I66: =((HOUR(H66)*3600)+(MINUTE(H66)*60)+SECOND(H66))/60 -> 0 | J66: =SUM(I66*2.5) -> 0 | K66: 27 | O66: =SUM(N66*4.5) -> 0 | P66: 30 | S66: =((HOUR(R66)*3600)+(MINUTE(R66)*60)+SECOND(R66))/60 -> 0 | T66: =SUM(S66*2) -> 0 | U66: Total 22 | X66: =SUBTOTAL(9,X58:X65) -> 0 | Y66: =SUBTOTAL(9,Y58:Y65) -> 0 | Z66: Total 7 | AC66: =SUBTOTAL(9,AC58:AC65) -> 0 | AD66: =SUBTOTAL(9,AD58:AD65) -> 0 | AE66: Total 7 | AH66: =SUBTOTAL(9,AH58:AH65) -> 0 | AI66: =SUBTOTAL(9,AI58:AI65) -> 0 | AJ66: Total 7 | AM66: =SUBTOTAL(9,AM58:AM65) -> 0 | AN66: =SUBTOTAL(9,AN58:AN65) -> 0 | AO66: 28 | AR66: =((HOUR(AQ66)*3600)+(MINUTE(AQ66)*60)+SECOND(AQ66))/60 -> 0 | AS66: =SUM(AR66*2) -> 0 | AT66: Total 7 | AW66: =SUBTOTAL(9,AW58:AW65) -> 0 | AX66: =SUBTOTAL(9,AX58:AX65) -> 0
A67: 8 | D67: =((HOUR(C67)*3600)+(MINUTE(C67)*60)+SECOND(C67))/60 -> 0 | E67: =SUM(D67*2) -> 0 | F67: 29 | I67: =((HOUR(H67)*3600)+(MINUTE(H67)*60)+SECOND(H67))/60 -> 0 | J67: =SUM(I67*2.5) -> 0 | K67: 27 | O67: =SUM(N67*4.5) -> 0 | P67: 30 | S67: =((HOUR(R67)*3600)+(MINUTE(R67)*60)+SECOND(R67))/60 -> 0 | T67: =SUM(S67*2) -> 0 | U67: 23 | X67: =((HOUR(W67)*3600)+(MINUTE(W67)*60)+SECOND(W67))/60 -> 0 | Y67: =SUM(X67*2) -> 0 | Z67: 8 | AC67: =((HOUR(AB67)*3600)+(MINUTE(AB67)*60)+SECOND(AB67))/60 -> 0 | AD67: =SUM(AC67*2) -> 0 | AE67: 8 | AH67: =((HOUR(AG67)*3600)+(MINUTE(AG67)*60)+SECOND(AG67))/60 -> 0 | AI67: =SUM(AH67*2) -> 0 | AJ67: 8 | AN67: =SUM(AM67*4.5) -> 0 | AO67: 28 | AR67: =((HOUR(AQ67)*3600)+(MINUTE(AQ67)*60)+SECOND(AQ67))/60 -> 0 | AS67: =SUM(AR67*2) -> 0 | AT67: 8 | AW67: =((HOUR(AV67)*3600)+(MINUTE(AV67)*60)+SECOND(AV67))/60 -> 0 | AX67: =SUM(AW67*2) -> 0
A68: 8 | D68: =((HOUR(C68)*3600)+(MINUTE(C68)*60)+SECOND(C68))/60 -> 0 | E68: =SUM(D68*2) -> 0 | F68: 29 | I68: =((HOUR(H68)*3600)+(MINUTE(H68)*60)+SECOND(H68))/60 -> 0 | J68: =SUM(I68*2.5) -> 0 | K68: 27 | O68: =SUM(N68*4.5) -> 0 | P68: 30 | S68: =((HOUR(R68)*3600)+(MINUTE(R68)*60)+SECOND(R68))/60 -> 0 | T68: =SUM(S68*2) -> 0 | U68: 23 | X68: =((HOUR(W68)*3600)+(MINUTE(W68)*60)+SECOND(W68))/60 -> 0 | Y68: =SUM(X68*2) -> 0 | Z68: 8 | AC68: =((HOUR(AB68)*3600)+(MINUTE(AB68)*60)+SECOND(AB68))/60 -> 0 | AD68: =SUM(AC68*2) -> 0 | AE68: 8 | AH68: =((HOUR(AG68)*3600)+(MINUTE(AG68)*60)+SECOND(AG68))/60 -> 0 | AI68: =SUM(AH68*2) -> 0 | AJ68: 8 | AN68: =SUM(AM68*4.5) -> 0 | AO68: 28 | AR68: =((HOUR(AQ68)*3600)+(MINUTE(AQ68)*60)+SECOND(AQ68))/60 -> 0 | AS68: =SUM(AR68*2) -> 0 | AT68: 8 | AW68: =((HOUR(AV68)*3600)+(MINUTE(AV68)*60)+SECOND(AV68))/60 -> 0 | AX68: =SUM(AW68*2) -> 0
A69: 8 | D69: =((HOUR(C69)*3600)+(MINUTE(C69)*60)+SECOND(C69))/60 -> 0 | E69: =SUM(D69*2) -> 0 | F69: 29 | I69: =((HOUR(H69)*3600)+(MINUTE(H69)*60)+SECOND(H69))/60 -> 0 | J69: =SUM(I69*2.5) -> 0 | K69: 27 | O69: =SUM(N69*4.5) -> 0 | P69: Total 30 | S69: =SUBTOTAL(9,S61:S68) -> 0 | T69: =SUBTOTAL(9,T61:T68) -> 0 | U69: 23 | X69: =((HOUR(W69)*3600)+(MINUTE(W69)*60)+SECOND(W69))/60 -> 0 | Y69: =SUM(X69*2) -> 0 | Z69: 8 | AC69: =((HOUR(AB69)*3600)+(MINUTE(AB69)*60)+SECOND(AB69))/60 -> 0 | AD69: =SUM(AC69*2) -> 0 | AE69: 8 | AH69: =((HOUR(AG69)*3600)+(MINUTE(AG69)*60)+SECOND(AG69))/60 -> 0 | AI69: =SUM(AH69*2) -> 0 | AJ69: 8 | AN69: =SUM(AM69*4.5) -> 0 | AO69: Total 28 | AR69: =SUBTOTAL(9,AR61:AR68) -> 0 | AS69: =SUBTOTAL(9,AS61:AS68) -> 0 | AT69: 8 | AW69: =((HOUR(AV69)*3600)+(MINUTE(AV69)*60)+SECOND(AV69))/60 -> 0 | AX69: =SUM(AW69*2) -> 0
A70: 8 | D70: =((HOUR(C70)*3600)+(MINUTE(C70)*60)+SECOND(C70))/60 -> 0 | E70: =SUM(D70*2) -> 0 | F70: 29 | I70: =((HOUR(H70)*3600)+(MINUTE(H70)*60)+SECOND(H70))/60 -> 0 | J70: =SUM(I70*2.5) -> 0 | K70: 27 | O70: =SUM(N70*4.5) -> 0 | P70: 31 | S70: =((HOUR(R70)*3600)+(MINUTE(R70)*60)+SECOND(R70))/60 -> 0 | T70: =SUM(S70*2) -> 0 | U70: 23 | X70: =((HOUR(W70)*3600)+(MINUTE(W70)*60)+SECOND(W70))/60 -> 0 | Y70: =SUM(X70*2) -> 0 | Z70: 8 | AC70: =((HOUR(AB70)*3600)+(MINUTE(AB70)*60)+SECOND(AB70))/60 -> 0 | AD70: =SUM(AC70*2) -> 0 | AE70: 8 | AH70: =((HOUR(AG70)*3600)+(MINUTE(AG70)*60)+SECOND(AG70))/60 -> 0 | AI70: =SUM(AH70*2) -> 0 | AJ70: 8 | AN70: =SUM(AM70*4.5) -> 0 | AO70: 29 | AR70: =((HOUR(AQ70)*3600)+(MINUTE(AQ70)*60)+SECOND(AQ70))/60 -> 0 | AS70: =SUM(AR70*2) -> 0 | AT70: 8 | AW70: =((HOUR(AV70)*3600)+(MINUTE(AV70)*60)+SECOND(AV70))/60 -> 0 | AX70: =SUM(AW70*2) -> 0
A71: 8 | D71: =((HOUR(C71)*3600)+(MINUTE(C71)*60)+SECOND(C71))/60 -> 0 | E71: =SUM(D71*2) -> 0 | F71: 29 | I71: =((HOUR(H71)*3600)+(MINUTE(H71)*60)+SECOND(H71))/60 -> 0 | J71: =SUM(I71*2.5) -> 0 | K71: 27 | O71: =SUM(N71*4.5) -> 0 | P71: 31 | S71: =((HOUR(R71)*3600)+(MINUTE(R71)*60)+SECOND(R71))/60 -> 0 | T71: =SUM(S71*2) -> 0 | U71: 23 | X71: =((HOUR(W71)*3600)+(MINUTE(W71)*60)+SECOND(W71))/60 -> 0 | Y71: =SUM(X71*2) -> 0 | Z71: 8 | AC71: =((HOUR(AB71)*3600)+(MINUTE(AB71)*60)+SECOND(AB71))/60 -> 0 | AD71: =SUM(AC71*2) -> 0 | AE71: 8 | AH71: =((HOUR(AG71)*3600)+(MINUTE(AG71)*60)+SECOND(AG71))/60 -> 0 | AI71: =SUM(AH71*2) -> 0 | AJ71: 8 | AN71: =SUM(AM71*4.5) -> 0 | AO71: 29 | AR71: =((HOUR(AQ71)*3600)+(MINUTE(AQ71)*60)+SECOND(AQ71))/60 -> 0 | AS71: =SUM(AR71*2) -> 0 | AT71: 8 | AW71: =((HOUR(AV71)*3600)+(MINUTE(AV71)*60)+SECOND(AV71))/60 -> 0 | AX71: =SUM(AW71*2) -> 0
A72: 8 | D72: =((HOUR(C72)*3600)+(MINUTE(C72)*60)+SECOND(C72))/60 -> 0 | E72: =SUM(D72*2) -> 0 | F72: 29 | I72: =((HOUR(H72)*3600)+(MINUTE(H72)*60)+SECOND(H72))/60 -> 0 | J72: =SUM(I72*2.5) -> 0 | K72: 27 | O72: =SUM(N72*4.5) -> 0 | P72: 31 | S72: =((HOUR(R72)*3600)+(MINUTE(R72)*60)+SECOND(R72))/60 -> 0 | T72: =SUM(S72*2) -> 0 | U72: 23 | X72: =((HOUR(W72)*3600)+(MINUTE(W72)*60)+SECOND(W72))/60 -> 0 | Y72: =SUM(X72*2) -> 0 | Z72: 8 | AC72: =((HOUR(AB72)*3600)+(MINUTE(AB72)*60)+SECOND(AB72))/60 -> 0 | AD72: =SUM(AC72*2) -> 0 | AE72: 8 | AH72: =((HOUR(AG72)*3600)+(MINUTE(AG72)*60)+SECOND(AG72))/60 -> 0 | AI72: =SUM(AH72*2) -> 0 | AJ72: 8 | AN72: =SUM(AM72*4.5) -> 0 | AO72: 29 | AR72: =((HOUR(AQ72)*3600)+(MINUTE(AQ72)*60)+SECOND(AQ72))/60 -> 0 | AS72: =SUM(AR72*2) -> 0 | AT72: 8 | AW72: =((HOUR(AV72)*3600)+(MINUTE(AV72)*60)+SECOND(AV72))/60 -> 0 | AX72: =SUM(AW72*2) -> 0
A73: 8 | D73: =((HOUR(C73)*3600)+(MINUTE(C73)*60)+SECOND(C73))/60 -> 0 | E73: =SUM(D73*2) -> 0 | F73: 29 | I73: =((HOUR(H73)*3600)+(MINUTE(H73)*60)+SECOND(H73))/60 -> 0 | J73: =SUM(I73*2.5) -> 0 | K73: 27 | O73: =SUM(N73*4.5) -> 0 | P73: 31 | S73: =((HOUR(R73)*3600)+(MINUTE(R73)*60)+SECOND(R73))/60 -> 0 | T73: =SUM(S73*2) -> 0 | U73: 23 | X73: =((HOUR(W73)*3600)+(MINUTE(W73)*60)+SECOND(W73))/60 -> 0 | Y73: =SUM(X73*2) -> 0 | Z73: 8 | AC73: =((HOUR(AB73)*3600)+(MINUTE(AB73)*60)+SECOND(AB73))/60 -> 0 | AD73: =SUM(AC73*2) -> 0 | AE73: 8 | AH73: =((HOUR(AG73)*3600)+(MINUTE(AG73)*60)+SECOND(AG73))/60 -> 0 | AI73: =SUM(AH73*2) -> 0 | AJ73: 8 | AN73: =SUM(AM73*4.5) -> 0 | AO73: 29 | AR73: =((HOUR(AQ73)*3600)+(MINUTE(AQ73)*60)+SECOND(AQ73))/60 -> 0 | AS73: =SUM(AR73*2) -> 0 | AT73: 8 | AW73: =((HOUR(AV73)*3600)+(MINUTE(AV73)*60)+SECOND(AV73))/60 -> 0 | AX73: =SUM(AW73*2) -> 0
A74: 8 | D74: =((HOUR(C74)*3600)+(MINUTE(C74)*60)+SECOND(C74))/60 -> 0 | E74: =SUM(D74*2) -> 0 | F74: Total 29 | I74: =SUBTOTAL(9,I66:I73) -> 0 | J74: =SUBTOTAL(9,J66:J73) -> 0 | K74: Total 27 | N74: =SUBTOTAL(9,N66:N73) -> 0 | O74: =SUBTOTAL(9,O66:O73) -> 0 | P74: 31 | S74: =((HOUR(R74)*3600)+(MINUTE(R74)*60)+SECOND(R74))/60 -> 0 | T74: =SUM(S74*2) -> 0 | U74: 23 | X74: =((HOUR(W74)*3600)+(MINUTE(W74)*60)+SECOND(W74))/60 -> 0 | Y74: =SUM(X74*2) -> 0 | Z74: 8 | AC74: =((HOUR(AB74)*3600)+(MINUTE(AB74)*60)+SECOND(AB74))/60 -> 0 | AD74: =SUM(AC74*2) -> 0 | AE74: 8 | AH74: =((HOUR(AG74)*3600)+(MINUTE(AG74)*60)+SECOND(AG74))/60 -> 0 | AI74: =SUM(AH74*2) -> 0 | AJ74: 8 | AN74: =SUM(AM74*4.5) -> 0 | AO74: 29 | AR74: =((HOUR(AQ74)*3600)+(MINUTE(AQ74)*60)+SECOND(AQ74))/60 -> 0 | AS74: =SUM(AR74*2) -> 0 | AT74: 8 | AW74: =((HOUR(AV74)*3600)+(MINUTE(AV74)*60)+SECOND(AV74))/60 -> 0 | AX74: =SUM(AW74*2) -> 0
A75: Total 8 | D75: =SUBTOTAL(9,D67:D74) -> 0 | E75: =SUBTOTAL(9,E67:E74) -> 0 | F75: 30 | I75: =((HOUR(H75)*3600)+(MINUTE(H75)*60)+SECOND(H75))/60 -> 0 | J75: =SUM(I75*2.5) -> 0 | K75: 28 | O75: =SUM(N75*4.5) -> 0 | P75: 31 | S75: =((HOUR(R75)*3600)+(MINUTE(R75)*60)+SECOND(R75))/60 -> 0 | T75: =SUM(S75*2) -> 0 | U75: Total 23 | X75: =SUBTOTAL(9,X67:X74) -> 0 | Y75: =SUBTOTAL(9,Y67:Y74) -> 0 | Z75: Total 8 | AC75: =SUBTOTAL(9,AC67:AC74) -> 0 | AD75: =SUBTOTAL(9,AD67:AD74) -> 0 | AE75: Total 8 | AH75: =SUBTOTAL(9,AH67:AH74) -> 0 | AI75: =SUBTOTAL(9,AI67:AI74) -> 0 | AJ75: Total 8 | AM75: =SUBTOTAL(9,AM67:AM74) -> 0 | AN75: =SUBTOTAL(9,AN67:AN74) -> 0 | AO75: 29 | AR75: =((HOUR(AQ75)*3600)+(MINUTE(AQ75)*60)+SECOND(AQ75))/60 -> 0 | AS75: =SUM(AR75*2) -> 0 | AT75: Total 8 | AW75: =SUBTOTAL(9,AW67:AW74) -> 0 | AX75: =SUBTOTAL(9,AX67:AX74) -> 0
A76: 9 | D76: =((HOUR(C76)*3600)+(MINUTE(C76)*60)+SECOND(C76))/60 -> 0 | E76: =SUM(D76*2) -> 0 | F76: 30 | I76: =((HOUR(H76)*3600)+(MINUTE(H76)*60)+SECOND(H76))/60 -> 0 | J76: =SUM(I76*2.5) -> 0 | K76: 28 | O76: =SUM(N76*4.5) -> 0 | P76: 31 | S76: =((HOUR(R76)*3600)+(MINUTE(R76)*60)+SECOND(R76))/60 -> 0 | T76: =SUM(S76*2) -> 0 | U76: 24 | X76: =((HOUR(W76)*3600)+(MINUTE(W76)*60)+SECOND(W76))/60 -> 0 | Y76: =SUM(X76*2) -> 0 | Z76: 9 | AC76: =((HOUR(AB76)*3600)+(MINUTE(AB76)*60)+SECOND(AB76))/60 -> 0 | AD76: =SUM(AC76*2) -> 0 | AE76: 9 | AH76: =((HOUR(AG76)*3600)+(MINUTE(AG76)*60)+SECOND(AG76))/60 -> 0 | AI76: =SUM(AH76*2) -> 0 | AJ76: 9 | AN76: =SUM(AM76*4.5) -> 0 | AO76: 29 | AR76: =((HOUR(AQ76)*3600)+(MINUTE(AQ76)*60)+SECOND(AQ76))/60 -> 0 | AS76: =SUM(AR76*2) -> 0 | AT76: 9 | AW76: =((HOUR(AV76)*3600)+(MINUTE(AV76)*60)+SECOND(AV76))/60 -> 0 | AX76: =SUM(AW76*2) -> 0
A77: 9 | D77: =((HOUR(C77)*3600)+(MINUTE(C77)*60)+SECOND(C77))/60 -> 0 | E77: =SUM(D77*2) -> 0 | F77: 30 | I77: =((HOUR(H77)*3600)+(MINUTE(H77)*60)+SECOND(H77))/60 -> 0 | J77: =SUM(I77*2.5) -> 0 | K77: 28 | O77: =SUM(N77*4.5) -> 0 | P77: 31 | S77: =((HOUR(R77)*3600)+(MINUTE(R77)*60)+SECOND(R77))/60 -> 0 | T77: =SUM(S77*2) -> 0 | U77: 24 | X77: =((HOUR(W77)*3600)+(MINUTE(W77)*60)+SECOND(W77))/60 -> 0 | Y77: =SUM(X77*2) -> 0 | Z77: 9 | AC77: =((HOUR(AB77)*3600)+(MINUTE(AB77)*60)+SECOND(AB77))/60 -> 0 | AD77: =SUM(AC77*2) -> 0 | AE77: 9 | AH77: =((HOUR(AG77)*3600)+(MINUTE(AG77)*60)+SECOND(AG77))/60 -> 0 | AI77: =SUM(AH77*2) -> 0 | AJ77: 9 | AN77: =SUM(AM77*4.5) -> 0 | AO77: 29 | AR77: =((HOUR(AQ77)*3600)+(MINUTE(AQ77)*60)+SECOND(AQ77))/60 -> 0 | AS77: =SUM(AR77*2) -> 0 | AT77: 9 | AW77: =((HOUR(AV77)*3600)+(MINUTE(AV77)*60)+SECOND(AV77))/60 -> 0 | AX77: =SUM(AW77*2) -> 0
A78: 9 | D78: =((HOUR(C78)*3600)+(MINUTE(C78)*60)+SECOND(C78))/60 -> 0 | E78: =SUM(D78*2) -> 0 | F78: 30 | I78: =((HOUR(H78)*3600)+(MINUTE(H78)*60)+SECOND(H78))/60 -> 0 | J78: =SUM(I78*2.5) -> 0 | K78: 28 | O78: =SUM(N78*4.5) -> 0 | P78: Total 31 | S78: =SUBTOTAL(9,S70:S77) -> 0 | T78: =SUBTOTAL(9,T70:T77) -> 0 | U78: 24 | X78: =((HOUR(W78)*3600)+(MINUTE(W78)*60)+SECOND(W78))/60 -> 0 | Y78: =SUM(X78*2) -> 0 | Z78: 9 | AC78: =((HOUR(AB78)*3600)+(MINUTE(AB78)*60)+SECOND(AB78))/60 -> 0 | AD78: =SUM(AC78*2) -> 0 | AE78: 9 | AH78: =((HOUR(AG78)*3600)+(MINUTE(AG78)*60)+SECOND(AG78))/60 -> 0 | AI78: =SUM(AH78*2) -> 0 | AJ78: 9 | AN78: =SUM(AM78*4.5) -> 0 | AO78: Total 29 | AR78: =SUBTOTAL(9,AR70:AR77) -> 0 | AS78: =SUBTOTAL(9,AS70:AS77) -> 0 | AT78: 9 | AW78: =((HOUR(AV78)*3600)+(MINUTE(AV78)*60)+SECOND(AV78))/60 -> 0 | AX78: =SUM(AW78*2) -> 0
A79: 9 | D79: =((HOUR(C79)*3600)+(MINUTE(C79)*60)+SECOND(C79))/60 -> 0 | E79: =SUM(D79*2) -> 0 | F79: 30 | I79: =((HOUR(H79)*3600)+(MINUTE(H79)*60)+SECOND(H79))/60 -> 0 | J79: =SUM(I79*2.5) -> 0 | K79: 28 | O79: =SUM(N79*4.5) -> 0 | P79: Total | S79: =SUBTOTAL(9,S4:S77) -> 24.4 | T79: =SUBTOTAL(9,T4:T77) -> 48.8 | U79: 24 | X79: =((HOUR(W79)*3600)+(MINUTE(W79)*60)+SECOND(W79))/60 -> 0 | Y79: =SUM(X79*2) -> 0 | Z79: 9 | AC79: =((HOUR(AB79)*3600)+(MINUTE(AB79)*60)+SECOND(AB79))/60 -> 0 | AD79: =SUM(AC79*2) -> 0 | AE79: 9 | AH79: =((HOUR(AG79)*3600)+(MINUTE(AG79)*60)+SECOND(AG79))/60 -> 0 | AI79: =SUM(AH79*2) -> 0 | AJ79: 9 | AN79: =SUM(AM79*4.5) -> 0 | AO79: 30 | AR79: =((HOUR(AQ79)*3600)+(MINUTE(AQ79)*60)+SECOND(AQ79))/60 -> 0 | AS79: =SUM(AR79*2) -> 0 | AT79: 9 | AW79: =((HOUR(AV79)*3600)+(MINUTE(AV79)*60)+SECOND(AV79))/60 -> 0 | AX79: =SUM(AW79*2) -> 0
A80: 9 | D80: =((HOUR(C80)*3600)+(MINUTE(C80)*60)+SECOND(C80))/60 -> 0 | E80: =SUM(D80*2) -> 0 | F80: 30 | I80: =((HOUR(H80)*3600)+(MINUTE(H80)*60)+SECOND(H80))/60 -> 0 | J80: =SUM(I80*2.5) -> 0 | K80: 28 | O80: =SUM(N80*4.5) -> 0 | U80: 24 | X80: =((HOUR(W80)*3600)+(MINUTE(W80)*60)+SECOND(W80))/60 -> 0 | Y80: =SUM(X80*2) -> 0 | Z80: 9 | AC80: =((HOUR(AB80)*3600)+(MINUTE(AB80)*60)+SECOND(AB80))/60 -> 0 | AD80: =SUM(AC80*2) -> 0 | AE80: 9 | AH80: =((HOUR(AG80)*3600)+(MINUTE(AG80)*60)+SECOND(AG80))/60 -> 0 | AI80: =SUM(AH80*2) -> 0 | AJ80: 9 | AN80: =SUM(AM80*4.5) -> 0 | AO80: 30 | AR80: =((HOUR(AQ80)*3600)+(MINUTE(AQ80)*60)+SECOND(AQ80))/60 -> 0 | AS80: =SUM(AR80*2) -> 0 | AT80: 9 | AW80: =((HOUR(AV80)*3600)+(MINUTE(AV80)*60)+SECOND(AV80))/60 -> 0 | AX80: =SUM(AW80*2) -> 0
A81: 9 | D81: =((HOUR(C81)*3600)+(MINUTE(C81)*60)+SECOND(C81))/60 -> 0 | E81: =SUM(D81*2) -> 0 | F81: 30 | I81: =((HOUR(H81)*3600)+(MINUTE(H81)*60)+SECOND(H81))/60 -> 0 | J81: =SUM(I81*2.5) -> 0 | K81: 28 | O81: =SUM(N81*4.5) -> 0 | U81: 24 | X81: =((HOUR(W81)*3600)+(MINUTE(W81)*60)+SECOND(W81))/60 -> 0 | Y81: =SUM(X81*2) -> 0 | Z81: 9 | AC81: =((HOUR(AB81)*3600)+(MINUTE(AB81)*60)+SECOND(AB81))/60 -> 0 | AD81: =SUM(AC81*2) -> 0 | AE81: 9 | AH81: =((HOUR(AG81)*3600)+(MINUTE(AG81)*60)+SECOND(AG81))/60 -> 0 | AI81: =SUM(AH81*2) -> 0 | AJ81: 9 | AN81: =SUM(AM81*4.5) -> 0 | AO81: 30 | AR81: =((HOUR(AQ81)*3600)+(MINUTE(AQ81)*60)+SECOND(AQ81))/60 -> 0 | AS81: =SUM(AR81*2) -> 0 | AT81: 9 | AW81: =((HOUR(AV81)*3600)+(MINUTE(AV81)*60)+SECOND(AV81))/60 -> 0 | AX81: =SUM(AW81*2) -> 0
A82: 9 | D82: =((HOUR(C82)*3600)+(MINUTE(C82)*60)+SECOND(C82))/60 -> 0 | E82: =SUM(D82*2) -> 0 | F82: 30 | I82: =((HOUR(H82)*3600)+(MINUTE(H82)*60)+SECOND(H82))/60 -> 0 | J82: =SUM(I82*2.5) -> 0 | K82: 28 | O82: =SUM(N82*4.5) -> 0 | U82: 24 | X82: =((HOUR(W82)*3600)+(MINUTE(W82)*60)+SECOND(W82))/60 -> 0 | Y82: =SUM(X82*2) -> 0 | Z82: 9 | AC82: =((HOUR(AB82)*3600)+(MINUTE(AB82)*60)+SECOND(AB82))/60 -> 0 | AD82: =SUM(AC82*2) -> 0 | AE82: 9 | AH82: =((HOUR(AG82)*3600)+(MINUTE(AG82)*60)+SECOND(AG82))/60 -> 0 | AI82: =SUM(AH82*2) -> 0 | AJ82: 9 | AN82: =SUM(AM82*4.5) -> 0 | AO82: 30 | AR82: =((HOUR(AQ82)*3600)+(MINUTE(AQ82)*60)+SECOND(AQ82))/60 -> 0 | AS82: =SUM(AR82*2) -> 0 | AT82: 9 | AW82: =((HOUR(AV82)*3600)+(MINUTE(AV82)*60)+SECOND(AV82))/60 -> 0 | AX82: =SUM(AW82*2) -> 0
A83: 9 | D83: =((HOUR(C83)*3600)+(MINUTE(C83)*60)+SECOND(C83))/60 -> 0 | E83: =SUM(D83*2) -> 0 | F83: Total 30 | I83: =SUBTOTAL(9,I75:I82) -> 0 | J83: =SUBTOTAL(9,J75:J82) -> 0 | K83: Total 28 | N83: =SUBTOTAL(9,N75:N82) -> 0 | O83: =SUBTOTAL(9,O75:O82) -> 0 | U83: 24 | X83: =((HOUR(W83)*3600)+(MINUTE(W83)*60)+SECOND(W83))/60 -> 0 | Y83: =SUM(X83*2) -> 0 | Z83: 9 | AC83: =((HOUR(AB83)*3600)+(MINUTE(AB83)*60)+SECOND(AB83))/60 -> 0 | AD83: =SUM(AC83*2) -> 0 | AE83: 9 | AH83: =((HOUR(AG83)*3600)+(MINUTE(AG83)*60)+SECOND(AG83))/60 -> 0 | AI83: =SUM(AH83*2) -> 0 | AJ83: 9 | AN83: =SUM(AM83*4.5) -> 0 | AO83: 30 | AR83: =((HOUR(AQ83)*3600)+(MINUTE(AQ83)*60)+SECOND(AQ83))/60 -> 0 | AS83: =SUM(AR83*2) -> 0 | AT83: 9 | AW83: =((HOUR(AV83)*3600)+(MINUTE(AV83)*60)+SECOND(AV83))/60 -> 0 | AX83: =SUM(AW83*2) -> 0
A84: Total 9 | D84: =SUBTOTAL(9,D76:D83) -> 0 | E84: =SUBTOTAL(9,E76:E83) -> 0 | F84: 31 | I84: =((HOUR(H84)*3600)+(MINUTE(H84)*60)+SECOND(H84))/60 -> 0 | J84: =SUM(I84*2.5) -> 0 | K84: 29 | O84: =SUM(N84*4.5) -> 0 | U84: Total 24 | X84: =SUBTOTAL(9,X76:X83) -> 0 | Y84: =SUBTOTAL(9,Y76:Y83) -> 0 | Z84: Total 9 | AC84: =SUBTOTAL(9,AC76:AC83) -> 0 | AD84: =SUBTOTAL(9,AD76:AD83) -> 0 | AE84: Total 9 | AH84: =SUBTOTAL(9,AH76:AH83) -> 0 | AI84: =SUBTOTAL(9,AI76:AI83) -> 0 | AJ84: Total 9 | AM84: =SUBTOTAL(9,AM76:AM83) -> 0 | AN84: =SUBTOTAL(9,AN76:AN83) -> 0 | AO84: 30 | AR84: =((HOUR(AQ84)*3600)+(MINUTE(AQ84)*60)+SECOND(AQ84))/60 -> 0 | AS84: =SUM(AR84*2) -> 0 | AT84: Total 9 | AW84: =SUBTOTAL(9,AW76:AW83) -> 0 | AX84: =SUBTOTAL(9,AX76:AX83) -> 0
A85: 10 | D85: =((HOUR(C85)*3600)+(MINUTE(C85)*60)+SECOND(C85))/60 -> 0 | E85: =SUM(D85*2) -> 0 | F85: 31 | I85: =((HOUR(H85)*3600)+(MINUTE(H85)*60)+SECOND(H85))/60 -> 0 | J85: =SUM(I85*2.5) -> 0 | K85: 29 | O85: =SUM(N85*4.5) -> 0 | U85: 25 | X85: =((HOUR(W85)*3600)+(MINUTE(W85)*60)+SECOND(W85))/60 -> 0 | Y85: =SUM(X85*2) -> 0 | Z85: 10 | AC85: =((HOUR(AB85)*3600)+(MINUTE(AB85)*60)+SECOND(AB85))/60 -> 0 | AD85: =SUM(AC85*2) -> 0 | AE85: 10 | AH85: =((HOUR(AG85)*3600)+(MINUTE(AG85)*60)+SECOND(AG85))/60 -> 0 | AI85: =SUM(AH85*2) -> 0 | AJ85: 10 | AN85: =SUM(AM85*4.5) -> 0 | AO85: 30 | AR85: =((HOUR(AQ85)*3600)+(MINUTE(AQ85)*60)+SECOND(AQ85))/60 -> 0 | AS85: =SUM(AR85*2) -> 0 | AT85: 10 | AW85: =((HOUR(AV85)*3600)+(MINUTE(AV85)*60)+SECOND(AV85))/60 -> 0 | AX85: =SUM(AW85*2) -> 0
A86: 10 | D86: =((HOUR(C86)*3600)+(MINUTE(C86)*60)+SECOND(C86))/60 -> 0 | E86: =SUM(D86*2) -> 0 | F86: 31 | I86: =((HOUR(H86)*3600)+(MINUTE(H86)*60)+SECOND(H86))/60 -> 0 | J86: =SUM(I86*2.5) -> 0 | K86: 29 | O86: =SUM(N86*4.5) -> 0 | U86: 25 | X86: =((HOUR(W86)*3600)+(MINUTE(W86)*60)+SECOND(W86))/60 -> 0 | Y86: =SUM(X86*2) -> 0 | Z86: 10 | AC86: =((HOUR(AB86)*3600)+(MINUTE(AB86)*60)+SECOND(AB86))/60 -> 0 | AD86: =SUM(AC86*2) -> 0 | AE86: 10 | AH86: =((HOUR(AG86)*3600)+(MINUTE(AG86)*60)+SECOND(AG86))/60 -> 0 | AI86: =SUM(AH86*2) -> 0 | AJ86: 10 | AN86: =SUM(AM86*4.5) -> 0 | AO86: 30 | AR86: =((HOUR(AQ86)*3600)+(MINUTE(AQ86)*60)+SECOND(AQ86))/60 -> 0 | AS86: =SUM(AR86*2) -> 0 | AT86: 10 | AW86: =((HOUR(AV86)*3600)+(MINUTE(AV86)*60)+SECOND(AV86))/60 -> 0 | AX86: =SUM(AW86*2) -> 0
A87: 10 | D87: =((HOUR(C87)*3600)+(MINUTE(C87)*60)+SECOND(C87))/60 -> 0 | E87: =SUM(D87*2) -> 0 | F87: 31 | I87: =((HOUR(H87)*3600)+(MINUTE(H87)*60)+SECOND(H87))/60 -> 0 | J87: =SUM(I87*2.5) -> 0 | K87: 29 | O87: =SUM(N87*4.5) -> 0 | U87: 25 | X87: =((HOUR(W87)*3600)+(MINUTE(W87)*60)+SECOND(W87))/60 -> 0 | Y87: =SUM(X87*2) -> 0 | Z87: 10 | AC87: =((HOUR(AB87)*3600)+(MINUTE(AB87)*60)+SECOND(AB87))/60 -> 0 | AD87: =SUM(AC87*2) -> 0 | AE87: 10 | AH87: =((HOUR(AG87)*3600)+(MINUTE(AG87)*60)+SECOND(AG87))/60 -> 0 | AI87: =SUM(AH87*2) -> 0 | AJ87: 10 | AN87: =SUM(AM87*4.5) -> 0 | AO87: Total 30 | AR87: =SUBTOTAL(9,AR79:AR86) -> 0 | AS87: =SUBTOTAL(9,AS79:AS86) -> 0 | AT87: 10 | AW87: =((HOUR(AV87)*3600)+(MINUTE(AV87)*60)+SECOND(AV87))/60 -> 0 | AX87: =SUM(AW87*2) -> 0
A88: 10 | D88: =((HOUR(C88)*3600)+(MINUTE(C88)*60)+SECOND(C88))/60 -> 0 | E88: =SUM(D88*2) -> 0 | F88: 31 | I88: =((HOUR(H88)*3600)+(MINUTE(H88)*60)+SECOND(H88))/60 -> 0 | J88: =SUM(I88*2.5) -> 0 | K88: 29 | O88: =SUM(N88*4.5) -> 0 | U88: 25 | X88: =((HOUR(W88)*3600)+(MINUTE(W88)*60)+SECOND(W88))/60 -> 0 | Y88: =SUM(X88*2) -> 0 | Z88: 10 | AC88: =((HOUR(AB88)*3600)+(MINUTE(AB88)*60)+SECOND(AB88))/60 -> 0 | AD88: =SUM(AC88*2) -> 0 | AE88: 10 | AH88: =((HOUR(AG88)*3600)+(MINUTE(AG88)*60)+SECOND(AG88))/60 -> 0 | AI88: =SUM(AH88*2) -> 0 | AJ88: 10 | AN88: =SUM(AM88*4.5) -> 0 | AO88: 31 | AR88: =((HOUR(AQ88)*3600)+(MINUTE(AQ88)*60)+SECOND(AQ88))/60 -> 0 | AS88: =SUM(AR88*2) -> 0 | AT88: 10 | AW88: =((HOUR(AV88)*3600)+(MINUTE(AV88)*60)+SECOND(AV88))/60 -> 0 | AX88: =SUM(AW88*2) -> 0
A89: 10 | D89: =((HOUR(C89)*3600)+(MINUTE(C89)*60)+SECOND(C89))/60 -> 0 | E89: =SUM(D89*2) -> 0 | F89: 31 | I89: =((HOUR(H89)*3600)+(MINUTE(H89)*60)+SECOND(H89))/60 -> 0 | J89: =SUM(I89*2.5) -> 0 | K89: 29 | O89: =SUM(N89*4.5) -> 0 | U89: 25 | X89: =((HOUR(W89)*3600)+(MINUTE(W89)*60)+SECOND(W89))/60 -> 0 | Y89: =SUM(X89*2) -> 0 | Z89: 10 | AC89: =((HOUR(AB89)*3600)+(MINUTE(AB89)*60)+SECOND(AB89))/60 -> 0 | AD89: =SUM(AC89*2) -> 0 | AE89: 10 | AH89: =((HOUR(AG89)*3600)+(MINUTE(AG89)*60)+SECOND(AG89))/60 -> 0 | AI89: =SUM(AH89*2) -> 0 | AJ89: 10 | AN89: =SUM(AM89*4.5) -> 0 | AO89: 31 | AR89: =((HOUR(AQ89)*3600)+(MINUTE(AQ89)*60)+SECOND(AQ89))/60 -> 0 | AS89: =SUM(AR89*2) -> 0 | AT89: 10 | AW89: =((HOUR(AV89)*3600)+(MINUTE(AV89)*60)+SECOND(AV89))/60 -> 0 | AX89: =SUM(AW89*2) -> 0
A90: 10 | D90: =((HOUR(C90)*3600)+(MINUTE(C90)*60)+SECOND(C90))/60 -> 0 | E90: =SUM(D90*2) -> 0 | F90: 31 | I90: =((HOUR(H90)*3600)+(MINUTE(H90)*60)+SECOND(H90))/60 -> 0 | J90: =SUM(I90*2.5) -> 0 | K90: 29 | O90: =SUM(N90*4.5) -> 0 | U90: 25 | X90: =((HOUR(W90)*3600)+(MINUTE(W90)*60)+SECOND(W90))/60 -> 0 | Y90: =SUM(X90*2) -> 0 | Z90: 10 | AC90: =((HOUR(AB90)*3600)+(MINUTE(AB90)*60)+SECOND(AB90))/60 -> 0 | AD90: =SUM(AC90*2) -> 0 | AE90: 10 | AH90: =((HOUR(AG90)*3600)+(MINUTE(AG90)*60)+SECOND(AG90))/60 -> 0 | AI90: =SUM(AH90*2) -> 0 | AJ90: 10 | AN90: =SUM(AM90*4.5) -> 0 | AO90: 31 | AR90: =((HOUR(AQ90)*3600)+(MINUTE(AQ90)*60)+SECOND(AQ90))/60 -> 0 | AS90: =SUM(AR90*2) -> 0 | AT90: 10 | AW90: =((HOUR(AV90)*3600)+(MINUTE(AV90)*60)+SECOND(AV90))/60 -> 0 | AX90: =SUM(AW90*2) -> 0
A91: 10 | D91: =((HOUR(C91)*3600)+(MINUTE(C91)*60)+SECOND(C91))/60 -> 0 | E91: =SUM(D91*2) -> 0 | F91: 31 | I91: =((HOUR(H91)*3600)+(MINUTE(H91)*60)+SECOND(H91))/60 -> 0 | J91: =SUM(I91*2.5) -> 0 | K91: 29 | O91: =SUM(N91*4.5) -> 0 | U91: 25 | X91: =((HOUR(W91)*3600)+(MINUTE(W91)*60)+SECOND(W91))/60 -> 0 | Y91: =SUM(X91*2) -> 0 | Z91: 10 | AC91: =((HOUR(AB91)*3600)+(MINUTE(AB91)*60)+SECOND(AB91))/60 -> 0 | AD91: =SUM(AC91*2) -> 0 | AE91: 10 | AH91: =((HOUR(AG91)*3600)+(MINUTE(AG91)*60)+SECOND(AG91))/60 -> 0 | AI91: =SUM(AH91*2) -> 0 | AJ91: 10 | AN91: =SUM(AM91*4.5) -> 0 | AO91: 31 | AR91: =((HOUR(AQ91)*3600)+(MINUTE(AQ91)*60)+SECOND(AQ91))/60 -> 0 | AS91: =SUM(AR91*2) -> 0 | AT91: 10 | AW91: =((HOUR(AV91)*3600)+(MINUTE(AV91)*60)+SECOND(AV91))/60 -> 0 | AX91: =SUM(AW91*2) -> 0
A92: 10 | D92: =((HOUR(C92)*3600)+(MINUTE(C92)*60)+SECOND(C92))/60 -> 0 | E92: =SUM(D92*2) -> 0 | F92: Total 31 | I92: =SUBTOTAL(9,I84:I91) -> 0 | J92: =SUBTOTAL(9,J84:J91) -> 0 | K92: Total 29 | N92: =SUBTOTAL(9,N84:N91) -> 0 | O92: =SUBTOTAL(9,O84:O91) -> 0 | U92: 25 | X92: =((HOUR(W92)*3600)+(MINUTE(W92)*60)+SECOND(W92))/60 -> 0 | Y92: =SUM(X92*2) -> 0 | Z92: 10 | AC92: =((HOUR(AB92)*3600)+(MINUTE(AB92)*60)+SECOND(AB92))/60 -> 0 | AD92: =SUM(AC92*2) -> 0 | AE92: 10 | AH92: =((HOUR(AG92)*3600)+(MINUTE(AG92)*60)+SECOND(AG92))/60 -> 0 | AI92: =SUM(AH92*2) -> 0 | AJ92: 10 | AN92: =SUM(AM92*4.5) -> 0 | AO92: 31 | AR92: =((HOUR(AQ92)*3600)+(MINUTE(AQ92)*60)+SECOND(AQ92))/60 -> 0 | AS92: =SUM(AR92*2) -> 0 | AT92: 10 | AW92: =((HOUR(AV92)*3600)+(MINUTE(AV92)*60)+SECOND(AV92))/60 -> 0 | AX92: =SUM(AW92*2) -> 0
A93: Total 10 | D93: =SUBTOTAL(9,D85:D92) -> 0 | E93: =SUBTOTAL(9,E85:E92) -> 0 | F93: Total | I93: =SUBTOTAL(9,I4:I91) -> 29.866667 | J93: =SUBTOTAL(9,J4:J91) -> 817.16667 | K93: 30 | O93: =SUM(N93*4.5) -> 0 | U93: Total 25 | X93: =SUBTOTAL(9,X85:X92) -> 0 | Y93: =SUBTOTAL(9,Y85:Y92) -> 0 | Z93: Total 10 | AC93: =SUBTOTAL(9,AC85:AC92) -> 0 | AD93: =SUBTOTAL(9,AD85:AD92) -> 0 | AE93: Total 10 | AH93: =SUBTOTAL(9,AH85:AH92) -> 0 | AI93: =SUBTOTAL(9,AI85:AI92) -> 0 | AJ93: Total 10 | AM93: =SUBTOTAL(9,AM85:AM92) -> 0 | AN93: =SUBTOTAL(9,AN85:AN92) -> 0 | AO93: 31 | AR93: =((HOUR(AQ93)*3600)+(MINUTE(AQ93)*60)+SECOND(AQ93))/60 -> 0 | AS93: =SUM(AR93*2) -> 0 | AT93: Total 10 | AW93: =SUBTOTAL(9,AW85:AW92) -> 0 | AX93: =SUBTOTAL(9,AX85:AX92) -> 0
A94: 11 | D94: =((HOUR(C94)*3600)+(MINUTE(C94)*60)+SECOND(C94))/60 -> 0 | E94: =SUM(D94*2) -> 0 | K94: 30 | O94: =SUM(N94*4.5) -> 0 | U94: 26 | X94: =((HOUR(W94)*3600)+(MINUTE(W94)*60)+SECOND(W94))/60 -> 0 | Y94: =SUM(X94*2) -> 0 | Z94: 11 | AC94: =((HOUR(AB94)*3600)+(MINUTE(AB94)*60)+SECOND(AB94))/60 -> 0 | AD94: =SUM(AC94*2) -> 0 | AE94: 11 | AH94: =((HOUR(AG94)*3600)+(MINUTE(AG94)*60)+SECOND(AG94))/60 -> 0 | AI94: =SUM(AH94*2) -> 0 | AJ94: 11 | AN94: =SUM(AM94*4.5) -> 0 | AO94: 31 | AR94: =((HOUR(AQ94)*3600)+(MINUTE(AQ94)*60)+SECOND(AQ94))/60 -> 0 | AS94: =SUM(AR94*2) -> 0 | AT94: 11 | AW94: =((HOUR(AV94)*3600)+(MINUTE(AV94)*60)+SECOND(AV94))/60 -> 0 | AX94: =SUM(AW94*2) -> 0
A95: 11 | D95: =((HOUR(C95)*3600)+(MINUTE(C95)*60)+SECOND(C95))/60 -> 0 | E95: =SUM(D95*2) -> 0 | K95: 30 | O95: =SUM(N95*4.5) -> 0 | U95: 26 | X95: =((HOUR(W95)*3600)+(MINUTE(W95)*60)+SECOND(W95))/60 -> 0 | Y95: =SUM(X95*2) -> 0 | Z95: 11 | AC95: =((HOUR(AB95)*3600)+(MINUTE(AB95)*60)+SECOND(AB95))/60 -> 0 | AD95: =SUM(AC95*2) -> 0 | AE95: 11 | AH95: =((HOUR(AG95)*3600)+(MINUTE(AG95)*60)+SECOND(AG95))/60 -> 0 | AI95: =SUM(AH95*2) -> 0 | AJ95: 11 | AN95: =SUM(AM95*4.5) -> 0 | AO95: 31 | AR95: =((HOUR(AQ95)*3600)+(MINUTE(AQ95)*60)+SECOND(AQ95))/60 -> 0 | AS95: =SUM(AR95*2) -> 0 | AT95: 11 | AW95: =((HOUR(AV95)*3600)+(MINUTE(AV95)*60)+SECOND(AV95))/60 -> 0 | AX95: =SUM(AW95*2) -> 0
A96: 11 | D96: =((HOUR(C96)*3600)+(MINUTE(C96)*60)+SECOND(C96))/60 -> 0 | E96: =SUM(D96*2) -> 0 | K96: 30 | O96: =SUM(N96*4.5) -> 0 | U96: 26 | X96: =((HOUR(W96)*3600)+(MINUTE(W96)*60)+SECOND(W96))/60 -> 0 | Y96: =SUM(X96*2) -> 0 | Z96: 11 | AC96: =((HOUR(AB96)*3600)+(MINUTE(AB96)*60)+SECOND(AB96))/60 -> 0 | AD96: =SUM(AC96*2) -> 0 | AE96: 11 | AH96: =((HOUR(AG96)*3600)+(MINUTE(AG96)*60)+SECOND(AG96))/60 -> 0 | AI96: =SUM(AH96*2) -> 0 | AJ96: 11 | AN96: =SUM(AM96*4.5) -> 0 | AO96: Total 31 | AR96: =SUBTOTAL(9,AR88:AR95) -> 0 | AS96: =SUBTOTAL(9,AS88:AS95) -> 0 | AT96: 11 | AW96: =((HOUR(AV96)*3600)+(MINUTE(AV96)*60)+SECOND(AV96))/60 -> 0 | AX96: =SUM(AW96*2) -> 0
A97: 11 | D97: =((HOUR(C97)*3600)+(MINUTE(C97)*60)+SECOND(C97))/60 -> 0 | E97: =SUM(D97*2) -> 0 | K97: 30 | O97: =SUM(N97*4.5) -> 0 | U97: 26 | X97: =((HOUR(W97)*3600)+(MINUTE(W97)*60)+SECOND(W97))/60 -> 0 | Y97: =SUM(X97*2) -> 0 | Z97: 11 | AC97: =((HOUR(AB97)*3600)+(MINUTE(AB97)*60)+SECOND(AB97))/60 -> 0 | AD97: =SUM(AC97*2) -> 0 | AE97: 11 | AH97: =((HOUR(AG97)*3600)+(MINUTE(AG97)*60)+SECOND(AG97))/60 -> 0 | AI97: =SUM(AH97*2) -> 0 | AJ97: 11 | AN97: =SUM(AM97*4.5) -> 0 | AO97: Total | AR97: =SUBTOTAL(9,AR4:AR95) -> 28.2 | AS97: =SUBTOTAL(9,AS4:AS95) -> 56.4 | AT97: 11 | AW97: =((HOUR(AV97)*3600)+(MINUTE(AV97)*60)+SECOND(AV97))/60 -> 0 | AX97: =SUM(AW97*2) -> 0
A98: 11 | D98: =((HOUR(C98)*3600)+(MINUTE(C98)*60)+SECOND(C98))/60 -> 0 | E98: =SUM(D98*2) -> 0 | K98: 30 | O98: =SUM(N98*4.5) -> 0 | U98: 26 | X98: =((HOUR(W98)*3600)+(MINUTE(W98)*60)+SECOND(W98))/60 -> 0 | Y98: =SUM(X98*2) -> 0 | Z98: 11 | AC98: =((HOUR(AB98)*3600)+(MINUTE(AB98)*60)+SECOND(AB98))/60 -> 0 | AD98: =SUM(AC98*2) -> 0 | AE98: 11 | AH98: =((HOUR(AG98)*3600)+(MINUTE(AG98)*60)+SECOND(AG98))/60 -> 0 | AI98: =SUM(AH98*2) -> 0 | AJ98: 11 | AN98: =SUM(AM98*4.5) -> 0 | AT98: 11 | AW98: =((HOUR(AV98)*3600)+(MINUTE(AV98)*60)+SECOND(AV98))/60 -> 0 | AX98: =SUM(AW98*2) -> 0
A99: 11 | D99: =((HOUR(C99)*3600)+(MINUTE(C99)*60)+SECOND(C99))/60 -> 0 | E99: =SUM(D99*2) -> 0 | K99: 30 | O99: =SUM(N99*4.5) -> 0 | U99: 26 | X99: =((HOUR(W99)*3600)+(MINUTE(W99)*60)+SECOND(W99))/60 -> 0 | Y99: =SUM(X99*2) -> 0 | Z99: 11 | AC99: =((HOUR(AB99)*3600)+(MINUTE(AB99)*60)+SECOND(AB99))/60 -> 0 | AD99: =SUM(AC99*2) -> 0 | AE99: 11 | AH99: =((HOUR(AG99)*3600)+(MINUTE(AG99)*60)+SECOND(AG99))/60 -> 0 | AI99: =SUM(AH99*2) -> 0 | AJ99: 11 | AN99: =SUM(AM99*4.5) -> 0 | AT99: 11 | AW99: =((HOUR(AV99)*3600)+(MINUTE(AV99)*60)+SECOND(AV99))/60 -> 0 | AX99: =SUM(AW99*2) -> 0
A100: 11 | D100: =((HOUR(C100)*3600)+(MINUTE(C100)*60)+SECOND(C100))/60 -> 0 | E100: =SUM(D100*2) -> 0 | K100: 30 | O100: =SUM(N100*4.5) -> 0 | U100: 26 | X100: =((HOUR(W100)*3600)+(MINUTE(W100)*60)+SECOND(W100))/60 -> 0 | Y100: =SUM(X100*2) -> 0 | Z100: 11 | AC100: =((HOUR(AB100)*3600)+(MINUTE(AB100)*60)+SECOND(AB100))/60 -> 0 | AD100: =SUM(AC100*2) -> 0 | AE100: 11 | AH100: =((HOUR(AG100)*3600)+(MINUTE(AG100)*60)+SECOND(AG100))/60 -> 0 | AI100: =SUM(AH100*2) -> 0 | AJ100: 11 | AN100: =SUM(AM100*4.5) -> 0 | AT100: 11 | AW100: =((HOUR(AV100)*3600)+(MINUTE(AV100)*60)+SECOND(AV100))/60 -> 0 | AX100: =SUM(AW100*2) -> 0
A101: 11 | D101: =((HOUR(C101)*3600)+(MINUTE(C101)*60)+SECOND(C101))/60 -> 0 | E101: =SUM(D101*2) -> 0 | K101: Total 30 | N101: =SUBTOTAL(9,N93:N100) -> 0 | O101: =SUBTOTAL(9,O93:O100) -> 0 | U101: 26 | X101: =((HOUR(W101)*3600)+(MINUTE(W101)*60)+SECOND(W101))/60 -> 0 | Y101: =SUM(X101*2) -> 0 | Z101: 11 | AC101: =((HOUR(AB101)*3600)+(MINUTE(AB101)*60)+SECOND(AB101))/60 -> 0 | AD101: =SUM(AC101*2) -> 0 | AE101: 11 | AH101: =((HOUR(AG101)*3600)+(MINUTE(AG101)*60)+SECOND(AG101))/60 -> 0 | AI101: =SUM(AH101*2) -> 0 | AJ101: 11 | AN101: =SUM(AM101*4.5) -> 0 | AT101: 11 | AW101: =((HOUR(AV101)*3600)+(MINUTE(AV101)*60)+SECOND(AV101))/60 -> 0 | AX101: =SUM(AW101*2) -> 0
...

Sheet Total annuel
A1: Mois | B1: CLIENT A | C1: CLIENT B | D1: CLIENT C | E1: CLIENT D | F1: CLIENT E | G1: CLIENT F | H1: CLIENT G | I1: CLIENT H | J1: CLIENT I | K1: CLIENT J | L1: CLIENT K | M1: CLIENT L | N1: TOTAL MENSUEL
A2: Octobre | B2: =SUM(Octobre!E14) -> 55.5 | D2: =SUM(Octobre!J16) -> 151.79167 | E2: =SUM(Octobre!O45) -> 131.4 | F2: =SUM(Octobre!T19) -> 185.33333 | G2: =SUM(Octobre!Y8) -> 41.466667 | H2: =SUM(Octobre!AD6) -> 0 | I2: =SUM(Octobre!AI6) -> 0 | J2: =SUM(Octobre!AN6) -> 0 | K2: =SUM(Octobre!AS23) -> 64.133333 | M2: =SUM(Octobre!AX6) -> 0 | N2: =SUM(B2:M2) -> 629.625
A3: Novembre | B3: =SUM(Novembre!E15) -> 86.333333 | D3: =SUM(Novembre!J12) -> 91.791667 | E3: =SUM(Novembre!O49) -> 176.4 | F3: =SUM(Novembre!T6) -> 0 | G3: =SUM(Novembre!Y13) -> 42.333333 | H3: =SUM(Novembre!AD8) -> 75.966667 | I3: =SUM(Novembre!AI6) -> 0 | J3: =SUM(Novembre!AN8) -> 31.5 | K3: =SUM(Novembre!AS59) -> 191.5 | M3: =SUM(Novembre!AX7) -> 396.33333 | N3: =SUM(B3:M3) -> 1092.1583
A4: Décembre | B4: =SUM(#REF!) -> #REF! | D4: =SUM(#REF!) -> #REF! | E4: =SUM(#REF!) -> #REF! | F4: =SUM(#REF!) -> #REF! | G4: =SUM(#REF!) -> #REF! | H4: =SUM(#REF!) -> #REF! | I4: =SUM(#REF!) -> #REF! | J4: =SUM(#REF!) -> #REF! | K4: =SUM(#REF!) -> #REF! | M4: =SUM(#REF!) -> #REF! | N4: =SUM(B4:M4) -> #REF!
A5: Janvier | B5: =SUM(#REF!) -> #REF! | D5: =SUM(#REF!) -> #REF! | E5: =SUM(#REF!) -> #REF! | F5: =SUM(#REF!) -> #REF! | G5: =SUM(#REF!) -> #REF! | H5: =SUM(#REF!) -> #REF! | I5: =SUM(#REF!) -> #REF! | J5: =SUM(#REF!) -> #REF! | K5: =SUM(#REF!) -> #REF! | M5: =SUM(#REF!) -> #REF! | N5: =SUM(B5:M5) -> #REF!
A6: Février | B6: =SUM(#REF!) -> #REF! | D6: =SUM(#REF!) -> #REF! | E6: =SUM(#REF!) -> #REF! | F6: =SUM(#REF!) -> #REF! | G6: =SUM(#REF!) -> #REF! | H6: =SUM(#REF!) -> #REF! | I6: =SUM(#REF!) -> #REF! | J6: =SUM(#REF!) -> #REF! | K6: =SUM(#REF!) -> #REF! | M6: =SUM(#REF!) -> #REF! | N6: =SUM(B6,D6,E6,F6,G6:M6) -> #REF!
A7: Mars | B7: =SUM(#REF!) -> #REF! | D7: =SUM(#REF!) -> #REF! | E7: =SUM(#REF!) -> #REF! | F7: =SUM(#REF!) -> #REF! | G7: =SUM(#REF!) -> #REF! | H7: =SUM(#REF!) -> #REF! | I7: =SUM(#REF!) -> #REF! | J7: =SUM(#REF!) -> #REF! | K7: =SUM(#REF!) -> #REF! | M7: =SUM(#REF!) -> #REF! | N7: =SUM(B7:M7) -> #REF!
A8: Avril | B8: =SUM(#REF!) -> #REF! | D8: =SUM(#REF!) -> #REF! | E8: =SUM(#REF!) -> #REF! | F8: =SUM(#REF!) -> #REF! | G8: =SUM(#REF!) -> #REF! | H8: =SUM(#REF!) -> #REF! | I8: =SUM(#REF!) -> #REF! | J8: =SUM(#REF!) -> #REF! | K8: =SUM(#REF!) -> #REF! | ... M8: =SUM(#REF!) -> #REF! | N8: =SUM(B8,D8:M8) -> #REF!
A9: Mai | B9: =SUM(#REF!) -> #REF! | E9: =SUM(#REF!) -> #REF! | F9: =SUM(#REF!) -> #REF! | I9: =SUM(#REF!) -> #REF! | K9: =SUM(#REF!) -> #REF! | L9: =SUM(#REF!) -> #REF! | M9: =SUM(#REF!) -> #REF! | N9: =SUM(B9:M9) -> #REF!
A10: Juin | B10: =SUM(#REF!) -> #REF! | D10: =SUM(#REF!) -> #REF! | E10: =SUM(#REF!) -> #REF! | F10: =SUM(#REF!) -> #REF! | G10: =SUM(#REF!) -> #REF! | H10: =SUM(#REF!) -> #REF! | I10: =SUM(#REF!) -> #REF! | J10: =SUM(#REF!) -> #REF! | K10: =SUM(#REF!) -> #REF! | ... M10: =SUM(#REF!) -> #REF! | N10: =SUM(B10:M10) -> #REF!
A11: Juillet | B11: =SUM(#REF!) -> #REF! | C11: =SUM(#REF!) -> #REF! | D11: =SUM(#REF!) -> #REF! | E11: =SUM(#REF!) -> #REF! | F11: =SUM(#REF!) -> #REF! | G11: =SUM(#REF!) -> #REF! | H11: =SUM(#REF!) -> #REF! | I11: =SUM(#REF!) -> #REF! | ... K11: =SUM(#REF!) -> #REF! | M11: =SUM(#REF!) -> #REF! | N11: =SUM(B11,D11:M11) -> #REF!
A12: Août | B12: =SUM(Août!E283) -> 0 | C12: =SUM(Août!J283) -> 0 | E12: =SUM(Août!O6) -> 81 | F12: =SUM(Août!T17) -> 289.36667 | G12: =SUM(Août!Y10) -> 65.266667 | I12: =SUM(Août!AI283) -> 0 | K12: =SUM(Août!AS54) -> 265.7 | M12: =SUM(Août!AX283) -> 0 | N12: =SUM(B12:M12) -> 701.33333
A13: Septembre | B13: =SUM(Septembre!E283) -> 0 | C13: =SUM(Septembre!J93) -> 817.16667 | E13: =SUM(Septembre!O111) -> 56.7 | F13: =SUM(Septembre!T79) -> 48.8 | G13: =SUM(Septembre!Y148) -> 74.533333 | H13: =SUM(Septembre!AD283) -> 0 | I13: =SUM(Septembre!AI283) -> 0 | J13: =SUM(Septembre!AN283) -> 0 | K13: =SUM(Septembre!AS97) -> 56.4 | M13: =SUM(Septembre!AX283) -> 0 | N13: =SUM(B13:M13) -> 1053.6
A14: TOTAL / CLIENT | B14: =SUM(B2:B13) -> #REF! | D14: =SUM(D2:D13) -> #REF! | E14: =SUM(E2:E13) -> #REF! | F14: =SUM(F2:F13) -> #REF! | G14: =SUM(G2:G13) -> #REF! | H14: =SUM(H2:H13) -> #REF! | I14: =SUM(I2:I13) -> #REF! | J14: =SUM(J2:J13) -> #REF! | K14: =SUM(K2:K13) -> #REF! | ... N14: =SUM(N2:N13) -> #REF!
A15: TOTAL ANNUEL | B15: =SUM(B14:M14) -> #REF!
B17: =SUM(B7:B11) -> #REF! | E17: =SUM(E7:E11) -> #REF! | F17: =SUM(F7:F11) -> #REF! | G17: =SUM(G7:G11) -> #REF! | I17: =SUM(I7:I11) -> #REF! | K17: =SUM(K7:K11) -> #REF! | L17: =SUM(L7:L11) -> #REF! | M17: =SUM(M7:M11) -> #REF!
