Workbook

Sheet Feuil1
B1: MATRICULE | C1: NOM | D1: PRENOM | E1: EXERCICE | F1: MOIS | G1: RUBRIQUE | H1: MONTANT RETENU
B2: 120 | C2: EEEEEEEEE | D2: EEEEEEEEEEEEE | E2: 2012 | F2: 1 | G2: 745 | H2: 2000.0000
B3: 120 | C3: EEEEEEEEE | D3: EEEEEEEEEEEEE | E3: 2012 | F3: 4 | G3: 745 | H3: 1000.0000
B4: 120 | C4: EEEEEEEEE | D4: EEEEEEEEEEEEE | E4: 2012 | F4: 5 | G4: 745 | H4: 1000.0000
B5: 120 | C5: EEEEEEEEE | D5: EEEEEEEEEEEEE | E5: 2012 | F5: 6 | G5: 745 | H5: 1000.0000
B6: 120 | C6: EEEEEEEEE | D6: EEEEEEEEEEEEE | E6: 2012 | F6: 7 | G6: 745 | H6: 1000.0000
B7: 120 | C7: EEEEEEEEE | D7: EEEEEEEEEEEEE | E7: 2012 | F7: 8 | G7: 745 | H7: 1000.0000
B8: 120 | C8: EEEEEEEEE | D8: EEEEEEEEEEEEE | E8: 2012 | F8: 9 | G8: 745 | H8: 1000.0000
B9: 120 | C9: EEEEEEEEE | D9: EEEEEEEEEEEEE | E9: 2012 | F9: 10 | G9: 745 | H9: 4000.0000
B10: 239 | C10: CCCCCCCC | D10: CCCCCCCCCCC | E10: 2012 | F10: 1 | G10: 745 | H10: 2000.0000
B11: 239 | C11: CCCCCCCC | D11: CCCCCCCCCCC | E11: 2012 | F11: 2 | G11: 745 | H11: 4000.0000
B12: 239 | C12: CCCCCCCC | D12: CCCCCCCCCCC | E12: 2012 | F12: 3 | G12: 745 | H12: 4000.0000
B13: 239 | C13: CCCCCCCC | D13: CCCCCCCCCCC | E13: 2012 | F13: 4 | G13: 745 | H13: 5000.0000
... B56: 707 | C56: AAAAAA | D56: AAAAAAAAA | E56: 2012 | F56: 12 | G56: 745 | H56: 3000.0000

Sheet Feuil2
B2: EXERCICE | C2: 2011
B6: MATRICULE | C6: NOM | D6: PRENOM | E6: MONTANT RETENU
B7: 707 | C7: AAAAAA | D7: AAAAAAAAA | E7: 18000.00
B8: 264 | C8: BBBBBBBB | D8: BBBBBBBBBBB | E8: 20000.00

Sheet Feuil3
B2: EXERCICE | C2: 2011
B4: MATRICULE | C4: NOM | D4: PRENOM | E4: MONT RETENUE
B5: 102 | C5: BAHRI | D5: NADIR | E5: =SUMPRODUCT((Feuil1!$B:$B=B5)*1,(Feuil1!$H:$H)) -> 0
B6: 103 | C6: BEGAG | D6: RABAH | E6: =SUMPRODUCT((Feuil1!$B:$B=B6)*1,(Feuil1!$H:$H)) -> 0
B7: 107 | C7: BELMAHDI | D7: KAMREZAMANE | E7: =SUMPRODUCT((Feuil1!$B:$B=B7)*1,(Feuil1!$H:$H)) -> 0
B8: 108 | C8: BENAMRAOUI | D8: MUSTAPHA | E8: =SUMPRODUCT((Feuil1!$B:$B=B8)*1,(Feuil1!$H:$H)) -> 0
B9: 109 | C9: BENARAB | D9: BOUZID | E9: =SUMPRODUCT((Feuil1!$B:$B=B9)*1,(Feuil1!$H:$H)) -> 0
B10: 110 | C10: BOULEFRAKH | D10: KAMEL | E10: =SUMPRODUCT((Feuil1!$B:$B=B10)*1,(Feuil1!$H:$H)) -> 0
B11: 111 | C11: BENKHADRA | D11: BELKACEM | E11: =SUMPRODUCT((Feuil1!$B:$B=B11)*1,(Feuil1!$H:$H)) -> 0
B12: 112 | C12: BOULADOUAR | D12: ALI | E12: =SUMPRODUCT((Feuil1!$B:$B=B12)*1,(Feuil1!$H:$H)) -> 0
B13: 114 | C13: BOURAS | D13: FARID | E13: =SUMPRODUCT((Feuil1!$B:$B=B13)*1,(Feuil1!$H:$H)) -> 0
B14: 116 | C14: RAGOUB | D14: NACERDDINE | E14: =SUMPRODUCT((Feuil1!$B:$B=B14)*1,(Feuil1!$H:$H)) -> 0
B15: 117 | C15: DAHMAS | D15: BACHIR | E15: =SUMPRODUCT((Feuil1!$B:$B=B15)*1,(Feuil1!$H:$H)) -> 0
B16: 118 | C16: LAMRI | D16: FARID | E16: =SUMPRODUCT((Feuil1!$B:$B=B16)*1,(Feuil1!$H:$H)) -> 0
... B624: 16037 | C624: HAMADENE | D624: LIES | E624: =SUMPRODUCT((Feuil1!$B:$B=B624)*1,(Feuil1!$H:$H)) -> 0
