Workbook

Sheet DONNEES TCO
A1: Articles | B1: Quantités a COMMANDER | C1: BIOCHIM | D1: Dispo | E1: labochrome | F1: Dispo | G1: CHIMIE | H1: Dispo | I1: pluschem | J1: Dispo | K1: CHOIX
A2: ARTICLE 001 | B2: 10 | C2: 663.09 | D2: O | E2: 710 | F2: O | G2: 630 | H2: O | I2: 420 | J2: O | K2: =INDEX('DONNEES TCO'!$C$1:$I$1,,MATCH(MIN(IF(IF(D1:J1="dispo",D2:J2,"")="o",((IF(A$1:J$1="délai",A2:J2*1,2000000)&IF(ISNUMBER(SEARCH("fr",#REF!)),IF(#REF!>0,#REF!,20000)*1,2000000))*1),"")),IF(ISNUMBER((A2:J2&#REF!)*1),(A2:J2&#REF!)*1,""),0)) -> #VALUE!
A3: ARTICLE 002 | B3: 10 | C3: 1158.6 | D3: O | E3: 1200 | F3: O | G3: 0 | H3: N | I3: 2400 | J3: O | K3: =INDEX('DONNEES TCO'!$C$1:$I$1,,MATCH(MIN(IF(IF(#REF!="dispo",#REF!,"")="o",((IF(A$1:J$1="délai",A3:J3*1,2000000)&IF(ISNUMBER(SEARCH("fr",#REF!)),IF(#REF!>0,#REF!,20000)*1,2000000))*1),"")),IF(ISNUMBER((A3:J3&#REF!)*1),(A3:J3&#REF!)*1,""),0)) -> #REF!
A4: ARTICLE 003 | B4: 30 | C4: 315 | D4: N | E4: 300 | F4: O | G4: 210 | H4: O | I4: 1450 | J4: N | K4: =INDEX('DONNEES TCO'!$C$1:$I$1,,MATCH(MIN(IF(IF(#REF!="dispo",#REF!,"")="o",((IF(A$1:J$1="délai",A4:J4*1,2000000)&IF(ISNUMBER(SEARCH("fr",#REF!)),IF(#REF!>0,#REF!,20000)*1,2000000))*1),"")),IF(ISNUMBER((A4:J4&#REF!)*1),(A4:J4&#REF!)*1,""),0)) -> #REF!
A5: ARTICLE 004 | B5: 10 | C5: 168.07 | D5: O | E5: 180 | F5: O | G5: 160 | H5: O | I5: 2400 | J5: O | K5: =INDEX('DONNEES TCO'!$C$1:$I$1,,MATCH(MIN(IF(IF(#REF!="dispo",#REF!,"")="o",((IF(A$1:J$1="délai",A5:J5*1,2000000)&IF(ISNUMBER(SEARCH("fr",#REF!)),IF(#REF!>0,#REF!,20000)*1,2000000))*1),"")),IF(ISNUMBER((A5:J5&#REF!)*1),(A5:J5&#REF!)*1,""),0)) -> #REF!
A6: ARTICLE 005 | B6: 10 | C6: 0 | D6: N | E6: 4920 | F6: O | G6: 0 | H6: N | I6: 1900 | J6: N | K6: =INDEX('DONNEES TCO'!$C$1:$I$1,,MATCH(MIN(IF(IF(#REF!="dispo",#REF!,"")="o",((IF(A$1:J$1="délai",A6:J6*1,2000000)&IF(ISNUMBER(SEARCH("fr",#REF!)),IF(#REF!>0,#REF!,20000)*1,2000000))*1),"")),IF(ISNUMBER((A6:J6&#REF!)*1),(A6:J6&#REF!)*1,""),0)) -> #REF!
A7: ARTICLE 006 | B7: 30 | C7: 220 | D7: N | E7: 210 | F7: O | G7: 175 | H7: O | I7: 1800 | J7: N | K7: =INDEX('DONNEES TCO'!$C$1:$I$1,,MATCH(MIN(IF(IF(#REF!="dispo",#REF!,"")="o",((IF(A$1:J$1="délai",A7:J7*1,2000000)&IF(ISNUMBER(SEARCH("fr",#REF!)),IF(#REF!>0,#REF!,20000)*1,2000000))*1),"")),IF(ISNUMBER((A7:J7&#REF!)*1),(A7:J7&#REF!)*1,""),0)) -> #REF!
A8: ARTICLE 007 | B8: 30 | C8: 177.12 | D8: O | E8: 190 | F8: O | G8: 170 | H8: O | I8: 1900 | J8: O | K8: =INDEX('DONNEES TCO'!$C$1:$I$1,,MATCH(MIN(IF(IF(#REF!="dispo",#REF!,"")="o",((IF(A$1:J$1="délai",A8:J8*1,2000000)&IF(ISNUMBER(SEARCH("fr",#REF!)),IF(#REF!>0,#REF!,20000)*1,2000000))*1),"")),IF(ISNUMBER((A8:J8&#REF!)*1),(A8:J8&#REF!)*1,""),0)) -> #REF!
A9: ARTICLE 008 | B9: 2 | C9: 13980 | D9: N | E9: 13440 | F9: O | G9: 6900 | H9: O | I9: 0 | J9: N | K9: =INDEX('DONNEES TCO'!$C$1:$I$1,,MATCH(MIN(IF(IF(#REF!="dispo",#REF!,"")="o",((IF(A$1:J$1="délai",A9:J9*1,2000000)&IF(ISNUMBER(SEARCH("fr",#REF!)),IF(#REF!>0,#REF!,20000)*1,2000000))*1),"")),IF(ISNUMBER((A9:J9&#REF!)*1),(A9:J9&#REF!)*1,""),0)) -> #REF!
A10: ARTICLE 009 | B10: 20 | C10: 835 | D10: N | E10: 800 | F10: O | G10: 420 | H10: O | I10: 630 | J10: N | K10: =INDEX('DONNEES TCO'!$C$1:$I$1,,MATCH(MIN(IF(IF(#REF!="dispo",#REF!,"")="o",((IF(A$1:J$1="délai",A10:J10*1,2000000)&IF(ISNUMBER(SEARCH("fr",#REF!)),IF(#REF!>0,#REF!,20000)*1,2000000))*1),"")),IF(ISNUMBER((A10:J10&#REF!)*1),(A10:J10&#REF!)*1,""),0)) -> #REF!
A11: ARTICLE 010 | B11: 20 | C11: 2695 | D11: N | E11: 2600 | F11: O | G11: 0 | H11: N | I11: 1800 | J11: N | K11: =INDEX('DONNEES TCO'!$C$1:$I$1,,MATCH(MIN(IF(IF(#REF!="dispo",#REF!,"")="o",((IF(A$1:J$1="délai",A11:J11*1,2000000)&IF(ISNUMBER(SEARCH("fr",#REF!)),IF(#REF!>0,#REF!,20000)*1,2000000))*1),"")),IF(ISNUMBER((A11:J11&#REF!)*1),(A11:J11&#REF!)*1,""),0)) -> #REF!
A12: ARTICLE 011 | B12: 20 | C12: 410.11 | D12: O | E12: 420 | F12: O | G12: 200 | H12: O | I12: 1450 | J12: O | K12: =INDEX('DONNEES TCO'!$C$1:$I$1,,MATCH(MIN(IF(IF(#REF!="dispo",#REF!,"")="o",((IF(A$1:J$1="délai",A12:J12*1,2000000)&IF(ISNUMBER(SEARCH("fr",#REF!)),IF(#REF!>0,#REF!,20000)*1,2000000))*1),"")),IF(ISNUMBER((A12:J12&#REF!)*1),(A12:J12&#REF!)*1,""),0)) -> #REF!
A13: ARTICLE 012 | B13: 20 | C13: 688.9 | D13: O | E13: 690 | F13: O | G13: 300 | H13: O | I13: 820 | J13: O | K13: =INDEX('DONNEES TCO'!$C$1:$I$1,,MATCH(MIN(IF(IF(#REF!="dispo",#REF!,"")="o",((IF(A$1:J$1="délai",A13:J13*1,2000000)&IF(ISNUMBER(SEARCH("fr",#REF!)),IF(#REF!>0,#REF!,20000)*1,2000000))*1),"")),IF(ISNUMBER((A13:J13&#REF!)*1),(A13:J13&#REF!)*1,""),0)) -> #REF!
A14: ARTICLE 013 | B14: 20 | C14: 2982.96 | D14: O | E14: 3050 | F14: O | G14: 3100 | H14: O | I14: 1800 | J14: O | K14: =INDEX('DONNEES TCO'!$C$1:$I$1,,MATCH(MIN(IF(IF(#REF!="dispo",#REF!,"")="o",((IF(A$1:J$1="délai",A14:J14*1,2000000)&IF(ISNUMBER(SEARCH("fr",#REF!)),IF(#REF!>0,#REF!,20000)*1,2000000))*1),"")),IF(ISNUMBER((A14:J14&#REF!)*1),(A14:J14&#REF!)*1,""),0)) -> #REF!
... A46: ARTICLE 045 | B46: 5 | C46: 435 | D46: N | E46: 420 | F46: O | G46: 210 | H46: O | I46: 1450 | J46: N | K46: =INDEX('DONNEES TCO'!$C$1:$I$1,,MATCH(MIN(IF(IF(#REF!="dispo",#REF!,"")="o",((IF(A$1:J$1="délai",A46:J46*1,2000000)&IF(ISNUMBER(SEARCH("fr",#REF!)),IF(#REF!>0,#REF!,20000)*1,2000000))*1),"")),IF(ISNUMBER((A46:J46&#REF!)*1),(A46:J46&#REF!)*1,""),0)) -> #REF!
