Workbook
Name Article: BD!$H$2:$H$1000
Name code: BD!$I$2:$I$1000
Name Désignation: BD!$C$2:$C$1000
Name Dim_Carton: BD!$F$2:$F$1000
Name Nb_Cartons: BD!$A$2:$A$1000
Name Nb_Palette: BD!$G$2:$G$1000
Name Nb_ref_Carton: BD!$D$2:$D$1000
Name Poids_Carton: BD!$E$2:$E$1000
Name ref_dans_carton: Logistique!$B$3:$B$1000
Name Ref_Par_Carton: OFFSET(BD!$B$2,0,0,COUNTA(BD!$B:$B)-1,1)

Sheet Logistique
A4: Nb de carton | B4: Ref dans le carton | C4: Désignation | D4: Nb/ref par Carton | E4: Poids du Carton Kg | F4: Dim Carton l x Lar x H | G4: Nb Palette | I4: {=INDEX(ref_dans_carton,MIN(IF(ref_dans_carton<>"",IF(COUNTIF(I$2:I2,ref_dans_carton)=0,ROW(ref_dans_carton)-2))))&""} -> Ref dans le carton | J4: Qté | L4: Articles | M4: Qté
A5: 1 | B5: DH 154 | C5: =IFERROR(INDEX(Désignation,MATCH($B5,Ref_Par_Carton,0)), " ") -> PM 200x160cm | D5: 40 | E5: 29 | F5: 60x40x60 | I5: {=INDEX(ref_dans_carton,MIN(IF(ref_dans_carton<>"",IF(COUNTIF(I$2:I4,ref_dans_carton)=0,ROW(ref_dans_carton)-2))))&""} -> DH 154 | J5: =IF(I5="","",SUMPRODUCT(($B$5:$B$1000=$I5)*($A$5:$A$1000)*($D$5:$D$1000))) -> 40 | L5: =IFERROR(INDEX(Article,MATCH(BD!K2,code,0)),"") -> Protège Matelas | M5: =IFERROR(SUMPRODUCT((LEFT($B$5:$B$34,2)=VLOOKUP(L5,BD!$H$1:$I$27,2,0))*($A$5:$A$34)*($D$5:$D$34)),"") -> 132 | O5: Total Carton | P5: =SUM(A5:A1000) -> 3
A6: 1 | B6: DH153 | C6: =IFERROR(INDEX(Désignation,MATCH($B6,Ref_Par_Carton,0)), " ") -> PM 190x140cm | D6: 40 | E6: 27 | F6: 60x40x60 | I6: {=INDEX(ref_dans_carton,MIN(IF(ref_dans_carton<>"",IF(COUNTIF(I$2:I5,ref_dans_carton)=0,ROW(ref_dans_carton)-2))))&""} -> DH153 | J6: =IF(I6="","",SUMPRODUCT(($B$5:$B$1000=$I6)*($A$5:$A$1000)*($D$5:$D$1000))) -> 40 | L6: =IFERROR(INDEX(Article,MATCH(BD!K3,code,0)),"") | M6: =IFERROR(SUMPRODUCT((LEFT($B$5:$B$34,2)=VLOOKUP(L6,BD!$H$1:$I$27,2,0))*($A$5:$A$34)*($D$5:$D$34)),"") | O6: Total Palette | P6: =SUM(G5:G1000) -> 0
A7: 1 | B7: DH152 | C7: =IFERROR(INDEX(Désignation,MATCH($B7,Ref_Par_Carton,0)), " ") -> PM 120x60cm | D7: 52 | E7: 25 | F7: 60x40x60 | I7: {=INDEX(ref_dans_carton,MIN(IF(ref_dans_carton<>"",IF(COUNTIF(I$2:I6,ref_dans_carton)=0,ROW(ref_dans_carton)-2))))&""} -> DH152 | J7: =IF(I7="","",SUMPRODUCT(($B$5:$B$1000=$I7)*($A$5:$A$1000)*($D$5:$D$1000))) -> 52 | L7: =IFERROR(INDEX(Article,MATCH(BD!K4,code,0)),"") | M7: =IFERROR(SUMPRODUCT((LEFT($B$5:$B$34,2)=VLOOKUP(L7,BD!$H$1:$I$27,2,0))*($A$5:$A$34)*($D$5:$D$34)),"")
A8: 0 | B8: DH153 | C8: =IFERROR(INDEX(Désignation,MATCH($B8,Ref_Par_Carton,0)), " ") -> PM 190x140cm | D8: 10 | I8: {=INDEX(ref_dans_carton,MIN(IF(ref_dans_carton<>"",IF(COUNTIF(I$2:I7,ref_dans_carton)=0,ROW(ref_dans_carton)-2))))&""} | J8: =IF(I8="","",SUMPRODUCT(($B$5:$B$1000=$I8)*($A$5:$A$1000)*($D$5:$D$1000))) | L8: =IFERROR(INDEX(Article,MATCH(BD!K5,code,0)),"") | M8: =IFERROR(SUMPRODUCT((LEFT($B$5:$B$34,2)=VLOOKUP(L8,BD!$H$1:$I$27,2,0))*($A$5:$A$34)*($D$5:$D$34)),"")
A9: 0 | B9: DH 154 | C9: =IFERROR(INDEX(Désignation,MATCH($B9,Ref_Par_Carton,0)), " ") -> PM 200x160cm | D9: 10 | I9: {=INDEX(ref_dans_carton,MIN(IF(ref_dans_carton<>"",IF(COUNTIF(I$2:I8,ref_dans_carton)=0,ROW(ref_dans_carton)-2))))&""} | J9: =IF(I9="","",SUMPRODUCT(($B$5:$B$1000=$I9)*($A$5:$A$1000)*($D$5:$D$1000))) | L9: =IFERROR(INDEX(Article,MATCH(BD!K6,code,0)),"") | M9: =IFERROR(SUMPRODUCT((LEFT($B$5:$B$34,2)=VLOOKUP(L9,BD!$H$1:$I$27,2,0))*($A$5:$A$34)*($D$5:$D$34)),"")
C10: =IFERROR(INDEX(Désignation,MATCH($B10,Ref_Par_Carton,0)), " ") | I10: {=INDEX(ref_dans_carton,MIN(IF(ref_dans_carton<>"",IF(COUNTIF(I$2:I9,ref_dans_carton)=0,ROW(ref_dans_carton)-2))))&""} | J10: =IF(I10="","",SUMPRODUCT(($B$5:$B$1000=$I10)*($A$5:$A$1000)*($D$5:$D$1000))) | L10: =IFERROR(INDEX(Article,MATCH(BD!K7,code,0)),"") | M10: =IFERROR(SUMPRODUCT((LEFT($B$5:$B$34,2)=VLOOKUP(L10,BD!$H$1:$I$27,2,0))*($A$5:$A$34)*($D$5:$D$34)),"")
C11: =IFERROR(INDEX(Désignation,MATCH($B11,Ref_Par_Carton,0)), " ") | I11: {=INDEX(ref_dans_carton,MIN(IF(ref_dans_carton<>"",IF(COUNTIF(I$2:I10,ref_dans_carton)=0,ROW(ref_dans_carton)-2))))&""} | J11: =IF(I11="","",SUMPRODUCT(($B$5:$B$1000=$I11)*($A$5:$A$1000)*($D$5:$D$1000))) | L11: =IFERROR(INDEX(Article,MATCH(BD!K8,code,0)),"") | M11: =IFERROR(SUMPRODUCT((LEFT($B$5:$B$34,2)=VLOOKUP(L11,BD!$H$1:$I$27,2,0))*($A$5:$A$34)*($D$5:$D$34)),"")
C12: =IFERROR(INDEX(Désignation,MATCH($B12,Ref_Par_Carton,0)), " ") | I12: {=INDEX(ref_dans_carton,MIN(IF(ref_dans_carton<>"",IF(COUNTIF(I$2:I11,ref_dans_carton)=0,ROW(ref_dans_carton)-2))))&""} | J12: =IF(I12="","",SUMPRODUCT(($B$5:$B$1000=$I12)*($A$5:$A$1000)*($D$5:$D$1000))) | L12: =IFERROR(INDEX(Article,MATCH(BD!K9,code,0)),"") | M12: =IFERROR(SUMPRODUCT((LEFT($B$5:$B$34,2)=VLOOKUP(L12,BD!$H$1:$I$27,2,0))*($A$5:$A$34)*($D$5:$D$34)),"")
C13: =IFERROR(INDEX(Désignation,MATCH($B13,Ref_Par_Carton,0)), " ") | I13: {=INDEX(ref_dans_carton,MIN(IF(ref_dans_carton<>"",IF(COUNTIF(I$2:I12,ref_dans_carton)=0,ROW(ref_dans_carton)-2))))&""} | J13: =IF(I13="","",SUMPRODUCT(($B$5:$B$1000=$I13)*($A$5:$A$1000)*($D$5:$D$1000))) | L13: =IFERROR(INDEX(Article,MATCH(BD!K10,code,0)),"") | M13: =IFERROR(SUMPRODUCT((LEFT($B$5:$B$34,2)=VLOOKUP(L13,BD!$H$1:$I$27,2,0))*($A$5:$A$34)*($D$5:$D$34)),"")
C14: =IFERROR(INDEX(Désignation,MATCH($B14,Ref_Par_Carton,0)), " ") | I14: {=INDEX(ref_dans_carton,MIN(IF(ref_dans_carton<>"",IF(COUNTIF(I$2:I13,ref_dans_carton)=0,ROW(ref_dans_carton)-2))))&""} | J14: =IF(I14="","",SUMPRODUCT(($B$5:$B$1000=$I14)*($A$5:$A$1000)*($D$5:$D$1000))) | L14: =IFERROR(INDEX(Article,MATCH(BD!K11,code,0)),"") | M14: =IFERROR(SUMPRODUCT((LEFT($B$5:$B$34,2)=VLOOKUP(L14,BD!$H$1:$I$27,2,0))*($A$5:$A$34)*($D$5:$D$34)),"")
C15: =IFERROR(INDEX(Désignation,MATCH($B15,Ref_Par_Carton,0)), " ") | I15: {=INDEX(ref_dans_carton,MIN(IF(ref_dans_carton<>"",IF(COUNTIF(I$2:I14,ref_dans_carton)=0,ROW(ref_dans_carton)-2))))&""} | J15: =IF(I15="","",SUMPRODUCT(($B$5:$B$1000=$I15)*($A$5:$A$1000)*($D$5:$D$1000))) | L15: =IFERROR(INDEX(Article,MATCH(BD!K12,code,0)),"") | M15: =IFERROR(SUMPRODUCT((LEFT($B$5:$B$34,2)=VLOOKUP(L15,BD!$H$1:$I$27,2,0))*($A$5:$A$34)*($D$5:$D$34)),"")
C16: =IFERROR(INDEX(Désignation,MATCH($B16,Ref_Par_Carton,0)), " ") | I16: {=INDEX(ref_dans_carton,MIN(IF(ref_dans_carton<>"",IF(COUNTIF(I$2:I15,ref_dans_carton)=0,ROW(ref_dans_carton)-2))))&""} | J16: =IF(I16="","",SUMPRODUCT(($B$5:$B$1000=$I16)*($A$5:$A$1000)*($D$5:$D$1000))) | L16: =IFERROR(INDEX(Article,MATCH(BD!K13,code,0)),"") | M16: =IFERROR(SUMPRODUCT((LEFT($B$5:$B$34,2)=VLOOKUP(L16,BD!$H$1:$I$27,2,0))*($A$5:$A$34)*($D$5:$D$34)),"")
C17: =IFERROR(INDEX(Désignation,MATCH($B17,Ref_Par_Carton,0)), " ") | I17: {=INDEX(ref_dans_carton,MIN(IF(ref_dans_carton<>"",IF(COUNTIF(I$2:I16,ref_dans_carton)=0,ROW(ref_dans_carton)-2))))&""} | J17: =IF(I17="","",SUMPRODUCT(($B$5:$B$1000=$I17)*($A$5:$A$1000)*($D$5:$D$1000))) | L17: =IFERROR(INDEX(Article,MATCH(BD!K14,code,0)),"") | M17: =IFERROR(SUMPRODUCT((LEFT($B$5:$B$34,2)=VLOOKUP(L17,BD!$H$1:$I$27,2,0))*($A$5:$A$34)*($D$5:$D$34)),"")
C18: =IFERROR(INDEX(Désignation,MATCH($B18,Ref_Par_Carton,0)), " ") | I18: {=INDEX(ref_dans_carton,MIN(IF(ref_dans_carton<>"",IF(COUNTIF(I$2:I17,ref_dans_carton)=0,ROW(ref_dans_carton)-2))))&""} | J18: =IF(I18="","",SUMPRODUCT(($B$5:$B$1000=$I18)*($A$5:$A$1000)*($D$5:$D$1000))) | L18: =IFERROR(INDEX(Article,MATCH(BD!K15,code,0)),"") | M18: =IFERROR(SUMPRODUCT((LEFT($B$5:$B$34,2)=VLOOKUP(L18,BD!$H$1:$I$27,2,0))*($A$5:$A$34)*($D$5:$D$34)),"")
C19: =IFERROR(INDEX(Désignation,MATCH($B19,Ref_Par_Carton,0)), " ") | I19: {=INDEX(ref_dans_carton,MIN(IF(ref_dans_carton<>"",IF(COUNTIF(I$2:I18,ref_dans_carton)=0,ROW(ref_dans_carton)-2))))&""} | J19: =IF(I19="","",SUMPRODUCT(($B$5:$B$1000=$I19)*($A$5:$A$1000)*($D$5:$D$1000))) | L19: =IFERROR(INDEX(Article,MATCH(BD!K16,code,0)),"") | M19: =IFERROR(SUMPRODUCT((LEFT($B$5:$B$34,2)=VLOOKUP(L19,BD!$H$1:$I$27,2,0))*($A$5:$A$34)*($D$5:$D$34)),"")
C20: =IFERROR(INDEX(Désignation,MATCH($B20,Ref_Par_Carton,0)), " ") | I20: {=INDEX(ref_dans_carton,MIN(IF(ref_dans_carton<>"",IF(COUNTIF(I$2:I19,ref_dans_carton)=0,ROW(ref_dans_carton)-2))))&""} | J20: =IF(I20="","",SUMPRODUCT(($B$5:$B$1000=$I20)*($A$5:$A$1000)*($D$5:$D$1000))) | L20: =IFERROR(INDEX(Article,MATCH(BD!K17,code,0)),"") | M20: =IFERROR(SUMPRODUCT((LEFT($B$5:$B$34,2)=VLOOKUP(L20,BD!$H$1:$I$27,2,0))*($A$5:$A$34)*($D$5:$D$34)),"")
C21: =IFERROR(INDEX(Désignation,MATCH($B21,Ref_Par_Carton,0)), " ") | I21: {=INDEX(ref_dans_carton,MIN(IF(ref_dans_carton<>"",IF(COUNTIF(I$2:I20,ref_dans_carton)=0,ROW(ref_dans_carton)-2))))&""} | J21: =IF(I21="","",SUMPRODUCT(($B$5:$B$1000=$I21)*($A$5:$A$1000)*($D$5:$D$1000))) | L21: =IFERROR(INDEX(Article,MATCH(BD!K18,code,0)),"") | M21: =IFERROR(SUMPRODUCT((LEFT($B$5:$B$34,2)=VLOOKUP(L21,BD!$H$1:$I$27,2,0))*($A$5:$A$34)*($D$5:$D$34)),"")
... C34: =IFERROR(INDEX(Désignation,MATCH($B34,Ref_Par_Carton,0)), " ") | I34: {=INDEX(ref_dans_carton,MIN(IF(ref_dans_carton<>"",IF(COUNTIF(I$2:I33,ref_dans_carton)=0,ROW(ref_dans_carton)-2))))&""} | J34: =IF(I34="","",SUMPRODUCT(($B$5:$B$1000=$I34)*($A$5:$A$1000)*($D$5:$D$1000))) | L34: =IFERROR(INDEX(Article,MATCH(BD!K31,code,0)),"") | M34: =IFERROR(SUMPRODUCT((LEFT($B$5:$B$34,2)=VLOOKUP(L34,BD!$H$1:$I$27,2,0))*($A$5:$A$34)*($D$5:$D$34)),"")

Sheet BD
A1: Nb Cartons | B1: Ref par carton | C1: Désignation | D1: Nb/ref Carton | E1: Poids Carton | F1: Dim Carton | G1: Nb Palette | H1: Article | I1: code | K1: Ref Log.
A2: 1 | B2: CT194 | C2: CP 200x140cm | D2: 1 | G2: 1 | H2: Couette | I2: ct | J2: =LEFT(Logistique!I5,2) -> DH | K2: {=INDEX(BD!$J$1:$J$1000,MIN(IF(BD!$J$1:$J$1000<>"",IF(COUNTIF(BD!$K$1:$K1,BD!$J$1:$J$1000)=0,ROW(BD!$J$1:$J$1000)))))&""} -> DH
A3: 2 | B3: CT269 | C3: CP 240x220cm | D3: 2 | G3: 2 | H3: Protège Matelas | I3: dh | J3: =LEFT(Logistique!I6,2) -> DH | K3: {=INDEX(BD!$J$1:$J$1000,MIN(IF(BD!$J$1:$J$1000<>"",IF(COUNTIF(BD!$K$1:$K2,BD!$J$1:$J$1000)=0,ROW(BD!$J$1:$J$1000)))))&""}
A4: 3 | B4: CT277 | C4: CP 260x240cm | D4: 3 | G4: 3 | J4: =LEFT(Logistique!I7,2) -> DH | K4: {=INDEX(BD!$J$1:$J$1000,MIN(IF(BD!$J$1:$J$1000<>"",IF(COUNTIF(BD!$K$1:$K3,BD!$J$1:$J$1000)=0,ROW(BD!$J$1:$J$1000)))))&""}
A5: 4 | B5: DH152 | C5: PM 120x60cm | D5: 4 | G5: 4 | J5: =LEFT(Logistique!I8,2) | K5: {=INDEX(BD!$J$1:$J$1000,MIN(IF(BD!$J$1:$J$1000<>"",IF(COUNTIF(BD!$K$1:$K4,BD!$J$1:$J$1000)=0,ROW(BD!$J$1:$J$1000)))))&""}
A6: 5 | B6: DH153 | C6: PM 190x140cm | D6: 5 | G6: 5 | J6: =LEFT(Logistique!I9,2) | K6: {=INDEX(BD!$J$1:$J$1000,MIN(IF(BD!$J$1:$J$1000<>"",IF(COUNTIF(BD!$K$1:$K5,BD!$J$1:$J$1000)=0,ROW(BD!$J$1:$J$1000)))))&""}
A7: 6 | B7: DH 154 | C7: PM 200x160cm | D7: 6 | G7: 6 | J7: =LEFT(Logistique!I10,2) | K7: {=INDEX(BD!$J$1:$J$1000,MIN(IF(BD!$J$1:$J$1000<>"",IF(COUNTIF(BD!$K$1:$K6,BD!$J$1:$J$1000)=0,ROW(BD!$J$1:$J$1000)))))&""}
A8: 7 | D8: 7 | G8: 7 | K8: {=INDEX(BD!$J$1:$J$1000,MIN(IF(BD!$J$1:$J$1000<>"",IF(COUNTIF(BD!$K$1:$K7,BD!$J$1:$J$1000)=0,ROW(BD!$J$1:$J$1000)))))&""}
A9: 8 | D9: 8 | G9: 8 | K9: {=INDEX(BD!$J$1:$J$1000,MIN(IF(BD!$J$1:$J$1000<>"",IF(COUNTIF(BD!$K$1:$K8,BD!$J$1:$J$1000)=0,ROW(BD!$J$1:$J$1000)))))&""}
A10: 9 | D10: 9 | G10: 9 | J10: =LEFT(Logistique!I13,2) | K10: {=INDEX(BD!$J$1:$J$1000,MIN(IF(BD!$J$1:$J$1000<>"",IF(COUNTIF(BD!$K$1:$K9,BD!$J$1:$J$1000)=0,ROW(BD!$J$1:$J$1000)))))&""}
A11: 10 | D11: 10 | G11: 10 | J11: =LEFT(Logistique!I14,2) | K11: {=INDEX(BD!$J$1:$J$1000,MIN(IF(BD!$J$1:$J$1000<>"",IF(COUNTIF(BD!$K$1:$K10,BD!$J$1:$J$1000)=0,ROW(BD!$J$1:$J$1000)))))&""}
A12: 11 | D12: 11 | G12: 11 | J12: =LEFT(Logistique!I15,2) | K12: {=INDEX(BD!$J$1:$J$1000,MIN(IF(BD!$J$1:$J$1000<>"",IF(COUNTIF(BD!$K$1:$K11,BD!$J$1:$J$1000)=0,ROW(BD!$J$1:$J$1000)))))&""}
A13: 12 | D13: 12 | G13: 12 | J13: =LEFT(Logistique!I16,2) | K13: {=INDEX(BD!$J$1:$J$1000,MIN(IF(BD!$J$1:$J$1000<>"",IF(COUNTIF(BD!$K$1:$K12,BD!$J$1:$J$1000)=0,ROW(BD!$J$1:$J$1000)))))&""}
A14: 13 | D14: 13 | G14: 13 | J14: =LEFT(Logistique!I17,2) | K14: {=INDEX(BD!$J$1:$J$1000,MIN(IF(BD!$J$1:$J$1000<>"",IF(COUNTIF(BD!$K$1:$K13,BD!$J$1:$J$1000)=0,ROW(BD!$J$1:$J$1000)))))&""}
A15: 14 | D15: 14 | G15: 14 | J15: =LEFT(Logistique!I18,2) | K15: {=INDEX(BD!$J$1:$J$1000,MIN(IF(BD!$J$1:$J$1000<>"",IF(COUNTIF(BD!$K$1:$K14,BD!$J$1:$J$1000)=0,ROW(BD!$J$1:$J$1000)))))&""}
A16: 15 | D16: 15 | G16: 15 | J16: =LEFT(Logistique!I19,2) | K16: {=INDEX(BD!$J$1:$J$1000,MIN(IF(BD!$J$1:$J$1000<>"",IF(COUNTIF(BD!$K$1:$K15,BD!$J$1:$J$1000)=0,ROW(BD!$J$1:$J$1000)))))&""}
A17: 16 | D17: 16 | G17: 16 | J17: =LEFT(Logistique!I20,2) | K17: {=INDEX(BD!$J$1:$J$1000,MIN(IF(BD!$J$1:$J$1000<>"",IF(COUNTIF(BD!$K$1:$K16,BD!$J$1:$J$1000)=0,ROW(BD!$J$1:$J$1000)))))&""}
A18: 17 | D18: 17 | G18: 17 | J18: =LEFT(Logistique!I21,2) | K18: {=INDEX(BD!$J$1:$J$1000,MIN(IF(BD!$J$1:$J$1000<>"",IF(COUNTIF(BD!$K$1:$K17,BD!$J$1:$J$1000)=0,ROW(BD!$J$1:$J$1000)))))&""}
A19: 18 | D19: 18 | G19: 18 | J19: =LEFT(Logistique!I22,2) | K19: {=INDEX(BD!$J$1:$J$1000,MIN(IF(BD!$J$1:$J$1000<>"",IF(COUNTIF(BD!$K$1:$K18,BD!$J$1:$J$1000)=0,ROW(BD!$J$1:$J$1000)))))&""}
A20: 19 | D20: 19 | G20: 19 | J20: =LEFT(Logistique!I23,2) | K20: {=INDEX(BD!$J$1:$J$1000,MIN(IF(BD!$J$1:$J$1000<>"",IF(COUNTIF(BD!$K$1:$K19,BD!$J$1:$J$1000)=0,ROW(BD!$J$1:$J$1000)))))&""}
A21: 20 | D21: 20 | G21: 20 | J21: =LEFT(Logistique!I24,2) | K21: {=INDEX(BD!$J$1:$J$1000,MIN(IF(BD!$J$1:$J$1000<>"",IF(COUNTIF(BD!$K$1:$K20,BD!$J$1:$J$1000)=0,ROW(BD!$J$1:$J$1000)))))&""}
... A101: 100 | D101: 100 | G101: 100 | J101: =LEFT(Logistique!I104,2) | K101: {=INDEX(BD!$J$1:$J$1000,MIN(IF(BD!$J$1:$J$1000<>"",IF(COUNTIF(BD!$K$1:$K100,BD!$J$1:$J$1000)=0,ROW(BD!$J$1:$J$1000)))))&""}
