Workbook
Name ListeEtud: OFFSET(Données!$K$3,0,0,COUNT(Données!$J:$J),1)
Name No_Étudiant: OFFSET(Données!$B$2,0,0,COUNTA(Données!$B:$B)-1)

Sheet Prinicpal
A2: Choix des étudiants ayant une date de naissance surpérieur à : | B2: Vérification des données de l'étudiant
A3: 36892 | B3: Nom | C3: Adresse | D3: Ville | E3: Code postal | F3: Province | G3: Pays
B4: Choisir un nom de client | C4: 638 rue Lafeuille | D4: Becancour | E4: G9T 6Y13 | F4: Québec | G4: Canada

Sheet Données
A1: No. Étudiant | B1: Nom et prénom | C1: Date de naissance | D1: adresse | E1: ville | F1: Code postal | G1: Province | H1: Pays | J1: AUX | K1: Liste0 | M1: Voyez le nom défini:
A2: ="" | B2: Choisir un nom de client | M2: menu Formules / Gestionnaire de noms
A3: 1 | B3: Paradis, Jean-Claude | C3: 34782 | D3: 632 rue Lafeuille | E3: Becancour | F3: G9T 6Y7 | G3: Québec | H3: Canada | J3: =IF(C3>Prinicpal!A$3,ROW(),"") | K3: =INDEX(B:B,SMALL(J:J,ROW()-2)) -> St-Pierre, Charles
A4: 2 | B4: St-Pierre, Charles | C4: 36894 | D4: 632 rue Lafeur | E4: Bromont | F4: G2Y 6F7 | G4: Québec | H4: Canada | J4: =IF(C4>Prinicpal!A$3,ROW(),"") -> 4 | K4: =INDEX(B:B,SMALL(J:J,ROW()-2)) -> Côté, René | M4: Nom: | N4: ListeEtud
A5: 3 | B5: Côté, René | C5: 39006 | D5: 633 rue Lafeuille | E5: Becancour | F5: G9T 6Y8 | G5: Québec | H5: Canada | J5: =IF(C5>Prinicpal!A$3,ROW(),"") -> 5 | K5: =INDEX(B:B,SMALL(J:J,ROW()-2)) -> Roy, Bruno | M5: Définition: | N5: =DECALER(Données!$K$3;0;0;NB(Données!$J:$J);1)
A6: 4 | B6: Lacolle, Bernard | C6: 35827 | D6: 633 rue Lafeur | E6: Bromont | F6: G2Y 6F8 | G6: Québec | H6: Canada | J6: =IF(C6>Prinicpal!A$3,ROW(),"") | K6: =INDEX(B:B,SMALL(J:J,ROW()-2)) -> Lafrenière, Pierre
A7: 5 | B7: Roy, Bruno | C7: 36948 | D7: 634 rue Lafeuille | E7: Becancour | F7: G9T 6Y9 | G7: Québec | H7: Canada | J7: =IF(C7>Prinicpal!A$3,ROW(),"") -> 7 | K7: =INDEX(B:B,SMALL(J:J,ROW()-2)) -> Bertand, France
A8: 6 | B8: Lafrenière, Pierre | C8: 38620 | D8: 634 rue Lafeur | E8: Bromont | F8: G2Y 6F9 | G8: Québec | H8: Canada | J8: =IF(C8>Prinicpal!A$3,ROW(),"") -> 8 | K8: =INDEX(B:B,SMALL(J:J,ROW()-2)) -> Bernard, Julie | M8: Cette liste est attribuée à la validation
A9: 7 | B9: St-Yves, François | C9: 35833 | D9: 635 rue Lafeuille | E9: Becancour | F9: G9T 6Y10 | G9: Québec | H9: Canada | J9: =IF(C9>Prinicpal!A$3,ROW(),"") | K9: =INDEX(B:B,SMALL(J:J,ROW()-2)) -> Labonté, Paul | M9: de la cellule : =Prinicpal!B4
A10: 8 | B10: Label, Caroline | C10: 35501 | D10: 635 rue Lafeur | E10: Bromont | F10: G2Y 6F10 | G10: Québec | H10: Canada | J10: =IF(C10>Prinicpal!A$3,ROW(),"") | K10: =INDEX(B:B,SMALL(J:J,ROW()-2)) -> Lamontagne, Jules
A11: 9 | B11: Bertand, France | C11: 37135 | D11: 636 rue Lafeuille | E11: Becancour | F11: G9T 6Y11 | G11: Québec | H11: Canada | J11: =IF(C11>Prinicpal!A$3,ROW(),"") -> 11 | K11: =INDEX(B:B,SMALL(J:J,ROW()-2)) -> #NUM!
A12: 10 | B12: Bernard, Julie | C12: 37504 | D12: 636 rue Lafeur | E12: Bromont | F12: G2Y 6F11 | G12: Québec | H12: Canada | J12: =IF(C12>Prinicpal!A$3,ROW(),"") -> 12 | K12: =INDEX(B:B,SMALL(J:J,ROW()-2)) -> #NUM!
A13: 11 | B13: Noël, Jean | C13: 36526 | D13: 637 rue Lafeuille | E13: Becancour | F13: G9T 6Y12 | G13: Québec | H13: Canada | J13: =IF(C13>Prinicpal!A$3,ROW(),"") | K13: =INDEX(B:B,SMALL(J:J,ROW()-2)) -> #NUM!
A14: 12 | B14: Labonté, Paul | C14: 36928 | D14: 637 rue Lafeur | E14: Bromont | F14: G2Y 6F12 | G14: Québec | H14: Canada | J14: =IF(C14>Prinicpal!A$3,ROW(),"") -> 14 | K14: =INDEX(B:B,SMALL(J:J,ROW()-2)) -> #NUM!
A15: 13 | B15: Lamontagne, Jules | C15: 37966 | D15: 638 rue Lafeuille | E15: Becancour | F15: G9T 6Y13 | G15: Québec | H15: Canada | J15: =IF(C15>Prinicpal!A$3,ROW(),"") -> 15 | K15: =INDEX(B:B,SMALL(J:J,ROW()-2)) -> #NUM!
J16: =IF(C16>Prinicpal!A$3,ROW(),"") | K16: =INDEX(B:B,SMALL(J:J,ROW()-2)) -> #NUM!
J17: =IF(C17>Prinicpal!A$3,ROW(),"") | K17: =INDEX(B:B,SMALL(J:J,ROW()-2)) -> #NUM!
J18: =IF(C18>Prinicpal!A$3,ROW(),"") | K18: =INDEX(B:B,SMALL(J:J,ROW()-2)) -> #NUM!
J19: =IF(C19>Prinicpal!A$3,ROW(),"") | K19: =INDEX(B:B,SMALL(J:J,ROW()-2)) -> #NUM!
J20: =IF(C20>Prinicpal!A$3,ROW(),"") | K20: =INDEX(B:B,SMALL(J:J,ROW()-2)) -> #NUM!
J21: =IF(C21>Prinicpal!A$3,ROW(),"") | K21: =INDEX(B:B,SMALL(J:J,ROW()-2)) -> #NUM!
J22: =IF(C22>Prinicpal!A$3,ROW(),"") | K22: =INDEX(B:B,SMALL(J:J,ROW()-2)) -> #NUM!
J23: =IF(C23>Prinicpal!A$3,ROW(),"") | K23: =INDEX(B:B,SMALL(J:J,ROW()-2)) -> #NUM!
J24: =IF(C24>Prinicpal!A$3,ROW(),"") | K24: =INDEX(B:B,SMALL(J:J,ROW()-2)) -> #NUM!
J25: =IF(C25>Prinicpal!A$3,ROW(),"") | K25: =INDEX(B:B,SMALL(J:J,ROW()-2)) -> #NUM!
J26: =IF(C26>Prinicpal!A$3,ROW(),"") | K26: =INDEX(B:B,SMALL(J:J,ROW()-2)) -> #NUM!
J27: =IF(C27>Prinicpal!A$3,ROW(),"") | K27: =INDEX(B:B,SMALL(J:J,ROW()-2)) -> #NUM!
... J200: =IF(C200>Prinicpal!A$3,ROW(),"") | K200: =INDEX(B:B,SMALL(J:J,ROW()-2)) -> #NUM!
