Workbook

Sheet ventes
A1: 1 | B1: 2 | C1: 3 | D1: 4 | G1: 1 | H1: 2 | J1: 3 | K1: 4 | M1: 1 | N1: 2 | O1: 3 | P1: 4 | R1: 1 | S1: 2 | T1: 3 | U1: 4 | W1: 1 | X1: 2 | Y1: 3 | Z1: 4 | AB1: 1 | AC1: 2 | AD1: 3 | AE1: 4 | AG1: 1 | AH1: 2 | AI1: 3 | AJ1: 4 | AL1: 1 | AM1: 2 | AN1: 3 | AO1: 4 | AQ1: 1 | AR1: 2 | AS1: 3 | AT1: 4 | AV1: 1 | AW1: 2 | AX1: 3 | AY1: 4 | BA1: 1 | BB1: 2 | BC1: 3 | BD1: 4 | BF1: 1 | BG1: 2 | BH1: 3 | BI1: 4 | BK1: 1 | BL1: 2 | BM1: 3 | BN1: 4 | BP1: 1 | BQ1: 2 | BR1: 3 | BS1: 4 | BU1: 1 | BV1: 2 | BW1: 3 | BX1: 4 | BZ1: 1 | CA1: 2 | CB1: 3 | CC1: 4 | CE1: 1 | CF1: 2 | CG1: 3 | CH1: 4 | CJ1: 1 | CK1: 2 | CL1: 3 | CM1: 4 | CO1: 1 | CP1: 2 | CQ1: 3 | CR1: 4 | CT1: 1 | CU1: 2 | CV1: 3 | CW1: 4 | CY1: 1 | CZ1: 2 | DA1: 3 | DB1: 4 | DD1: 1 | DE1: 2 | DF1: 3 | DG1: 4 | DI1: 1 | DJ1: 2 | DK1: 3 | DL1: 4 | DN1: 1 | DO1: 2 | DP1: 3 | DQ1: 4 | DR1: 1 | DS1: 2 | DT1: 3 | DU1: 4 | DV1: 1 | DW1: 2 | DX1: 3 | DY1: 4
A2: Résultat 1 | G2: Résultat 2 | M2: Résultat 3 | R2: Résultat 4 | W2: Résultat 5 | AB2: Résultat 6 | AG2: Résultat 7 | AL2: Résultat 8 | AQ2: Résultat 9 | AV2: Résultat 10 | BA2: Résultat 11 | BF2: Résultat 12 | BK2: Résultat 13 | BP2: Résultat 14 | BU2: Résultat 15 | BZ2: Résultat 16 | CE2: Résultat 17 | CJ2: Résultat 18 | CO2: Résultat 19 | CT2: Résultat 20 | CY2: Résultat 21 | DD2: Résultat 22 | DI2: Résultat 23 | DN2: Résultat 24 | DR2: Résultat 25 | DV2: Résultat 26
A3: 1 | C3: =VLOOKUP($A$3,$A$5:$D$19,C1,FALSE) -> 1 | D3: =VLOOKUP($A$3,$A$5:$D$19,D1,FALSE) -> 15 | G3: 2 | J3: =VLOOKUP($G$3,$A$5:$D$19,J1,FALSE) -> 0.5 | K3: =VLOOKUP($G$3,$A$5:$D$19,K1,FALSE) -> 10 | M3: 2 | O3: =VLOOKUP($M$3,$A$5:$D$19,O1,FALSE) -> 0.5 | P3: =VLOOKUP($M$3,$A$5:$D$19,P1,FALSE) -> 10 | R3: 2 | T3: =VLOOKUP($R$3,$A$5:$D$19,T1,FALSE) -> 0.5 | U3: =VLOOKUP($R$3,$A$5:$D$19,U1,FALSE) -> 10 | W3: 2 | Y3: =VLOOKUP($W$3,$A$5:$D$19,Y1,FALSE) -> 0.5 | Z3: =VLOOKUP($W$3,$A$5:$D$19,Z1,FALSE) -> 10 | AB3: 1 | AD3: =VLOOKUP($AB$3,$A$5:$D$19,AD1,FALSE) -> 1 | AE3: =VLOOKUP($AB$3,$A$5:$D$19,AE1,FALSE) -> 15 | AG3: 3 | AI3: =VLOOKUP($AG$3,$A$5:$D$19,AI1,FALSE) -> 0.25 | AJ3: =VLOOKUP($AG$3,$A$5:$D$19,AJ1,FALSE) -> 5 | AL3: 3 | AN3: =VLOOKUP($AL$3,$A$5:$D$19,AN1,FALSE) -> 0.25 | AO3: =VLOOKUP($AL$3,$A$5:$D$19,AO1,FALSE) -> 5 | AQ3: 2 | AS3: =VLOOKUP($AQ$3,$A$5:$D$19,AS1,FALSE) -> 0.5 | AT3: =VLOOKUP($AQ$3,$A$5:$D$19,AT1,FALSE) -> 10 | AV3: 3 | AX3: =VLOOKUP($AV$3,$A$5:$D$19,AX1,FALSE) -> 0.25 | AY3: =VLOOKUP($AV$3,$A$5:$D$19,AY1,FALSE) -> 5 | BA3: 13 | BC3: =VLOOKUP($BA$3,$A$5:$D$19,BC1,FALSE) -> 0 | BD3: =VLOOKUP($BA$3,$A$5:$D$19,BD1,FALSE) -> 18 | BF3: 2 | BH3: =VLOOKUP($BF$3,$A$5:$D$19,BH1,FALSE) -> 0.5 | BI3: =VLOOKUP($BF$3,$A$5:$D$19,BI1,FALSE) -> 10 | BK3: 1 | BM3: =VLOOKUP($BK$3,$A$5:$D$19,BM1,FALSE) -> 1 | BN3: =VLOOKUP($BK$3,$A$5:$D$19,BN1,FALSE) -> 15 | BP3: 1 | BR3: =VLOOKUP($BP$3,$A$5:$D$19,BR1,FALSE) -> 1 | BS3: =VLOOKUP($BP$3,$A$5:$D$19,BS1,FALSE) -> 15 | BU3: 2 | BW3: =VLOOKUP($BU$3,$A$5:$D$19,BW1,FALSE) -> 0.5 | BX3: =VLOOKUP($BU$3,$A$5:$D$19,BX1,FALSE) -> 10 | BZ3: 1 | CB3: =VLOOKUP($BZ$3,$A$5:$D$19,CB1,FALSE) -> 1 | CC3: =VLOOKUP($BZ$3,$A$5:$D$19,CC1,FALSE) -> 15 | CE3: 1 | CG3: =VLOOKUP($CE$3,$A$5:$D$19,CG1,FALSE) -> 1 | CH3: =VLOOKUP($CE$3,$A$5:$D$19,CH1,FALSE) -> 15 | CJ3: 1 | CL3: =VLOOKUP($CJ$3,$A$5:$D$19,CL1,FALSE) -> 1 | CM3: =VLOOKUP($CJ$3,$A$5:$D$19,CM1,FALSE) -> 15 | CO3: 1 | CQ3: =VLOOKUP($CO$3,$A$5:$D$19,CQ1,FALSE) -> 1 | CR3: =VLOOKUP($CO$3,$A$5:$D$19,CR1,FALSE) -> 15 | CT3: 1 | CV3: =VLOOKUP($CT$3,$A$5:$D$19,CV1,FALSE) -> 1 | CW3: =VLOOKUP($CT$3,$A$5:$D$19,CW1,FALSE) -> 15 | CY3: 1 | DA3: =VLOOKUP($CY$3,$A$5:$D$19,DA1,FALSE) -> 1 | DB3: =VLOOKUP($CY$3,$A$5:$D$19,DB1,FALSE) -> 15 | DD3: 2 | DF3: =VLOOKUP($DD$3,$A$5:$D$19,DF1,FALSE) -> 0.5 | DG3: =VLOOKUP($DD$3,$A$5:$D$19,DG1,FALSE) -> 10 | DI3: 2 | DK3: =VLOOKUP($DI$3,$A$5:$D$19,DK1,FALSE) -> 0.5 | DL3: =VLOOKUP($DI$3,$A$5:$D$19,DL1,FALSE) -> 10 | DN3: 1 | DP3: =VLOOKUP($DN$3,$A$5:$D$19,DP1,FALSE) -> 1 | DQ3: =VLOOKUP($DN$3,$A$5:$D$19,DQ1,FALSE) -> 15 | DR3: 1 | DT3: =VLOOKUP($DR$3,$A$5:$D$19,DT1,FALSE) -> 1 | DU3: =VLOOKUP($DR$3,$A$5:$D$19,DU1,FALSE) -> 15 | DV3: 1 | DX3: =VLOOKUP($DV$3,$A$5:$D$19,DX1,FALSE) -> 1 | DY3: =VLOOKUP($DV$3,$A$5:$D$19,DY1,FALSE) -> 15
A4: Index | B4: Libellé | C4: conditionnement | D4: Prix unitaire
A5: 1 | B5: Pot de 1 KG | C5: 1 | D5: 15
A6: 2 | B6: Pot de 500G | C6: 0.5 | D6: 10
A7: 3 | B7: pot de 250G | C7: 0.25 | D7: 5
A8: 4 | B8: bougie ruchette paille | C8: 0 | D8: 3
A9: 5 | B9: bougie pomme de pin | C9: 0 | D9: 1.5
A10: 6 | B10: bougie chouette | C10: 0 | D10: 3
A11: 7 | B11: bougie souris | C11: 0 | D11: 1.55
A12: 8 | B12: bougie torsadée | C12: 0 | D12: 3
A13: 9 | B13: bougie droite longue | C13: 0 | D13: 4
A14: 10 | B14: bougie larme | C14: 0 | D14: 5
A15: 11 | B15: porte telephone bois | C15: 0 | D15: 1.5
A16: 12 | B16: porte telephone syntetique | C16: 0 | D16: 2.5
A17: 13 | B17: empliphone bois | C17: 0 | D17: 18
A18: 14
A19: 15
F28: VENTE 2025
G29: H-T | I29: TVA | J29: TTC
D30: total des ventes | E30: =+SUM(E35:E62) -> 7.5 | F30: kg | G30: =SUM(G35:G62) -> 145 | I30: =SUM(I35:I62) -> 13.775 | J30: =SUM(J35:J62) -> 158.775
B34: Client | C34: quantité | D34: contenance | E34: poids | F34: PRIX UNITAIRE H-T | G34: TOTAL H-T | H34: TVA | I34: Montant tva | J34: TTC
A35: 1 | B35: Morel Bruno | C35: 1 | E35: =C3*C35 -> 1 | F35: =D3 -> 15 | G35: =F35*C35 -> 15 | H35: 0.055 | I35: =J35-G35 -> 0.825 | J35: =G35*H35+G35 -> 15.825
A36: 2 | B36: Marcelle | C36: 6 | E36: =J3*C36 -> 3 | F36: =K3 -> 10 | G36: =F36*C36 -> 60 | H36: 0.055 | I36: =J36-G36 -> 3.3 | J36: =G36*H36+G36 -> 63.3
A37: 3 | B37: Nathalie | C37: 3 | E37: =O3*C37 -> 1.5 | F37: =P3 -> 10 | G37: =F37*C37 -> 30 | H37: 0.055 | I37: =J37-G37 -> 1.65 | J37: =G37*H37+G37 -> 31.65
A38: 4 | B38: Natacha | C38: 4 | E38: =T3*C38 -> 2 | F38: =U3 -> 10 | G38: =F38*C38 -> 40 | H38: 0.2 | I38: =J38-G38 -> 8 | J38: =G38*H38+G38 -> 48
A39: 5 | E39: =Y3*C39 -> 0 | F39: =Z3 -> 10 | G39: =F39*C39 -> 0 | H39: 0.2 | I39: =J39-G39 -> 0 | J39: =G39*H39+G39 -> 0
A40: 6 | E40: =AD3*C40 -> 0 | F40: =AE3 -> 15 | G40: =F40*C40 -> 0 | H40: 0.2 | I40: =J40-G40 -> 0 | J40: =G40*H40+G40 -> 0
A41: 7 | E41: =AI3*C41 -> 0 | F41: =AG3 -> 3 | G41: =F41*C41 -> 0 | H41: 0.2 | I41: =J41-G41 -> 0 | J41: =G41*H41+G41 -> 0
A42: 8 | E42: =AN3*C42 -> 0 | F42: =AO3 -> 5 | G42: =F42*C42 -> 0 | H42: 0.2 | I42: =J42-G42 -> 0 | J42: =G42*H42+G42 -> 0
A43: 9 | E43: =AS3*C43 -> 0 | F43: =AT3 -> 10 | G43: =F43*C43 -> 0 | H43: 0.2 | I43: =J43-G43 -> 0 | J43: =G43*H43+G43 -> 0
A44: 10 | E44: =AX3*C44 -> 0 | F44: =AY3 -> 5 | G44: =F44*C44 -> 0 | H44: 0.2 | I44: =J44-G44 -> 0 | J44: =G44*H44+G44 -> 0
A45: 11 | E45: =AX3*C45 -> 0 | F45: =BD3 -> 18 | G45: =F45*C45 -> 0 | H45: 0.2 | I45: =J45-G45 -> 0 | J45: =G45*H45+G45 -> 0
A46: 12 | E46: =BH3*C46 -> 0 | F46: =BI3 -> 10 | G46: =F46*C46 -> 0 | H46: 0.2 | I46: =J46-G46 -> 0 | J46: =G46*H46+G46 -> 0
A47: 13 | E47: =BM3*C47 -> 0 | F47: =BN3 -> 15 | G47: =F47*C47 -> 0 | H47: 0.2 | I47: =J47-G47 -> 0 | J47: =G47*H47+G47 -> 0
A48: 14 | E48: =BR3*C48 -> 0 | F48: =BS3 -> 15 | G48: =F48*C48 -> 0 | H48: 0.2 | I48: =J48-G48 -> 0 | J48: =G48*H48+G48 -> 0
A49: 15 | E49: =BW3*C49 -> 0 | F49: =BX3 -> 10 | G49: =F49*C49 -> 0 | H49: 0.2 | I49: =J49-G49 -> 0 | J49: =G49*H49+G49 -> 0
A50: 16 | E50: =CB3*C50 -> 0 | F50: =CC3 -> 15 | G50: =F50*C50 -> 0 | H50: 0.2 | I50: =J50-G50 -> 0 | J50: =G50*H50+G50 -> 0
A51: 17 | E51: =CG3*C51 -> 0 | F51: =CH3 -> 15 | G51: =F51*C51 -> 0 | H51: 0.2 | I51: =J51-G51 -> 0 | J51: =G51*H51+G51 -> 0
A52: 18 | E52: =CL3*C52 -> 0 | F52: =CM3 -> 15 | G52: =F52*C52 -> 0 | H52: 0.2 | I52: =J52-G52 -> 0 | J52: =G52*H52+G52 -> 0
A53: 19 | E53: =CQ3*C53 -> 0 | F53: =CR3 -> 15 | G53: =F53*C53 -> 0 | H53: 0.2 | I53: =J53-G53 -> 0 | J53: =G53*H53+G53 -> 0
A54: 20 | E54: =CV3*C54 -> 0 | F54: =CW3 -> 15 | G54: =F54*C54 -> 0 | H54: 0.2 | I54: =J54-G54 -> 0 | J54: =G54*H54+G54 -> 0
A55: 21 | E55: =DA3*C55 -> 0 | F55: =DB3 -> 15 | G55: =F55*C55 -> 0 | H55: 0.2 | I55: =J55-G55 -> 0 | J55: =G55*H55+G55 -> 0
A56: 22 | E56: =DF3*C56 -> 0 | F56: =DG3 -> 10 | G56: =F56*C56 -> 0 | H56: 0.2 | I56: =J56-G56 -> 0 | J56: =G56*H56+G56 -> 0
A57: 23 | E57: =DK3*C57 -> 0 | F57: =DL3 -> 10 | G57: =F57*C57 -> 0 | H57: 0.2 | I57: =J57-G57 -> 0 | J57: =G57*H57+G57 -> 0
A58: 24 | E58: =DP3*C58 -> 0 | F58: =DQ3 -> 15 | G58: =F58*C58 -> 0 | H58: 0.2 | I58: =J58-G58 -> 0 | J58: =G58*H58+G58 -> 0
A59: 25 | E59: =DT3*C59 -> 0 | F59: =DU3 -> 15 | G59: =F59*C59 -> 0 | H59: 0.2 | I59: =J59-G59 -> 0 | J59: =G59*H59+G59 -> 0
A60: 26 | E60: =DX3*C60 -> 0 | F60: =DY3 -> 15 | G60: =F60*C60 -> 0 | H60: 0.2 | I60: =J60-G60 -> 0 | J60: =G60*H60+G60 -> 0

Sheet Gratuité
A1: 1 | B1: 2 | C1: 3 | D1: 4 | G1: 1 | H1: 2 | J1: 3 | K1: 4 | M1: 1 | N1: 2 | O1: 3 | P1: 4 | R1: 1 | S1: 2 | T1: 3 | U1: 4 | W1: 1 | X1: 2 | Y1: 3 | Z1: 4 | AB1: 1 | AC1: 2 | AD1: 3 | AE1: 4 | AG1: 1 | AH1: 2 | AI1: 3 | AJ1: 4 | AL1: 1 | AM1: 2 | AN1: 3 | AO1: 4 | AQ1: 1 | AR1: 2 | AS1: 3 | AT1: 4 | AV1: 1 | AW1: 2 | AX1: 3 | AY1: 4 | BA1: 1 | BB1: 2 | BC1: 3 | BD1: 4 | BF1: 1 | BG1: 2 | BH1: 3 | BI1: 4 | BK1: 1 | BL1: 2 | BM1: 3 | BN1: 4 | BP1: 1 | BQ1: 2 | BR1: 3 | BS1: 4 | BU1: 1 | BV1: 2 | BW1: 3 | BX1: 4 | BZ1: 1 | CA1: 2 | CB1: 3 | CC1: 4 | CE1: 1 | CF1: 2 | CG1: 3 | CH1: 4 | CJ1: 1 | CK1: 2 | CL1: 3 | CM1: 4 | CO1: 1 | CP1: 2 | CQ1: 3 | CR1: 4 | CT1: 1 | CU1: 2 | CV1: 3 | CW1: 4 | CY1: 1 | CZ1: 2 | DA1: 3 | DB1: 4 | DD1: 1 | DE1: 2 | DF1: 3 | DG1: 4 | DI1: 1 | DJ1: 2 | DK1: 3 | DL1: 4 | DN1: 1 | DO1: 2 | DP1: 3 | DQ1: 4 | DR1: 1 | DS1: 2 | DT1: 3 | DU1: 4 | DV1: 1 | DW1: 2 | DX1: 3 | DY1: 4
A2: Résultat 1 | G2: Résultat 2 | M2: Résultat 3 | R2: Résultat 4 | W2: Résultat 5 | AB2: Résultat 6 | AG2: Résultat 7 | AL2: Résultat 8 | AQ2: Résultat 9 | AV2: Résultat 10 | BA2: Résultat 11 | BF2: Résultat 12 | BK2: Résultat 13 | BP2: Résultat 14 | BU2: Résultat 15 | BZ2: Résultat 16 | CE2: Résultat 17 | CJ2: Résultat 18 | CO2: Résultat 19 | CT2: Résultat 20 | CY2: Résultat 21 | DD2: Résultat 22 | DI2: Résultat 23 | DN2: Résultat 24 | DR2: Résultat 25 | DV2: Résultat 26
A3: 1 | B3: =VLOOKUP($A$3,$A$5:$D$19,B1,FALSE) -> Pot de 1 KG | C3: =VLOOKUP($A$3,$A$5:$D$19,C1,FALSE) -> 1 | D3: =VLOOKUP($A$3,$A$5:$D$19,D1,FALSE) -> 15 | G3: 2 | J3: =VLOOKUP($G$3,$A$5:$D$19,J1,FALSE) -> 0.5 | K3: =VLOOKUP($G$3,$A$5:$D$19,K1,FALSE) -> 10 | M3: 3 | O3: =VLOOKUP($M$3,$A$5:$D$19,O1,FALSE) -> 0.25 | P3: =VLOOKUP($M$3,$A$5:$D$19,P1,FALSE) -> 5 | R3: 1 | T3: =VLOOKUP($R$3,$A$5:$D$19,T1,FALSE) -> 1 | U3: =VLOOKUP($R$3,$A$5:$D$19,U1,FALSE) -> 15 | W3: 1 | Y3: =VLOOKUP($W$3,$A$5:$D$19,Y1,FALSE) -> 1 | Z3: =VLOOKUP($W$3,$A$5:$D$19,Z1,FALSE) -> 15 | AB3: 3 | AD3: =VLOOKUP($AB$3,$A$5:$D$19,AD1,FALSE) -> 0.25 | AE3: =VLOOKUP($AB$3,$A$5:$D$19,AE1,FALSE) -> 5 | AG3: 2 | AI3: =VLOOKUP($AG$3,$A$5:$D$19,AI1,FALSE) -> 0.5 | AJ3: =VLOOKUP($AG$3,$A$5:$D$19,AJ1,FALSE) -> 10 | AL3: 3 | AN3: =VLOOKUP($AL$3,$A$5:$D$19,AN1,FALSE) -> 0.25 | AO3: =VLOOKUP($AL$3,$A$5:$D$19,AO1,FALSE) -> 5 | AQ3: 3 | AS3: =VLOOKUP($AQ$3,$A$5:$D$19,AS1,FALSE) -> 0.25 | AT3: =VLOOKUP($AQ$3,$A$5:$D$19,AT1,FALSE) -> 5 | AV3: 3 | AX3: =VLOOKUP($AV$3,$A$5:$D$19,AX1,FALSE) -> 0.25 | AY3: =VLOOKUP($AV$3,$A$5:$D$19,AY1,FALSE) -> 5 | BA3: 3 | BC3: =VLOOKUP($BA$3,$A$5:$D$19,BC1,FALSE) -> 0.25 | BD3: =VLOOKUP($BA$3,$A$5:$D$19,BD1,FALSE) -> 5 | BF3: 1 | BH3: =VLOOKUP($BF$3,$A$5:$D$19,BH1,FALSE) -> 1 | BI3: =VLOOKUP($BF$3,$A$5:$D$19,BI1,FALSE) -> 15 | BK3: 1 | BM3: =VLOOKUP($BK$3,$A$5:$D$19,BM1,FALSE) -> 1 | BN3: =VLOOKUP($BK$3,$A$5:$D$19,BN1,FALSE) -> 15 | BP3: 1 | BR3: =VLOOKUP($BP$3,$A$5:$D$19,BR1,FALSE) -> 1 | BS3: =VLOOKUP($BP$3,$A$5:$D$19,BS1,FALSE) -> 15 | BU3: 1 | BW3: =VLOOKUP($BU$3,$A$5:$D$19,BW1,FALSE) -> 1 | BX3: =VLOOKUP($BU$3,$A$5:$D$19,BX1,FALSE) -> 15 | BZ3: 1 | CB3: =VLOOKUP($BZ$3,$A$5:$D$19,CB1,FALSE) -> 1 | CC3: =VLOOKUP($BZ$3,$A$5:$D$19,CC1,FALSE) -> 15 | CE3: 1 | CG3: =VLOOKUP($CE$3,$A$5:$D$19,CG1,FALSE) -> 1 | CH3: =VLOOKUP($CE$3,$A$5:$D$19,CH1,FALSE) -> 15 | CJ3: 1 | CL3: =VLOOKUP($CJ$3,$A$5:$D$19,CL1,FALSE) -> 1 | CM3: =VLOOKUP($CJ$3,$A$5:$D$19,CM1,FALSE) -> 15 | CO3: 3 | CQ3: =VLOOKUP($CO$3,$A$5:$D$19,CQ1,FALSE) -> 0.25 | CR3: =VLOOKUP($CO$3,$A$5:$D$19,CR1,FALSE) -> 5 | CT3: 1 | CV3: =VLOOKUP($CT$3,$A$5:$D$19,CV1,FALSE) -> 1 | CW3: =VLOOKUP($CT$3,$A$5:$D$19,CW1,FALSE) -> 15 | CY3: 1 | DA3: =VLOOKUP($CY$3,$A$5:$D$19,DA1,FALSE) -> 1 | DB3: =VLOOKUP($CY$3,$A$5:$D$19,DB1,FALSE) -> 15 | DD3: 2 | DF3: =VLOOKUP($DD$3,$A$5:$D$19,DF1,FALSE) -> 0.5 | DG3: =VLOOKUP($DD$3,$A$5:$D$19,DG1,FALSE) -> 10 | DI3: 2 | DK3: =VLOOKUP($DI$3,$A$5:$D$19,DK1,FALSE) -> 0.5 | DL3: =VLOOKUP($DI$3,$A$5:$D$19,DL1,FALSE) -> 10 | DN3: 2 | DP3: =VLOOKUP($DN$3,$A$5:$D$19,DP1,FALSE) -> 0.5 | DQ3: =VLOOKUP($DN$3,$A$5:$D$19,DQ1,FALSE) -> 10 | DR3: 1 | DT3: =VLOOKUP($DR$3,$A$5:$D$19,DT1,FALSE) -> 1 | DU3: =VLOOKUP($DR$3,$A$5:$D$19,DU1,FALSE) -> 15 | DV3: 1 | DX3: =VLOOKUP($DV$3,$A$5:$D$19,DX1,FALSE) -> 1 | DY3: =VLOOKUP($DV$3,$A$5:$D$19,DY1,FALSE) -> 15
A4: Index | B4: Libellé | C4: conditionnement | D4: Prix unitaire
A5: 1 | B5: Pot de 1 KG | C5: 1 | D5: 15
A6: 2 | B6: Pot de 500G | C6: 0.5 | D6: 10
A7: 3 | B7: pot de 250G | C7: 0.25 | D7: 5
A8: 4 | B8: bougie ruchette paille | C8: 0 | D8: 3
A9: 5 | B9: bougie pomme de pin | C9: 0 | D9: 1.5
A10: 6 | B10: bougie chouette | C10: 0 | D10: 3
A11: 7 | B11: bougie souris | C11: 0 | D11: 1.55
A12: 8 | B12: bougie torsadée | C12: 0 | D12: 3
A13: 9 | B13: bougie droite longue | C13: 0 | D13: 4
A14: 10 | B14: bougie larme | C14: 0 | D14: 5
A15: 11 | B15: porte telephone bois | C15: 0 | D15: 1.5
A16: 12 | B16: porte telephone syntetique | C16: 0 | D16: 2.5
A17: 13 | B17: empliphone bois | C17: 0 | D17: 18
A18: 14
A19: 15
F28: Gratuité 2025
G29: H-T | I29: TVA | J29: TTC
D30: total des pots offert | E30: =+SUM(E35:E62) -> 23.25 | F30: kg | G30: =SUM(G35:G62) -> 380 | I30: =SUM(I35:I62) -> 47 | J30: =SUM(J35:J62) -> 427
B34: Client | C34: quantité | D34: contenance | E34: poids | F34: PRIX UNITAIRE H-T | G34: TOTAL H-T | H34: TVA | I34: Montant tva | J34: TTC
A35: 1 | B35: Josette | C35: 8 | D35: =B3 -> Pot de 1 KG | E35: =C3*C35 -> 8 | F35: =D3 -> 15 | G35: =F35*C35 -> 120 | H35: 0.055 | I35: =J35-G35 -> 6.6 | J35: =G35*H35+G35 -> 126.6
A36: 2 | B36: Josette | C36: 6 | E36: =J3*C36 -> 3 | F36: =K3 -> 10 | G36: =F36*C36 -> 60 | H36: 0.055 | I36: =J36-G36 -> 3.3 | J36: =G36*H36+G36 -> 63.3
A37: 3 | B37: Josette | C37: 4 | E37: =O3*C37 -> 1 | F37: =P3 -> 5 | G37: =F37*C37 -> 20 | H37: 0.055 | I37: =J37-G37 -> 1.1 | J37: =G37*H37+G37 -> 21.1
A38: 4 | B38: Suzanne | C38: 1 | E38: =T3*C38 -> 1 | F38: =U3 -> 15 | G38: =F38*C38 -> 15 | H38: 0.2 | I38: =J38-G38 -> 3 | J38: =G38*H38+G38 -> 18
A39: 5 | B39: josianne | C39: 1 | E39: =Y3*C39 -> 1 | F39: =Z3 -> 15 | G39: =F39*C39 -> 15 | H39: 0.2 | I39: =J39-G39 -> 3 | J39: =G39*H39+G39 -> 18
A40: 6 | B40: L Viricel | C40: 1 | E40: =AD3*C40 -> 0.25 | F40: =AE3 -> 5 | G40: =F40*C40 -> 5 | H40: 0.2 | I40: =J40-G40 -> 1 | J40: =G40*H40+G40 -> 6
A41: 7 | B41: D viricel | C41: 2 | E41: =AI3*C41 -> 1 | F41: =AJ3 -> 10 | G41: =F41*C41 -> 20 | H41: 0.2 | I41: =J41-G41 -> 4 | J41: =G41*H41+G41 -> 24
A42: 8 | B42: G Chalamel | C42: 1 | E42: =AN3*C42 -> 0.25 | F42: =AO3 -> 5 | G42: =F42*C42 -> 5 | H42: 0.2 | I42: =J42-G42 -> 1 | J42: =G42*H42+G42 -> 6
A43: 9 | B43: S Morel | C43: 1 | E43: =AS3*C43 -> 0.25 | F43: =AT3 -> 5 | G43: =F43*C43 -> 5 | H43: 0.2 | I43: =J43-G43 -> 1 | J43: =G43*H43+G43 -> 6
A44: 10 | B44: S Rivier | C44: 1 | E44: =AX3*C44 -> 0.25 | F44: =AY3 -> 5 | G44: =F44*C44 -> 5 | H44: 0.2 | I44: =J44-G44 -> 1 | J44: =G44*H44+G44 -> 6
A45: 11 | B45: L Frantz | C45: 1 | E45: =AX3*C45 -> 0.25 | F45: =BD3 -> 5 | G45: =F45*C45 -> 5 | H45: 0.2 | I45: =J45-G45 -> 1 | J45: =G45*H45+G45 -> 6
A46: 12 | B46: francois | C46: 1 | E46: =BH3*C46 -> 1 | F46: =BI3 -> 15 | G46: =F46*C46 -> 15 | H46: 0.2 | I46: =J46-G46 -> 3 | J46: =G46*H46+G46 -> 18
A47: 13 | B47: Patricia | C47: 1 | E47: =BM3*C47 -> 1 | F47: =BN3 -> 15 | G47: =F47*C47 -> 15 | H47: 0.2 | I47: =J47-G47 -> 3 | J47: =G47*H47+G47 -> 18
A48: 14 | B48: Amelie | C48: 1 | E48: =BR3*C48 -> 1 | F48: =BS3 -> 15 | G48: =F48*C48 -> 15 | H48: 0.2 | I48: =J48-G48 -> 3 | J48: =G48*H48+G48 -> 18
A49: 15 | B49: Maxime | C49: 1 | E49: =BW3*C49 -> 1 | F49: =BX3 -> 15 | G49: =F49*C49 -> 15 | H49: 0.2 | I49: =J49-G49 -> 3 | J49: =G49*H49+G49 -> 18
A50: 16 | B50: Carlos | C50: 2 | E50: =CB3*C50 -> 2 | F50: =CC3 -> 15 | G50: =F50*C50 -> 30 | H50: 0.2 | I50: =J50-G50 -> 6 | J50: =G50*H50+G50 -> 36
A51: 17 | B51: Victor | C51: 1 | E51: =CG3*C51 -> 1 | F51: =CH3 -> 15 | G51: =F51*C51 -> 15 | H51: 0.2 | I51: =J51-G51 -> 3 | J51: =G51*H51+G51 -> 18
A52: 18 | C52: 0 | E52: =CL3*C52 -> 0 | F52: =CM3 -> 15 | G52: =F52*C52 -> 0 | H52: 0.2 | I52: =J52-G52 -> 0 | J52: =G52*H52+G52 -> 0
A53: 19 | C53: 0 | E53: =CQ3*C53 -> 0 | F53: =CR3 -> 5 | G53: =F53*C53 -> 0 | H53: 0.2 | I53: =J53-G53 -> 0 | J53: =G53*H53+G53 -> 0
A54: 20 | C54: 0 | E54: =CV3*C54 -> 0 | F54: =CW3 -> 15 | G54: =F54*C54 -> 0 | H54: 0.2 | I54: =J54-G54 -> 0 | J54: =G54*H54+G54 -> 0
A55: 21 | C55: 0 | E55: =DA3*C55 -> 0 | F55: =DB3 -> 15 | G55: =F55*C55 -> 0 | H55: 0.2 | I55: =J55-G55 -> 0 | J55: =G55*H55+G55 -> 0
A56: 22 | C56: 0 | E56: =DF3*C56 -> 0 | F56: =DG3 -> 10 | G56: =F56*C56 -> 0 | H56: 0.2 | I56: =J56-G56 -> 0 | J56: =G56*H56+G56 -> 0
A57: 23 | C57: 0 | E57: =DK3*C57 -> 0 | F57: =DL3 -> 10 | G57: =F57*C57 -> 0 | H57: 0.2 | I57: =J57-G57 -> 0 | J57: =G57*H57+G57 -> 0
A58: 24 | C58: 0 | E58: =DP3*C58 -> 0 | F58: =DQ3 -> 10 | G58: =F58*C58 -> 0 | H58: 0.2 | I58: =J58-G58 -> 0 | J58: =G58*H58+G58 -> 0
A59: 25 | C59: 0 | E59: =DT3*C59 -> 0 | F59: =DU3 -> 15 | G59: =F59*C59 -> 0 | H59: 0.2 | I59: =J59-G59 -> 0 | J59: =G59*H59+G59 -> 0
A60: 26 | C60: 0 | E60: =DX3*C60 -> 0 | F60: =DY3 -> 15 | G60: =F60*C60 -> 0 | H60: 0.2 | I60: =J60-G60 -> 0 | J60: =G60*H60+G60 -> 0

Sheet Recolte
E4: Recolte 2025
D7: Printemps | F7: Acacia | H7: Été
B9: Ruche jaune | H9: 21.7
B11: Ruche Beige | H11: 51.6
B16: Total : | H16: =SUM(H8:H15) -> 73.3 | I16: kg
C19: mise en pot comme suit : | E19: pots de 1 kg | F19: 51 | H19: =F19*1 -> 51
E20: pots de 500g | F20: 29 | H20: =F20/2 -> 14.5
E21: pots de 250g | F21: 31.2 | H21: =F21/4 -> 7.8
E22: pots de 60g | F22: 0
H23: =SUM(H19:H22) -> 73.3

Sheet Stock
H9: Stock restant (en kg) le : | I9: =(TODAY()) -> 45952 | J9: =H14-H26&" kg" -> 42,55 kg
D11: pot de 1 kg | E11: pot de 500 g | F11: pot de 250g | G11: pot de 60 g
C14: Recolte: | D14: =Recolte!$F$19 -> 51 | E14: =Recolte!$F$20 -> 29 | F14: =Recolte!$F$21 -> 31.2 | G14: =Recolte!$F$22 -> 0 | H14: =Recolte!$H$16 -> 73.3
C16: Gratuité : | D16: 17 | E16: 8 | F16: 9 | H16: =Gratuité!E30 -> 23.25
C18: Ventes: | D18: 1 | E18: 13 | H18: =ventes!E30 -> 7.5
C26: total | H26: =SUM(H15:H25) -> 30.75

Sheet Menu
